Workbook

Sheet 月報1
A1: =[1]曜日!B12 -> 令和5年 | C1: =[1]曜日!C12 -> 4月 | D1: 月次報告 | F1: SW | G1: チーム | I1: 作成者 | J1: 西舘 翔子
A3: 人事管理
C4: 定数 | D4: 在籍 | E4: 入職 | F4: 退職 | G4: 特記事項
A5: SW | C5: - | D5: 8 | E5: 2 | F5: 0 | G5: 内、1名パート職員
A6: 総数 | C6: - | D6: =SUM(D5:D5) -> 8 | E6: =SUM(E5:E5) -> 2 | F6: =SUM(F5:F5) -> 0
A8: 労務状況 | C8: 当月末まで
C9: 遅刻 | D9: 早退 | E9: 欠勤 | F9: 有給 | G9: 産・育休 | H9: 病欠 | I9: 忌引き | J9: 業務出張 | K9: 研修出張
A10: 西舘 翔子 | C10: 0 | D10: 1 | E10: =[1]労務状況!F37 -> 0 | F10: 0 | G10: =[1]労務状況!H37 -> 0 | H10: =[1]労務状況!I37 -> 0 | I10: =[1]労務状況!J37 -> 0 | J10: =[1]労務状況!K37 -> 0 | K10: =[1]労務状況!L37 -> 0
A11: 小屋敷 千瑛 | C11: =[1]労務状況!D38 -> 0 | D11: =[1]労務状況!E38 -> 0 | E11: =[1]労務状況!F38 -> 0 | F11: 1 | G11: =[1]労務状況!H38 -> 0 | H11: =[1]労務状況!I38 -> 0 | I11: =[1]労務状況!J38 -> 0 | J11: =[1]労務状況!K38 -> 0 | K11: =[1]労務状況!L38 -> 0
A12: 大川 祥子 | C12: =[1]労務状況!D39 -> 0 | D12: =[1]労務状況!E39 -> 0 | E12: =[1]労務状況!F39 -> 0 | F12: =[1]労務状況!G39 -> 0 | G12: 21 | H12: =[1]労務状況!I39 -> 0 | I12: =[1]労務状況!J39 -> 0 | J12: =[1]労務状況!K39 -> 0 | K12: =[1]労務状況!L39 -> 0
A13: 宇津木澤 育美 | C13: =[1]労務状況!D40 -> 0 | D13: =[1]労務状況!E40 -> 0 | E13: =[1]労務状況!F40 -> 0 | F13: 2 | G13: =[1]労務状況!H40 -> 0 | H13: =[1]労務状況!I40 -> 0 | I13: =[1]労務状況!J40 -> 0 | J13: =[1]労務状況!K40 -> 0 | K13: =[1]労務状況!L40 -> 0
A14: 石鉢 佳代 | C14: =[1]労務状況!D41 -> 0 | D14: =[1]労務状況!E41 -> 0 | E14: =[1]労務状況!F41 -> 0 | F14: 2 | G14: =[1]労務状況!H41 -> 0 | H14: =[1]労務状況!I41 -> 0 | I14: =[1]労務状況!J41 -> 0 | J14: =[1]労務状況!K41 -> 0 | K14: =[1]労務状況!L41 -> 0
A15: 野添 京子(パート) | C15: =[1]労務状況!D42 -> 0 | D15: =[1]労務状況!E42 -> 0 | E15: =[1]労務状況!F42 -> 0 | F15: =[1]労務状況!G42 -> 0 | G15: =[1]労務状況!H42 -> 0 | H15: =[1]労務状況!I42 -> 0 | I15: =[1]労務状況!J42 -> 0 | J15: =[1]労務状況!K42 -> 0 | K15: =[1]労務状況!L42 -> 0
A16: 早狩 風花 | C16: =[1]労務状況!D43 -> 0 | D16: =[1]労務状況!E43 -> 0 | E16: =[1]労務状況!F43 -> 0 | F16: =[1]労務状況!G43 -> 0 | G16: =[1]労務状況!H43 -> 0 | H16: =[1]労務状況!I43 -> 0 | I16: =[1]労務状況!J43 -> 0 | J16: =[1]労務状況!K43 -> 0 | K16: =[1]労務状況!L43 -> 0
A17: 澤里 皓輝 | C17: =[1]労務状況!D44 -> 0 | D17: =[1]労務状況!E44 -> 0 | E17: =[1]労務状況!F44 -> 0 | F17: =[1]労務状況!G44 -> 0 | G17: =[1]労務状況!H44 -> 0 | H17: =[1]労務状況!I44 -> 0 | I17: =[1]労務状況!J44 -> 0 | J17: =[1]労務状況!K44 -> 0 | K17: =[1]労務状況!L44 -> 0
A18: 総数 | C18: =C10+C11+C12+C14+C13 -> 0 | D18: =D10+D11+D12+D14+D13 -> 1 | E18: =E10+E11+E12+E14+E13 -> 0 | F18: =F10+F11+F12+F14+F13 -> 5 | G18: =G10+G11+G12+G14+G13 -> 21 | H18: =H10+H11+H12+H14+H13 -> 0 | I18: =I10+I11+I12+I14+I13 -> 0 | J18: =J10+J11+J12+J14+J13 -> 0 | K18: =K10+K11+K12+K14+K13 -> 0
A20: 人材育成
A21: 外部研修・勉強会参加状況
A22: 職員名 | C22: 件数 | D22: 研修名（日にち）
A23: 西舘 翔子 | C23: 0
A24: 小屋敷 千瑛 | C24: 0
A25: 大川 祥子 | C25: 0
A26: 宇津木澤 育美 | C26: 0
A27: 石鉢 佳代 | C27: 0
A28: 野添 京子(パート) | C28: 0
A29: 早狩 風花 | C29: 0
A30: 澤里 皓輝 | C30: 0
A32: 内部研修・勉強会参加状況
A33: 職員名 | C33: 件数 | D33: 研修名（日にち）
A34: 西舘 翔子 | C34: 0
A35: 小屋敷 千瑛 | C35: 0
A36: 大川 祥子 | C36: 0
A37: 宇津木澤 育美 | C37: 0
A38: 石鉢 佳代 | C38: 0
A39: 野添 京子(パート) | C39: 0
A40: 早狩 風花 | C40: 0
A41: 澤里 皓輝 | C41: 0
A43: 安全管理
C44: 件数 | D44: 内容等
A45: 苦情 | C45: 0
A46: 事故 | C46: 0
A47: 総数 | C47: =SUM(C45:C46) -> 0
A49: 物品管理
C50: 件数 | D50: 特記事項
A51: 物品購入 | C51: 2 | D51: A4用紙2冊
A52: 修繕 | C52: 0

Sheet 月報2
A1: 事業進捗状況
A2: 【計画項目】 | B2: 進捗状況・結果・評価
A3: 1 個別支援の充実
A4: 入退院支援 | B4: 入院援助 | F4: 件
B5: 入院形態の変更 | F5: 件
B6: 入院患者対応 | F6: 件
B7: 退院請求対応 | F7: 件
B8: 退院援助 | F8: 件
A9: 外来患者対応 | B9: 外来患者対応 | F9: 件
B10: 通院医療観察法 | F10: 件
A11: 2 各種制度の管理・手続き
A12: 医師補助業務 | C12: 件
A13: 保健所への届出 | C13: 件
A14: 3 チーム医療の連携体制の拡充
A15: 各種会議参加
A16: 外部の業務
A17: 病棟内勉強会の開催（年4回）
A18: 他機関連携
A19: 4 統計処理と情報分析
B20: ＊入退院届けの作成・提出 ＊定期病状報告の作成・提出 ＊保健所提出用月報の作成・提出 ＊入院者一覧(SW室管理用ﾃﾞｰﾀﾍﾞｰｽ)の作成 ＊任意入院者 同意書管理 ＊各種制度(自立支援医療･生活保護･障害者手帳等)の管理票作成
A21: 5 研鑽活動と人材育成の活性化
A22: (1)業務の効率化 | B22: ①マニュアルの整備
B23: ②確実な業務管理と確実な情報共有体制の整備
B24: ③業務整理
A25: （2）スタッフ教育 | B25: ①新人教育
B26: ②外部研修への参加
B27: ③目標管理面接と個別指導
A28: (3)人員確保 | B28: ①施設見学希望者への対応
B29: ②実習生の受け入れ

Sheet 月報3
A1: =[1]曜日!B12 -> 令和5年 | E1: =[1]曜日!C12 -> 4月 | I1: ソーシャルワーカー室業務月報 | AA1: C.O.O | AD1: A.O.M
O4: 記載者： | S4: 西舘 翔子
A5: 入院状況 | I5: 東病棟 | M5: 西病棟 | Q5: 南病棟 | U5: 北病棟 | Y5: 合計
I6: 男性 | K6: 女性 | M6: 男性 | O6: 女性 | Q6: 男性 | S6: 女性 | U6: 男性 | W6: 女性 | Y6: 男性 | AA6: 女性
C7: 任意 | G7: 入院 | I7: 7 | K7: 6 | M7: 0 | O7: 0 | Q7: 0 | S7: 0 | U7: 0 | W7: 0 | Y7: =SUM(I7+M7+Q7+U7) -> 7 | AA7: =SUM(K7+O7+S7+W7) -> 6
G8: 在院 | I8: 8 | K8: 5 | M8: 3 | O8: 9 | Q8: 0 | S8: 2 | U8: 24 | W8: 10 | Y8: =SUM(I8,M8,Q8,U8) -> 35 | AA8: =SUM(K8+O8+S8+W8) -> 26 | AC8: 入院
G9: 退院 | I9: 0 | K9: 2 | M9: 0 | O9: 0 | Q9: 1 | S9: 1 | U9: 1 | W9: 3 | Y9: =SUM(I9+M9+Q9+U9) -> 2 | AA9: =SUM(K9+O9+S9+W9) -> 6 | AD9: =SUM(Y16:AB16) -> 31 | AF9: 名
C10: 医療保護 | G10: 入院 | I10: 7 | K10: 11 | M10: 0 | O10: 0 | Q10: 0 | S10: 0 | U10: 0 | W10: 0 | Y10: =SUM(I10+M10+Q10+U10) -> 7 | AA10: =SUM(K10+O10+S10+W10) -> 11
G11: 在院 | I11: 17 | K11: 14 | M11: 15 | O11: 18 | Q11: 27 | S11: 31 | U11: 0 | W11: 1 | Y11: =SUM(I11+M11+Q11+U11) -> 59 | AA11: =SUM(K11+O11+S11+W11) -> 64 | AC11: 退院
G12: 退院 | I12: 1 | K12: 1 | M12: 2 | O12: 2 | Q12: 5 | S12: 8 | U12: 0 | W12: 0 | Y12: =SUM(I12+M12+Q12+U12) -> 8 | AA12: =SUM(K12+O12+S12+W12) -> 11 | AD12: =SUM(Y18:AB18) -> 27 | AF12: 名
C13: 措置 | G13: 入院 | I13: 0 | K13: 0 | M13: 0 | O13: 0 | Q13: 0 | S13: 0 | U13: 0 | W13: 0 | Y13: =SUM(I13+M13+Q13+U13) -> 0 | AA13: =SUM(K13+O13+S13+W13) -> 0
G14: 在院 | I14: 1 | K14: 0 | M14: 0 | O14: 0 | Q14: 0 | S14: 0 | U14: 0 | W14: 0 | Y14: =SUM(I14+M14+Q14+U14) -> 1 | AA14: =SUM(K14+O14+S14+W14) -> 0 | AC14: 在院数
G15: 退院 | I15: 0 | K15: 0 | M15: 0 | O15: 0 | Q15: 0 | S15: 0 | U15: 0 | W15: 0 | Y15: =SUM(I15+M15+Q15+U15) -> 0 | AA15: =SUM(K15+O15+S15+W15) -> 0 | AD15: =Y17+AA17 -> 185 | AF15: 名
C16: 合計 | G16: 入院 | I16: =SUM(I7+I10+I13) -> 14 | K16: =SUM(K7+K10+K13) -> 17 | M16: =SUM(M7+M10+M13) -> 0 | O16: =SUM(O7+O10+O13) -> 0 | Q16: =SUM(Q7+Q10+Q13) -> 0 | S16: =SUM(S7+S10+S13) -> 0 | U16: =SUM(U7+U10+U13) -> 0 | W16: =SUM(W7+W10+W13) -> 0 | Y16: =SUM(Y7+Y10+Y13) -> 14 | AA16: =SUM(AA7+AA10+AA13) -> 17
G17: 在院 | I17: =SUM(I8+I11+I14) -> 26 | K17: =SUM(K8+K11+K14) -> 19 | M17: =M8+M11+M14 -> 18 | O17: =SUM(O8+O11+O14) -> 27 | Q17: =Q8+Q11+Q14 -> 27 | S17: =SUM(S8+S11+S14) -> 33 | U17: =SUM(U8+U11+U14) -> 24 | W17: =SUM(W8+W11+W14) -> 11 | Y17: =SUM(Y8+Y11+Y14) -> 95 | AA17: =SUM(AA8+AA11+AA14) -> 90
G18: 退院 | I18: =SUM(I9+I12+I15) -> 1 | K18: =SUM(K9+K12+K15) -> 3 | M18: =SUM(M9+M12+M15) -> 2 | O18: =SUM(O9+O12+O15) -> 2 | Q18: =SUM(Q9+Q12+Q15) -> 6 | S18: =SUM(S9+S12+S15) -> 9 | U18: =U9+U12+U15 -> 1 | W18: =SUM(W9+W12+W15) -> 3 | Y18: =I18+M18+Q18+U18 -> 10 | AA18: =SUM(AA9+AA12+AA15) -> 17
C19: 医療保護定期病状報告
C20: 患者様氏名 | H20: 担当SW | K20: 担当医師 | N20: 作成日 | P20: 提出日 | R20: 患者様氏名 | W20: 担当SW | Z20: 担当医師 | AC20: 作成日 | AE20: 提出日
C21: 1 | D21: 袴田 将志 様 | H21: 西舘 | K21: 田名部 | N21: 45041 | P21: 45044
C22: 2 | D22: 伊藤 信美 様 | H22: 小屋敷 | K22: 小栁(深澤) | N22: 45041 | P22: 45044
C23: 3 | D23: 神山 典夫 様 | H23: 小屋敷 | K23: 深澤 | N23: 45040 | P23: 45044
C24: 4 | D24: 中居 敬悦 様 | H24: 西舘 | K24: 菅野 | N24: 45041 | P24: 45044
C25: 5
C26: 6
C27: 7
C28: 8 | AH28: 医療保護定期病状報告
C29: 9 | AH29: 計
C30: 10 | AH30: =COUNTA(D21:G30) -> 4 | AI30: 件
C31: 医療保護入退入院届
C32: 患者様氏名 | H32: 担当SW | K32: 担当医師 | N32: 第1項 | T32: 第3項 | Z32: 備考
N33: 入院日 | P33: 作成日 | R33: 提出日 | T33: 入院日 | V33: 作成日 | X33: 提出日
C34: 1 | D34: 在家 喜代松 様 | H34: 小屋敷 | K34: 馬渡 | N34: 45020 | P34: 45020 | R34: 45029
C35: 2 | D35: 山田 ヒサ 様 | H35: 宇津木澤 | K35: 金(田名部) | N35: 45021 | P35: 45021 | R35: 45029
C36: 3 | D36: 沖田 千賀 様 | H36: 西舘 | K36: 深澤 | N36: 45022 | P36: 45022 | R36: 45029
C37: 4 | D37: 小林 辰雄 様 | H37: 小屋敷 | K37: 村上(深澤) | N37: 45023 | P37: 45023 | R37: 45029
C38: 5 | D38: 竹内 隆夫 様 | H38: 小屋敷 | K38: 村上(菅野) | N38: 45026 | P38: 45026 | R38: 45036
C39: 6 | D39: 小田 沙也加 様 | H39: 西舘 | K39: 深澤 | N39: 45026 | P39: 45026 | R39: 45029
C40: 7 | D40: 小川 雄二 様 | H40: 西舘 | K40: 小栁(深澤) | N40: 45027 | P40: 45027 | R40: 45036
C41: 8 | D41: 滝上 八重子 様 | H41: 小屋敷 | K41: 深澤 | N41: 45034 | P41: 45034 | R41: 45040
C42: 9 | D42: 春山 明子 様 | H42: 西舘 | K42: 小栁(馬渡) | N42: 45036 | P42: 45036 | R42: 45044
C43: 10 | D43: 久慈 邦夫 様 | H43: 西舘 | K43: 菅野 | N43: 45040 | P43: 45040 | R43: 45044
C44: 11 | D44: 川口 宝舟 様 | H44: 小屋敷 | K44: 馬渡 | N44: 45041 | P44: 45041 | R44: 45044
C45: 12 | D45: 村上 フジヱ 様 | H45: 大川 | K45: 馬渡 | N45: 45041 | P45: 45041 | R45: 45044
C46: 13 | D46: 山本 邦子 様 | H46: 西舘 | K46: 馬渡 | N46: 45041 | P46: 45041 | R46: 45044
C47: 14 | D47: 戸来 栄一 様 | H47: 大川 | K47: 金(深澤) | N47: 45042 | P47: 45042
C48: 15 | D48: 戸来 栄一 様 | H48: 大川 | K48: 深澤 | N48: 45042 | P48: 45042
C49: 16 | D49: 鈴木 重雄 様 | H49: 大川 | K49: 村上(深澤) | N49: 45043 | P49: 45043
C50: 17 | D50: 林 百合 様 | H50: 小屋敷 | K50: 馬渡 | N50: 45044 | P50: 45044 | R50: 45048
C51: 18 | D51: 西塚 愛子 様 | H51: 大川 | K51: 村上(深澤) | N51: 45044 | P51: 45044
C52: 19 | D52: 高原 いと 様 | H52: 小屋敷 | K52: 村上(菅野) | N52: 45044 | P52: 45044
C53: 20
C54: 21 | AH54: 医療保護入退入院届
C55: 22 | AH55: 第1項 計
C56: 23 | AH56: =COUNTA(N34:O58) -> 19 | AI56: 件
C57: 24 | AH57: 第3項 計
C58: 25 | AH58: =COUNTA(T34:U58) -> 0 | AI58: 件
C59: 入院形態変更状況
C60: 患者様氏名 | H60: 担当SW | K60: 担当医師 | N60: 入院日 | P60: 作成日 | R60: 提出日 | T60: 備考
C61: 1
C62: 2
C63: 3 | AH63: 入院形態変更状況
C64: 4 | AH64: 計
C65: 5 | AH65: =COUNTA(D61:G65) -> 0 | AI65: 件
C66: 医療保護入院退院届
C67: 患者様氏名 | H67: 担当SW | K67: 担当医師 | N67: 退院日 | P67: 提出日 | R67: 転帰
C68: 1 | D68: 中村 えり 様 | H68: 宇津木澤 | K68: 小栁 | N68: 45017 | P68: 45020 | R68: GH南部山さきおりの家
C69: 2 | D69: 志村 志智雄 様 | H69: 宇津木澤 | K69: 田名部 | N69: 45020 | P69: 45029 | R69: 老健南山苑
C70: 3 | D70: 道下 ヨシノ 様 | H70: 宇津木澤 | K70: 金 | N70: 45021 | P70: 45029 | R70: 老健南郷メディエルプラザ
C71: 4 | D71: 石田 良二 様 | H71: 宇津木澤 | K71: 小栁 | N71: 45027 | P71: 45036 | R71: 老健南山苑
C72: 5 | D72: 北川 達雄 様 | H72: 宇津木澤 | K72: 小栁 | N72: 45028 | P72: 45036 | R72: 死亡
C73: 6 | D73: 坂岡 亮 様 | H73: 宇津木澤 | K73: 深澤 | N73: 45030 | P73: 45040 | R73: 特養八甲荘
C74: 7 | D74: 川村 八重 様 | H74: 宇津木澤 | K74: 村上 | N74: 45030 | P74: 45040 | R74: 老健南山苑
C75: 8 | D75: 本田 未来 様 | H75: 宇津木澤 | K75: 金 | N75: 45031 | P75: 45040 | R75: 自宅
C76: 9 | D76: 古川 トミヱ 様 | H76: 宇津木澤 | K76: 田名部 | N76: 45034 | P76: 45044 | R76: サポージュ是川
C77: 10 | D77: 大村 文子 様 | H77: 宇津木澤 | K77: 金 | N77: 45034 | P77: 45041 | R77: 老健南山苑
C78: 11 | D78: 堺 勝信 様 | H78: 宇津木澤 | K78: 村上 | N78: 45034 | P78: 45044 | R78: 三戸中央病院
C79: 12 | D79: 大橋 セツ 様 | H79: 宇津木澤 | K79: 金 | N79: 45035 | P79: 45044 | R79: サポージュやわた
... C85: 18 | D85: 橋本 喜久子 様 | H85: 宇津木澤 | K85: 田名部 | N85: 45043 | P85: 45048 | R85: 有料ラテライト五戸
C86: 19 | D86: 田端 榮作 様 | H86: 宇津木澤 | K86: 小栁 | N86: 45044 | P86: 45048 | R86: 自宅 | AH86: 医療保護入院退院届
C87: 20 | AH87: 計
C88: 21 | AH88: 21 | AI88: 件
C89: 措置入院 入院者
C90: 患者様氏名 | H90: 担当SW | K90: 担当医師 | N90: 入院日 | P90: 提出日 | R90: 患者様氏名 | W90: 担当SW | Z90: 担当医師 | AC90: 入院日 | AE90: 提出日
C91: 1
C92: 2
C93: 3 | AH93: 措置入院 入院者
C94: 4 | AH94: 計
C95: 5 | AH95: =COUNTA(D91:G95) -> 0 | AI95: 件
C96: 措置定期病状報告
C97: 患者様氏名 | H97: 担当SW | K97: 担当医師 | N97: 作成日 | P97: 提出日 | R97: 患者様氏名 | W97: 担当SW | Z97: 担当医師 | AC97: 作成日 | AE97: 提出日
C98: 1 | D98: 藤井 崇史 様 | H98: 西舘 | K98: 深澤 | N98: 45041 | P98: 45044
C99: 2
C100: 3 | AH100: 措置定期病状報告
C101: 4 | AH101: 計
C102: 5 | AH102: =COUNTA(D98:G102) -> 1 | AI102: 件
C103: 措置消退届
C104: 患者様氏名 | H104: 担当SW | K104: 担当医師 | N104: 作成日 | P104: 提出日 | R104: 患者様氏名 | W104: 担当SW | Z104: 担当医師 | AC104: 作成日 | AE104: 提出日
C105: 1 | D105: 風間 教充 様 | H105: 宇津木澤 | K105: 金 | N105: 45019 | P105: 45029
C106: 2
C107: 3 | AH107: 措置消退届
...

Sheet Sheet1
