Workbook

Sheet 1
B1: クリニック 日 誌 | H1: 令和 | J1: 3 | K1: 年 | L1: 7 | M1: 月 | N1: 1 | O1: 日 | Q1: （ | S1: ） | V1: COO | Y1: IOO | AB1: AOM
A3: 勤務者名
A4: 中村 恵理子 | G4: 日 | I4: 柳田 美雪 | N4: 年 | Q4: 診察室 | W4: 外来担当医 | Z4: 外来介助者
A5: 石原 恵海 | G5: 日 | I5: 石谷 美代子 | N5: 欠 | Q5: 第１診察室 | U5: 千葉/深澤 | Z5: 石原
A6: 鳴海 彩香 | G6: 日 | I6: 松林 久美子 | N6: 日 | Q6: 第２診察室
B8: 新 | C8: 再 | D8: 精 | E8: 内 | F8: 処 | G8: 患者様氏名 | L8: 新 | M8: 再 | N8: 精 | O8: 内 | P8: 処 | Q8: 患者様氏名 | V8: 新 | W8: 再 | X8: 精 | Y8: 内 | Z8: 処 | AA8: 患者様氏名
A9: 1 | C9: ・ | D9: ・ | F9: 28 | G9: 片桐 惣一朗 | J9: 様 | K9: 2 | M9: ・ | N9: ・ | P9: 30 | Q9: 奈良 治隆 | T9: 様 | U9: 3 | W9: ・ | X9: ・ | Z9: 0 | AA9: 西舘 瞳 | AD9: 様
A10: 4 | C10: ・ | D10: ・ | F10: 28 | G10: 野々宮 ミヨ | J10: 様 | K10: 5 | M10: ・ | N10: ・ | P10: 28 | Q10: 工藤 喜美子 | T10: 様 | U10: 6 | W10: ・ | X10: ・ | Z10: 0 | AA10: 相内 京子 | AD10: 様
A11: 7 | C11: ・ | D11: ・ | F11: 28 | G11: 野坂 千晶 | J11: 様 | K11: 8 | M11: ・ | N11: ・ | P11: 42 | Q11: 久保田 操 | T11: 様 | U11: 9 | W11: ・ | X11: ・ | Z11: 0 | AA11: 綿貫 啓子 | AD11: 様
A12: 10 | C12: ・ | D12: ・ | F12: 7 | G12: 佐々木 未悠 | J12: 様 | K12: 11 | M12: ・ | N12: ・ | P12: 30 | Q12: 天間 功一 | T12: 様 | U12: 12 | W12: ・ | X12: ・ | Z12: 0 | AA12: 藤田 絢三 | AD12: 様
A13: 13 | C13: ・ | D13: ・ | F13: 28 | G13: 袴田 きみ | J13: 様 | K13: 14 | M13: ・ | N13: ・ | P13: 30 | Q13: 鈴木 英男 | T13: 様 | U13: 15 | W13: ・ | X13: ・ | Z13: 0 | AA13: 山口 映子 | AD13: 様
A14: 16 | C14: ・ | D14: ・ | F14: 28 | G14: 太田 美津 | J14: 様 | K14: 17 | M14: ・ | N14: ・ | P14: 0 | Q14: 内田 クニ子 | T14: 様 | U14: 18 | W14: ・ | X14: ・ | Z14: 0 | AA14: 相田 敏子 | AD14: 様
A15: 19 | C15: ・ | D15: ・ | F15: 14 | G15: 江尻 祐衣 | J15: 様 | K15: 20 | M15: ・ | N15: ・ | P15: 35 | Q15: 大野 みほゑ | T15: 様 | U15: 21 | W15: ・ | X15: ・ | Z15: 0 | AA15: 高村 加津子 | AD15: 様
A16: 22 | C16: ・ | D16: ・ | F16: 28 | G16: 山本 美津子 | J16: 様 | K16: 23 | M16: ・ | N16: ・ | P16: 56 | Q16: 浪岡 ヒロ | T16: 様 | U16: 24 | W16: ・ | X16: ・ | Z16: 0 | AA16: 山本 伸子 | AD16: 様
A17: 25 | C17: ・ | D17: ・ | F17: 14 | G17: 熊野 忠明 | J17: 様 | K17: 26 | M17: ・ | N17: ・ | P17: 56 | Q17: 西舘 ツル | T17: 様 | U17: 27 | W17: ・ | X17: ・ | Z17: 0 | AA17: 瀬川 高雄 | AD17: 様
A18: 28 | C18: ・ | D18: ・ | F18: 30 | G18: 野田頭 真由美 | J18: 様 | K18: 29 | M18: ・ | N18: ・ | P18: 56 | Q18: 佐藤 涼子 | T18: 様 | U18: 30 | W18: ・ | X18: ・ | Z18: 0 | AA18: 坂本 政勝 | AD18: 様
A19: 31 | C19: ・ | D19: ・ | F19: 38 | G19: 西 和枝 | J19: 様 | K19: 32 | M19: ・ | N19: ・ | P19: 35 | Q19: 松館 邦子 | T19: 様 | U19: 33 | W19: ・ | X19: ・ | Z19: 0 | AA19: 工藤 健壽 | AD19: 様
A20: 34 | C20: ・ | D20: ・ | F20: 60 | G20: 長井 竹 | J20: 様 | K20: 35 | M20: ・ | N20: ・ | P20: 35 | Q20: 石井 佳奈 | T20: 様 | U20: 36 | W20: ・ | X20: ・ | Z20: 0 | AA20: 田口 トシ子 | AD20: 様
... A25: 49 | C25: ・ | D25: ・ | F25: 63 | G25: 平塚 かじこ | J25: 様 | K25: 50 | M25: ・ | N25: ・ | P25: 0 | Q25: 松林 香愛 | T25: 様 | U25: 51 | W25: ・ | X25: ・ | Z25: 35 | AA25: ミューズジャランヴィンセント | AD25: 様
A26: 52 | B26: ・ | D26: ・ | F26: 35 | G26: 柏木 新奈 | J26: 様 | K26: 53 | M26: ・ | N26: ・ | P26: 0 | Q26: 杉元 悠敏 | T26: 様 | U26: 54 | V26: ・ | X26: ・ | Z26: 7 | AA26: 杉本 治子 | AD26: 様
A27: 55 | B27: ・ | D27: ・ | F27: 0 | G27: 竹内 隆夫 | J27: 様 | K27: 56 | T27: 様 | U27: 57 | AD27: 様
A28: 外来患者数 | E28: 新： | F28: =COUNTIF(B9:B27,"・")+COUNTIF(L9:L27,"・")+COUNTIF(V9:V27,"・") -> 3 | H28: 名 | I28: 再： | J28: =COUNTIF(C9:C27,"・")+COUNTIF(M9:M27,"・")+COUNTIF(W9:W27,"・") -> 52 | L28: 名 | M28: 計： | N28: =SUM(F28:K28) -> 55 | Q28: 名 | R28: （ | S28: 精： | T28: =COUNTIF(D9:D27,"・")+COUNTIF(N9:N27,"・")+COUNTIF(X9:X27,"・") -> 55 | W28: 名 | X28: ・ | Y28: 内： | Z28: =COUNTIF(E9:E27,"・")+COUNTIF(O9:O27,"・")+COUNTIF(Y9:Y27,"・") -> 0 | AC28: 名 | AD28: ）
A30: 紹介患者様氏名 | F30: 紹介先 | K30: 逆紹介患者様氏名 | P30: 紹介元 | U30: 処置実施者 | AA30: 処置内容
E31: 様 | K31: 竹内 隆夫 | O31: 様 | P31: 十和田中央病院 | Z31: 様
A32: 本日の検査 | F32: 検査内容 | K32: 処置実施者 | P32: 処置内容 | Z32: 様
A33: 杉元 悠敏 | E33: 様 | F33: カウンセリング | K33: 野田頭 真由美 | O33: 様 | P33: ハロマンス100mg 1A | Z33: 様
A34: 柏木 薫 | E34: 様 | F34: カウンセリング | O34: 様 | Z34: 様
A35: 竹内 隆夫 | E35: 様 | F35: HDS-R MMSE 血液検査 | O35: 様 | Z35: 様
A36: 杉本 治子 | E36: 様 | F36: CMI | O36: 様 | U36: 点検項目
E37: 様 | O37: 様 | U37: 項目 | Z37: 時間 | AC37: 点検者
A38: 発熱 | F38: 下痢 | K38: 風邪薬 | P38: 男性：17 | U38: 医療廃棄物 | Y38: 0.75 | AB38: 恵谷 愛
A39: 0 | F39: 0 | K39: 0 | P39: 女性：38 | U39: 戸締り | Y39: 0.75 | AB39: 中村 恵理子
A41: 備考欄 | C41: （連絡事項・処方変更・その他）
G42: 特記なし
G43: 恵谷 愛

Sheet 2
B1: クリニック 日 誌 | H1: 令和 | J1: ='1'!J1 -> 3 | K1: 年 | L1: 7 | M1: 月 | N1: 2 | O1: 日 | Q1: （ | R1: 金 | S1: ） | V1: COO | Y1: IOO | AB1: AOM
A3: 勤務者名
A4: ='1'!A4:F4 -> 中村 恵理子 | G4: 日 | I4: 柳田 美雪 | N4: 年 | Q4: 診察室 | W4: 外来担当医 | Z4: 外来介助者
A5: 石原 恵海 | G5: 年 | I5: 石谷 美代子 | N5: 欠 | Q5: 第１診察室 | U5: 金 | Z5: 恵谷
A6: 恵谷 愛 | G6: 日
A7: 鳴海 彩香 | G7: 日 | I7: 松林 久美子 | N7: 日 | Q7: 第２診察室 | U7: 千葉 良 | Z7: 恵谷
B9: 新 | C9: 再 | D9: 精 | E9: 内 | F9: 処 | G9: 患者様氏名 | L9: 新 | M9: 再 | N9: 精 | O9: 内 | P9: 処 | Q9: 患者様氏名 | V9: 新 | W9: 再 | X9: 精 | Y9: 内 | Z9: 処 | AA9: 患者様氏名
A10: 1 | C10: ・ | D10: ・ | F10: 56 | G10: 橘 フサ子 | J10: 様 | K10: 2 | M10: ・ | N10: ・ | P10: 35 | Q10: 蒔苗 美穂子 | T10: 様 | U10: 3 | W10: ・ | X10: ・ | Z10: 0 | AA10: 工藤 健壽 | AD10: 様
A11: 4 | C11: ・ | D11: ・ | F11: 60 | G11: 菊池 純一 | J11: 様 | K11: 5 | M11: ・ | N11: ・ | P11: 28 | Q11: 佐藤 晴子 | T11: 様 | U11: 6 | W11: ・ | X11: ・ | Z11: 0 | AA11: 高村 加津子 | AD11: 様
A12: 7 | C12: ・ | D12: ・ | F12: 60 | G12: 坂田 イミ | J12: 様 | K12: 8 | M12: ・ | N12: ・ | P12: 30 | Q12: 土橋 烈 | T12: 様 | U12: 9 | W12: ・ | X12: ・ | Z12: 0 | AA12: 山本 伸子 | AD12: 様
A13: 10 | C13: ・ | D13: ・ | F13: 49 | G13: 高橋 英幸 | J13: 様 | K13: 11 | M13: ・ | N13: ・ | P13: 56 | Q13: 佐々木 札子 | T13: 様 | U13: 12 | W13: ・ | X13: ・ | Z13: 0 | AA13: 綿貫 啓子 | AD13: 様
A14: 13 | C14: ・ | D14: ・ | F14: 28 | G14: 柏木 チヤ子 | J14: 様 | K14: 14 | M14: ・ | N14: ・ | P14: 28 | Q14: 望月 恵美子 | T14: 様 | U14: 15 | W14: ・ | X14: ・ | Z14: 0 | AA14: 田口 トシ子 | AD14: 様
A15: 16 | C15: ・ | D15: ・ | F15: 28 | G15: 畑山 栄子 | J15: 様 | K15: 17 | M15: ・ | N15: ・ | P15: 30 | Q15: 前田 チヤ | T15: 様 | U15: 18 | W15: ・ | X15: ・ | Z15: 0 | AA15: 沼端 ミセ | AD15: 様
A16: 19 | C16: ・ | D16: ・ | F16: 28 | G16: 畑山 栄美子 | J16: 様 | K16: 20 | M16: ・ | N16: ・ | P16: 0 | Q16: 高田 奈緒美 | T16: 様 | U16: 21 | W16: ・ | X16: ・ | Z16: 0 | AA16: 深町 栄美子 | AD16: 様
A17: 22 | C17: ・ | D17: ・ | F17: 14 | G17: 角 恵美子 | J17: 様 | K17: 23 | M17: ・ | N17: ・ | P17: 0 | Q17: 森外 鉄雄 | T17: 様 | U17: 24 | W17: ・ | X17: ・ | Z17: 0 | AA17: 大木 久子 | AD17: 様
A18: 25 | C18: ・ | D18: ・ | F18: 30 | G18: 馬場 トセ子 | J18: 様 | K18: 26 | M18: ・ | N18: ・ | P18: 28 | Q18: 長根 謙二 | T18: 様 | U18: 27 | W18: ・ | X18: ・ | Z18: 0 | AA18: 藤田 絢三 | AD18: 様
A19: 28 | C19: ・ | D19: ・ | F19: 28 | G19: 山本 ハナ | J19: 様 | K19: 29 | M19: ・ | N19: ・ | P19: 30 | Q19: 谷地 正男 | T19: 様 | U19: 30 | W19: ・ | X19: ・ | Z19: 0 | AA19: 萠出 克治 | AD19: 様
A20: 31 | C20: ・ | D20: ・ | F20: 60 | G20: 浪岡 モミ | J20: 様 | K20: 32 | M20: ・ | N20: ・ | P20: 28 | Q20: 野々宮 是 | T20: 様 | U20: 33 | W20: ・ | X20: ・ | Z20: 0 | AA20: 萠出 きのゑ | AD20: 様
A21: 34 | C21: ・ | D21: ・ | F21: 28 | G21: 花松 ナヨ | J21: 様 | K21: 35 | M21: ・ | N21: ・ | P21: 28 | Q21: 吉田 美樹 | T21: 様 | U21: 36 | W21: ・ | X21: ・ | Z21: 0 | AA21: 杉山 博子 | AD21: 様
... A32: 67 | C32: ・ | D32: ・ | F32: 90 | G32: 佐々木 理奈 | J32: 様 | K32: 68 | M32: ・ | N32: ・ | P32: 30 | Q32: 浄法寺 七海 | T32: 様 | U32: 69 | W32: ・ | X32: ・ | Z32: 28 | AA32: 川口 千明 | AD32: 様
A33: 70 | C33: ・ | D33: ・ | F33: 0 | G33: 山本 美津子 | J33: 様 | K33: 71 | T33: 様 | U33: 72 | AD33: 様
A34: 外来患者数 | E34: 新： | F34: =COUNTIF(B10:B33,"・")+COUNTIF(L10:L33,"・")+COUNTIF(V10:V33,"・") -> 0 | H34: 名 | I34: 再： | J34: =COUNTIF(C10:C33,"・")+COUNTIF(M10:M33,"・")+COUNTIF(W10:W33,"・") -> 70 | L34: 名 | M34: 計： | N34: =SUM(F34:K34) -> 70 | Q34: 名 | R34: （ | S34: 精： | T34: =COUNTIF(D10:D33,"・")+COUNTIF(N10:N33,"・")+COUNTIF(X10:X33,"・") -> 70 | W34: 名 | X34: ・ | Y34: 内： | Z34: =COUNTIF(E10:E33,"・")+COUNTIF(O10:O33,"・")+COUNTIF(Y10:Y33,"・") -> 0 | AC34: 名 | AD34: ）
A36: 紹介患者様氏名 | F36: 紹介先 | K36: 逆紹介患者様氏名 | P36: 紹介元 | U36: 処置実施者 | AA36: 処置内容
E37: 様 | O37: 様 | Z37: 様
A38: 本日の検査 | F38: 検査内容 | K38: 処置実施者 | P38: 処置内容 | Z38: 様
E39: 様 | O39: 様 | U39: 点検項目
E40: 様 | O40: 様 | U40: 項目 | Z40: 時間 | AC40: 点検者
A41: 発熱 | F41: 下痢 | K41: 風邪薬 | P41: 男性：20 | U41: 医療廃棄物 | Y41: 0.75 | AB41: 恵谷 愛
A42: 0 | F42: 0 | K42: 0 | P42: 女性：50 | U42: 戸締り | Y42: 0.75 | AB42: ='1'!AB39:AD39 -> 中村 恵理子
A44: 備考欄 | C44: （連絡事項・処方変更・その他）
G45: 特記なし
G46: 恵谷 愛

Sheet 3
B1: クリニック 日 誌 | H1: 令和 | J1: ='1'!J1 -> 3 | K1: 年 | L1: 7 | M1: 月 | N1: 3 | O1: 日 | Q1: （ | S1: ） | V1: COO | Y1: IOO | AB1: AOM
A3: 勤務者名
A4: ='1'!A4:F4 -> 中村 恵理子 | G4: 日 | I4: 柳田 美雪 | N4: 日 | Q4: 診察室 | W4: 外来担当医 | Z4: 外来介助者
A5: 石原 恵海 | G5: 日 | I5: 石谷 美代子 | N5: 欠 | Q5: 第１診察室 | Z5: 柳田・石原
A6: 鳴海 彩香 | G6: 日 | Q6: 第２診察室
B8: 新 | C8: 再 | D8: 精 | E8: 内 | F8: 処 | G8: 患者様氏名 | L8: 新 | M8: 再 | N8: 精 | O8: 内 | P8: 処 | Q8: 患者様氏名 | V8: 新 | W8: 再 | X8: 精 | Y8: 内 | Z8: 処 | AA8: 患者様氏名
A9: 1 | C9: ・ | D9: ・ | J9: 様 | K9: 2 | M9: ・ | N9: ・ | T9: 様 | U9: 3 | W9: ・ | X9: ・ | AD9: 様
A10: 4 | J10: 様 | K10: 5 | M10: ・ | N10: ・ | T10: 様 | U10: 6 | W10: ・ | X10: ・ | AD10: 様
A11: 7 | J11: 様 | K11: 8 | M11: ・ | N11: ・ | T11: 様 | U11: 9 | W11: ・ | X11: ・ | AD11: 様
A12: 10 | J12: 様 | K12: 11 | M12: ・ | N12: ・ | T12: 様 | U12: 12 | W12: ・ | X12: ・ | AD12: 様
A13: 13 | J13: 様 | K13: 14 | M13: ・ | N13: ・ | T13: 様 | U13: 15 | W13: ・ | X13: ・ | AD13: 様
A14: 16 | J14: 様 | K14: 17 | M14: ・ | N14: ・ | T14: 様 | U14: 18 | W14: ・ | X14: ・ | AD14: 様
A15: 19 | J15: 様 | K15: 20 | M15: ・ | N15: ・ | T15: 様 | U15: 21 | W15: ・ | X15: ・ | AD15: 様
A16: 22 | J16: 様 | K16: 23 | M16: ・ | N16: ・ | T16: 様 | U16: 24 | W16: ・ | X16: ・ | AD16: 様
A17: 25 | J17: 様 | K17: 26 | M17: ・ | N17: ・ | T17: 様 | U17: 27 | W17: ・ | X17: ・ | AD17: 様
A18: 28 | J18: 様 | K18: 29 | M18: ・ | N18: ・ | T18: 様 | U18: 30 | W18: ・ | X18: ・ | AD18: 様
A19: 31 | J19: 様 | K19: 32 | M19: ・ | N19: ・ | T19: 様 | U19: 33 | W19: ・ | X19: ・ | AD19: 様
A20: 34 | J20: 様 | K20: 35 | M20: ・ | N20: ・ | T20: 様 | U20: 36 | W20: ・ | X20: ・ | AD20: 様
A21: 37 | J21: 様 | K21: 38 | M21: ・ | N21: ・ | T21: 様 | U21: 39 | W21: ・ | X21: ・ | AD21: 様
A22: 40 | J22: 様 | K22: 41 | T22: 様 | U22: 42 | AD22: 様
A23: 43 | J23: 様 | K23: 44 | T23: 様 | U23: 45 | AD23: 様
A24: 46 | J24: 様 | K24: 47 | T24: 様 | U24: 48 | AD24: 様
A25: 49 | J25: 様 | K25: 50 | T25: 様 | U25: 51 | AD25: 様
A26: 52 | J26: 様 | K26: 53 | T26: 様 | U26: 54 | AD26: 様
A27: 55 | J27: 様 | K27: 56 | T27: 様 | U27: 57 | AD27: 様
A28: 58 | J28: 様 | K28: 59 | T28: 様 | U28: 60 | AD28: 様
A29: 61 | J29: 様 | K29: 62 | T29: 様 | U29: 63 | AD29: 様
A30: 64 | J30: 様 | K30: 65 | T30: 様 | U30: 66 | AD30: 様
A31: 67 | J31: 様 | K31: 68 | T31: 様 | U31: 69 | AD31: 様
A32: 70 | J32: 様 | K32: 71 | T32: 様 | U32: 72 | AD32: 様
A33: 73 | J33: 様 | K33: 74 | T33: 様 | U33: 75 | AD33: 様
A34: 外来患者数 | E34: 新： | F34: =COUNTIF(B9:B33,"・")+COUNTIF(L9:L33,"・")+COUNTIF(V9:V33,"・") -> 0 | H34: 名 | I34: 再： | J34: =COUNTIF(C9:C33,"・")+COUNTIF(M9:M33,"・")+COUNTIF(W9:W33,"・") -> 27 | L34: 名 | M34: 計： | N34: =SUM(F34:K34) -> 27 | Q34: 名 | R34: （ | S34: 精： | T34: =COUNTIF(D9:D33,"・")+COUNTIF(N9:N33,"・")+COUNTIF(X9:X33,"・") -> 27 | W34: 名 | X34: ・ | Y34: 内： | Z34: =COUNTIF(E9:E33,"・")+COUNTIF(O9:O33,"・")+COUNTIF(Y9:Y33,"・") -> 0 | AC34: 名 | AD34: ）
A36: 紹介患者様氏名 | F36: 紹介先 | K36: 逆紹介患者様氏名 | P36: 紹介元 | U36: 処置実施者 | AA36: 処置内容
E37: 様 | O37: 様 | Z37: 様
E38: 様 | O38: 様 | Z38: 様
E39: 様 | O39: 様 | Z39: 様
E40: 様 | O40: 様 | Z40: 様
E41: 様 | O41: 様 | Z41: 様
A42: 本日の検査 | F42: 検査内容 | K42: 処置実施者 | P42: 処置内容 | Z42: 様
E43: 様 | K43: 野田頭 真由美 | O43: 様 | P43: ハロマンス100mg 1セット | Z43: 様
E44: 様 | O44: 様 | Z44: 様
E45: 様 | O45: 様 | Z45: 様
E46: 様 | O46: 様 | U46: 点検項目
E47: 様 | O47: 様 | U47: 項目 | Z47: 時間 | AC47: 点検者
A48: 発熱 | F48: 下痢 | K48: 風邪薬 | P48: 男性： | U48: 医療廃棄物 | Y48: 0.75
A49: 0 | F49: 0 | K49: 0 | P49: 女性： | U49: 戸締り | Y49: 0.75 | AB49: ='1'!AB39:AD39 -> 中村 恵理子
A51: 備考欄 | C51: （連絡事項・処方変更・その他）

Sheet 4
B1: クリニック 日 誌 | H1: 令和 | J1: ='1'!J1 -> 3 | K1: 年 | L1: 7 | M1: 月 | N1: 4 | O1: 日 | Q1: （ | S1: ） | V1: COO | Y1: IOO | AB1: AOM
A3: 勤務者名
A4: ='1'!A4:F4 -> 中村 恵理子 | G4: 日 | I4: 柳田 美雪 | N4: 日 | Q4: 診察室 | W4: 外来担当医 | Z4: 外来介助者
A5: 石原 恵海 | G5: 日 | I5: 石谷 美代子 | N5: 欠 | Q5: 第１診察室 | Z5: 柳田・石原
A6: 鳴海 彩香 | G6: 日 | Q6: 第２診察室
B8: 新 | C8: 再 | D8: 精 | E8: 内 | F8: 処 | G8: 患者様氏名 | L8: 新 | M8: 再 | N8: 精 | O8: 内 | P8: 処 | Q8: 患者様氏名 | V8: 新 | W8: 再 | X8: 精 | Y8: 内 | Z8: 処 | AA8: 患者様氏名
A9: 1 | C9: ・ | D9: ・ | J9: 様 | K9: 2 | M9: ・ | N9: ・ | T9: 様 | U9: 3 | W9: ・ | X9: ・ | AD9: 様
A10: 4 | J10: 様 | K10: 5 | M10: ・ | N10: ・ | T10: 様 | U10: 6 | W10: ・ | X10: ・ | AD10: 様
A11: 7 | J11: 様 | K11: 8 | M11: ・ | N11: ・ | T11: 様 | U11: 9 | W11: ・ | X11: ・ | AD11: 様
A12: 10 | J12: 様 | K12: 11 | M12: ・ | N12: ・ | T12: 様 | U12: 12 | W12: ・ | X12: ・ | AD12: 様
A13: 13 | J13: 様 | K13: 14 | M13: ・ | N13: ・ | T13: 様 | U13: 15 | W13: ・ | X13: ・ | AD13: 様
A14: 16 | J14: 様 | K14: 17 | M14: ・ | N14: ・ | T14: 様 | U14: 18 | W14: ・ | X14: ・ | AD14: 様
A15: 19 | J15: 様 | K15: 20 | M15: ・ | N15: ・ | T15: 様 | U15: 21 | W15: ・ | X15: ・ | AD15: 様
A16: 22 | J16: 様 | K16: 23 | M16: ・ | N16: ・ | T16: 様 | U16: 24 | W16: ・ | X16: ・ | AD16: 様
A17: 25 | J17: 様 | K17: 26 | M17: ・ | N17: ・ | T17: 様 | U17: 27 | W17: ・ | X17: ・ | AD17: 様
A18: 28 | J18: 様 | K18: 29 | M18: ・ | N18: ・ | T18: 様 | U18: 30 | W18: ・ | X18: ・ | AD18: 様
A19: 31 | J19: 様 | K19: 32 | M19: ・ | N19: ・ | T19: 様 | U19: 33 | W19: ・ | X19: ・ | AD19: 様
A20: 34 | J20: 様 | K20: 35 | M20: ・ | N20: ・ | T20: 様 | U20: 36 | W20: ・ | X20: ・ | AD20: 様
A21: 37 | J21: 様 | K21: 38 | M21: ・ | N21: ・ | T21: 様 | U21: 39 | W21: ・ | X21: ・ | AD21: 様
A22: 40 | J22: 様 | K22: 41 | T22: 様 | U22: 42 | AD22: 様
A23: 43 | J23: 様 | K23: 44 | T23: 様 | U23: 45 | AD23: 様
A24: 46 | J24: 様 | K24: 47 | T24: 様 | U24: 48 | AD24: 様
A25: 49 | J25: 様 | K25: 50 | T25: 様 | U25: 51 | AD25: 様
A26: 52 | J26: 様 | K26: 53 | T26: 様 | U26: 54 | AD26: 様
A27: 55 | J27: 様 | K27: 56 | T27: 様 | U27: 57 | AD27: 様
A28: 58 | J28: 様 | K28: 59 | T28: 様 | U28: 60 | AD28: 様
A29: 61 | J29: 様 | K29: 62 | T29: 様 | U29: 63 | AD29: 様
A30: 64 | J30: 様 | K30: 65 | T30: 様 | U30: 66 | AD30: 様
A31: 67 | J31: 様 | K31: 68 | T31: 様 | U31: 69 | AD31: 様
A32: 70 | J32: 様 | K32: 71 | T32: 様 | U32: 72 | AD32: 様
A33: 73 | J33: 様 | K33: 74 | T33: 様 | U33: 75 | AD33: 様
A34: 外来患者数 | E34: 新： | F34: =COUNTIF(B9:B33,"・")+COUNTIF(L9:L33,"・")+COUNTIF(V9:V33,"・") -> 0 | H34: 名 | I34: 再： | J34: =COUNTIF(C9:C33,"・")+COUNTIF(M9:M33,"・")+COUNTIF(W9:W33,"・") -> 27 | L34: 名 | M34: 計： | N34: =SUM(F34:K34) -> 27 | Q34: 名 | R34: （ | S34: 精： | T34: =COUNTIF(D9:D33,"・")+COUNTIF(N9:N33,"・")+COUNTIF(X9:X33,"・") -> 27 | W34: 名 | X34: ・ | Y34: 内： | Z34: =COUNTIF(E9:E33,"・")+COUNTIF(O9:O33,"・")+COUNTIF(Y9:Y33,"・") -> 0 | AC34: 名 | AD34: ）
A36: 紹介患者様氏名 | F36: 紹介先 | K36: 逆紹介患者様氏名 | P36: 紹介元 | U36: 処置実施者 | AA36: 処置内容
E37: 様 | O37: 様 | Z37: 様
E38: 様 | O38: 様 | Z38: 様
E39: 様 | O39: 様 | Z39: 様
E40: 様 | O40: 様 | Z40: 様
E41: 様 | O41: 様 | Z41: 様
A42: 本日の検査 | F42: 検査内容 | K42: 処置実施者 | P42: 処置内容 | Z42: 様
E43: 様 | K43: 野田頭 真由美 | O43: 様 | P43: ハロマンス100mg 1セット | Z43: 様
E44: 様 | O44: 様 | Z44: 様
E45: 様 | O45: 様 | Z45: 様
E46: 様 | O46: 様 | U46: 点検項目
E47: 様 | O47: 様 | U47: 項目 | Z47: 時間 | AC47: 点検者
A48: 発熱 | F48: 下痢 | K48: 風邪薬 | P48: 男性： | U48: 医療廃棄物 | Y48: 0.75
A49: 0 | F49: 0 | K49: 0 | P49: 女性： | U49: 戸締り | Y49: 0.75 | AB49: ='1'!AB39:AD39 -> 中村 恵理子
A51: 備考欄 | C51: （連絡事項・処方変更・その他）

Sheet 5
B1: クリニック 日 誌 | H1: 令和 | J1: ='1'!J1 -> 3 | K1: 年 | L1: 7 | M1: 月 | N1: 5 | O1: 日 | Q1: （ | R1: 月 | S1: ） | V1: COO | Y1: IOO | AB1: AOM
A3: 勤務者名
A4: ='1'!A4:F4 -> 中村 恵理子 | G4: 日 | I4: 柳田 美雪 | N4: 年 | Q4: 診察室 | W4: 外来担当医 | Z4: 外来介助者
A5: 石原 恵海 | G5: 日 | I5: 石谷 美代子 | N5: 欠 | Q5: 第１診察室 | U5: 馬渡 晃弘 | Z5: 石原
A6: 神 圭輔 | G6: 日 | Q6: 第２診察室 | U6: 坂田 優 | Z6: 石原
B8: 新 | C8: 再 | D8: 精 | E8: 内 | F8: 処 | G8: 患者様氏名 | L8: 新 | M8: 再 | N8: 精 | O8: 内 | P8: 処 | Q8: 患者様氏名 | V8: 新 | W8: 再 | X8: 精 | Y8: 内 | Z8: 処 | AA8: 患者様氏名
A9: 1 | C9: ・ | D9: ・ | E9: ・ | F9: 28 | G9: 奥 功 | J9: 様 | K9: 2 | M9: ・ | N9: ・ | P9: 30 | Q9: 古田 桃香 | T9: 様 | U9: 3 | W9: ・ | X9: ・ | Z9: 0 | AA9: 高村 加津子 | AD9: 様
A10: 4 | C10: ・ | E10: ・ | F10: 28 | G10: 宮崎 倫子 | J10: 様 | K10: 5 | M10: ・ | N10: ・ | P10: 30 | Q10: 佐々木 晴香 | T10: 様 | U10: 6 | W10: ・ | X10: ・ | Z10: 0 | AA10: 綿貫 啓子 | AD10: 様
A11: 7 | C11: ・ | D11: ・ | F11: 14 | G11: 馬場 一彦 | J11: 様 | K11: 8 | L11: ・ | N11: ・ | P11: 60 | Q11: 吉田 ふみ | T11: 様 | U11: 9 | W11: ・ | X11: ・ | Z11: 0 | AA11: 田口 トシ子 | AD11: 様
A12: 10 | C12: ・ | D12: ・ | F12: 35 | G12: 沼山 深雪 | J12: 様 | K12: 11 | M12: ・ | N12: ・ | P12: 30 | Q12: 山崎 友雅 | T12: 様 | U12: 12 | W12: ・ | X12: ・ | Z12: 0 | AA12: 沼端 ミセ | AD12: 様
A13: 13 | C13: ・ | D13: ・ | F13: 28 | G13: 吉村 直樹 | J13: 様 | K13: 14 | M13: ・ | N13: ・ | P13: 30 | Q13: 赤石 栞菜 | T13: 様 | U13: 15 | W13: ・ | X13: ・ | Z13: 0 | AA13: 深町 栄美子 | AD13: 様
A14: 16 | C14: ・ | D14: ・ | F14: 3 | G14: 坂本 佳之 | J14: 様 | K14: 17 | M14: ・ | N14: ・ | P14: 30 | Q14: 天間 貴那 | T14: 様 | U14: 18 | W14: ・ | X14: ・ | Z14: 0 | AA14: 大木 久子 | AD14: 様
A15: 19 | C15: ・ | D15: ・ | F15: 35 | G15: 鳥谷部 トヨ | J15: 様 | K15: 20 | M15: ・ | N15: ・ | P15: 30 | Q15: 木村 羽美 | T15: 様 | U15: 21 | W15: ・ | X15: ・ | Z15: 0 | AA15: 藤田 絢三 | AD15: 様
A16: 22 | C16: ・ | D16: ・ | F16: 28 | G16: 大村 恵美 | J16: 様 | K16: 23 | M16: ・ | N16: ・ | P16: 30 | Q16: 船水 大夢 | T16: 様 | U16: 24 | W16: ・ | X16: ・ | Z16: 0 | AA16: 萠出 克治 | AD16: 様
A17: 25 | C17: ・ | D17: ・ | F17: 28 | G17: 野田頭 郁美 | J17: 様 | K17: 26 | M17: ・ | N17: ・ | P17: 8 | Q17: 佐藤 ソノ | T17: 様 | U17: 27 | W17: ・ | X17: ・ | Z17: 0 | AA17: 萠出 きのゑ | AD17: 様
A18: 28 | C18: ・ | D18: ・ | F18: 14 | G18: 沖澤 孝 | J18: 様 | K18: 29 | M18: ・ | N18: ・ | P18: 56 | Q18: 菅原 仙一 | T18: 様 | U18: 30 | W18: ・ | X18: ・ | Z18: 0 | AA18: 杉山 博子 | AD18: 様
A19: 31 | C19: ・ | D19: ・ | F19: 28 | G19: 川村 みせ | J19: 様 | K19: 32 | M19: ・ | N19: ・ | P19: 28 | Q19: 種市 正子 | T19: 様 | U19: 33 | W19: ・ | X19: ・ | Z19: 0 | AA19: 相田 敏子 | AD19: 様
A20: 34 | C20: ・ | D20: ・ | F20: 56 | G20: 笹 幸子 | J20: 様 | K20: 35 | M20: ・ | N20: ・ | P20: 28 | Q20: 加賀 遥大 | T20: 様 | U20: 36 | W20: ・ | X20: ・ | Z20: 0 | AA20: 渡辺 クニ | AD20: 様
A21: 37 | C21: ・ | D21: ・ | F21: 60 | G21: 江渡 野乃花 | J21: 様 | K21: 38 | M21: ・ | N21: ・ | P21: 15 | Q21: 小笠原 由美子 | T21: 様 | U21: 39 | W21: ・ | X21: ・ | Z21: 0 | AA21: 山口 瑛子 | AD21: 様
A22: 40 | C22: ・ | D22: ・ | E22: ・ | F22: 28 | G22: 木村 幸雄 | J22: 様 | K22: 41 | M22: ・ | N22: ・ | P22: 28 | Q22: 成田 純広 | T22: 様 | U22: 42 | W22: ・ | X22: ・ | Z22: 0 | AA22: 坂本 政勝 | AD22: 様
A23: 43 | C23: ・ | D23: ・ | F23: 28 | G23: 右近 楓 | J23: 様 | K23: 44 | M23: ・ | N23: ・ | P23: 28 | Q23: 山縣 堅一 | T23: 様 | U23: 45 | W23: ・ | X23: ・ | Z23: 0 | AA23: 藪 真弓 | AD23: 様
A24: 46 | C24: ・ | D24: ・ | F24: 22 | G24: 木村 正子 | J24: 様 | K24: 47 | M24: ・ | N24: ・ | P24: 30 | Q24: 藤ヶ森 貴美枝 | T24: 様 | U24: 48 | W24: ・ | X24: ・ | Z24: 0 | AA24: 中居 敬悦 | AD24: 様
A25: 49 | C25: ・ | D25: ・ | F25: 28 | G25: 酒井 昌子 | J25: 様 | K25: 50 | M25: ・ | N25: ・ | P25: 28 | Q25: 新山 雄斗 | T25: 様 | U25: 51 | W25: ・ | X25: ・ | Z25: 0 | AA25: 村松 真由美 | AD25: 様
A26: 52 | C26: ・ | D26: ・ | F26: 30 | G26: 瀬川 高雄 | J26: 様 | K26: 53 | L26: ・ | N26: ・ | P26: 28 | Q26: 鈴木 政則 | T26: 様 | U26: 54 | W26: ・ | X26: ・ | Z26: 30 | AA26: 新山 颯也 | AD26: 様
A27: 55 | B27: ・ | D27: ・ | F27: 28 | G27: 高岡 熙子 | J27: 様 | K27: 56 | L27: ・ | N27: ・ | P27: 28 | Q27: 大友 愛子 | T27: 様 | U27: 57 | AD27: 様
A28: 外来患者数 | E28: 新： | F28: =COUNTIF(B9:B27,"・")+COUNTIF(L9:L27,"・")+COUNTIF(V9:V27,"・") -> 4 | H28: 名 | I28: 再： | J28: =COUNTIF(C9:C27,"・")+COUNTIF(M9:M27,"・")+COUNTIF(W9:W27,"・") -> 52 | L28: 名 | M28: 計： | N28: =SUM(F28:K28) -> 56 | Q28: 名 | R28: （ | S28: 精： | T28: =COUNTIF(D9:D27,"・")+COUNTIF(N9:N27,"・")+COUNTIF(X9:X27,"・") -> 55 | W28: 名 | X28: ・ | Y28: 内： | Z28: =COUNTIF(E9:E27,"・")+COUNTIF(O9:O27,"・")+COUNTIF(Y9:Y27,"・") -> 3 | AC28: 名 | AD28: ）
A30: 紹介患者様氏名 | F30: 紹介先 | K30: 逆紹介患者様氏名 | P30: 紹介元 | U30: 本日の検査 | AA30: 検査内容
A31: 佐藤 ソノ | E31: 様 | F31: 青南病院 | K31: 高岡 熙子 | O31: 様 | P31: 岡三沢診療所 | U31: 吉田 ふみ | Z31: 様 | AA31: HDS-R MMSE
A32: 笹 幸子 | E32: 様 | F32: 沼田医院 | K32: 吉田 ふみ | O32: 様 | P32: 十和田市立中央病院 | Z32: 様
E33: 様 | K33: 鈴木 政則 | O33: 様 | P33: 六ヶ所村地域家庭医療センター | Z33: 様
A34: 本日の検査 | F34: 検査内容 | K34: 処置実施者 | P34: 処置内容 | Z34: 様
A35: 奥 功 | E35: 様 | F35: 血液検査 | K35: 酒井 昌子 | O35: 様 | P35: ハロマンス100mg 1セット | Z35: 様
A36: 木村 幸雄 | E36: 様 | F36: 検尿 | K36: 小笠原 由美子 | O36: 様 | P36: エビリファイ(400mg)1キット | Z36: 様
A37: 高岡 熙子 | E37: 様 | F37: CMI | O37: 様 | Z37: 様
A38: 大友 愛子 | E38: 様 | F38: CMI | O38: 様 | U38: 点検項目
A39: 鈴木 政則 | E39: 様 | F39: CMI | O39: 様 | U39: 項目 | Z39: 時間 | AC39: 点検者
A40: 発熱 | F40: 下痢 | K40: 風邪薬 | P40: 男性：16 | U40: 医療廃棄物 | Y40: 0.75 | AB40: 石原 恵海
A41: 0 | F41: 0 | K41: 0 | P41: 女性：40 | U41: 戸締り | Y41: 0.75 | AB41: 松林 久美子
A43: 備考欄 | C43: （連絡事項・処方変更・その他）
G44: 特記なし
G45: 石原

Sheet 6
B1: クリニック 日 誌 | H1: 令和 | J1: ='1'!J1 -> 3 | K1: 年 | L1: 7 | M1: 月 | N1: 6 | O1: 日 | Q1: （ | R1: 水 | S1: ） | V1: COO | Y1: IOO | AB1: AOM
A3: 勤務者名
A4: 中村 恵理子 | G4: 日 | I4: 柳田 美雪 | N4: 年 | Q4: 診察室 | W4: 外来担当医 | Z4: 外来介助者
A5: 石原 恵海 | G5: 日 | I5: 石谷 美代子 | N5: 欠 | Q5: 第１診察室 | U5: 千葉 潜 | Z5: 恵谷・石原
A6: 恵谷 愛 | Q6: 第２診察室 | U6: 坂田 優 | Z6: 石原
B8: 新 | C8: 再 | D8: 精 | E8: 内 | F8: 処 | G8: 患者様氏名 | L8: 新 | M8: 再 | N8: 精 | O8: 内 | P8: 処 | Q8: 患者様氏名 | V8: 新 | W8: 再 | X8: 精 | Y8: 内 | Z8: 処 | AA8: 患者様氏名
A9: 1 | B9: ・ | D9: ・ | F9: 7 | G9: 下田 マリ子 | J9: 様 | K9: 2 | M9: ・ | N9: ・ | P9: 14 | Q9: 坂本 郁子 | T9: 様 | U9: 3 | W9: ・ | X9: ・ | Z9: 28 | AA9: 高村 加津子 | AD9: 様
A10: 4 | C10: ・ | D10: ・ | F10: 28 | G10: 種市 優子 | J10: 様 | K10: 5 | M10: ・ | N10: ・ | P10: 7 | Q10: 高橋 稚波 | T10: 様 | U10: 6 | W10: ・ | X10: ・ | Z10: 28 | AA10: 工藤 健壽 | AD10: 様
A11: 7 | C11: ・ | D11: ・ | F11: 28 | G11: 吉田 めぐみ | J11: 様 | K11: 8 | M11: ・ | N11: ・ | P11: 28 | Q11: 井崎 恭子 | T11: 様 | U11: 9 | W11: ・ | X11: ・ | Z11: 28 | AA11: 鈴木 寛二 | AD11: 様
A12: 10 | C12: ・ | D12: ・ | F12: 28 | G12: 中村 文博 | J12: 様 | K12: 11 | M12: ・ | N12: ・ | P12: 28 | Q12: 石岡 裕子 | T12: 様 | U12: 12 | W12: ・ | X12: ・ | Z12: 28 | AA12: 坂本 政勝 | AD12: 様
A13: 13 | C13: ・ | D13: ・ | F13: 42 | G13: 古川 ミキ | J13: 様 | K13: 14 | M13: ・ | N13: ・ | P13: 28 | Q13: 中谷 幸夫 | T13: 様 | U13: 15 | W13: ・ | X13: ・ | Z13: 0 | AA13: 田口 トシ子 | AD13: 様
A14: 16 | C14: ・ | D14: ・ | F14: 60 | G14: 山本 キワ | J14: 様 | K14: 17 | M14: ・ | N14: ・ | P14: 28 | Q14: 高橋 ゆり子 | T14: 様 | U14: 18 | W14: ・ | X14: ・ | Z14: 0 | AA14: 綿貫 啓子 | AD14: 様
A15: 19 | C15: ・ | D15: ・ | F15: 14 | G15: 川村 魁斗 | J15: 様 | K15: 20 | M15: ・ | N15: ・ | P15: 28 | Q15: 野々宮 重美 | T15: 様 | U15: 21 | W15: ・ | X15: ・ | Z15: 0 | AA15: 山本 伸子 | AD15: 様
A16: 22 | C16: ・ | D16: ・ | F16: 60 | G16: 森 スエ子 | J16: 様 | K16: 23 | M16: ・ | N16: ・ | P16: 28 | Q16: 菅野 愛菜 | T16: 様 | U16: 24 | W16: ・ | X16: ・ | Z16: 0 | AA16: 藤田 絢三 | AD16: 様
A17: 25 | C17: ・ | D17: ・ | F17: 28 | G17: 熊崎 ユウ子 | J17: 様 | K17: 26 | M17: ・ | N17: ・ | P17: 28 | Q17: 浄法寺 ミツエ | T17: 様 | U17: 27 | W17: ・ | X17: ・ | Z17: 0 | AA17: 萠出 きのゑ | AD17: 様
A18: 28 | C18: ・ | D18: ・ | F18: 28 | G18: 住吉 鉄男 | J18: 様 | K18: 29 | M18: ・ | N18: ・ | P18: 30 | Q18: 松橋 莉沙 | T18: 様 | U18: 30 | W18: ・ | X18: ・ | Z18: 0 | AA18: 萠出 克治 | AD18: 様
A19: 31 | C19: ・ | D19: ・ | F19: 28 | G19: 鈴木 勝子 | J19: 様 | K19: 32 | M19: ・ | N19: ・ | P19: 7 | Q19: 山岡 裕花 | T19: 様 | U19: 33 | W19: ・ | X19: ・ | Z19: 0 | AA19: 山口 瑛子 | AD19: 様
A20: 34 | C20: ・ | D20: ・ | F20: 28 | G20: 土橋 和子 | J20: 様 | K20: 35 | M20: ・ | N20: ・ | P20: 14 | Q20: 小栗 佳子 | T20: 様 | U20: 36 | W20: ・ | X20: ・ | Z20: 28 | AA20: 小笠原 彩子 | AD20: 様
A21: 37 | C21: ・ | D21: ・ | F21: 28 | G21: 石原 トシ | J21: 様 | K21: 38 | M21: ・ | N21: ・ | P21: 14 | Q21: 松林 朋子 | T21: 様 | U21: 39 | W21: ・ | X21: ・ | Z21: 30 | AA21: 蛯名 ハナエ | AD21: 様
... A27: 55 | C27: ・ | D27: ・ | F27: 28 | G27: 三上 朋子 | J27: 様 | K27: 56 | M27: ・ | N27: ・ | P27: 28 | Q27: 佐々木 富雄 | T27: 様 | U27: 57 | W27: ・ | X27: ・ | Z27: 0 | AA27: 石井 佐代子 | AD27: 様
A28: 58 | C28: ・ | D28: ・ | F28: 28 | G28: 天間 ミツエ | J28: 様 | K28: 59 | L28: ・ | N28: ・ | P28: 7 | Q28: 新堂 一彦 | T28: 様 | U28: 60 | W28: ・ | X28: ・ | Z28: 0 | AA28: 水上 民一 | AD28: 様
A29: 61 | C29: ・ | D29: ・ | F29: 28 | G29: 大澤 哲也 | J29: 様 | K29: 62 | T29: 様 | U29: 63 | AD29: 様
A30: 外来患者数 | E30: 新： | F30: =COUNTIF(B9:B29,"・")+COUNTIF(L9:L29,"・")+COUNTIF(V9:V29,"・") -> 2 | H30: 名 | I30: 再： | J30: =COUNTIF(C9:C29,"・")+COUNTIF(M9:M29,"・")+COUNTIF(W9:W29,"・") -> 59 | L30: 名 | M30: 計： | N30: =SUM(F30:K30) -> 61 | Q30: 名 | R30: （ | S30: 精： | T30: =COUNTIF(D9:D29,"・")+COUNTIF(N9:N29,"・")+COUNTIF(X9:X29,"・") -> 61 | W30: 名 | X30: ・ | Y30: 内： | Z30: =COUNTIF(E9:E29,"・")+COUNTIF(O9:O29,"・")+COUNTIF(Y9:Y29,"・") -> 0 | AC30: 名 | AD30: ）
A32: 紹介患者様氏名 | F32: 紹介先 | K32: 逆紹介患者様氏名 | P32: 紹介元 | U32: 処置実施者 | AA32: 処置内容
E33: 様 | K33: 下田 マリ子 | O33: 様 | P33: 三沢市立病院 | Z33: 様
E34: 様 | K34: 新堂 一彦 | O34: 様 | P34: 自衛隊三沢病院 | Z34: 様
A35: 本日の検査 | F35: 検査内容 | K35: 処置実施者 | P35: 処置内容 | Z35: 様
A36: 奥寺 真理子 | E36: 様 | F36: 血液検査 | K36: 川村 魁斗 | O36: 様 | P36: ハロマンス(100) 1A | Z36: 様
A37: 新堂 一彦 | E37: 様 | F37: CMI | K37: 鈴木 寛二 | O37: 様 | P37: ゼプリオン150ｍｇ | Z37: 様
A38: 下田 マリ子 | E38: 様 | F38: CMI | O38: 様 | U38: 点検項目
E39: 様 | O39: 様 | U39: 項目 | Z39: 時間 | AC39: 点検者
A40: 発熱 | F40: 下痢 | K40: 風邪薬 | P40: 男性：17 | U40: 医療廃棄物 | Y40: 0.75 | AB40: 石原 恵海
A41: 0 | F41: 0 | K41: 0 | P41: 女性：44 | U41: 戸締り | Y41: 0.75 | AB41: 松林 久美子
A43: 備考欄 | C43: （連絡事項・処方変更・その他）
G44: 特になし
G45: 石原

Sheet 7
B1: クリニック 日 誌 | H1: 令和 | J1: ='6'!J1 -> 3 | K1: 年 | L1: 7 | M1: 月 | N1: 7 | O1: 日 | Q1: （ | R1: 水 | S1: ） | V1: COO | Y1: IOO | AB1: AOM
A3: 勤務者名
A4: ='6'!A4:F4 -> 中村 恵理子 | G4: 日 | I4: 柳田 美雪 | N4: 日 | Q4: 診察室 | W4: 外来担当医 | Z4: 外来介助者
A5: 石原 恵海 | G5: 日 | I5: 石谷 美代子 | N5: 欠 | Q5: 第１診察室 | U5: 千葉 潜 | Z5: 柳田・石原
A6: 松林 久美子 | G6: 日 | I6: 堀 安有美 | N6: 日 | Q6: 第２診察室 | U6: 坂田 優 | Z6: 柳田
B8: 新 | C8: 再 | D8: 精 | E8: 内 | F8: 処 | G8: 患者様氏名 | L8: 新 | M8: 再 | N8: 精 | O8: 内 | P8: 処 | Q8: 患者様氏名 | V8: 新 | W8: 再 | X8: 精 | Y8: 内 | Z8: 処 | AA8: 患者様氏名
A9: 1 | C9: ・ | D9: ・ | F9: 30 | G9: 小笠原 雅義 | J9: 様 | K9: 2 | M9: ・ | N9: ・ | P9: 28 | Q9: 沖田 千喜子 | T9: 様 | U9: 3 | W9: ・ | Y9: ・ | Z9: 56 | AA9: 坂田 佳子 | AD9: 様
A10: 4 | C10: ・ | D10: ・ | F10: 28 | G10: 角 正一郎 | J10: 様 | K10: 5 | M10: ・ | N10: ・ | P10: 60 | Q10: 冨田 りゑ | T10: 様 | U10: 6 | W10: ・ | Y10: ・ | Z10: 0 | AA10: 上岡 慶子 | AD10: 様
A11: 7 | C11: ・ | D11: ・ | F11: 42 | G11: 川口 凌矢 | J11: 様 | K11: 8 | M11: ・ | N11: ・ | P11: 28 | Q11: 本間 きよ | T11: 様 | U11: 9 | W11: ・ | X11: ・ | Z11: 0 | AA11: 山本 伸子 | AD11: 様 | AF11: 1
A12: 10 | C12: ・ | D12: ・ | F12: 28 | G12: 西澤 智穂 | J12: 様 | K12: 11 | M12: ・ | N12: ・ | P12: 30 | Q12: 藤原 チイ | T12: 様 | U12: 12 | W12: ・ | X12: ・ | Z12: 0 | AA12: 綿貫 啓子 | AD12: 様 | AF12: 2
A13: 13 | C13: ・ | D13: ・ | F13: 8 | G13: 水上 民一 | J13: 様 | K13: 14 | M13: ・ | N13: ・ | P13: 28 | Q13: 一戸 幸子 | T13: 様 | U13: 15 | W13: ・ | X13: ・ | Z13: 0 | AA13: 沼端 ミセ | AD13: 様 | AF13: 3
A14: 16 | C14: ・ | D14: ・ | F14: 60 | G14: 葛西 正人 | J14: 様 | K14: 17 | M14: ・ | N14: ・ | P14: 28 | Q14: 吹越 幸子 | T14: 様 | U14: 18 | W14: ・ | X14: ・ | Z14: 0 | AA14: 深町 栄美子 | AD14: 様 | AF14: 4
A15: 19 | C15: ・ | D15: ・ | F15: 28 | G15: 川村 実果 | J15: 様 | K15: 20 | M15: ・ | N15: ・ | P15: 28 | Q15: 工藤 幸子 | T15: 様 | U15: 21 | W15: ・ | X15: ・ | Z15: 0 | AA15: 萠出 克治 | AD15: 様 | AF15: 5
A16: 22 | C16: ・ | D16: ・ | F16: 30 | G16: 飯田 昭子 | J16: 様 | K16: 23 | M16: ・ | N16: ・ | P16: 28 | Q16: 赤沼 信克 | T16: 様 | U16: 24 | W16: ・ | X16: ・ | Z16: 0 | AA16: 萠出 きのゑ | AD16: 様 | AF16: 6
A17: 25 | C17: ・ | D17: ・ | F17: 56 | G17: 鹿糠 望 | J17: 様 | K17: 26 | M17: ・ | N17: ・ | P17: 60 | Q17: 町屋 自由 | T17: 様 | U17: 27 | W17: ・ | X17: ・ | Z17: 0 | AA17: 豊川 洋子 | AD17: 様 | AF17: 7
A18: 28 | C18: ・ | D18: ・ | F18: 28 | G18: 内田 昌子 | J18: 様 | K18: 29 | M18: ・ | N18: ・ | P18: 14 | Q18: 沼田 由貴 | T18: 様 | U18: 30 | W18: ・ | X18: ・ | Z18: 0 | AA18: 工藤 健壽 | AD18: 様 | AF18: 8
A19: 31 | C19: ・ | D19: ・ | F19: 30 | G19: 浄法寺 のり子 | J19: 様 | K19: 32 | M19: ・ | N19: ・ | P19: 28 | Q19: 種市 スエ | T19: 様 | U19: 33 | W19: ・ | X19: ・ | Z19: 0 | AA19: 高村 加津子 | AD19: 様 | AF19: 9
A20: 34 | C20: ・ | D20: ・ | F20: 30 | G20: 佐藤 務 | J20: 様 | K20: 35 | M20: ・ | N20: ・ | P20: 30 | Q20: 菅原 百合子 | T20: 様 | U20: 36 | W20: ・ | X20: ・ | Z20: 0 | AA20: 大木 久子 | AD20: 様 | AF20: 10
A21: 37 | C21: ・ | D21: ・ | F21: 28 | G21: 貝塚 一忠 | J21: 様 | K21: 38 | M21: ・ | N21: ・ | P21: 21 | Q21: 浪岡 淳哉 | T21: 様 | U21: 39 | W21: ・ | X21: ・ | Z21: 0 | AA21: 藤田 絢三 | AD21: 様 | AF21: 11
A22: 40 | C22: ・ | D22: ・ | F22: 30 | G22: 川久保 一茂 | J22: 様 | K22: 41 | M22: ・ | N22: ・ | P22: 28 | Q22: 菅藤 麻美 | T22: 様 | U22: 42 | W22: ・ | X22: ・ | Z22: 0 | AA22: 杉山 博子 | AD22: 様 | AF22: 12
... A25: 49 | C25: ・ | D25: ・ | F25: 30 | G25: 相内 京子 | J25: 様 | K25: 50 | M25: ・ | N25: ・ | P25: 42 | Q25: 山口 瑛子 | T25: 様 | U25: 51 | W25: ・ | X25: ・ | Z25: 0 | AA25: 坂本 政勝 | AD25: 様 | AF25: 15
A26: 52 | C26: ・ | D26: ・ | F26: 28 | G26: 岡山 きみ | J26: 様 | K26: 53 | M26: ・ | N26: ・ | P26: 28 | Q26: 田口 トシ子 | T26: 様 | U26: 54 | W26: ・ | X26: ・ | Z26: 0 | AA26: 小川 サクラ | AD26: 様
A27: 55 | C27: ・ | D27: ・ | F27: 28 | G27: 丸谷 美香 | J27: 様 | K27: 56 | M27: ・ | N27: ・ | P27: 14 | Q27: 猪野 遥 | T27: 様 | U27: 57 | W27: ・ | X27: ・ | Z27: 0 | AA27: 武内 隆三 | AD27: 様
A28: 58 | C28: ・ | D28: ・ | F28: 28 | G28: 石井 佐代子 | J28: 様 | K28: 59 | M28: ・ | N28: ・ | P28: 28 | Q28: 高山 かぢ子 | T28: 様 | U28: 60 | W28: ・ | X28: ・ | Z28: 14 | AA28: 伴 英雄 | AD28: 様
A29: 61 | C29: ・ | D29: ・ | F29: 28 | G29: 沼尾 弘美 | J29: 様 | K29: 62 | M29: ・ | N29: ・ | P29: 28 | Q29: 渡邊 聡雄 | T29: 様 | U29: 63 | W29: ・ | X29: ・ | Z29: 28 | AA29: 天間 英輝 | AD29: 様
A30: 64 | C30: ・ | D30: ・ | F30: 28 | G30: 千葉 麗真 | J30: 様 | K30: 65 | L30: ・ | N30: ・ | P30: 14 | Q30: 長岐 和哉 | T30: 様 | U30: 66 | W30: ・ | X30: ・ | Z30: 56 | AA30: 沢田 考 | AD30: 様
A31: 67 | C31: ・ | D31: ・ | F31: 28 | G31: 宮崎 真一 | J31: 様 | K31: 68 | M31: ・ | N31: ・ | P31: 14 | Q31: 岩沢 賢心 | T31: 様 | U31: 69 | W31: ・ | X31: ・ | Z31: 28 | AA31: 渡邊 唯 | AD31: 様
A32: 70 | C32: ・ | D32: ・ | F32: 28 | G32: 野原 サリ | J32: 様 | K32: 71 | M32: ・ | N32: ・ | P32: 28 | Q32: 赤沼 拓朗 | T32: 様 | U32: 72 | W32: ・ | X32: ・ | Z32: 28 | AA32: 花田 裕二郎 | AD32: 様
A33: 73 | C33: ・ | D33: ・ | F33: 42 | G33: 瀬間 義大 | J33: 様 | K33: 74 | M33: ・ | N33: ・ | P33: 56 | Q33: 金田 重一 | T33: 様 | U33: 75 | W33: ・ | X33: ・ | Z33: 28 | AA33: 阿部 勝廣 | AD33: 様
A34: 76 | C34: ・ | D34: ・ | F34: 0 | G34: 佐藤 初男 | J34: 様 | K34: 77 | L34: ・ | O34: ・ | P34: 0 | Q34: 中川 誠一 | T34: 様 | U34: 78 | V34: ・ | X34: ・ | Z34: 0 | AA34: 日戸 徹 | AD34: 様
A35: 外来患者数 | E35: 新： | F35: =COUNTIF(B9:B34,"・")+COUNTIF(L9:L34,"・")+COUNTIF(V9:V34,"・") -> 3 | H35: 名 | I35: 再： | J35: =COUNTIF(C9:C34,"・")+COUNTIF(M9:M34,"・")+COUNTIF(W9:W34,"・") -> 75 | L35: 名 | M35: 計： | N35: =SUM(F35:K35) -> 78 | Q35: 名 | R35: （ | S35: 精： | T35: =COUNTIF(D9:D34,"・")+COUNTIF(N9:N34,"・")+COUNTIF(X9:X34,"・") -> 75 | W35: 名 | X35: ・ | Y35: 内： | Z35: =COUNTIF(E9:E34,"・")+COUNTIF(O9:O34,"・")+COUNTIF(Y9:Y34,"・") -> 3 | AC35: 名 | AD35: ）
A37: 紹介患者様氏名 | F37: 紹介先 | K37: 逆紹介患者様氏名 | P37: 紹介元 | U37: 本日の検査 | AA37: 検査内容
E38: 様 | O38: 様 | U38: 中川 誠一 | Z38: 様 | AA38: 血液検査・ECG
A39: 本日の検査 | F39: 検査内容 | K39: 処置実施者 | P39: 処置内容 | U39: 浄法寺 のり子 | Z39: 様 | AA39: 血液検査
A40: 水上 民一 | E40: 様 | F40: 血液検査 | O40: 様 | U40: 菅原 百合子 | Z40: 様 | AA40: 血液検査
A41: 西澤 智穂 | E41: 様 | F41: 血液検査 | O41: 様 | U41: 坂田 佳子 | Z41: 様 | AA41: 血液検査
A42: 相内 京子 | E42: 様 | F42: 血液検査 | O42: 様 | Z42: 様
A43: 岡山 きみ | E43: 様 | F43: 血液検査 | O43: 様 | U43: 点検項目
A44: 上岡 慶子 | E44: 様 | F44: 血液検査 | O44: 様 | U44: 項目 | Z44: 時間 | AC44: 点検者
A45: 発熱 | F45: 下痢 | K45: 風邪薬 | P45: 男性：32 | U45: 医療廃棄物 | Y45: 0.75 | AB45: 石原 恵海
A46: 0 | F46: 0 | K46: 0 | P46: 女性：46 | U46: 戸締り | Y46: 0.75 | AB46: ='6'!AB41:AD41 -> 松林 久美子
A48: 備考欄 | C48: （連絡事項・処方変更・その他）
G49: 特になし
G50: 石原

Sheet 8
B1: クリニック 日 誌 | H1: 令和 | J1: ='6'!J1 -> 3 | K1: 年 | L1: 7 | M1: 月 | N1: 8 | O1: 日 | Q1: （ | R1: 木 | S1: ） | V1: COO | Y1: IOO | AB1: AOM
A3: 勤務者名
A4: ='7'!A4:F4 -> 中村 恵理子 | G4: 年 | I4: 柳田 美雪 | N4: 日 | Q4: 診察室 | W4: 外来担当医 | Z4: 外来介助者
A5: 石原 恵海 | G5: 日 | I5: 堀 安有美 | N5: 欠 | Q5: 第１診察室 | U5: 千葉 潜 | Z5: 石原
A6: 神 圭輔 | G6: 日 | I6: 松林 久美子 | N6: 日 | Q6: 第２診察室 | U6: 田名部 茂 | Z6: 柳田・石原
B8: 新 | C8: 再 | D8: 精 | E8: 内 | F8: 処 | G8: 患者様氏名 | L8: 新 | M8: 再 | N8: 精 | O8: 内 | P8: 処 | Q8: 患者様氏名 | V8: 新 | W8: 再 | X8: 精 | Y8: 内 | Z8: 処 | AA8: 患者様氏名
A9: 1 | C9: ・ | D9: ・ | F9: 30 | G9: 戸村 節子 | J9: 様 | K9: 2 | M9: ・ | N9: ・ | P9: 14 | Q9: 木村 健 | T9: 様 | U9: 3 | W9: ・ | X9: ・ | Z9: 0 | AA9: 安部 信祥 | AD9: 様
A10: 4 | C10: ・ | D10: ・ | F10: 56 | G10: 小笠原 光俊 | J10: 様 | K10: 5 | M10: ・ | N10: ・ | P10: 28 | Q10: 太田 志緒 | T10: 様 | U10: 6 | W10: ・ | X10: ・ | Z10: 0 | AA10: 古川 とし | AD10: 様
A11: 7 | C11: ・ | D11: ・ | F11: 28 | G11: 冨田 扶美子 | J11: 様 | K11: 8 | M11: ・ | N11: ・ | P11: 56 | Q11: 中村 ノリ子 | T11: 様 | U11: 9 | W11: ・ | X11: ・ | Z11: 0 | AA11: 西舘 瞳 | AD11: 様
A12: 10 | C12: ・ | D12: ・ | F12: 14 | G12: 織笠 勝男 | J12: 様 | K12: 11 | M12: ・ | N12: ・ | P12: 28 | Q12: 野々宮 俊江 | T12: 様 | U12: 12 | W12: ・ | X12: ・ | Z12: 0 | AA12: 日戸 徹 | AD12: 様
A13: 13 | C13: ・ | D13: ・ | F13: 28 | G13: 小鷹 聡 | J13: 様 | K13: 14 | M13: ・ | N13: ・ | P13: 28 | Q13: 長谷地 トキ | T13: 様 | U13: 15 | W13: ・ | X13: ・ | Z13: 0 | AA13: 美濃部 将樹 | AD13: 様
A14: 16 | C14: ・ | D14: ・ | F14: 28 | G14: 市川 エミ子 | J14: 様 | K14: 17 | M14: ・ | N14: ・ | P14: 28 | Q14: 沼山 かおる | T14: 様 | U14: 18 | W14: ・ | X14: ・ | Z14: 0 | AA14: 高村 加津子 | AD14: 様
A15: 19 | C15: ・ | D15: ・ | F15: 28 | G15: 川原 明 | J15: 様 | K15: 20 | M15: ・ | N15: ・ | P15: 30 | Q15: 沼山 裕一 | T15: 様 | U15: 21 | W15: ・ | X15: ・ | Z15: 0 | AA15: 瀬川 高雄 | AD15: 様
A16: 22 | C16: ・ | D16: ・ | F16: 42 | G16: 島名 恵子 | J16: 様 | K16: 23 | M16: ・ | N16: ・ | P16: 7 | Q16: 中居 敬悦 | T16: 様 | U16: 24 | W16: ・ | X16: ・ | Z16: 0 | AA16: 藪 真弓 | AD16: 様
A17: 25 | C17: ・ | D17: ・ | F17: 28 | G17: 五代儀 禮子 | J17: 様 | K17: 26 | M17: ・ | N17: ・ | P17: 28 | Q17: 鷹架 イチ | T17: 様 | U17: 27 | W17: ・ | X17: ・ | Z17: 0 | AA17: 工藤 健壽 | AD17: 様
A18: 28 | C18: ・ | D18: ・ | F18: 56 | G18: 小笠原 琴葉 | J18: 様 | K18: 29 | M18: ・ | N18: ・ | P18: 7 | Q18: 類家 つさ | T18: 様 | U18: 30 | W18: ・ | X18: ・ | Z18: 0 | AA18: 藤田 絢三 | AD18: 様
A19: 31 | C19: ・ | D19: ・ | F19: 28 | G19: 長谷川 友和 | J19: 様 | K19: 32 | M19: ・ | N19: ・ | P19: 30 | Q19: 舛田 良子 | T19: 様 | U19: 33 | W19: ・ | X19: ・ | Z19: 0 | AA19: 田口 トシ子 | AD19: 様
A20: 34 | C20: ・ | D20: ・ | F20: 0 | G20: 安村 恵 | J20: 様 | K20: 35 | M20: ・ | N20: ・ | P20: 30 | Q20: 遠藤 ひとみ | T20: 様 | U20: 36 | W20: ・ | X20: ・ | Z20: 0 | AA20: 大木 久子 | AD20: 様
... A27: 55 | C27: ・ | D27: ・ | F27: 49 | G27: 工藤 サヨ | J27: 様 | K27: 56 | M27: ・ | N27: ・ | P27: 25 | Q27: 中村 佳奈 | T27: 様 | U27: 57 | W27: ・ | X27: ・ | Z27: 30 | AA27: 川守田 智恵子 | AD27: 様
A28: 58 | C28: ・ | D28: ・ | F28: 56 | G28: 坂岡 サダ | J28: 様 | K28: 59 | M28: ・ | N28: ・ | P28: 60 | Q28: 小笠原 早苗 | T28: 様 | U28: 60 | V28: ・ | X28: ・ | Z28: 0 | AA28: 中野 良太 | AD28: 様
A29: 61 | C29: ・ | D29: ・ | F29: 30 | G29: 武井 ツセ | J29: 様 | K29: 62 | M29: ・ | N29: ・ | P29: 21 | Q29: 岡山 貴文 | T29: 様 | U29: 63 | V29: ・ | X29: ・ | Z29: 0 | AA29: 小濵 直樹 | AD29: 様
A30: 64 | C30: ・ | D30: ・ | F30: 28 | G30: 村上 トクヱ | J30: 様 | K30: 65 | M30: ・ | N30: ・ | P30: 49 | Q30: 沖津 善昭 | T30: 様 | U30: 66 | AD30: 様
A31: 外来患者数 | E31: 新： | F31: =COUNTIF(B9:B30,"・")+COUNTIF(L9:L30,"・")+COUNTIF(V9:V30,"・") -> 2 | H31: 名 | I31: 再： | J31: =COUNTIF(C9:C30,"・")+COUNTIF(M9:M30,"・")+COUNTIF(W9:W30,"・") -> 63 | L31: 名 | M31: 計： | N31: =SUM(F31:K31) -> 65 | Q31: 名 | R31: （ | S31: 精： | T31: =COUNTIF(D9:D30,"・")+COUNTIF(N9:N30,"・")+COUNTIF(X9:X30,"・") -> 65 | W31: 名 | X31: ・ | Y31: 内： | Z31: =COUNTIF(E9:E30,"・")+COUNTIF(O9:O30,"・")+COUNTIF(Y9:Y30,"・") -> 0 | AC31: 名 | AD31: ）
A33: 紹介患者様氏名 | F33: 紹介先 | K33: 逆紹介患者様氏名 | P33: 紹介元 | U33: 処置実施者 | AA33: 処置内容
A34: 小濵 直樹 | E34: 様 | F34: つがる総合病院 | O34: 様 | Z34: 様
A35: 本日の検査 | F35: 検査内容 | K35: 処置実施者 | P35: 処置内容 | Z35: 様
A36: 市川 エミ子 | E36: 様 | F36: 血液検査 | O36: 様 | Z36: 様
A37: 太田 志緒 | E37: 様 | F37: 血液検査 | O37: 様 | Z37: 様
A38: 日戸 徹 | E38: 様 | F38: WAIS | O38: 様 | Z38: 様
A39: 美濃部 将樹 | E39: 様 | F39: WAIS | O39: 様 | U39: 点検項目
A40: 中野 良太 | E40: 様 | F40: CMI | O40: 様 | U40: 項目 | Z40: 時間 | AC40: 点検者
A41: 発熱 | F41: 下痢 | K41: 風邪薬 | P41: 男性：24 | U41: 医療廃棄物 | Y41: 0.75 | AB41: 柳田 美雪
A42: 0 | F42: 0 | K42: 0 | P42: 女性：41 | U42: 戸締り | Y42: 0.75 | AB42: ='6'!AB41:AD41 -> 松林 久美子
A44: 備考欄 | C44: （連絡事項・処方変更・その他）
G45: 特記なし
G46: 柳田

Sheet 9
B1: クリニック 日 誌 | H1: 令和 | J1: ='6'!J1 -> 3 | K1: 年 | L1: 7 | M1: 月 | N1: 9 | O1: 日 | Q1: （ | R1: 金 | S1: ） | V1: COO | Y1: IOO | AB1: AOM
A3: 勤務者名
A4: ='6'!A4:F4 -> 中村 恵理子 | G4: 日 | I4: 柳田 美雪 | N4: 日 | Q4: 診察室 | W4: 外来担当医 | Z4: 外来介助者
A5: 石原 恵海 | G5: 日 | I5: 石谷 美代子 | N5: 欠 | Q5: 第１診察室 | U5: 金 泰徳 | Z5: 柳田・石原
I6: 松林 久美子 | N6: 日 | Q6: 第２診察室 | U6: 千葉 良 | Z6: 柳田・石原
B8: 新 | C8: 再 | D8: 精 | E8: 内 | F8: 処 | G8: 患者様氏名 | L8: 新 | M8: 再 | N8: 精 | O8: 内 | P8: 処 | Q8: 患者様氏名 | V8: 新 | W8: 再 | X8: 精 | Y8: 内 | Z8: 処 | AA8: 患者様氏名
A9: 1 | C9: ・ | D9: ・ | F9: 30 | G9: 根岸 ナミ | J9: 様 | K9: 2 | M9: ・ | N9: ・ | P9: 60 | Q9: 中川原 いさ | T9: 様 | U9: 3 | W9: ・ | X9: ・ | Z9: 7 | AA9: 百目鬼 玲音 | AD9: 様
A10: 4 | C10: ・ | D10: ・ | F10: 30 | G10: 能登谷 鑑 | J10: 様 | K10: 5 | M10: ・ | N10: ・ | P10: 30 | Q10: 久保 トク | T10: 様 | U10: 6 | W10: ・ | X10: ・ | Z10: 30 | AA10: 高梨 晃亮 | AD10: 様
A11: 7 | C11: ・ | D11: ・ | F11: 28 | G11: 伊藤 よし子 | J11: 様 | K11: 8 | M11: ・ | N11: ・ | P11: 28 | Q11: 附田 ミサ | T11: 様 | U11: 9 | W11: ・ | X11: ・ | Z11: 0 | AA11: 沢村 まさえ | AD11: 様
A12: 10 | C12: ・ | D12: ・ | F12: 30 | G12: 佐々木 光政 | J12: 様 | K12: 11 | M12: ・ | N12: ・ | P12: 30 | Q12: 高田 昭彦 | T12: 様 | U12: 12 | W12: ・ | X12: ・ | Z12: 0 | AA12: 石井 佐代子 | AD12: 様
A13: 13 | C13: ・ | D13: ・ | F13: 28 | G13: 秋戸 さおり | J13: 様 | K13: 14 | M13: ・ | N13: ・ | P13: 30 | Q13: 冨田 未歩 | T13: 様 | U13: 15 | W13: ・ | X13: ・ | Z13: 0 | AA13: 坂本 政勝 | AD13: 様
A14: 16 | C14: ・ | D14: ・ | F14: 30 | G14: 西舘 美穂子 | J14: 様 | K14: 17 | M14: ・ | N14: ・ | P14: 28 | Q14: 岩井 純子 | T14: 様 | U14: 18 | W14: ・ | X14: ・ | Z14: 0 | AA14: 渡辺 クニ | AD14: 様
A15: 19 | C15: ・ | D15: ・ | F15: 30 | G15: 増沢 修一 | J15: 様 | K15: 20 | M15: ・ | N15: ・ | P15: 28 | Q15: 長嶺 チエ | T15: 様 | U15: 21 | W15: ・ | X15: ・ | Z15: 0 | AA15: 杉山 博子 | AD15: 様
A16: 22 | C16: ・ | D16: ・ | F16: 30 | G16: 冨田 未歩 | J16: 様 | K16: 23 | M16: ・ | N16: ・ | P16: 30 | Q16: 苅谷 れい子 | T16: 様 | U16: 24 | W16: ・ | X16: ・ | Z16: 0 | AA16: 大木 久子 | AD16: 様
A17: 25 | C17: ・ | D17: ・ | F17: 30 | G17: 山本 キヨ | J17: 様 | K17: 26 | M17: ・ | N17: ・ | P17: 30 | Q17: 種市 典子 | T17: 様 | U17: 27 | W17: ・ | X17: ・ | Z17: 0 | AA17: 千葉 スワ | AD17: 様
A18: 28 | C18: ・ | D18: ・ | F18: 28 | G18: 川村 妙子 | J18: 様 | K18: 29 | M18: ・ | N18: ・ | P18: 60 | Q18: 佐々木 立美 | T18: 様 | U18: 30 | W18: ・ | X18: ・ | Z18: 0 | AA18: 高村 加津子 | AD18: 様
A19: 31 | C19: ・ | D19: ・ | F19: 28 | G19: 林 真紀子 | J19: 様 | K19: 32 | M19: ・ | N19: ・ | P19: 30 | Q19: 畑内 幸子 | T19: 様 | U19: 33 | W19: ・ | X19: ・ | Z19: 0 | AA19: 工藤 健壽 | AD19: 様
A20: 34 | C20: ・ | D20: ・ | F20: 28 | G20: 舩山 ゆかり | J20: 様 | K20: 35 | M20: ・ | N20: ・ | P20: 30 | Q20: 小笠原 とよ | T20: 様 | U20: 36 | W20: ・ | X20: ・ | Z20: 0 | AA20: 瀬川 高雄 | AD20: 様
... A27: 55 | C27: ・ | D27: ・ | F27: 30 | G27: 対馬 穣 | J27: 様 | K27: 56 | M27: ・ | N27: ・ | P27: 28 | Q27: 大森 光城 | T27: 様 | U27: 57 | W27: ・ | X27: ・ | Z27: 0 | AA27: 堤 富美子 | AD27: 様
A28: 58 | C28: ・ | D28: ・ | F28: 30 | G28: 大久保 友樹 | J28: 様 | K28: 59 | M28: ・ | N28: ・ | P28: 30 | Q28: 鶴ケ崎 智香 | T28: 様 | U28: 60 | V28: ・ | X28: ・ | Z28: 0 | AA28: 菅原 千代 | AD28: 様
A29: 61 | C29: ・ | D29: ・ | F29: 30 | G29: 関川 優斗 | J29: 様 | K29: 62 | M29: ・ | N29: ・ | P29: 30 | Q29: 志田 詩音 | T29: 様 | U29: 63 | V29: ・ | X29: ・ | Z29: 0 | AA29: 中岫 武則 | AD29: 様
A30: 64 | C30: ・ | D30: ・ | F30: 30 | G30: 遠藤 侑人 | J30: 様 | K30: 65 | M30: ・ | N30: ・ | P30: 30 | Q30: 古山 瑞拮 | T30: 様 | U30: 66 | AD30: 様
A31: 外来患者数 | E31: 新： | F31: =COUNTIF(B9:B30,"・")+COUNTIF(L9:L30,"・")+COUNTIF(V9:V30,"・") -> 2 | H31: 名 | I31: 再： | J31: =COUNTIF(C9:C30,"・")+COUNTIF(M9:M30,"・")+COUNTIF(W9:W30,"・") -> 63 | L31: 名 | M31: 計： | N31: =SUM(F31:K31) -> 65 | Q31: 名 | R31: （ | S31: 精： | T31: =COUNTIF(D9:D30,"・")+COUNTIF(N9:N30,"・")+COUNTIF(X9:X30,"・") -> 65 | W31: 名 | X31: ・ | Y31: 内： | Z31: =COUNTIF(E9:E30,"・")+COUNTIF(O9:O30,"・")+COUNTIF(Y9:Y30,"・") -> 0 | AC31: 名 | AD31: ）
A33: 紹介患者様氏名 | F33: 紹介先 | K33: 逆紹介患者様氏名 | P33: 紹介元 | U33: 処置実施者 | AA33: 処置内容
E34: 様 | O34: 様 | Z34: 様
A35: 本日の検査 | F35: 検査内容 | K35: 処置実施者 | P35: 処置内容 | Z35: 様
A36: 能登谷 鑑 | E36: 様 | F36: 血液検査 | O36: 様 | Z36: 様
A37: 菅原 千代 | E37: 様 | F37: HDS-R・MMSE | O37: 様 | U37: 点検項目
A38: 中岫 武則 | E38: 様 | F38: HDS-R・MMSE | O38: 様 | U38: 項目 | Z38: 時間 | AC38: 点検者
A39: 発熱 | F39: 下痢 | K39: 風邪薬 | P39: 男性：21 | U39: 医療廃棄物 | Y39: 0.75 | AB39: 柳田 美雪
A40: 0 | F40: 0 | K40: 0 | P40: 女性：44 | U40: 戸締り | Y40: 0.75 | AB40: ='6'!AB41:AD41 -> 松林 久美子
A42: 備考欄 | C42: （連絡事項・処方変更・その他）
G44: 特記なし
G45: 柳田

Sheet 10
B1: クリニック 日 誌 | H1: 令和 | J1: ='6'!J1 -> 3 | K1: 年 | L1: 7 | M1: 月 | N1: 10 | O1: 日 | Q1: （ | S1: ） | V1: COO | Y1: IOO | AB1: AOM
A3: 勤務者名
A4: ='6'!A4:F4 -> 中村 恵理子 | G4: 日 | I4: 柳田 美雪 | N4: 日 | Q4: 診察室 | W4: 外来担当医 | Z4: 外来介助者
A5: 石原 恵海 | G5: 日 | I5: 石谷 美代子 | N5: 欠 | Q5: 第１診察室 | Z5: 柳田・石原
Q6: 第２診察室
B8: 新 | C8: 再 | D8: 精 | E8: 内 | F8: 処 | G8: 患者様氏名 | L8: 新 | M8: 再 | N8: 精 | O8: 内 | P8: 処 | Q8: 患者様氏名 | V8: 新 | W8: 再 | X8: 精 | Y8: 内 | Z8: 処 | AA8: 患者様氏名
A9: 1 | C9: ・ | D9: ・ | J9: 様 | K9: 2 | M9: ・ | N9: ・ | T9: 様 | U9: 3 | W9: ・ | X9: ・ | AD9: 様
A10: 4 | C10: ・ | D10: ・ | J10: 様 | K10: 5 | M10: ・ | N10: ・ | T10: 様 | U10: 6 | W10: ・ | X10: ・ | AD10: 様
A11: 7 | C11: ・ | D11: ・ | J11: 様 | K11: 8 | M11: ・ | N11: ・ | T11: 様 | U11: 9 | W11: ・ | X11: ・ | AD11: 様
A12: 10 | C12: ・ | D12: ・ | J12: 様 | K12: 11 | M12: ・ | N12: ・ | T12: 様 | U12: 12 | W12: ・ | X12: ・ | AD12: 様
A13: 13 | C13: ・ | D13: ・ | J13: 様 | K13: 14 | M13: ・ | N13: ・ | T13: 様 | U13: 15 | W13: ・ | X13: ・ | AD13: 様
A14: 16 | C14: ・ | D14: ・ | J14: 様 | K14: 17 | M14: ・ | N14: ・ | T14: 様 | U14: 18 | W14: ・ | X14: ・ | AD14: 様
A15: 19 | C15: ・ | D15: ・ | J15: 様 | K15: 20 | M15: ・ | N15: ・ | T15: 様 | U15: 21 | W15: ・ | X15: ・ | AD15: 様
A16: 22 | C16: ・ | D16: ・ | J16: 様 | K16: 23 | M16: ・ | N16: ・ | T16: 様 | U16: 24 | W16: ・ | X16: ・ | AD16: 様
A17: 25 | C17: ・ | D17: ・ | J17: 様 | K17: 26 | M17: ・ | N17: ・ | T17: 様 | U17: 27 | W17: ・ | X17: ・ | AD17: 様
A18: 28 | C18: ・ | D18: ・ | J18: 様 | K18: 29 | M18: ・ | N18: ・ | T18: 様 | U18: 30 | W18: ・ | X18: ・ | AD18: 様
A19: 31 | C19: ・ | D19: ・ | J19: 様 | K19: 32 | M19: ・ | N19: ・ | T19: 様 | U19: 33 | W19: ・ | X19: ・ | AD19: 様
A20: 34 | C20: ・ | D20: ・ | J20: 様 | K20: 35 | M20: ・ | N20: ・ | T20: 様 | U20: 36 | W20: ・ | X20: ・ | AD20: 様
A21: 37 | C21: ・ | D21: ・ | J21: 様 | K21: 38 | M21: ・ | N21: ・ | T21: 様 | U21: 39 | W21: ・ | X21: ・ | AD21: 様
A22: 40 | C22: ・ | D22: ・ | J22: 様 | K22: 41 | T22: 様 | U22: 42 | AD22: 様
A23: 43 | C23: ・ | D23: ・ | J23: 様 | K23: 44 | T23: 様 | U23: 45 | AD23: 様
A24: 46 | C24: ・ | D24: ・ | J24: 様 | K24: 47 | T24: 様 | U24: 48 | AD24: 様
A25: 49 | J25: 様 | K25: 50 | T25: 様 | U25: 51 | AD25: 様
A26: 52 | J26: 様 | K26: 53 | T26: 様 | U26: 54 | AD26: 様
A27: 55 | J27: 様 | K27: 56 | T27: 様 | U27: 57 | AD27: 様
A28: 58 | J28: 様 | K28: 59 | T28: 様 | U28: 60 | AD28: 様
A29: 61 | J29: 様 | K29: 62 | T29: 様 | U29: 63 | AD29: 様
A30: 64 | J30: 様 | K30: 65 | T30: 様 | U30: 66 | AD30: 様
A31: 67 | J31: 様 | K31: 68 | T31: 様 | U31: 69 | AD31: 様
A32: 70 | J32: 様 | K32: 71 | T32: 様 | U32: 72 | AD32: 様
A33: 73 | J33: 様 | K33: 74 | T33: 様 | U33: 75 | AD33: 様
A34: 外来患者数 | E34: 新： | F34: =COUNTIF(B9:B33,"・")+COUNTIF(L9:L33,"・")+COUNTIF(V9:V33,"・") -> 0 | H34: 名 | I34: 再： | J34: =COUNTIF(C9:C33,"・")+COUNTIF(M9:M33,"・")+COUNTIF(W9:W33,"・") -> 42 | L34: 名 | M34: 計： | N34: =SUM(F34:K34) -> 42 | Q34: 名 | R34: （ | S34: 精： | T34: =COUNTIF(D9:D33,"・")+COUNTIF(N9:N33,"・")+COUNTIF(X9:X33,"・") -> 42 | W34: 名 | X34: ・ | Y34: 内： | Z34: =COUNTIF(E9:E33,"・")+COUNTIF(O9:O33,"・")+COUNTIF(Y9:Y33,"・") -> 0 | AC34: 名 | AD34: ）
A36: 紹介患者様氏名 | F36: 紹介先 | K36: 逆紹介患者様氏名 | P36: 紹介元 | U36: 処置実施者 | AA36: 処置内容
E37: 様 | O37: 様 | Z37: 様
E38: 様 | O38: 様 | Z38: 様
E39: 様 | O39: 様 | Z39: 様
E40: 様 | O40: 様 | Z40: 様
E41: 様 | O41: 様 | Z41: 様
A42: 本日の検査 | F42: 検査内容 | K42: 処置実施者 | P42: 処置内容 | Z42: 様
E43: 様 | Z43: 様
E44: 様 | O44: 様 | Z44: 様
E45: 様 | O45: 様 | Z45: 様
E46: 様 | O46: 様 | U46: 点検項目
E47: 様 | O47: 様 | U47: 項目 | Z47: 時間 | AC47: 点検者
A48: 発熱 | F48: 下痢 | K48: 風邪薬 | P48: 男性： | U48: 医療廃棄物 | Y48: 0.75
A49: 0 | F49: 0 | K49: 0 | P49: 女性： | U49: 戸締り | Y49: 0.75 | AB49: ='6'!AB41:AD41 -> 松林 久美子
A51: 備考欄 | C51: （連絡事項・処方変更・その他）

Sheet 11
B1: クリニック 日 誌 | H1: 令和 | J1: ='6'!J1 -> 3 | K1: 年 | L1: 7 | M1: 月 | N1: 11 | O1: 日 | Q1: （ | S1: ） | V1: COO | Y1: IOO | AB1: AOM
A3: 勤務者名
A4: ='6'!A4:F4 -> 中村 恵理子 | G4: 日 | I4: 柳田 美雪 | N4: 日 | Q4: 診察室 | W4: 外来担当医 | Z4: 外来介助者
A5: 石原 恵海 | G5: 日 | I5: 石谷 美代子 | N5: 欠 | Q5: 第１診察室 | Z5: 柳田・石原
A6: 鳴海 彩香 | G6: 日 | Q6: 第２診察室
B8: 新 | C8: 再 | D8: 精 | E8: 内 | F8: 処 | G8: 患者様氏名 | L8: 新 | M8: 再 | N8: 精 | O8: 内 | P8: 処 | Q8: 患者様氏名 | V8: 新 | W8: 再 | X8: 精 | Y8: 内 | Z8: 処 | AA8: 患者様氏名
A9: 1 | C9: ・ | D9: ・ | K9: 2 | M9: ・ | N9: ・ | T9: 様 | U9: 3 | W9: ・ | X9: ・ | AD9: 様
A10: 4 | K10: 5 | M10: ・ | N10: ・ | T10: 様 | U10: 6 | W10: ・ | X10: ・ | AD10: 様
A11: 7 | K11: 8 | M11: ・ | N11: ・ | T11: 様 | U11: 9 | W11: ・ | X11: ・ | AD11: 様
A12: 10 | K12: 11 | M12: ・ | N12: ・ | T12: 様 | U12: 12 | W12: ・ | X12: ・ | AD12: 様
A13: 13 | K13: 14 | M13: ・ | N13: ・ | T13: 様 | U13: 15 | W13: ・ | X13: ・ | AD13: 様
A14: 16 | K14: 17 | M14: ・ | N14: ・ | T14: 様 | U14: 18 | W14: ・ | X14: ・ | AD14: 様
A15: 19 | K15: 20 | M15: ・ | N15: ・ | T15: 様 | U15: 21 | W15: ・ | X15: ・ | AD15: 様
A16: 22 | K16: 23 | M16: ・ | N16: ・ | T16: 様 | U16: 24 | W16: ・ | X16: ・ | AD16: 様
A17: 25 | K17: 26 | M17: ・ | N17: ・ | T17: 様 | U17: 27 | W17: ・ | X17: ・ | AD17: 様
A18: 28 | K18: 29 | M18: ・ | N18: ・ | T18: 様 | U18: 30 | W18: ・ | X18: ・ | AD18: 様
A19: 31 | K19: 32 | M19: ・ | N19: ・ | T19: 様 | U19: 33 | W19: ・ | X19: ・ | AD19: 様
A20: 34 | K20: 35 | M20: ・ | N20: ・ | T20: 様 | U20: 36 | W20: ・ | X20: ・ | AD20: 様
A21: 37 | K21: 38 | M21: ・ | N21: ・ | T21: 様 | U21: 39 | W21: ・ | X21: ・ | AD21: 様
A22: 40 | K22: 41 | T22: 様 | U22: 42 | AD22: 様
A23: 43 | K23: 44 | T23: 様 | U23: 45 | AD23: 様
A24: 46 | K24: 47 | T24: 様 | U24: 48 | AD24: 様
A25: 49 | K25: 50 | T25: 様 | U25: 51 | AD25: 様
A26: 52 | J26: 様 | K26: 53 | T26: 様 | U26: 54 | AD26: 様
A27: 55 | J27: 様 | K27: 56 | T27: 様 | U27: 57 | AD27: 様
A28: 58 | J28: 様 | K28: 59 | T28: 様 | U28: 60 | AD28: 様
A29: 61 | J29: 様 | K29: 62 | T29: 様 | U29: 63 | AD29: 様
A30: 64 | J30: 様 | K30: 65 | T30: 様 | U30: 66 | AD30: 様
A31: 67 | J31: 様 | K31: 68 | T31: 様 | U31: 69 | AD31: 様
A32: 70 | J32: 様 | K32: 71 | T32: 様 | U32: 72 | AD32: 様
A33: 73 | J33: 様 | K33: 74 | T33: 様 | U33: 75 | AD33: 様
A34: 外来患者数 | E34: 新： | F34: =COUNTIF(B9:B33,"・")+COUNTIF(L9:L33,"・")+COUNTIF(V9:V33,"・") -> 0 | H34: 名 | I34: 再： | J34: =COUNTIF(C9:C33,"・")+COUNTIF(M9:M33,"・")+COUNTIF(W9:W33,"・") -> 27 | L34: 名 | M34: 計： | N34: =SUM(F34:K34) -> 27 | Q34: 名 | R34: （ | S34: 精： | T34: =COUNTIF(D9:D33,"・")+COUNTIF(N9:N33,"・")+COUNTIF(X9:X33,"・") -> 27 | W34: 名 | X34: ・ | Y34: 内： | Z34: =COUNTIF(E9:E33,"・")+COUNTIF(O9:O33,"・")+COUNTIF(Y9:Y33,"・") -> 0 | AC34: 名 | AD34: ）
A36: 紹介患者様氏名 | F36: 紹介先 | K36: 逆紹介患者様氏名 | P36: 紹介元 | U36: 処置実施者 | AA36: 処置内容
E37: 様 | O37: 様 | Z37: 様
E38: 様 | O38: 様 | Z38: 様
E39: 様 | O39: 様 | Z39: 様
E40: 様 | O40: 様 | Z40: 様
E41: 様 | O41: 様 | Z41: 様
A42: 本日の検査 | F42: 検査内容 | K42: 処置実施者 | P42: 処置内容 | Z42: 様
E43: 様 | Z43: 様
E44: 様 | Z44: 様
E45: 様 | O45: 様 | Z45: 様
E46: 様 | O46: 様 | U46: 点検項目
E47: 様 | O47: 様 | U47: 項目 | Z47: 時間 | AC47: 点検者
A48: 発熱 | F48: 下痢 | K48: 風邪薬 | P48: 男性： | U48: 医療廃棄物 | Y48: 0.75
A49: 0 | F49: 0 | K49: 0 | P49: 女性： | U49: 戸締り | Y49: 0.75 | AB49: ='6'!AB41:AD41 -> 松林 久美子
A51: 備考欄 | C51: （連絡事項・処方変更・その他）

Sheet 12
B1: クリニック 日 誌 | H1: 令和 | J1: ='6'!J1 -> 3 | K1: 年 | L1: 7 | M1: 月 | N1: 12 | O1: 日 | Q1: （ | R1: 月 | S1: ） | V1: COO | Y1: IOO | AB1: AOM
A3: 勤務者名
A4: ='6'!A4:F4 -> 中村 恵理子 | G4: 日 | I4: 柳田 美雪 | N4: 日 | Q4: 診察室 | W4: 外来担当医 | Z4: 外来介助者
A5: 石原 恵海 | G5: 日 | I5: 石谷 美代子 | N5: 欠 | Q5: 第１診察室 | U5: 馬渡 晃弘 | Z5: 石原
A6: 鳴海 彩香 | G6: 日 | I6: ='9'!I6:M6 -> 松林 久美子 | N6: 日 | Q6: 第２診察室 | U6: 坂田 優 | Z6: 柳田・石原
B8: 新 | C8: 再 | D8: 精 | E8: 内 | F8: 処 | G8: 患者様氏名 | L8: 新 | M8: 再 | N8: 精 | O8: 内 | P8: 処 | Q8: 患者様氏名 | V8: 新 | W8: 再 | X8: 精 | Y8: 内 | Z8: 処 | AA8: 患者様氏名
A9: 1 | C9: ・ | E9: ・ | F9: 7 | G9: 中川 誠一 | J9: 様 | K9: 2 | M9: ・ | N9: ・ | P9: 28 | Q9: 大森 光江 | T9: 様 | U9: 3 | W9: ・ | X9: ・ | Z9: 0 | AA9: 高村 加津子 | AD9: 様
A10: 4 | C10: ・ | D10: ・ | F10: 56 | G10: 和田 ハルエ | J10: 様 | K10: 5 | M10: ・ | N10: ・ | P10: 28 | Q10: 沼山 明 | T10: 様 | U10: 6 | W10: ・ | X10: ・ | Z10: 0 | AA10: 綿貫 啓子 | AD10: 様
A11: 7 | C11: ・ | D11: ・ | F11: 21 | G11: MUSE JARRA | J11: 様 | K11: 8 | M11: ・ | N11: ・ | P11: 56 | Q11: 小笠原 諒 | T11: 様 | U11: 9 | W11: ・ | X11: ・ | Z11: 0 | AA11: 沼端 ミセ | AD11: 様
A12: 10 | C12: ・ | D12: ・ | F12: 56 | G12: 織笠 政志 | J12: 様 | K12: 11 | M12: ・ | N12: ・ | P12: 56 | Q12: 石川 ひと美 | T12: 様 | U12: 12 | W12: ・ | X12: ・ | Z12: 0 | AA12: 瀬川 高雄 | AD12: 様
A13: 13 | C13: ・ | D13: ・ | F13: 35 | G13: 田中 成典 | J13: 様 | K13: 14 | M13: ・ | N13: ・ | P13: 28 | Q13: 蛯名 静子 | T13: 様 | U13: 15 | W13: ・ | X13: ・ | Z13: 0 | AA13: 深町 栄美子 | AD13: 様
A14: 16 | C14: ・ | D14: ・ | F14: 56 | G14: 是川 次友 | J14: 様 | K14: 17 | M14: ・ | N14: ・ | P14: 28 | Q14: 林 礼子 | T14: 様 | U14: 18 | W14: ・ | X14: ・ | Z14: 0 | AA14: 萠出 克治 | AD14: 様
A15: 19 | C15: ・ | D15: ・ | F15: 56 | G15: 新田 節子 | J15: 様 | K15: 20 | M15: ・ | N15: ・ | P15: 28 | Q15: 割澤 夏子 | T15: 様 | U15: 21 | W15: ・ | X15: ・ | Z15: 0 | AA15: 萠出 きのゑ | AD15: 様
A16: 22 | C16: ・ | D16: ・ | F16: 28 | G16: 澤谷 翔太 | J16: 様 | K16: 23 | M16: ・ | N16: ・ | P16: 56 | Q16: 大下内 英子 | T16: 様 | U16: 24 | W16: ・ | X16: ・ | Z16: 0 | AA16: 杉山 博子 | AD16: 様
A17: 25 | C17: ・ | E17: ・ | F17: 35 | G17: 山本 優 | J17: 様 | K17: 26 | M17: ・ | N17: ・ | P17: 28 | Q17: 駒形 克斗 | T17: 様 | U17: 27 | W17: ・ | X17: ・ | Z17: 0 | AA17: 山口 瑛子 | AD17: 様
A18: 28 | C18: ・ | D18: ・ | F18: 56 | G18: 鶴居 イソ | J18: 様 | K18: 29 | M18: ・ | N18: ・ | P18: 56 | Q18: 安田 早苗 | T18: 様 | U18: 30 | W18: ・ | X18: ・ | Z18: 0 | AA18: 坂本 政勝 | AD18: 様
A19: 31 | C19: ・ | D19: ・ | F19: 14 | G19: 遠嶋 剛 | J19: 様 | K19: 32 | M19: ・ | N19: ・ | P19: 28 | Q19: 星 歩 | T19: 様 | U19: 33 | W19: ・ | X19: ・ | Z19: 0 | AA19: 工藤 健壽 | AD19: 様
A20: 34 | C20: ・ | D20: ・ | F20: 14 | G20: 大西 真紀子 | J20: 様 | K20: 35 | M20: ・ | N20: ・ | P20: 28 | Q20: 星 幸 | T20: 様 | U20: 36 | W20: ・ | X20: ・ | Z20: 0 | AA20: 藤田 絢三 | AD20: 様
A21: 37 | C21: ・ | D21: ・ | F21: 20 | G21: 酒井 昌子 | J21: 様 | K21: 38 | M21: ・ | N21: ・ | P21: 56 | Q21: 鈴木 康真 | T21: 様 | U21: 39 | W21: ・ | X21: ・ | Z21: 0 | AA21: 相田 敏子 | AD21: 様
A22: 40 | C22: ・ | D22: ・ | E22: ・ | F22: 28 | G22: 土岐 文江 | J22: 様 | K22: 41 | L22: ・ | N22: ・ | P22: 28 | Q22: 鏡 千春 | T22: 様 | U22: 42 | W22: ・ | X22: ・ | Z22: 0 | AA22: 渡辺 クニ | AD22: 様
A23: 43 | C23: ・ | D23: ・ | F23: 21 | G23: 種市 慶子 | J23: 様 | K23: 44 | M23: ・ | N23: ・ | P23: 28 | Q23: 蛯名 亜果音 | T23: 様 | U23: 45 | W23: ・ | X23: ・ | Z23: 30 | AA23: 藤原 光子 | AD23: 様
A24: 46 | C24: ・ | D24: ・ | F24: 21 | G24: 川村 武史 | J24: 様 | K24: 47 | M24: ・ | N24: ・ | P24: 28 | Q24: 工藤 敏子 | T24: 様 | U24: 48 | W24: ・ | X24: ・ | Z24: 0 | AA24: 藪 真弓 | AD24: 様
A25: 49 | C25: ・ | D25: ・ | F25: 14 | G25: 小原 哲哉 | J25: 様 | K25: 50 | M25: ・ | N25: ・ | P25: 28 | Q25: 沼山 詩織 | T25: 様 | U25: 51 | V25: ・ | Y25: ・ | Z25: 0 | AA25: 小比券巻 均 | AD25: 様
A26: 52 | C26: ・ | D26: ・ | F26: 30 | G26: 乙部 孝太 | J26: 様 | K26: 53 | M26: ・ | N26: ・ | P26: 30 | Q26: 野澤 杏里 | T26: 様 | U26: 54 | W26: ・ | X26: ・ | Z26: 30 | AA26: 小泉 秀賢 | AD26: 様
A27: 55 | C27: ・ | D27: ・ | F27: 30 | G27: 樋口 敦也 | J27: 様 | K27: 56 | M27: ・ | N27: ・ | P27: 30 | Q27: 竹内 愛翔 | T27: 様 | U27: 57 | W27: ・ | X27: ・ | Z27: 0 | AA27: 奈良 涼花 | AD27: 様
A28: 58 | C28: ・ | D28: ・ | F28: 30 | G28: 水上 楓稀 | J28: 様 | K28: 59 | M28: ・ | N28: ・ | P28: 30 | Q28: 井石 大雅 | T28: 様 | U28: 60 | W28: ・ | X28: ・ | Z28: 30 | AA28: 佐々木 晴香 | AD28: 様
A29: 61 | C29: ・ | D29: ・ | F29: 60 | G29: 指田 日菜子 | J29: 様 | K29: 62 | M29: ・ | N29: ・ | P29: 28 | Q29: 狩野 智 | T29: 様 | U29: 63 | V29: ・ | Y29: ・ | Z29: 30 | AA29: 隈本 トミ子 | AD29: 様
A30: 64 | C30: ・ | D30: ・ | F30: 0 | G30: 立花 幸子 | J30: 様 | K30: 65 | T30: 様 | U30: 66 | AD30: 様
A31: 外来患者数 | E31: 新： | F31: =COUNTIF(B9:B30,"・")+COUNTIF(L9:L30,"・")+COUNTIF(V9:V30,"・") -> 3 | H31: 名 | I31: 再： | J31: =COUNTIF(C9:C30,"・")+COUNTIF(M9:M30,"・")+COUNTIF(W9:W30,"・") -> 61 | L31: 名 | M31: 計： | N31: =SUM(F31:K31) -> 64 | Q31: 名 | R31: （ | S31: 精： | T31: =COUNTIF(D9:D30,"・")+COUNTIF(N9:N30,"・")+COUNTIF(X9:X30,"・") -> 60 | W31: 名 | X31: ・ | Y31: 内： | Z31: =COUNTIF(E9:E30,"・")+COUNTIF(O9:O30,"・")+COUNTIF(Y9:Y30,"・") -> 5 | AC31: 名 | AD31: ）
A33: 紹介患者様氏名 | F33: 紹介先 | K33: 逆紹介患者様氏名 | P33: 紹介元 | U33: 処置実施者 | AA33: 処置内容
E34: 様 | K34: 鏡 千春 | O34: 様 | P34: さっぽろ心療内科CL | Z34: 様
A35: 本日の検査 | F35: 検査内容 | K35: 処置実施者 | P35: 処置内容 | Z35: 様
A36: 是川 次友 | E36: 様 | F36: 血液検査 | O36: 様 | Z36: 様
A37: 新田 節子 | E37: 様 | F37: 血液検査 | O37: 様 | Z37: 様
A38: 土岐 文江 | E38: 様 | F38: 血液検査 | O38: 様 | Z38: 様
A39: 立花 幸子 | E39: 様 | F39: WAIS | O39: 様 | U39: 点検項目
A40: 隈本 トミ子 | E40: 様 | F40: 血液検査 ECG | O40: 様 | U40: 項目 | Z40: 時間 | AC40: 点検者
A41: 発熱 | F41: 下痢 | K41: 風邪薬 | P41: 男性：28 | U41: 医療廃棄物 | Y41: 0.75 | AB41: 石原 恵海
A42: 0 | F42: 0 | K42: 0 | P42: 女性：36 | U42: 戸締り | Y42: 0.75 | AB42: 中村 恵理子
A44: 備考欄 | C44: （連絡事項・処方変更・その他）
A46: 小比券巻 均（67） | G46: R3年1月より体調不良だったが病院に出向かず様子を見ていた。独居。
A47: （新患・内科） | G47: 法事で姉と会い、姉に説得され当院内科受診。
G48: 下肢浮腫・胸痛・呼吸困難あり。三沢市立病院より要請で救急車にて搬送される。
G49: 石原

Sheet 13
B1: クリニック 日 誌 | H1: 令和 | J1: ='6'!J1 -> 3 | K1: 年 | L1: 7 | M1: 月 | N1: 13 | O1: 日 | Q1: （ | R1: 火 | S1: ） | V1: COO | Y1: IOO | AB1: AOM
A3: 勤務者名
A4: ='6'!A4:F4 -> 中村 恵理子 | G4: 日 | I4: 柳田 美雪 | N4: 有 | Q4: 診察室 | W4: 外来担当医 | Z4: 外来介助者
A5: 石原 恵海 | G5: 日 | I5: 石谷 美代子 | N5: 欠 | Q5: 第１診察室 | U5: 千葉 潜 | Z5: 恵谷・石原
A6: 鳴海 彩香 | G6: 日 | I6: ='9'!I6:M6 -> 松林 久美子 | N6: 日 | Q6: 第２診察室 | U6: 坂田 優 | Z6: 石原
B8: 新 | C8: 再 | D8: 精 | E8: 内 | F8: 処 | G8: 患者様氏名 | L8: 新 | M8: 再 | N8: 精 | O8: 内 | P8: 処 | Q8: 患者様氏名 | V8: 新 | W8: 再 | X8: 精 | Y8: 内 | Z8: 処 | AA8: 患者様氏名
A9: 1 | C9: ・ | D9: ・ | F9: 42 | G9: 作田 由美子 | J9: 様 | K9: 2 | L9: ・ | N9: ・ | P9: 0 | Q9: 小杉 匠 | T9: 様 | U9: 3 | W9: ・ | X9: ・ | Z9: 0 | AA9: 石井 佐代子 | AD9: 様
A10: 4 | C10: ・ | E10: ・ | F10: 0 | G10: 上岡 慶子 | J10: 様 | K10: 5 | M10: ・ | N10: ・ | P10: 56 | Q10: 木村 久子 | T10: 様 | U10: 6 | W10: ・ | X10: ・ | Z10: 0 | AA10: 綿貫 啓子 | AD10: 様
A11: 7 | C11: ・ | E11: ・ | F11: 0 | G11: 大平 美武 | J11: 様 | K11: 8 | M11: ・ | N11: ・ | P11: 28 | Q11: 大森 まみ | T11: 様 | U11: 9 | W11: ・ | X11: ・ | Z11: 0 | AA11: 藤田 絢三 | AD11: 様
A12: 10 | C12: ・ | D12: ・ | F12: 28 | G12: 関川 睦子 | J12: 様 | K12: 11 | M12: ・ | N12: ・ | P12: 28 | Q12: 箕輪 麻紀子 | T12: 様 | U12: 12 | W12: ・ | X12: ・ | Z12: 0 | AA12: 萠出 きのゑ | AD12: 様
A13: 13 | C13: ・ | D13: ・ | F13: 28 | G13: 笹森 綾香 | J13: 様 | K13: 14 | M13: ・ | N13: ・ | P13: 28 | Q13: 荻野 健太郎 | T13: 様 | U13: 15 | W13: ・ | X13: ・ | Z13: 0 | AA13: 萠出 克治 | AD13: 様
A14: 16 | C14: ・ | D14: ・ | F14: 28 | G14: 小橋 裕見子 | J14: 様 | K14: 17 | M14: ・ | N14: ・ | P14: 28 | Q14: 倉舘 トワ | T14: 様 | U14: 18 | W14: ・ | X14: ・ | Z14: 0 | AA14: 山口 瑛子 | AD14: 様
A15: 19 | C15: ・ | D15: ・ | F15: 56 | G15: 村岡 述夫 | J15: 様 | K15: 20 | M15: ・ | N15: ・ | P15: 28 | Q15: 沼田 トキ | T15: 様 | U15: 21 | W15: ・ | X15: ・ | Z15: 0 | AA15: 杉本 香奈子 | AD15: 様
A16: 22 | C16: ・ | D16: ・ | F16: 28 | G16: 高根 あつ子 | J16: 様 | K16: 23 | M16: ・ | N16: ・ | P16: 14 | Q16: 新堂 一彦 | T16: 様 | U16: 24 | W16: ・ | X16: ・ | Z16: 0 | AA16: 甲地 高志 | AD16: 様
A17: 25 | C17: ・ | D17: ・ | F17: 14 | G17: 小比券巻 由美 | J17: 様 | K17: 26 | M17: ・ | N17: ・ | P17: 28 | Q17: 張田 智恵子 | T17: 様 | U17: 27 | W17: ・ | X17: ・ | Z17: 0 | AA17: 高村 加津子 | AD17: 様
A18: 28 | C18: ・ | D18: ・ | F18: 56 | G18: 田村 とよ | J18: 様 | K18: 29 | M18: ・ | N18: ・ | P18: 30 | Q18: 小向 忍 | T18: 様 | U18: 30 | V18: ・ | X18: ・ | Z18: 14 | AA18: 橋本 オシエ | AD18: 様
A19: 31 | C19: ・ | D19: ・ | F19: 28 | G19: 三浦 年男 | J19: 様 | K19: 32 | M19: ・ | N19: ・ | P19: 28 | Q19: 大木 久子 | T19: 様 | U19: 33 | W19: ・ | X19: ・ | Z19: 0 | AA19: 坂本 政勝 | AD19: 様
A20: 34 | C20: ・ | D20: ・ | F20: 28 | G20: 島貫 香央里 | J20: 様 | K20: 35 | M20: ・ | N20: ・ | P20: 28 | Q20: 室山 外志高 | T20: 様 | U20: 36 | W20: ・ | X20: ・ | Z20: 0 | AA20: 田口 トシ子 | AD20: 様
A21: 37 | C21: ・ | D21: ・ | F21: 7 | G21: 奥寺 真理子 | J21: 様 | K21: 38 | M21: ・ | N21: ・ | P21: 42 | Q21: 三瓶 政行 | T21: 様 | U21: 39 | W21: ・ | X21: ・ | Z21: 0 | AA21: 酒田 朋紀 | AD21: 様
A22: 40 | C22: ・ | D22: ・ | F22: 42 | G22: 蛯名 忍 | J22: 様 | K22: 41 | M22: ・ | N22: ・ | P22: 28 | Q22: 馬場 悠 | T22: 様 | U22: 42 | W22: ・ | X22: ・ | Z22: 0 | AA22: 中居 敬悦 | AD22: 様
A23: 43 | C23: ・ | D23: ・ | F23: 14 | G23: 佐々木 七海 | J23: 様 | K23: 44 | M23: ・ | N23: ・ | P23: 28 | Q23: 河村 幸祐 | T23: 様 | U23: 45 | W23: ・ | X23: ・ | Z23: 0 | AA23: 水上 民一 | AD23: 様
A24: 46 | C24: ・ | D24: ・ | F24: 28 | G24: 渡辺 美歌子 | J24: 様 | K24: 47 | M24: ・ | N24: ・ | P24: 30 | Q24: 小坂 和美 | T24: 様 | U24: 48 | W24: ・ | X24: ・ | Z24: 0 | AA24: 柏木 新菜 | AD24: 様
A25: 49 | C25: ・ | D25: ・ | F25: 14 | G25: 中田 真紀 | J25: 様 | K25: 50 | M25: ・ | N25: ・ | P25: 7 | Q25: 高橋 稚波 | T25: 様 | U25: 51 | W25: ・ | X25: ・ | Z25: 21 | AA25: 蒔田 輝美 | AD25: 様
A26: 52 | C26: ・ | D26: ・ | F26: 28 | G26: 関川 節 | J26: 様 | K26: 53 | M26: ・ | N26: ・ | P26: 28 | Q26: 岩舘 タツ | T26: 様 | U26: 54 | W26: ・ | X26: ・ | Z26: 28 | AA26: 蛯名 由香子 | AD26: 様
A27: 55 | C27: ・ | D27: ・ | F27: 14 | G27: 下田 マリ子 | J27: 様 | K27: 56 | M27: ・ | N27: ・ | P27: 28 | Q27: 相田 敏子 | T27: 様 | U27: 57 | W27: ・ | X27: ・ | Z27: 28 | AA27: 対馬 まき子 | AD27: 様 | AG27: 61
A28: 58 | C28: ・ | D28: ・ | F28: 28 | G28: 冨田 勝政 | J28: 様 | K28: 59 | M28: ・ | N28: ・ | P28: 42 | Q28: 沼岡 和子 | T28: 様 | U28: 60 | W28: ・ | X28: ・ | Z28: 7 | AA28: 山岡 裕花 | AD28: 様
A29: 61 | C29: ・ | D29: ・ | F29: 0 | G29: 類家 つさ | J29: 様 | K29: 62 | T29: 様 | U29: 63 | AD29: 様
A30: 外来患者数 | E30: 新： | F30: =COUNTIF(B9:B29,"・")+COUNTIF(L9:L29,"・")+COUNTIF(V9:V29,"・") -> 2 | H30: 名 | I30: 再： | J30: =COUNTIF(C9:C29,"・")+COUNTIF(M9:M29,"・")+COUNTIF(W9:W29,"・") -> 59 | L30: 名 | M30: 計： | N30: =SUM(F30:K30) -> 61 | Q30: 名 | R30: （ | S30: 精： | T30: =COUNTIF(D9:D29,"・")+COUNTIF(N9:N29,"・")+COUNTIF(X9:X29,"・") -> 59 | W30: 名 | X30: ・ | Y30: 内： | Z30: =COUNTIF(E9:E29,"・")+COUNTIF(O9:O29,"・")+COUNTIF(Y9:Y29,"・") -> 2 | AC30: 名 | AD30: ）
A32: 紹介患者様氏名 | F32: 紹介先 | K32: 逆紹介患者様氏名 | P32: 紹介元 | U32: 処置実施者 | AA32: 処置内容
A33: 類家 つさ | E33: 様 | F33: 青南病院 | K33: 橋本 オシエ | O33: 様 | P33: 六ヶ所村家庭地域医療センター | Z33: 様
A34: 笹森 綾香 | E34: 様 | F34: 弘前あすなろメンタルクリニック | O34: 様 | Z34: 様
A35: 本日の検査 | F35: 検査内容 | K35: 処置実施者 | P35: 処置内容 | Z35: 様
A36: 大平 美武 | E36: 様 | F36: 血液検査 | O36: 様 | Z36: 様
A37: 室山 外志高 | E37: 様 | F37: 血液検査 | O37: 様 | Z37: 様
A38: 甲地 高志 | E38: 様 | F38: WAIS | O38: 様 | U38: 点検項目
A39: 柏木 新菜 | E39: 様 | F39: 風景 | O39: 様 | U39: 項目 | Z39: 時間 | AC39: 点検者
A40: 発熱 | F40: 下痢 | K40: 風邪薬 | P40: 男性：19 | U40: 医療廃棄物 | Y40: 0.75 | AB40: 石原 恵海
A41: 0 | F41: 0 | K41: 0 | P41: 女性：42 | U41: 戸締り | Y41: 0.75 | AB41: 中村 恵理子
A43: 備考欄 | C43: （連絡事項・処方変更・その他）
G44: 特になし
G45: 石原

Sheet 14
B1: クリニック 日 誌 | H1: 令和 | J1: ='6'!J1 -> 3 | K1: 年 | L1: 7 | M1: 月 | N1: 14 | O1: 日 | Q1: （ | R1: 水 | S1: ） | V1: COO | Y1: IOO | AB1: AOM
A3: 勤務者名
A4: ='6'!A4:F4 -> 中村 恵理子 | G4: 日 | I4: 柳田 美雪 | N4: 有 | Q4: 診察室 | W4: 外来担当医 | Z4: 外来介助者
A5: 石原 恵海 | G5: 日 | I5: 石谷 美代子 | N5: 欠 | Q5: 第１診察室 | U5: 千葉 潜 | Z5: 石原
A6: 鳴海 彩香 | G6: 日 | I6: ='9'!I6:M6 -> 松林 久美子 | N6: 日 | Q6: 第２診察室 | U6: 坂田 優 | Z6: 石原
B8: 新 | C8: 再 | D8: 精 | E8: 内 | F8: 処 | G8: 患者様氏名 | L8: 新 | M8: 再 | N8: 精 | O8: 内 | P8: 処 | Q8: 患者様氏名 | V8: 新 | W8: 再 | X8: 精 | Y8: 内 | Z8: 処 | AA8: 患者様氏名
A9: 1 | C9: ・ | D9: ・ | F9: 30 | G9: 小林 きよ | J9: 様 | K9: 2 | M9: ・ | N9: ・ | P9: 60 | Q9: 浪岡 ミヤ | T9: 様 | U9: 3 | W9: ・ | X9: ・ | Z9: 28 | AA9: 山本 伸子 | AD9: 様
A10: 4 | B10: ・ | E10: ・ | F10: 0 | G10: 山本 キヨ | J10: 様 | K10: 5 | M10: ・ | N10: ・ | P10: 90 | Q10: 新堂 マツ | T10: 様 | U10: 6 | W10: ・ | X10: ・ | Z10: 28 | AA10: 深町 栄美子 | AD10: 様
A11: 7 | C11: ・ | D11: ・ | F11: 56 | G11: 和田 成人 | J11: 様 | K11: 8 | M11: ・ | N11: ・ | P11: 35 | Q11: 清水 奈緒美 | T11: 様 | U11: 9 | W11: ・ | X11: ・ | Z11: 28 | AA11: 豊川 洋子 | AD11: 様
A12: 10 | C12: ・ | D12: ・ | F12: 28 | G12: 戸田 文子 | J12: 様 | K12: 11 | M12: ・ | N12: ・ | P12: 14 | Q12: 角 茜莉 | T12: 様 | U12: 12 | W12: ・ | X12: ・ | Z12: 0 | AA12: 沼端 ミセ | AD12: 様
A13: 13 | C13: ・ | D13: ・ | F13: 30 | G13: 向井 ヒロ子 | J13: 様 | K13: 14 | M13: ・ | N13: ・ | P13: 45 | Q13: 中野渡 ツエ | T13: 様 | U13: 15 | W13: ・ | X13: ・ | Z13: 0 | AA13: 萠出 克治 | AD13: 様
A14: 16 | C14: ・ | E14: ・ | F14: 0 | G14: 大平 美武 | J14: 様 | K14: 17 | M14: ・ | N14: ・ | P14: 30 | Q14: 赤川 美紀 | T14: 様 | U14: 18 | W14: ・ | X14: ・ | Z14: 0 | AA14: 萠出 きのゑ | AD14: 様
A15: 19 | C15: ・ | D15: ・ | F15: 42 | G15: 葛西 瑛 | J15: 様 | K15: 20 | M15: ・ | N15: ・ | P15: 28 | Q15: 成田 尚子 | T15: 様 | U15: 21 | W15: ・ | X15: ・ | Z15: 0 | AA15: 山口 瑛子 | AD15: 様
A16: 22 | C16: ・ | D16: ・ | F16: 14 | G16: 土井 美保 | J16: 様 | K16: 23 | M16: ・ | N16: ・ | P16: 60 | Q16: 板川 京子 | T16: 様 | U16: 24 | W16: ・ | X16: ・ | Z16: 0 | AA16: 瀬川 高雄 | AD16: 様
A17: 25 | C17: ・ | D17: ・ | F17: 30 | G17: 附田 優子 | J17: 様 | K17: 26 | M17: ・ | N17: ・ | P17: 30 | Q17: 若林 靖子 | T17: 様 | U17: 27 | W17: ・ | X17: ・ | Z17: 28 | AA17: 石ケ谷 數子 | AD17: 様
A18: 28 | C18: ・ | D18: ・ | F18: 60 | G18: 衣川 幸子 | J18: 様 | K18: 29 | M18: ・ | N18: ・ | P18: 60 | Q18: 塚田 敏子 | T18: 様 | U18: 30 | W18: ・ | X18: ・ | Z18: 0 | AA18: 工藤 健壽 | AD18: 様
A19: 31 | C19: ・ | D19: ・ | F19: 28 | G19: 中村 としゑ | J19: 様 | K19: 32 | M19: ・ | N19: ・ | P19: 30 | Q19: 佐々木 政夫 | T19: 様 | U19: 33 | W19: ・ | X19: ・ | Z19: 0 | AA19: 高村 加津子 | AD19: 様
A20: 34 | C20: ・ | D20: ・ | F20: 25 | G20: 山本 金雄 | J20: 様 | K20: 35 | M20: ・ | N20: ・ | P20: 29 | Q20: 深澤 光良 | T20: 様 | U20: 36 | W20: ・ | X20: ・ | Z20: 0 | AA20: 藤田 絢三 | AD20: 様
A21: 37 | C21: ・ | D21: ・ | F21: 28 | G21: 竹内 くみ子 | J21: 様 | K21: 38 | M21: ・ | N21: ・ | P21: 29 | Q21: 深澤 友子 | T21: 様 | U21: 39 | W21: ・ | X21: ・ | Z21: 0 | AA21: 杉山 博子 | AD21: 様
A22: 40 | C22: ・ | D22: ・ | F22: 42 | G22: 田中 千秋 | J22: 様 | K22: 41 | M22: ・ | N22: ・ | P22: 28 | Q22: 神田 輝子 | T22: 様 | U22: 42 | W22: ・ | X22: ・ | Z22: 0 | AA22: 相田 敏子 | AD22: 様
A23: 43 | C23: ・ | D23: ・ | F23: 30 | G23: 櫻井 あい | J23: 様 | K23: 44 | M23: ・ | N23: ・ | P23: 14 | Q23: 原田 悠紀 | T23: 様 | U23: 45 | W23: ・ | X23: ・ | Z23: 0 | AA23: 坂本 政勝 | AD23: 様
A24: 46 | C24: ・ | D24: ・ | F24: 14 | G24: 阿部 映理華 | J24: 様 | K24: 47 | M24: ・ | N24: ・ | P24: 30 | Q24: 小山 誠 | T24: 様 | U24: 48 | W24: ・ | X24: ・ | Z24: 0 | AA24: 大木 久子 | AD24: 様
A25: 49 | C25: ・ | D25: ・ | F25: 21 | G25: 飯田 昭子 | J25: 様 | K25: 50 | M25: ・ | N25: ・ | P25: 30 | Q25: 鈴木 智恵子 | T25: 様 | U25: 51 | W25: ・ | X25: ・ | Z25: 0 | AA25: 石井 佐代子 | AD25: 様
A26: 52 | C26: ・ | D26: ・ | F26: 28 | G26: 高橋 キヨエ | J26: 様 | K26: 53 | M26: ・ | N26: ・ | P26: 28 | Q26: 山本 文紀 | T26: 様 | U26: 54 | W26: ・ | X26: ・ | Z26: 0 | AA26: 稲本 典子 | AD26: 様
... A29: 61 | C29: ・ | D29: ・ | F29: 28 | G29: 新堂 伸子 | J29: 様 | K29: 62 | M29: ・ | N29: ・ | P29: 28 | Q29: 石橋 貞子 | T29: 様 | U29: 63 | W29: ・ | X29: ・ | Z29: 14 | AA29: 中村 実樹 | AD29: 様
A30: 64 | C30: ・ | D30: ・ | F30: 28 | G30: 菊池 真美 | J30: 様 | K30: 65 | L30: ・ | N30: ・ | P30: 0 | Q30: 坂本 昌史 | T30: 様 | U30: 66 | W30: ・ | X30: ・ | Z30: 14 | AA30: 大橋 一男 | AD30: 様
A31: 67 | C31: ・ | D31: ・ | F31: 28 | G31: 蛯沢 陽祐 | J31: 様 | K31: 68 | L31: ・ | N31: ・ | P31: 7 | Q31: 齋藤 舞花 | T31: 様 | U31: 69 | V31: ・ | X31: ・ | Z31: 7 | AA31: 古内 里枝 | AD31: 様
A32: 70 | B32: ・ | D32: ・ | F32: 7 | G32: 沼山 要介 | J32: 様 | K32: 71 | L32: ・ | N32: ・ | P32: 7 | Q32: アダムス 綾乃 | T32: 様 | U32: 72 | W32: ・ | X32: ・ | Z32: 0 | AA32: 佐藤 初男 | AD32: 様
A33: 外来患者数 | E33: 新： | F33: =COUNTIF(B9:B32,"・")+COUNTIF(L9:L32,"・")+COUNTIF(V9:V32,"・") -> 6 | H33: 名 | I33: 再： | J33: =COUNTIF(C9:C32,"・")+COUNTIF(M9:M32,"・")+COUNTIF(W9:W32,"・") -> 66 | L33: 名 | M33: 計： | N33: =SUM(F33:K33) -> 72 | Q33: 名 | R33: （ | S33: 精： | T33: =COUNTIF(D9:D32,"・")+COUNTIF(N9:N32,"・")+COUNTIF(X9:X32,"・") -> 70 | W33: 名 | X33: ・ | Y33: 内： | Z33: =COUNTIF(E9:E32,"・")+COUNTIF(O9:O32,"・")+COUNTIF(Y9:Y32,"・") -> 2 | AC33: 名 | AD33: ）
A35: 紹介患者様氏名 | F35: 紹介先 | K35: 逆紹介患者様氏名 | P35: 紹介元 | U35: 本日の検査 | AA35: 検査内容
E36: 様 | K36: 古内 里枝 | O36: 様 | P36: えと内科医院 | U36: 齋藤 舞花 | Z36: 様 | AA36: CMI
E37: 様 | O37: 様 | U37: 古内 里枝 | Z37: 様 | AA37: CMI
A38: 本日の検査 | F38: 検査内容 | K38: 処置実施者 | P38: 処置内容 | U38: アダムス綾乃 | Z38: 様 | AA38: CMI
A39: 新堂 マツ | E39: 様 | F39: 血液検査 | O39: 様 | U39: 沼山 要介 | Z39: 様 | AA39: CMI
A40: 山本 キヨ | E40: 様 | F40: 血液検査・ECG | O40: 様 | U40: 坂本 昌史 | Z40: 様 | AA40: CMI
A41: 原田 悠紀 | E41: 様 | F41: カウンセリング | O41: 様 | U41: 点検項目
A42: 阿部 映理華 | E42: 様 | F42: カウンセリング | O42: 様 | U42: 項目 | Z42: 時間 | AC42: 点検者
A43: 発熱 | F43: 下痢 | K43: 風邪薬 | P43: 男性：22 | U43: 医療廃棄物 | Y43: 0.75 | AB43: 石原 恵海
A44: 0 | F44: 0 | K44: 0 | P44: 女性：50 | U44: 戸締り | Y44: 0.75 | AB44: 中村 恵理子
A46: 備考欄 | C46: （連絡事項・処方変更・その他）
G47: 特になし
G48: 石原

Sheet 15
B1: クリニック 日 誌 | H1: 令和 | J1: ='6'!J1 -> 3 | K1: 年 | L1: 7 | M1: 月 | N1: 15 | O1: 日 | Q1: （ | R1: 木 | S1: ） | V1: COO | Y1: IOO | AB1: AOM
A3: 勤務者名
A4: ='6'!A4:F4 -> 中村 恵理子 | G4: 日 | I4: 柳田 美雪 | N4: 日 | Q4: 診察室 | W4: 外来担当医 | Z4: 外来介助者
A5: 石原 恵海 | G5: 日 | I5: 石谷 美代子 | N5: 欠 | Q5: 第１診察室 | U5: 千葉 潜 | Z5: 石原
A6: 鳴海 彩香 | G6: 日 | I6: ='9'!I6:M6 -> 松林 久美子 | N6: 日 | Q6: 第２診察室 | U6: 馬渡 晃弘 | Z6: 石原
B8: 新 | C8: 再 | D8: 精 | E8: 内 | F8: 処 | G8: 患者様氏名 | L8: 新 | M8: 再 | N8: 精 | O8: 内 | P8: 処 | Q8: 患者様氏名 | V8: 新 | W8: 再 | X8: 精 | Y8: 内 | Z8: 処 | AA8: 患者様氏名
A9: 1 | C9: ・ | D9: ・ | F9: 28 | G9: 豊川 美智子 | J9: 様 | K9: 2 | M9: ・ | N9: ・ | P9: 56 | Q9: 古澤 博美 | T9: 様 | U9: 3 | W9: ・ | X9: ・ | Z9: 0 | AA9: 綿貫 啓子 | AD9: 様
A10: 4 | C10: ・ | D10: ・ | F10: 28 | G10: 豊川 清人 | J10: 様 | K10: 5 | M10: ・ | N10: ・ | P10: 56 | Q10: 浪岡 美沙紀 | T10: 様 | U10: 6 | W10: ・ | X10: ・ | Z10: 0 | AA10: 瀬川 高雄 | AD10: 様
A11: 7 | C11: ・ | D11: ・ | F11: 35 | G11: 日下 勉 | J11: 様 | K11: 8 | M11: ・ | N11: ・ | P11: 18 | Q11: 高橋 茜 | T11: 様 | U11: 9 | W11: ・ | X11: ・ | Z11: 0 | AA11: 山口 瑛子 | AD11: 様
A12: 10 | C12: ・ | D12: ・ | F12: 30 | G12: 佐々木 春夫 | J12: 様 | K12: 11 | M12: ・ | N12: ・ | P12: 28 | Q12: 鎌田 裕輔 | T12: 様 | U12: 12 | W12: ・ | X12: ・ | Z12: 0 | AA12: 山本 伸子 | AD12: 様
A13: 13 | C13: ・ | D13: ・ | F13: 56 | G13: 坂本 隆志 | J13: 様 | K13: 14 | M13: ・ | N13: ・ | P13: 42 | Q13: 種市 莉奈 | T13: 様 | U13: 15 | W13: ・ | X13: ・ | Z13: 0 | AA13: 藪 真弓 | AD13: 様
A14: 16 | C14: ・ | D14: ・ | F14: 18 | G14: 松林 望美 | J14: 様 | K14: 17 | M14: ・ | N14: ・ | P14: 28 | Q14: 江尻 祐衣 | T14: 様 | U14: 18 | W14: ・ | X14: ・ | Z14: 0 | AA14: 西舘 瞳 | AD14: 様
A15: 19 | C15: ・ | D15: ・ | F15: 28 | G15: 木村 タキ | J15: 様 | K15: 20 | M15: ・ | N15: ・ | P15: 30 | Q15: 田村 美津子 | T15: 様 | U15: 21 | W15: ・ | X15: ・ | Z15: 0 | AA15: 菊池 礼子 | AD15: 様
A16: 22 | C16: ・ | D16: ・ | F16: 28 | G16: 杉元 香奈子 | J16: 様 | K16: 23 | M16: ・ | N16: ・ | P16: 28 | Q16: 小笠原 秀男 | T16: 様 | U16: 24 | W16: ・ | X16: ・ | Z16: 0 | AA16: 高村 加津子 | AD16: 様
A17: 25 | C17: ・ | D17: ・ | F17: 28 | G17: 町屋 睦子 | J17: 様 | K17: 26 | M17: ・ | N17: ・ | P17: 28 | Q17: 小笠原 千恵子 | T17: 様 | U17: 27 | W17: ・ | X17: ・ | Z17: 0 | AA17: 坂本 政勝 | AD17: 様
A18: 28 | C18: ・ | D18: ・ | F18: 0 | G18: 妻神 京子 | J18: 様 | K18: 29 | M18: ・ | N18: ・ | P18: 7 | Q18: 中居 敬悦 | T18: 様 | U18: 30 | W18: ・ | X18: ・ | Z18: 0 | AA18: 田口 トシ子 | AD18: 様
A19: 31 | C19: ・ | D19: ・ | F19: 28 | G19: 鈴木 洋光 | J19: 様 | K19: 32 | M19: ・ | N19: ・ | P19: 28 | Q19: 田辺 京子 | T19: 様 | U19: 33 | W19: ・ | X19: ・ | Z19: 0 | AA19: 大木 久子 | AD19: 様
A20: 34 | C20: ・ | D20: ・ | F20: 14 | G20: 竹内 隆夫 | J20: 様 | K20: 35 | M20: ・ | N20: ・ | P20: 28 | Q20: 沼山 寛子 | T20: 様 | U20: 36 | W20: ・ | X20: ・ | Z20: 0 | AA20: 藤田 絢三 | AD20: 様
... A23: 43 | C23: ・ | D23: ・ | F23: 28 | G23: 石久保 香織 | J23: 様 | K23: 44 | M23: ・ | N23: ・ | P23: 0 | Q23: 山辺 晴輝 | T23: 様 | U23: 45 | W23: ・ | X23: ・ | Z23: 0 | AA23: 坂本 佳之 | AD23: 様
A24: 46 | B24: ・ | D24: ・ | F24: 7 | G24: 福村 彩 | J24: 様 | K24: 47 | M24: ・ | N24: ・ | P24: 30 | Q24: 木村 健一 | T24: 様 | U24: 48 | W24: ・ | X24: ・ | Z24: 56 | AA24: 花岸 テル | AD24: 様
A25: 49 | B25: ・ | D25: ・ | F25: 7 | G25: 夏堀 多恵 | J25: 様 | K25: 50 | M25: ・ | N25: ・ | P25: 7 | Q25: 種市 邦男 | T25: 様 | U25: 51 | W25: ・ | X25: ・ | Z25: 28 | AA25: 柴田 葉子 | AD25: 様
A26: 52 | B26: ・ | D26: ・ | F26: 7 | G26: 樋口 優大 | J26: 様 | K26: 53 | M26: ・ | N26: ・ | P26: 25 | Q26: 窪田 清正 | T26: 様 | U26: 54 | W26: ・ | X26: ・ | Z26: 30 | AA26: 小松 亮太 | AD26: 様
A27: 55 | B27: ・ | D27: ・ | F27: 0 | G27: 松坂 千鶴 | J27: 様 | K27: 56 | M27: ・ | N27: ・ | P27: 28 | Q27: 樋口 正人 | T27: 様 | U27: 57 | W27: ・ | X27: ・ | Z27: 0 | AA27: 坂岡 亮 | AD27: 様
A28: 58 | B28: ・ | D28: ・ | F28: 28 | G28: 名倉 季彦 | J28: 様 | K28: 59 | M28: ・ | N28: ・ | P28: 0 | Q28: 杉元 悠敏 | T28: 様 | U28: 60 | W28: ・ | X28: ・ | Z28: 0 | AA28: 安部 信祥 | AD28: 様
A29: 61 | B29: ・ | D29: ・ | F29: 28 | G29: 隈元 トミ子 | J29: 様 | K29: 62 | M29: ・ | O29: ・ | P29: 90 | Q29: 馬渡 晃弘 | T29: 様 | U29: 63 | AD29: 様
A30: 外来患者数 | E30: 新： | F30: =COUNTIF(B9:B29,"・")+COUNTIF(L9:L29,"・")+COUNTIF(V9:V29,"・") -> 6 | H30: 名 | I30: 再： | J30: =COUNTIF(C9:C29,"・")+COUNTIF(M9:M29,"・")+COUNTIF(W9:W29,"・") -> 56 | L30: 名 | M30: 計： | N30: =SUM(F30:K30) -> 62 | Q30: 名 | R30: （ | S30: 精： | T30: =COUNTIF(D9:D29,"・")+COUNTIF(N9:N29,"・")+COUNTIF(X9:X29,"・") -> 61 | W30: 名 | X30: ・ | Y30: 内： | Z30: =COUNTIF(E9:E29,"・")+COUNTIF(O9:O29,"・")+COUNTIF(Y9:Y29,"・") -> 1 | AC30: 名 | AD30: ）
A32: 紹介患者様氏名 | F32: 紹介先 | K32: 逆紹介患者様氏名 | P32: 紹介元 | U32: 処置実施者 | AA32: 処置内容
E33: 様 | K33: 隈元 トミ子 | O33: 様 | P33: 汐入メンタルクリニック | U33: 福村 彩 | Z33: 様 | AA33: CMI
E34: 様 | K34: 樋口 正人 | O34: 様 | P34: 六ヶ所村千歳平診療所 | U34: 夏堀 多恵 | Z34: 様 | AA34: CMI
E35: 様 | O35: 様 | U35: 樋口 優大 | Z35: 様 | AA35: CMI
A36: 本日の検査 | F36: 検査内容 | K36: 処置実施者 | P36: 処置内容 | Z36: 様
A37: 杉元 香奈子 | E37: 様 | F37: カウンセリング | O37: 様 | Z37: 様
A38: 石久保 香織 | E38: 様 | F38: 血液検査 | O38: 様 | Z38: 様
A39: 杉元 悠敏 | E39: 様 | F39: カウンセリング | O39: 様 | Z39: 様
A40: 木村 タキ | E40: 様 | F40: 血液検査 | O40: 様 | U40: 点検項目
A41: 町屋 睦子 | E41: 様 | F41: 血液検査 | O41: 様 | U41: 項目 | Z41: 時間 | AC41: 点検者
A42: 発熱 | F42: 下痢 | K42: 風邪薬 | P42: 男性：27 | U42: 医療廃棄物 | Y42: 0.75 | AB42: 柳田 美雪
A43: 0 | F43: 0 | K43: 0 | P43: 女性：35 | U43: 戸締り | Y43: 0.75 | AB43: 中村 恵理子
A45: 備考欄 | C45: （連絡事項・処方変更・その他）
G46: 特記なし
G47: 柳田

Sheet 16
B1: クリニック 日 誌 | H1: 令和 | J1: ='6'!J1 -> 3 | K1: 年 | L1: 7 | M1: 月 | N1: 16 | O1: 日 | Q1: （ | R1: 金 | S1: ） | V1: COO | Y1: IOO | AB1: AOM
A3: 勤務者名
A4: ='6'!A4:F4 -> 中村 恵理子 | G4: 日 | I4: 柳田 美雪 | N4: 日 | Q4: 診察室 | W4: 外来担当医 | Z4: 外来介助者
A5: 石原 恵海 | G5: 日 | I5: 石谷 美代子 | N5: 傷病 | Q5: 第１診察室 | U5: 金 泰徳 | Z5: 柳田・石原
A6: 鳴海 彩香 | G6: 日 | I6: ='9'!I6:M6 -> 松林 久美子 | N6: 日 | Q6: 第２診察室 | U6: 千葉 良 | Z6: 柳田・石原
B8: 新 | C8: 再 | D8: 精 | E8: 内 | F8: 処 | G8: 患者様氏名 | L8: 新 | M8: 再 | N8: 精 | O8: 内 | P8: 処 | Q8: 患者様氏名 | V8: 新 | W8: 再 | X8: 精 | Y8: 内 | Z8: 処 | AA8: 患者様氏名
A9: 1 | C9: ・ | D9: ・ | F9: 35 | G9: 今井 くによ | J9: 様 | K9: 2 | M9: ・ | N9: ・ | P9: 14 | Q9: 百目鬼 玲音 | T9: 様 | U9: 3 | W9: ・ | X9: ・ | Z9: 0 | AA9: 高村 加津子 | AD9: 様
A10: 4 | C10: ・ | D10: ・ | F10: 30 | G10: 石ヶ森 トヨ子 | J10: 様 | K10: 5 | M10: ・ | N10: ・ | P10: 30 | Q10: 寺下 香澄 | T10: 様 | U10: 6 | W10: ・ | X10: ・ | Z10: 0 | AA10: 山本 伸子 | AD10: 様
A11: 7 | C11: ・ | D11: ・ | F11: 30 | G11: 吉田 俊一 | J11: 様 | K11: 8 | M11: ・ | N11: ・ | P11: 0 | Q11: 中村 美千代 | T11: 様 | U11: 9 | W11: ・ | X11: ・ | Z11: 0 | AA11: 千葉 スワ | AD11: 様
A12: 10 | C12: ・ | D12: ・ | F12: 28 | G12: 冨田 崇 | J12: 様 | K12: 11 | M12: ・ | N12: ・ | P12: 0 | Q12: 織笠 由美 | T12: 様 | U12: 12 | W12: ・ | X12: ・ | Z12: 0 | AA12: 沼端 ミセ | AD12: 様
A13: 13 | C13: ・ | D13: ・ | F13: 90 | G13: 佐々木 靖 | J13: 様 | K13: 14 | M13: ・ | N13: ・ | P13: 14 | Q13: 黒澤 慎一郎 | T13: 様 | U13: 15 | W13: ・ | X13: ・ | Z13: 0 | AA13: 山口 瑛子 | AD13: 様
A14: 16 | C14: ・ | D14: ・ | F14: 35 | G14: 角 恵美子 | J14: 様 | K14: 17 | M14: ・ | N14: ・ | P14: 35 | Q14: 種市 サクラ | T14: 様 | U14: 18 | W14: ・ | X14: ・ | Z14: 0 | AA14: 大木 久子 | AD14: 様
A15: 19 | C15: ・ | D15: ・ | F15: 30 | G15: 藤田 予里 | J15: 様 | K15: 20 | M15: ・ | N15: ・ | P15: 35 | Q15: 江渡 きゑ | T15: 様 | U15: 21 | W15: ・ | X15: ・ | Z15: 0 | AA15: 萠出 きのゑ | AD15: 様
A16: 22 | B16: ・ | D16: ・ | F16: 35 | G16: 角 穂並 | J16: 様 | K16: 23 | M16: ・ | N16: ・ | P16: 21 | Q16: 齋藤 鈴美香 | T16: 様 | U16: 24 | W16: ・ | X16: ・ | Z16: 0 | AA16: 萠出 克治 | AD16: 様
A17: 25 | C17: ・ | D17: ・ | F17: 0 | G17: 大下 邦子 | J17: 様 | K17: 26 | M17: ・ | N17: ・ | P17: 21 | Q17: 高田 奈緒美 | T17: 様 | U17: 27 | W17: ・ | X17: ・ | Z17: 0 | AA17: 杉山 博子 | AD17: 様
A18: 28 | C18: ・ | D18: ・ | F18: 35 | G18: 木村 トシ | J18: 様 | K18: 29 | M18: ・ | N18: ・ | P18: 30 | Q18: 岩部 日出夫 | T18: 様 | U18: 30 | W18: ・ | X18: ・ | Z18: 0 | AA18: 藪 真弓 | AD18: 様
A19: 31 | C19: ・ | D19: ・ | F19: 35 | G19: 吉田 浩 | J19: 様 | K19: 32 | M19: ・ | N19: ・ | P19: 10 | Q19: 佐藤 留五郎 | T19: 様 | U19: 33 | W19: ・ | X19: ・ | Z19: 0 | AA19: 田口 トシ子 | AD19: 様
A20: 34 | C20: ・ | D20: ・ | F20: 30 | G20: 中村 正 | J20: 様 | K20: 35 | M20: ・ | N20: ・ | P20: 63 | Q20: 漆舘 麻衣 | T20: 様 | U20: 36 | W20: ・ | X20: ・ | Z20: 0 | AA20: 瀬川 高雄 | AD20: 様
A21: 37 | C21: ・ | D21: ・ | F21: 28 | G21: 川村 幸雄 | J21: 様 | K21: 38 | M21: ・ | N21: ・ | P21: 42 | Q21: 堤 富美子 | T21: 様 | U21: 39 | W21: ・ | X21: ・ | Z21: 0 | AA21: 綿貫 啓子 | AD21: 様
A22: 40 | C22: ・ | D22: ・ | F22: 35 | G22: 起田 妙子 | J22: 様 | K22: 41 | M22: ・ | N22: ・ | P22: 28 | Q22: 後藤 美里 | T22: 様 | U22: 42 | W22: ・ | X22: ・ | Z22: 28 | AA22: 松林 佑 | AD22: 様
A23: 43 | C23: ・ | D23: ・ | F23: 35 | G23: 堀合 由子 | J23: 様 | K23: 44 | M23: ・ | N23: ・ | P23: 56 | Q23: 新堂 則子 | T23: 様 | U23: 45 | W23: ・ | X23: ・ | Z23: 49 | AA23: 沖澤 重治 | AD23: 様
A24: 46 | C24: ・ | D24: ・ | F24: 30 | G24: 小西 チヨ | J24: 様 | K24: 47 | M24: ・ | N24: ・ | P24: 21 | Q24: 林 博子 | T24: 様 | U24: 48 | W24: ・ | X24: ・ | Z24: 0 | AA24: 工藤 健壽 | AD24: 様
A25: 49 | C25: ・ | D25: ・ | F25: 0 | G25: 柏木 新菜 | J25: 様 | K25: 50 | L25: ・ | N25: ・ | P25: 14 | Q25: 中野 晃子 | T25: 様 | U25: 51 | W25: ・ | X25: ・ | Z25: 0 | AA25: 坂本 政勝 | AD25: 様
A26: 52 | B26: ・ | D26: ・ | F26: 0 | G26: 川口 繁美 | J26: 様 | K26: 53 | L26: ・ | N26: ・ | P26: 14 | Q26: 下田 政道 | T26: 様 | U26: 54 | W26: ・ | X26: ・ | Z26: 0 | AA26: 石井 佐代子 | AD26: 様
A27: 55 | C27: ・ | D27: ・ | F27: 28 | G27: 古谷 京子 | J27: 様 | K27: 56 | L27: ・ | N27: ・ | P27: 28 | Q27: 河原木 功 | T27: 様 | U27: 57 | W27: ・ | X27: ・ | Z27: 0 | AA27: 藤田 絢三 | AD27: 様
A28: 58 | C28: ・ | D28: ・ | F28: 60 | G28: 池田 アエ | J28: 様 | K28: 59 | M28: ・ | N28: ・ | P28: 21 | Q28: 山田 淳一 | T28: 様 | U28: 60 | W28: ・ | X28: ・ | Z28: 0 | AA28: 渡辺 クニ | AD28: 様
A29: 61 | C29: ・ | D29: ・ | F29: 35 | G29: 高橋 鮎美 | J29: 様 | K29: 62 | T29: 様 | U29: 63 | AD29: 様
A30: 外来患者数 | E30: 新： | F30: =COUNTIF(B9:B29,"・")+COUNTIF(L9:L29,"・")+COUNTIF(V9:V29,"・") -> 5 | H30: 名 | I30: 再： | J30: =COUNTIF(C9:C29,"・")+COUNTIF(M9:M29,"・")+COUNTIF(W9:W29,"・") -> 56 | L30: 名 | M30: 計： | N30: =SUM(F30:K30) -> 61 | Q30: 名 | R30: （ | S30: 精： | T30: =COUNTIF(D9:D29,"・")+COUNTIF(N9:N29,"・")+COUNTIF(X9:X29,"・") -> 61 | W30: 名 | X30: ・ | Y30: 内： | Z30: =COUNTIF(E9:E29,"・")+COUNTIF(O9:O29,"・")+COUNTIF(Y9:Y29,"・") -> 0 | AC30: 名 | AD30: ）
A32: 紹介患者様氏名 | F32: 紹介先 | K32: 逆紹介患者様氏名 | P32: 紹介元 | U32: 処置実施者 | AA32: 処置内容
A33: 佐藤 留五郎 | E33: 様 | F33: 青南病院 | K33: 河原木 功 | O33: 様 | P33: みちのく記念病院 | Z33: 様
A34: 本日の検査 | F34: 検査内容 | K34: 処置実施者 | P34: 処置内容 | Z34: 様
A35: 柏木 新菜 | E35: 様 | F35: P-F | O35: 様 | Z35: 様
A36: 中野 晃子 | E36: 様 | F36: CMI | O36: 様 | Z36: 様
A37: 下田 政道 | E37: 様 | F37: CMI | O37: 様 | Z37: 様
A38: 川口 繁美 | E38: 様 | F38: CMI | O38: 様 | U38: 点検項目
E39: 様 | O39: 様 | U39: 項目 | Z39: 時間 | AC39: 点検者
A40: 発熱 | F40: 下痢 | K40: 風邪薬 | P40: 男性：21 | U40: 医療廃棄物 | Y40: 0.75 | AB40: 柳田 美雪
A41: 0 | F41: 0 | K41: 0 | P41: 女性：40 | U41: 戸締り | Y41: 0.75 | AB41: 中村 恵理子
A43: 備考欄 | C43: （連絡事項・処方変更・その他）
G44: 特記なし
G45: 柳田

Sheet 17
B1: クリニック 日 誌 | H1: 令和 | J1: ='6'!J1 -> 3 | K1: 年 | L1: 7 | M1: 月 | N1: 17 | O1: 日 | Q1: （ | S1: ） | V1: COO | Y1: IOO | AB1: AOM
A3: 勤務者名
A4: ='6'!A4:F4 -> 中村 恵理子 | G4: 日 | I4: 柳田 美雪 | N4: 日 | Q4: 診察室 | W4: 外来担当医 | Z4: 外来介助者
A5: 石原 恵海 | G5: 日 | I5: 石谷 美代子 | N5: 欠 | Q5: 第１診察室 | Z5: 柳田・石原
A6: 鳴海 彩香 | G6: 日 | I6: ='9'!I6:M6 -> 松林 久美子 | N6: 日 | Q6: 第２診察室
B8: 新 | C8: 再 | D8: 精 | E8: 内 | F8: 処 | G8: 患者様氏名 | L8: 新 | M8: 再 | N8: 精 | O8: 内 | P8: 処 | Q8: 患者様氏名 | V8: 新 | W8: 再 | X8: 精 | Y8: 内 | Z8: 処 | AA8: 患者様氏名
A9: 1 | C9: ・ | D9: ・ | J9: 様 | K9: 2 | M9: ・ | N9: ・ | T9: 様 | U9: 3 | W9: ・ | X9: ・ | AD9: 様
A10: 4 | J10: 様 | K10: 5 | M10: ・ | N10: ・ | T10: 様 | U10: 6 | W10: ・ | X10: ・ | AD10: 様
A11: 7 | J11: 様 | K11: 8 | M11: ・ | N11: ・ | T11: 様 | U11: 9 | W11: ・ | X11: ・ | AD11: 様
A12: 10 | J12: 様 | K12: 11 | M12: ・ | N12: ・ | T12: 様 | U12: 12 | W12: ・ | X12: ・ | AD12: 様
A13: 13 | J13: 様 | K13: 14 | M13: ・ | N13: ・ | T13: 様 | U13: 15 | W13: ・ | X13: ・ | AD13: 様
A14: 16 | J14: 様 | K14: 17 | M14: ・ | N14: ・ | T14: 様 | U14: 18 | W14: ・ | X14: ・ | AD14: 様
A15: 19 | J15: 様 | K15: 20 | M15: ・ | N15: ・ | T15: 様 | U15: 21 | W15: ・ | X15: ・ | AD15: 様
A16: 22 | J16: 様 | K16: 23 | M16: ・ | N16: ・ | T16: 様 | U16: 24 | W16: ・ | X16: ・ | AD16: 様
A17: 25 | J17: 様 | K17: 26 | M17: ・ | N17: ・ | T17: 様 | U17: 27 | W17: ・ | X17: ・ | AD17: 様
A18: 28 | J18: 様 | K18: 29 | M18: ・ | N18: ・ | T18: 様 | U18: 30 | W18: ・ | X18: ・ | AD18: 様
A19: 31 | J19: 様 | K19: 32 | M19: ・ | N19: ・ | T19: 様 | U19: 33 | W19: ・ | X19: ・ | AD19: 様
A20: 34 | J20: 様 | K20: 35 | M20: ・ | N20: ・ | T20: 様 | U20: 36 | W20: ・ | X20: ・ | AD20: 様
A21: 37 | J21: 様 | K21: 38 | M21: ・ | N21: ・ | T21: 様 | U21: 39 | W21: ・ | X21: ・ | AD21: 様
A22: 40 | J22: 様 | K22: 41 | T22: 様 | U22: 42 | AD22: 様
A23: 43 | J23: 様 | K23: 44 | T23: 様 | U23: 45 | AD23: 様
A24: 46 | J24: 様 | K24: 47 | T24: 様 | U24: 48 | AD24: 様
A25: 49 | J25: 様 | K25: 50 | T25: 様 | U25: 51 | AD25: 様
A26: 52 | J26: 様 | K26: 53 | T26: 様 | U26: 54 | AD26: 様
A27: 55 | J27: 様 | K27: 56 | T27: 様 | U27: 57 | AD27: 様
A28: 58 | J28: 様 | K28: 59 | T28: 様 | U28: 60 | AD28: 様
A29: 61 | J29: 様 | K29: 62 | T29: 様 | U29: 63 | AD29: 様
A30: 64 | J30: 様 | K30: 65 | T30: 様 | U30: 66 | AD30: 様
A31: 67 | J31: 様 | K31: 68 | T31: 様 | U31: 69 | AD31: 様
A32: 70 | J32: 様 | K32: 71 | T32: 様 | U32: 72 | AD32: 様
A33: 73 | J33: 様 | K33: 74 | T33: 様 | U33: 75 | AD33: 様
A34: 外来患者数 | E34: 新： | F34: =COUNTIF(B9:B33,"・")+COUNTIF(L9:L33,"・")+COUNTIF(V9:V33,"・") -> 0 | H34: 名 | I34: 再： | J34: =COUNTIF(C9:C33,"・")+COUNTIF(M9:M33,"・")+COUNTIF(W9:W33,"・") -> 27 | L34: 名 | M34: 計： | N34: =SUM(F34:K34) -> 27 | Q34: 名 | R34: （ | S34: 精： | T34: =COUNTIF(D9:D33,"・")+COUNTIF(N9:N33,"・")+COUNTIF(X9:X33,"・") -> 27 | W34: 名 | X34: ・ | Y34: 内： | Z34: =COUNTIF(E9:E33,"・")+COUNTIF(O9:O33,"・")+COUNTIF(Y9:Y33,"・") -> 0 | AC34: 名 | AD34: ）
A36: 紹介患者様氏名 | F36: 紹介先 | K36: 逆紹介患者様氏名 | P36: 紹介元 | U36: 処置実施者 | AA36: 処置内容
E37: 様 | O37: 様 | Z37: 様
E38: 様 | O38: 様 | Z38: 様
E39: 様 | O39: 様 | Z39: 様
E40: 様 | O40: 様 | Z40: 様
E41: 様 | O41: 様 | Z41: 様
A42: 本日の検査 | F42: 検査内容 | K42: 処置実施者 | P42: 処置内容 | Z42: 様
E43: 様 | K43: 野田頭 真由美 | O43: 様 | P43: ハロマンス100mg 1セット | Z43: 様
E44: 様 | O44: 様 | Z44: 様
E45: 様 | O45: 様 | Z45: 様
E46: 様 | O46: 様 | U46: 点検項目
E47: 様 | O47: 様 | U47: 項目 | Z47: 時間 | AC47: 点検者
A48: 発熱 | F48: 下痢 | K48: 風邪薬 | P48: 男性： | U48: 医療廃棄物 | Y48: 0.75
A49: 0 | F49: 0 | K49: 0 | P49: 女性： | U49: 戸締り | Y49: 0.75 | AB49: ='6'!AB41:AD41 -> 松林 久美子
A51: 備考欄 | C51: （連絡事項・処方変更・その他）

Sheet 18
B1: クリニック 日 誌 | H1: 令和 | J1: ='6'!J1 -> 3 | K1: 年 | L1: 7 | M1: 月 | N1: 18 | O1: 日 | Q1: （ | S1: ） | V1: COO | Y1: IOO | AB1: AOM
A3: 勤務者名
A4: ='6'!A4:F4 -> 中村 恵理子 | G4: 日 | I4: 柳田 美雪 | N4: 日 | Q4: 診察室 | W4: 外来担当医 | Z4: 外来介助者
A5: 石原 恵海 | G5: 日 | I5: 石谷 美代子 | N5: 欠 | Q5: 第１診察室 | Z5: 柳田・石原
A6: 鳴海 彩香 | G6: 日 | Q6: 第２診察室
B8: 新 | C8: 再 | D8: 精 | E8: 内 | F8: 処 | G8: 患者様氏名 | L8: 新 | M8: 再 | N8: 精 | O8: 内 | P8: 処 | Q8: 患者様氏名 | V8: 新 | W8: 再 | X8: 精 | Y8: 内 | Z8: 処 | AA8: 患者様氏名
A9: 1 | C9: ・ | D9: ・ | F9: 28 | G9: 片桐 惣一朗 | J9: 様 | K9: 2 | M9: ・ | N9: ・ | T9: 様 | U9: 3 | W9: ・ | X9: ・ | AA9: 西舘 瞳 | AD9: 様
A10: 4 | F10: 28 | G10: 野々宮 ミヨ | J10: 様 | K10: 5 | M10: ・ | N10: ・ | T10: 様 | U10: 6 | W10: ・ | X10: ・ | AA10: 相内 京子 | AD10: 様
A11: 7 | F11: 28 | G11: 野坂 千晶 | J11: 様 | K11: 8 | M11: ・ | N11: ・ | T11: 様 | U11: 9 | W11: ・ | X11: ・ | AA11: 綿貫 啓子 | AD11: 様
A12: 10 | F12: 7 | G12: 佐々木 未悠 | J12: 様 | K12: 11 | M12: ・ | N12: ・ | T12: 様 | U12: 12 | W12: ・ | X12: ・ | AA12: 藤田 絢三 | AD12: 様
A13: 13 | F13: 28 | G13: 袴田 きみ | J13: 様 | K13: 14 | M13: ・ | N13: ・ | T13: 様 | U13: 15 | W13: ・ | X13: ・ | AA13: 山口 映子 | AD13: 様
A14: 16 | F14: 28 | G14: 太田 美津 | J14: 様 | K14: 17 | M14: ・ | N14: ・ | T14: 様 | U14: 18 | W14: ・ | X14: ・ | AA14: 相田 敏子 | AD14: 様
A15: 19 | F15: 14 | G15: 江尻 祐衣 | J15: 様 | K15: 20 | M15: ・ | N15: ・ | T15: 様 | U15: 21 | W15: ・ | X15: ・ | AA15: 高村 加津子 | AD15: 様
A16: 22 | F16: 28 | G16: 山本 美津子 | J16: 様 | K16: 23 | M16: ・ | N16: ・ | T16: 様 | U16: 24 | W16: ・ | X16: ・ | AA16: 山本 伸子 | AD16: 様
A17: 25 | F17: 14 | G17: 熊野 忠明 | J17: 様 | K17: 26 | M17: ・ | N17: ・ | T17: 様 | U17: 27 | W17: ・ | X17: ・ | AA17: 瀬川 高雄 | AD17: 様
A18: 28 | F18: 30 | G18: 野田頭 真由美 | J18: 様 | K18: 29 | M18: ・ | N18: ・ | T18: 様 | U18: 30 | W18: ・ | X18: ・ | AA18: 坂本 政勝 | AD18: 様
A19: 31 | F19: 38 | G19: 西 和枝 | J19: 様 | K19: 32 | M19: ・ | N19: ・ | T19: 様 | U19: 33 | W19: ・ | X19: ・ | AA19: 工藤 健壽 | AD19: 様
A20: 34 | F20: 60 | G20: 長井 竹 | J20: 様 | K20: 35 | M20: ・ | N20: ・ | T20: 様 | U20: 36 | W20: ・ | X20: ・ | AA20: 田口 トシ子 | AD20: 様
A21: 37 | F21: 28 | G21: 畑山 みゆき | J21: 様 | K21: 38 | M21: ・ | N21: ・ | T21: 様 | U21: 39 | W21: ・ | X21: ・ | AA21: 大木 久子 | AD21: 様
A22: 40 | F22: 7 | G22: 中居 敬悦 | J22: 様 | K22: 41 | T22: 様 | U22: 42 | AA22: 安部 信祥 | AD22: 様
A23: 43 | F23: 28 | G23: 齊藤 里美 | J23: 様 | K23: 44 | T23: 様 | U23: 45 | AD23: 様
A24: 46 | J24: 様 | K24: 47 | T24: 様 | U24: 48 | AD24: 様
A25: 49 | J25: 様 | K25: 50 | T25: 様 | U25: 51 | AD25: 様
A26: 52 | J26: 様 | K26: 53 | T26: 様 | U26: 54 | AD26: 様
A27: 55 | J27: 様 | K27: 56 | T27: 様 | U27: 57 | AD27: 様
A28: 58 | J28: 様 | K28: 59 | T28: 様 | U28: 60 | AD28: 様
A29: 61 | J29: 様 | K29: 62 | T29: 様 | U29: 63 | AD29: 様
A30: 64 | J30: 様 | K30: 65 | T30: 様 | U30: 66 | AD30: 様
A31: 67 | J31: 様 | K31: 68 | T31: 様 | U31: 69 | AD31: 様
A32: 70 | J32: 様 | K32: 71 | T32: 様 | U32: 72 | AD32: 様
A33: 73 | J33: 様 | K33: 74 | T33: 様 | U33: 75 | AD33: 様
A34: 外来患者数 | E34: 新： | F34: =COUNTIF(B9:B33,"・")+COUNTIF(L9:L33,"・")+COUNTIF(V9:V33,"・") -> 0 | H34: 名 | I34: 再： | J34: =COUNTIF(C9:C33,"・")+COUNTIF(M9:M33,"・")+COUNTIF(W9:W33,"・") -> 27 | L34: 名 | M34: 計： | N34: =SUM(F34:K34) -> 27 | Q34: 名 | R34: （ | S34: 精： | T34: =COUNTIF(D9:D33,"・")+COUNTIF(N9:N33,"・")+COUNTIF(X9:X33,"・") -> 27 | W34: 名 | X34: ・ | Y34: 内： | Z34: =COUNTIF(E9:E33,"・")+COUNTIF(O9:O33,"・")+COUNTIF(Y9:Y33,"・") -> 0 | AC34: 名 | AD34: ）
A36: 紹介患者様氏名 | F36: 紹介先 | K36: 逆紹介患者様氏名 | P36: 紹介元 | U36: 処置実施者 | AA36: 処置内容
E37: 様 | O37: 様 | Z37: 様
E38: 様 | O38: 様 | Z38: 様
E39: 様 | O39: 様 | Z39: 様
E40: 様 | O40: 様 | Z40: 様
E41: 様 | O41: 様 | Z41: 様
A42: 本日の検査 | F42: 検査内容 | K42: 処置実施者 | P42: 処置内容 | Z42: 様
E43: 様 | K43: 野田頭 真由美 | O43: 様 | P43: ハロマンス100mg 1セット | Z43: 様
E44: 様 | O44: 様 | Z44: 様
E45: 様 | O45: 様 | Z45: 様
E46: 様 | O46: 様 | U46: 点検項目
E47: 様 | O47: 様 | U47: 項目 | Z47: 時間 | AC47: 点検者
A48: 発熱 | F48: 下痢 | K48: 風邪薬 | P48: 男性： | U48: 医療廃棄物 | Y48: 0.75
A49: 0 | F49: 0 | K49: 0 | P49: 女性： | U49: 戸締り | Y49: 0.75 | AB49: ='6'!AB41:AD41 -> 松林 久美子
A51: 備考欄 | C51: （連絡事項・処方変更・その他）

Sheet 19
B1: クリニック 日 誌 | H1: 令和 | J1: ='6'!J1 -> 3 | K1: 年 | L1: 7 | M1: 月 | N1: 19 | O1: 日 | Q1: （ | R1: 月 | S1: ） | V1: COO | Y1: IOO | AB1: AOM
A3: 勤務者名
A4: ='6'!A4:F4 -> 中村 恵理子 | G4: 日 | I4: 柳田 美雪 | N4: 日 | Q4: 診察室 | W4: 外来担当医 | Z4: 外来介助者
A5: 石原 恵海 | G5: 日 | I5: 石谷 美代子 | N5: 欠 | Q5: 第１診察室 | U5: 馬渡 晃弘 | Z5: 石原
A6: 松林 久美子 | G6: 日 | Q6: 第２診察室 | U6: 坂田 優 | Z6: 柳田
B8: 新 | C8: 再 | D8: 精 | E8: 内 | F8: 処 | G8: 患者様氏名 | L8: 新 | M8: 再 | N8: 精 | O8: 内 | P8: 処 | Q8: 患者様氏名 | V8: 新 | W8: 再 | X8: 精 | Y8: 内 | Z8: 処 | AA8: 患者様氏名
A9: 1 | C9: ・ | D9: ・ | F9: 14 | G9: 沖澤 孝 | J9: 様 | K9: 2 | L9: ・ | N9: ・ | P9: 7 | Q9: 佐々木 晴人 | T9: 様 | U9: 3 | W9: ・ | X9: ・ | Z9: 0 | AA9: 工藤 健壽 | AD9: 様
A10: 4 | C10: ・ | E10: ・ | F10: 7 | G10: 山本 キヨ | J10: 様 | K10: 5 | M10: ・ | N10: ・ | P10: 14 | Q10: 馬場 一彦 | T10: 様 | U10: 6 | W10: ・ | X10: ・ | Z10: 0 | AA10: 綿貫 啓子 | AD10: 様
A11: 7 | C11: ・ | D11: ・ | F11: 21 | G11: 大野 政彦 | J11: 様 | K11: 8 | M11: ・ | N11: ・ | P11: 21 | Q11: 附田 亜矢子 | T11: 様 | U11: 9 | W11: ・ | X11: ・ | Z11: 0 | AA11: 瀬川 高雄 | AD11: 様
A12: 10 | C12: ・ | D12: ・ | F12: 21 | G12: 沼田 ひろ子 | J12: 様 | K12: 11 | M12: ・ | N12: ・ | P12: 42 | Q12: 高田 キミヨ | T12: 様 | U12: 12 | W12: ・ | X12: ・ | Z12: 0 | AA12: 深町 栄美子 | AD12: 様
A13: 13 | C13: ・ | D13: ・ | F13: 0 | G13: 菊池 麗 | J13: 様 | K13: 14 | M13: ・ | N13: ・ | P13: 28 | Q13: 山田 義勝 | T13: 様 | U13: 15 | W13: ・ | X13: ・ | Z13: 0 | AA13: 大木 久子 | AD13: 様
A14: 16 | C14: ・ | D14: ・ | F14: 56 | G14: 千葉 綾美 | J14: 様 | K14: 17 | M14: ・ | N14: ・ | P14: 56 | Q14: 川村 孝之 | T14: 様 | U14: 18 | W14: ・ | X14: ・ | Z14: 0 | AA14: 萠出 克治 | AD14: 様
A15: 19 | C15: ・ | D15: ・ | F15: 35 | G15: 石田 あい | J15: 様 | K15: 20 | M15: ・ | N15: ・ | P15: 7 | Q15: 竹内 隆夫 | T15: 様 | U15: 21 | W15: ・ | X15: ・ | Z15: 0 | AA15: 萠出 きのえ | AD15: 様
A16: 22 | C16: ・ | D16: ・ | F16: 24 | G16: 小向 克也 | J16: 様 | K16: 23 | L16: ・ | N16: ・ | Q16: 横浜 智子 | T16: 様 | U16: 24 | W16: ・ | X16: ・ | Z16: 0 | AA16: 山口 瑛子 | AD16: 様
A17: 25 | C17: ・ | D17: ・ | F17: 21 | G17: 土橋 翔吾 | J17: 様 | K17: 26 | L17: ・ | N17: ・ | P17: 28 | Q17: 横田 れい子 | T17: 様 | U17: 27 | W17: ・ | X17: ・ | Z17: 30 | AA17: 沼端 ミセ | AD17: 様
A18: 28 | C18: ・ | D18: ・ | F18: 56 | G18: 馬場 あや子 | J18: 様 | K18: 29 | M18: ・ | N18: ・ | P18: 21 | Q18: 椛本 友菜 | T18: 様 | U18: 30 | W18: ・ | X18: ・ | Z18: 0 | AA18: 高村 加津子 | AD18: 様
A19: 31 | C19: ・ | D19: ・ | F19: 56 | G19: 高橋 榮 | J19: 様 | K19: 32 | M19: ・ | N19: ・ | P19: 56 | Q19: 蛯名 ノエ | T19: 様 | U19: 33 | W19: ・ | X19: ・ | Z19: 0 | AA19: 藤田 絢三 | AD19: 様
A20: 34 | C20: ・ | D20: ・ | F20: 21 | G20: 橋端 みゆき | J20: 様 | K20: 35 | M20: ・ | N20: ・ | P20: 84 | Q20: 畑山 サヨ | T20: 様 | U20: 36 | W20: ・ | X20: ・ | Z20: 0 | AA20: 杉山 博子 | AD20: 様
A21: 37 | C21: ・ | D21: ・ | F21: 28 | G21: 渡部 節子 | J21: 様 | K21: 38 | M21: ・ | N21: ・ | P21: 42 | Q21: 岩森 美奈 | T21: 様 | U21: 39 | W21: ・ | X21: ・ | Y21: ・ | Z21: 0 | AA21: 相田 敏子 | AD21: 様
A22: 40 | C22: ・ | D22: ・ | F22: 56 | G22: 中村 きく | J22: 様 | K22: 41 | M22: ・ | P22: 21 | Q22: 似鳥 勝枝 | T22: 様 | U22: 42 | W22: ・ | X22: ・ | Z22: 0 | AA22: 渡辺 クニ | AD22: 様
A23: 43 | C23: ・ | E23: ・ | F23: 14 | G23: 中川 誠一 | J23: 様 | K23: 44 | M23: ・ | O23: ・ | P23: 90 | Q23: 重信 孝至 | T23: 様 | U23: 45 | W23: ・ | X23: ・ | Z23: 0 | AA23: 坂本 政勝 | AD23: 様
A24: 46 | C24: ・ | E24: ・ | G24: 山本 キヨ | J24: 様 | K24: 47 | M24: ・ | O24: ・ | P24: 90 | Q24: 重信 ひろ子 | T24: 様 | U24: 48 | W24: ・ | X24: ・ | Z24: 0 | AA24: 大村 千鶴子 | AD24: 様
A25: 49 | C25: ・ | D25: ・ | F25: 56 | G25: 齋藤 ヒサ | J25: 様 | K25: 50 | M25: ・ | N25: ・ | P25: 35 | Q25: 沢村 まさえ | T25: 様 | U25: 51 | W25: ・ | X25: ・ | Z25: 0 | AA25: 藪 真弓 | AD25: 様
A26: 52 | C26: ・ | E26: ・ | F26: 14 | G26: 宮崎 倫子 | J26: 様 | K26: 53 | M26: ・ | N26: ・ | P26: 21 | Q26: 工藤 彩海 | T26: 様 | U26: 54 | W26: ・ | X26: ・ | Z26: 0 | AA26: 中居 敬悦 | AD26: 様
A27: 55 | C27: ・ | D27: ・ | F27: 42 | G27: 木村 豊之 | J27: 様 | K27: 56 | M27: ・ | N27: ・ | P27: 21 | Q27: 安部 信祥 | T27: 様 | U27: 57 | W27: ・ | X27: ・ | Z27: 30 | AA27: 冨田 空 | AD27: 様
A28: 58 | C28: ・ | D28: ・ | F28: 56 | G28: 相坂 昭雄 | J28: 様 | K28: 59 | M28: ・ | N28: ・ | P28: 35 | Q28: 稲辺 亮子 | T28: 様 | U28: 60 | W28: ・ | X28: ・ | Z28: 30 | AA28: 石久保 耀斗 | AD28: 様
A29: 61 | C29: ・ | D29: ・ | F29: 21 | G29: 吉田 路代 | J29: 様 | K29: 62 | M29: ・ | N29: ・ | P29: 42 | Q29: 加藤 匠 | T29: 様 | U29: 63 | W29: ・ | X29: ・ | Z29: 30 | AA29: 沼山 祥寛 | AD29: 様
A30: 64 | C30: ・ | D30: ・ | F30: 56 | G30: 及川 弘子 | J30: 様 | K30: 65 | M30: ・ | N30: ・ | P30: 30 | Q30: 木村 羽美 | T30: 様 | U30: 66 | W30: ・ | X30: ・ | Z30: 7 | AA30: 船場 颯太 | AD30: 様
A31: 67 | C31: ・ | D31: ・ | F31: 30 | G31: 吹越 琉寧 | J31: 様 | K31: 68 | L31: ・ | O31: ・ | P31: 35 | Q31: 中村 勝志 | T31: 様 | U31: 69 | W31: ・ | X31: ・ | Z31: 30 | AA31: 原田 涼 | AD31: 様
A32: 70 | C32: ・ | D32: ・ | F32: 20 | G32: ライラインド智鶴 | J32: 様 | K32: 71 | M32: ・ | N32: ・ | P32: 30 | Q32: 猪越 陽 | T32: 様 | U32: 72 | W32: ・ | X32: ・ | Z32: 56 | AA32: 笹渡 直之 | AD32: 様
A33: 73 | C33: ・ | D33: ・ | F33: 30 | G33: 市澤 純子 | J33: 様 | K33: 74 | T33: 様 | U33: 75 | AD33: 様
A34: 外来患者数 | E34: 新： | F34: =COUNTIF(B9:B33,"・")+COUNTIF(L9:L33,"・")+COUNTIF(V9:V33,"・") -> 4 | H34: 名 | I34: 再： | J34: =COUNTIF(C9:C33,"・")+COUNTIF(M9:M33,"・")+COUNTIF(W9:W33,"・") -> 69 | L34: 名 | M34: 計： | N34: =SUM(F34:K34) -> 73 | Q34: 名 | R34: （ | S34: 精： | T34: =COUNTIF(D9:D33,"・")+COUNTIF(N9:N33,"・")+COUNTIF(X9:X33,"・") -> 65 | W34: 名 | X34: ・ | Y34: 内： | Z34: =COUNTIF(E9:E33,"・")+COUNTIF(O9:O33,"・")+COUNTIF(Y9:Y33,"・") -> 8 | AC34: 名 | AD34: ）
A36: 紹介患者様氏名 | F36: 紹介先 | K36: 逆紹介患者様氏名 | P36: 紹介元 | U36: 処置実施者 | AA36: 処置内容
E37: 様 | K37: 横田 れい子 | O37: 様 | P37: あいざわクリニック | Z37: 様
A38: 本日の検査 | F38: 検査内容 | K38: 処置実施者 | P38: 処置内容 | Z38: 様
A39: 相田 敏子 | E39: 様 | F39: ECG | K39: 小向 克也 | O39: 様 | P39: ｾﾞﾌﾟﾘｵﾝ150ｍｇ | Z39: 様
A40: 中村 きく | E40: 様 | F40: HDS-R MMSE 血液検査 | K40: 相田 敏子 | O40: 様 | P40: ソリタ500ml DIV メイロン20mg 側管 血液検査 ECG | Z40: 様
A41: 附田 亜矢子 | E41: 様 | F41: 血液検査 | O41: 様 | Z41: 様
A42: 横浜 智子 | E42: 様 | F42: CMI | O42: 様 | U42: 点検項目
E43: 様 | O43: 様 | U43: 項目 | Z43: 時間 | AC43: 点検者
A44: 発熱 | F44: 下痢 | K44: 風邪薬 | P44: 男性：29 | U44: 医療廃棄物 | Y44: 0.75 | AB44: 石原 恵海
A45: 0 | F45: 0 | K45: 0 | P45: 女性：44 | U45: 戸締り | Y45: 0.75 | AB45: ='6'!AB41:AD41 -> 松林 久美子
A47: 備考欄 | C47: （連絡事項・処方変更・その他）
A49: 相田 敏子（84） | G49: デイケアに来所後、嘔吐7回。ECG実施。発汗（+）ソリタT3 500ml DIV。
A50: 再来患者・デイ利用者 | G50: メイロン20mg側管から実施。症状改善せず、悠楽の里に入所中である事から
G51: 三沢市立病院へ救急搬送となる。
G52: 石原

Sheet 20
B1: クリニック 日 誌 | H1: 令和 | J1: ='6'!J1 -> 3 | K1: 年 | L1: 7 | M1: 月 | N1: 20 | O1: 日 | Q1: （ | R1: 火 | S1: ） | V1: COO | Y1: IOO | AB1: AOM
A3: 勤務者名
A4: ='6'!A4:F4 -> 中村 恵理子 | G4: 日 | I4: 柳田 美雪 | N4: 有 | Q4: 診察室 | W4: 外来担当医 | Z4: 外来介助者
A5: 石原 恵海 | G5: 日 | I5: 石谷 美代子 | N5: 欠 | Q5: 第１診察室 | U5: 千葉 潜 | Z5: 石原
A6: 松林 久美子 | G6: 日 | Q6: 第２診察室 | U6: 坂田 優 | Z6: 石原
B8: 新 | C8: 再 | D8: 精 | E8: 内 | F8: 処 | G8: 患者様氏名 | L8: 新 | M8: 再 | N8: 精 | O8: 内 | P8: 処 | Q8: 患者様氏名 | V8: 新 | W8: 再 | X8: 精 | Y8: 内 | Z8: 処 | AA8: 患者様氏名
A9: 1 | C9: ・ | D9: ・ | F9: 28 | G9: 古田 テル子 | J9: 様 | K9: 2 | M9: ・ | N9: ・ | P9: 56 | Q9: 下田 里美 | T9: 様 | U9: 3 | W9: ・ | X9: ・ | Z9: 0 | AA9: 石井 佐代子 | AD9: 様
A10: 4 | C10: ・ | D10: ・ | F10: 60 | G10: 山本 トヨ | J10: 様 | K10: 5 | M10: ・ | N10: ・ | P10: 28 | Q10: 佐々木 美奈子 | T10: 様 | U10: 6 | W10: ・ | X10: ・ | Z10: 0 | AA10: 駒澤 キヤ | AD10: 様
A11: 7 | C11: ・ | D11: ・ | F11: 28 | G11: 町屋 ヤエ | J11: 様 | K11: 8 | M11: ・ | N11: ・ | P11: 28 | Q11: 佐藤 有紗 | T11: 様 | U11: 9 | W11: ・ | X11: ・ | Z11: 0 | AA11: 山本 伸子 | AD11: 様
A12: 10 | C12: ・ | D12: ・ | F12: 56 | G12: 小比券巻 寿 | J12: 様 | K12: 11 | M12: ・ | N12: ・ | P12: 28 | Q12: 酒田 朋紀 | T12: 様 | U12: 12 | W12: ・ | X12: ・ | Z12: 0 | AA12: 藤田 絢三 | AD12: 様
A13: 13 | C13: ・ | D13: ・ | F13: 28 | G13: 成田 秀之 | J13: 様 | K13: 14 | M13: ・ | N13: ・ | P13: 28 | Q13: 坂本 政勝 | T13: 様 | U13: 15 | W13: ・ | X13: ・ | Z13: 0 | AA13: 萠出 きのえ | AD13: 様
A14: 16 | C14: ・ | D14: ・ | F14: 28 | G14: 成田 キヌエ | J14: 様 | K14: 17 | M14: ・ | N14: ・ | P14: 14 | Q14: 松林 朋子 | T14: 様 | U14: 18 | W14: ・ | X14: ・ | Z14: 0 | AA14: 萠出 克治 | AD14: 様
A15: 19 | C15: ・ | D15: ・ | F15: 28 | G15: 中村 鐐一 | J15: 様 | K15: 20 | M15: ・ | N15: ・ | P15: 0 | Q15: 若沢 広志 | T15: 様 | U15: 21 | W15: ・ | X15: ・ | Z15: 0 | AA15: 山口 瑛子 | AD15: 様
A16: 22 | C16: ・ | D16: ・ | F16: 28 | G16: 田中 真由美 | J16: 様 | K16: 23 | M16: ・ | N16: ・ | P16: 14 | Q16: 川村 魁人 | T16: 様 | U16: 24 | W16: ・ | X16: ・ | Z16: 0 | AA16: 関川 節 | AD16: 様
A17: 25 | C17: ・ | D17: ・ | F17: 30 | G17: 伊沢 リワ | J17: 様 | K17: 26 | M17: ・ | N17: ・ | P17: 30 | Q17: 鈴木 正記 | T17: 様 | U17: 27 | W17: ・ | X17: ・ | Z17: 0 | AA17: 工藤 健壽 | AD17: 様
A18: 28 | C18: ・ | D18: ・ | F18: 56 | G18: 鳴海 穂波 | J18: 様 | K18: 29 | M18: ・ | N18: ・ | P18: 28 | Q18: 工藤 希和子 | T18: 様 | U18: 30 | W18: ・ | X18: ・ | Z18: 0 | AA18: 高村 加津子 | AD18: 様
A19: 31 | C19: ・ | D19: ・ | F19: 30 | G19: 浦田 ミサ | J19: 様 | K19: 32 | M19: ・ | N19: ・ | P19: 28 | Q19: 小平 由紀夫 | T19: 様 | U19: 33 | W19: ・ | X19: ・ | Z19: 28 | AA19: 沼山 要介 | AD19: 様
A20: 34 | C20: ・ | D20: ・ | F20: 28 | G20: 太田 広枝 | J20: 様 | K20: 35 | M20: ・ | N20: ・ | P20: 28 | Q20: 浄法寺 美有 | T20: 様 | U20: 36 | W20: ・ | X20: ・ | Z20: 28 | AA20: 若月 淳 | AD20: 様
... A24: 46 | C24: ・ | D24: ・ | F24: 28 | G24: 三村 幸喜 | J24: 様 | K24: 47 | M24: ・ | N24: ・ | P24: 28 | Q24: 野田 菊枝 | T24: 様 | U24: 48 | W24: ・ | X24: ・ | Z24: 28 | AA24: 柏葉 ユリ | AD24: 様
A25: 49 | C25: ・ | E25: ・ | F25: 0 | G25: 奈良 治隆 | J25: 様 | K25: 50 | M25: ・ | N25: ・ | P25: 30 | Q25: 西山 節子 | T25: 様 | U25: 51 | W25: ・ | X25: ・ | Z25: 14 | AA25: 小栗 佳子 | AD25: 様
A26: 52 | C26: ・ | D26: ・ | F26: 28 | G26: 大竹 久美子 | J26: 様 | K26: 53 | M26: ・ | N26: ・ | P26: 30 | Q26: 横浜 秀一 | T26: 様 | U26: 54 | W26: ・ | X26: ・ | Z26: 0 | AA26: 田口 トシ子 | AD26: 様
A27: 55 | C27: ・ | D27: ・ | F27: 28 | G27: 奥山 ひさ子 | J27: 様 | K27: 56 | M27: ・ | N27: ・ | P27: 30 | Q27: 高橋 喬 | T27: 様 | U27: 57 | W27: ・ | X27: ・ | Z27: 0 | AA27: 大木 久子 | AD27: 様
A28: 58 | C28: ・ | D28: ・ | F28: 28 | G28: 岸 明香里 | J28: 様 | K28: 59 | M28: ・ | N28: ・ | P28: 7 | Q28: 古内 里枝 | T28: 様 | U28: 60 | W28: ・ | X28: ・ | Z28: 0 | AA28: 水上 民一 | AD28: 様
A29: 61 | C29: ・ | D29: ・ | F29: 28 | G29: 佐々木 顕人 | J29: 様 | K29: 62 | M29: ・ | N29: ・ | P29: 28 | Q29: 野田 菊枝 | T29: 様 | U29: 63 | W29: ・ | X29: ・ | Z29: 0 | AA29: 石田 稔 | AD29: 様
A30: 64 | C30: ・ | D30: ・ | F30: 14 | G30: 沖澤 咲妃 | J30: 様 | K30: 65 | M30: ・ | N30: ・ | P30: 28 | Q30: 佐藤 義昭 | T30: 様 | U30: 66 | W30: ・ | X30: ・ | Z30: 28 | AA30: 佐藤 初男 | AD30: 様
A31: 67 | C31: ・ | D31: ・ | F31: 28 | G31: 工藤 利子 | J31: 様 | K31: 68 | M31: ・ | N31: ・ | P31: 28 | Q31: 川村 一也 | T31: 様 | U31: 69 | W31: ・ | X31: ・ | Z31: 28 | AA31: 相馬 理奈 | AD31: 様
A32: 70 | C32: ・ | D32: ・ | F32: 28 | G32: 奥寺 真理子 | J32: 様 | K32: 71 | M32: ・ | N32: ・ | P32: 28 | Q32: 関向 辰哉 | T32: 様 | U32: 72 | V32: ・ | X32: ・ | Z32: 0 | AA32: 駒井 大毅 | AD32: 様
A33: 73 | C33: ・ | D33: ・ | F33: 28 | G33: 藤田 理恵 | J33: 様 | K33: 74 | M33: ・ | N33: ・ | P33: 28 | Q33: 藤川 雅之 | T33: 様 | U33: 75 | V33: ・ | X33: ・ | Z33: 0 | AA33: 三井 泰我 | AD33: 様
A34: 76 | C34: ・ | D34: ・ | F34: 14 | G34: 高橋 稚波 | J34: 様 | K34: 77 | M34: ・ | N34: ・ | P34: 0 | Q34: 鈴木 洋光 | T34: 様 | U34: 78 | V34: ・ | X34: ・ | Z34: 0 | AA34: 坂井 美香 | AD34: 様
A35: 外来患者数 | E35: 新： | F35: =COUNTIF(B9:B34,"・")+COUNTIF(L9:L34,"・")+COUNTIF(V9:V34,"・") -> 3 | H35: 名 | I35: 再： | J35: =COUNTIF(C9:C34,"・")+COUNTIF(M9:M34,"・")+COUNTIF(W9:W34,"・") -> 75 | L35: 名 | M35: 計： | N35: =SUM(F35:K35) -> 78 | Q35: 名 | R35: （ | S35: 精： | T35: =COUNTIF(D9:D34,"・")+COUNTIF(N9:N34,"・")+COUNTIF(X9:X34,"・") -> 77 | W35: 名 | X35: ・ | Y35: 内： | Z35: =COUNTIF(E9:E34,"・")+COUNTIF(O9:O34,"・")+COUNTIF(Y9:Y34,"・") -> 1 | AC35: 名 | AD35: ）
A37: 紹介患者様氏名 | F37: 紹介先 | K37: 逆紹介患者様氏名 | P37: 紹介元 | U37: 処置実施者 | AA37: 処置内容
E38: 様 | O38: 様 | Z38: 様
A39: 本日の検査 | F39: 検査内容 | K39: 処置実施者 | P39: 処置内容 | Z39: 様
A40: 太田 広枝 | E40: 様 | F40: 血液検査 | K40: 三村 幸喜 | O40: 様 | P40: ｾﾞﾌﾟﾘｵﾝ150mg 1セット | Z40: 様
A41: 奈良 治隆 | E41: 様 | F41: 血液検査 | K41: 坂本 政勝 | O41: 様 | P41: ハロマンス50mg 1A | Z41: 様
A42: 坂井 美香 | E42: 様 | F42: CMI | K42: 川村 魁人 | O42: 様 | P42: ハロマンス100mg 1A | Z42: 様
A43: 三井 泰我 | E43: 様 | F43: CMI | K43: 野田 菊枝 | O43: 様 | P43: ｾﾞﾌﾟﾘｵﾝ100mg 1セット | U43: 点検項目
E44: 様 | O44: 様 | U44: 項目 | Z44: 時間 | AC44: 点検者
A45: 発熱 | F45: 下痢 | K45: 風邪薬 | P45: 男性：34 | U45: 医療廃棄物 | Y45: 0.75 | AB45: 石原 恵海
A46: 0 | F46: 0 | K46: 0 | P46: 女性： | U46: 戸締り | Y46: 0.75 | AB46: ='6'!AB41:AD41 -> 松林 久美子
A48: 備考欄 | C48: （連絡事項・処方変更・その他）
G49: 特になし
G50: 石原

Sheet 21
B1: クリニック 日 誌 | H1: 令和 | J1: ='6'!J1 -> 3 | K1: 年 | L1: 7 | M1: 月 | N1: 21 | O1: 日 | Q1: （ | R1: 水 | S1: ） | V1: COO | Y1: IOO | AB1: AOM
A3: 勤務者名
A4: ='6'!A4:F4 -> 中村 恵理子 | G4: 日 | I4: 柳田 美雪 | N4: 有 | Q4: 診察室 | W4: 外来担当医 | Z4: 外来介助者
A5: 石原 恵海 | G5: 日 | I5: 石谷 美代子 | N5: 欠 | Q5: 第１診察室 | U5: 千葉 潜 | Z5: 石原
A6: 松林 久美子 | G6: 日 | I6: 堀 安由美 | N6: 日 | Q6: 第２診察室 | U6: 坂田 優 | Z6: 石原
B8: 新 | C8: 再 | D8: 精 | E8: 内 | F8: 処 | G8: 患者様氏名 | L8: 新 | M8: 再 | N8: 精 | O8: 内 | P8: 処 | Q8: 患者様氏名 | V8: 新 | W8: 再 | X8: 精 | Y8: 内 | Z8: 処 | AA8: 患者様氏名
A9: 1 | C9: ・ | D9: ・ | F9: 0 | G9: 藤井 眞 | J9: 様 | K9: 2 | M9: ・ | N9: ・ | P9: 56 | Q9: 清野 栄子 | T9: 様 | U9: 3 | W9: ・ | X9: ・ | Z9: 0 | AA9: 工藤 健壽 | AD9: 様
A10: 4 | F10: 30 | G10: 種市 日出男 | J10: 様 | K10: 5 | M10: ・ | N10: ・ | P10: 56 | Q10: 中野渡 節子 | T10: 様 | U10: 6 | W10: ・ | X10: ・ | Z10: 0 | AA10: 高村 加津子 | AD10: 様
A11: 7 | F11: 56 | G11: 角 節子 | J11: 様 | K11: 8 | M11: ・ | N11: ・ | P11: 28 | Q11: 齋藤 満寿男 | T11: 様 | U11: 9 | W11: ・ | X11: ・ | Z11: 0 | AA11: 山本 伸子 | AD11: 様
A12: 10 | F12: 30 | G12: 久保 典子 | J12: 様 | K12: 11 | M12: ・ | N12: ・ | P12: 30 | Q12: 沼尾 千春 | T12: 様 | U12: 12 | W12: ・ | X12: ・ | Z12: 0 | AA12: 瀬川 高雄 | AD12: 様
A13: 13 | F13: 14 | G13: 熊野 忠明 | J13: 様 | K13: 14 | M13: ・ | N13: ・ | P13: 28 | Q13: 菊池 成年 | T13: 様 | U13: 15 | W13: ・ | X13: ・ | Z13: 0 | AA13: 沼端 ミセ | AD13: 様
A14: 16 | F14: 28 | G14: 立花 アキコ | J14: 様 | K14: 17 | M14: ・ | N14: ・ | P14: 28 | Q14: 橋本 イチ | T14: 様 | U14: 18 | W14: ・ | X14: ・ | Z14: 0 | AA14: 深町 栄美子 | AD14: 様
A15: 19 | F15: 14 | G15: 伴 英雄 | J15: 様 | K15: 20 | M15: ・ | N15: ・ | P15: 28 | Q15: 馬場 真由美 | T15: 様 | U15: 21 | W15: ・ | X15: ・ | Z15: 0 | AA15: 藤田 絢三 | AD15: 様
A16: 22 | F16: 28 | G16: 下田 守雄 | J16: 様 | K16: 23 | M16: ・ | N16: ・ | P16: 28 | Q16: 鍛冶場 裕 | T16: 様 | U16: 24 | W16: ・ | X16: ・ | Z16: 0 | AA16: 萠出 克治 | AD16: 様
A17: 25 | F17: 28 | G17: 下田 末五郎 | J17: 様 | K17: 26 | M17: ・ | N17: ・ | P17: 28 | Q17: 岡本 光男 | T17: 様 | U17: 27 | W17: ・ | X17: ・ | Z17: 0 | AA17: 萠出 きのゑ | AD17: 様
A18: 28 | F18: 14 | G18: 長岐 和哉 | J18: 様 | K18: 29 | M18: ・ | N18: ・ | P18: 0 | Q18: 屑川 知行 | T18: 様 | U18: 30 | W18: ・ | X18: ・ | Z18: 0 | AA18: 石井 佐代子 | AD18: 様
A19: 31 | F19: 28 | G19: 末竹 秀子 | J19: 様 | K19: 32 | M19: ・ | N19: ・ | P19: 56 | Q19: 柏葉 信子 | T19: 様 | U19: 33 | W19: ・ | X19: ・ | Z19: 0 | AA19: 山口 瑛子 | AD19: 様
A20: 34 | F20: 28 | G20: 猪野 遥 | J20: 様 | K20: 35 | M20: ・ | N20: ・ | P20: 30 | Q20: 中市 マツエ | T20: 様 | U20: 36 | W20: ・ | X20: ・ | Z20: 0 | AA20: 相田 敏子 | AD20: 様
A21: 37 | F21: 28 | G21: 浪岡 ヒデ | J21: 様 | K21: 38 | M21: ・ | N21: ・ | P21: 28 | Q21: 新山 光浩 | T21: 様 | U21: 39 | W21: ・ | X21: ・ | Z21: 0 | AA21: 豊川 洋子 | AD21: 様
... A27: 55 | F27: 28 | G27: 岩沢 堅心 | J27: 様 | K27: 56 | M27: ・ | N27: ・ | P27: 56 | Q27: 原田 千鴻 | T27: 様 | U27: 57 | W27: ・ | X27: ・ | Z27: 28 | AA27: 須藤 直子 | AD27: 様
A28: 58 | F28: 56 | G28: 種市 悦子 | J28: 様 | K28: 59 | M28: ・ | N28: ・ | P28: 28 | Q28: 坂田 佳織 | T28: 様 | U28: 60 | V28: ・ | X28: ・ | Z28: 28 | AA28: 酒井 啓太 | AD28: 様
A29: 61 | F29: 28 | G29: 渡辺 クニ | J29: 様 | K29: 62 | M29: ・ | N29: ・ | P29: 14 | Q29: 齋藤 舞花 | T29: 様 | U29: 63 | W29: ・ | X29: ・ | Z29: 28 | AA29: 沼田 由貴 | AD29: 様
A30: 64 | F30: 28 | G30: 中村 久美子 | J30: 様 | K30: 65 | M30: ・ | N30: ・ | P30: 28 | Q30: 木村 めぐみ | T30: 様 | U30: 66 | W30: ・ | X30: ・ | Z30: 28 | AA30: 大渡 信光 | AD30: 様
A31: 67 | F31: 30 | G31: 白取 イツ子 | J31: 様 | K31: 68 | M31: ・ | N31: ・ | P31: 28 | Q31: 濤岡 定四郎 | T31: 様 | U31: 69 | AD31: 様
A32: 外来患者数 | E32: 新： | F32: =COUNTIF(B9:B31,"・")+COUNTIF(L9:L31,"・")+COUNTIF(V9:V31,"・") -> 1 | H32: 名 | I32: 再： | J32: =COUNTIF(C9:C31,"・")+COUNTIF(M9:M31,"・")+COUNTIF(W9:W31,"・") -> 45 | L32: 名 | M32: 計： | N32: =SUM(F32:K32) -> 46 | Q32: 名 | R32: （ | S32: 精： | T32: =COUNTIF(D9:D31,"・")+COUNTIF(N9:N31,"・")+COUNTIF(X9:X31,"・") -> 46 | W32: 名 | X32: ・ | Y32: 内： | Z32: =COUNTIF(E9:E31,"・")+COUNTIF(O9:O31,"・")+COUNTIF(Y9:Y31,"・") -> 0 | AC32: 名 | AD32: ）
A34: 紹介患者様氏名 | F34: 紹介先 | K34: 逆紹介患者様氏名 | P34: 紹介元 | U34: 処置実施者 | AA34: 処置内容
A35: 沼山 寛子 | E35: 様 | F35: 宛名なし | O35: 様 | Z35: 様
A36: 本日の検査 | F36: 検査内容 | K36: 処置実施者 | P36: 処置内容 | Z36: 様
A37: 久保 典子 | E37: 様 | F37: 血液検査 | K37: 藤井 眞 | O37: 様 | P37: ソリタT3500ml 側管メイロン20ｍｌ 1A | Z37: 様
E38: 様 | O38: 様 | Z38: 様
E39: 様 | O39: 様 | U39: 点検項目
E40: 様 | O40: 様 | U40: 項目 | Z40: 時間 | AC40: 点検者
A41: 発熱 | F41: 下痢 | K41: 風邪薬 | P41: 男性： | U41: 医療廃棄物 | Y41: 0.75 | AB41: 石原 恵海
A42: 0 | F42: 0 | K42: 0 | P42: 女性： | U42: 戸締り | Y42: 0.75 | AB42: ='6'!AB41:AD41 -> 松林 久美子
A44: 備考欄 | C44: （連絡事項・処方変更・その他）
G45: 特になし
G46: 石原

Sheet 22
B1: クリニック 日 誌 | H1: 令和 | J1: ='6'!J1 -> 3 | K1: 年 | L1: 7 | M1: 月 | N1: 22 | O1: 日 | Q1: （ | R1: 木 | S1: ） | V1: COO | Y1: IOO | AB1: AOM
A3: 勤務者名
A4: ='6'!A4:F4 -> 中村 恵理子 | G4: 日 | I4: 柳田 美雪 | N4: 有 | Q4: 診察室 | W4: 外来担当医 | Z4: 外来介助者
A5: 石原 恵海 | G5: 日 | I5: 石谷 美代子 | N5: 欠 | Q5: 第１診察室 | U5: 千葉 潜 | Z5: 石原
A6: 松林 久美子 | G6: 日 | Q6: 第２診察室 | U6: 田名部 茂 | Z6: 石原
B8: 新 | C8: 再 | D8: 精 | E8: 内 | F8: 処 | G8: 患者様氏名 | L8: 新 | M8: 再 | N8: 精 | O8: 内 | P8: 処 | Q8: 患者様氏名 | V8: 新 | W8: 再 | X8: 精 | Y8: 内 | Z8: 処 | AA8: 患者様氏名
A9: 1 | C9: ・ | D9: ・ | F9: 28 | G9: 二又 安子 | J9: 様 | K9: 2 | M9: ・ | N9: ・ | P9: 0 | Q9: 沢村 まさえ | T9: 様 | U9: 3 | W9: ・ | X9: ・ | Z9: 0 | AA9: 西舘 瞳 | AD9: 様
A10: 4 | C10: ・ | D10: ・ | F10: 7 | G10: 種市 邦男 | J10: 様 | K10: 5 | M10: ・ | N10: ・ | P10: 0 | Q10: 安部 信祥 | T10: 様 | U10: 6 | W10: ・ | X10: ・ | Z10: 0 | AA10: 相内 太子 | AD10: 様
A11: 7 | C11: ・ | D11: ・ | F11: 28 | G11: 馬場 トシ | J11: 様 | K11: 8 | M11: ・ | N11: ・ | P11: 30 | Q11: 河原崎 キヨエ | T11: 様 | U11: 9 | W11: ・ | X11: ・ | Z11: 0 | AA11: 藤田 絢三 | AD11: 様
A12: 10 | C12: ・ | D12: ・ | F12: 28 | G12: 織笠 勝男 | J12: 様 | K12: 11 | M12: ・ | N12: ・ | P12: 60 | Q12: 月館 ユリ | T12: 様 | U12: 12 | W12: ・ | X12: ・ | Z12: 0 | AA12: 工藤 健壽 | AD12: 様
A13: 13 | C13: ・ | D13: ・ | F13: 28 | G13: 木村 健 | J13: 様 | K13: 14 | M13: ・ | N13: ・ | P13: 28 | Q13: 橋本 豊彦 | T13: 様 | U13: 15 | W13: ・ | X13: ・ | Z13: 0 | AA13: 綿貫 啓子 | AD13: 様
A14: 16 | C14: ・ | D14: ・ | F14: 28 | G14: 中山 慎也 | J14: 様 | K14: 17 | L14: ・ | O14: ・ | P14: 25 | Q14: 佐藤 トメ | T14: 様 | U14: 18 | W14: ・ | X14: ・ | Z14: 0 | AA14: 瀬川 高雄 | AD14: 様
A15: 19 | C15: ・ | D15: ・ | F15: 14 | G15: 樋口 優大 | J15: 様 | K15: 20 | M15: ・ | N15: ・ | P15: 60 | Q15: 馬場 貴子 | T15: 様 | U15: 21 | W15: ・ | X15: ・ | Z15: 0 | AA15: 山口 瑛子 | AD15: 様
A16: 22 | C16: ・ | D16: ・ | F16: 56 | G16: 山田 代志弘 | J16: 様 | K16: 23 | M16: ・ | N16: ・ | P16: 28 | Q16: 和田 春奈 | T16: 様 | U16: 24 | W16: ・ | X16: ・ | Z16: 0 | AA16: 山本 伸子 | AD16: 様
A17: 25 | C17: ・ | D17: ・ | F17: 30 | G17: 石岡 正利 | J17: 様 | K17: 26 | M17: ・ | N17: ・ | P17: 28 | Q17: 岡山 貴文 | T17: 様 | U17: 27 | W17: ・ | X17: ・ | Z17: 0 | AA17: 石ケ谷 數子 | AD17: 様
A18: 28 | C18: ・ | D18: ・ | F18: 56 | G18: 山崎 ミドリ | J18: 様 | K18: 29 | M18: ・ | N18: ・ | P18: 60 | Q18: 渡辺 栄蔵 | T18: 様 | U18: 30 | W18: ・ | X18: ・ | Z18: 0 | AA18: 藪 真弓 | AD18: 様
A19: 31 | C19: ・ | D19: ・ | F19: 14 | G19: 福村 彩 | J19: 様 | K19: 32 | M19: ・ | N19: ・ | P19: 28 | Q19: 若沢 広志 | T19: 様 | U19: 33 | W19: ・ | X19: ・ | Z19: 0 | AA19: 高村 加津子 | AD19: 様
A20: 34 | C20: ・ | D20: ・ | F20: 28 | G20: 高橋 田鶴子 | J20: 様 | K20: 35 | M20: ・ | N20: ・ | P20: 60 | Q20: 小比類巻 一夫 | T20: 様 | U20: 36 | W20: ・ | X20: ・ | Z20: 0 | AA20: 坂本 政勝 | AD20: 様
A21: 37 | C21: ・ | D21: ・ | F21: 28 | G21: 杉本 治子 | J21: 様 | K21: 38 | M21: ・ | N21: ・ | P21: 35 | Q21: 中野 良子 | T21: 様 | U21: 39 | W21: ・ | X21: ・ | Z21: 0 | AA21: 田口 トシ子 | AD21: 様
A22: 40 | C22: ・ | D22: ・ | F22: 30 | G22: 坂本 丈夫 | J22: 様 | K22: 41 | M22: ・ | N22: ・ | P22: 21 | Q22: 石田 喜明 | T22: 様 | U22: 42 | W22: ・ | X22: ・ | Z22: 0 | AA22: 大木 久子 | AD22: 様
A23: 43 | C23: ・ | D23: ・ | F23: 14 | G23: 夏堀 多恵 | J23: 様 | K23: 44 | M23: ・ | N23: ・ | P23: 28 | Q23: 宮古 克弘 | T23: 様 | U23: 45 | W23: ・ | X23: ・ | Z23: 0 | AA23: 相田 敏子 | AD23: 様
A24: 46 | C24: ・ | D24: ・ | F24: 30 | G24: 伊藤 哲也 | J24: 様 | K24: 47 | M24: ・ | N24: ・ | P24: 3 | Q24: 久慈 準子 | T24: 様 | U24: 48 | W24: ・ | X24: ・ | Z24: 0 | AA24: 酒田 朋紀 | AD24: 様
A25: 49 | C25: ・ | D25: ・ | F25: 7 | G25: 中居 敬悦 | J25: 様 | K25: 50 | L25: ・ | N25: ・ | P25: 7 | Q25: 家政 有希 | T25: 様 | U25: 51 | W25: ・ | X25: ・ | Z25: 0 | AA25: 坂本 佳之 | AD25: 様
A26: 52 | C26: ・ | D26: ・ | F26: 15 | G26: 高松 美由紀 | J26: 様 | K26: 53 | M26: ・ | N26: ・ | P26: 28 | Q26: 和田 成仁 | T26: 様 | U26: 54 | W26: ・ | X26: ・ | Z26: 0 | AA26: 大久保 直将 | AD26: 様
A27: 55 | C27: ・ | D27: ・ | F27: 14 | G27: 杉元 悠敏 | J27: 様 | K27: 56 | M27: ・ | N27: ・ | P27: 7 | Q27: 佐藤 利治 | T27: 様 | U27: 57 | W27: ・ | X27: ・ | Z27: 0 | AA27: 佐々木 政夫 | AD27: 様
A28: 58 | C28: ・ | D28: ・ | F28: 30 | G28: 鈴木 愛子 | J28: 様 | K28: 59 | T28: 様 | U28: 60 | AD28: 様
A29: 外来患者数 | E29: 新： | F29: =COUNTIF(B9:B28,"・")+COUNTIF(L9:L28,"・")+COUNTIF(V9:V28,"・") -> 2 | H29: 名 | I29: 再： | J29: =COUNTIF(C9:C28,"・")+COUNTIF(M9:M28,"・")+COUNTIF(W9:W28,"・") -> 56 | L29: 名 | M29: 計： | N29: =SUM(F29:K29) -> 58 | Q29: 名 | R29: （ | S29: 精： | T29: =COUNTIF(D9:D28,"・")+COUNTIF(N9:N28,"・")+COUNTIF(X9:X28,"・") -> 57 | W29: 名 | X29: ・ | Y29: 内： | Z29: =COUNTIF(E9:E28,"・")+COUNTIF(O9:O28,"・")+COUNTIF(Y9:Y28,"・") -> 1 | AC29: 名 | AD29: ）
A31: 紹介患者様氏名 | F31: 紹介先 | K31: 逆紹介患者様氏名 | P31: 紹介元 | U31: 処置実施者 | AA31: 処置内容
A32: 渡辺 栄蔵 | E32: 様 | F32: 三沢中央病院 | K32: 和田 成仁 | O32: 様 | P32: 一番町クリニック | Z32: 様
A33: 若沢 広志 | E33: 様 | F33: 青南病院 | O33: 様 | Z33: 様
A34: 本日の検査 | F34: 検査内容 | K34: 処置実施者 | P34: 処置内容 | Z34: 様
E35: 様 | O35: 様 | U35: 点検項目
E36: 様 | O36: 様 | U36: 項目 | Z36: 時間 | AC36: 点検者
A37: 発熱 | F37: 下痢 | K37: 風邪薬 | P37: 男性： | U37: 医療廃棄物 | Y37: 0.75 | AB37: 石原 恵海
A38: 0 | F38: 0 | K38: 0 | P38: 女性： | U38: 戸締り | Y38: 0.75 | AB38: ='6'!AB41:AD41 -> 松林 久美子
A40: 備考欄 | C40: （連絡事項・処方変更・その他）
G41: 特になし
G42: 石原

Sheet 23
B1: クリニック 日 誌 | H1: 令和 | J1: ='6'!J1 -> 3 | K1: 年 | L1: 7 | M1: 月 | N1: 23 | O1: 日 | Q1: （ | R1: 金 | S1: ） | V1: COO | Y1: IOO | AB1: AOM
A3: 勤務者名
A4: ='6'!A4:F4 -> 中村 恵理子 | G4: 日 | I4: 柳田 美雪 | N4: 日 | Q4: 診察室 | W4: 外来担当医 | Z4: 外来介助者
A5: 石原 恵海 | G5: 日 | I5: 石谷 美代子 | N5: 傷病 | Q5: 第１診察室 | U5: 金 泰徳 | Z5: 石原
A6: 松林 久美子 | G6: 日 | Q6: 第２診察室 | U6: 千葉 良 | Z6: 柳田
B8: 新 | C8: 再 | D8: 精 | E8: 内 | F8: 処 | G8: 患者様氏名 | L8: 新 | M8: 再 | N8: 精 | O8: 内 | P8: 処 | Q8: 患者様氏名 | V8: 新 | W8: 再 | X8: 精 | Y8: 内 | Z8: 処 | AA8: 患者様氏名
A9: 1 | C9: ・ | D9: ・ | F9: 21 | G9: 熊野 富美子 | J9: 様 | K9: 2 | M9: ・ | N9: ・ | P9: 60 | Q9: 遠藤 晴美 | T9: 様 | U9: 3 | W9: ・ | X9: ・ | Z9: 0 | AA9: 千葉 スワ | AD9: 様
A10: 4 | C10: ・ | D10: ・ | F10: 30 | G10: 柳平 ミセ | J10: 様 | K10: 5 | M10: ・ | N10: ・ | P10: 30 | Q10: 古川 とし | T10: 様 | U10: 6 | W10: ・ | X10: ・ | Z10: 0 | AA10: 工藤 健壽 | AD10: 様
A11: 7 | C11: ・ | D11: ・ | F11: 63 | G11: 浄法寺 勉 | J11: 様 | K11: 8 | M11: ・ | N11: ・ | P11: 30 | Q11: 岩崎 珠美 | T11: 様 | U11: 9 | W11: ・ | X11: ・ | Z11: 0 | AA11: 山本 伸子 | AD11: 様
A12: 10 | C12: ・ | D12: ・ | F12: 60 | G12: 大野 トシ | J12: 様 | K12: 11 | M12: ・ | N12: ・ | P12: 30 | Q12: 勝井 カツ子 | T12: 様 | U12: 12 | W12: ・ | X12: ・ | Z12: 0 | AA12: 沼端 ミセ | AD12: 様
A13: 13 | C13: ・ | D13: ・ | F13: 30 | G13: 中村 ひで子 | J13: 様 | K13: 14 | M13: ・ | N13: ・ | P13: 0 | Q13: 磯谷 善正 | T13: 様 | U13: 15 | W13: ・ | X13: ・ | Z13: 0 | AA13: 山口 瑛子 | AD13: 様
A14: 16 | C14: ・ | D14: ・ | F14: 42 | G14: 杉山 博子 | J14: 様 | K14: 17 | M14: ・ | N14: ・ | P14: 28 | Q14: 福士 尚広 | T14: 様 | U14: 18 | W14: ・ | X14: ・ | Z14: 0 | AA14: 萠出 克治 | AD14: 様
A15: 19 | C15: ・ | D15: ・ | F15: 28 | G15: 橋本 隆二 | J15: 様 | K15: 20 | M15: ・ | N15: ・ | P15: 28 | Q15: 蛯名 信一郎 | T15: 様 | U15: 21 | W15: ・ | X15: ・ | Z15: 0 | AA15: 萠出 きのゑ | AD15: 様
A16: 22 | C16: ・ | D16: ・ | F16: 28 | G16: 岩間 ツネ | J16: 様 | K16: 23 | M16: ・ | N16: ・ | P16: 30 | Q16: 齋藤 千鶴 | T16: 様 | U16: 24 | W16: ・ | X16: ・ | Z16: 0 | AA16: 瀬川 高雄 | AD16: 様
A17: 25 | C17: ・ | D17: ・ | F17: 28 | G17: 小林 稔 | J17: 様 | K17: 26 | M17: ・ | N17: ・ | P17: 30 | Q17: 上久保 翔惺 | T17: 様 | U17: 27 | W17: ・ | X17: ・ | Z17: 0 | AA17: 綿貫 啓子 | AD17: 様
A18: 28 | C18: ・ | D18: ・ | F18: 15 | G18: 成田 彩美 | J18: 様 | K18: 29 | M18: ・ | N18: ・ | P18: 30 | Q18: 佐々木 健太 | T18: 様 | U18: 30 | W18: ・ | X18: ・ | Z18: 0 | AA18: 深町 栄美子 | AD18: 様
A19: 31 | C19: ・ | D19: ・ | F19: 28 | G19: 藪 真弓 | J19: 様 | K19: 32 | M19: ・ | N19: ・ | P19: 30 | Q19: 西舘 由惟 | T19: 様 | U19: 33 | W19: ・ | X19: ・ | Z19: 0 | AA19: 高村 加津子 | AD19: 様
A20: 34 | C20: ・ | D20: ・ | F20: 1 | G20: 横山 光子 | J20: 様 | K20: 35 | M20: ・ | N20: ・ | P20: 30 | Q20: 黒川 日々人 | T20: 様 | U20: 36 | W20: ・ | X20: ・ | Z20: 0 | AA20: 石井 佐代子 | AD20: 様
... A23: 43 | C23: ・ | D23: ・ | F23: 60 | G23: 市川 由雄 | J23: 様 | K23: 44 | M23: ・ | N23: ・ | P23: 0 | Q23: 渡辺 クニ | T23: 様 | U23: 45 | W23: ・ | X23: ・ | Z23: 0 | AA23: 坂本 政勝 | AD23: 様
A24: 46 | C24: ・ | D24: ・ | F24: 60 | G24: 玉澤 善治 | J24: 様 | K24: 47 | L24: ・ | N24: ・ | P24: 28 | Q24: 竹内 キミヱ | T24: 様 | U24: 48 | AD24: 様
A25: 外来患者数 | E25: 新： | F25: =COUNTIF(B9:B24,"・")+COUNTIF(L9:L24,"・")+COUNTIF(V9:V24,"・") -> 1 | H25: 名 | I25: 再： | J25: =COUNTIF(C9:C24,"・")+COUNTIF(M9:M24,"・")+COUNTIF(W9:W24,"・") -> 46 | L25: 名 | M25: 計： | N25: =SUM(F25:K25) -> 47 | Q25: 名 | R25: （ | S25: 精： | T25: =COUNTIF(D9:D24,"・")+COUNTIF(N9:N24,"・")+COUNTIF(X9:X24,"・") -> 47 | W25: 名 | X25: ・ | Y25: 内： | Z25: =COUNTIF(E9:E24,"・")+COUNTIF(O9:O24,"・")+COUNTIF(Y9:Y24,"・") -> 0 | AC25: 名 | AD25: ）
A27: 紹介患者様氏名 | F27: 紹介先 | K27: 逆紹介患者様氏名 | P27: 紹介元 | U27: 処置実施者 | AA27: 処置内容
E28: 様 | K28: 竹内 キミヱ | O28: 様 | P28: ひぐちクリニック | Z28: 様
A29: 本日の検査 | F29: 検査内容 | K29: 処置実施者 | P29: 処置内容 | Z29: 様
A30: 竹内 キミヱ | E30: 様 | F30: HDS-R・MMSE | O30: 様 | U30: 点検項目
E31: 様 | O31: 様 | U31: 項目 | Z31: 時間 | AC31: 点検者
A32: 発熱 | F32: 下痢 | K32: 風邪薬 | P32: 男性：18 | U32: 医療廃棄物 | Y32: 0.75 | AB32: 柳田 美雪
A33: 0 | F33: 0 | K33: 0 | P33: 女性：29 | U33: 戸締り | Y33: 0.75 | AB33: ='6'!AB41:AD41 -> 松林 久美子
A35: 備考欄 | C35: （連絡事項・処方変更・その他）
G36: 特記なし
G37: 柳田

Sheet 24
B1: クリニック 日 誌 | H1: 令和 | J1: ='6'!J1 -> 3 | K1: 年 | L1: 7 | M1: 月 | N1: 24 | O1: 日 | Q1: （ | S1: ） | V1: COO | Y1: IOO | AB1: AOM
A3: 勤務者名
A4: ='6'!A4:F4 -> 中村 恵理子 | G4: 日 | I4: 柳田 美雪 | N4: 日 | Q4: 診察室 | W4: 外来担当医 | Z4: 外来介助者
A5: 石原 恵海 | G5: 日 | I5: 石谷 美代子 | N5: 欠 | Q5: 第１診察室 | Z5: 柳田・石原
A6: 鳴海 彩香 | G6: 日 | Q6: 第２診察室
B8: 新 | C8: 再 | D8: 精 | E8: 内 | F8: 処 | G8: 患者様氏名 | L8: 新 | M8: 再 | N8: 精 | O8: 内 | P8: 処 | Q8: 患者様氏名 | V8: 新 | W8: 再 | X8: 精 | Y8: 内 | Z8: 処 | AA8: 患者様氏名
A9: 1 | C9: ・ | D9: ・ | J9: 様 | K9: 2 | M9: ・ | N9: ・ | T9: 様 | U9: 3 | W9: ・ | X9: ・ | AD9: 様
A10: 4 | J10: 様 | K10: 5 | M10: ・ | N10: ・ | T10: 様 | U10: 6 | W10: ・ | X10: ・ | AD10: 様
A11: 7 | J11: 様 | K11: 8 | M11: ・ | N11: ・ | T11: 様 | U11: 9 | W11: ・ | X11: ・ | AD11: 様
A12: 10 | J12: 様 | K12: 11 | M12: ・ | N12: ・ | T12: 様 | U12: 12 | W12: ・ | X12: ・ | AD12: 様
A13: 13 | J13: 様 | K13: 14 | M13: ・ | N13: ・ | T13: 様 | U13: 15 | W13: ・ | X13: ・ | AD13: 様
A14: 16 | J14: 様 | K14: 17 | M14: ・ | N14: ・ | T14: 様 | U14: 18 | W14: ・ | X14: ・ | AD14: 様
A15: 19 | J15: 様 | K15: 20 | M15: ・ | N15: ・ | T15: 様 | U15: 21 | W15: ・ | X15: ・ | AD15: 様
A16: 22 | J16: 様 | K16: 23 | M16: ・ | N16: ・ | T16: 様 | U16: 24 | W16: ・ | X16: ・ | AD16: 様
A17: 25 | J17: 様 | K17: 26 | M17: ・ | N17: ・ | T17: 様 | U17: 27 | W17: ・ | X17: ・ | AD17: 様
A18: 28 | J18: 様 | K18: 29 | M18: ・ | N18: ・ | T18: 様 | U18: 30 | W18: ・ | X18: ・ | AD18: 様
A19: 31 | J19: 様 | K19: 32 | M19: ・ | N19: ・ | T19: 様 | U19: 33 | W19: ・ | X19: ・ | AD19: 様
A20: 34 | J20: 様 | K20: 35 | M20: ・ | N20: ・ | T20: 様 | U20: 36 | W20: ・ | X20: ・ | AD20: 様
A21: 37 | J21: 様 | K21: 38 | M21: ・ | N21: ・ | T21: 様 | U21: 39 | W21: ・ | X21: ・ | AD21: 様
A22: 40 | J22: 様 | K22: 41 | T22: 様 | U22: 42 | AD22: 様
A23: 43 | J23: 様 | K23: 44 | T23: 様 | U23: 45 | AD23: 様
A24: 46 | J24: 様 | K24: 47 | T24: 様 | U24: 48 | AD24: 様
A25: 49 | J25: 様 | K25: 50 | T25: 様 | U25: 51 | AD25: 様
A26: 52 | J26: 様 | K26: 53 | T26: 様 | U26: 54 | AD26: 様
A27: 55 | J27: 様 | K27: 56 | T27: 様 | U27: 57 | AD27: 様
A28: 58 | J28: 様 | K28: 59 | T28: 様 | U28: 60 | AD28: 様
A29: 61 | J29: 様 | K29: 62 | T29: 様 | U29: 63 | AD29: 様
A30: 64 | J30: 様 | K30: 65 | T30: 様 | U30: 66 | AD30: 様
A31: 67 | J31: 様 | K31: 68 | T31: 様 | U31: 69 | AD31: 様
A32: 70 | J32: 様 | K32: 71 | T32: 様 | U32: 72 | AD32: 様
A33: 73 | J33: 様 | K33: 74 | T33: 様 | U33: 75 | AD33: 様
A34: 外来患者数 | E34: 新： | F34: =COUNTIF(B9:B33,"・")+COUNTIF(L9:L33,"・")+COUNTIF(V9:V33,"・") -> 0 | H34: 名 | I34: 再： | J34: =COUNTIF(C9:C33,"・")+COUNTIF(M9:M33,"・")+COUNTIF(W9:W33,"・") -> 27 | L34: 名 | M34: 計： | N34: =SUM(F34:K34) -> 27 | Q34: 名 | R34: （ | S34: 精： | T34: =COUNTIF(D9:D33,"・")+COUNTIF(N9:N33,"・")+COUNTIF(X9:X33,"・") -> 27 | W34: 名 | X34: ・ | Y34: 内： | Z34: =COUNTIF(E9:E33,"・")+COUNTIF(O9:O33,"・")+COUNTIF(Y9:Y33,"・") -> 0 | AC34: 名 | AD34: ）
A36: 紹介患者様氏名 | F36: 紹介先 | K36: 逆紹介患者様氏名 | P36: 紹介元 | U36: 処置実施者 | AA36: 処置内容
E37: 様 | O37: 様 | Z37: 様
E38: 様 | O38: 様 | Z38: 様
E39: 様 | O39: 様 | Z39: 様
E40: 様 | O40: 様 | Z40: 様
E41: 様 | O41: 様 | Z41: 様
A42: 本日の検査 | F42: 検査内容 | K42: 処置実施者 | P42: 処置内容 | Z42: 様
E43: 様 | O43: 様 | Z43: 様
E44: 様 | O44: 様 | Z44: 様
E45: 様 | O45: 様 | Z45: 様
E46: 様 | O46: 様 | U46: 点検項目
E47: 様 | O47: 様 | U47: 項目 | Z47: 時間 | AC47: 点検者
A48: 発熱 | F48: 下痢 | K48: 風邪薬 | P48: 男性： | U48: 医療廃棄物 | Y48: 0.75
A49: 0 | F49: 0 | K49: 0 | P49: 女性： | U49: 戸締り | Y49: 0.75 | AB49: ='6'!AB41:AD41 -> 松林 久美子
A51: 備考欄 | C51: （連絡事項・処方変更・その他）

Sheet 25
B1: クリニック 日 誌 | H1: 令和 | J1: ='6'!J1 -> 3 | K1: 年 | L1: 7 | M1: 月 | N1: 25 | O1: 日 | Q1: （ | S1: ） | V1: COO | Y1: IOO | AB1: AOM
A3: 勤務者名
A4: ='6'!A4:F4 -> 中村 恵理子 | G4: 日 | I4: 柳田 美雪 | N4: 日 | Q4: 診察室 | W4: 外来担当医 | Z4: 外来介助者
A5: 石原 恵海 | G5: 日 | I5: 石谷 美代子 | N5: 欠 | Q5: 第１診察室 | Z5: 柳田・石原
A6: 鳴海 彩香 | G6: 日 | Q6: 第２診察室
B8: 新 | C8: 再 | D8: 精 | E8: 内 | F8: 処 | G8: 患者様氏名 | L8: 新 | M8: 再 | N8: 精 | O8: 内 | P8: 処 | Q8: 患者様氏名 | V8: 新 | W8: 再 | X8: 精 | Y8: 内 | Z8: 処 | AA8: 患者様氏名
A9: 1 | C9: ・ | D9: ・ | J9: 様 | K9: 2 | M9: ・ | N9: ・ | T9: 様 | U9: 3 | W9: ・ | X9: ・ | AD9: 様
A10: 4 | J10: 様 | K10: 5 | M10: ・ | N10: ・ | T10: 様 | U10: 6 | W10: ・ | X10: ・ | AD10: 様
A11: 7 | J11: 様 | K11: 8 | M11: ・ | N11: ・ | T11: 様 | U11: 9 | W11: ・ | X11: ・ | AD11: 様
A12: 10 | J12: 様 | K12: 11 | M12: ・ | N12: ・ | T12: 様 | U12: 12 | W12: ・ | X12: ・ | AD12: 様
A13: 13 | J13: 様 | K13: 14 | M13: ・ | N13: ・ | T13: 様 | U13: 15 | W13: ・ | X13: ・ | AD13: 様
A14: 16 | J14: 様 | K14: 17 | M14: ・ | N14: ・ | T14: 様 | U14: 18 | W14: ・ | X14: ・ | AD14: 様
A15: 19 | J15: 様 | K15: 20 | M15: ・ | N15: ・ | T15: 様 | U15: 21 | W15: ・ | X15: ・ | AD15: 様
A16: 22 | J16: 様 | K16: 23 | M16: ・ | N16: ・ | T16: 様 | U16: 24 | W16: ・ | X16: ・ | AD16: 様
A17: 25 | J17: 様 | K17: 26 | M17: ・ | N17: ・ | T17: 様 | U17: 27 | W17: ・ | X17: ・ | AD17: 様
A18: 28 | J18: 様 | K18: 29 | M18: ・ | N18: ・ | T18: 様 | U18: 30 | W18: ・ | X18: ・ | AD18: 様
A19: 31 | J19: 様 | K19: 32 | M19: ・ | N19: ・ | T19: 様 | U19: 33 | W19: ・ | X19: ・ | AD19: 様
A20: 34 | J20: 様 | K20: 35 | M20: ・ | N20: ・ | T20: 様 | U20: 36 | W20: ・ | X20: ・ | AD20: 様
A21: 37 | J21: 様 | K21: 38 | M21: ・ | N21: ・ | T21: 様 | U21: 39 | W21: ・ | X21: ・ | AD21: 様
A22: 40 | J22: 様 | K22: 41 | T22: 様 | U22: 42 | AD22: 様
A23: 43 | J23: 様 | K23: 44 | T23: 様 | U23: 45 | AD23: 様
A24: 46 | J24: 様 | K24: 47 | T24: 様 | U24: 48 | AD24: 様
A25: 49 | J25: 様 | K25: 50 | T25: 様 | U25: 51 | AD25: 様
A26: 52 | J26: 様 | K26: 53 | T26: 様 | U26: 54 | AD26: 様
A27: 55 | J27: 様 | K27: 56 | T27: 様 | U27: 57 | AD27: 様
A28: 58 | J28: 様 | K28: 59 | T28: 様 | U28: 60 | AD28: 様
A29: 61 | J29: 様 | K29: 62 | T29: 様 | U29: 63 | AD29: 様
A30: 64 | J30: 様 | K30: 65 | T30: 様 | U30: 66 | AD30: 様
A31: 67 | J31: 様 | K31: 68 | T31: 様 | U31: 69 | AD31: 様
A32: 70 | J32: 様 | K32: 71 | T32: 様 | U32: 72 | AD32: 様
A33: 73 | J33: 様 | K33: 74 | T33: 様 | U33: 75 | AD33: 様
A34: 外来患者数 | E34: 新： | F34: =COUNTIF(B9:B33,"・")+COUNTIF(L9:L33,"・")+COUNTIF(V9:V33,"・") -> 0 | H34: 名 | I34: 再： | J34: =COUNTIF(C9:C33,"・")+COUNTIF(M9:M33,"・")+COUNTIF(W9:W33,"・") -> 27 | L34: 名 | M34: 計： | N34: =SUM(F34:K34) -> 27 | Q34: 名 | R34: （ | S34: 精： | T34: =COUNTIF(D9:D33,"・")+COUNTIF(N9:N33,"・")+COUNTIF(X9:X33,"・") -> 27 | W34: 名 | X34: ・ | Y34: 内： | Z34: =COUNTIF(E9:E33,"・")+COUNTIF(O9:O33,"・")+COUNTIF(Y9:Y33,"・") -> 0 | AC34: 名 | AD34: ）
A36: 紹介患者様氏名 | F36: 紹介先 | K36: 逆紹介患者様氏名 | P36: 紹介元 | U36: 処置実施者 | AA36: 処置内容
E37: 様 | O37: 様 | Z37: 様
E38: 様 | O38: 様 | Z38: 様
E39: 様 | O39: 様 | Z39: 様
E40: 様 | O40: 様 | Z40: 様
E41: 様 | O41: 様 | Z41: 様
A42: 本日の検査 | F42: 検査内容 | K42: 処置実施者 | P42: 処置内容 | Z42: 様
E43: 様 | O43: 様 | Z43: 様
E44: 様 | O44: 様 | Z44: 様
E45: 様 | O45: 様 | Z45: 様
E46: 様 | O46: 様 | U46: 点検項目
E47: 様 | O47: 様 | U47: 項目 | Z47: 時間 | AC47: 点検者
A48: 発熱 | F48: 下痢 | K48: 風邪薬 | P48: 男性： | U48: 医療廃棄物 | Y48: 0.75 | AB48: 柳田美雪
A49: 0 | F49: 0 | K49: 0 | P49: 女性： | U49: 戸締り | Y49: 0.75 | AB49: ='6'!AB41:AD41 -> 松林 久美子
A51: 備考欄 | C51: （連絡事項・処方変更・その他）

Sheet 26
B1: クリニック 日 誌 | H1: 令和 | J1: ='6'!J1 -> 3 | K1: 年 | L1: 7 | M1: 月 | N1: 26 | O1: 日 | Q1: （ | R1: 月 | S1: ） | V1: COO | Y1: IOO | AB1: AOM
A3: 勤務者名
A4: ='6'!A4:F4 -> 中村 恵理子 | G4: 日 | I4: 柳田 美雪 | N4: 日 | Q4: 診察室 | W4: 外来担当医 | Z4: 外来介助者
A5: 石原 恵海 | G5: 日 | I5: 石谷 美代子 | N5: 欠 | Q5: 第１診察室 | U5: 馬渡 / 千葉 | Z5: 柳田・石原
A6: 鳴海 彩香 | G6: 日 | I6: 松林 久美子 | N6: 日 | Q6: 第２診察室 | U6: 坂田 優 | Z6: 柳田・石原
B8: 新 | C8: 再 | D8: 精 | E8: 内 | F8: 処 | G8: 患者様氏名 | L8: 新 | M8: 再 | N8: 精 | O8: 内 | P8: 処 | Q8: 患者様氏名 | V8: 新 | W8: 再 | X8: 精 | Y8: 内 | Z8: 処 | AA8: 患者様氏名
A9: 1 | C9: ・ | D9: ・ | F9: 56 | G9: 古里 順子 | J9: 様 | K9: 2 | M9: ・ | N9: ・ | P9: 30 | Q9: 蛯名 壱也 | T9: 様 | U9: 3 | W9: ・ | X9: ・ | Z9: 0 | AA9: 高村 加津子 | AD9: 様
A10: 4 | C10: ・ | D10: ・ | F10: 70 | G10: 平 将浩 | J10: 様 | K10: 5 | M10: ・ | N10: ・ | P10: 30 | Q10: 佐々木 春人 | T10: 様 | U10: 6 | W10: ・ | X10: ・ | Z10: 0 | AA10: 綿貫 啓子 | AD10: 様
A11: 7 | C11: ・ | D11: ・ | F11: 84 | G11: 松橋 芳子 | J11: 様 | K11: 8 | M11: ・ | N11: ・ | P11: 30 | Q11: 高田 煌 | T11: 様 | U11: 9 | W11: ・ | X11: ・ | Z11: 0 | AA11: 山口 瑛子 | AD11: 様
A12: 10 | C12: ・ | D12: ・ | F12: 56 | G12: 田村 一重 | J12: 様 | K12: 11 | M12: ・ | N12: ・ | P12: 56 | Q12: 久慈 早苗 | T12: 様 | U12: 12 | W12: ・ | X12: ・ | Z12: 0 | AA12: 萠出 きのゑ | AD12: 様
A13: 13 | C13: ・ | D13: ・ | F13: 56 | G13: 成田 マツエ | J13: 様 | K13: 14 | M13: ・ | N13: ・ | P13: 28 | Q13: 佐藤 直樹 | T13: 様 | U13: 15 | W13: ・ | X13: ・ | Z13: 0 | AA13: 酒井 昌子 | AD13: 様
A14: 16 | C14: ・ | D14: ・ | F14: 21 | G14: 中崎 哲也 | J14: 様 | K14: 17 | M14: ・ | N14: ・ | P14: 30 | Q14: 竹内 愛翔 | T14: 様 | U14: 18 | W14: ・ | X14: ・ | Z14: 0 | AA14: 藤田 絢三 | AD14: 様
A15: 19 | C15: ・ | D15: ・ | F15: 35 | G15: 家沢 亜希子 | J15: 様 | K15: 20 | M15: ・ | N15: ・ | P15: 7 | Q15: 吹越 琉寧 | T15: 様 | U15: 21 | W15: ・ | X15: ・ | Z15: 0 | AA15: 瀬川 高雄 | AD15: 様
A16: 22 | C16: ・ | D16: ・ | F16: 0 | G16: 山本 洋子 | J16: 様 | K16: 23 | M16: ・ | N16: ・ | P16: 30 | Q16: 二宮 実里 | T16: 様 | U16: 24 | W16: ・ | X16: ・ | Z16: 0 | AA16: 深町 栄美子 | AD16: 様
A17: 25 | C17: ・ | D17: ・ | F17: 28 | G17: 竹ケ原 建太 | J17: 様 | K17: 26 | M17: ・ | N17: ・ | P17: 30 | Q17: 渕上 紗那奈 | T17: 様 | U17: 27 | W17: ・ | X17: ・ | Z17: 0 | AA17: 石井 佐代子 | AD17: 様
A18: 28 | C18: ・ | D18: ・ | F18: 28 | G18: 立花 幸子 | J18: 様 | K18: 29 | M18: ・ | N18: ・ | P18: 30 | Q18: 岩脇 利旺 | T18: 様 | U18: 30 | W18: ・ | X18: ・ | Z18: 0 | AA18: 大木 久子 | AD18: 様
A19: 31 | C19: ・ | D19: ・ | F19: 14 | G19: 大西 真紀子 | J19: 様 | K19: 32 | M19: ・ | N19: ・ | P19: 30 | Q19: 船場 颯太 | T19: 様 | U19: 33 | W19: ・ | X19: ・ | Z19: 0 | AA19: 杉山 博子 | AD19: 様
A20: 34 | C20: ・ | D20: ・ | F20: 56 | G20: 蛯名 ナミエ | J20: 様 | K20: 35 | M20: ・ | N20: ・ | P20: 90 | Q20: 鳴海 彩香 | T20: 様 | U20: 36 | W20: ・ | X20: ・ | Z20: 0 | AA20: 相田 敏子 | AD20: 様
... A26: 52 | C26: ・ | D26: ・ | F26: 56 | G26: 花岸 良子 | J26: 様 | K26: 53 | M26: ・ | N26: ・ | P26: 60 | Q26: 福士 チエ | T26: 様 | U26: 54 | W26: ・ | X26: ・ | Z26: 0 | AA26: 江渡 野乃花 | AD26: 様
A27: 55 | C27: ・ | D27: ・ | F27: 14 | G27: 蛯名 亜果音 | J27: 様 | K27: 56 | M27: ・ | N27: ・ | P27: 28 | Q27: 前山 加奈恵 | T27: 様 | U27: 57 | AD27: 様
A28: 外来患者数 | E28: 新： | F28: =COUNTIF(B9:B27,"・")+COUNTIF(L9:L27,"・")+COUNTIF(V9:V27,"・") -> 0 | H28: 名 | I28: 再： | J28: =COUNTIF(C9:C27,"・")+COUNTIF(M9:M27,"・")+COUNTIF(W9:W27,"・") -> 56 | L28: 名 | M28: 計： | N28: =SUM(F28:K28) -> 56 | Q28: 名 | R28: （ | S28: 精： | T28: =COUNTIF(D9:D27,"・")+COUNTIF(N9:N27,"・")+COUNTIF(X9:X27,"・") -> 56 | W28: 名 | X28: ・ | Y28: 内： | Z28: =COUNTIF(E9:E27,"・")+COUNTIF(O9:O27,"・")+COUNTIF(Y9:Y27,"・") -> 0 | AC28: 名 | AD28: ）
A30: 紹介患者様氏名 | F30: 紹介先 | K30: 逆紹介患者様氏名 | P30: 紹介元 | U30: 処置実施者 | AA30: 処置内容
E31: 様 | O31: 様 | Z31: 様
A32: 本日の検査 | F32: 検査内容 | K32: 処置実施者 | P32: 処置内容 | Z32: 様
E33: 様 | O33: 様 | U33: 点検項目
E34: 様 | O34: 様 | U34: 項目 | Z34: 時間 | AC34: 点検者
A35: 発熱 | F35: 下痢 | K35: 風邪薬 | P35: 男性：20 | U35: 医療廃棄物 | Y35: 0.75 | AB35: 石原 恵海
A36: 0 | F36: 0 | K36: 0 | P36: 女性：46 | U36: 戸締り | Y36: 0.75 | AB36: 中村 恵理子
A38: 備考欄 | C38: （連絡事項・処方変更・その他）
G39: 特になし
G40: 石原

Sheet 27
B1: クリニック 日 誌 | H1: 令和 | J1: ='6'!J1 -> 3 | K1: 年 | L1: 7 | M1: 月 | N1: 27 | O1: 日 | Q1: （ | R1: 火 | S1: ） | V1: COO | Y1: IOO | AB1: AOM
A3: 勤務者名
A4: ='6'!A4:F4 -> 中村 恵理子 | G4: 日 | I4: 柳田 美雪 | N4: 有 | Q4: 診察室 | W4: 外来担当医 | Z4: 外来介助者
A5: 石原 恵海 | G5: 日 | I5: 石谷 美代子 | N5: 欠 | Q5: 第１診察室 | U5: 千葉 潜 | Z5: 石原
A6: 鳴海 彩香 | G6: 日 | I6: 松林 久美子 | N6: 日 | Q6: 第２診察室 | U6: 坂田 優 | Z6: 石原
B8: 新 | C8: 再 | D8: 精 | E8: 内 | F8: 処 | G8: 患者様氏名 | L8: 新 | M8: 再 | N8: 精 | O8: 内 | P8: 処 | Q8: 患者様氏名 | V8: 新 | W8: 再 | X8: 精 | Y8: 内 | Z8: 処 | AA8: 患者様氏名
A9: 1 | C9: ・ | E9: ・ | F9: 28 | G9: 鶴ケ崎 幸子 | J9: 様 | K9: 2 | L9: ・ | N9: ・ | P9: 28 | Q9: 尾崎 ノリ子 | T9: 様 | U9: 3 | W9: ・ | X9: ・ | Z9: 0 | AA9: 石井 佐代子 | AD9: 様
A10: 4 | C10: ・ | D10: ・ | F10: 28 | G10: 杉山 眞紀子 | J10: 様 | K10: 5 | L10: ・ | N10: ・ | P10: 7 | Q10: 張田 知子 | T10: 様 | U10: 6 | W10: ・ | X10: ・ | Z10: 0 | AA10: 山口 瑛子 | AD10: 様
A11: 7 | C11: ・ | D11: ・ | F11: 28 | G11: 下田 マリ子 | J11: 様 | K11: 8 | M11: ・ | N11: ・ | P11: 28 | Q11: 吉田 智恵 | T11: 様 | U11: 9 | W11: ・ | X11: ・ | Z11: 0 | AA11: 綿貫 啓子 | AD11: 様
A12: 10 | C12: ・ | D12: ・ | F12: 28 | G12: 中田 真紀 | J12: 様 | K12: 11 | M12: ・ | N12: ・ | P12: 56 | Q12: 前田 米藏 | T12: 様 | U12: 12 | W12: ・ | X12: ・ | Z12: 0 | AA12: 高村 加津子 | AD12: 様
A13: 13 | C13: ・ | D13: ・ | F13: 7 | G13: 中居 敬悦 | J13: 様 | K13: 14 | M13: ・ | N13: ・ | P13: 28 | Q13: 織笠 祐美 | T13: 様 | U13: 15 | W13: ・ | X13: ・ | Z13: 0 | AA13: 坂本 政勝 | AD13: 様
A14: 16 | C14: ・ | D14: ・ | F14: 28 | G14: 角 和子 | J14: 様 | K14: 17 | M14: ・ | N14: ・ | P14: 28 | Q14: 水上 阿斗 | T14: 様 | U14: 18 | W14: ・ | X14: ・ | Z14: 0 | AA14: 田口 トシ子 | AD14: 様
A15: 19 | C15: ・ | D15: ・ | F15: 28 | G15: 舘 優美香 | J15: 様 | K15: 20 | M15: ・ | N15: ・ | P15: 56 | Q15: 西舘 一明 | T15: 様 | U15: 21 | W15: ・ | X15: ・ | Z15: 0 | AA15: 酒田 朋紀 | AD15: 様
A16: 22 | C16: ・ | D16: ・ | F16: 56 | G16: 中村 善治 | J16: 様 | K16: 23 | M16: ・ | N16: ・ | P16: 56 | Q16: 松林 アサ | T16: 様 | U16: 24 | W16: ・ | X16: ・ | Z16: 0 | AA16: 藤田 絢三 | AD16: 様
A17: 25 | C17: ・ | D17: ・ | F17: 28 | G17: 中田 芳枝 | J17: 様 | K17: 26 | M17: ・ | N17: ・ | P17: 14 | Q17: 新堂 一彦 | T17: 様 | U17: 27 | W17: ・ | X17: ・ | Z17: 0 | AA17: 萠出 きのえ | AD17: 様
A18: 28 | C18: ・ | D18: ・ | F18: 28 | G18: 大塚 弘志 | J18: 様 | K18: 29 | M18: ・ | N18: ・ | P18: 14 | Q18: 本間 由香 | T18: 様 | U18: 30 | W18: ・ | X18: ・ | Z18: 0 | AA18: 萠出 克治 | AD18: 様
A19: 31 | C19: ・ | D19: ・ | F19: 14 | G19: 小比券巻 由美 | J19: 様 | K19: 32 | M19: ・ | N19: ・ | P19: 28 | Q19: 土田 雅代 | T19: 様 | U19: 33 | W19: ・ | X19: ・ | Z19: 0 | AA19: 石ケ谷 數子 | AD19: 様
A20: 34 | C20: ・ | D20: ・ | F20: 90 | G20: 鳴海 あや子 | J20: 様 | K20: 35 | M20: ・ | N20: ・ | P20: 28 | Q20: 佐々木 令子 | T20: 様 | U20: 36 | W20: ・ | X20: ・ | Z20: 0 | AA20: 関川 節 | AD20: 様
A21: 37 | C21: ・ | D21: ・ | F21: 42 | G21: 木村 正子 | J21: 様 | K21: 38 | M21: ・ | N21: ・ | O21: ・ | P21: 14 | Q21: 橋本 オシエ | T21: 様 | U21: 39 | W21: ・ | X21: ・ | Z21: 7 | AA21: 浪岡 悠月 | AD21: 様
A22: 40 | C22: ・ | D22: ・ | F22: 56 | G22: 阿部 セツ子 | J22: 様 | K22: 41 | M22: ・ | N22: ・ | P22: 28 | Q22: 三上 朋子 | T22: 様 | U22: 42 | W22: ・ | X22: ・ | Z22: 7 | AA22: 蛇沼 紅子 | AD22: 様
A23: 43 | C23: ・ | D23: ・ | F23: 28 | G23: 沼端 学 | J23: 様 | K23: 44 | M23: ・ | N23: ・ | P23: 7 | Q23: 古内 里枝 | T23: 様 | U23: 45 | W23: ・ | X23: ・ | Z23: 0 | AA23: 新山 優衣 | AD23: 様
A24: 46 | B24: ・ | D24: ・ | F24: 28 | G24: 古川 美姫 | J24: 様 | K24: 47 | M24: ・ | N24: ・ | P24: 7 | Q24: 山岡 裕花 | T24: 様 | U24: 48 | W24: ・ | X24: ・ | Z24: 60 | AA24: 十枝内 一希 | AD24: 様
A25: 49 | C25: ・ | D25: ・ | F25: 28 | G25: 鶴ケ崎 幸子 | J25: 様 | K25: 50 | M25: ・ | N25: ・ | P25: 28 | Q25: 長南 のぞみ | T25: 様 | U25: 51 | W25: ・ | X25: ・ | Z25: 30 | AA25: 木村 朋子 | AD25: 様
A26: 52 | C26: ・ | D26: ・ | F26: 28 | G26: 冨岡 寿紀 | J26: 様 | K26: 53 | L26: ・ | N26: ・ | P26: 28 | Q26: 筒井 紀行 | T26: 様 | U26: 54 | W26: ・ | X26: ・ | Z26: 28 | AA26: 熊谷 政治 | AD26: 様
A27: 55 | B27: ・ | D27: ・ | F27: 0 | G27: 大和 祐介 | J27: 様 | K27: 56 | L27: ・ | N27: ・ | P27: 7 | Q27: 千葉 功大 | T27: 様 | U27: 57 | W27: ・ | X27: ・ | Z27: 0 | AA27: 水上 民一 | AD27: 様
A28: 58 | B28: ・ | D28: ・ | F28: 7 | G28: 千葉 ハギ | J28: 様 | K28: 59 | M28: ・ | N28: ・ | P28: 0 | Q28: 柏木 新菜 | T28: 様 | U28: 60 | AD28: 様
A29: 外来患者数 | E29: 新： | F29: =COUNTIF(B9:B28,"・")+COUNTIF(L9:L28,"・")+COUNTIF(V9:V28,"・") -> 7 | H29: 名 | I29: 再： | J29: =COUNTIF(C9:C28,"・")+COUNTIF(M9:M28,"・")+COUNTIF(W9:W28,"・") -> 52 | L29: 名 | M29: 計： | N29: =SUM(F29:K29) -> 59 | Q29: 名 | R29: （ | S29: 精： | T29: =COUNTIF(D9:D28,"・")+COUNTIF(N9:N28,"・")+COUNTIF(X9:X28,"・") -> 58 | W29: 名 | X29: ・ | Y29: 内： | Z29: =COUNTIF(E9:E28,"・")+COUNTIF(O9:O28,"・")+COUNTIF(Y9:Y28,"・") -> 2 | AC29: 名 | AD29: ）
A31: 紹介患者様氏名 | F31: 紹介先 | K31: 逆紹介患者様氏名 | P31: 紹介元 | U31: 処置実施者 | AA31: 処置内容
A32: 中田 芳枝 | E32: 様 | F32: 高松病院 | K32: 尾崎 ノリ子 | O32: 様 | P32: 八戸赤十字病院 | U32: 千葉 功大 | Z32: 様 | AA32: CMI
E33: 様 | K33: 千葉 ハギ | O33: 様 | P33: むらかみ脳神経CL | U33: 大和 祐介 | Z33: 様 | AA33: CMI
E34: 様 | K34: 大和 祐介 | O34: 様 | P34: 八戸医療センター | U34: 千葉 ハギ | Z34: 様 | AA34: HDS-R MMSE
A35: 本日の検査 | F35: 検査内容 | K35: 処置実施者 | P35: 処置内容 | U35: 柏木 新菜 | Z35: 様 | AA35: WAIS
A36: 中田 真紀 | E36: 様 | F36: 血液検査 | K36: 中居 敬悦 | O36: 様 | P36: ハロマンス50mg 1A | Z36: 様
A37: 張田 知子 | E37: 様 | F37: CMI | O37: 様 | Z37: 様
A38: 橋本 オシエ | E38: 様 | F38: 血液検査 | O38: 様 | Z38: 様
A39: 柏木 新菜 | E39: 様 | F39: WAIS | O39: 様 | U39: 点検項目
A40: 鶴ケ崎 幸子 | E40: 様 | F40: 血液検査 | O40: 様 | U40: 項目 | Z40: 時間 | AC40: 点検者
A41: 発熱 | F41: 下痢 | K41: 風邪薬 | P41: 男性：20 | U41: 医療廃棄物 | Y41: 0.75 | AB41: 石原 恵海
A42: 0 | F42: 0 | K42: 0 | P42: 女性：39 | U42: 戸締り | Y42: 0.75 | AB42: 中村 恵理子
A44: 備考欄 | C44: （連絡事項・処方変更・その他）
G45: 特になし
G46: 石原

Sheet 28
B1: クリニック 日 誌 | H1: 令和 | J1: ='6'!J1 -> 3 | K1: 年 | L1: 7 | M1: 月 | N1: 28 | O1: 日 | Q1: （ | R1: 水 | S1: ） | V1: COO | Y1: IOO | AB1: AOM
A3: 勤務者名
A4: ='6'!A4:F4 -> 中村 恵理子 | G4: 日 | I4: 柳田 美雪 | N4: 日 | Q4: 診察室 | W4: 外来担当医 | Z4: 外来介助者
A5: 石原 恵海 | G5: 日 | I5: 石谷 美代子 | N5: 欠 | Q5: 第１診察室 | U5: 千葉 潜 | Z5: 石原
A6: 鳴海 彩香 | G6: 日 | I6: 松林 久美子 | N6: 日 | Q6: 第２診察室 | U6: 坂田 優 | Z6: 石原
B8: 新 | C8: 再 | D8: 精 | E8: 内 | F8: 処 | G8: 患者様氏名 | L8: 新 | M8: 再 | N8: 精 | O8: 内 | P8: 処 | Q8: 患者様氏名 | V8: 新 | W8: 再 | X8: 精 | Y8: 内 | Z8: 処 | AA8: 患者様氏名
A9: 1 | C9: ・ | D9: ・ | F9: 28 | G9: 岩城 芳枝 | J9: 様 | K9: 2 | M9: ・ | N9: ・ | P9: 14 | Q9: 角 茜莉 | T9: 様 | U9: 3 | W9: ・ | X9: ・ | Z9: 0 | AA9: 佐々木 英二 | AD9: 様
A10: 4 | C10: ・ | D10: ・ | F10: 28 | G10: 吉田 和子 | J10: 様 | K10: 5 | M10: ・ | N10: ・ | P10: 16 | Q10: 小笠原 秀男 | T10: 様 | U10: 6 | W10: ・ | X10: ・ | Z10: 0 | AA10: 山口 瑛子 | AD10: 様
A11: 7 | C11: ・ | D11: ・ | F11: 28 | G11: 山端 悦子 | J11: 様 | K11: 8 | M11: ・ | N11: ・ | P11: 30 | Q11: 齊藤 繭介 | T11: 様 | U11: 9 | W11: ・ | X11: ・ | Z11: 0 | AA11: 豊川 洋子 | AD11: 様
A12: 10 | C12: ・ | D12: ・ | F12: 28 | G12: 佐藤 市真 | J12: 様 | K12: 11 | M12: ・ | N12: ・ | P12: 14 | Q12: 石田 祐仁 | T12: 様 | U12: 12 | W12: ・ | X12: ・ | Z12: 0 | AA12: 大木 久子 | AD12: 様
A13: 13 | C13: ・ | D13: ・ | F13: 42 | G13: 中野渡 雄 | J13: 様 | K13: 14 | M13: ・ | N13: ・ | P13: 56 | Q13: 千葉 麗生 | T13: 様 | U13: 15 | W13: ・ | X13: ・ | Z13: 0 | AA13: 深町 栄美子 | AD13: 様
A14: 16 | C14: ・ | D14: ・ | F14: 28 | G14: 大森 直樹 | J14: 様 | K14: 17 | M14: ・ | N14: ・ | P14: 28 | Q14: 木村 正子 | T14: 様 | U14: 18 | W14: ・ | X14: ・ | Z14: 0 | AA14: 石ケ谷 數子 | AD14: 様
A15: 19 | C15: ・ | D15: ・ | F15: 7 | G15: 河村 接子 | J15: 様 | K15: 20 | M15: ・ | N15: ・ | P15: 14 | Q15: 原田 悠紀 | T15: 様 | U15: 21 | W15: ・ | X15: ・ | Z15: 0 | AA15: 高村 加津子 | AD15: 様
A16: 22 | C16: ・ | D16: ・ | F16: 56 | G16: 冨田 義信 | J16: 様 | K16: 23 | M16: ・ | N16: ・ | P16: 56 | Q16: 平野 晶子 | T16: 様 | U16: 24 | W16: ・ | X16: ・ | Z16: 0 | AA16: 杉山 博子 | AD16: 様
A17: 25 | C17: ・ | D17: ・ | F17: 56 | G17: 本間 きよ | J17: 様 | K17: 26 | M17: ・ | N17: ・ | P17: 28 | Q17: 稲本 典子 | T17: 様 | U17: 27 | W17: ・ | X17: ・ | Z17: 0 | AA17: 石井 佐代子 | AD17: 様
A18: 28 | C18: ・ | D18: ・ | F18: 90 | G18: 久保田 萌那 | J18: 様 | K18: 29 | M18: ・ | N18: ・ | P18: 56 | Q18: 相内 京子 | T18: 様 | U18: 30 | W18: ・ | X18: ・ | Z18: 0 | AA18: 藤田 絢三 | AD18: 様
A19: 31 | C19: ・ | D19: ・ | F19: 0 | G19: 山田 未夢 | J19: 様 | K19: 32 | M19: ・ | N19: ・ | P19: 14 | Q19: 中村 実樹 | T19: 様 | U19: 33 | W19: ・ | X19: ・ | Z19: 0 | AA19: 坂本 政勝 | AD19: 様
A20: 34 | C20: ・ | D20: ・ | F20: 0 | G20: 甲地 高志 | J20: 様 | K20: 35 | M20: ・ | N20: ・ | P20: 30 | Q20: 浪岡 すみ | T20: 様 | U20: 36 | W20: ・ | X20: ・ | Z20: 0 | AA20: 山本 伸子 | AD20: 様
... A25: 49 | C25: ・ | D25: ・ | F25: 28 | G25: 相坂 遥 | J25: 様 | K25: 50 | M25: ・ | N25: ・ | P25: 14 | Q25: 浦邊 健司 | T25: 様 | U25: 51 | W25: ・ | X25: ・ | Z25: 0 | AA25: 佐藤 初男 | AD25: 様
A26: 52 | B26: ・ | D26: ・ | F26: 30 | G26: 柳谷 タキ | J26: 様 | K26: 53 | L26: ・ | N26: ・ | P26: 7 | Q26: 工藤 亜里沙 | T26: 様 | U26: 54 | AD26: 様
A27: 外来患者数 | E27: 新： | F27: =COUNTIF(B9:B26,"・")+COUNTIF(L9:L26,"・")+COUNTIF(V9:V26,"・") -> 2 | H27: 名 | I27: 再： | J27: =COUNTIF(C9:C26,"・")+COUNTIF(M9:M26,"・")+COUNTIF(W9:W26,"・") -> 51 | L27: 名 | M27: 計： | N27: =SUM(F27:K27) -> 53 | Q27: 名 | R27: （ | S27: 精： | T27: =COUNTIF(D9:D26,"・")+COUNTIF(N9:N26,"・")+COUNTIF(X9:X26,"・") -> 53 | W27: 名 | X27: ・ | Y27: 内： | Z27: =COUNTIF(E9:E26,"・")+COUNTIF(O9:O26,"・")+COUNTIF(Y9:Y26,"・") -> 0 | AC27: 名 | AD27: ）
A29: 紹介患者様氏名 | F29: 紹介先 | K29: 逆紹介患者様氏名 | P29: 紹介元 | U29: 処置実施者 | AA29: 処置内容
E30: 様 | K30: 柳谷 タキ | O30: 様 | P30: 東八戸病院 | Z30: 様
A31: 本日の検査 | F31: 検査内容 | K31: 処置実施者 | P31: 処置内容 | Z31: 様
A32: 久保田 萌那 | E32: 様 | F32: 血液検査 | O32: 様 | Z32: 様
A33: 阿部 映理華 | E33: 様 | F33: カウンセリング | O33: 様 | Z33: 様
A34: 工藤 亜里沙 | E34: 様 | F34: CMI | O34: 様 | Z34: 様
A35: 柳谷 タキ | E35: 様 | F35: HDS-R MMSE | O35: 様 | U35: 点検項目
A36: 原田 悠紀 | E36: 様 | F36: CMI | O36: 様 | U36: 項目 | Z36: 時間 | AC36: 点検者
A37: 発熱 | F37: 下痢 | K37: 風邪薬 | P37: 男性：19 | U37: 医療廃棄物 | Y37: 0.75 | AB37: 石原 恵海
A38: 0 | F38: 0 | K38: 0 | P38: 女性：34 | U38: 戸締り | Y38: 0.75 | AB38: 中村 恵理子
A40: 備考欄 | C40: （連絡事項・処方変更・その他）
G41: 特になし
G42: 石原

Sheet 29
B1: クリニック 日 誌 | H1: 令和 | J1: ='6'!J1 -> 3 | K1: 年 | L1: 7 | M1: 月 | N1: 29 | O1: 日 | Q1: （ | S1: ） | V1: COO | Y1: IOO | AB1: AOM
A3: 勤務者名
A4: ='6'!A4:F4 -> 中村 恵理子 | G4: 日 | I4: 柳田 美雪 | N4: 日 | Q4: 診察室 | W4: 外来担当医 | Z4: 外来介助者
A5: 石原 恵海 | G5: 日 | I5: 石谷 美代子 | N5: 欠 | Q5: 第１診察室 | Z5: 柳田・石原
A6: 鳴海 彩香 | G6: 日 | Q6: 第２診察室
B8: 新 | C8: 再 | D8: 精 | E8: 内 | F8: 処 | G8: 患者様氏名 | L8: 新 | M8: 再 | N8: 精 | O8: 内 | P8: 処 | Q8: 患者様氏名 | V8: 新 | W8: 再 | X8: 精 | Y8: 内 | Z8: 処 | AA8: 患者様氏名
A9: 1 | C9: ・ | D9: ・ | J9: 様 | K9: 2 | M9: ・ | N9: ・ | T9: 様 | U9: 3 | W9: ・ | X9: ・ | AD9: 様
A10: 4 | J10: 様 | K10: 5 | M10: ・ | N10: ・ | T10: 様 | U10: 6 | W10: ・ | X10: ・ | AD10: 様
A11: 7 | J11: 様 | K11: 8 | M11: ・ | N11: ・ | T11: 様 | U11: 9 | W11: ・ | X11: ・ | AD11: 様
A12: 10 | J12: 様 | K12: 11 | M12: ・ | N12: ・ | T12: 様 | U12: 12 | W12: ・ | X12: ・ | AD12: 様
A13: 13 | J13: 様 | K13: 14 | M13: ・ | N13: ・ | T13: 様 | U13: 15 | W13: ・ | X13: ・ | AD13: 様
A14: 16 | J14: 様 | K14: 17 | M14: ・ | N14: ・ | T14: 様 | U14: 18 | W14: ・ | X14: ・ | AD14: 様
A15: 19 | J15: 様 | K15: 20 | M15: ・ | N15: ・ | T15: 様 | U15: 21 | W15: ・ | X15: ・ | AD15: 様
A16: 22 | J16: 様 | K16: 23 | M16: ・ | N16: ・ | T16: 様 | U16: 24 | W16: ・ | X16: ・ | AD16: 様
A17: 25 | J17: 様 | K17: 26 | M17: ・ | N17: ・ | T17: 様 | U17: 27 | W17: ・ | X17: ・ | AD17: 様
A18: 28 | J18: 様 | K18: 29 | M18: ・ | N18: ・ | T18: 様 | U18: 30 | W18: ・ | X18: ・ | AD18: 様
A19: 31 | J19: 様 | K19: 32 | M19: ・ | N19: ・ | T19: 様 | U19: 33 | W19: ・ | X19: ・ | AD19: 様
A20: 34 | J20: 様 | K20: 35 | M20: ・ | N20: ・ | T20: 様 | U20: 36 | W20: ・ | X20: ・ | AD20: 様
A21: 37 | J21: 様 | K21: 38 | M21: ・ | N21: ・ | T21: 様 | U21: 39 | W21: ・ | X21: ・ | AD21: 様
A22: 40 | J22: 様 | K22: 41 | T22: 様 | U22: 42 | AD22: 様
A23: 43 | J23: 様 | K23: 44 | T23: 様 | U23: 45 | AD23: 様
A24: 46 | J24: 様 | K24: 47 | T24: 様 | U24: 48 | AD24: 様
A25: 49 | J25: 様 | K25: 50 | T25: 様 | U25: 51 | AD25: 様
A26: 52 | J26: 様 | K26: 53 | T26: 様 | U26: 54 | AD26: 様
A27: 55 | J27: 様 | K27: 56 | T27: 様 | U27: 57 | AD27: 様
A28: 58 | J28: 様 | K28: 59 | T28: 様 | U28: 60 | AD28: 様
A29: 61 | J29: 様 | K29: 62 | T29: 様 | U29: 63 | AD29: 様
A30: 64 | J30: 様 | K30: 65 | T30: 様 | U30: 66 | AD30: 様
A31: 67 | J31: 様 | K31: 68 | T31: 様 | U31: 69 | AD31: 様
A32: 70 | J32: 様 | K32: 71 | T32: 様 | U32: 72 | AD32: 様
A33: 73 | J33: 様 | K33: 74 | T33: 様 | U33: 75 | AD33: 様
A34: 外来患者数 | E34: 新： | F34: =COUNTIF(B9:B33,"・")+COUNTIF(L9:L33,"・")+COUNTIF(V9:V33,"・") -> 0 | H34: 名 | I34: 再： | J34: =COUNTIF(C9:C33,"・")+COUNTIF(M9:M33,"・")+COUNTIF(W9:W33,"・") -> 27 | L34: 名 | M34: 計： | N34: =SUM(F34:K34) -> 27 | Q34: 名 | R34: （ | S34: 精： | T34: =COUNTIF(D9:D33,"・")+COUNTIF(N9:N33,"・")+COUNTIF(X9:X33,"・") -> 27 | W34: 名 | X34: ・ | Y34: 内： | Z34: =COUNTIF(E9:E33,"・")+COUNTIF(O9:O33,"・")+COUNTIF(Y9:Y33,"・") -> 0 | AC34: 名 | AD34: ）
A36: 紹介患者様氏名 | F36: 紹介先 | K36: 逆紹介患者様氏名 | P36: 紹介元 | U36: 処置実施者 | AA36: 処置内容
E37: 様 | O37: 様 | Z37: 様
E38: 様 | O38: 様 | Z38: 様
E39: 様 | O39: 様 | Z39: 様
E40: 様 | O40: 様 | Z40: 様
E41: 様 | O41: 様 | Z41: 様
A42: 本日の検査 | F42: 検査内容 | K42: 処置実施者 | P42: 処置内容 | Z42: 様
E43: 様 | O43: 様 | Z43: 様
E44: 様 | O44: 様 | Z44: 様
E45: 様 | O45: 様 | Z45: 様
E46: 様 | O46: 様 | U46: 点検項目
E47: 様 | O47: 様 | U47: 項目 | Z47: 時間 | AC47: 点検者
A48: 発熱 | F48: 下痢 | K48: 風邪薬 | P48: 男性： | U48: 医療廃棄物 | Y48: 0.75 | AB48: 柳田美雪
A49: 0 | F49: 0 | K49: 0 | P49: 女性： | U49: 戸締り | Y49: 0.75 | AB49: ='6'!AB41:AD41 -> 松林 久美子
A51: 備考欄 | C51: （連絡事項・処方変更・その他）

Sheet 30
B1: クリニック 日 誌 | H1: 令和 | J1: ='6'!J1 -> 3 | K1: 年 | L1: 7 | M1: 月 | N1: 30 | O1: 日 | Q1: （ | S1: ） | V1: COO | Y1: IOO | AB1: AOM
A3: 勤務者名
A4: ='6'!A4:F4 -> 中村 恵理子 | G4: 日 | I4: 柳田 美雪 | N4: 日 | Q4: 診察室 | W4: 外来担当医 | Z4: 外来介助者
A5: 石原 恵海 | G5: 日 | I5: 石谷 美代子 | N5: 欠 | Q5: 第１診察室
A6: 鳴海 彩香 | G6: 日 | Q6: 第２診察室
B8: 新 | C8: 再 | D8: 精 | E8: 内 | F8: 処 | G8: 患者様氏名 | L8: 新 | M8: 再 | N8: 精 | O8: 内 | P8: 処 | Q8: 患者様氏名 | V8: 新 | W8: 再 | X8: 精 | Y8: 内 | Z8: 処 | AA8: 患者様氏名
A9: 1 | C9: ・ | D9: ・ | J9: 様 | K9: 2 | M9: ・ | N9: ・ | T9: 様 | U9: 3 | W9: ・ | X9: ・ | AD9: 様
A10: 4 | J10: 様 | K10: 5 | M10: ・ | N10: ・ | T10: 様 | U10: 6 | W10: ・ | X10: ・ | AD10: 様
A11: 7 | J11: 様 | K11: 8 | M11: ・ | N11: ・ | T11: 様 | U11: 9 | W11: ・ | X11: ・ | AD11: 様
A12: 10 | J12: 様 | K12: 11 | M12: ・ | N12: ・ | T12: 様 | U12: 12 | W12: ・ | X12: ・ | AD12: 様
A13: 13 | J13: 様 | K13: 14 | M13: ・ | N13: ・ | T13: 様 | U13: 15 | W13: ・ | X13: ・ | AD13: 様
A14: 16 | J14: 様 | K14: 17 | M14: ・ | N14: ・ | T14: 様 | U14: 18 | W14: ・ | X14: ・ | AD14: 様
A15: 19 | J15: 様 | K15: 20 | M15: ・ | N15: ・ | T15: 様 | U15: 21 | W15: ・ | X15: ・ | AD15: 様
A16: 22 | J16: 様 | K16: 23 | M16: ・ | N16: ・ | T16: 様 | U16: 24 | W16: ・ | X16: ・ | AD16: 様
A17: 25 | J17: 様 | K17: 26 | M17: ・ | N17: ・ | T17: 様 | U17: 27 | W17: ・ | X17: ・ | AD17: 様
A18: 28 | J18: 様 | K18: 29 | M18: ・ | N18: ・ | T18: 様 | U18: 30 | W18: ・ | X18: ・ | AD18: 様
A19: 31 | J19: 様 | K19: 32 | M19: ・ | N19: ・ | T19: 様 | U19: 33 | W19: ・ | X19: ・ | AD19: 様
A20: 34 | J20: 様 | K20: 35 | M20: ・ | N20: ・ | T20: 様 | U20: 36 | W20: ・ | X20: ・ | AD20: 様
A21: 37 | J21: 様 | K21: 38 | M21: ・ | N21: ・ | T21: 様 | U21: 39 | W21: ・ | X21: ・ | AD21: 様
A22: 40 | J22: 様 | K22: 41 | T22: 様 | U22: 42 | AD22: 様
A23: 43 | J23: 様 | K23: 44 | T23: 様 | U23: 45 | AD23: 様
A24: 46 | J24: 様 | K24: 47 | T24: 様 | U24: 48 | AD24: 様
A25: 49 | J25: 様 | K25: 50 | T25: 様 | U25: 51 | AD25: 様
A26: 52 | J26: 様 | K26: 53 | T26: 様 | U26: 54 | AD26: 様
A27: 55 | J27: 様 | K27: 56 | T27: 様 | U27: 57 | AD27: 様
A28: 58 | J28: 様 | K28: 59 | T28: 様 | U28: 60 | AD28: 様
A29: 61 | J29: 様 | K29: 62 | T29: 様 | U29: 63 | AD29: 様
A30: 64 | J30: 様 | K30: 65 | T30: 様 | U30: 66 | AD30: 様
A31: 67 | J31: 様 | K31: 68 | T31: 様 | U31: 69 | AD31: 様
A32: 70 | J32: 様 | K32: 71 | T32: 様 | U32: 72 | AD32: 様
A33: 73 | J33: 様 | K33: 74 | T33: 様 | U33: 75 | AD33: 様
A34: 外来患者数 | E34: 新： | F34: =COUNTIF(B9:B33,"・")+COUNTIF(L9:L33,"・")+COUNTIF(V9:V33,"・") -> 0 | H34: 名 | I34: 再： | J34: =COUNTIF(C9:C33,"・")+COUNTIF(M9:M33,"・")+COUNTIF(W9:W33,"・") -> 27 | L34: 名 | M34: 計： | N34: =SUM(F34:K34) -> 27 | Q34: 名 | R34: （ | S34: 精： | T34: =COUNTIF(D9:D33,"・")+COUNTIF(N9:N33,"・")+COUNTIF(X9:X33,"・") -> 27 | W34: 名 | X34: ・ | Y34: 内： | Z34: =COUNTIF(E9:E33,"・")+COUNTIF(O9:O33,"・")+COUNTIF(Y9:Y33,"・") -> 0 | AC34: 名 | AD34: ）
A36: 紹介患者様氏名 | F36: 紹介先 | K36: 逆紹介患者様氏名 | P36: 紹介元 | U36: 処置実施者 | AA36: 処置内容
E37: 様 | O37: 様 | Z37: 様
E38: 様 | O38: 様 | Z38: 様
E39: 様 | O39: 様 | Z39: 様
E40: 様 | O40: 様 | Z40: 様
E41: 様 | O41: 様 | Z41: 様
A42: 本日の検査 | F42: 検査内容 | K42: 処置実施者 | P42: 処置内容 | Z42: 様
E43: 様 | O43: 様 | Z43: 様
E44: 様 | O44: 様 | Z44: 様
E45: 様 | O45: 様 | Z45: 様
E46: 様 | O46: 様 | U46: 点検項目
E47: 様 | O47: 様 | U47: 項目 | Z47: 時間 | AC47: 点検者
A48: 発熱 | F48: 下痢 | K48: 風邪薬 | P48: 男性： | U48: 医療廃棄物 | Y48: 0.75 | AB48: 柳田美雪
A49: 0 | F49: 0 | K49: 0 | P49: 女性： | U49: 戸締り | Y49: 0.75 | AB49: ='6'!AB41:AD41 -> 松林 久美子
A51: 備考欄 | C51: （連絡事項・処方変更・その他）

Sheet 31
B1: クリニック 日 誌 | H1: 令和 | J1: ='6'!J1 -> 3 | K1: 年 | L1: 7 | M1: 月 | N1: 31 | O1: 日 | Q1: （ | S1: ） | V1: COO | Y1: IOO | AB1: AOM
A3: 勤務者名
A4: ='6'!A4:F4 -> 中村 恵理子 | G4: 日 | I4: 柳田 美雪 | N4: 日 | Q4: 診察室 | W4: 外来担当医 | Z4: 外来介助者
A5: 石原 恵海 | G5: 日 | I5: 石谷 美代子 | N5: 欠 | Q5: 第１診察室
A6: 鳴海 彩香 | G6: 日 | Q6: 第２診察室
B8: 新 | C8: 再 | D8: 精 | E8: 内 | F8: 処 | G8: 患者様氏名 | L8: 新 | M8: 再 | N8: 精 | O8: 内 | P8: 処 | Q8: 患者様氏名 | V8: 新 | W8: 再 | X8: 精 | Y8: 内 | Z8: 処 | AA8: 患者様氏名
A9: 1 | C9: ・ | D9: ・ | J9: 様 | K9: 2 | M9: ・ | N9: ・ | T9: 様 | U9: 3 | W9: ・ | X9: ・ | AD9: 様
A10: 4 | J10: 様 | K10: 5 | M10: ・ | N10: ・ | T10: 様 | U10: 6 | W10: ・ | X10: ・ | AD10: 様
A11: 7 | J11: 様 | K11: 8 | M11: ・ | N11: ・ | T11: 様 | U11: 9 | W11: ・ | X11: ・ | AD11: 様
A12: 10 | J12: 様 | K12: 11 | M12: ・ | N12: ・ | T12: 様 | U12: 12 | W12: ・ | X12: ・ | AD12: 様
A13: 13 | J13: 様 | K13: 14 | M13: ・ | N13: ・ | T13: 様 | U13: 15 | W13: ・ | X13: ・ | AD13: 様
A14: 16 | J14: 様 | K14: 17 | M14: ・ | N14: ・ | T14: 様 | U14: 18 | W14: ・ | X14: ・ | AD14: 様
A15: 19 | J15: 様 | K15: 20 | M15: ・ | N15: ・ | T15: 様 | U15: 21 | W15: ・ | X15: ・ | AD15: 様
A16: 22 | J16: 様 | K16: 23 | M16: ・ | N16: ・ | T16: 様 | U16: 24 | W16: ・ | X16: ・ | AD16: 様
A17: 25 | J17: 様 | K17: 26 | M17: ・ | N17: ・ | T17: 様 | U17: 27 | W17: ・ | X17: ・ | AD17: 様
A18: 28 | J18: 様 | K18: 29 | M18: ・ | N18: ・ | T18: 様 | U18: 30 | W18: ・ | X18: ・ | AD18: 様
A19: 31 | J19: 様 | K19: 32 | M19: ・ | N19: ・ | T19: 様 | U19: 33 | W19: ・ | X19: ・ | AD19: 様
A20: 34 | J20: 様 | K20: 35 | M20: ・ | N20: ・ | T20: 様 | U20: 36 | W20: ・ | X20: ・ | AD20: 様
A21: 37 | J21: 様 | K21: 38 | M21: ・ | N21: ・ | T21: 様 | U21: 39 | W21: ・ | X21: ・ | AD21: 様
A22: 40 | J22: 様 | K22: 41 | T22: 様 | U22: 42 | AD22: 様
A23: 43 | J23: 様 | K23: 44 | T23: 様 | U23: 45 | AD23: 様
A24: 46 | J24: 様 | K24: 47 | T24: 様 | U24: 48 | AD24: 様
A25: 49 | J25: 様 | K25: 50 | T25: 様 | U25: 51 | AD25: 様
A26: 52 | J26: 様 | K26: 53 | T26: 様 | U26: 54 | AD26: 様
A27: 55 | J27: 様 | K27: 56 | T27: 様 | U27: 57 | AD27: 様
A28: 58 | J28: 様 | K28: 59 | T28: 様 | U28: 60 | AD28: 様
A29: 61 | J29: 様 | K29: 62 | T29: 様 | U29: 63 | AD29: 様
A30: 64 | J30: 様 | K30: 65 | T30: 様 | U30: 66 | AD30: 様
A31: 67 | J31: 様 | K31: 68 | T31: 様 | U31: 69 | AD31: 様
A32: 70 | J32: 様 | K32: 71 | T32: 様 | U32: 72 | AD32: 様
A33: 73 | J33: 様 | K33: 74 | T33: 様 | U33: 75 | AD33: 様
A34: 外来患者数 | E34: 新： | F34: =COUNTIF(B9:B33,"・")+COUNTIF(L9:L33,"・")+COUNTIF(V9:V33,"・") -> 0 | H34: 名 | I34: 再： | J34: =COUNTIF(C9:C33,"・")+COUNTIF(M9:M33,"・")+COUNTIF(W9:W33,"・") -> 27 | L34: 名 | M34: 計： | N34: =SUM(F34:K34) -> 27 | Q34: 名 | R34: （ | S34: 精： | T34: =COUNTIF(D9:D33,"・")+COUNTIF(N9:N33,"・")+COUNTIF(X9:X33,"・") -> 27 | W34: 名 | X34: ・ | Y34: 内： | Z34: =COUNTIF(E9:E33,"・")+COUNTIF(O9:O33,"・")+COUNTIF(Y9:Y33,"・") -> 0 | AC34: 名 | AD34: ）
A36: 紹介患者様氏名 | F36: 紹介先 | K36: 逆紹介患者様氏名 | P36: 紹介元 | U36: 処置実施者 | AA36: 処置内容
E37: 様 | O37: 様 | Z37: 様
E38: 様 | O38: 様 | Z38: 様
E39: 様 | O39: 様 | Z39: 様
E40: 様 | O40: 様 | Z40: 様
E41: 様 | O41: 様 | Z41: 様
A42: 本日の検査 | F42: 検査内容 | K42: 処置実施者 | P42: 処置内容 | Z42: 様
E43: 様 | O43: 様 | Z43: 様
E44: 様 | O44: 様 | Z44: 様
E45: 様 | O45: 様 | Z45: 様
E46: 様 | O46: 様 | U46: 点検項目
E47: 様 | O47: 様 | U47: 項目 | Z47: 時間 | AC47: 点検者
A48: 発熱 | F48: 下痢 | K48: 風邪薬 | P48: 男性： | U48: 医療廃棄物 | Y48: 0.75 | AB48: 柳田美雪
A49: 0 | F49: 0 | K49: 0 | P49: 女性： | U49: 戸締り | Y49: 0.75 | AB49: ='6'!AB41:AD41 -> 松林 久美子
A51: 備考欄 | C51: （連絡事項・処方変更・その他）

Sheet Sheet1
L1: 7
I5: 石谷 美代子 | N5: 欠
A6: 鳴海 彩香 | G6: 日
C9: ・ | D9: ・ | F9: 28 | G9: 片桐 惣一朗 | M9: ・ | N9: ・ | W9: ・ | X9: ・ | AA9: 西舘 瞳
F10: 28 | G10: 野々宮 ミヨ | M10: ・ | N10: ・ | W10: ・ | X10: ・ | AA10: 相内 京子
F11: 28 | G11: 野坂 千晶 | M11: ・ | N11: ・ | W11: ・ | X11: ・ | AA11: 綿貫 啓子
F12: 7 | G12: 佐々木 未悠 | M12: ・ | N12: ・ | W12: ・ | X12: ・ | AA12: 藤田 絢三
F13: 28 | G13: 袴田 きみ | M13: ・ | N13: ・ | W13: ・ | X13: ・ | AA13: 山口 映子
F14: 28 | G14: 太田 美津 | M14: ・ | N14: ・ | W14: ・ | X14: ・ | AA14: 相田 敏子
F15: 14 | G15: 江尻 祐衣 | M15: ・ | N15: ・ | W15: ・ | X15: ・ | AA15: 高村 加津子
F16: 28 | G16: 山本 美津子 | M16: ・ | N16: ・ | W16: ・ | X16: ・ | AA16: 山本 伸子
F17: 14 | G17: 熊野 忠明 | M17: ・ | N17: ・ | W17: ・ | X17: ・ | AA17: 瀬川 高雄
F18: 30 | G18: 野田頭 真由美 | M18: ・ | N18: ・ | W18: ・ | X18: ・ | AA18: 坂本 政勝
F19: 38 | G19: 西 和枝 | M19: ・ | N19: ・ | W19: ・ | X19: ・ | AA19: 工藤 健壽
F20: 60 | G20: 長井 竹 | M20: ・ | N20: ・ | W20: ・ | X20: ・ | AA20: 田口 トシ子
F21: 28 | G21: 畑山 みゆき | M21: ・ | N21: ・ | W21: ・ | X21: ・ | AA21: 大木 久子
F22: 7 | G22: 中居 敬悦 | AA22: 安部 信祥
F23: 28 | G23: 齊藤 里美
K43: 野田頭 真由美 | P43: ハロマンス100mg 1セット

Sheet 互換性レポート
B1: クリニック 日 誌 | H1: 令和 | J1: 元 | K1: 年 | L1: 7 | M1: 月 | N1: 2 | O1: 日 | Q1: （ | S1: ） | V1: COO | Y1: IOO | AB1: AOM
A3: 勤務者名
A4: 小笠原 恵理子 | G4: 日 | I4: 柳田 美雪 | N4: 日 | Q4: 診察室 | W4: 外来担当医 | Z4: 外来介助者
I5: 石谷 美代子 | N5: 欠 | Q5: 第１診察室 | U5: 金 | Z5: 柳田・恵谷
A6: 鳴海 彩香 | G6: 日 | Q6: 第２診察室 | U6: 千葉 良 | Z6: 柳田・恵谷
B8: 新 | C8: 再 | D8: 精 | E8: 内 | F8: 処 | G8: 患者様氏名 | L8: 新 | M8: 再 | N8: 精 | O8: 内 | P8: 処 | Q8: 患者様氏名 | V8: 新 | W8: 再 | X8: 精 | Y8: 内 | Z8: 処 | AA8: 患者様氏名
A9: 1 | C9: ・ | D9: ・ | F9: 28 | G9: 片桐 惣一朗 | J9: 様 | K9: 2 | M9: ・ | N9: ・ | P9: 28 | Q9: 蒔苗 美穂子 | T9: 様 | U9: 3 | W9: ・ | X9: ・ | Z9: 30 | AA9: 西舘 瞳 | AD9: 様
A10: 4 | C10: ・ | D10: ・ | F10: 28 | G10: 野々宮 ミヨ | J10: 様 | K10: 5 | M10: ・ | N10: ・ | P10: 30 | Q10: 伊藤 和子 | T10: 様 | U10: 6 | W10: ・ | X10: ・ | Z10: 7 | AA10: 相内 京子 | AD10: 様
A11: 7 | C11: ・ | D11: ・ | F11: 28 | G11: 野坂 千晶 | J11: 様 | K11: 8 | M11: ・ | N11: ・ | P11: 30 | Q11: 小林 昭治 | T11: 様 | U11: 9 | W11: ・ | X11: ・ | Z11: 28 | AA11: 綿貫 啓子 | AD11: 様
A12: 10 | C12: ・ | D12: ・ | F12: 7 | G12: 佐々木 未悠 | J12: 様 | K12: 11 | M12: ・ | N12: ・ | P12: 30 | Q12: 高橋 千佳 | T12: 様 | U12: 12 | V12: ・ | W12: ・ | X12: ・ | Z12: 30 | AA12: 藤田 絢三 | AD12: 様
A13: 13 | C13: ・ | D13: ・ | F13: 28 | G13: 袴田 きみ | J13: 様 | K13: 14 | L13: ・ | M13: ・ | N13: ・ | P13: 0 | Q13: 川村 俊行 | T13: 様 | U13: 15 | W13: ・ | X13: ・ | Z13: 21 | AA13: 山口 映子 | AD13: 様
A14: 16 | C14: ・ | D14: ・ | F14: 28 | G14: 太田 美津 | J14: 様 | K14: 17 | M14: ・ | N14: ・ | P14: 30 | Q14: 中川原 いさ | T14: 様 | U14: 18 | V14: ・ | W14: ・ | X14: ・ | Z14: 14 | AA14: 相田 敏子 | AD14: 様
A15: 19 | C15: ・ | D15: ・ | F15: 14 | G15: 江尻 祐衣 | J15: 様 | K15: 20 | M15: ・ | N15: ・ | P15: 63 | Q15: 今田 則夫 | T15: 様 | U15: 21 | W15: ・ | X15: ・ | Z15: 28 | AA15: 高村 加津子 | AD15: 様
A16: 22 | C16: ・ | D16: ・ | F16: 28 | G16: 山本 美津子 | J16: 様 | K16: 23 | M16: ・ | N16: ・ | P16: 7 | Q16: 千葉 あいり | T16: 様 | U16: 24 | W16: ・ | X16: ・ | Z16: 30 | AA16: 山本 伸子 | AD16: 様
A17: 25 | C17: ・ | D17: ・ | F17: 14 | G17: 熊野 忠明 | J17: 様 | K17: 26 | M17: ・ | N17: ・ | P17: 60 | Q17: 尾崎 良夫 | T17: 様 | U17: 27 | W17: ・ | X17: ・ | Z17: 30 | AA17: 瀬川 高雄 | AD17: 様
A18: 28 | C18: ・ | D18: ・ | F18: 30 | G18: 野田頭 真由美 | J18: 様 | K18: 29 | M18: ・ | N18: ・ | P18: 60 | Q18: 宮里 ミネ | T18: 様 | U18: 30 | W18: ・ | X18: ・ | Z18: 30 | AA18: 坂本 政勝 | AD18: 様
A19: 31 | C19: ・ | D19: ・ | F19: 38 | G19: 西 和枝 | J19: 様 | K19: 32 | M19: ・ | N19: ・ | P19: 21 | Q19: 丸谷 美香 | T19: 様 | U19: 33 | W19: ・ | X19: ・ | Z19: 60 | AA19: 工藤 健壽 | AD19: 様
A20: 34 | C20: ・ | D20: ・ | F20: 60 | G20: 長井 竹 | J20: 様 | K20: 35 | M20: ・ | N20: ・ | P20: 30 | Q20: 佐々木 札子 | T20: 様 | U20: 36 | W20: ・ | X20: ・ | Z20: 30 | AA20: 田口 トシ子 | AD20: 様
A21: 37 | C21: ・ | D21: ・ | F21: 28 | G21: 畑山 みゆき | J21: 様 | K21: 38 | M21: ・ | N21: ・ | P21: 30 | Q21: 国分 トシ子 | T21: 様 | U21: 39 | W21: ・ | X21: ・ | Z21: 21 | AA21: 大木 久子 | AD21: 様
A22: 40 | C22: ・ | D22: ・ | F22: 7 | G22: 中居 敬悦 | J22: 様 | K22: 41 | M22: ・ | N22: ・ | P22: 30 | Q22: 長嶺 孝 | T22: 様 | U22: 42 | W22: ・ | X22: ・ | Z22: 21 | AA22: 安部 信祥 | AD22: 様
A23: 43 | C23: ・ | D23: ・ | F23: 28 | G23: 齊藤 里美 | J23: 様 | K23: 44 | M23: ・ | N23: ・ | P23: 30 | Q23: 起田 妙子 | T23: 様 | U23: 45 | W23: ・ | X23: ・ | Z23: 30 | AA23: 小坂 和美 | AD23: 様
A24: 46 | C24: ・ | D24: ・ | F24: 30 | G24: 山谷 光都 | J24: 様 | K24: 47 | M24: ・ | N24: ・ | P24: 30 | Q24: 伊藤 和子 | T24: 様 | U24: 48 | W24: ・ | X24: ・ | Z24: 0 | AA24: 林 成信 | AD24: 様
A25: 49 | C25: ・ | D25: ・ | F25: 0 | G25: 工藤 健壽 | J25: 様 | K25: 50 | M25: ・ | N25: ・ | P25: 0 | Q25: 深町 栄美子 | T25: 様 | U25: 51 | W25: ・ | X25: ・ | Z25: 0 | AA25: 北村 イウ子 | AD25: 様
A26: 52 | C26: ・ | D26: ・ | F26: 0 | G26: 瀬川 高雄 | J26: 様 | K26: 53 | M26: ・ | N26: ・ | P26: 0 | Q26: 工藤 富雄 | T26: 様 | U26: 54 | W26: ・ | X26: ・ | Z26: 0 | AA26: 高村 加津子 | AD26: 様
A27: 55 | C27: ・ | D27: ・ | F27: 0 | G27: 萠出 克治 | J27: 様 | K27: 56 | T27: 様 | U27: 57 | AD27: 様
A28: 外来患者数 | E28: 新： | F28: =COUNTIF(B9:B27,"・")+COUNTIF(L9:L27,"・")+COUNTIF(V9:V27,"・") -> 3 | H28: 名 | I28: 再： | J28: =COUNTIF(C9:C27,"・")+COUNTIF(M9:M27,"・")+COUNTIF(W9:W27,"・") -> 55 | L28: 名 | M28: 計： | N28: =SUM(F28:K28) -> 58 | Q28: 名 | R28: （ | S28: 精： | T28: =COUNTIF(D9:D27,"・")+COUNTIF(N9:N27,"・")+COUNTIF(X9:X27,"・") -> 55 | W28: 名 | X28: ・ | Y28: 内： | Z28: =COUNTIF(E9:E27,"・")+COUNTIF(O9:O27,"・")+COUNTIF(Y9:Y27,"・") -> 0 | AC28: 名 | AD28: ）
A30: 紹介患者様氏名 | F30: 紹介先 | K30: 逆紹介患者様氏名 | P30: 紹介元 | U30: 処置実施者 | AA30: 処置内容
E31: 様 | K31: 安藤 クニ | O31: 様 | P31: 三沢中央病院 | Z31: 様
A32: 本日の検査 | F32: 検査内容 | K32: 処置実施者 | P32: 処置内容 | Z32: 様
A33: 工藤 隆斗 | E33: 様 | F33: 血液検査 | O33: 様 | Z33: 様
E34: 様 | O34: 様 | Z34: 様
E35: 様 | O35: 様 | Z35: 様
E36: 様 | O36: 様 | U36: 点検項目
E37: 様 | O37: 様 | U37: 項目 | Z37: 時間 | AC37: 点検者
A38: 発熱 | F38: 下痢 | K38: 風邪薬 | P38: 男性：21 | U38: 医療廃棄物 | Y38: 0.75 | AB38: 柳田美雪
A39: 0 | F39: 0 | K39: 0 | P39: 女性：31 | U39: 戸締り | Y39: 0.75 | AB39: 小笠原恵理子
A41: 備考欄 | C41: （連絡事項・処方変更・その他）
G42: 特記なし
G43: 柳田

Sheet 曜日
A1: 曜日 | E1: 説明書 その月の１日～７日までの曜日を黄色のセルに記入してください。 （例：１日が水曜日の月なら…… １日＝水 ２日＝木 ： ７日＝火 | L1: 7
A2: 1日 | B2: = | C2: 日
A3: 2日 | B3: = | C3: 月 | D3: ←
A4: 3日 | B4: = | C4: 火
A5: 4日 | B5: = | C5: 水 | I5: 石谷 美代子 | N5: 欠
A6: 鳴海 彩香 | B6: = | C6: 木
A7: 6日 | B7: = | C7: 金
A8: 7日 | B8: = | C8: 土
C9: ・ | D9: ・ | F9: 28 | G9: 片桐 惣一朗 | M9: ・ | N9: ・ | W9: ・ | X9: ・ | AA9: 西舘 瞳
A10: 年 | B10: 月 | E10: 説明書 年・月を入れてください。 | M10: ・ | N10: ・ | W10: ・ | X10: ・ | AA10: 相内 京子
A11: 1 | B11: 12 | D11: ← | M11: ・ | N11: ・ | W11: ・ | X11: ・ | AA11: 綿貫 啓子
F12: 7 | G12: 佐々木 未悠 | M12: ・ | N12: ・ | W12: ・ | X12: ・ | AA12: 藤田 絢三
F13: 28 | G13: 袴田 きみ | M13: ・ | N13: ・ | W13: ・ | X13: ・ | AA13: 山口 映子
F14: 28 | G14: 太田 美津 | M14: ・ | N14: ・ | W14: ・ | X14: ・ | AA14: 相田 敏子
F15: 14 | G15: 江尻 祐衣 | M15: ・ | N15: ・ | W15: ・ | X15: ・ | AA15: 高村 加津子
F16: 28 | G16: 山本 美津子 | M16: ・ | N16: ・ | W16: ・ | X16: ・ | AA16: 山本 伸子
F17: 14 | G17: 熊野 忠明 | M17: ・ | N17: ・ | W17: ・ | X17: ・ | AA17: 瀬川 高雄
F18: 30 | G18: 野田頭 真由美 | M18: ・ | N18: ・ | W18: ・ | X18: ・ | AA18: 坂本 政勝
F19: 38 | G19: 西 和枝 | M19: ・ | N19: ・ | W19: ・ | X19: ・ | AA19: 工藤 健壽
F20: 60 | G20: 長井 竹 | M20: ・ | N20: ・ | W20: ・ | X20: ・ | AA20: 田口 トシ子
F21: 28 | G21: 畑山 みゆき | M21: ・ | N21: ・ | W21: ・ | X21: ・ | AA21: 大木 久子
F22: 7 | G22: 中居 敬悦 | AA22: 安部 信祥
F23: 28 | G23: 齊藤 里美
K43: 野田頭 真由美 | P43: ハロマンス100mg 1セット
