Workbook

Sheet 1
B1: クリニック 日 誌 | H1: 令和 | J1: 3 | K1: 年 | L1: 7 | M1: 月 | N1: 1 | O1: 日 | Q1: （ | S1: ） | V1: COO | Y1: IOO | AB1: AOM
A3: 勤務者名
A4: 中村 恵理子 | G4: 日 | I4: 柳田 美雪 | N4: 年 | Q4: 診察室 | W4: 外来担当医 | Z4: 外来介助者
A5: 石原 恵海 | G5: 日 | I5: 石谷 美代子 | N5: 欠 | Q5: 第１診察室 | U5: 千葉/深澤 | Z5: 石原
A6: 鳴海 彩香 | G6: 日 | I6: 松林 久美子 | N6: 日 | Q6: 第２診察室
B8: 新 | C8: 再 | D8: 精 | E8: 内 | F8: 処 | G8: 患者様氏名 | L8: 新 | M8: 再 | N8: 精 | O8: 内 | P8: 処 | Q8: 患者様氏名 | V8: 新 | W8: 再 | X8: 精 | Y8: 内 | Z8: 処 | AA8: 患者様氏名
A9: 1 | C9: ・ | D9: ・ | F9: 28 | G9: 片桐 惣一朗 | J9: 様 | K9: 2 | M9: ・ | N9: ・ | P9: 30 | Q9: 奈良 治隆 | T9: 様 | U9: 3 | W9: ・ | X9: ・ | Z9: 0 | AA9: 西舘 瞳 | AD9: 様
A10: 4 | C10: ・ | D10: ・ | F10: 28 | G10: 野々宮 ミヨ | J10: 様 | K10: 5 | M10: ・ | N10: ・ | P10: 28 | Q10: 工藤 喜美子 | T10: 様 | U10: 6 | W10: ・ | X10: ・ | Z10: 0 | AA10: 相内 京子 | AD10: 様
A11: 7 | C11: ・ | D11: ・ | F11: 28 | G11: 野坂 千晶 | J11: 様 | K11: 8 | M11: ・ | N11: ・ | P11: 42 | Q11: 久保田 操 | T11: 様 | U11: 9 | W11: ・ | X11: ・ | Z11: 0 | AA11: 綿貫 啓子 | AD11: 様
A12: 10 | C12: ・ | D12: ・ | F12: 7 | G12: 佐々木 未悠 | J12: 様 | K12: 11 | M12: ・ | N12: ・ | P12: 30 | Q12: 天間 功一 | T12: 様 | U12: 12 | W12: ・ | X12: ・ | Z12: 0 | AA12: 藤田 絢三 | AD12: 様
A13: 13 | C13: ・ | D13: ・ | F13: 28 | G13: 袴田 きみ | J13: 様 | K13: 14 | M13: ・ | N13: ・ | P13: 30 | Q13: 鈴木 英男 | T13: 様 | U13: 15 | W13: ・ | X13: ・ | Z13: 0 | AA13: 山口 映子 | AD13: 様
A14: 16 | C14: ・ | D14: ・ | F14: 28 | G14: 太田 美津 | J14: 様 | K14: 17 | M14: ・ | N14: ・ | P14: 0 | Q14: 内田 クニ子 | T14: 様 | U14: 18 | W14: ・ | X14: ・ | Z14: 0 | AA14: 相田 敏子 | AD14: 様
A15: 19 | C15: ・ | D15: ・ | F15: 14 | G15: 江尻 祐衣 | J15: 様 | K15: 20 | M15: ・ | N15: ・ | P15: 35 | Q15: 大野 みほゑ | T15: 様 | U15: 21 | W15: ・ | X15: ・ | Z15: 0 | AA15: 高村 加津子 | AD15: 様
A16: 22 | C16: ・ | D16: ・ | F16: 28 | G16: 山本 美津子 | J16: 様 | K16: 23 | M16: ・ | N16: ・ | P16: 56 | Q16: 浪岡 ヒロ | T16: 様 | U16: 24 | W16: ・ | X16: ・ | Z16: 0 | AA16: 山本 伸子 | AD16: 様
A17: 25 | C17: ・ | D17: ・ | F17: 14 | G17: 熊野 忠明 | J17: 様 | K17: 26 | M17: ・ | N17: ・ | P17: 56 | Q17: 西舘 ツル | T17: 様 | U17: 27 | W17: ・ | X17: ・ | Z17: 0 | AA17: 瀬川 高雄 | AD17: 様
A18: 28 | C18: ・ | D18: ・ | F18: 30 | G18: 野田頭 真由美 | J18: 様 | K18: 29 | M18: ・ | N18: ・ | P18: 56 | Q18: 佐藤 涼子 | T18: 様 | U18: 30 | W18: ・ | X18: ・ | Z18: 0 | AA18: 坂本 政勝 | AD18: 様
A19: 31 | C19: ・ | D19: ・ | F19: 38 | G19: 西 和枝 | J19: 様 | K19: 32 | M19: ・ | N19: ・ | P19: 35 | Q19: 松館 邦子 | T19: 様 | U19: 33 | W19: ・ | X19: ・ | Z19: 0 | AA19: 工藤 健壽 | AD19: 様
A20: 34 | C20: ・ | D20: ・ | F20: 60 | G20: 長井 竹 | J20: 様 | K20: 35 | M20: ・ | N20: ・ | P20: 35 | Q20: 石井 佳奈 | T20: 様 | U20: 36 | W20: ・ | X20: ・ | Z20: 0 | AA20: 田口 トシ子 | AD20: 様
... A25: 49 | C25: ・ | D25: ・ | F25: 63 | G25: 平塚 かじこ | J25: 様 | K25: 50 | M25: ・ | N25: ・ | P25: 0 | Q25: 松林 香愛 | T25: 様 | U25: 51 | W25: ・ | X25: ・ | Z25: 35 | AA25: ミューズジャランヴィンセント | AD25: 様
A26: 52 | B26: ・ | D26: ・ | F26: 35 | G26: 柏木 新奈 | J26: 様 | K26: 53 | M26: ・ | N26: ・ | P26: 0 | Q26: 杉元 悠敏 | T26: 様 | U26: 54 | V26: ・ | X26: ・ | Z26: 7 | AA26: 杉本 治子 | AD26: 様
A27: 55 | B27: ・ | D27: ・ | F27: 0 | G27: 竹内 隆夫 | J27: 様 | K27: 56 | T27: 様 | U27: 57 | AD27: 様
A28: 外来患者数 | E28: 新： | F28: =COUNTIF(B9:B27,"・")+COUNTIF(L9:L27,"・")+COUNTIF(V9:V27,"・") -> 3 | H28: 名 | I28: 再： | J28: =COUNTIF(C9:C27,"・")+COUNTIF(M9:M27,"・")+COUNTIF(W9:W27,"・") -> 52 | L28: 名 | M28: 計： | N28: =SUM(F28:K28) -> 55 | Q28: 名 | R28: （ | S28: 精： | T28: =COUNTIF(D9:D27,"・")+COUNTIF(N9:N27,"・")+COUNTIF(X9:X27,"・") -> 55 | W28: 名 | X28: ・ | Y28: 内： | Z28: =COUNTIF(E9:E27,"・")+COUNTIF(O9:O27,"・")+COUNTIF(Y9:Y27,"・") -> 0 | AC28: 名 | AD28: ）
A30: 紹介患者様氏名 | F30: 紹介先 | K30: 逆紹介患者様氏名 | P30: 紹介元 | U30: 処置実施者 | AA30: 処置内容
E31: 様 | K31: 竹内 隆夫 | O31: 様 | P31: 十和田中央病院 | Z31: 様
A32: 本日の検査 | F32: 検査内容 | K32: 処置実施者 | P32: 処置内容 | Z32: 様
A33: 杉元 悠敏 | E33: 様 | F33: カウンセリング | K33: 野田頭 真由美 | O33: 様 | P33: ハロマンス100mg 1A | Z33: 様
A34: 柏木 薫 | E34: 様 | F34: カウンセリング | O34: 様 | Z34: 様
A35: 竹内 隆夫 | E35: 様 | F35: HDS-R MMSE 血液検査 | O35: 様 | Z35: 様
A36: 杉本 治子 | E36: 様 | F36: CMI | O36: 様 | U36: 点検項目
E37: 様 | O37: 様 | U37: 項目 | Z37: 時間 | AC37: 点検者
A38: 発熱 | F38: 下痢 | K38: 風邪薬 | P38: 男性：17 | U38: 医療廃棄物 | Y38: 0.75 | AB38: 恵谷 愛
A39: 0 | F39: 0 | K39: 0 | P39: 女性：38 | U39: 戸締り | Y39: 0.75 | AB39: 中村 恵理子
A41: 備考欄 | C41: （連絡事項・処方変更・その他）
G42: 特記なし
G43: 恵谷 愛

Sheet 2
B1: クリニック 日 誌 | H1: 令和 | J1: ='1'!J1 -> 3 | K1: 年 | L1: 7 | M1: 月 | N1: 2 | O1: 日 | Q1: （ | R1: 金 | S1: ） | V1: COO | Y1: IOO | AB1: AOM
A3: 勤務者名
A4: ='1'!A4:F4 -> 中村 恵理子 | G4: 日 | I4: 柳田 美雪 | N4: 年 | Q4: 診察室 | W4: 外来担当医 | Z4: 外来介助者
A5: 石原 恵海 | G5: 年 | I5: 石谷 美代子 | N5: 欠 | Q5: 第１診察室 | U5: 金 | Z5: 恵谷
A6: 恵谷 愛 | G6: 日
A7: 鳴海 彩香 | G7: 日 | I7: 松林 久美子 | N7: 日 | Q7: 第２診察室 | U7: 千葉 良 | Z7: 恵谷
B9: 新 | C9: 再 | D9: 精 | E9: 内 | F9: 処 | G9: 患者様氏名 | L9: 新 | M9: 再 | N9: 精 | O9: 内 | P9: 処 | Q9: 患者様氏名 | V9: 新 | W9: 再 | X9: 精 | Y9: 内 | Z9: 処 | AA9: 患者様氏名
A10: 1 | C10: ・ | D10: ・ | F10: 56 | G10: 橘 フサ子 | J10: 様 | K10: 2 | M10: ・ | N10: ・ | P10: 35 | Q10: 蒔苗 美穂子 | T10: 様 | U10: 3 | W10: ・ | X10: ・ | Z10: 0 | AA10: 工藤 健壽 | AD10: 様
A11: 4 | C11: ・ | D11: ・ | F11: 60 | G11: 菊池 純一 | J11: 様 | K11: 5 | M11: ・ | N11: ・ | P11: 28 | Q11: 佐藤 晴子 | T11: 様 | U11: 6 | W11: ・ | X11: ・ | Z11: 0 | AA11: 高村 加津子 | AD11: 様
A12: 7 | C12: ・ | D12: ・ | F12: 60 | G12: 坂田 イミ | J12: 様 | K12: 8 | M12: ・ | N12: ・ | P12: 30 | Q12: 土橋 烈 | T12: 様 | U12: 9 | W12: ・ | X12: ・ | Z12: 0 | AA12: 山本 伸子 | AD12: 様
A13: 10 | C13: ・ | D13: ・ | F13: 49 | G13: 高橋 英幸 | J13: 様 | K13: 11 | M13: ・ | N13: ・ | P13: 56 | Q13: 佐々木 札子 | T13: 様 | U13: 12 | W13: ・ | X13: ・ | Z13: 0 | AA13: 綿貫 啓子 | AD13: 様
A14: 13 | C14: ・ | D14: ・ | F14: 28 | G14: 柏木 チヤ子 | J14: 様 | K14: 14 | M14: ・ | N14: ・ | P14: 28 | Q14: 望月 恵美子 | T14: 様 | U14: 15 | W14: ・ | X14: ・ | Z14: 0 | AA14: 田口 トシ子 | AD14: 様
A15: 16 | C15: ・ | D15: ・ | F15: 28 | G15: 畑山 栄子 | J15: 様 | K15: 17 | M15: ・ | N15: ・ | P15: 30 | Q15: 前田 チヤ | T15: 様 | U15: 18 | W15: ・ | X15: ・ | Z15: 0 | AA15: 沼端 ミセ | AD15: 様
A16: 19 | C16: ・ | D16: ・ | F16: 28 | G16: 畑山 栄美子 | J16: 様 | K16: 20 | M16: ・ | N16: ・ | P16: 0 | Q16: 高田 奈緒美 | T16: 様 | U16: 21 | W16: ・ | X16: ・ | Z16: 0 | AA16: 深町 栄美子 | AD16: 様
A17: 22 | C17: ・ | D17: ・ | F17: 14 | G17: 角 恵美子 | J17: 様 | K17: 23 | M17: ・ | N17: ・ | P17: 0 | Q17: 森外 鉄雄 | T17: 様 | U17: 24 | W17: ・ | X17: ・ | Z17: 0 | AA17: 大木 久子 | AD17: 様
A18: 25 | C18: ・ | D18: ・ | F18: 30 | G18: 馬場 トセ子 | J18: 様 | K18: 26 | M18: ・ | N18: ・ | P18: 28 | Q18: 長根 謙二 | T18: 様 | U18: 27 | W18: ・ | X18: ・ | Z18: 0 | AA18: 藤田 絢三 | AD18: 様
A19: 28 | C19: ・ | D19: ・ | F19: 28 | G19: 山本 ハナ | J19: 様 | K19: 29 | M19: ・ | N19: ・ | P19: 30 | Q19: 谷地 正男 | T19: 様 | U19: 30 | W19: ・ | X19: ・ | Z19: 0 | AA19: 萠出 克治 | AD19: 様
A20: 31 | C20: ・ | D20: ・ | F20: 60 | G20: 浪岡 モミ | J20: 様 | K20: 32 | M20: ・ | N20: ・ | P20: 28 | Q20: 野々宮 是 | T20: 様 | U20: 33 | W20: ・ | X20: ・ | Z20: 0 | AA20: 萠出 きのゑ | AD20: 様
A21: 34 | C21: ・ | D21: ・ | F21: 28 | G21: 花松 ナヨ | J21: 様 | K21: 35 | M21: ・ | N21: ・ | P21: 28 | Q21: 吉田 美樹 | T21: 様 | U21: 36 | W21: ・ | X21: ・ | Z21: 0 | AA21: 杉山 博子 | AD21: 様
... A32: 67 | C32: ・ | D32: ・ | F32: 90 | G32: 佐々木 理奈 | J32: 様 | K32: 68 | M32: ・ | N32: ・ | P32: 30 | Q32: 浄法寺 七海 | T32: 様 | U32: 69 | W32: ・ | X32: ・ | Z32: 28 | AA32: 川口 千明 | AD32: 様
A33: 70 | C33: ・ | D33: ・ | F33: 0 | G33: 山本 美津子 | J33: 様 | K33: 71 | T33: 様 | U33: 72 | AD33: 様
A34: 外来患者数 | E34: 新： | F34: =COUNTIF(B10:B33,"・")+COUNTIF(L10:L33,"・")+COUNTIF(V10:V33,"・") -> 0 | H34: 名 | I34: 再： | J34: =COUNTIF(C10:C33,"・")+COUNTIF(M10:M33,"・")+COUNTIF(W10:W33,"・") -> 70 | L34: 名 | M34: 計： | N34: =SUM(F34:K34) -> 70 | Q34: 名 | R34: （ | S34: 精： | T34: =COUNTIF(D10:D33,"・")+COUNTIF(N10:N33,"・")+COUNTIF(X10:X33,"・") -> 70 | W34: 名 | X34: ・ | Y34: 内： | Z34: =COUNTIF(E10:E33,"・")+COUNTIF(O10:O33,"・")+COUNTIF(Y10:Y33,"・") -> 0 | AC34: 名 | AD34: ）
A36: 紹介患者様氏名 | F36: 紹介先 | K36: 逆紹介患者様氏名 | P36: 紹介元 | U36: 処置実施者 | AA36: 処置内容
E37: 様 | O37: 様 | Z37: 様
A38: 本日の検査 | F38: 検査内容 | K38: 処置実施者 | P38: 処置内容 | Z38: 様
E39: 様 | O39: 様 | U39: 点検項目
E40: 様 | O40: 様 | U40: 項目 | Z40: 時間 | AC40: 点検者
A41: 発熱 | F41: 下痢 | K41: 風邪薬 | P41: 男性：20 | U41: 医療廃棄物 | Y41: 0.75 | AB41: 恵谷 愛
A42: 0 | F42: 0 | K42: 0 | P42: 女性：50 | U42: 戸締り | Y42: 0.75 | AB42: ='1'!AB39:AD39 -> 中村 恵理子
A44: 備考欄 | C44: （連絡事項・処方変更・その他）
G45: 特記なし
G46: 恵谷 愛

Sheet 3
B1: クリニック 日 誌 | H1: 令和 | J1: ='1'!J1 -> 3 | K1: 年 | L1: 7 | M1: 月 | N1: 3 | O1: 日 | Q1: （ | S1: ） | V1: COO | Y1: IOO | AB1: AOM
A3: 勤務者名
A4: ='1'!A4:F4 -> 中村 恵理子 | G4: 日 | I4: 柳田 美雪 | N4: 日 | Q4: 診察室 | W4: 外来担当医 | Z4: 外来介助者
A5: 石原 恵海 | G5: 日 | I5: 石谷 美代子 | N5: 欠 | Q5: 第１診察室 | Z5: 柳田・石原
A6: 鳴海 彩香 | G6: 日 | Q6: 第２診察室
B8: 新 | C8: 再 | D8: 精 | E8: 内 | F8: 処 | G8: 患者様氏名 | L8: 新 | M8: 再 | N8: 精 | O8: 内 | P8: 処 | Q8: 患者様氏名 | V8: 新 | W8: 再 | X8: 精 | Y8: 内 | Z8: 処 | AA8: 患者様氏名
A9: 1 | C9: ・ | D9: ・ | J9: 様 | K9: 2 | M9: ・ | N9: ・ | T9: 様 | U9: 3 | W9: ・ | X9: ・ | AD9: 様
A10: 4 | J10: 様 | K10: 5 | M10: ・ | N10: ・ | T10: 様 | U10: 6 | W10: ・ | X10: ・ | AD10: 様
A11: 7 | J11: 様 | K11: 8 | M11: ・ | N11: ・ | T11: 様 | U11: 9 | W11: ・ | X11: ・ | AD11: 様
A12: 10 | J12: 様 | K12: 11 | M12: ・ | N12: ・ | T12: 様 | U12: 12 | W12: ・ | X12: ・ | AD12: 様
A13: 13 | J13: 様 | K13: 14 | M13: ・ | N13: ・ | T13: 様 | U13: 15 | W13: ・ | X13: ・ | AD13: 様
A14: 16 | J14: 様 | K14: 17 | M14: ・ | N14: ・ | T14: 様 | U14: 18 | W14: ・ | X14: ・ | AD14: 様
A15: 19 | J15: 様 | K15: 20 | M15: ・ | N15: ・ | T15: 様 | U15: 21 | W15: ・ | X15: ・ | AD15: 様
A16: 22 | J16: 様 | K16: 23 | M16: ・ | N16: ・ | T16: 様 | U16: 24 | W16: ・ | X16: ・ | AD16: 様
A17: 25 | J17: 様 | K17: 26 | M17: ・ | N17: ・ | T17: 様 | U17: 27 | W17: ・ | X17: ・ | AD17: 様
A18: 28 | J18: 様 | K18: 29 | M18: ・ | N18: ・ | T18: 様 | U18: 30 | W18: ・ | X18: ・ | AD18: 様
A19: 31 | J19: 様 | K19: 32 | M19: ・ | N19: ・ | T19: 様 | U19: 33 | W19: ・ | X19: ・ | AD19: 様
A20: 34 | J20: 様 | K20: 35 | M20: ・ | N20: ・ | T20: 様 | U20: 36 | W20: ・ | X20: ・ | AD20: 様
A21: 37 | J21: 様 | K21: 38 | M21: ・ | N21: ・ | T21: 様 | U21: 39 | W21: ・ | X21: ・ | AD21: 様
A22: 40 | J22: 様 | K22: 41 | T22: 様 | U22: 42 | AD22: 様
A23: 43 | J23: 様 | K23: 44 | T23: 様 | U23: 45 | AD23: 様
A24: 46 | J24: 様 | K24: 47 | T24: 様 | U24: 48 | AD24: 様
A25: 49 | J25: 様 | K25: 50 | T25: 様 | U25: 51 | AD25: 様
A26: 52 | J26: 様 | K26: 53 | T26: 様 | U26: 54 | AD26: 様
A27: 55 | J27: 様 | K27: 56 | T27: 様 | U27: 57 | AD27: 様
A28: 58 | J28: 様 | K28: 59 | T28: 様 | U28: 60 | AD28: 様
A29: 61 | J29: 様 | K29: 62 | T29: 様 | U29: 63 | AD29: 様
A30: 64 | J30: 様 | K30: 65 | T30: 様 | U30: 66 | AD30: 様
A31: 67 | J31: 様 | K31: 68 | T31: 様 | U31: 69 | AD31: 様
A32: 70 | J32: 様 | K32: 71 | T32: 様 | U32: 72 | AD32: 様
A33: 73 | J33: 様 | K33: 74 | T33: 様 | U33: 75 | AD33: 様
A34: 外来患者数 | E34: 新： | F34: =COUNTIF(B9:B33,"・")+COUNTIF(L9:L33,"・")+COUNTIF(V9:V33,"・") -> 0 | H34: 名 | I34: 再： | J34: =COUNTIF(C9:C33,"・")+COUNTIF(M9:M33,"・")+COUNTIF(W9:W33,"・") -> 27 | L34: 名 | M34: 計： | N34: =SUM(F34:K34) -> 27 | Q34: 名 | R34: （ | S34: 精： | T34: =COUNTIF(D9:D33,"・")+COUNTIF(N9:N33,"・")+COUNTIF(X9:X33,"・") -> 27 | W34: 名 | X34: ・ | Y34: 内： | Z34: =COUNTIF(E9:E33,"・")+COUNTIF(O9:O33,"・")+COUNTIF(Y9:Y33,"・") -> 0 | AC34: 名 | AD34: ）
A36: 紹介患者様氏名 | F36: 紹介先 | K36: 逆紹介患者様氏名 | P36: 紹介元 | U36: 処置実施者 | AA36: 処置内容
E37: 様 | O37: 様 | Z37: 様
E38: 様 | O38: 様 | Z38: 様
E39: 様 | O39: 様 | Z39: 様
E40: 様 | O40: 様 | Z40: 様
E41: 様 | O41: 様 | Z41: 様
A42: 本日の検査 | F42: 検査内容 | K42: 処置実施者 | P42: 処置内容 | Z42: 様
E43: 様 | K43: 野田頭 真由美 | O43: 様 | P43: ハロマンス100mg 1セット | Z43: 様
...

Sheet 4
B1: クリニック 日 誌 | H1: 令和 | J1: ='1'!J1 -> 3 | K1: 年 | L1: 7 | M1: 月 | N1: 4 | O1: 日 | Q1: （ | S1: ） | V1: COO | Y1: IOO | AB1: AOM
A3: 勤務者名
A4: ='1'!A4:F4 -> 中村 恵理子 | G4: 日 | I4: 柳田 美雪 | N4: 日 | Q4: 診察室 | W4: 外来担当医 | Z4: 外来介助者
A5: 石原 恵海 | G5: 日 | I5: 石谷 美代子 | N5: 欠 | Q5: 第１診察室 | Z5: 柳田・石原
A6: 鳴海 彩香 | G6: 日 | Q6: 第２診察室
B8: 新 | C8: 再 | D8: 精 | E8: 内 | F8: 処 | G8: 患者様氏名 | L8: 新 | M8: 再 | N8: 精 | O8: 内 | P8: 処 | Q8: 患者様氏名 | V8: 新 | W8: 再 | X8: 精 | Y8: 内 | Z8: 処 | AA8: 患者様氏名
A9: 1 | C9: ・ | D9: ・ | J9: 様 | K9: 2 | M9: ・ | N9: ・ | T9: 様 | U9: 3 | W9: ・ | X9: ・ | AD9: 様
A10: 4 | J10: 様 | K10: 5 | M10: ・ | N10: ・ | T10: 様 | U10: 6 | W10: ・ | X10: ・ | AD10: 様
A11: 7 | J11: 様 | K11: 8 | M11: ・ | N11: ・ | T11: 様 | U11: 9 | W11: ・ | X11: ・ | AD11: 様
A12: 10 | J12: 様 | K12: 11 | M12: ・ | N12: ・ | T12: 様 | U12: 12 | W12: ・ | X12: ・ | AD12: 様
A13: 13 | J13: 様 | K13: 14 | M13: ・ | N13: ・ | T13: 様 | U13: 15 | W13: ・ | X13: ・ | AD13: 様
A14: 16 | J14: 様 | K14: 17 | M14: ・ | N14: ・ | T14: 様 | U14: 18 | W14: ・ | X14: ・ | AD14: 様
A15: 19 | J15: 様 | K15: 20 | M15: ・ | N15: ・ | T15: 様 | U15: 21 | W15: ・ | X15: ・ | AD15: 様
A16: 22 | J16: 様 | K16: 23 | M16: ・ | N16: ・ | T16: 様 | U16: 24 | W16: ・ | X16: ・ | AD16: 様
A17: 25 | J17: 様 | K17: 26 | M17: ・ | N17: ・ | T17: 様 | U17: 27 | W17: ・ | X17: ・ | AD17: 様
A18: 28 | J18: 様 | K18: 29 | M18: ・ | N18: ・ | T18: 様 | U18: 30 | W18: ・ | X18: ・ | AD18: 様
A19: 31 | J19: 様 | K19: 32 | M19: ・ | N19: ・ | T19: 様 | U19: 33 | W19: ・ | X19: ・ | AD19: 様
A20: 34 | J20: 様 | K20: 35 | M20: ・ | N20: ・ | T20: 様 | U20: 36 | W20: ・ | X20: ・ | AD20: 様
A21: 37 | J21: 様 | K21: 38 | M21: ・ | N21: ・ | T21: 様 | U21: 39 | W21: ・ | X21: ・ | AD21: 様
A22: 40 | J22: 様 | K22: 41 | T22: 様 | U22: 42 | AD22: 様
A23: 43 | J23: 様 | K23: 44 | T23: 様 | U23: 45 | AD23: 様
A24: 46 | J24: 様 | K24: 47 | T24: 様 | U24: 48 | AD24: 様
A25: 49 | J25: 様 | K25: 50 | T25: 様 | U25: 51 | AD25: 様
A26: 52 | J26: 様 | K26: 53 | T26: 様 | U26: 54 | AD26: 様
A27: 55 | J27: 様 | K27: 56 | T27: 様 | U27: 57 | AD27: 様
A28: 58 | J28: 様 | K28: 59 | T28: 様 | U28: 60 | AD28: 様
A29: 61 | J29: 様 | K29: 62 | T29: 様 | U29: 63 | AD29: 様
A30: 64 | J30: 様 | K30: 65 | T30: 様 | U30: 66 | AD30: 様
A31: 67 | J31: 様 | K31: 68 | T31: 様 | U31: 69 | AD31: 様
A32: 70 | J32: 様 | K32: 71 | T32: 様 | U32: 72 | AD32: 様
A33: 73 | J33: 様 | K33: 74 | T33: 様 | U33: 75 | AD33: 様
A34: 外来患者数 | E34: 新： | F34: =COUNTIF(B9:B33,"・")+COUNTIF(L9:L33,"・")+COUNTIF(V9:V33,"・") -> 0 | H34: 名 | I34: 再： | J34: =COUNTIF(C9:C33,"・")+COUNTIF(M9:M33,"・")+COUNTIF(W9:W33,"・") -> 27 | L34: 名 | M34: 計： | N34: =SUM(F34:K34) -> 27 | Q34: 名 | R34: （ | S34: 精： | T34: =COUNTIF(D9:D33,"・")+COUNTIF(N9:N33,"・")+COUNTIF(X9:X33,"・") -> 27 | W34: 名 | X34: ・ | Y34: 内： | Z34: =COUNTIF(E9:E33,"・")+COUNTIF(O9:O33,"・")+COUNTIF(Y9:Y33,"・") -> 0 | AC34: 名 | AD34: ）
A36: 紹介患者様氏名 | F36: 紹介先 | K36: 逆紹介患者様氏名 | P36: 紹介元 | U36: 処置実施者 | AA36: 処置内容
E37: 様 | O37: 様 | Z37: 様
E38: 様 | O38: 様 | Z38: 様
E39: 様 | O39: 様 | Z39: 様
E40: 様 | O40: 様 | Z40: 様
E41: 様 | O41: 様 | Z41: 様
A42: 本日の検査 | F42: 検査内容 | K42: 処置実施者 | P42: 処置内容 | Z42: 様
E43: 様 | K43: 野田頭 真由美 | O43: 様 | P43: ハロマンス100mg 1セット | Z43: 様
...

Sheet 5
B1: クリニック 日 誌 | H1: 令和 | J1: ='1'!J1 -> 3 | K1: 年 | L1: 7 | M1: 月 | N1: 5 | O1: 日 | Q1: （ | R1: 月 | S1: ） | V1: COO | Y1: IOO | AB1: AOM
A3: 勤務者名
A4: ='1'!A4:F4 -> 中村 恵理子 | G4: 日 | I4: 柳田 美雪 | N4: 年 | Q4: 診察室 | W4: 外来担当医 | Z4: 外来介助者
A5: 石原 恵海 | G5: 日 | I5: 石谷 美代子 | N5: 欠 | Q5: 第１診察室 | U5: 馬渡 晃弘 | Z5: 石原
A6: 神 圭輔 | G6: 日 | Q6: 第２診察室 | U6: 坂田 優 | Z6: 石原
B8: 新 | C8: 再 | D8: 精 | E8: 内 | F8: 処 | G8: 患者様氏名 | L8: 新 | M8: 再 | N8: 精 | O8: 内 | P8: 処 | Q8: 患者様氏名 | V8: 新 | W8: 再 | X8: 精 | Y8: 内 | Z8: 処 | AA8: 患者様氏名
A9: 1 | C9: ・ | D9: ・ | E9: ・ | F9: 28 | G9: 奥 功 | J9: 様 | K9: 2 | M9: ・ | N9: ・ | P9: 30 | Q9: 古田 桃香 | T9: 様 | U9: 3 | W9: ・ | X9: ・ | Z9: 0 | AA9: 高村 加津子 | AD9: 様
A10: 4 | C10: ・ | E10: ・ | F10: 28 | G10: 宮崎 倫子 | J10: 様 | K10: 5 | M10: ・ | N10: ・ | P10: 30 | Q10: 佐々木 晴香 | T10: 様 | U10: 6 | W10: ・ | X10: ・ | Z10: 0 | AA10: 綿貫 啓子 | AD10: 様
A11: 7 | C11: ・ | D11: ・ | F11: 14 | G11: 馬場 一彦 | J11: 様 | K11: 8 | L11: ・ | N11: ・ | P11: 60 | Q11: 吉田 ふみ | T11: 様 | U11: 9 | W11: ・ | X11: ・ | Z11: 0 | AA11: 田口 トシ子 | AD11: 様
A12: 10 | C12: ・ | D12: ・ | F12: 35 | G12: 沼山 深雪 | J12: 様 | K12: 11 | M12: ・ | N12: ・ | P12: 30 | Q12: 山崎 友雅 | T12: 様 | U12: 12 | W12: ・ | X12: ・ | Z12: 0 | AA12: 沼端 ミセ | AD12: 様
A13: 13 | C13: ・ | D13: ・ | F13: 28 | G13: 吉村 直樹 | J13: 様 | K13: 14 | M13: ・ | N13: ・ | P13: 30 | Q13: 赤石 栞菜 | T13: 様 | U13: 15 | W13: ・ | X13: ・ | Z13: 0 | AA13: 深町 栄美子 | AD13: 様
A14: 16 | C14: ・ | D14: ・ | F14: 3 | G14: 坂本 佳之 | J14: 様 | K14: 17 | M14: ・ | N14: ・ | P14: 30 | Q14: 天間 貴那 | T14: 様 | U14: 18 | W14: ・ | X14: ・ | Z14: 0 | AA14: 大木 久子 | AD14: 様
A15: 19 | C15: ・ | D15: ・ | F15: 35 | G15: 鳥谷部 トヨ | J15: 様 | K15: 20 | M15: ・ | N15: ・ | P15: 30 | Q15: 木村 羽美 | T15: 様 | U15: 21 | W15: ・ | X15: ・ | Z15: 0 | AA15: 藤田 絢三 | AD15: 様
A16: 22 | C16: ・ | D16: ・ | F16: 28 | G16: 大村 恵美 | J16: 様 | K16: 23 | M16: ・ | N16: ・ | P16: 30 | Q16: 船水 大夢 | T16: 様 | U16: 24 | W16: ・ | X16: ・ | Z16: 0 | AA16: 萠出 克治 | AD16: 様
A17: 25 | C17: ・ | D17: ・ | F17: 28 | G17: 野田頭 郁美 | J17: 様 | K17: 26 | M17: ・ | N17: ・ | P17: 8 | Q17: 佐藤 ソノ | T17: 様 | U17: 27 | W17: ・ | X17: ・ | Z17: 0 | AA17: 萠出 きのゑ | AD17: 様
A18: 28 | C18: ・ | D18: ・ | F18: 14 | G18: 沖澤 孝 | J18: 様 | K18: 29 | M18: ・ | N18: ・ | P18: 56 | Q18: 菅原 仙一 | T18: 様 | U18: 30 | W18: ・ | X18: ・ | Z18: 0 | AA18: 杉山 博子 | AD18: 様
A19: 31 | C19: ・ | D19: ・ | F19: 28 | G19: 川村 みせ | J19: 様 | K19: 32 | M19: ・ | N19: ・ | P19: 28 | Q19: 種市 正子 | T19: 様 | U19: 33 | W19: ・ | X19: ・ | Z19: 0 | AA19: 相田 敏子 | AD19: 様
A20: 34 | C20: ・ | D20: ・ | F20: 56 | G20: 笹 幸子 | J20: 様 | K20: 35 | M20: ・ | N20: ・ | P20: 28 | Q20: 加賀 遥大 | T20: 様 | U20: 36 | W20: ・ | X20: ・ | Z20: 0 | AA20: 渡辺 クニ | AD20: 様
A21: 37 | C21: ・ | D21: ・ | F21: 60 | G21: 江渡 野乃花 | J21: 様 | K21: 38 | M21: ・ | N21: ・ | P21: 15 | Q21: 小笠原 由美子 | T21: 様 | U21: 39 | W21: ・ | X21: ・ | Z21: 0 | AA21: 山口 瑛子 | AD21: 様
A22: 40 | C22: ・ | D22: ・ | E22: ・ | F22: 28 | G22: 木村 幸雄 | J22: 様 | K22: 41 | M22: ・ | N22: ・ | P22: 28 | Q22: 成田 純広 | T22: 様 | U22: 42 | W22: ・ | X22: ・ | Z22: 0 | AA22: 坂本 政勝 | AD22: 様
A23: 43 | C23: ・ | D23: ・ | F23: 28 | G23: 右近 楓 | J23: 様 | K23: 44 | M23: ・ | N23: ・ | P23: 28 | Q23: 山縣 堅一 | T23: 様 | U23: 45 | W23: ・ | X23: ・ | Z23: 0 | AA23: 藪 真弓 | AD23: 様
A24: 46 | C24: ・ | D24: ・ | F24: 22 | G24: 木村 正子 | J24: 様 | K24: 47 | M24: ・ | N24: ・ | P24: 30 | Q24: 藤ヶ森 貴美枝 | T24: 様 | U24: 48 | W24: ・ | X24: ・ | Z24: 0 | AA24: 中居 敬悦 | AD24: 様
A25: 49 | C25: ・ | D25: ・ | F25: 28 | G25: 酒井 昌子 | J25: 様 | K25: 50 | M25: ・ | N25: ・ | P25: 28 | Q25: 新山 雄斗 | T25: 様 | U25: 51 | W25: ・ | X25: ・ | Z25: 0 | AA25: 村松 真由美 | AD25: 様
A26: 52 | C26: ・ | D26: ・ | F26: 30 | G26: 瀬川 高雄 | J26: 様 | K26: 53 | L26: ・ | N26: ・ | P26: 28 | Q26: 鈴木 政則 | T26: 様 | U26: 54 | W26: ・ | X26: ・ | Z26: 30 | AA26: 新山 颯也 | AD26: 様
A27: 55 | B27: ・ | D27: ・ | F27: 28 | G27: 高岡 熙子 | J27: 様 | K27: 56 | L27: ・ | N27: ・ | P27: 28 | Q27: 大友 愛子 | T27: 様 | U27: 57 | AD27: 様
A28: 外来患者数 | E28: 新： | F28: =COUNTIF(B9:B27,"・")+COUNTIF(L9:L27,"・")+COUNTIF(V9:V27,"・") -> 4 | H28: 名 | I28: 再： | J28: =COUNTIF(C9:C27,"・")+COUNTIF(M9:M27,"・")+COUNTIF(W9:W27,"・") -> 52 | L28: 名 | M28: 計： | N28: =SUM(F28:K28) -> 56 | Q28: 名 | R28: （ | S28: 精： | T28: =COUNTIF(D9:D27,"・")+COUNTIF(N9:N27,"・")+COUNTIF(X9:X27,"・") -> 55 | W28: 名 | X28: ・ | Y28: 内： | Z28: =COUNTIF(E9:E27,"・")+COUNTIF(O9:O27,"・")+COUNTIF(Y9:Y27,"・") -> 3 | AC28: 名 | AD28: ）
A30: 紹介患者様氏名 | F30: 紹介先 | K30: 逆紹介患者様氏名 | P30: 紹介元 | U30: 本日の検査 | AA30: 検査内容
A31: 佐藤 ソノ | E31: 様 | F31: 青南病院 | K31: 高岡 熙子 | O31: 様 | P31: 岡三沢診療所 | U31: 吉田 ふみ | Z31: 様 | AA31: HDS-R MMSE
A32: 笹 幸子 | E32: 様 | F32: 沼田医院 | K32: 吉田 ふみ | O32: 様 | P32: 十和田市立中央病院 | Z32: 様
E33: 様 | K33: 鈴木 政則 | O33: 様 | P33: 六ヶ所村地域家庭医療センター | Z33: 様
A34: 本日の検査 | F34: 検査内容 | K34: 処置実施者 | P34: 処置内容 | Z34: 様
A35: 奥 功 | E35: 様 | F35: 血液検査 | K35: 酒井 昌子 | O35: 様 | P35: ハロマンス100mg 1セット | Z35: 様
A36: 木村 幸雄 | E36: 様 | F36: 検尿 | K36: 小笠原 由美子 | O36: 様 | P36: エビリファイ(400mg)1キット | Z36: 様
A37: 高岡 熙子 | E37: 様 | F37: CMI | O37: 様 | Z37: 様
A38: 大友 愛子 | E38: 様 | F38: CMI | O38: 様 | U38: 点検項目
A39: 鈴木 政則 | E39: 様 | F39: CMI | O39: 様 | U39: 項目 | Z39: 時間 | AC39: 点検者
A40: 発熱 | F40: 下痢 | K40: 風邪薬 | P40: 男性：16 | U40: 医療廃棄物 | Y40: 0.75 | AB40: 石原 恵海
A41: 0 | F41: 0 | K41: 0 | P41: 女性：40 | U41: 戸締り | Y41: 0.75 | AB41: 松林 久美子
A43: 備考欄 | C43: （連絡事項・処方変更・その他）
G44: 特記なし
...

Sheet 6
B1: クリニック 日 誌 | H1: 令和 | J1: ='1'!J1 -> 3 | K1: 年 | L1: 7 | M1: 月 | N1: 6 | O1: 日 | Q1: （ | R1: 水 | S1: ） | V1: COO | Y1: IOO | AB1: AOM
A3: 勤務者名
A4: 中村 恵理子 | G4: 日 | I4: 柳田 美雪 | N4: 年 | Q4: 診察室 | W4: 外来担当医 | Z4: 外来介助者
A5: 石原 恵海 | G5: 日 | I5: 石谷 美代子 | N5: 欠 | Q5: 第１診察室 | U5: 千葉 潜 | Z5: 恵谷・石原
A6: 恵谷 愛 | Q6: 第２診察室 | U6: 坂田 優 | Z6: 石原
B8: 新 | C8: 再 | D8: 精 | E8: 内 | F8: 処 | G8: 患者様氏名 | L8: 新 | M8: 再 | N8: 精 | O8: 内 | P8: 処 | Q8: 患者様氏名 | V8: 新 | W8: 再 | X8: 精 | Y8: 内 | Z8: 処 | AA8: 患者様氏名
A9: 1 | B9: ・ | D9: ・ | F9: 7 | G9: 下田 マリ子 | J9: 様 | K9: 2 | M9: ・ | N9: ・ | P9: 14 | Q9: 坂本 郁子 | T9: 様 | U9: 3 | W9: ・ | X9: ・ | Z9: 28 | AA9: 高村 加津子 | AD9: 様
A10: 4 | C10: ・ | D10: ・ | F10: 28 | G10: 種市 優子 | J10: 様 | K10: 5 | M10: ・ | N10: ・ | P10: 7 | Q10: 高橋 稚波 | T10: 様 | U10: 6 | W10: ・ | X10: ・ | Z10: 28 | AA10: 工藤 健壽 | AD10: 様
A11: 7 | C11: ・ | D11: ・ | F11: 28 | G11: 吉田 めぐみ | J11: 様 | K11: 8 | M11: ・ | N11: ・ | P11: 28 | Q11: 井崎 恭子 | T11: 様 | U11: 9 | W11: ・ | X11: ・ | Z11: 28 | AA11: 鈴木 寛二 | AD11: 様
A12: 10 | C12: ・ | D12: ・ | F12: 28 | G12: 中村 文博 | J12: 様 | K12: 11 | M12: ・ | N12: ・ | P12: 28 | Q12: 石岡 裕子 | T12: 様 | U12: 12 | W12: ・ | X12: ・ | Z12: 28 | AA12: 坂本 政勝 | AD12: 様
A13: 13 | C13: ・ | D13: ・ | F13: 42 | G13: 古川 ミキ | J13: 様 | K13: 14 | M13: ・ | N13: ・ | P13: 28 | Q13: 中谷 幸夫 | T13: 様 | U13: 15 | W13: ・ | X13: ・ | Z13: 0 | AA13: 田口 トシ子 | AD13: 様
A14: 16 | C14: ・ | D14: ・ | F14: 60 | G14: 山本 キワ | J14: 様 | K14: 17 | M14: ・ | N14: ・ | P14: 28 | Q14: 高橋 ゆり子 | T14: 様 | U14: 18 | W14: ・ | X14: ・ | Z14: 0 | AA14: 綿貫 啓子 | AD14: 様
A15: 19 | C15: ・ | D15: ・ | F15: 14 | G15: 川村 魁斗 | J15: 様 | K15: 20 | M15: ・ | N15: ・ | P15: 28 | Q15: 野々宮 重美 | T15: 様 | U15: 21 | W15: ・ | X15: ・ | Z15: 0 | AA15: 山本 伸子 | AD15: 様
A16: 22 | C16: ・ | D16: ・ | F16: 60 | G16: 森 スエ子 | J16: 様 | K16: 23 | M16: ・ | N16: ・ | P16: 28 | Q16: 菅野 愛菜 | T16: 様 | U16: 24 | W16: ・ | X16: ・ | Z16: 0 | AA16: 藤田 絢三 | AD16: 様
A17: 25 | C17: ・ | D17: ・ | F17: 28 | G17: 熊崎 ユウ子 | J17: 様 | K17: 26 | M17: ・ | N17: ・ | P17: 28 | Q17: 浄法寺 ミツエ | T17: 様 | U17: 27 | W17: ・ | X17: ・ | Z17: 0 | AA17: 萠出 きのゑ | AD17: 様
A18: 28 | C18: ・ | D18: ・ | F18: 28 | G18: 住吉 鉄男 | J18: 様 | K18: 29 | M18: ・ | N18: ・ | P18: 30 | Q18: 松橋 莉沙 | T18: 様 | U18: 30 | W18: ・ | X18: ・ | Z18: 0 | AA18: 萠出 克治 | AD18: 様
A19: 31 | C19: ・ | D19: ・ | F19: 28 | G19: 鈴木 勝子 | J19: 様 | K19: 32 | M19: ・ | N19: ・ | P19: 7 | Q19: 山岡 裕花 | T19: 様 | U19: 33 | W19: ・ | X19: ・ | Z19: 0 | AA19: 山口 瑛子 | AD19: 様
A20: 34 | C20: ・ | D20: ・ | F20: 28 | G20: 土橋 和子 | J20: 様 | K20: 35 | M20: ・ | N20: ・ | P20: 14 | Q20: 小栗 佳子 | T20: 様 | U20: 36 | W20: ・ | X20: ・ | Z20: 28 | AA20: 小笠原 彩子 | AD20: 様
A21: 37 | C21: ・ | D21: ・ | F21: 28 | G21: 石原 トシ | J21: 様 | K21: 38 | M21: ・ | N21: ・ | P21: 14 | Q21: 松林 朋子 | T21: 様 | U21: 39 | W21: ・ | X21: ・ | Z21: 30 | AA21: 蛯名 ハナエ | AD21: 様
... A27: 55 | C27: ・ | D27: ・ | F27: 28 | G27: 三上 朋子 | J27: 様 | K27: 56 | M27: ・ | N27: ・ | P27: 28 | Q27: 佐々木 富雄 | T27: 様 | U27: 57 | W27: ・ | X27: ・ | Z27: 0 | AA27: 石井 佐代子 | AD27: 様
A28: 58 | C28: ・ | D28: ・ | F28: 28 | G28: 天間 ミツエ | J28: 様 | K28: 59 | L28: ・ | N28: ・ | P28: 7 | Q28: 新堂 一彦 | T28: 様 | U28: 60 | W28: ・ | X28: ・ | Z28: 0 | AA28: 水上 民一 | AD28: 様
A29: 61 | C29: ・ | D29: ・ | F29: 28 | G29: 大澤 哲也 | J29: 様 | K29: 62 | T29: 様 | U29: 63 | AD29: 様
A30: 外来患者数 | E30: 新： | F30: =COUNTIF(B9:B29,"・")+COUNTIF(L9:L29,"・")+COUNTIF(V9:V29,"・") -> 2 | H30: 名 | I30: 再： | J30: =COUNTIF(C9:C29,"・")+COUNTIF(M9:M29,"・")+COUNTIF(W9:W29,"・") -> 59 | L30: 名 | M30: 計： | N30: =SUM(F30:K30) -> 61 | Q30: 名 | R30: （ | S30: 精： | T30: =COUNTIF(D9:D29,"・")+COUNTIF(N9:N29,"・")+COUNTIF(X9:X29,"・") -> 61 | W30: 名 | X30: ・ | Y30: 内： | Z30: =COUNTIF(E9:E29,"・")+COUNTIF(O9:O29,"・")+COUNTIF(Y9:Y29,"・") -> 0 | AC30: 名 | AD30: ）
A32: 紹介患者様氏名 | F32: 紹介先 | K32: 逆紹介患者様氏名 | P32: 紹介元 | U32: 処置実施者 | AA32: 処置内容
E33: 様 | K33: 下田 マリ子 | O33: 様 | P33: 三沢市立病院 | Z33: 様
E34: 様 | K34: 新堂 一彦 | O34: 様 | P34: 自衛隊三沢病院 | Z34: 様
A35: 本日の検査 | F35: 検査内容 | K35: 処置実施者 | P35: 処置内容 | Z35: 様
A36: 奥寺 真理子 | E36: 様 | F36: 血液検査 | K36: 川村 魁斗 | O36: 様 | P36: ハロマンス(100) 1A | Z36: 様
A37: 新堂 一彦 | E37: 様 | F37: CMI | K37: 鈴木 寛二 | O37: 様 | P37: ゼプリオン150ｍｇ | Z37: 様
A38: 下田 マリ子 | E38: 様 | F38: CMI | O38: 様 | U38: 点検項目
E39: 様 | O39: 様 | U39: 項目 | Z39: 時間 | AC39: 点検者
A40: 発熱 | F40: 下痢 | K40: 風邪薬 | P40: 男性：17 | U40: 医療廃棄物 | Y40: 0.75 | AB40: 石原 恵海
A41: 0 | F41: 0 | K41: 0 | P41: 女性：44 | U41: 戸締り | Y41: 0.75 | AB41: 松林 久美子
A43: 備考欄 | C43: （連絡事項・処方変更・その他）
G44: 特になし
G45: 石原

Sheet 7
B1: クリニック 日 誌 | H1: 令和 | J1: ='6'!J1 -> 3 | K1: 年 | L1: 7 | M1: 月 | N1: 7 | O1: 日 | Q1: （ | R1: 水 | S1: ） | V1: COO | Y1: IOO | AB1: AOM
A3: 勤務者名
A4: ='6'!A4:F4 -> 中村 恵理子 | G4: 日 | I4: 柳田 美雪 | N4: 日 | Q4: 診察室 | W4: 外来担当医 | Z4: 外来介助者
A5: 石原 恵海 | G5: 日 | I5: 石谷 美代子 | N5: 欠 | Q5: 第１診察室 | U5: 千葉 潜 | Z5: 柳田・石原
A6: 松林 久美子 | G6: 日 | I6: 堀 安有美 | N6: 日 | Q6: 第２診察室 | U6: 坂田 優 | Z6: 柳田
B8: 新 | C8: 再 | D8: 精 | E8: 内 | F8: 処 | G8: 患者様氏名 | L8: 新 | M8: 再 | N8: 精 | O8: 内 | P8: 処 | Q8: 患者様氏名 | V8: 新 | W8: 再 | X8: 精 | Y8: 内 | Z8: 処 | AA8: 患者様氏名
A9: 1 | C9: ・ | D9: ・ | F9: 30 | G9: 小笠原 雅義 | J9: 様 | K9: 2 | M9: ・ | N9: ・ | P9: 28 | Q9: 沖田 千喜子 | T9: 様 | U9: 3 | W9: ・ | Y9: ・ | Z9: 56 | AA9: 坂田 佳子 | AD9: 様
A10: 4 | C10: ・ | D10: ・ | F10: 28 | G10: 角 正一郎 | J10: 様 | K10: 5 | M10: ・ | N10: ・ | P10: 60 | Q10: 冨田 りゑ | T10: 様 | U10: 6 | W10: ・ | Y10: ・ | Z10: 0 | AA10: 上岡 慶子 | AD10: 様
A11: 7 | C11: ・ | D11: ・ | F11: 42 | G11: 川口 凌矢 | J11: 様 | K11: 8 | M11: ・ | N11: ・ | P11: 28 | Q11: 本間 きよ | T11: 様 | U11: 9 | W11: ・ | X11: ・ | Z11: 0 | AA11: 山本 伸子 | AD11: 様 | AF11: 1
A12: 10 | C12: ・ | D12: ・ | F12: 28 | G12: 西澤 智穂 | J12: 様 | K12: 11 | M12: ・ | N12: ・ | P12: 30 | Q12: 藤原 チイ | T12: 様 | U12: 12 | W12: ・ | X12: ・ | Z12: 0 | AA12: 綿貫 啓子 | AD12: 様 | AF12: 2
A13: 13 | C13: ・ | D13: ・ | F13: 8 | G13: 水上 民一 | J13: 様 | K13: 14 | M13: ・ | N13: ・ | P13: 28 | Q13: 一戸 幸子 | T13: 様 | U13: 15 | W13: ・ | X13: ・ | Z13: 0 | AA13: 沼端 ミセ | AD13: 様 | AF13: 3
A14: 16 | C14: ・ | D14: ・ | F14: 60 | G14: 葛西 正人 | J14: 様 | K14: 17 | M14: ・ | N14: ・ | P14: 28 | Q14: 吹越 幸子 | T14: 様 | U14: 18 | W14: ・ | X14: ・ | Z14: 0 | AA14: 深町 栄美子 | AD14: 様 | AF14: 4
A15: 19 | C15: ・ | D15: ・ | F15: 28 | G15: 川村 実果 | J15: 様 | K15: 20 | M15: ・ | N15: ・ | P15: 28 | Q15: 工藤 幸子 | T15: 様 | U15: 21 | W15: ・ | X15: ・ | Z15: 0 | AA15: 萠出 克治 | AD15: 様 | AF15: 5
A16: 22 | C16: ・ | D16: ・ | F16: 30 | G16: 飯田 昭子 | J16: 様 | K16: 23 | M16: ・ | N16: ・ | P16: 28 | Q16: 赤沼 信克 | T16: 様 | U16: 24 | W16: ・ | X16: ・ | Z16: 0 | AA16: 萠出 きのゑ | AD16: 様 | AF16: 6
A17: 25 | C17: ・ | D17: ・ | F17: 56 | G17: 鹿糠 望 | J17: 様 | K17: 26 | M17: ・ | N17: ・ | P17: 60 | Q17: 町屋 自由 | T17: 様 | U17: 27 | W17: ・ | X17: ・ | Z17: 0 | AA17: 豊川 洋子 | AD17: 様 | AF17: 7
A18: 28 | C18: ・ | D18: ・ | F18: 28 | G18: 内田 昌子 | J18: 様 | K18: 29 | M18: ・ | N18: ・ | P18: 14 | Q18: 沼田 由貴 | T18: 様 | U18: 30 | W18: ・ | X18: ・ | Z18: 0 | AA18: 工藤 健壽 | AD18: 様 | AF18: 8
A19: 31 | C19: ・ | D19: ・ | F19: 30 | G19: 浄法寺 のり子 | J19: 様 | K19: 32 | M19: ・ | N19: ・ | P19: 28 | Q19: 種市 スエ | T19: 様 | U19: 33 | W19: ・ | X19: ・ | Z19: 0 | AA19: 高村 加津子 | AD19: 様 | AF19: 9
A20: 34 | C20: ・ | D20: ・ | F20: 30 | G20: 佐藤 務 | J20: 様 | K20: 35 | M20: ・ | N20: ・ | P20: 30 | Q20: 菅原 百合子 | T20: 様 | U20: 36 | W20: ・ | X20: ・ | Z20: 0 | AA20: 大木 久子 | AD20: 様 | AF20: 10
A21: 37 | C21: ・ | D21: ・ | F21: 28 | G21: 貝塚 一忠 | J21: 様 | K21: 38 | M21: ・ | N21: ・ | P21: 21 | Q21: 浪岡 淳哉 | T21: 様 | U21: 39 | W21: ・ | X21: ・ | Z21: 0 | AA21: 藤田 絢三 | AD21: 様 | AF21: 11
A22: 40 | C22: ・ | D22: ・ | F22: 30 | G22: 川久保 一茂 | J22: 様 | K22: 41 | M22: ・ | N22: ・ | P22: 28 | Q22: 菅藤 麻美 | T22: 様 | U22: 42 | W22: ・ | X22: ・ | Z22: 0 | AA22: 杉山 博子 | AD22: 様 | AF22: 12
... A25: 49 | C25: ・ | D25: ・ | F25: 30 | G25: 相内 京子 | J25: 様 | K25: 50 | M25: ・ | N25: ・ | P25: 42 | Q25: 山口 瑛子 | T25: 様 | U25: 51 | W25: ・ | X25: ・ | Z25: 0 | AA25: 坂本 政勝 | AD25: 様 | AF25: 15
A26: 52 | C26: ・ | D26: ・ | F26: 28 | G26: 岡山 きみ | J26: 様 | K26: 53 | M26: ・ | N26: ・ | P26: 28 | Q26: 田口 トシ子 | T26: 様 | U26: 54 | W26: ・ | X26: ・ | Z26: 0 | AA26: 小川 サクラ | AD26: 様
A27: 55 | C27: ・ | D27: ・ | F27: 28 | G27: 丸谷 美香 | J27: 様 | K27: 56 | M27: ・ | N27: ・ | P27: 14 | Q27: 猪野 遥 | T27: 様 | U27: 57 | W27: ・ | X27: ・ | Z27: 0 | AA27: 武内 隆三 | AD27: 様
A28: 58 | C28: ・ | D28: ・ | F28: 28 | G28: 石井 佐代子 | J28: 様 | K28: 59 | M28: ・ | N28: ・ | P28: 28 | Q28: 高山 かぢ子 | T28: 様 | U28: 60 | W28: ・ | X28: ・ | Z28: 14 | AA28: 伴 英雄 | AD28: 様
A29: 61 | C29: ・ | D29: ・ | F29: 28 | G29: 沼尾 弘美 | J29: 様 | K29: 62 | M29: ・ | N29: ・ | P29: 28 | Q29: 渡邊 聡雄 | T29: 様 | U29: 63 | W29: ・ | X29: ・ | Z29: 28 | AA29: 天間 英輝 | AD29: 様
A30: 64 | C30: ・ | D30: ・ | F30: 28 | G30: 千葉 麗真 | J30: 様 | K30: 65 | L30: ・ | N30: ・ | P30: 14 | Q30: 長岐 和哉 | T30: 様 | U30: 66 | W30: ・ | X30: ・ | Z30: 56 | AA30: 沢田 考 | AD30: 様
A31: 67 | C31: ・ | D31: ・ | F31: 28 | G31: 宮崎 真一 | J31: 様 | K31: 68 | M31: ・ | N31: ・ | P31: 14 | Q31: 岩沢 賢心 | T31: 様 | U31: 69 | W31: ・ | X31: ・ | Z31: 28 | AA31: 渡邊 唯 | AD31: 様
A32: 70 | C32: ・ | D32: ・ | F32: 28 | G32: 野原 サリ | J32: 様 | K32: 71 | M32: ・ | N32: ・ | P32: 28 | Q32: 赤沼 拓朗 | T32: 様 | U32: 72 | W32: ・ | X32: ・ | Z32: 28 | AA32: 花田 裕二郎 | AD32: 様
A33: 73 | C33: ・ | D33: ・ | F33: 42 | G33: 瀬間 義大 | J33: 様 | K33: 74 | M33: ・ | N33: ・ | P33: 56 | Q33: 金田 重一 | T33: 様 | U33: 75 | W33: ・ | X33: ・ | Z33: 28 | AA33: 阿部 勝廣 | AD33: 様
A34: 76 | C34: ・ | D34: ・ | F34: 0 | G34: 佐藤 初男 | J34: 様 | K34: 77 | L34: ・ | O34: ・ | P34: 0 | Q34: 中川 誠一 | T34: 様 | U34: 78 | V34: ・ | X34: ・ | Z34: 0 | AA34: 日戸 徹 | AD34: 様
A35: 外来患者数 | E35: 新： | F35: =COUNTIF(B9:B34,"・")+COUNTIF(L9:L34,"・")+COUNTIF(V9:V34,"・") -> 3 | H35: 名 | I35: 再： | J35: =COUNTIF(C9:C34,"・")+COUNTIF(M9:M34,"・")+COUNTIF(W9:W34,"・") -> 75 | L35: 名 | M35: 計： | N35: =SUM(F35:K35) -> 78 | Q35: 名 | R35: （ | S35: 精： | T35: =COUNTIF(D9:D34,"・")+COUNTIF(N9:N34,"・")+COUNTIF(X9:X34,"・") -> 75 | W35: 名 | X35: ・ | Y35: 内： | Z35: =COUNTIF(E9:E34,"・")+COUNTIF(O9:O34,"・")+COUNTIF(Y9:Y34,"・") -> 3 | AC35: 名 | AD35: ）
A37: 紹介患者様氏名 | F37: 紹介先 | K37: 逆紹介患者様氏名 | P37: 紹介元 | U37: 本日の検査 | AA37: 検査内容
E38: 様 | O38: 様 | U38: 中川 誠一 | Z38: 様 | AA38: 血液検査・ECG
A39: 本日の検査 | F39: 検査内容 | K39: 処置実施者 | P39: 処置内容 | U39: 浄法寺 のり子 | Z39: 様 | AA39: 血液検査
A40: 水上 民一 | E40: 様 | F40: 血液検査 | O40: 様 | U40: 菅原 百合子 | Z40: 様 | AA40: 血液検査
A41: 西澤 智穂 | E41: 様 | F41: 血液検査 | O41: 様 | U41: 坂田 佳子 | Z41: 様 | AA41: 血液検査
A42: 相内 京子 | E42: 様 | F42: 血液検査 | O42: 様 | Z42: 様
A43: 岡山 きみ | E43: 様 | F43: 血液検査 | O43: 様 | U43: 点検項目
A44: 上岡 慶子 | E44: 様 | F44: 血液検査 | O44: 様 | U44: 項目 | Z44: 時間 | AC44: 点検者
A45: 発熱 | F45: 下痢 | K45: 風邪薬 | P45: 男性：32 | U45: 医療廃棄物 | Y45: 0.75 | AB45: 石原 恵海
...

Sheet 8
B1: クリニック 日 誌 | H1: 令和 | J1: ='6'!J1 -> 3 | K1: 年 | L1: 7 | M1: 月 | N1: 8 | O1: 日 | Q1: （ | R1: 木 | S1: ） | V1: COO | Y1: IOO | AB1: AOM
A3: 勤務者名
A4: ='7'!A4:F4 -> 中村 恵理子 | G4: 年 | I4: 柳田 美雪 | N4: 日 | Q4: 診察室 | W4: 外来担当医 | Z4: 外来介助者
A5: 石原 恵海 | G5: 日 | I5: 堀 安有美 | N5: 欠 | Q5: 第１診察室 | U5: 千葉 潜 | Z5: 石原
A6: 神 圭輔 | G6: 日 | I6: 松林 久美子 | N6: 日 | Q6: 第２診察室 | U6: 田名部 茂 | Z6: 柳田・石原
B8: 新 | C8: 再 | D8: 精 | E8: 内 | F8: 処 | G8: 患者様氏名 | L8: 新 | M8: 再 | N8: 精 | O8: 内 | P8: 処 | Q8: 患者様氏名 | V8: 新 | W8: 再 | X8: 精 | Y8: 内 | Z8: 処 | AA8: 患者様氏名
A9: 1 | C9: ・ | D9: ・ | F9: 30 | G9: 戸村 節子 | J9: 様 | K9: 2 | M9: ・ | N9: ・ | P9: 14 | Q9: 木村 健 | T9: 様 | U9: 3 | W9: ・ | X9: ・ | Z9: 0 | AA9: 安部 信祥 | AD9: 様
A10: 4 | C10: ・ | D10: ・ | F10: 56 | G10: 小笠原 光俊 | J10: 様 | K10: 5 | M10: ・ | N10: ・ | P10: 28 | Q10: 太田 志緒 | T10: 様 | U10: 6 | W10: ・ | X10: ・ | Z10: 0 | AA10: 古川 とし | AD10: 様
A11: 7 | C11: ・ | D11: ・ | F11: 28 | G11: 冨田 扶美子 | J11: 様 | K11: 8 | M11: ・ | N11: ・ | P11: 56 | Q11: 中村 ノリ子 | T11: 様 | U11: 9 | W11: ・ | X11: ・ | Z11: 0 | AA11: 西舘 瞳 | AD11: 様
A12: 10 | C12: ・ | D12: ・ | F12: 14 | G12: 織笠 勝男 | J12: 様 | K12: 11 | M12: ・ | N12: ・ | P12: 28 | Q12: 野々宮 俊江 | T12: 様 | U12: 12 | W12: ・ | X12: ・ | Z12: 0 | AA12: 日戸 徹 | AD12: 様
A13: 13 | C13: ・ | D13: ・ | F13: 28 | G13: 小鷹 聡 | J13: 様 | K13: 14 | M13: ・ | N13: ・ | P13: 28 | Q13: 長谷地 トキ | T13: 様 | U13: 15 | W13: ・ | X13: ・ | Z13: 0 | AA13: 美濃部 将樹 | AD13: 様
A14: 16 | C14: ・ | D14: ・ | F14: 28 | G14: 市川 エミ子 | J14: 様 | K14: 17 | M14: ・ | N14: ・ | P14: 28 | Q14: 沼山 かおる | T14: 様 | U14: 18 | W14: ・ | X14: ・ | Z14: 0 | AA14: 高村 加津子 | AD14: 様
A15: 19 | C15: ・ | D15: ・ | F15: 28 | G15: 川原 明 | J15: 様 | K15: 20 | M15: ・ | N15: ・ | P15: 30 | Q15: 沼山 裕一 | T15: 様 | U15: 21 | W15: ・ | X15: ・ | Z15: 0 | AA15: 瀬川 高雄 | AD15: 様
A16: 22 | C16: ・ | D16: ・ | F16: 42 | G16: 島名 恵子 | J16: 様 | K16: 23 | M16: ・ | N16: ・ | P16: 7 | Q16: 中居 敬悦 | T16: 様 | U16: 24 | W16: ・ | X16: ・ | Z16: 0 | AA16: 藪 真弓 | AD16: 様
A17: 25 | C17: ・ | D17: ・ | F17: 28 | G17: 五代儀 禮子 | J17: 様 | K17: 26 | M17: ・ | N17: ・ | P17: 28 | Q17: 鷹架 イチ | T17: 様 | U17: 27 | W17: ・ | X17: ・ | Z17: 0 | AA17: 工藤 健壽 | AD17: 様
A18: 28 | C18: ・ | D18: ・ | F18: 56 | G18: 小笠原 琴葉 | J18: 様 | K18: 29 | M18: ・ | N18: ・ | P18: 7 | Q18: 類家 つさ | T18: 様 | U18: 30 | W18: ・ | X18: ・ | Z18: 0 | AA18: 藤田 絢三 | AD18: 様
A19: 31 | C19: ・ | D19: ・ | F19: 28 | G19: 長谷川 友和 | J19: 様 | K19: 32 | M19: ・ | N19: ・ | P19: 30 | Q19: 舛田 良子 | T19: 様 | U19: 33 | W19: ・ | X19: ・ | Z19: 0 | AA19: 田口 トシ子 | AD19: 様
A20: 34 | C20: ・ | D20: ・ | F20: 0 | G20: 安村 恵 | J20: 様 | K20: 35 | M20: ・ | N20: ・ | P20: 30 | Q20: 遠藤 ひとみ | T20: 様 | U20: 36 | W20: ・ | X20: ・ | Z20: 0 | AA20: 大木 久子 | AD20: 様
... A27: 55 | C27: ・ | D27: ・ | F27: 49 | G27: 工藤 サヨ | J27: 様 | K27: 56 | M27: ・ | N27: ・ | P27: 25 | Q27: 中村 佳奈 | T27: 様 | U27: 57 | W27: ・ | X27: ・ | Z27: 30 | AA27: 川守田 智恵子 | AD27: 様
A28: 58 | C28: ・ | D28: ・ | F28: 56 | G28: 坂岡 サダ | J28: 様 | K28: 59 | M28: ・ | N28: ・ | P28: 60 | Q28: 小笠原 早苗 | T28: 様 | U28: 60 | V28: ・ | X28: ・ | Z28: 0 | AA28: 中野 良太 | AD28: 様
A29: 61 | C29: ・ | D29: ・ | F29: 30 | G29: 武井 ツセ | J29: 様 | K29: 62 | M29: ・ | N29: ・ | P29: 21 | Q29: 岡山 貴文 | T29: 様 | U29: 63 | V29: ・ | X29: ・ | Z29: 0 | AA29: 小濵 直樹 | AD29: 様
A30: 64 | C30: ・ | D30: ・ | F30: 28 | G30: 村上 トクヱ | J30: 様 | K30: 65 | M30: ・ | N30: ・ | P30: 49 | Q30: 沖津 善昭 | T30: 様 | U30: 66 | AD30: 様
A31: 外来患者数 | E31: 新： | F31: =COUNTIF(B9:B30,"・")+COUNTIF(L9:L30,"・")+COUNTIF(V9:V30,"・") -> 2 | H31: 名 | I31: 再： | J31: =COUNTIF(C9:C30,"・")+COUNTIF(M9:M30,"・")+COUNTIF(W9:W30,"・") -> 63 | L31: 名 | M31: 計： | N31: =SUM(F31:K31) -> 65 | Q31: 名 | R31: （ | S31: 精： | T31: =COUNTIF(D9:D30,"・")+COUNTIF(N9:N30,"・")+COUNTIF(X9:X30,"・") -> 65 | W31: 名 | X31: ・ | Y31: 内： | Z31: =COUNTIF(E9:E30,"・")+COUNTIF(O9:O30,"・")+COUNTIF(Y9:Y30,"・") -> 0 | AC31: 名 | AD31: ）
A33: 紹介患者様氏名 | F33: 紹介先 | K33: 逆紹介患者様氏名 | P33: 紹介元 | U33: 処置実施者 | AA33: 処置内容
A34: 小濵 直樹 | E34: 様 | F34: つがる総合病院 | O34: 様 | Z34: 様
A35: 本日の検査 | F35: 検査内容 | K35: 処置実施者 | P35: 処置内容 | Z35: 様
A36: 市川 エミ子 | E36: 様 | F36: 血液検査 | O36: 様 | Z36: 様
A37: 太田 志緒 | E37: 様 | F37: 血液検査 | O37: 様 | Z37: 様
A38: 日戸 徹 | E38: 様 | F38: WAIS | O38: 様 | Z38: 様
A39: 美濃部 将樹 | E39: 様 | F39: WAIS | O39: 様 | U39: 点検項目
A40: 中野 良太 | E40: 様 | F40: CMI | O40: 様 | U40: 項目 | Z40: 時間 | AC40: 点検者
A41: 発熱 | F41: 下痢 | K41: 風邪薬 | P41: 男性：24 | U41: 医療廃棄物 | Y41: 0.75 | AB41: 柳田 美雪
A42: 0 | F42: 0 | K42: 0 | P42: 女性：41 | U42: 戸締り | Y42: 0.75 | AB42: ='6'!AB41:AD41 -> 松林 久美子
A44: 備考欄 | C44: （連絡事項・処方変更・その他）
G45: 特記なし
G46: 柳田

Sheet 9
B1: クリニック 日 誌 | H1: 令和 | J1: ='6'!J1 -> 3 | K1: 年 | L1: 7 | M1: 月 | N1: 9 | O1: 日 | Q1: （ | R1: 金 | S1: ） | V1: COO | Y1: IOO | AB1: AOM
A3: 勤務者名
A4: ='6'!A4:F4 -> 中村 恵理子 | G4: 日 | I4: 柳田 美雪 | N4: 日 | Q4: 診察室 | W4: 外来担当医 | Z4: 外来介助者
A5: 石原 恵海 | G5: 日 | I5: 石谷 美代子 | N5: 欠 | Q5: 第１診察室 | U5: 金 泰徳 | Z5: 柳田・石原
I6: 松林 久美子 | N6: 日 | Q6: 第２診察室 | U6: 千葉 良 | Z6: 柳田・石原
B8: 新 | C8: 再 | D8: 精 | E8: 内 | F8: 処 | G8: 患者様氏名 | L8: 新 | M8: 再 | N8: 精 | O8: 内 | P8: 処 | Q8: 患者様氏名 | V8: 新 | W8: 再 | X8: 精 | Y8: 内 | Z8: 処 | AA8: 患者様氏名
A9: 1 | C9: ・ | D9: ・ | F9: 30 | G9: 根岸 ナミ | J9: 様 | K9: 2 | M9: ・ | N9: ・ | P9: 60 | Q9: 中川原 いさ | T9: 様 | U9: 3 | W9: ・ | X9: ・ | Z9: 7 | AA9: 百目鬼 玲音 | AD9: 様
A10: 4 | C10: ・ | D10: ・ | F10: 30 | G10: 能登谷 鑑 | J10: 様 | K10: 5 | M10: ・ | N10: ・ | P10: 30 | Q10: 久保 トク | T10: 様 | U10: 6 | W10: ・ | X10: ・ | Z10: 30 | AA10: 高梨 晃亮 | AD10: 様
A11: 7 | C11: ・ | D11: ・ | F11: 28 | G11: 伊藤 よし子 | J11: 様 | K11: 8 | M11: ・ | N11: ・ | P11: 28 | Q11: 附田 ミサ | T11: 様 | U11: 9 | W11: ・ | X11: ・ | Z11: 0 | AA11: 沢村 まさえ | AD11: 様
A12: 10 | C12: ・ | D12: ・ | F12: 30 | G12: 佐々木 光政 | J12: 様 | K12: 11 | M12: ・ | N12: ・ | P12: 30 | Q12: 高田 昭彦 | T12: 様 | U12: 12 | W12: ・ | X12: ・ | Z12: 0 | AA12: 石井 佐代子 | AD12: 様
A13: 13 | C13: ・ | D13: ・ | F13: 28 | G13: 秋戸 さおり | J13: 様 | K13: 14 | M13: ・ | N13: ・ | P13: 30 | Q13: 冨田 未歩 | T13: 様 | U13: 15 | W13: ・ | X13: ・ | Z13: 0 | AA13: 坂本 政勝 | AD13: 様
A14: 16 | C14: ・ | D14: ・ | F14: 30 | G14: 西舘 美穂子 | J14: 様 | K14: 17 | M14: ・ | N14: ・ | P14: 28 | Q14: 岩井 純子 | T14: 様 | U14: 18 | W14: ・ | X14: ・ | Z14: 0 | AA14: 渡辺 クニ | AD14: 様
A15: 19 | C15: ・ | D15: ・ | F15: 30 | G15: 増沢 修一 | J15: 様 | K15: 20 | M15: ・ | N15: ・ | P15: 28 | Q15: 長嶺 チエ | T15: 様 | U15: 21 | W15: ・ | X15: ・ | Z15: 0 | AA15: 杉山 博子 | AD15: 様
A16: 22 | C16: ・ | D16: ・ | F16: 30 | G16: 冨田 未歩 | J16: 様 | K16: 23 | M16: ・ | N16: ・ | P16: 30 | Q16: 苅谷 れい子 | T16: 様 | U16: 24 | W16: ・ | X16: ・ | Z16: 0 | AA16: 大木 久子 | AD16: 様
A17: 25 | C17: ・ | D17: ・ | F17: 30 | G17: 山本 キヨ | J17: 様 | K17: 26 | M17: ・ | N17: ・ | P17: 30 | Q17: 種市 典子 | T17: 様 | U17: 27 | W17: ・ | X17: ・ | Z17: 0 | AA17: 千葉 スワ | AD17: 様
A18: 28 | C18: ・ | D18: ・ | F18: 28 | G18: 川村 妙子 | J18: 様 | K18: 29 | M18: ・ | N18: ・ | P18: 60 | Q18: 佐々木 立美 | T18: 様 | U18: 30 | W18: ・ | X18: ・ | Z18: 0 | AA18: 高村 加津子 | AD18: 様
A19: 31 | C19: ・ | D19: ・ | F19: 28 | G19: 林 真紀子 | J19: 様 | K19: 32 | M19: ・ | N19: ・ | P19: 30 | Q19: 畑内 幸子 | T19: 様 | U19: 33 | W19: ・ | X19: ・ | Z19: 0 | AA19: 工藤 健壽 | AD19: 様
A20: 34 | C20: ・ | D20: ・ | F20: 28 | G20: 舩山 ゆかり | J20: 様 | K20: 35 | M20: ・ | N20: ・ | P20: 30 | Q20: 小笠原 とよ | T20: 様 | U20: 36 | W20: ・ | X20: ・ | Z20: 0 | AA20: 瀬川 高雄 | AD20: 様
... A27: 55 | C27: ・ | D27: ・ | F27: 30 | G27: 対馬 穣 | J27: 様 | K27: 56 | M27: ・ | N27: ・ | P27: 28 | Q27: 大森 光城 | T27: 様 | U27: 57 | W27: ・ | X27: ・ | Z27: 0 | AA27: 堤 富美子 | AD27: 様
A28: 58 | C28: ・ | D28: ・ | F28: 30 | G28: 大久保 友樹 | J28: 様 | K28: 59 | M28: ・ | N28: ・ | P28: 30 | Q28: 鶴ケ崎 智香 | T28: 様 | U28: 60 | V28: ・ | X28: ・ | Z28: 0 | AA28: 菅原 千代 | AD28: 様
A29: 61 | C29: ・ | D29: ・ | F29: 30 | G29: 関川 優斗 | J29: 様 | K29: 62 | M29: ・ | N29: ・ | P29: 30 | Q29: 志田 詩音 | T29: 様 | U29: 63 | V29: ・ | X29: ・ | Z29: 0 | AA29: 中岫 武則 | AD29: 様
A30: 64 | C30: ・ | D30: ・ | F30: 30 | G30: 遠藤 侑人 | J30: 様 | K30: 65 | M30: ・ | N30: ・ | P30: 30 | Q30: 古山 瑞拮 | T30: 様 | U30: 66 | AD30: 様
A31: 外来患者数 | E31: 新： | F31: =COUNTIF(B9:B30,"・")+COUNTIF(L9:L30,"・")+COUNTIF(V9:V30,"・") -> 2 | H31: 名 | I31: 再： | J31: =COUNTIF(C9:C30,"・")+COUNTIF(M9:M30,"・")+COUNTIF(W9:W30,"・") -> 63 | L31: 名 | M31: 計： | N31: =SUM(F31:K31) -> 65 | Q31: 名 | R31: （ | S31: 精： | T31: =COUNTIF(D9:D30,"・")+COUNTIF(N9:N30,"・")+COUNTIF(X9:X30,"・") -> 65 | W31: 名 | X31: ・ | Y31: 内： | Z31: =COUNTIF(E9:E30,"・")+COUNTIF(O9:O30,"・")+COUNTIF(Y9:Y30,"・") -> 0 | AC31: 名 | AD31: ）
A33: 紹介患者様氏名 | F33: 紹介先 | K33: 逆紹介患者様氏名 | P33: 紹介元 | U33: 処置実施者 | AA33: 処置内容
E34: 様 | O34: 様 | Z34: 様
A35: 本日の検査 | F35: 検査内容 | K35: 処置実施者 | P35: 処置内容 | Z35: 様
A36: 能登谷 鑑 | E36: 様 | F36: 血液検査 | O36: 様 | Z36: 様
A37: 菅原 千代 | E37: 様 | F37: HDS-R・MMSE | O37: 様 | U37: 点検項目
A38: 中岫 武則 | E38: 様 | F38: HDS-R・MMSE | O38: 様 | U38: 項目 | Z38: 時間 | AC38: 点検者
A39: 発熱 | F39: 下痢 | K39: 風邪薬 | P39: 男性：21 | U39: 医療廃棄物 | Y39: 0.75 | AB39: 柳田 美雪
A40: 0 | F40: 0 | K40: 0 | P40: 女性：44 | U40: 戸締り | Y40: 0.75 | AB40: ='6'!AB41:AD41 -> 松林 久美子
A42: 備考欄 | C42: （連絡事項・処方変更・その他）
G44: 特記なし
G45: 柳田

Sheet 10
B1: クリニック 日 誌 | H1: 令和 | J1: ='6'!J1 -> 3 | K1: 年 | L1: 7 | M1: 月 | N1: 10 | O1: 日 | Q1: （ | S1: ） | V1: COO | Y1: IOO | AB1: AOM
A3: 勤務者名
A4: ='6'!A4:F4 -> 中村 恵理子 | G4: 日 | I4: 柳田 美雪 | N4: 日 | Q4: 診察室 | W4: 外来担当医 | Z4: 外来介助者
A5: 石原 恵海 | G5: 日 | I5: 石谷 美代子 | N5: 欠 | Q5: 第１診察室 | Z5: 柳田・石原
Q6: 第２診察室
B8: 新 | C8: 再 | D8: 精 | E8: 内 | F8: 処 | G8: 患者様氏名 | L8: 新 | M8: 再 | N8: 精 | O8: 内 | P8: 処 | Q8: 患者様氏名 | V8: 新 | W8: 再 | X8: 精 | Y8: 内 | Z8: 処 | AA8: 患者様氏名
A9: 1 | C9: ・ | D9: ・ | J9: 様 | K9: 2 | M9: ・ | N9: ・ | T9: 様 | U9: 3 | W9: ・ | X9: ・ | AD9: 様
A10: 4 | C10: ・ | D10: ・ | J10: 様 | K10: 5 | M10: ・ | N10: ・ | T10: 様 | U10: 6 | W10: ・ | X10: ・ | AD10: 様
A11: 7 | C11: ・ | D11: ・ | J11: 様 | K11: 8 | M11: ・ | N11: ・ | T11: 様 | U11: 9 | W11: ・ | X11: ・ | AD11: 様
A12: 10 | C12: ・ | D12: ・ | J12: 様 | K12: 11 | M12: ・ | N12: ・ | T12: 様 | U12: 12 | W12: ・ | X12: ・ | AD12: 様
A13: 13 | C13: ・ | D13: ・ | J13: 様 | K13: 14 | M13: ・ | N13: ・ | T13: 様 | U13: 15 | W13: ・ | X13: ・ | AD13: 様
A14: 16 | C14: ・ | D14: ・ | J14: 様 | K14: 17 | M14: ・ | N14: ・ | T14: 様 | U14: 18 | W14: ・ | X14: ・ | AD14: 様
A15: 19 | C15: ・ | D15: ・ | J15: 様 | K15: 20 | M15: ・ | N15: ・ | T15: 様 | U15: 21 | W15: ・ | X15: ・ | AD15: 様
A16: 22 | C16: ・ | D16: ・ | J16: 様 | K16: 23 | M16: ・ | N16: ・ | T16: 様 | U16: 24 | W16: ・ | X16: ・ | AD16: 様
A17: 25 | C17: ・ | D17: ・ | J17: 様 | K17: 26 | M17: ・ | N17: ・ | T17: 様 | U17: 27 | W17: ・ | X17: ・ | AD17: 様
A18: 28 | C18: ・ | D18: ・ | J18: 様 | K18: 29 | M18: ・ | N18: ・ | T18: 様 | U18: 30 | W18: ・ | X18: ・ | AD18: 様
A19: 31 | C19: ・ | D19: ・ | J19: 様 | K19: 32 | M19: ・ | N19: ・ | T19: 様 | U19: 33 | W19: ・ | X19: ・ | AD19: 様
A20: 34 | C20: ・ | D20: ・ | J20: 様 | K20: 35 | M20: ・ | N20: ・ | T20: 様 | U20: 36 | W20: ・ | X20: ・ | AD20: 様
A21: 37 | C21: ・ | D21: ・ | J21: 様 | K21: 38 | M21: ・ | N21: ・ | T21: 様 | U21: 39 | W21: ・ | X21: ・ | AD21: 様
A22: 40 | C22: ・ | D22: ・ | J22: 様 | K22: 41 | T22: 様 | U22: 42 | AD22: 様
A23: 43 | C23: ・ | D23: ・ | J23: 様 | K23: 44 | T23: 様 | U23: 45 | AD23: 様
A24: 46 | C24: ・ | D24: ・ | J24: 様 | K24: 47 | T24: 様 | U24: 48 | AD24: 様
A25: 49 | J25: 様 | K25: 50 | T25: 様 | U25: 51 | AD25: 様
A26: 52 | J26: 様 | K26: 53 | T26: 様 | U26: 54 | AD26: 様
A27: 55 | J27: 様 | K27: 56 | T27: 様 | U27: 57 | AD27: 様
A28: 58 | J28: 様 | K28: 59 | T28: 様 | U28: 60 | AD28: 様
A29: 61 | J29: 様 | K29: 62 | T29: 様 | U29: 63 | AD29: 様
A30: 64 | J30: 様 | K30: 65 | T30: 様 | U30: 66 | AD30: 様
A31: 67 | J31: 様 | K31: 68 | T31: 様 | U31: 69 | AD31: 様
A32: 70 | J32: 様 | K32: 71 | T32: 様 | U32: 72 | AD32: 様
A33: 73 | J33: 様 | K33: 74 | T33: 様 | U33: 75 | AD33: 様
A34: 外来患者数 | E34: 新： | F34: =COUNTIF(B9:B33,"・")+COUNTIF(L9:L33,"・")+COUNTIF(V9:V33,"・") -> 0 | H34: 名 | I34: 再： | J34: =COUNTIF(C9:C33,"・")+COUNTIF(M9:M33,"・")+COUNTIF(W9:W33,"・") -> 42 | L34: 名 | M34: 計： | N34: =SUM(F34:K34) -> 42 | Q34: 名 | R34: （ | S34: 精： | T34: =COUNTIF(D9:D33,"・")+COUNTIF(N9:N33,"・")+COUNTIF(X9:X33,"・") -> 42 | W34: 名 | X34: ・ | Y34: 内： | Z34: =COUNTIF(E9:E33,"・")+COUNTIF(O9:O33,"・")+COUNTIF(Y9:Y33,"・") -> 0 | AC34: 名 | AD34: ）
A36: 紹介患者様氏名 | F36: 紹介先 | K36: 逆紹介患者様氏名 | P36: 紹介元 | U36: 処置実施者 | AA36: 処置内容
E37: 様 | O37: 様 | Z37: 様
E38: 様 | O38: 様 | Z38: 様
E39: 様 | O39: 様 | Z39: 様
E40: 様 | O40: 様 | Z40: 様
E41: 様 | O41: 様 | Z41: 様
A42: 本日の検査 | F42: 検査内容 | K42: 処置実施者 | P42: 処置内容 | Z42: 様
E43: 様 | Z43: 様
...

Sheet 11
B1: クリニック 日 誌 | H1: 令和 | J1: ='6'!J1 -> 3 | K1: 年 | L1: 7 | M1: 月 | N1: 11 | O1: 日 | Q1: （ | S1: ） | V1: COO | Y1: IOO | AB1: AOM
A3: 勤務者名
A4: ='6'!A4:F4 -> 中村 恵理子 | G4: 日 | I4: 柳田 美雪 | N4: 日 | Q4: 診察室 | W4: 外来担当医 | Z4: 外来介助者
A5: 石原 恵海 | G5: 日 | I5: 石谷 美代子 | N5: 欠 | Q5: 第１診察室 | Z5: 柳田・石原
A6: 鳴海 彩香 | G6: 日 | Q6: 第２診察室
B8: 新 | C8: 再 | D8: 精 | E8: 内 | F8: 処 | G8: 患者様氏名 | L8: 新 | M8: 再 | N8: 精 | O8: 内 | P8: 処 | Q8: 患者様氏名 | V8: 新 | W8: 再 | X8: 精 | Y8: 内 | Z8: 処 | AA8: 患者様氏名
A9: 1 | C9: ・ | D9: ・ | K9: 2 | M9: ・ | N9: ・ | T9: 様 | U9: 3 | W9: ・ | X9: ・ | AD9: 様
A10: 4 | K10: 5 | M10: ・ | N10: ・ | T10: 様 | U10: 6 | W10: ・ | X10: ・ | AD10: 様
A11: 7 | K11: 8 | M11: ・ | N11: ・ | T11: 様 | U11: 9 | W11: ・ | X11: ・ | AD11: 様
A12: 10 | K12: 11 | M12: ・ | N12: ・ | T12: 様 | U12: 12 | W12: ・ | X12: ・ | AD12: 様
A13: 13 | K13: 14 | M13: ・ | N13: ・ | T13: 様 | U13: 15 | W13: ・ | X13: ・ | AD13: 様
A14: 16 | K14: 17 | M14: ・ | N14: ・ | T14: 様 | U14: 18 | W14: ・ | X14: ・ | AD14: 様
A15: 19 | K15: 20 | M15: ・ | N15: ・ | T15: 様 | U15: 21 | W15: ・ | X15: ・ | AD15: 様
A16: 22 | K16: 23 | M16: ・ | N16: ・ | T16: 様 | U16: 24 | W16: ・ | X16: ・ | AD16: 様
A17: 25 | K17: 26 | M17: ・ | N17: ・ | T17: 様 | U17: 27 | W17: ・ | X17: ・ | AD17: 様
A18: 28 | K18: 29 | M18: ・ | N18: ・ | T18: 様 | U18: 30 | W18: ・ | X18: ・ | AD18: 様
A19: 31 | K19: 32 | M19: ・ | N19: ・ | T19: 様 | U19: 33 | W19: ・ | X19: ・ | AD19: 様
A20: 34 | K20: 35 | M20: ・ | N20: ・ | T20: 様 | U20: 36 | W20: ・ | X20: ・ | AD20: 様
A21: 37 | K21: 38 | M21: ・ | N21: ・ | T21: 様 | U21: 39 | W21: ・ | X21: ・ | AD21: 様
A22: 40 | K22: 41 | T22: 様 | U22: 42 | AD22: 様
A23: 43 | K23: 44 | T23: 様 | U23: 45 | AD23: 様
A24: 46 | K24: 47 | T24: 様 | U24: 48 | AD24: 様
A25: 49 | K25: 50 | T25: 様 | U25: 51 | AD25: 様
A26: 52 | J26: 様 | K26: 53 | T26: 様 | U26: 54 | AD26: 様
A27: 55 | J27: 様 | K27: 56 | T27: 様 | U27: 57 | AD27: 様
A28: 58 | J28: 様 | K28: 59 | T28: 様 | U28: 60 | AD28: 様
A29: 61 | J29: 様 | K29: 62 | T29: 様 | U29: 63 | AD29: 様
A30: 64 | J30: 様 | K30: 65 | T30: 様 | U30: 66 | AD30: 様
A31: 67 | J31: 様 | K31: 68 | T31: 様 | U31: 69 | AD31: 様
A32: 70 | J32: 様 | K32: 71 | T32: 様 | U32: 72 | AD32: 様
A33: 73 | J33: 様 | K33: 74 | T33: 様 | U33: 75 | AD33: 様
A34: 外来患者数 | E34: 新： | F34: =COUNTIF(B9:B33,"・")+COUNTIF(L9:L33,"・")+COUNTIF(V9:V33,"・") -> 0 | H34: 名 | I34: 再： | J34: =COUNTIF(C9:C33,"・")+COUNTIF(M9:M33,"・")+COUNTIF(W9:W33,"・") -> 27 | L34: 名 | M34: 計： | N34: =SUM(F34:K34) -> 27 | Q34: 名 | R34: （ | S34: 精： | T34: =COUNTIF(D9:D33,"・")+COUNTIF(N9:N33,"・")+COUNTIF(X9:X33,"・") -> 27 | W34: 名 | X34: ・ | Y34: 内： | Z34: =COUNTIF(E9:E33,"・")+COUNTIF(O9:O33,"・")+COUNTIF(Y9:Y33,"・") -> 0 | AC34: 名 | AD34: ）
A36: 紹介患者様氏名 | F36: 紹介先 | K36: 逆紹介患者様氏名 | P36: 紹介元 | U36: 処置実施者 | AA36: 処置内容
E37: 様 | O37: 様 | Z37: 様
E38: 様 | O38: 様 | Z38: 様
E39: 様 | O39: 様 | Z39: 様
E40: 様 | O40: 様 | Z40: 様
E41: 様 | O41: 様 | Z41: 様
A42: 本日の検査 | F42: 検査内容 | K42: 処置実施者 | P42: 処置内容 | Z42: 様
E43: 様 | Z43: 様
...

Sheet 12
B1: クリニック 日 誌 | H1: 令和 | J1: ='6'!J1 -> 3 | K1: 年 | L1: 7 | M1: 月 | N1: 12 | O1: 日 | Q1: （ | R1: 月 | S1: ） | V1: COO | Y1: IOO | AB1: AOM
A3: 勤務者名
A4: ='6'!A4:F4 -> 中村 恵理子 | G4: 日 | I4: 柳田 美雪 | N4: 日 | Q4: 診察室 | W4: 外来担当医 | Z4: 外来介助者
A5: 石原 恵海 | G5: 日 | I5: 石谷 美代子 | N5: 欠 | Q5: 第１診察室 | U5: 馬渡 晃弘 | Z5: 石原
A6: 鳴海 彩香 | G6: 日 | I6: ='9'!I6:M6 -> 松林 久美子 | N6: 日 | Q6: 第２診察室 | U6: 坂田 優 | Z6: 柳田・石原
B8: 新 | C8: 再 | D8: 精 | E8: 内 | F8: 処 | G8: 患者様氏名 | L8: 新 | M8: 再 | N8: 精 | O8: 内 | P8: 処 | Q8: 患者様氏名 | V8: 新 | W8: 再 | X8: 精 | Y8: 内 | Z8: 処 | AA8: 患者様氏名
A9: 1 | C9: ・ | E9: ・ | F9: 7 | G9: 中川 誠一 | J9: 様 | K9: 2 | M9: ・ | N9: ・ | P9: 28 | Q9: 大森 光江 | T9: 様 | U9: 3 | W9: ・ | X9: ・ | Z9: 0 | AA9: 高村 加津子 | AD9: 様
A10: 4 | C10: ・ | D10: ・ | F10: 56 | G10: 和田 ハルエ | J10: 様 | K10: 5 | M10: ・ | N10: ・ | P10: 28 | Q10: 沼山 明 | T10: 様 | U10: 6 | W10: ・ | X10: ・ | Z10: 0 | AA10: 綿貫 啓子 | AD10: 様
A11: 7 | C11: ・ | D11: ・ | F11: 21 | G11: MUSE JARRA | J11: 様 | K11: 8 | M11: ・ | N11: ・ | P11: 56 | Q11: 小笠原 諒 | T11: 様 | U11: 9 | W11: ・ | X11: ・ | Z11: 0 | AA11: 沼端 ミセ | AD11: 様
A12: 10 | C12: ・ | D12: ・ | F12: 56 | G12: 織笠 政志 | J12: 様 | K12: 11 | M12: ・ | N12: ・ | P12: 56 | Q12: 石川 ひと美 | T12: 様 | U12: 12 | W12: ・ | X12: ・ | Z12: 0 | AA12: 瀬川 高雄 | AD12: 様
A13: 13 | C13: ・ | D13: ・ | F13: 35 | G13: 田中 成典 | J13: 様 | K13: 14 | M13: ・ | N13: ・ | P13: 28 | Q13: 蛯名 静子 | T13: 様 | U13: 15 | W13: ・ | X13: ・ | Z13: 0 | AA13: 深町 栄美子 | AD13: 様
A14: 16 | C14: ・ | D14: ・ | F14: 56 | G14: 是川 次友 | J14: 様 | K14: 17 | M14: ・ | N14: ・ | P14: 28 | Q14: 林 礼子 | T14: 様 | U14: 18 | W14: ・ | X14: ・ | Z14: 0 | AA14: 萠出 克治 | AD14: 様
A15: 19 | C15: ・ | D15: ・ | F15: 56 | G15: 新田 節子 | J15: 様 | K15: 20 | M15: ・ | N15: ・ | P15: 28 | Q15: 割澤 夏子 | T15: 様 | U15: 21 | W15: ・ | X15: ・ | Z15: 0 | AA15: 萠出 きのゑ | AD15: 様
A16: 22 | C16: ・ | D16: ・ | F16: 28 | G16: 澤谷 翔太 | J16: 様 | K16: 23 | M16: ・ | N16: ・ | P16: 56 | Q16: 大下内 英子 | T16: 様 | U16: 24 | W16: ・ | X16: ・ | Z16: 0 | AA16: 杉山 博子 | AD16: 様
A17: 25 | C17: ・ | E17: ・ | F17: 35 | G17: 山本 優 | J17: 様 | K17: 26 | M17: ・ | N17: ・ | P17: 28 | Q17: 駒形 克斗 | T17: 様 | U17: 27 | W17: ・ | X17: ・ | Z17: 0 | AA17: 山口 瑛子 | AD17: 様
A18: 28 | C18: ・ | D18: ・ | F18: 56 | G18: 鶴居 イソ | J18: 様 | K18: 29 | M18: ・ | N18: ・ | P18: 56 | Q18: 安田 早苗 | T18: 様 | U18: 30 | W18: ・ | X18: ・ | Z18: 0 | AA18: 坂本 政勝 | AD18: 様
A19: 31 | C19: ・ | D19: ・ | F19: 14 | G19: 遠嶋 剛 | J19: 様 | K19: 32 | M19: ・ | N19: ・ | P19: 28 | Q19: 星 歩 | T19: 様 | U19: 33 | W19: ・ | X19: ・ | Z19: 0 | AA19: 工藤 健壽 | AD19: 様
A20: 34 | C20: ・ | D20: ・ | F20: 14 | G20: 大西 真紀子 | J20: 様 | K20: 35 | M20: ・ | N20: ・ | P20: 28 | Q20: 星 幸 | T20: 様 | U20: 36 | W20: ・ | X20: ・ | Z20: 0 | AA20: 藤田 絢三 | AD20: 様
A21: 37 | C21: ・ | D21: ・ | F21: 20 | G21: 酒井 昌子 | J21: 様 | K21: 38 | M21: ・ | N21: ・ | P21: 56 | Q21: 鈴木 康真 | T21: 様 | U21: 39 | W21: ・ | X21: ・ | Z21: 0 | AA21: 相田 敏子 | AD21: 様
A22: 40 | C22: ・ | D22: ・ | E22: ・ | F22: 28 | G22: 土岐 文江 | J22: 様 | K22: 41 | L22: ・ | N22: ・ | P22: 28 | Q22: 鏡 千春 | T22: 様 | U22: 42 | W22: ・ | X22: ・ | Z22: 0 | AA22: 渡辺 クニ | AD22: 様
A23: 43 | C23: ・ | D23: ・ | F23: 21 | G23: 種市 慶子 | J23: 様 | K23: 44 | M23: ・ | N23: ・ | P23: 28 | Q23: 蛯名 亜果音 | T23: 様 | U23: 45 | W23: ・ | X23: ・ | Z23: 30 | AA23: 藤原 光子 | AD23: 様
A24: 46 | C24: ・ | D24: ・ | F24: 21 | G24: 川村 武史 | J24: 様 | K24: 47 | M24: ・ | N24: ・ | P24: 28 | Q24: 工藤 敏子 | T24: 様 | U24: 48 | W24: ・ | X24: ・ | Z24: 0 | AA24: 藪 真弓 | AD24: 様
A25: 49 | C25: ・ | D25: ・ | F25: 14 | G25: 小原 哲哉 | J25: 様 | K25: 50 | M25: ・ | N25: ・ | P25: 28 | Q25: 沼山 詩織 | T25: 様 | U25: 51 | V25: ・ | Y25: ・ | Z25: 0 | AA25: 小比券巻 均 | AD25: 様
A26: 52 | C26: ・ | D26: ・ | F26: 30 | G26: 乙部 孝太 | J26: 様 | K26: 53 | M26: ・ | N26: ・ | P26: 30 | Q26: 野澤 杏里 | T26: 様 | U26: 54 | W26: ・ | X26: ・ | Z26: 30 | AA26: 小泉 秀賢 | AD26: 様
A27: 55 | C27: ・ | D27: ・ | F27: 30 | G27: 樋口 敦也 | J27: 様 | K27: 56 | M27: ・ | N27: ・ | P27: 30 | Q27: 竹内 愛翔 | T27: 様 | U27: 57 | W27: ・ | X27: ・ | Z27: 0 | AA27: 奈良 涼花 | AD27: 様
A28: 58 | C28: ・ | D28: ・ | F28: 30 | G28: 水上 楓稀 | J28: 様 | K28: 59 | M28: ・ | N28: ・ | P28: 30 | Q28: 井石 大雅 | T28: 様 | U28: 60 | W28: ・ | X28: ・ | Z28: 30 | AA28: 佐々木 晴香 | AD28: 様
A29: 61 | C29: ・ | D29: ・ | F29: 60 | G29: 指田 日菜子 | J29: 様 | K29: 62 | M29: ・ | N29: ・ | P29: 28 | Q29: 狩野 智 | T29: 様 | U29: 63 | V29: ・ | Y29: ・ | Z29: 30 | AA29: 隈本 トミ子 | AD29: 様
A30: 64 | C30: ・ | D30: ・ | F30: 0 | G30: 立花 幸子 | J30: 様 | K30: 65 | T30: 様 | U30: 66 | AD30: 様
A31: 外来患者数 | E31: 新： | F31: =COUNTIF(B9:B30,"・")+COUNTIF(L9:L30,"・")+COUNTIF(V9:V30,"・") -> 3 | H31: 名 | I31: 再： | J31: =COUNTIF(C9:C30,"・")+COUNTIF(M9:M30,"・")+COUNTIF(W9:W30,"・") -> 61 | L31: 名 | M31: 計： | N31: =SUM(F31:K31) -> 64 | Q31: 名 | R31: （ | S31: 精： | T31: =COUNTIF(D9:D30,"・")+COUNTIF(N9:N30,"・")+COUNTIF(X9:X30,"・") -> 60 | W31: 名 | X31: ・ | Y31: 内： | Z31: =COUNTIF(E9:E30,"・")+COUNTIF(O9:O30,"・")+COUNTIF(Y9:Y30,"・") -> 5 | AC31: 名 | AD31: ）
A33: 紹介患者様氏名 | F33: 紹介先 | K33: 逆紹介患者様氏名 | P33: 紹介元 | U33: 処置実施者 | AA33: 処置内容
E34: 様 | K34: 鏡 千春 | O34: 様 | P34: さっぽろ心療内科CL | Z34: 様
A35: 本日の検査 | F35: 検査内容 | K35: 処置実施者 | P35: 処置内容 | Z35: 様
A36: 是川 次友 | E36: 様 | F36: 血液検査 | O36: 様 | Z36: 様
A37: 新田 節子 | E37: 様 | F37: 血液検査 | O37: 様 | Z37: 様
A38: 土岐 文江 | E38: 様 | F38: 血液検査 | O38: 様 | Z38: 様
A39: 立花 幸子 | E39: 様 | F39: WAIS | O39: 様 | U39: 点検項目
A40: 隈本 トミ子 | E40: 様 | F40: 血液検査 ECG | O40: 様 | U40: 項目 | Z40: 時間 | AC40: 点検者
A41: 発熱 | F41: 下痢 | K41: 風邪薬 | P41: 男性：28 | U41: 医療廃棄物 | Y41: 0.75 | AB41: 石原 恵海
A42: 0 | F42: 0 | K42: 0 | P42: 女性：36 | U42: 戸締り | Y42: 0.75 | AB42: 中村 恵理子
A44: 備考欄 | C44: （連絡事項・処方変更・その他）
...

Sheet 13
B1: クリニック 日 誌 | H1: 令和 | J1: ='6'!J1 -> 3 | K1: 年 | L1: 7 | M1: 月 | N1: 13 | O1: 日 | Q1: （ | R1: 火 | S1: ） | V1: COO | Y1: IOO | AB1: AOM
A3: 勤務者名
A4: ='6'!A4:F4 -> 中村 恵理子 | G4: 日 | I4: 柳田 美雪 | N4: 有 | Q4: 診察室 | W4: 外来担当医 | Z4: 外来介助者
A5: 石原 恵海 | G5: 日 | I5: 石谷 美代子 | N5: 欠 | Q5: 第１診察室 | U5: 千葉 潜 | Z5: 恵谷・石原
A6: 鳴海 彩香 | G6: 日 | I6: ='9'!I6:M6 -> 松林 久美子 | N6: 日 | Q6: 第２診察室 | U6: 坂田 優 | Z6: 石原
B8: 新 | C8: 再 | D8: 精 | E8: 内 | F8: 処 | G8: 患者様氏名 | L8: 新 | M8: 再 | N8: 精 | O8: 内 | P8: 処 | Q8: 患者様氏名 | V8: 新 | W8: 再 | X8: 精 | Y8: 内 | Z8: 処 | AA8: 患者様氏名
A9: 1 | C9: ・ | D9: ・ | F9: 42 | G9: 作田 由美子 | J9: 様 | K9: 2 | L9: ・ | N9: ・ | P9: 0 | Q9: 小杉 匠 | T9: 様 | U9: 3 | W9: ・ | X9: ・ | Z9: 0 | AA9: 石井 佐代子 | AD9: 様
A10: 4 | C10: ・ | E10: ・ | F10: 0 | G10: 上岡 慶子 | J10: 様 | K10: 5 | M10: ・ | N10: ・ | P10: 56 | Q10: 木村 久子 | T10: 様 | U10: 6 | W10: ・ | X10: ・ | Z10: 0 | AA10: 綿貫 啓子 | AD10: 様
A11: 7 | C11: ・ | E11: ・ | F11: 0 | G11: 大平 美武 | J11: 様 | K11: 8 | M11: ・ | N11: ・ | P11: 28 | Q11: 大森 まみ | T11: 様 | U11: 9 | W11: ・ | X11: ・ | Z11: 0 | AA11: 藤田 絢三 | AD11: 様
A12: 10 | C12: ・ | D12: ・ | F12: 28 | G12: 関川 睦子 | J12: 様 | K12: 11 | M12: ・ | N12: ・ | P12: 28 | Q12: 箕輪 麻紀子 | T12: 様 | U12: 12 | W12: ・ | X12: ・ | Z12: 0 | AA12: 萠出 きのゑ | AD12: 様
A13: 13 | C13: ・ | D13: ・ | F13: 28 | G13: 笹森 綾香 | J13: 様 | K13: 14 | M13: ・ | N13: ・ | P13: 28 | Q13: 荻野 健太郎 | T13: 様 | U13: 15 | W13: ・ | X13: ・ | Z13: 0 | AA13: 萠出 克治 | AD13: 様
A14: 16 | C14: ・ | D14: ・ | F14: 28 | G14: 小橋 裕見子 | J14: 様 | K14: 17 | M14: ・ | N14: ・ | P14: 28 | Q14: 倉舘 トワ | T14: 様 | U14: 18 | W14: ・ | X14: ・ | Z14: 0 | AA14: 山口 瑛子 | AD14: 様
A15: 19 | C15: ・ | D15: ・ | F15: 56 | G15: 村岡 述夫 | J15: 様 | K15: 20 | M15: ・ | N15: ・ | P15: 28 | Q15: 沼田 トキ | T15: 様 | U15: 21 | W15: ・ | X15: ・ | Z15: 0 | AA15: 杉本 香奈子 | AD15: 様
A16: 22 | C16: ・ | D16: ・ | F16: 28 | G16: 高根 あつ子 | J16: 様 | K16: 23 | M16: ・ | N16: ・ | P16: 14 | Q16: 新堂 一彦 | T16: 様 | U16: 24 | W16: ・ | X16: ・ | Z16: 0 | AA16: 甲地 高志 | AD16: 様
A17: 25 | C17: ・ | D17: ・ | F17: 14 | G17: 小比券巻 由美 | J17: 様 | K17: 26 | M17: ・ | N17: ・ | P17: 28 | Q17: 張田 智恵子 | T17: 様 | U17: 27 | W17: ・ | X17: ・ | Z17: 0 | AA17: 高村 加津子 | AD17: 様
A18: 28 | C18: ・ | D18: ・ | F18: 56 | G18: 田村 とよ | J18: 様 | K18: 29 | M18: ・ | N18: ・ | P18: 30 | Q18: 小向 忍 | T18: 様 | U18: 30 | V18: ・ | X18: ・ | Z18: 14 | AA18: 橋本 オシエ | AD18: 様
A19: 31 | C19: ・ | D19: ・ | F19: 28 | G19: 三浦 年男 | J19: 様 | K19: 32 | M19: ・ | N19: ・ | P19: 28 | Q19: 大木 久子 | T19: 様 | U19: 33 | W19: ・ | X19: ・ | Z19: 0 | AA19: 坂本 政勝 | AD19: 様
A20: 34 | C20: ・ | D20: ・ | F20: 28 | G20: 島貫 香央里 | J20: 様 | K20: 35 | M20: ・ | N20: ・ | P20: 28 | Q20: 室山 外志高 | T20: 様 | U20: 36 | W20: ・ | X20: ・ | Z20: 0 | AA20: 田口 トシ子 | AD20: 様
A21: 37 | C21: ・ | D21: ・ | F21: 7 | G21: 奥寺 真理子 | J21: 様 | K21: 38 | M21: ・ | N21: ・ | P21: 42 | Q21: 三瓶 政行 | T21: 様 | U21: 39 | W21: ・ | X21: ・ | Z21: 0 | AA21: 酒田 朋紀 | AD21: 様
A22: 40 | C22: ・ | D22: ・ | F22: 42 | G22: 蛯名 忍 | J22: 様 | K22: 41 | M22: ・ | N22: ・ | P22: 28 | Q22: 馬場 悠 | T22: 様 | U22: 42 | W22: ・ | X22: ・ | Z22: 0 | AA22: 中居 敬悦 | AD22: 様
A23: 43 | C23: ・ | D23: ・ | F23: 14 | G23: 佐々木 七海 | J23: 様 | K23: 44 | M23: ・ | N23: ・ | P23: 28 | Q23: 河村 幸祐 | T23: 様 | U23: 45 | W23: ・ | X23: ・ | Z23: 0 | AA23: 水上 民一 | AD23: 様
A24: 46 | C24: ・ | D24: ・ | F24: 28 | G24: 渡辺 美歌子 | J24: 様 | K24: 47 | M24: ・ | N24: ・ | P24: 30 | Q24: 小坂 和美 | T24: 様 | U24: 48 | W24: ・ | X24: ・ | Z24: 0 | AA24: 柏木 新菜 | AD24: 様
A25: 49 | C25: ・ | D25: ・ | F25: 14 | G25: 中田 真紀 | J25: 様 | K25: 50 | M25: ・ | N25: ・ | P25: 7 | Q25: 高橋 稚波 | T25: 様 | U25: 51 | W25: ・ | X25: ・ | Z25: 21 | AA25: 蒔田 輝美 | AD25: 様
A26: 52 | C26: ・ | D26: ・ | F26: 28 | G26: 関川 節 | J26: 様 | K26: 53 | M26: ・ | N26: ・ | P26: 28 | Q26: 岩舘 タツ | T26: 様 | U26: 54 | W26: ・ | X26: ・ | Z26: 28 | AA26: 蛯名 由香子 | AD26: 様
A27: 55 | C27: ・ | D27: ・ | F27: 14 | G27: 下田 マリ子 | J27: 様 | K27: 56 | M27: ・ | N27: ・ | P27: 28 | Q27: 相田 敏子 | T27: 様 | U27: 57 | W27: ・ | X27: ・ | Z27: 28 | AA27: 対馬 まき子 | AD27: 様 | AG27: 61
A28: 58 | C28: ・ | D28: ・ | F28: 28 | G28: 冨田 勝政 | J28: 様 | K28: 59 | M28: ・ | N28: ・ | P28: 42 | Q28: 沼岡 和子 | T28: 様 | U28: 60 | W28: ・ | X28: ・ | Z28: 7 | AA28: 山岡 裕花 | AD28: 様
A29: 61 | C29: ・ | D29: ・ | F29: 0 | G29: 類家 つさ | J29: 様 | K29: 62 | T29: 様 | U29: 63 | AD29: 様
A30: 外来患者数 | E30: 新： | F30: =COUNTIF(B9:B29,"・")+COUNTIF(L9:L29,"・")+COUNTIF(V9:V29,"・") -> 2 | H30: 名 | I30: 再： | J30: =COUNTIF(C9:C29,"・")+COUNTIF(M9:M29,"・")+COUNTIF(W9:W29,"・") -> 59 | L30: 名 | M30: 計： | N30: =SUM(F30:K30) -> 61 | Q30: 名 | R30: （ | S30: 精： | T30: =COUNTIF(D9:D29,"・")+COUNTIF(N9:N29,"・")+COUNTIF(X9:X29,"・") -> 59 | W30: 名 | X30: ・ | Y30: 内： | Z30: =COUNTIF(E9:E29,"・")+COUNTIF(O9:O29,"・")+COUNTIF(Y9:Y29,"・") -> 2 | AC30: 名 | AD30: ）
A32: 紹介患者様氏名 | F32: 紹介先 | K32: 逆紹介患者様氏名 | P32: 紹介元 | U32: 処置実施者 | AA32: 処置内容
A33: 類家 つさ | E33: 様 | F33: 青南病院 | K33: 橋本 オシエ | O33: 様 | P33: 六ヶ所村家庭地域医療センター | Z33: 様
A34: 笹森 綾香 | E34: 様 | F34: 弘前あすなろメンタルクリニック | O34: 様 | Z34: 様
A35: 本日の検査 | F35: 検査内容 | K35: 処置実施者 | P35: 処置内容 | Z35: 様
A36: 大平 美武 | E36: 様 | F36: 血液検査 | O36: 様 | Z36: 様
A37: 室山 外志高 | E37: 様 | F37: 血液検査 | O37: 様 | Z37: 様
A38: 甲地 高志 | E38: 様 | F38: WAIS | O38: 様 | U38: 点検項目
A39: 柏木 新菜 | E39: 様 | F39: 風景 | O39: 様 | U39: 項目 | Z39: 時間 | AC39: 点検者
A40: 発熱 | F40: 下痢 | K40: 風邪薬 | P40: 男性：19 | U40: 医療廃棄物 | Y40: 0.75 | AB40: 石原 恵海
A41: 0 | F41: 0 | K41: 0 | P41: 女性：42 | U41: 戸締り | Y41: 0.75 | AB41: 中村 恵理子
A43: 備考欄 | C43: （連絡事項・処方変更・その他）
G44: 特になし
...

Sheet 14
B1: クリニック 日 誌 | H1: 令和 | J1: ='6'!J1 -> 3 | K1: 年 | L1: 7 | M1: 月 | N1: 14 | O1: 日 | Q1: （ | R1: 水 | S1: ） | V1: COO | Y1: IOO | AB1: AOM
A3: 勤務者名
A4: ='6'!A4:F4 -> 中村 恵理子 | G4: 日 | I4: 柳田 美雪 | N4: 有 | Q4: 診察室 | W4: 外来担当医 | Z4: 外来介助者
A5: 石原 恵海 | G5: 日 | I5: 石谷 美代子 | N5: 欠 | Q5: 第１診察室 | U5: 千葉 潜 | Z5: 石原
A6: 鳴海 彩香 | G6: 日 | I6: ='9'!I6:M6 -> 松林 久美子 | N6: 日 | Q6: 第２診察室 | U6: 坂田 優 | Z6: 石原
B8: 新 | C8: 再 | D8: 精 | E8: 内 | F8: 処 | G8: 患者様氏名 | L8: 新 | M8: 再 | N8: 精 | O8: 内 | P8: 処 | Q8: 患者様氏名 | V8: 新 | W8: 再 | X8: 精 | Y8: 内 | Z8: 処 | AA8: 患者様氏名
A9: 1 | C9: ・ | D9: ・ | F9: 30 | G9: 小林 きよ | J9: 様 | K9: 2 | M9: ・ | N9: ・ | P9: 60 | Q9: 浪岡 ミヤ | T9: 様 | U9: 3 | W9: ・ | X9: ・ | Z9: 28 | AA9: 山本 伸子 | AD9: 様
A10: 4 | B10: ・ | E10: ・ | F10: 0 | G10: 山本 キヨ | J10: 様 | K10: 5 | M10: ・ | N10: ・ | P10: 90 | Q10: 新堂 マツ | T10: 様 | U10: 6 | W10: ・ | X10: ・ | Z10: 28 | AA10: 深町 栄美子 | AD10: 様
A11: 7 | C11: ・ | D11: ・ | F11: 56 | G11: 和田 成人 | J11: 様 | K11: 8 | M11: ・ | N11: ・ | P11: 35 | Q11: 清水 奈緒美 | T11: 様 | U11: 9 | W11: ・ | X11: ・ | Z11: 28 | AA11: 豊川 洋子 | AD11: 様
A12: 10 | C12: ・ | D12: ・ | F12: 28 | G12: 戸田 文子 | J12: 様 | K12: 11 | M12: ・ | N12: ・ | P12: 14 | Q12: 角 茜莉 | T12: 様 | U12: 12 | W12: ・ | X12: ・ | Z12: 0 | AA12: 沼端 ミセ | AD12: 様
A13: 13 | C13: ・ | D13: ・ | F13: 30 | G13: 向井 ヒロ子 | J13: 様 | K13: 14 | M13: ・ | N13: ・ | P13: 45 | Q13: 中野渡 ツエ | T13: 様 | U13: 15 | W13: ・ | X13: ・ | Z13: 0 | AA13: 萠出 克治 | AD13: 様
A14: 16 | C14: ・ | E14: ・ | F14: 0 | G14: 大平 美武 | J14: 様 | K14: 17 | M14: ・ | N14: ・ | P14: 30 | Q14: 赤川 美紀 | T14: 様 | U14: 18 | W14: ・ | X14: ・ | Z14: 0 | AA14: 萠出 きのゑ | AD14: 様
A15: 19 | C15: ・ | D15: ・ | F15: 42 | G15: 葛西 瑛 | J15: 様 | K15: 20 | M15: ・ | N15: ・ | P15: 28 | Q15: 成田 尚子 | T15: 様 | U15: 21 | W15: ・ | X15: ・ | Z15: 0 | AA15: 山口 瑛子 | AD15: 様
A16: 22 | C16: ・ | D16: ・ | F16: 14 | G16: 土井 美保 | J16: 様 | K16: 23 | M16: ・ | N16: ・ | P16: 60 | Q16: 板川 京子 | T16: 様 | U16: 24 | W16: ・ | X16: ・ | Z16: 0 | AA16: 瀬川 高雄 | AD16: 様
A17: 25 | C17: ・ | D17: ・ | F17: 30 | G17: 附田 優子 | J17: 様 | K17: 26 | M17: ・ | N17: ・ | P17: 30 | Q17: 若林 靖子 | T17: 様 | U17: 27 | W17: ・ | X17: ・ | Z17: 28 | AA17: 石ケ谷 數子 | AD17: 様
A18: 28 | C18: ・ | D18: ・ | F18: 60 | G18: 衣川 幸子 | J18: 様 | K18: 29 | M18: ・ | N18: ・ | P18: 60 | Q18: 塚田 敏子 | T18: 様 | U18: 30 | W18: ・ | X18: ・ | Z18: 0 | AA18: 工藤 健壽 | AD18: 様
A19: 31 | C19: ・ | D19: ・ | F19: 28 | G19: 中村 としゑ | J19: 様 | K19: 32 | M19: ・ | N19: ・ | P19: 30 | Q19: 佐々木 政夫 | T19: 様 | U19: 33 | W19: ・ | X19: ・ | Z19: 0 | AA19: 高村 加津子 | AD19: 様
A20: 34 | C20: ・ | D20: ・ | F20: 25 | G20: 山本 金雄 | J20: 様 | K20: 35 | M20: ・ | N20: ・ | P20: 29 | Q20: 深澤 光良 | T20: 様 | U20: 36 | W20: ・ | X20: ・ | Z20: 0 | AA20: 藤田 絢三 | AD20: 様
A21: 37 | C21: ・ | D21: ・ | F21: 28 | G21: 竹内 くみ子 | J21: 様 | K21: 38 | M21: ・ | N21: ・ | P21: 29 | Q21: 深澤 友子 | T21: 様 | U21: 39 | W21: ・ | X21: ・ | Z21: 0 | AA21: 杉山 博子 | AD21: 様
A22: 40 | C22: ・ | D22: ・ | F22: 42 | G22: 田中 千秋 | J22: 様 | K22: 41 | M22: ・ | N22: ・ | P22: 28 | Q22: 神田 輝子 | T22: 様 | U22: 42 | W22: ・ | X22: ・ | Z22: 0 | AA22: 相田 敏子 | AD22: 様
A23: 43 | C23: ・ | D23: ・ | F23: 30 | G23: 櫻井 あい | J23: 様 | K23: 44 | M23: ・ | N23: ・ | P23: 14 | Q23: 原田 悠紀 | T23: 様 | U23: 45 | W23: ・ | X23: ・ | Z23: 0 | AA23: 坂本 政勝 | AD23: 様
A24: 46 | C24: ・ | D24: ・ | F24: 14 | G24: 阿部 映理華 | J24: 様 | K24: 47 | M24: ・ | N24: ・ | P24: 30 | Q24: 小山 誠 | T24: 様 | U24: 48 | W24: ・ | X24: ・ | Z24: 0 | AA24: 大木 久子 | AD24: 様
A25: 49 | C25: ・ | D25: ・ | F25: 21 | G25: 飯田 昭子 | J25: 様 | K25: 50 | M25: ・ | N25: ・ | P25: 30 | Q25: 鈴木 智恵子 | T25: 様 | U25: 51 | W25: ・ | X25: ・ | Z25: 0 | AA25: 石井 佐代子 | AD25: 様
A26: 52 | C26: ・ | D26: ・ | F26: 28 | G26: 高橋 キヨエ | J26: 様 | K26: 53 | M26: ・ | N26: ・ | P26: 28 | Q26: 山本 文紀 | T26: 様 | U26: 54 | W26: ・ | X26: ・ | Z26: 0 | AA26: 稲本 典子 | AD26: 様
