Workbook

Sheet 1
B1: クリニック 日 誌 | H1: 令和 | J1: 2 | K1: 年 | L1: 12 | M1: 月 | N1: 1 | O1: 日 | Q1: （ | R1: 火 | S1: ） | V1: COO | Y1: IOO | AB1: AOM
A3: 勤務者名
A4: 中村 恵理子 | G4: 日 | I4: 柳田 美雪 | N4: 日 | Q4: 診察室 | W4: 外来担当医 | Z4: 外来介助者
A5: 石原 恵海 | G5: 日 | I5: 石谷 美代子 | N5: 日 | Q5: 第１診察室 | U5: 千葉 潜 | Z5: 柳田・石原
Q6: 第２診察室 | U6: 千葉 良 | Z6: 柳田・石原
B8: 新 | C8: 再 | D8: 精 | E8: 内 | F8: 処 | G8: 患者様氏名 | L8: 新 | M8: 再 | N8: 精 | O8: 内 | P8: 処 | Q8: 患者様氏名 | V8: 新 | W8: 再 | X8: 精 | Y8: 内 | Z8: 処 | AA8: 患者様氏名
A9: 1 | C9: ・ | D9: ・ | F9: 42 | G9: 馬場 トミエ | J9: 様 | K9: 2 | M9: ・ | N9: ・ | P9: 30 | Q9: 西山 節子 | T9: 様 | U9: 3 | W9: ・ | X9: ・ | Z9: 28 | AA9: 蛯名 由香子 | AD9: 様
A10: 4 | C10: ・ | D10: ・ | F10: 28 | G10: 杉山 眞紀子 | J10: 様 | K10: 5 | M10: ・ | N10: ・ | P10: 28 | Q10: 木村 久子 | T10: 様 | U10: 6 | W10: ・ | X10: ・ | Z10: 28 | AA10: 安是 和子 | AD10: 様
A11: 7 | C11: ・ | D11: ・ | F11: 0 | G11: 水上 民一 | J11: 様 | K11: 8 | M11: ・ | N11: ・ | P11: 28 | Q11: 蒔田 輝美 | T11: 様 | U11: 9 | W11: ・ | X11: ・ | Z11: 30 | AA11: 野川 安雄 | AD11: 様
A12: 10 | C12: ・ | D12: ・ | F12: 30 | G12: 工藤 愛 | J12: 様 | K12: 11 | L12: ・ | N12: ・ | P12: 7 | Q12: 坂本 丈夫 | T12: 様 | U12: 12 | W12: ・ | X12: ・ | Z12: 28 | AA12: 中村 奈々恵 | AD12: 様
A13: 13 | C13: ・ | D13: ・ | F13: 28 | G13: 中村 マツノ | J13: 様 | K13: 14 | M13: ・ | N13: ・ | P13: 42 | Q13: 山口 瑛子 | T13: 様 | U13: 15 | W13: ・ | X13: ・ | Z13: 30 | AA13: 吉村 彩花 | AD13: 様
A14: 16 | C14: ・ | D14: ・ | F14: 28 | G14: 大竹 紀美子 | J14: 様 | K14: 17 | M14: ・ | N14: ・ | P14: 28 | Q14: 倉舘 トワ | T14: 様 | U14: 18 | W14: ・ | X14: ・ | Z14: 28 | AA14: 松林 朋子 | AD14: 様
A15: 19 | C15: ・ | D15: ・ | F15: 60 | G15: 浪岡 ミヤ | J15: 様 | K15: 20 | M15: ・ | N15: ・ | P15: 30 | Q15: 内藤 スミ | T15: 様 | U15: 21 | V15: ・ | X15: ・ | Z15: 7 | AA15: 鈴木 誠士 | AD15: 様
A16: 22 | C16: ・ | D16: ・ | F16: 28 | G16: 笹森 綾香 | J16: 様 | K16: 23 | M16: ・ | N16: ・ | P16: 28 | Q16: 市村 みさ | T16: 様 | U16: 24 | V16: ・ | X16: ・ | Z16: 14 | AA16: 浦田 正広 | AD16: 様
A17: 25 | C17: ・ | D17: ・ | F17: 30 | G17: 山本 金雄 | J17: 様 | K17: 26 | M17: ・ | N17: ・ | P17: 28 | Q17: 中村 文博 | T17: 様 | U17: 27 | V17: ・ | X17: ・ | Z17: 0 | AA17: 市村 加奈子 | AD17: 様
A18: 28 | C18: ・ | D18: ・ | F18: 14 | G18: 小比券巻 由美 | J18: 様 | K18: 29 | M18: ・ | N18: ・ | P18: 30 | Q18: 橘 聖子 | T18: 様 | U18: 30 | V18: ・ | X18: ・ | Z18: 14 | AA18: 菅原 百合子 | AD18: 様
A19: 31 | C19: ・ | D19: ・ | F19: 30 | G19: 松本 朝美 | J19: 様 | K19: 32 | M19: ・ | N19: ・ | P19: 30 | Q19: 飯田 昭子 | T19: 様 | U19: 33 | W19: ・ | X19: ・ | Z19: 0 | AA19: 杉元 香奈子 | AD19: 様
A20: 34 | C20: ・ | D20: ・ | F20: 28 | G20: 川原 明 | J20: 様 | K20: 35 | M20: ・ | N20: ・ | P20: 60 | Q20: 池田 アヱ | T20: 様 | U20: 36 | W20: ・ | X20: ・ | Z20: 0 | AA20: 石井 佐代子 | AD20: 様
A21: 37 | C21: ・ | D21: ・ | F21: 28 | G21: 種市 莉奈 | J21: 様 | K21: 38 | L21: ・ | N21: ・ | P21: 14 | Q21: 浦田 正広 | T21: 様 | U21: 39 | W21: ・ | X21: ・ | Z21: 0 | AA21: 工藤 健壽 | AD21: 様
A22: 40 | C22: ・ | D22: ・ | F22: 28 | G22: 浪岡 漁男 | J22: 様 | K22: 41 | M22: ・ | N22: ・ | P22: 22 | Q22: 種市 優子 | T22: 様 | U22: 42 | W22: ・ | X22: ・ | Z22: 0 | AA22: 高村 加津子 | AD22: 様
A23: 43 | C23: ・ | D23: ・ | F23: 28 | G23: 冨田 勝政 | J23: 様 | K23: 44 | M23: ・ | N23: ・ | P23: 30 | Q23: 蛇沼 紅子 | T23: 様 | U23: 45 | W23: ・ | X23: ・ | Z23: 0 | AA23: 萠出 克治 | AD23: 様
A24: 46 | C24: ・ | D24: ・ | F24: 0 | G24: 佐々木 政夫 | J24: 様 | K24: 47 | M24: ・ | N24: ・ | P24: 0 | Q24: 坂本 佳之 | T24: 様 | U24: 48 | W24: ・ | X24: ・ | Z24: 0 | AA24: 萠出 きのゑ | AD24: 様
A25: 49 | C25: ・ | D25: ・ | F25: 0 | G25: 長岡 叶人 | J25: 様 | K25: 50 | M25: ・ | N25: ・ | P25: 0 | Q25: 坂本 政勝 | T25: 様 | U25: 51 | W25: ・ | X25: ・ | Z25: 0 | AA25: 藤田 絢三 | AD25: 様
A26: 外来患者数 | E26: 新： | F26: =COUNTIF(B9:B25,"・")+COUNTIF(L9:L25,"・")+COUNTIF(V9:V25,"・") -> 6 | H26: 名 | I26: 再： | J26: =COUNTIF(C9:C25,"・")+COUNTIF(M9:M25,"・")+COUNTIF(W9:W25,"・") -> 45 | L26: 名 | M26: 計： | N26: =SUM(F26:K26) -> 51 | Q26: 名 | R26: （ | S26: 精： | T26: =COUNTIF(D9:D25,"・")+COUNTIF(N9:N25,"・")+COUNTIF(X9:X25,"・") -> 51 | W26: 名 | X26: ・ | Y26: 内： | Z26: =COUNTIF(E9:E25,"・")+COUNTIF(O9:O25,"・")+COUNTIF(Y9:Y25,"・") -> 0 | AC26: 名 | AD26: ）
A28: 紹介患者様氏名 | F28: 紹介先 | K28: 逆紹介患者様氏名 | P28: 紹介元 | U28: 処置実施者 | AA28: 処置内容
E29: 様 | K29: 坂本 丈夫 | O29: 様 | P29: 三沢市立病院 | U29: 川原 明 | Z29: 様 | AA29: インフル予防接種
A30: 本日の検査 | F30: 検査内容 | K30: 処置実施者 | P30: 処置内容 | Z30: 様
A31: 中村 マツノ | E31: 様 | F31: 血液検査 | O31: 様 | Z31: 様
A32: 馬場 トミエ | E32: 様 | F32: 血液検査 | O32: 様 | Z32: 様
A33: 大竹 紀美子 | E33: 様 | F33: HDS-R MMSE | O33: 様 | Z33: 様
E34: 様 | O34: 様 | U34: 点検項目
E35: 様 | O35: 様 | U35: 項目 | Z35: 時間 | AC35: 点検者
A36: 発熱 | F36: 下痢 | K36: 風邪薬 | P36: 男性：17 | U36: 医療廃棄物 | Y36: 0.75 | AB36: 柳田 美雪
A37: 0 | F37: 0 | K37: 0 | P37: 女性：44 | U37: 戸締り | Y37: 0.75 | AB37: 中村 恵理子
A39: 備考欄 | C39: （連絡事項・処方変更・その他）
G40: 特記なし
G41: 柳田

Sheet 2
B1: クリニック 日 誌 | H1: 令和 | J1: ='1'!J1 -> 2 | K1: 年 | L1: ='1'!L1 -> 12 | M1: 月 | N1: 2 | O1: 日 | Q1: （ | R1: 水 | S1: ） | V1: COO | Y1: IOO | AB1: AOM
A3: 勤務者名
A4: ='1'!A4:F4 -> 中村 恵理子 | G4: 日 | I4: 柳田 美雪 | N4: 日 | Q4: 診察室 | W4: 外来担当医 | Z4: 外来介助者
A5: 石原 恵海 | G5: 日 | I5: 石谷 美代子 | N5: 日 | Q5: 第１診察室 | U5: 千葉 潜 | Z5: 柳田・石原
Q6: 第２診察室
B8: 新 | C8: 再 | D8: 精 | E8: 内 | F8: 処 | G8: 患者様氏名 | L8: 新 | M8: 再 | N8: 精 | O8: 内 | P8: 処 | Q8: 患者様氏名 | V8: 新 | W8: 再 | X8: 精 | Y8: 内 | Z8: 処 | AA8: 患者様氏名
A9: 1 | C9: ・ | D9: ・ | F9: 14 | G9: 小西 豊美 | J9: 様 | K9: 2 | M9: ・ | N9: ・ | P9: 30 | Q9: 齋藤 繭介 | T9: 様 | U9: 3 | W9: ・ | X9: ・ | Z9: 28 | AA9: 菊地 真美 | AD9: 様
A10: 4 | C10: ・ | D10: ・ | F10: 14 | G10: 類家 つさ | J10: 様 | K10: 5 | M10: ・ | N10: ・ | P10: 28 | Q10: 中村 美香子 | T10: 様 | U10: 6 | W10: ・ | X10: ・ | Z10: 30 | AA10: 成田 文枝 | AD10: 様
A11: 7 | C11: ・ | D11: ・ | F11: 28 | G11: 附田 富貴子 | J11: 様 | K11: 8 | M11: ・ | N11: ・ | P11: 30 | Q11: 若林 靖子 | T11: 様 | U11: 9 | W11: ・ | X11: ・ | Z11: 14 | AA11: 中村 久美子 | AD11: 様
A12: 10 | C12: ・ | D12: ・ | F12: 28 | G12: 榎林 真美 | J12: 様 | K12: 11 | M12: ・ | N12: ・ | P12: 28 | Q12: 箕輪 麻紀子 | T12: 様 | U12: 12 | W12: ・ | X12: ・ | Z12: 42 | AA12: 阿部 勝廣 | AD12: 様
A13: 13 | C13: ・ | D13: ・ | F13: 28 | G13: 武内 くみ子 | J13: 様 | K13: 14 | M13: ・ | N13: ・ | P13: 28 | Q13: 成田 尚子 | T13: 様 | U13: 15 | W13: ・ | X13: ・ | Z13: 30 | AA13: 舘 優美香 | AD13: 様
A14: 16 | C14: ・ | D14: ・ | F14: 28 | G14: 山本 伸子 | J14: 様 | K14: 17 | M14: ・ | N14: ・ | P14: 28 | Q14: 相内 京子 | T14: 様 | U14: 18 | W14: ・ | X14: ・ | Z14: 28 | AA14: 太田 博人 | AD14: 様
A15: 19 | C15: ・ | D15: ・ | F15: 28 | G15: 戸田 文子 | J15: 様 | K15: 20 | M15: ・ | N15: ・ | P15: 28 | Q15: 神田 輝子 | T15: 様 | U15: 21 | W15: ・ | X15: ・ | Z15: 7 | AA15: 浪岡 淳哉 | AD15: 様
A16: 22 | C16: ・ | D16: ・ | F16: 14 | G16: 沼尾 千春 | J16: 様 | K16: 23 | M16: ・ | N16: ・ | P16: 28 | Q16: 赤川 將麻 | T16: 様 | U16: 24 | W16: ・ | X16: ・ | Z16: 0 | AA16: 岡沼 理奈 | AD16: 様
A17: 25 | C17: ・ | D17: ・ | F17: 14 | G17: 橋本 豊彦 | J17: 様 | K17: 26 | M17: ・ | N17: ・ | P17: 28 | Q17: 神 芽依 | T17: 様 | U17: 27 | W17: ・ | X17: ・ | Z17: 28 | AA17: 吉田 浩二 | AD17: 様
A18: 28 | C18: ・ | D18: ・ | F18: 14 | G18: 本間 きよ | J18: 様 | K18: 29 | M18: ・ | N18: ・ | P18: 28 | Q18: 本間 由香 | T18: 様 | U18: 30 | W18: ・ | X18: ・ | Z18: 30 | AA18: 哘 典子 | AD18: 様
A19: 31 | C19: ・ | D19: ・ | F19: 28 | G19: 菊地 礼子 | J19: 様 | K19: 32 | M19: ・ | N19: ・ | P19: 14 | Q19: 山本 文紀 | T19: 様 | U19: 33 | W19: ・ | X19: ・ | Z19: 0 | AA19: 橘 珠里 | AD19: 様
A20: 34 | C20: ・ | D20: ・ | F20: 30 | G20: 中市 マツエ | J20: 様 | K20: 35 | M20: ・ | N20: ・ | P20: 28 | Q20: 新堂 伸子 | T20: 様 | U20: 36 | W20: ・ | X20: ・ | Z20: 28 | AA20: 田中 千秋 | AD20: 様
... A27: 55 | C27: ・ | D27: ・ | F27: 0 | G27: 萠出 克治 | J27: 様 | K27: 56 | M27: ・ | N27: ・ | P27: 0 | Q27: 坂本 政勝 | T27: 様 | U27: 57 | W27: ・ | X27: ・ | Z27: 0 | AA27: 安部 信祥 | AD27: 様
A28: 58 | C28: ・ | D28: ・ | F28: 0 | G28: 佐藤 初男 | J28: 様 | K28: 59 | M28: ・ | N28: ・ | P28: 0 | Q28: 中居 敬悦 | T28: 様 | U28: 60 | V28: ・ | X28: ・ | Z28: 0 | AA28: 中里 龍成 | AD28: 様
A29: 61 | B29: ・ | D29: ・ | F29: 0 | G29: 小西 哉子 | J29: 様 | K29: 62 | M29: ・ | N29: ・ | P29: 0 | Q29: 田口 トシ子 | T29: 様 | U29: 63 | AD29: 様
A30: 外来患者数 | E30: 新： | F30: =COUNTIF(B9:B29,"・")+COUNTIF(L9:L29,"・")+COUNTIF(V9:V29,"・") -> 2 | H30: 名 | I30: 再： | J30: =COUNTIF(C9:C29,"・")+COUNTIF(M9:M29,"・")+COUNTIF(W9:W29,"・") -> 60 | L30: 名 | M30: 計： | N30: =SUM(F30:K30) -> 62 | Q30: 名 | R30: （ | S30: 精： | T30: =COUNTIF(D9:D29,"・")+COUNTIF(N9:N29,"・")+COUNTIF(X9:X29,"・") -> 62 | W30: 名 | X30: ・ | Y30: 内： | Z30: =COUNTIF(E9:E29,"・")+COUNTIF(O9:O29,"・")+COUNTIF(Y9:Y29,"・") -> 0 | AC30: 名 | AD30: ）
A32: 紹介患者様氏名 | F32: 紹介先 | K32: 逆紹介患者様氏名 | P32: 紹介元 | U32: 処置実施者 | AA32: 処置内容
E33: 様 | K33: 小西 哉子 | O33: 様 | P33: 白山台メンタルクリニック | Z33: 様
A34: 本日の検査 | F34: 検査内容 | K34: 処置実施者 | P34: 処置内容 | Z34: 様
A35: 齋藤 繭介 | E35: 様 | F35: 血液検査 | O35: 様 | Z35: 様
A36: 小西 哉子 | E36: 様 | F36: CMI | O36: 様 | U36: 点検項目
E37: 様 | O37: 様 | U37: 項目 | Z37: 時間 | AC37: 点検者
A38: 発熱 | F38: 下痢 | K38: 風邪薬 | P38: 男性：20 | U38: 医療廃棄物 | Y38: 0.75 | AB38: 柳田 美雪
A39: 0 | F39: 0 | K39: 0 | P39: 女性：42 | U39: 戸締り | Y39: 0.75 | AB39: ='1'!AB37:AD37 -> 中村 恵理子
A41: 備考欄 | C41: （連絡事項・処方変更・その他）
G42: 特記なし
G43: 柳田

Sheet 3
B1: クリニック 日 誌 | H1: 令和 | J1: ='1'!J1 -> 2 | K1: 年 | L1: ='1'!L1 -> 12 | M1: 月 | N1: 3 | O1: 日 | Q1: （ | R1: 木 | S1: ） | V1: COO | Y1: IOO | AB1: AOM
A3: 勤務者名
A4: ='1'!A4:F4 -> 中村 恵理子 | G4: 日 | I4: 柳田 美雪 | N4: 日 | Q4: 診察室 | W4: 外来担当医 | Z4: 外来介助者
A5: 石原 恵海 | G5: 日 | I5: 石谷 美代子 | N5: 日 | Q5: 第１診察室 | U5: 千葉 潜 | Z5: 柳田・石原
Q6: 第２診察室 | U6: 深澤 隆 | Z6: 柳田・石原
B8: 新 | C8: 再 | D8: 精 | E8: 内 | F8: 処 | G8: 患者様氏名 | L8: 新 | M8: 再 | N8: 精 | O8: 内 | P8: 処 | Q8: 患者様氏名 | V8: 新 | W8: 再 | X8: 精 | Y8: 内 | Z8: 処 | AA8: 患者様氏名
A9: 1 | C9: ・ | D9: ・ | F9: 30 | G9: 駒沢 匡亮 | J9: 様 | K9: 2 | M9: ・ | N9: ・ | P9: 28 | Q9: 畑山 みゆき | T9: 様 | U9: 3 | V9: ・ | X9: ・ | Z9: 14 | AA9: 小原 哲哉 | AD9: 様
A10: 4 | C10: ・ | D10: ・ | F10: 28 | G10: 中村 ミサ | J10: 様 | K10: 5 | M10: ・ | N10: ・ | P10: 14 | Q10: 武良 ミセ | T10: 様 | U10: 6 | W10: ・ | X10: ・ | Z10: 0 | AA10: 塚田 敏子 | AD10: 様
A11: 7 | B11: ・ | D11: ・ | F11: 7 | G11: 柏葉 信子 | J11: 様 | K11: 8 | L11: ・ | N11: ・ | P11: 15 | Q11: 松田 幸乃 | T11: 様 | U11: 9 | W11: ・ | Y11: ・ | Z11: 0 | AA11: 野原 サリ | AD11: 様
A12: 10 | C12: ・ | D12: ・ | F12: 30 | G12: 浦田 ミサ | J12: 様 | K12: 11 | M12: ・ | N12: ・ | P12: 42 | Q12: 久保田 操 | T12: 様 | U12: 12 | W12: ・ | X12: ・ | Z12: 0 | AA12: 工藤 健壽 | AD12: 様
A13: 13 | C13: ・ | D13: ・ | F13: 35 | G13: 太田 明子 | J13: 様 | K13: 14 | M13: ・ | N13: ・ | P13: 35 | Q13: 柏木 薫 | T13: 様 | U13: 15 | W13: ・ | X13: ・ | Z13: 0 | AA13: 田口 トシ子 | AD13: 様
A14: 16 | C14: ・ | D14: ・ | F14: 7 | G14: 中居 敬悦 | J14: 様 | K14: 17 | M14: ・ | N14: ・ | P14: 30 | Q14: 古澤 博美 | T14: 様 | U14: 18 | W14: ・ | X14: ・ | Z14: 0 | AA14: 高村 加津子 | AD14: 様
A15: 19 | C15: ・ | D15: ・ | F15: 28 | G15: 竹下 ミツ子 | J15: 様 | K15: 20 | M15: ・ | N15: ・ | P15: 30 | Q15: 齋藤 翔太 | T15: 様 | U15: 21 | W15: ・ | X15: ・ | Z15: 0 | AA15: 藤田 絢三 | AD15: 様
A16: 22 | C16: ・ | D16: ・ | F16: 28 | G16: 吉田 和真 | J16: 様 | K16: 23 | L16: ・ | N16: ・ | P16: 30 | Q16: 佐藤 涼子 | T16: 様 | U16: 24 | W16: ・ | X16: ・ | Z16: 0 | AA16: 瀬川 高雄 | AD16: 様
A17: 25 | C17: ・ | D17: ・ | F17: 30 | G17: 中村 マツノ | J17: 様 | K17: 26 | M17: ・ | N17: ・ | P17: 30 | Q17: 藤ケ森 貴美枝 | T17: 様 | U17: 27 | W17: ・ | X17: ・ | Z17: 0 | AA17: 坂本 佳之 | AD17: 様
A18: 28 | B18: ・ | D18: ・ | F18: 14 | G18: 高橋 茜 | J18: 様 | K18: 29 | M18: ・ | N18: ・ | P18: 28 | Q18: 松館 邦子 | T18: 様 | U18: 30 | W18: ・ | X18: ・ | Z18: 0 | AA18: 佐々木 政夫 | AD18: 様
A19: 31 | C19: ・ | D19: ・ | F19: 0 | G19: 石ケ谷 數子 | J19: 様 | K19: 32 | M19: ・ | N19: ・ | P19: 0 | Q19: 西舘 瞳 | T19: 様 | U19: 33 | W19: ・ | X19: ・ | Z19: 0 | AA19: 森 スエ子 | AD19: 様
A20: 外来患者数 | E20: 新： | F20: =COUNTIF(B9:B19,"・")+COUNTIF(L9:L19,"・")+COUNTIF(V9:V19,"・") -> 5 | H20: 名 | I20: 再： | J20: =COUNTIF(C9:C19,"・")+COUNTIF(M9:M19,"・")+COUNTIF(W9:W19,"・") -> 28 | L20: 名 | M20: 計： | N20: =SUM(F20:K20) -> 33 | Q20: 名 | R20: （ | S20: 精： | T20: =COUNTIF(D9:D19,"・")+COUNTIF(N9:N19,"・")+COUNTIF(X9:X19,"・") -> 32 | W20: 名 | X20: ・ | Y20: 内： | Z20: =COUNTIF(E9:E19,"・")+COUNTIF(O9:O19,"・")+COUNTIF(Y9:Y19,"・") -> 1 | AC20: 名 | AD20: ）
A22: 紹介患者様氏名 | F22: 紹介先 | K22: 逆紹介患者様氏名 | P22: 紹介元 | U22: 処置実施者 | AA22: 処置内容
E23: 様 | K23: 高橋 茜 | O23: 様 | P23: 十和田中央病院 | U23: 藤ケ森 貴美枝 | Z23: 様 | AA23: インフル予防注射
E24: 様 | K24: 佐藤 涼子 | O24: 様 | P24: 大里脳神経リハビリテーションCL | U24: 野原 サリ | Z24: 様 | AA24: インフル予防注射
E25: 様 | O25: 様 | Z25: 様
A26: 本日の検査 | F26: 検査内容 | K26: 処置実施者 | P26: 処置内容 | Z26: 様
A27: 佐藤 涼子 | E27: 様 | F27: HDS-R、MMSE | O27: 様 | Z27: 様
E28: 様 | O28: 様 | U28: 点検項目
E29: 様 | O29: 様 | U29: 項目 | Z29: 時間 | AC29: 点検者
A30: 発熱 | F30: 下痢 | K30: 風邪薬 | P30: 男性：9 | U30: 医療廃棄物 | Y30: 0.75 | AB30: 柳田 美雪
A31: 0 | F31: 0 | K31: 0 | P31: 女性：24 | U31: 戸締り | Y31: 0.75 | AB31: ='1'!AB37:AD37 -> 中村 恵理子
A33: 備考欄 | C33: （連絡事項・処方変更・その他）
G34: 特記なし
G35: 柳田

Sheet 4
B1: クリニック 日 誌 | H1: 令和 | J1: ='1'!J1 -> 2 | K1: 年 | L1: ='1'!L1 -> 12 | M1: 月 | N1: 4 | O1: 日 | Q1: （ | R1: 金 | S1: ） | V1: COO | Y1: IOO | AB1: AOM
A3: 勤務者名
A4: ='1'!A4:F4 -> 中村 恵理子 | G4: 日 | I4: 柳田 美雪 | N4: 日 | Q4: 診察室 | W4: 外来担当医 | Z4: 外来介助者
A5: 石原 恵海 | G5: 日 | I5: 石谷 美代子 | N5: 日 | Q5: 第１診察室 | U5: 金 泰徳 | Z5: 柳田・石原
Q6: 第２診察室 | U6: 千葉 良 | Z6: 柳田・石原
B8: 新 | C8: 再 | D8: 精 | E8: 内 | F8: 処 | G8: 患者様氏名 | L8: 新 | M8: 再 | N8: 精 | O8: 内 | P8: 処 | Q8: 患者様氏名 | V8: 新 | W8: 再 | X8: 精 | Y8: 内 | Z8: 処 | AA8: 患者様氏名
A9: 1 | C9: ・ | D9: ・ | F9: 60 | G9: 山崎 要四郎 | J9: 様 | K9: 2 | M9: ・ | N9: ・ | P9: 35 | Q9: 千葉 幸子 | T9: 様 | U9: 3 | W9: ・ | X9: ・ | Z9: 0 | AA9: 工藤 健壽 | AD9: 様
A10: 4 | C10: ・ | D10: ・ | F10: 21 | G10: 大久保 和 | J10: 様 | K10: 5 | L10: ・ | N10: ・ | P10: 28 | Q10: 新堂 則子 | T10: 様 | U10: 6 | W10: ・ | X10: ・ | Z10: 0 | AA10: 田口 トシ子 | AD10: 様
A11: 7 | C11: ・ | D11: ・ | F11: 21 | G11: 熊野 富美子 | J11: 様 | K11: 8 | M11: ・ | N11: ・ | P11: 21 | Q11: 山本 チヤ | T11: 様 | U11: 9 | W11: ・ | X11: ・ | Z11: 0 | AA11: 高村 加津子 | AD11: 様
A12: 10 | C12: ・ | D12: ・ | F12: 30 | G12: 山口 誠一郎 | J12: 様 | K12: 11 | M12: ・ | N12: ・ | P12: 60 | Q12: 月舘 ユリ | T12: 様 | U12: 12 | W12: ・ | X12: ・ | Z12: 0 | AA12: 深町 栄美子 | AD12: 様
A13: 13 | C13: ・ | D13: ・ | F13: 30 | G13: 山口 ちゑ | J13: 様 | K13: 14 | M13: ・ | N13: ・ | P13: 30 | Q13: 大坂 公子 | T13: 様 | U13: 15 | W13: ・ | X13: ・ | Z13: 0 | AA13: 萠出 きのゑ | AD13: 様
A14: 16 | C14: ・ | D14: ・ | F14: 21 | G14: 望月 恵美子 | J14: 様 | K14: 17 | M14: ・ | N14: ・ | P14: 58 | Q14: 福士 チエ | T14: 様 | U14: 18 | W14: ・ | X14: ・ | Z14: 0 | AA14: 萠出 克治 | AD14: 様
A15: 19 | C15: ・ | D15: ・ | F15: 35 | G15: 類家 せき | J15: 様 | K15: 20 | M15: ・ | N15: ・ | P15: 35 | Q15: 山本 優 | T15: 様 | U15: 21 | W15: ・ | X15: ・ | Z15: 0 | AA15: 瀬川 高雄 | AD15: 様
A16: 22 | C16: ・ | D16: ・ | F16: 35 | G16: 鳥谷部 和子 | J16: 様 | K16: 23 | M16: ・ | N16: ・ | P16: 30 | Q16: 小野 俊幸 | T16: 様 | U16: 24 | W16: ・ | X16: ・ | Z16: 0 | AA16: 林 成信 | AD16: 様
A17: 25 | C17: ・ | D17: ・ | F17: 35 | G17: 蒔苗 美穂子 | J17: 様 | K17: 26 | M17: ・ | N17: ・ | P17: 7 | Q17: 高田 ミドリ | T17: 様 | U17: 27 | W17: ・ | X17: ・ | Z17: 0 | AA17: 藤田 絢三 | AD17: 様
A18: 28 | C18: ・ | D18: ・ | F18: 35 | G18: 吉田 浩 | J18: 様 | K18: 29 | L18: ・ | O18: ・ | P18: 0 | Q18: 江川 伸子 | T18: 様 | U18: 30 | W18: ・ | X18: ・ | Z18: 0 | AA18: 坂本 佳之 | AD18: 様
A19: 31 | C19: ・ | D19: ・ | F19: 30 | G19: 高田 昭彦 | J19: 様 | K19: 32 | L19: ・ | O19: ・ | P19: 0 | Q19: 小笠原 綾子 | T19: 様 | U19: 33 | W19: ・ | X19: ・ | Z19: 0 | AA19: 坂本 政勝 | AD19: 様
A20: 34 | C20: ・ | D20: ・ | F20: 60 | G20: 山本 ミワ | J20: 様 | K20: 35 | L20: ・ | O20: ・ | P20: 0 | Q20: 根津 未来 | T20: 様 | U20: 36 | W20: ・ | X20: ・ | Z20: 0 | AA20: 沼端 ミセ | AD20: 様
A21: 37 | C21: ・ | D21: ・ | F21: 28 | G21: 沢尾 美香 | J21: 様 | K21: 38 | L21: ・ | O21: ・ | P21: 0 | Q21: 根津 智香 | T21: 様 | U21: 39 | W21: ・ | X21: ・ | Z21: 0 | AA21: 千葉 スワ | AD21: 様
A22: 40 | C22: ・ | D22: ・ | F22: 63 | G22: 小泉 進 | J22: 様 | K22: 41 | M22: ・ | N22: ・ | P22: 35 | Q22: 伊藤 慎弥 | T22: 様 | U22: 42 | W22: ・ | X22: ・ | Z22: 21 | AA22: 橋本 豊彦 | AD22: 様
A23: 43 | C23: ・ | D23: ・ | F23: 56 | G23: 石岡 せつ | J23: 様 | K23: 44 | M23: ・ | N23: ・ | P23: 30 | Q23: 阿保 実采 | T23: 様 | U23: 45 | W23: ・ | X23: ・ | Z23: 0 | AA23: 中村 としゑ | AD23: 様
A24: 46 | B24: ・ | D24: ・ | F24: 7 | G24: 鳥山 咲希 | J24: 様 | K24: 47 | M24: ・ | N24: ・ | P24: 30 | Q24: 三上 桜 | T24: 様 | U24: 48 | W24: ・ | X24: ・ | Z24: 0 | AA24: 山本 美津子 | AD24: 様
A25: 49 | C25: ・ | D25: ・ | F25: 30 | G25: 柳 尊丸 | J25: 様 | K25: 50 | M25: ・ | N25: ・ | P25: 30 | Q25: 三上 小春 | T25: 様 | U25: 51 | W25: ・ | X25: ・ | Z25: 0 | AA25: 堤 富美子 | AD25: 様
A26: 52 | C26: ・ | D26: ・ | F26: 30 | G26: 赤澤 侑希南 | J26: 様 | K26: 53 | M26: ・ | N26: ・ | P26: 30 | Q26: 森野 流生 | T26: 様 | U26: 54 | W26: ・ | X26: ・ | Z26: 28 | AA26: 磯谷 ツル | AD26: 様
A27: 55 | C27: ・ | D27: ・ | F27: 30 | G27: 柏崎 蒼空 | J27: 様 | K27: 56 | M27: ・ | N27: ・ | P27: 30 | Q27: 川崎 瀧生 | T27: 様 | U27: 57 | W27: ・ | X27: ・ | Z27: 28 | AA27: 石原 恵海 | AD27: 様
A28: 58 | C28: ・ | D28: ・ | F28: 30 | G28: 坂本 龍之介 | J28: 様 | K28: 59 | M28: ・ | N28: ・ | P28: 0 | Q28: 稲本 典子 | T28: 様 | U28: 60 | AD28: 様
A29: 外来患者数 | E29: 新： | F29: =COUNTIF(B9:B28,"・")+COUNTIF(L9:L28,"・")+COUNTIF(V9:V28,"・") -> 6 | H29: 名 | I29: 再： | J29: =COUNTIF(C9:C28,"・")+COUNTIF(M9:M28,"・")+COUNTIF(W9:W28,"・") -> 53 | L29: 名 | M29: 計： | N29: =SUM(F29:K29) -> 59 | Q29: 名 | R29: （ | S29: 精： | T29: =COUNTIF(D9:D28,"・")+COUNTIF(N9:N28,"・")+COUNTIF(X9:X28,"・") -> 55 | W29: 名 | X29: ・ | Y29: 内： | Z29: =COUNTIF(E9:E28,"・")+COUNTIF(O9:O28,"・")+COUNTIF(Y9:Y28,"・") -> 4 | AC29: 名 | AD29: ）
A31: 紹介患者様氏名 | F31: 紹介先 | K31: 逆紹介患者様氏名 | P31: 紹介元 | U31: 処置実施者 | AA31: 処置内容
E32: 様 | K32: 新堂 則子 | O32: 様 | P32: 青南病院 | U32: 山本 ミワ | Z32: 様 | AA32: インフル予防接種
E33: 様 | O33: 様 | U33: 江川 伸子 | Z33: 様 | AA33: インフル予防接種
E34: 様 | O34: 様 | U34: 小笠原 綾子 | Z34: 様 | AA34: インフル予防接種
A35: 本日の検査 | F35: 検査内容 | K35: 処置実施者 | P35: 処置内容 | U35: 根津 未来 | Z35: 様 | AA35: インフル予防接種
A36: 高田 ミドリ | E36: 様 | F36: HDS-R | O36: 様 | U36: 根津 智香 | Z36: 様 | AA36: インフル予防接種
E37: 様 | O37: 様 | U37: 点検項目
E38: 様 | O38: 様 | U38: 項目 | Z38: 時間 | AC38: 点検者
A39: 発熱 | F39: 下痢 | K39: 風邪薬 | P39: 男性：21 | U39: 医療廃棄物 | Y39: 0.75 | AB39: 柳田 美雪
A40: 0 | F40: 0 | K40: 0 | P40: 女性：38 | U40: 戸締り | Y40: 0.75 | AB40: ='1'!AB37:AD37 -> 中村 恵理子
A42: 備考欄 | C42: （連絡事項・処方変更・その他）
G43: 特記なし
G44: 柳田

Sheet 5
B1: クリニック 日 誌 | H1: 令和 | J1: ='1'!J1 -> 2 | K1: 年 | L1: ='1'!L1 -> 12 | M1: 月 | N1: 5 | O1: 日 | Q1: （ | S1: ） | V1: COO | Y1: IOO | AB1: AOM
A3: 勤務者名
A4: ='1'!A4:F4 -> 中村 恵理子 | G4: 日 | I4: 柳田 美雪 | N4: 日 | Q4: 診察室 | W4: 外来担当医 | Z4: 外来介助者
A5: 石原 恵海 | G5: 日 | Q5: 第１診察室 | Z5: 柳田・石原
Q6: 第２診察室
B8: 新 | C8: 再 | D8: 精 | E8: 内 | F8: 処 | G8: 患者様氏名 | L8: 新 | M8: 再 | N8: 精 | O8: 内 | P8: 処 | Q8: 患者様氏名 | V8: 新 | W8: 再 | X8: 精 | Y8: 内 | Z8: 処 | AA8: 患者様氏名
A9: 1 | J9: 様 | K9: 2 | T9: 様 | U9: 3 | AD9: 様
A10: 4 | J10: 様 | K10: 5 | T10: 様 | U10: 6 | AD10: 様
A11: 7 | J11: 様 | K11: 8 | T11: 様 | U11: 9 | AD11: 様
A12: 10 | J12: 様 | K12: 11 | T12: 様 | U12: 12 | AD12: 様
A13: 13 | J13: 様 | K13: 14 | T13: 様 | U13: 15 | AD13: 様
A14: 16 | J14: 様 | K14: 17 | T14: 様 | U14: 18 | AD14: 様
A15: 19 | J15: 様 | K15: 20 | T15: 様 | U15: 21 | AD15: 様
A16: 22 | J16: 様 | K16: 23 | T16: 様 | U16: 24 | AD16: 様
A17: 25 | J17: 様 | K17: 26 | T17: 様 | U17: 27 | AD17: 様
A18: 28 | J18: 様 | K18: 29 | T18: 様 | U18: 30 | AD18: 様
A19: 31 | J19: 様 | K19: 32 | T19: 様 | U19: 33 | AD19: 様
A20: 34 | J20: 様 | K20: 35 | T20: 様 | U20: 36 | AD20: 様
... A33: 73 | J33: 様 | K33: 74 | T33: 様 | U33: 75 | AD33: 様
A34: 外来患者数 | E34: 新： | F34: =COUNTIF(B9:B33,"・")+COUNTIF(L9:L33,"・")+COUNTIF(V9:V33,"・") -> 0 | H34: 名 | I34: 再： | J34: =COUNTIF(C9:C33,"・")+COUNTIF(M9:M33,"・")+COUNTIF(W9:W33,"・") -> 0 | L34: 名 | M34: 計： | N34: =SUM(F34:K34) -> 0 | Q34: 名 | R34: （ | S34: 精： | T34: =COUNTIF(D9:D33,"・")+COUNTIF(N9:N33,"・")+COUNTIF(X9:X33,"・") -> 0 | W34: 名 | X34: ・ | Y34: 内： | Z34: =COUNTIF(E9:E33,"・")+COUNTIF(O9:O33,"・")+COUNTIF(Y9:Y33,"・") -> 0 | AC34: 名 | AD34: ）
A36: 紹介患者様氏名 | F36: 紹介先 | K36: 逆紹介患者様氏名 | P36: 紹介元 | U36: 処置実施者 | AA36: 処置内容
E37: 様 | O37: 様 | Z37: 様
E38: 様 | O38: 様 | Z38: 様
E39: 様 | O39: 様 | Z39: 様
E40: 様 | O40: 様 | Z40: 様
E41: 様 | O41: 様 | Z41: 様
A42: 本日の検査 | F42: 検査内容 | K42: 処置実施者 | P42: 処置内容 | Z42: 様
E43: 様 | O43: 様 | Z43: 様
E44: 様 | O44: 様 | Z44: 様
E45: 様 | O45: 様 | Z45: 様
E46: 様 | O46: 様 | U46: 点検項目
E47: 様 | O47: 様 | U47: 項目 | Z47: 時間 | AC47: 点検者
A48: 発熱 | F48: 下痢 | K48: 風邪薬 | P48: 男性： | U48: 医療廃棄物 | Y48: 0.75
A49: 0 | F49: 0 | K49: 0 | P49: 女性： | U49: 戸締り | Y49: 0.75 | AB49: ='1'!AB37:AD37 -> 中村 恵理子
A51: 備考欄 | C51: （連絡事項・処方変更・その他）

Sheet 6
B1: クリニック 日 誌 | H1: 令和 | J1: ='1'!J1 -> 2 | K1: 年 | L1: ='1'!L1 -> 12 | M1: 月 | N1: 6 | O1: 日 | Q1: （ | S1: ） | V1: COO | Y1: IOO | AB1: AOM
A3: 勤務者名
A4: 中村 恵理子 | G4: 日 | I4: 柳田 美雪 | N4: 日 | Q4: 診察室 | W4: 外来担当医 | Z4: 外来介助者
A5: 石原 恵海 | G5: 日 | Q5: 第１診察室 | Z5: 柳田・石原
Q6: 第２診察室
B8: 新 | C8: 再 | D8: 精 | E8: 内 | F8: 処 | G8: 患者様氏名 | L8: 新 | M8: 再 | N8: 精 | O8: 内 | P8: 処 | Q8: 患者様氏名 | V8: 新 | W8: 再 | X8: 精 | Y8: 内 | Z8: 処 | AA8: 患者様氏名
A9: 1 | J9: 様 | K9: 2 | T9: 様 | U9: 3 | AD9: 様
A10: 4 | J10: 様 | K10: 5 | T10: 様 | U10: 6 | AD10: 様
A11: 7 | J11: 様 | K11: 8 | T11: 様 | U11: 9 | AD11: 様
A12: 10 | J12: 様 | K12: 11 | T12: 様 | U12: 12 | AD12: 様
A13: 13 | J13: 様 | K13: 14 | T13: 様 | U13: 15 | AD13: 様
A14: 16 | J14: 様 | K14: 17 | T14: 様 | U14: 18 | AD14: 様
A15: 19 | J15: 様 | K15: 20 | T15: 様 | U15: 21 | AD15: 様
A16: 22 | J16: 様 | K16: 23 | T16: 様 | U16: 24 | AD16: 様
A17: 25 | J17: 様 | K17: 26 | T17: 様 | U17: 27 | AD17: 様
A18: 28 | J18: 様 | K18: 29 | T18: 様 | U18: 30 | AD18: 様
A19: 31 | J19: 様 | K19: 32 | T19: 様 | U19: 33 | AD19: 様
A20: 34 | J20: 様 | K20: 35 | T20: 様 | U20: 36 | AD20: 様
... A33: 73 | J33: 様 | K33: 74 | T33: 様 | U33: 75 | AD33: 様
A34: 外来患者数 | E34: 新： | F34: =COUNTIF(B9:B33,"・")+COUNTIF(L9:L33,"・")+COUNTIF(V9:V33,"・") -> 0 | H34: 名 | I34: 再： | J34: =COUNTIF(C9:C33,"・")+COUNTIF(M9:M33,"・")+COUNTIF(W9:W33,"・") -> 0 | L34: 名 | M34: 計： | N34: =SUM(F34:K34) -> 0 | Q34: 名 | R34: （ | S34: 精： | T34: =COUNTIF(D9:D33,"・")+COUNTIF(N9:N33,"・")+COUNTIF(X9:X33,"・") -> 0 | W34: 名 | X34: ・ | Y34: 内： | Z34: =COUNTIF(E9:E33,"・")+COUNTIF(O9:O33,"・")+COUNTIF(Y9:Y33,"・") -> 0 | AC34: 名 | AD34: ）
A36: 紹介患者様氏名 | F36: 紹介先 | K36: 逆紹介患者様氏名 | P36: 紹介元 | U36: 処置実施者 | AA36: 処置内容
E37: 様 | O37: 様 | Z37: 様
E38: 様 | O38: 様 | Z38: 様
E39: 様 | O39: 様 | Z39: 様
E40: 様 | O40: 様 | Z40: 様
E41: 様 | O41: 様 | Z41: 様
A42: 本日の検査 | F42: 検査内容 | K42: 処置実施者 | P42: 処置内容 | Z42: 様
E43: 様 | O43: 様 | Z43: 様
E44: 様 | O44: 様 | Z44: 様
E45: 様 | O45: 様 | Z45: 様
E46: 様 | O46: 様 | U46: 点検項目
E47: 様 | O47: 様 | U47: 項目 | Z47: 時間 | AC47: 点検者
A48: 発熱 | F48: 下痢 | K48: 風邪薬 | P48: 男性： | U48: 医療廃棄物 | Y48: 0.75
A49: 0 | F49: 0 | K49: 0 | P49: 女性： | U49: 戸締り | Y49: 0.75 | AB49: 中村 恵理子
A51: 備考欄 | C51: （連絡事項・処方変更・その他）

Sheet 7
B1: クリニック 日 誌 | H1: 令和 | J1: ='6'!J1 -> 2 | K1: 年 | L1: ='1'!L1 -> 12 | M1: 月 | N1: 7 | O1: 日 | Q1: （ | S1: ） | V1: COO | Y1: IOO | AB1: AOM
A3: 勤務者名
A4: ='6'!A4:F4 -> 中村 恵理子 | G4: 日 | I4: 柳田 美雪 | N4: 年 | Q4: 診察室 | W4: 外来担当医 | Z4: 外来介助者
A5: 石原 恵海 | G5: 日 | I5: 石谷 美代子 | N5: 日 | Q5: 第１診察室 | U5: 馬渡 晃弘 | Z5: 石原
Q6: 第２診察室 | U6: 千葉 良 | Z6: 石原
B8: 新 | C8: 再 | D8: 精 | E8: 内 | F8: 処 | G8: 患者様氏名 | L8: 新 | M8: 再 | N8: 精 | O8: 内 | P8: 処 | Q8: 患者様氏名 | V8: 新 | W8: 再 | X8: 精 | Y8: 内 | Z8: 処 | AA8: 患者様氏名
A9: 1 | C9: ・ | D9: ・ | F9: 28 | G9: 冨田 崇 | J9: 様 | K9: 2 | M9: ・ | N9: ・ | P9: 28 | Q9: 山田 義勝 | T9: 様 | U9: 3 | W9: ・ | X9: ・ | Z9: 28 | AA9: 河村 ミヱ | AD9: 様
A10: 4 | C10: ・ | D10: ・ | F10: 28 | G10: 吉村 直樹 | J10: 様 | K10: 5 | M10: ・ | N10: ・ | P10: 56 | Q10: 川村 孝之 | T10: 様 | U10: 6 | W10: ・ | X10: ・ | Z10: 28 | AA10: 沢村 まさえ | AD10: 様
A11: 7 | C11: ・ | D11: ・ | F11: 28 | G11: 沼田 ひろ子 | J11: 様 | K11: 8 | M11: ・ | N11: ・ | P11: 56 | Q11: 重信 孝至 | T11: 様 | U11: 9 | V11: ・ | X11: ・ | Z11: 14 | AA11: 平尾 良子 | AD11: 様
A12: 10 | C12: ・ | D12: ・ | F12: 10 | G12: 駒澤 石松 | J12: 様 | K12: 11 | M12: ・ | N12: ・ | P12: 56 | Q12: 重信 ひろ子 | T12: 様 | U12: 12 | W12: ・ | X12: ・ | Z12: 0 | AA12: 新山 雄斗 | AD12: 様
A13: 13 | C13: ・ | D13: ・ | F13: 30 | G13: 田村 とよ | J13: 様 | K13: 14 | M13: ・ | N13: ・ | P13: 30 | Q13: 山本 洋子 | T13: 様 | U13: 15 | W13: ・ | X13: ・ | Z13: 28 | AA13: 瀧野 ミヤ | AD13: 様
A14: 16 | C14: ・ | D14: ・ | F14: 56 | G14: 高橋 榮 | J14: 様 | K14: 17 | M14: ・ | N14: ・ | P14: 7 | Q14: 佐々木 晴香 | T14: 様 | U14: 18 | W14: ・ | X14: ・ | Z14: 28 | AA14: 細田 洋一 | AD14: 様
A15: 19 | C15: ・ | D15: ・ | F15: 56 | G15: 馬場 あや子 | J15: 様 | K15: 20 | M15: ・ | N15: ・ | P15: 56 | Q15: 相坂 昭雄 | T15: 様 | U15: 21 | V15: ・ | Y15: ・ | Z15: 0 | AA15: 高橋 秀雄 | AD15: 様
A16: 22 | C16: ・ | D16: ・ | F16: 56 | G16: 齋藤 ヒサ | J16: 様 | K16: 23 | M16: ・ | N16: ・ | P16: 42 | Q16: 高松 奎虹 | T16: 様 | U16: 24 | W16: ・ | X16: ・ | Z16: 7 | AA16: 星 歩 | AD16: 様
A17: 25 | C17: ・ | D17: ・ | F17: 28 | G17: 小向 克也 | J17: 様 | K17: 26 | M17: ・ | N17: ・ | P17: 28 | Q17: 山本 篤史 | T17: 様 | U17: 27 | W17: ・ | X17: ・ | Z17: 0 | AA17: 村松 真由美 | AD17: 様
A18: 28 | C18: ・ | D18: ・ | F18: 56 | G18: 千葉 綾美 | J18: 様 | K18: 29 | M18: ・ | N18: ・ | P18: 28 | Q18: 工藤 彩海 | T18: 様 | U18: 30 | W18: ・ | X18: ・ | Z18: 30 | AA18: 木村 健一 | AD18: 様
A19: 31 | C19: ・ | D19: ・ | F19: 56 | G19: 蛯名 ノエ | J19: 様 | K19: 32 | M19: ・ | N19: ・ | P19: 14 | Q19: 菅原 仙一 | T19: 様 | U19: 33 | W19: ・ | X19: ・ | Z19: 30 | AA19: 岩村 心尋 | AD19: 様
A20: 34 | B20: ・ | D20: ・ | F20: 7 | G20: 鶴ケ崎 莉理子 | J20: 様 | K20: 35 | M20: ・ | N20: ・ | P20: 0 | Q20: 小野 蒼弥 | T20: 様 | U20: 36 | W20: ・ | X20: ・ | Z20: 30 | AA20: 沼山 祥寛 | AD20: 様
A21: 37 | C21: ・ | D21: ・ | F21: 28 | G21: 西向 ツギ | J21: 様 | K21: 38 | M21: ・ | N21: ・ | P21: 42 | Q21: 木村 豊之 | T21: 様 | U21: 39 | W21: ・ | X21: ・ | Z21: 30 | AA21: 蛯名 壱成 | AD21: 様
A22: 40 | C22: ・ | D22: ・ | F22: 28 | G22: 遠嶋 剛 | J22: 様 | K22: 41 | M22: ・ | N22: ・ | P22: 28 | Q22: 岩森 美奈 | T22: 様 | U22: 42 | W22: ・ | X22: ・ | Z22: 30 | AA22: 黒川 日々人 | AD22: 様
A23: 43 | C23: ・ | D23: ・ | F23: 14 | G23: 畠山 大生 | J23: 様 | K23: 44 | L23: ・ | N23: ・ | P23: 0 | Q23: 幾田 昭一 | T23: 様 | U23: 45 | W23: ・ | X23: ・ | Z23: 30 | AA23: 関川 優斗 | AD23: 様
A24: 46 | C24: ・ | D24: ・ | F24: 56 | G24: 窪田 清正 | J24: 様 | K24: 47 | M24: ・ | N24: ・ | P24: 42 | Q24: 加賀 遥大 | T24: 様 | U24: 48 | W24: ・ | X24: ・ | Z24: 30 | AA24: 高田 煌 | AD24: 様
A25: 49 | C25: ・ | D25: ・ | F25: 30 | G25: 野田頭 郁美 | J25: 様 | K25: 50 | M25: ・ | N25: ・ | P25: 28 | Q25: 市澤 純子 | T25: 様 | U25: 51 | W25: ・ | X25: ・ | Z25: 30 | AA25: 土橋 颯良 | AD25: 様
A26: 52 | C26: ・ | D26: ・ | F26: 0 | G26: 田口 トシ子 | J26: 様 | K26: 53 | M26: ・ | N26: ・ | P26: 28 | Q26: 沼端 ミセ | T26: 様 | U26: 54 | W26: ・ | X26: ・ | Z26: 30 | AA26: 遠藤 龍希 | AD26: 様
A27: 55 | C27: ・ | D27: ・ | F27: 0 | G27: 高村 加津子 | J27: 様 | K27: 56 | M27: ・ | N27: ・ | P27: 0 | Q27: 瀬川 高雄 | T27: 様 | U27: 57 | W27: ・ | X27: ・ | Z27: 30 | AA27: 高城 琉壱 | AD27: 様
A28: 58 | C28: ・ | D28: ・ | F28: 0 | G28: 深町 栄美子 | J28: 様 | K28: 59 | M28: ・ | N28: ・ | P28: 0 | Q28: 藤田 絢三 | T28: 様 | U28: 60 | W28: ・ | X28: ・ | Z28: 30 | AA28: 猪越 陽 | AD28: 様
A29: 61 | C29: ・ | D29: ・ | F29: 0 | G29: 萠出 きのゑ | J29: 様 | K29: 62 | M29: ・ | N29: ・ | P29: 0 | Q29: 坂本 佳之 | T29: 様 | U29: 63 | W29: ・ | X29: ・ | Z29: 30 | AA29: 野沢 杏莉 | AD29: 様
A30: 64 | C30: ・ | D30: ・ | F30: 0 | G30: 萠出 克治 | J30: 様 | K30: 65 | M30: ・ | N30: ・ | P30: 0 | Q30: 中村 としゑ | T30: 様 | U30: 66 | AD30: 様
A31: 外来患者数 | E31: 新： | F31: =COUNTIF(B9:B30,"・")+COUNTIF(L9:L30,"・")+COUNTIF(V9:V30,"・") -> 4 | H31: 名 | I31: 再： | J31: =COUNTIF(C9:C30,"・")+COUNTIF(M9:M30,"・")+COUNTIF(W9:W30,"・") -> 61 | L31: 名 | M31: 計： | N31: =SUM(F31:K31) -> 65 | Q31: 名 | R31: （ | S31: 精： | T31: =COUNTIF(D9:D30,"・")+COUNTIF(N9:N30,"・")+COUNTIF(X9:X30,"・") -> 64 | W31: 名 | X31: ・ | Y31: 内： | Z31: =COUNTIF(E9:E30,"・")+COUNTIF(O9:O30,"・")+COUNTIF(Y9:Y30,"・") -> 1 | AC31: 名 | AD31: ）
A33: 紹介患者様氏名 | F33: 紹介先 | K33: 逆紹介患者様氏名 | P33: 紹介元 | U33: 処置実施者 | AA33: 処置内容
E34: 様 | K34: 平尾 良子 | O34: 様 | P34: あいざわクリニック | U34: 高橋 秀雄 | Z34: 様 | AA34: インフル予防接種
A35: 本日の検査 | F35: 検査内容 | K35: 処置実施者 | P35: 処置内容 | Z35: 様
A36: 菅原 仙一 | E36: 様 | F36: WAIS | K36: 小向 克也 | O36: 様 | P36: ｾﾞﾌﾟﾘｵﾝ(150㎎) 1ｷｯﾄ | Z36: 様
A37: 平尾 良子 | E37: 様 | F37: CMI | O37: 様 | Z37: 様
E38: 様 | O38: 様 | U38: 点検項目
E39: 様 | O39: 様 | U39: 項目 | Z39: 時間 | AC39: 点検者
A40: 発熱 | F40: 下痢 | K40: 風邪薬 | P40: 男性：35 | U40: 医療廃棄物 | Y40: 0.75 | AB40: 石原 恵海
A41: 0 | F41: 0 | K41: 0 | P41: 女性：30 | U41: 戸締り | Y41: 0.75 | AB41: 石谷 美代子
A43: 備考欄 | C43: （連絡事項・処方変更・その他）
G44: 特記なし
...

Sheet 8
B1: クリニック 日 誌 | H1: 令和 | J1: ='6'!J1 -> 2 | K1: 年 | L1: ='1'!L1 -> 12 | M1: 月 | N1: 8 | O1: 日 | Q1: （ | R1: 火 | S1: ） | V1: COO | Y1: IOO | AB1: AOM
A3: 勤務者名
A4: ='7'!A4:F4 -> 中村 恵理子 | G4: 休 | I4: 柳田 美雪 | N4: 年 | Q4: 診察室 | W4: 外来担当医 | Z4: 外来介助者
A5: 石原 恵海 | G5: 日 | I5: 石谷 美代子 | N5: 日 | Q5: 第１診察室 | U5: 千葉 潜 | Z5: 石原
Q6: 第２診察室 | U6: 千葉 良 | Z6: 石原
B8: 新 | C8: 再 | D8: 精 | E8: 内 | F8: 処 | G8: 患者様氏名 | L8: 新 | M8: 再 | N8: 精 | O8: 内 | P8: 処 | Q8: 患者様氏名 | V8: 新 | W8: 再 | X8: 精 | Y8: 内 | Z8: 処 | AA8: 患者様氏名
A9: 1 | C9: ・ | D9: ・ | F9: 28 | G9: 増田 萩華 | J9: 様 | K9: 2 | M9: ・ | N9: ・ | P9: 30 | Q9: 坂本 丈夫 | T9: 様 | U9: 3 | W9: ・ | X9: ・ | Z9: 28 | AA9: 佐々木 顕人 | AD9: 様
A10: 4 | B10: ・ | D10: ・ | F10: 11 | G10: 高宮 るい | J10: 様 | K10: 5 | M10: ・ | N10: ・ | P10: 28 | Q10: 佐藤 市真 | T10: 様 | U10: 6 | W10: ・ | X10: ・ | Z10: 28 | AA10: 高橋 光廣 | AD10: 様
A11: 7 | C11: ・ | D11: ・ | F11: 28 | G11: 濱田 志美 | J11: 様 | K11: 8 | M11: ・ | N11: ・ | P11: 10 | Q11: ライランド 智鶴 | T11: 様 | U11: 9 | W11: ・ | X11: ・ | Z11: 28 | AA11: 浄法寺 美有 | AD11: 様
A12: 10 | C12: ・ | D12: ・ | F12: 28 | G12: 鳴海 穂波 | J12: 様 | K12: 11 | M12: ・ | N12: ・ | P12: 28 | Q12: 坂本 政勝 | T12: 様 | U12: 12 | W12: ・ | X12: ・ | Z12: 30 | AA12: 赤川 美紀 | AD12: 様
A13: 13 | C13: ・ | D13: ・ | F13: 56 | G13: 冨田 義信 | J13: 様 | K13: 14 | M13: ・ | N13: ・ | P13: 30 | Q13: 出町 舜介 | T13: 様 | U13: 15 | W13: ・ | X13: ・ | Z13: 28 | AA13: 柏葉 ユリ | AD13: 様
A14: 16 | C14: ・ | D14: ・ | F14: 28 | G14: 関向 辰哉 | J14: 様 | K14: 17 | M14: ・ | N14: ・ | P14: 28 | Q14: 寺沢 瞳 | T14: 様 | U14: 18 | W14: ・ | X14: ・ | Z14: 28 | AA14: 柿本 美津 | AD14: 様
A15: 19 | C15: ・ | D15: ・ | F15: 28 | G15: 作田 由美子 | J15: 様 | K15: 20 | M15: ・ | N15: ・ | P15: 30 | Q15: 高橋 喬 | T15: 様 | U15: 21 | W15: ・ | X15: ・ | Z15: 28 | AA15: 若月 淳 | AD15: 様
A16: 22 | C16: ・ | D16: ・ | F16: 28 | G16: 吉田 智恵 | J16: 様 | K16: 23 | M16: ・ | N16: ・ | P16: 28 | Q16: 工藤 希和子 | T16: 様 | U16: 24 | W16: ・ | X16: ・ | Z16: 28 | AA16: 西舘 瞳 | AD16: 様
A17: 25 | C17: ・ | D17: ・ | F17: 28 | G17: 阿部 セツ子 | J17: 様 | K17: 26 | M17: ・ | N17: ・ | P17: 56 | Q17: 大坂 与太郎 | T17: 様 | U17: 27 | W17: ・ | X17: ・ | Z17: 28 | AA17: 伊沢 リワ | AD17: 様
A18: 28 | C18: ・ | D18: ・ | F18: 28 | G18: 田畑 あかり | J18: 様 | K18: 29 | M18: ・ | N18: ・ | P18: 28 | Q18: 野々宮 重美 | T18: 様 | U18: 30 | W18: ・ | X18: ・ | Z18: 28 | AA18: 若沢 広志 | AD18: 様
A19: 31 | C19: ・ | D19: ・ | F19: 28 | G19: 野田 菊枝 | J19: 様 | K19: 32 | M19: ・ | N19: ・ | P19: 28 | Q19: 新山 金太郎 | T19: 様 | U19: 33 | W19: ・ | X19: ・ | Z19: 28 | AA19: 山田 果奈 | AD19: 様
A20: 34 | C20: ・ | D20: ・ | F20: 42 | G20: 高根 あつ子 | J20: 様 | K20: 35 | M20: ・ | N20: ・ | P20: 28 | Q20: 石岡 裕子 | T20: 様 | U20: 36 | W20: ・ | X20: ・ | Z20: 7 | AA20: 山岡 裕花 | AD20: 様
A21: 37 | C21: ・ | D21: ・ | F21: 28 | G21: 成田 キヌエ | J21: 様 | K21: 38 | M21: ・ | N21: ・ | P21: 21 | Q21: 杉元 香奈子 | T21: 様 | U21: 39 | W21: ・ | X21: ・ | Z21: 30 | AA21: 蛯名 ハナエ | AD21: 様
A22: 40 | C22: ・ | D22: ・ | F22: 28 | G22: 成田 秀之 | J22: 様 | K22: 41 | M22: ・ | N22: ・ | P22: 28 | Q22: 酒田 朋紀 | T22: 様 | U22: 42 | W22: ・ | X22: ・ | Z22: 28 | AA22: 田中 久美子 | AD22: 様
... A30: 64 | C30: ・ | D30: ・ | F30: 0 | G30: 藤田 絢三 | J30: 様 | K30: 65 | M30: ・ | N30: ・ | P30: 0 | Q30: 佐々木 政夫 | T30: 様 | U30: 66 | W30: ・ | X30: ・ | Z30: 30 | AA30: 瀬間 義大 | AD30: 様
A31: 外来患者数 | E31: 新： | F31: =COUNTIF(B9:B30,"・")+COUNTIF(L9:L30,"・")+COUNTIF(V9:V30,"・") -> 1 | H31: 名 | I31: 再： | J31: =COUNTIF(C9:C30,"・")+COUNTIF(M9:M30,"・")+COUNTIF(W9:W30,"・") -> 65 | L31: 名 | M31: 計： | N31: =SUM(F31:K31) -> 66 | Q31: 名 | R31: （ | S31: 精： | T31: =COUNTIF(D9:D30,"・")+COUNTIF(N9:N30,"・")+COUNTIF(X9:X30,"・") -> 66 | W31: 名 | X31: ・ | Y31: 内： | Z31: =COUNTIF(E9:E30,"・")+COUNTIF(O9:O30,"・")+COUNTIF(Y9:Y30,"・") -> 0 | AC31: 名 | AD31: ）
A33: 紹介患者様氏名 | F33: 紹介先 | K33: 逆紹介患者様氏名 | P33: 紹介元 | U33: 処置実施者 | AA33: 処置内容
E34: 様 | O34: 様 | U34: 高根 あつ子 | Z34: 様 | AA34: インフル予防接種
A35: 本日の検査 | F35: 検査内容 | K35: 処置実施者 | P35: 処置内容 | Z35: 様
A36: 佐藤 留五郎 | E36: 様 | F36: 血液検査 | K36: 野田 菊枝 | O36: 様 | P36: ｾﾞﾌﾟﾘｵﾝ(100㎎) 1ｷｯﾄ | Z36: 様
E37: 様 | K37: 坂本 政勝 | O37: 様 | P37: ハロマンス(50㎎) 1A | Z37: 様
E38: 様 | O38: 様 | U38: 点検項目
E39: 様 | O39: 様 | U39: 項目 | Z39: 時間 | AC39: 点検者
A40: 発熱 | F40: 下痢 | K40: 風邪薬 | P40: 男性：25 | U40: 医療廃棄物 | Y40: 0.75 | AB40: 石原 恵海
A41: 0 | F41: 0 | K41: 0 | P41: 女性：40 | U41: 戸締り | Y41: 0.75 | AB41: 石谷 美代子
A43: 備考欄 | C43: （連絡事項・処方変更・その他）
G44: 特になし
G45: 石原

Sheet 9
B1: クリニック 日 誌 | H1: 令和 | J1: ='6'!J1 -> 2 | K1: 年 | L1: ='1'!L1 -> 12 | M1: 月 | N1: 9 | O1: 日 | Q1: （ | R1: 水 | S1: ） | V1: COO | Y1: IOO | AB1: AOM
A3: 勤務者名
A4: ='6'!A4:F4 -> 中村 恵理子 | G4: 日 | I4: 柳田 美雪 | N4: 日 | Q4: 診察室 | W4: 外来担当医 | Z4: 外来介助者
A5: 石原 恵海 | G5: 日 | I5: 石谷 美代子 | N5: 日 | Q5: 第１診察室 | U5: 千葉 潜 | Z5: 柳田・石原
Q6: 第２診察室
B8: 新 | C8: 再 | D8: 精 | E8: 内 | F8: 処 | G8: 患者様氏名 | L8: 新 | M8: 再 | N8: 精 | O8: 内 | P8: 処 | Q8: 患者様氏名 | V8: 新 | W8: 再 | X8: 精 | Y8: 内 | Z8: 処 | AA8: 患者様氏名
A9: 1 | C9: ・ | D9: ・ | F9: 28 | G9: 葛西 瑛 | J9: 様 | K9: 2 | M9: ・ | N9: ・ | P9: 28 | Q9: 渡辺 クニ | T9: 様 | U9: 3 | W9: ・ | X9: ・ | Z9: 28 | AA9: 中村 美香子 | AD9: 様
A10: 4 | C10: ・ | D10: ・ | F10: 42 | G10: 川口 凌矢 | J10: 様 | K10: 5 | M10: ・ | N10: ・ | P10: 60 | Q10: 一戸 隆暢 | T10: 様 | U10: 6 | W10: ・ | X10: ・ | Z10: 28 | AA10: 冨岡 寿紀 | AD10: 様
A11: 7 | C11: ・ | D11: ・ | F11: 30 | G11: 小比券巻 千和子 | J11: 様 | K11: 8 | M11: ・ | N11: ・ | P11: 28 | Q11: 木村 正子 | T11: 様 | U11: 9 | W11: ・ | X11: ・ | Z11: 28 | AA11: 須藤 直子 | AD11: 様
A12: 10 | C12: ・ | D12: ・ | F12: 30 | G12: 小林 きよ | J12: 様 | K12: 11 | M12: ・ | N12: ・ | P12: 14 | Q12: 丸谷 美香 | T12: 様 | U12: 12 | W12: ・ | X12: ・ | Z12: 14 | AA12: 藤川 雅之 | AD12: 様
A13: 13 | C13: ・ | D13: ・ | F13: 14 | G13: 角田 晃 | J13: 様 | K13: 14 | M13: ・ | N13: ・ | P13: 28 | Q13: 織笠 裕美 | T13: 様 | U13: 15 | W13: ・ | X13: ・ | Z13: 0 | AA13: 工藤 健壽 | AD13: 様
A14: 16 | C14: ・ | D14: ・ | F14: 28 | G14: 大橋 ミサ | J14: 様 | K14: 17 | M14: ・ | N14: ・ | P14: 30 | Q14: 鈴木 正記 | T14: 様 | U14: 18 | W14: ・ | X14: ・ | Z14: 0 | AA14: 田口 トシ子 | AD14: 様
A15: 19 | C15: ・ | D15: ・ | F15: 90 | G15: 佐藤 一枝 | J15: 様 | K15: 20 | M15: ・ | N15: ・ | P15: 30 | Q15: 成田 彩美 | T15: 様 | U15: 21 | W15: ・ | X15: ・ | Z15: 0 | AA15: 高村 加津子 | AD15: 様
A16: 22 | C16: ・ | D16: ・ | F16: 28 | G16: 野々宮 ミヨ | J16: 様 | K16: 23 | M16: ・ | N16: ・ | P16: 28 | Q16: 大木 久子 | T16: 様 | U16: 24 | W16: ・ | X16: ・ | Z16: 0 | AA16: 藤田 絢三 | AD16: 様
A17: 25 | C17: ・ | D17: ・ | F17: 28 | G17: 土井 美保 | J17: 様 | K17: 26 | M17: ・ | N17: ・ | P17: 60 | Q17: 甲地 嘉助 | T17: 様 | U17: 27 | W17: ・ | X17: ・ | Z17: 0 | AA17: 瀬川 高雄 | AD17: 様
A18: 28 | C18: ・ | D18: ・ | F18: 28 | G18: 濤岡 定四郎 | J18: 様 | K18: 29 | L18: ・ | O18: ・ | P18: 0 | Q18: 内村 憲司 | T18: 様 | U18: 30 | W18: ・ | X18: ・ | Z18: 0 | AA18: 深町 栄美子 | AD18: 様
A19: 31 | C19: ・ | D19: ・ | F19: 14 | G19: 長岐 和哉 | J19: 様 | K19: 32 | M19: ・ | N19: ・ | P19: 28 | Q19: 森 マサ子 | T19: 様 | U19: 33 | W19: ・ | X19: ・ | Z19: 0 | AA19: 萠出 きのゑ | AD19: 様
A20: 34 | C20: ・ | D20: ・ | F20: 15 | G20: 松坂 正子 | J20: 様 | K20: 35 | M20: ・ | N20: ・ | P20: 28 | Q20: 稲本 典子 | T20: 様 | U20: 36 | W20: ・ | X20: ・ | Z20: 0 | AA20: 萠出 克治 | AD20: 様
A21: 37 | C21: ・ | D21: ・ | F21: 28 | G21: 菊池 成年 | J21: 様 | K21: 38 | L21: ・ | N21: ・ | P21: 0 | Q21: 山田 代志弘 | T21: 様 | U21: 39 | W21: ・ | X21: ・ | Z21: 0 | AA21: 豊川 洋子 | AD21: 様
A22: 40 | C22: ・ | D22: ・ | F22: 28 | G22: 鍛冶場 裕 | J22: 様 | K22: 41 | M22: ・ | N22: ・ | P22: 56 | Q22: 遠藤 陽介 | T22: 様 | U22: 42 | W22: ・ | X22: ・ | Z22: 0 | AA22: 石ケ谷 數子 | AD22: 様
A23: 43 | C23: ・ | D23: ・ | F23: 28 | G23: 高野 信 | J23: 様 | K23: 44 | M23: ・ | N23: ・ | P23: 14 | Q23: 川村 魁人 | T23: 様 | U23: 45 | W23: ・ | X23: ・ | Z23: 0 | AA23: 沼端 ミセ | AD23: 様
A24: 46 | C24: ・ | D24: ・ | F24: 28 | G24: 角 和子 | J24: 様 | K24: 47 | M24: ・ | N24: ・ | P24: 14 | Q24: 原田 悠紀 | T24: 様 | U24: 48 | W24: ・ | X24: ・ | Z24: 0 | AA24: 坂本 佳之 | AD24: 様
A25: 49 | C25: ・ | D25: ・ | F25: 42 | G25: 野川 英雄 | J25: 様 | K25: 50 | M25: ・ | N25: ・ | P25: 14 | Q25: 渡辺 唯 | T25: 様 | U25: 51 | W25: ・ | X25: ・ | Z25: 0 | AA25: 佐藤 ソノ | AD25: 様
A26: 52 | C26: ・ | D26: ・ | F26: 42 | G26: 清水 奈緒美 | J26: 様 | K26: 53 | L26: ・ | N26: ・ | P26: 0 | Q26: 河村 接子 | T26: 様 | U26: 54 | W26: ・ | X26: ・ | Z26: 0 | AA26: 安部 信祥 | AD26: 様
A27: 55 | C27: ・ | D27: ・ | F27: 28 | G27: 浪岡 ヒデ | J27: 様 | K27: 56 | M27: ・ | N27: ・ | P27: 14 | Q27: 浦邊 健司 | T27: 様 | U27: 57 | W27: ・ | X27: ・ | Z27: 0 | AA27: 水上 民一 | AD27: 様
A28: 58 | C28: ・ | D28: ・ | F28: 28 | G28: 佐々木 ヨコ | J28: 様 | K28: 59 | M28: ・ | N28: ・ | P28: 30 | Q28: 種市 日出男 | T28: 様 | U28: 60 | W28: ・ | X28: ・ | Z28: 0 | AA28: 沢村 まさえ | AD28: 様
A29: 61 | C29: ・ | D29: ・ | F29: 30 | G29: 伊藤 哲也 | J29: 様 | K29: 62 | M29: ・ | N29: ・ | P29: 28 | Q29: 角 節子 | T29: 様 | U29: 63 | W29: ・ | X29: ・ | Z29: 0 | AA29: 中居 敬悦 | AD29: 様
A30: 64 | C30: ・ | D30: ・ | F30: 28 | G30: 一戸 幸子 | J30: 様 | K30: 65 | M30: ・ | N30: ・ | P30: 14 | Q30: 浪岡 淳哉 | T30: 様 | U30: 66 | W30: ・ | X30: ・ | Z30: 0 | AA30: 佐藤 初男 | AD30: 様
A31: 67 | B31: ・ | E31: ・ | F31: 0 | G31: 下山 早苗 | J31: 様 | K31: 68 | L31: ・ | O31: ・ | P31: 0 | Q31: 坂本 郁子 | T31: 様 | U31: 69 | W31: ・ | X31: ・ | Z31: 28 | AA31: 豊川 美智子 | AD31: 様
A32: 70 | C32: ・ | D32: ・ | F32: 7 | G32: 本間 きよ | J32: 様 | K32: 71 | T32: 様 | U32: 72 | AD32: 様
A33: 外来患者数 | E33: 新： | F33: =COUNTIF(B9:B32,"・")+COUNTIF(L9:L32,"・")+COUNTIF(V9:V32,"・") -> 5 | H33: 名 | I33: 再： | J33: =COUNTIF(C9:C32,"・")+COUNTIF(M9:M32,"・")+COUNTIF(W9:W32,"・") -> 65 | L33: 名 | M33: 計： | N33: =SUM(F33:K33) -> 70 | Q33: 名 | R33: （ | S33: 精： | T33: =COUNTIF(D9:D32,"・")+COUNTIF(N9:N32,"・")+COUNTIF(X9:X32,"・") -> 67 | W33: 名 | X33: ・ | Y33: 内： | Z33: =COUNTIF(E9:E32,"・")+COUNTIF(O9:O32,"・")+COUNTIF(Y9:Y32,"・") -> 3 | AC33: 名 | AD33: ）
A35: 紹介患者様氏名 | F35: 紹介先 | K35: 逆紹介患者様氏名 | P35: 紹介元 | U35: 処置実施者 | AA35: 処置内容
E36: 様 | K36: 山田 代志弘 | O36: 様 | P36: 十和田第一病院 | U36: 内村 憲司 | Z36: 様 | AA36: インフル予防接種
E37: 様 | K37: 河村 接子 | O37: 様 | P37: 石田温泉病院 | U37: 下山 早苗 | Z37: 様 | AA37: インフル予防接種
E38: 様 | O38: 様 | U38: 坂本 郁子 | Z38: 様 | AA38: インフル予防接種
A39: 本日の検査 | F39: 検査内容 | K39: 処置実施者 | P39: 処置内容 | Z39: 様
A40: 川口 凌矢 | E40: 様 | F40: 血液検査 | K40: 川村 魁人 | O40: 様 | P40: ハロマンス100mg 1A | Z40: 様
A41: 佐々木 ヨコ | E41: 様 | F41: 血液検査 | O41: 様 | Z41: 様
A42: 丸谷 美香 | E42: 様 | F42: 血液検査 | O42: 様 | Z42: 様
E43: 様 | O43: 様 | U43: 点検項目
...

Sheet 10
B1: クリニック 日 誌 | H1: 令和 | J1: ='6'!J1 -> 2 | K1: 年 | L1: ='1'!L1 -> 12 | M1: 月 | N1: 10 | O1: 日 | Q1: （ | R1: 木 | S1: ） | V1: COO | Y1: IOO | AB1: AOM
A3: 勤務者名
A4: ='6'!A4:F4 -> 中村 恵理子 | G4: 日 | I4: 柳田 美雪 | N4: 日 | Q4: 診察室 | W4: 外来担当医 | Z4: 外来介助者
A5: 石原 恵海 | G5: 日 | I5: 石谷 美代子 | N5: 欠 | Q5: 第１診察室 | U5: 千葉 潜 | Z5: 柳田・石原
Q6: 第２診察室
B8: 新 | C8: 再 | D8: 精 | E8: 内 | F8: 処 | G8: 患者様氏名 | L8: 新 | M8: 再 | N8: 精 | O8: 内 | P8: 処 | Q8: 患者様氏名 | V8: 新 | W8: 再 | X8: 精 | Y8: 内 | Z8: 処 | AA8: 患者様氏名
A9: 1 | C9: ・ | D9: ・ | F9: 28 | G9: 二又 安子 | J9: 様 | K9: 2 | M9: ・ | N9: ・ | P9: 28 | Q9: 中村 善治 | T9: 様 | U9: 3 | W9: ・ | X9: ・ | Z9: 28 | AA9: 高橋 田鶴子 | AD9: 様
A10: 4 | C10: ・ | D10: ・ | F10: 28 | G10: 町屋 睦子 | J10: 様 | K10: 5 | M10: ・ | N10: ・ | P10: 28 | Q10: 坂本 隆志 | T10: 様 | U10: 6 | W10: ・ | X10: ・ | Z10: 42 | AA10: 小比券巻 一夫 | AD10: 様
A11: 7 | C11: ・ | D11: ・ | F11: 28 | G11: 中平 陽香 | J11: 様 | K11: 8 | M11: ・ | N11: ・ | P11: 14 | Q11: 織笠 勝男 | T11: 様 | U11: 9 | W11: ・ | X11: ・ | Z11: 60 | AA11: 渡辺 栄蔵 | AD11: 様
A12: 10 | C12: ・ | D12: ・ | F12: 28 | G12: 鎌田 裕輔 | J12: 様 | K12: 11 | M12: ・ | N12: ・ | P12: 60 | Q12: 山崎 ミドリ | T12: 様 | U12: 12 | W12: ・ | X12: ・ | Z12: 0 | AA12: 塚田 敏子 | AD12: 様
A13: 13 | C13: ・ | D13: ・ | F13: 14 | G13: 新山 優衣 | J13: 様 | K13: 14 | M13: ・ | N13: ・ | P13: 30 | Q13: 對馬 穣 | T13: 様 | U13: 15 | W13: ・ | X13: ・ | Z13: 42 | AA13: 三瓶 政行 | AD13: 様
A14: 16 | C14: ・ | D14: ・ | F14: 28 | G14: 市川 エミ子 | J14: 様 | K14: 17 | M14: ・ | N14: ・ | P14: 28 | Q14: 柏葉 信子 | T14: 様 | U14: 18 | W14: ・ | X14: ・ | Z14: 0 | AA14: 磯谷 善正 | AD14: 様
A15: 19 | C15: ・ | D15: ・ | F15: 30 | G15: 小又 清二 | J15: 様 | K15: 20 | M15: ・ | N15: ・ | P15: 14 | Q15: 高橋 茜 | T15: 様 | U15: 21 | V15: ・ | X15: ・ | Z15: 0 | AA15: 道下 ユリ | AD15: 様
A16: 22 | C16: ・ | D16: ・ | F16: 30 | G16: 市川 昭博 | J16: 様 | K16: 23 | M16: ・ | N16: ・ | P16: 42 | Q16: 杉村 義雄 | T16: 様 | U16: 24 | W16: ・ | X16: ・ | Z16: 28 | AA16: 和田 春奈 | AD16: 様
A17: 25 | C17: ・ | D17: ・ | F17: 28 | G17: 島貫 香央里 | J17: 様 | K17: 26 | M17: ・ | N17: ・ | P17: 60 | Q17: 市川 由雄 | T17: 様 | U17: 27 | W17: ・ | X17: ・ | Z17: 60 | AA17: 一戸 千春 | AD17: 様
A18: 28 | C18: ・ | D18: ・ | F18: 7 | G18: 中居 敬悦 | J18: 様 | K18: 29 | M18: ・ | N18: ・ | P18: 60 | Q18: 玉澤 善治 | T18: 様 | U18: 30 | V18: ・ | X18: ・ | Z18: 7 | AA18: 野々宮 美津江 | AD18: 様
A19: 31 | C19: ・ | D19: ・ | F19: 30 | G19: 木村 洋子 | J19: 様 | K19: 32 | M19: ・ | N19: ・ | P19: 0 | Q19: 蛇沼 紅子 | T19: 様 | U19: 33 | W19: ・ | X19: ・ | Z19: 0 | AA19: 坂本 佳之 | AD19: 様
A20: 34 | C20: ・ | D20: ・ | F20: 20 | G20: 宮古 月菜 | J20: 様 | K20: 35 | M20: ・ | N20: ・ | P20: 30 | Q20: 河原崎 キヨエ | T20: 様 | U20: 36 | W20: ・ | X20: ・ | Z20: 0 | AA20: 鈴木 洋光 | AD20: 様
A21: 37 | C21: ・ | D21: ・ | F21: 28 | G21: 石久保 香織 | J21: 様 | K21: 38 | M21: ・ | N21: ・ | P21: 30 | Q21: 鈴木 愛子 | T21: 様 | U21: 39 | W21: ・ | X21: ・ | Z21: 0 | AA21: 西舘 瞳 | AD21: 様
A22: 40 | C22: ・ | D22: ・ | F22: 28 | G22: 町屋 ヤエ | J22: 様 | K22: 41 | M22: ・ | N22: ・ | P22: 60 | Q22: 馬場 貴子 | T22: 様 | U22: 42 | W22: ・ | X22: ・ | Z22: 0 | AA22: 駒澤 キヤ | AD22: 様
A23: 43 | C23: ・ | D23: ・ | F23: 28 | G23: 橋本 イチ | J23: 様 | K23: 44 | M23: ・ | N23: ・ | P23: 30 | Q23: 横浜 秀一 | T23: 様 | U23: 45 | W23: ・ | X23: ・ | Z23: 0 | AA23: 高村 加津子 | AD23: 様
A24: 46 | C24: ・ | D24: ・ | F24: 28 | G24: 沼山 かおる | J24: 様 | K24: 47 | M24: ・ | N24: ・ | P24: 28 | Q24: 柴田 葉子 | T24: 様 | U24: 48 | W24: ・ | X24: ・ | Z24: 0 | AA24: 工藤 健壽 | AD24: 様
A25: 49 | B25: ・ | E25: ・ | F25: 0 | G25: 森田 のぶ | J25: 様 | K25: 50 | M25: ・ | N25: ・ | P25: 0 | Q25: 藤田 絢三 | T25: 様 | U25: 51 | W25: ・ | X25: ・ | Z25: 0 | AA25: 田口 トシ子 | AD25: 様
A26: 52 | C26: ・ | D26: ・ | F26: 0 | G26: 本間 昇 | J26: 様 | K26: 53 | M26: ・ | N26: ・ | P26: 0 | Q26: 石ケ谷 數子 | T26: 様 | U26: 54 | W26: ・ | X26: ・ | Z26: 0 | AA26: 瀬川 高雄 | AD26: 様
A27: 55 | C27: ・ | D27: ・ | F27: 0 | G27: 佐々木 政夫 | J27: 様 | K27: 56 | T27: 様 | U27: 57 | AD27: 様
A28: 外来患者数 | E28: 新： | F28: =COUNTIF(B9:B27,"・")+COUNTIF(L9:L27,"・")+COUNTIF(V9:V27,"・") -> 3 | H28: 名 | I28: 再： | J28: =COUNTIF(C9:C27,"・")+COUNTIF(M9:M27,"・")+COUNTIF(W9:W27,"・") -> 52 | L28: 名 | M28: 計： | N28: =SUM(F28:K28) -> 55 | Q28: 名 | R28: （ | S28: 精： | T28: =COUNTIF(D9:D27,"・")+COUNTIF(N9:N27,"・")+COUNTIF(X9:X27,"・") -> 54 | W28: 名 | X28: ・ | Y28: 内： | Z28: =COUNTIF(E9:E27,"・")+COUNTIF(O9:O27,"・")+COUNTIF(Y9:Y27,"・") -> 1 | AC28: 名 | AD28: ）
A30: 紹介患者様氏名 | F30: 紹介先 | K30: 逆紹介患者様氏名 | P30: 紹介元 | U30: 処置実施者 | AA30: 処置内容
E31: 様 | O31: 様 | U31: 森田 のぶ | Z31: 様 | AA31: インフル予防接種
A32: 本日の検査 | F32: 検査内容 | K32: 処置実施者 | P32: 処置内容 | Z32: 様
A33: 新山 優衣 | E33: 様 | F33: Roｒ | O33: 様 | Z33: 様
A34: 石久保 香織 | E34: 様 | F34: 血液検査 | O34: 様 | Z34: 様
A35: 蛇沼 紅子 | E35: 様 | F35: WAIS | O35: 様 | Z35: 様
E36: 様 | O36: 様 | U36: 点検項目
E37: 様 | O37: 様 | U37: 項目 | Z37: 時間 | AC37: 点検者
A38: 発熱 | F38: 下痢 | K38: 風邪薬 | P38: 男性：23 | U38: 医療廃棄物 | Y38: 0.75 | AB38: 石原 恵海
A39: 0 | F39: 0 | K39: 0 | P39: 女性：32 | U39: 戸締り | Y39: 0.75 | AB39: ='6'!AB49:AD49 -> 中村 恵理子
A41: 備考欄 | C41: （連絡事項・処方変更・その他）
G42: 特になし
G43: 石原

Sheet 11
B1: クリニック 日 誌 | H1: 令和 | J1: ='6'!J1 -> 2 | K1: 年 | L1: ='1'!L1 -> 12 | M1: 月 | N1: 11 | O1: 日 | Q1: （ | R1: 金 | S1: ） | V1: COO | Y1: IOO | AB1: AOM
A3: 勤務者名
A4: ='6'!A4:F4 -> 中村 恵理子 | G4: 日 | I4: 柳田 美雪 | N4: 日 | Q4: 診察室 | W4: 外来担当医 | Z4: 外来介助者
A5: 石原 恵海 | G5: 日 | I5: 石谷 美代子 | N5: 欠 | Q5: 第１診察室 | U5: 金 泰徳 | Z5: 柳田・石原
Q6: 第２診察室 | U6: 千葉 良 | Z6: 柳田・石原
B8: 新 | C8: 再 | D8: 精 | E8: 内 | F8: 処 | G8: 患者様氏名 | L8: 新 | M8: 再 | N8: 精 | O8: 内 | P8: 処 | Q8: 患者様氏名 | V8: 新 | W8: 再 | X8: 精 | Y8: 内 | Z8: 処 | AA8: 患者様氏名
A9: 1 | C9: ・ | D9: ・ | F9: 60 | G9: 中川原 ちる | J9: 様 | K9: 2 | M9: ・ | N9: ・ | P9: 14 | Q9: 北村 イウ子 | T9: 様 | U9: 3 | W9: ・ | X9: ・ | Z9: 28 | AA9: 宮崎 雪子 | AD9: 様
A10: 4 | C10: ・ | D10: ・ | F10: 28 | G10: 大平 陸 | J10: 様 | K10: 5 | M10: ・ | N10: ・ | P10: 56 | Q10: 国分 トシ子 | T10: 様 | U10: 6 | W10: ・ | X10: ・ | Z10: 30 | AA10: 木村 トメ | AD10: 様
A11: 7 | C11: ・ | D11: ・ | F11: 35 | G11: 佐藤 トメ | J11: 様 | K11: 8 | M11: ・ | N11: ・ | P11: 30 | Q11: 佐々木 久美子 | T11: 様 | U11: 9 | V11: ・ | X11: ・ | Z11: 14 | AA11: 新戸部 ミヨ | AD11: 様
A12: 10 | C12: ・ | D12: ・ | F12: 30 | G12: 角 恵美子 | J12: 様 | K12: 11 | M12: ・ | N12: ・ | P12: 28 | Q12: 高田 奈緒美 | T12: 様 | U12: 12 | W12: ・ | X12: ・ | Z12: 28 | AA12: 中野渡 雄 | AD12: 様
A13: 13 | C13: ・ | D13: ・ | F13: 28 | G13: 種市 サクラ | J13: 様 | K13: 14 | M13: ・ | N13: ・ | P13: 30 | Q13: 古田 留美子 | T13: 様 | U13: 15 | W13: ・ | X13: ・ | Z13: 28 | AA13: 小林 稔 | AD13: 様
A14: 16 | C14: ・ | D14: ・ | F14: 30 | G14: 前畑 清子 | J14: 様 | K14: 17 | M14: ・ | N14: ・ | P14: 35 | Q14: 石田 喜明 | T14: 様 | U14: 18 | W14: ・ | X14: ・ | Z14: 28 | AA14: 加藤 英俊 | AD14: 様
A15: 19 | C15: ・ | D15: ・ | F15: 28 | G15: 増田 豊 | J15: 様 | K15: 20 | M15: ・ | N15: ・ | P15: 28 | Q15: 新山 光浩 | T15: 様 | U15: 21 | V15: ・ | X15: ・ | Z15: 7 | AA15: 古田 桃香 | AD15: 様
A16: 22 | C16: ・ | D16: ・ | F16: 30 | G16: 小林 昭治 | J16: 様 | K16: 23 | M16: ・ | N16: ・ | P16: 28 | Q16: 齋藤 鈴美香 | T16: 様 | U16: 24 | W16: ・ | X16: ・ | Z16: 14 | AA16: 山本 チヤ | AD16: 様
A17: 25 | C17: ・ | D17: ・ | F17: 28 | G17: 杉元 美咲 | J17: 様 | K17: 26 | M17: ・ | N17: ・ | P17: 35 | Q17: 千葉 麗生 | T17: 様 | U17: 27 | W17: ・ | X17: ・ | Z17: 30 | AA17: 高梨 晃亮 | AD17: 様
A18: 28 | C18: ・ | D18: ・ | F18: 28 | G18: 岩間 ツネ | J18: 様 | K18: 29 | M18: ・ | N18: ・ | P18: 35 | Q18: 五日市 チヨ | T18: 様 | U18: 30 | W18: ・ | X18: ・ | Z18: 30 | AA18: 鳥山 咲希 | AD18: 様
A19: 31 | C19: ・ | D19: ・ | F19: 28 | G19: 林 真紀子 | J19: 様 | K19: 32 | M19: ・ | N19: ・ | P19: 28 | Q19: 野々宮 是 | T19: 様 | U19: 33 | W19: ・ | X19: ・ | Z19: 30 | AA19: 赤澤 侑希南 | AD19: 様
A20: 34 | C20: ・ | D20: ・ | F20: 30 | G20: 大久保 和 | J20: 様 | K20: 35 | M20: ・ | N20: ・ | P20: 28 | Q20: 大釜 美香子 | T20: 様 | U20: 36 | W20: ・ | X20: ・ | Z20: 30 | AA20: 竹内 ゆら | AD20: 様
A21: 37 | C21: ・ | D21: ・ | F21: 35 | G21: 起田 妙子 | J21: 様 | K21: 38 | M21: ・ | N21: ・ | P21: 30 | Q21: 中村 ひで子 | T21: 様 | U21: 39 | W21: ・ | X21: ・ | Z21: 30 | AA21: 古山 瑞桔 | AD21: 様
A22: 40 | C22: ・ | D22: ・ | F22: 30 | G22: 沼端 佑太 | J22: 様 | K22: 41 | M22: ・ | N22: ・ | P22: 28 | Q22: 古田 真 | T22: 様 | U22: 42 | W22: ・ | X22: ・ | Z22: 14 | AA22: 阿保 実采 | AD22: 様
A23: 43 | C23: ・ | D23: ・ | F23: 60 | G23: 木村 奈津子 | J23: 様 | K23: 44 | M23: ・ | N23: ・ | P23: 28 | Q23: 附田 ミサ | T23: 様 | U23: 45 | W23: ・ | X23: ・ | Z23: 0 | AA23: 古川 とし | AD23: 様
A24: 46 | C24: ・ | D24: ・ | F24: 30 | G24: 萠出 きのゑ | J24: 様 | K24: 47 | M24: ・ | N24: ・ | P24: 60 | Q24: 坂本 リセ | T24: 様 | U24: 48 | W24: ・ | X24: ・ | Z24: 0 | AA24: 山本 美津子 | AD24: 様
A25: 49 | B25: ・ | D25: ・ | F25: 30 | G25: 後藤 美里 | J25: 様 | K25: 50 | M25: ・ | N25: ・ | P25: 0 | Q25: 宮崎 由美子 | T25: 様 | U25: 51 | W25: ・ | X25: ・ | Z25: 0 | AA25: 坂本 佳之 | AD25: 様
A26: 52 | C26: ・ | D26: ・ | F26: 0 | G26: 千葉 スワ | J26: 様 | K26: 53 | M26: ・ | N26: ・ | P26: 0 | Q26: 藤田 絢三 | T26: 様 | U26: 54 | W26: ・ | X26: ・ | Z26: 0 | AA26: 瀬川 高雄 | AD26: 様
A27: 55 | C27: ・ | D27: ・ | F27: 0 | G27: 工藤 健壽 | J27: 様 | K27: 56 | M27: ・ | N27: ・ | P27: 0 | Q27: 坂本 政勝 | T27: 様 | U27: 57 | W27: ・ | X27: ・ | Z27: 0 | AA27: 沼端 ミセ | AD27: 様
A28: 58 | C28: ・ | D28: ・ | F28: 0 | G28: 林 成信 | J28: 様 | K28: 59 | M28: ・ | N28: ・ | P28: 0 | Q28: 田口 トシ子 | T28: 様 | U28: 60 | W28: ・ | X28: ・ | Z28: 0 | AA28: 森川 愛 | AD28: 様
A29: 61 | C29: ・ | D29: ・ | F29: 0 | G29: 渡辺 クニ | J29: 様 | K29: 62 | M29: ・ | N29: ・ | P29: 0 | Q29: 中村 としゑ | T29: 様 | U29: 63 | W29: ・ | X29: ・ | Z29: 0 | AA29: 萠出 克治 | AD29: 様
A30: 64 | C30: ・ | D30: ・ | F30: 0 | G30: 高村 加津子 | J30: 様 | K30: 65 | M30: ・ | N30: ・ | P30: 0 | Q30: 中川原 イサ | T30: 様 | U30: 66 | AD30: 様
A31: 外来患者数 | E31: 新： | F31: =COUNTIF(B9:B30,"・")+COUNTIF(L9:L30,"・")+COUNTIF(V9:V30,"・") -> 3 | H31: 名 | I31: 再： | J31: =COUNTIF(C9:C30,"・")+COUNTIF(M9:M30,"・")+COUNTIF(W9:W30,"・") -> 62 | L31: 名 | M31: 計： | N31: =SUM(F31:K31) -> 65 | Q31: 名 | R31: （ | S31: 精： | T31: =COUNTIF(D9:D30,"・")+COUNTIF(N9:N30,"・")+COUNTIF(X9:X30,"・") -> 65 | W31: 名 | X31: ・ | Y31: 内： | Z31: =COUNTIF(E9:E30,"・")+COUNTIF(O9:O30,"・")+COUNTIF(Y9:Y30,"・") -> 0 | AC31: 名 | AD31: ）
A33: 紹介患者様氏名 | F33: 紹介先 | K33: 逆紹介患者様氏名 | P33: 紹介元 | U33: 処置実施者 | AA33: 処置内容
A34: 増田 豊 | E34: 様 | F34: みさわの森クリニック | K34: 新戸部 ミヨ | O34: 様 | P34: 沼田医院 | U34: 大平 陸 | Z34: 様 | AA34: インフル予防接種
A35: 本日の検査 | F35: 検査内容 | K35: 処置実施者 | P35: 処置内容 | Z35: 様
A36: 古田 留美子 | E36: 様 | F36: 血液検査 | O36: 様 | U36: 点検項目
E37: 様 | O37: 様 | U37: 項目 | Z37: 時間 | AC37: 点検者
A38: 発熱 | F38: 下痢 | K38: 風邪薬 | P38: 男性：20 | U38: 医療廃棄物 | Y38: 0.75 | AB38: 石原 恵海
A39: 0 | F39: 0 | K39: 0 | P39: 女性：45 | U39: 戸締り | Y39: 0.75 | AB39: 中村 恵理子
A41: 備考欄 | C41: （連絡事項・処方変更・その他）
G42: 特になし
G43: 石原

Sheet 12
B1: クリニック 日 誌 | H1: 令和 | J1: ='6'!J1 -> 2 | K1: 年 | L1: ='1'!L1 -> 12 | M1: 月 | N1: 12 | O1: 日 | Q1: （ | S1: ） | V1: COO | Y1: IOO | AB1: AOM
A3: 勤務者名
A4: ='6'!A4:F4 -> 中村 恵理子 | G4: 日 | I4: 柳田 美雪 | N4: 日 | Q4: 診察室 | W4: 外来担当医 | Z4: 外来介助者
A5: 石原 恵海 | G5: 日 | Q5: 第１診察室 | Z5: 柳田・石原
Q6: 第２診察室
B8: 新 | C8: 再 | D8: 精 | E8: 内 | F8: 処 | G8: 患者様氏名 | L8: 新 | M8: 再 | N8: 精 | O8: 内 | P8: 処 | Q8: 患者様氏名 | V8: 新 | W8: 再 | X8: 精 | Y8: 内 | Z8: 処 | AA8: 患者様氏名
A9: 1 | J9: 様 | K9: 2 | T9: 様 | U9: 3 | AD9: 様
A10: 4 | J10: 様 | K10: 5 | T10: 様 | U10: 6 | AD10: 様
A11: 7 | J11: 様 | K11: 8 | T11: 様 | U11: 9 | AD11: 様
A12: 10 | J12: 様 | K12: 11 | T12: 様 | U12: 12 | AD12: 様
A13: 13 | J13: 様 | K13: 14 | T13: 様 | U13: 15 | AD13: 様
A14: 16 | J14: 様 | K14: 17 | T14: 様 | U14: 18 | AD14: 様
A15: 19 | J15: 様 | K15: 20 | T15: 様 | U15: 21 | AD15: 様
A16: 22 | J16: 様 | K16: 23 | T16: 様 | U16: 24 | AD16: 様
A17: 25 | J17: 様 | K17: 26 | T17: 様 | U17: 27 | AD17: 様
A18: 28 | J18: 様 | K18: 29 | T18: 様 | U18: 30 | AD18: 様
A19: 31 | J19: 様 | K19: 32 | T19: 様 | U19: 33 | AD19: 様
A20: 34 | J20: 様 | K20: 35 | T20: 様 | U20: 36 | AD20: 様
... A33: 73 | J33: 様 | K33: 74 | T33: 様 | U33: 75 | AD33: 様
A34: 外来患者数 | E34: 新： | F34: =COUNTIF(B9:B33,"・")+COUNTIF(L9:L33,"・")+COUNTIF(V9:V33,"・") -> 0 | H34: 名 | I34: 再： | J34: =COUNTIF(C9:C33,"・")+COUNTIF(M9:M33,"・")+COUNTIF(W9:W33,"・") -> 0 | L34: 名 | M34: 計： | N34: =SUM(F34:K34) -> 0 | Q34: 名 | R34: （ | S34: 精： | T34: =COUNTIF(D9:D33,"・")+COUNTIF(N9:N33,"・")+COUNTIF(X9:X33,"・") -> 0 | W34: 名 | X34: ・ | Y34: 内： | Z34: =COUNTIF(E9:E33,"・")+COUNTIF(O9:O33,"・")+COUNTIF(Y9:Y33,"・") -> 0 | AC34: 名 | AD34: ）
A36: 紹介患者様氏名 | F36: 紹介先 | K36: 逆紹介患者様氏名 | P36: 紹介元 | U36: 処置実施者 | AA36: 処置内容
E37: 様 | O37: 様 | Z37: 様
E38: 様 | O38: 様 | Z38: 様
E39: 様 | O39: 様 | Z39: 様
E40: 様 | O40: 様 | Z40: 様
E41: 様 | O41: 様 | Z41: 様
A42: 本日の検査 | F42: 検査内容 | K42: 処置実施者 | P42: 処置内容 | Z42: 様
E43: 様 | O43: 様 | Z43: 様
E44: 様 | O44: 様 | Z44: 様
E45: 様 | O45: 様 | Z45: 様
E46: 様 | O46: 様 | U46: 点検項目
E47: 様 | O47: 様 | U47: 項目 | Z47: 時間 | AC47: 点検者
A48: 発熱 | F48: 下痢 | K48: 風邪薬 | P48: 男性： | U48: 医療廃棄物 | Y48: 0.75
A49: 0 | F49: 0 | K49: 0 | P49: 女性： | U49: 戸締り | Y49: 0.75 | AB49: ='6'!AB49:AD49 -> 中村 恵理子
A51: 備考欄 | C51: （連絡事項・処方変更・その他）

Sheet 13
B1: クリニック 日 誌 | H1: 令和 | J1: ='6'!J1 -> 2 | K1: 年 | L1: ='1'!L1 -> 12 | M1: 月 | N1: 13 | O1: 日 | Q1: （ | S1: ） | V1: COO | Y1: IOO | AB1: AOM
A3: 勤務者名
A4: ='6'!A4:F4 -> 中村 恵理子 | G4: 日 | I4: 柳田 美雪 | N4: 日 | Q4: 診察室 | W4: 外来担当医 | Z4: 外来介助者
A5: 石原 恵海 | G5: 日 | Q5: 第１診察室 | Z5: 柳田・石原
Q6: 第２診察室
B8: 新 | C8: 再 | D8: 精 | E8: 内 | F8: 処 | G8: 患者様氏名 | L8: 新 | M8: 再 | N8: 精 | O8: 内 | P8: 処 | Q8: 患者様氏名 | V8: 新 | W8: 再 | X8: 精 | Y8: 内 | Z8: 処 | AA8: 患者様氏名
A9: 1 | J9: 様 | K9: 2 | T9: 様 | U9: 3 | AD9: 様
A10: 4 | J10: 様 | K10: 5 | T10: 様 | U10: 6 | AD10: 様
A11: 7 | J11: 様 | K11: 8 | T11: 様 | U11: 9 | AD11: 様
A12: 10 | J12: 様 | K12: 11 | T12: 様 | U12: 12 | AD12: 様
A13: 13 | J13: 様 | K13: 14 | T13: 様 | U13: 15 | AD13: 様
A14: 16 | J14: 様 | K14: 17 | T14: 様 | U14: 18 | AD14: 様
A15: 19 | J15: 様 | K15: 20 | T15: 様 | U15: 21 | AD15: 様
A16: 22 | J16: 様 | K16: 23 | T16: 様 | U16: 24 | AD16: 様
A17: 25 | J17: 様 | K17: 26 | T17: 様 | U17: 27 | AD17: 様
A18: 28 | J18: 様 | K18: 29 | T18: 様 | U18: 30 | AD18: 様
A19: 31 | J19: 様 | K19: 32 | T19: 様 | U19: 33 | AD19: 様
A20: 34 | J20: 様 | K20: 35 | T20: 様 | U20: 36 | AD20: 様
... A33: 73 | J33: 様 | K33: 74 | T33: 様 | U33: 75 | AD33: 様
A34: 外来患者数 | E34: 新： | F34: =COUNTIF(B9:B33,"・")+COUNTIF(L9:L33,"・")+COUNTIF(V9:V33,"・") -> 0 | H34: 名 | I34: 再： | J34: =COUNTIF(C9:C33,"・")+COUNTIF(M9:M33,"・")+COUNTIF(W9:W33,"・") -> 0 | L34: 名 | M34: 計： | N34: =SUM(F34:K34) -> 0 | Q34: 名 | R34: （ | S34: 精： | T34: =COUNTIF(D9:D33,"・")+COUNTIF(N9:N33,"・")+COUNTIF(X9:X33,"・") -> 0 | W34: 名 | X34: ・ | Y34: 内： | Z34: =COUNTIF(E9:E33,"・")+COUNTIF(O9:O33,"・")+COUNTIF(Y9:Y33,"・") -> 0 | AC34: 名 | AD34: ）
A36: 紹介患者様氏名 | F36: 紹介先 | K36: 逆紹介患者様氏名 | P36: 紹介元 | U36: 処置実施者 | AA36: 処置内容
E37: 様 | O37: 様 | Z37: 様
E38: 様 | O38: 様 | Z38: 様
E39: 様 | O39: 様 | Z39: 様
E40: 様 | O40: 様 | Z40: 様
E41: 様 | O41: 様 | Z41: 様
A42: 本日の検査 | F42: 検査内容 | K42: 処置実施者 | P42: 処置内容 | Z42: 様
E43: 様 | O43: 様 | Z43: 様
E44: 様 | O44: 様 | Z44: 様
E45: 様 | O45: 様 | Z45: 様
E46: 様 | O46: 様 | U46: 点検項目
E47: 様 | O47: 様 | U47: 項目 | Z47: 時間 | AC47: 点検者
A48: 発熱 | F48: 下痢 | K48: 風邪薬 | P48: 男性： | U48: 医療廃棄物 | Y48: 0.75
A49: 0 | F49: 0 | K49: 0 | P49: 女性： | U49: 戸締り | Y49: 0.75 | AB49: ='6'!AB49:AD49 -> 中村 恵理子
A51: 備考欄 | C51: （連絡事項・処方変更・その他）

Sheet 14
B1: クリニック 日 誌 | H1: 令和 | J1: ='6'!J1 -> 2 | K1: 年 | L1: ='1'!L1 -> 12 | M1: 月 | N1: 14 | O1: 日 | Q1: （ | R1: 月 | S1: ） | V1: COO | Y1: IOO | AB1: AOM
A3: 勤務者名
A4: ='6'!A4:F4 -> 中村 恵理子 | G4: 日 | I4: 柳田 美雪 | N4: 日 | Q4: 診察室 | W4: 外来担当医 | Z4: 外来介助者
A5: 石原 恵海 | G5: 日 | I5: 石谷 美代子 | N5: 欠 | Q5: 第１診察室 | U5: 馬渡 晃弘 | Z5: 柳田・石原
Q6: 第２診察室 | U6: 千葉 良 | Z6: 柳田・石原
B8: 新 | C8: 再 | D8: 精 | E8: 内 | F8: 処 | G8: 患者様氏名 | L8: 新 | M8: 再 | N8: 精 | O8: 内 | P8: 処 | Q8: 患者様氏名 | V8: 新 | W8: 再 | X8: 精 | Y8: 内 | Z8: 処 | AA8: 患者様氏名
A9: 1 | C9: ・ | D9: ・ | F9: 56 | G9: 山本 鉄弥 | J9: 様 | K9: 2 | M9: ・ | N9: ・ | P9: 28 | Q9: 大野 政彦 | T9: 様 | U9: 3 | W9: ・ | X9: ・ | Z9: 14 | AA9: 小原 哲哉 | AD9: 様
A10: 4 | C10: ・ | D10: ・ | F10: 35 | G10: 沼山 深雪 | J10: 様 | K10: 5 | M10: ・ | N10: ・ | P10: 21 | Q10: 附田 亜矢子 | T10: 様 | U10: 6 | W10: ・ | X10: ・ | Z10: 28 | AA10: 松本 詩穂 | AD10: 様
A11: 7 | C11: ・ | D11: ・ | F11: 60 | G11: 浄法寺 のり子 | J11: 様 | K11: 8 | M11: ・ | N11: ・ | P11: 35 | Q11: 鳥谷部 トヨ | T11: 様 | U11: 9 | V11: ・ | Y11: ・ | Z11: 0 | AA11: 佐々木 快翔 | AD11: 様
A12: 10 | C12: ・ | D12: ・ | F12: 21 | G12: 渡部 節子 | J12: 様 | K12: 11 | M12: ・ | N12: ・ | P12: 56 | Q12: 山崎 ケイ | T12: 様 | U12: 12 | W12: ・ | X12: ・ | Z12: 21 | AA12: 佐藤 恵理子 | AD12: 様
A13: 13 | C13: ・ | D13: ・ | F13: 7 | G13: 橋場 みゆき | J13: 様 | K13: 14 | M13: ・ | N13: ・ | P13: 90 | Q13: 橋本 百合子 | T13: 様 | U13: 15 | W13: ・ | X13: ・ | Z13: 14 | AA13: 蛯名 亜果音 | AD13: 様
A14: 16 | C14: ・ | D14: ・ | F14: 42 | G14: 家沢 亜希子 | J14: 様 | K14: 17 | M14: ・ | N14: ・ | P14: 0 | Q14: 沼山 明 | T14: 様 | U14: 18 | W14: ・ | X14: ・ | Z14: 14 | AA14: 椛本 友菜 | AD14: 様
A15: 19 | C15: ・ | D15: ・ | F15: 28 | G15: 大村 恵美 | J15: 様 | K15: 20 | M15: ・ | N15: ・ | P15: 14 | Q15: 上森 良介 | T15: 様 | U15: 21 | W15: ・ | X15: ・ | Z15: 28 | AA15: 佐藤 直樹 | AD15: 様
A16: 22 | C16: ・ | D16: ・ | F16: 28 | G16: 坂田 和也 | J16: 様 | K16: 23 | M16: ・ | N16: ・ | P16: 28 | Q16: 川畑 秀平 | T16: 様 | U16: 24 | W16: ・ | X16: ・ | Z16: 0 | AA16: 工藤 健壽 | AD16: 様
A17: 25 | C17: ・ | D17: ・ | F17: 56 | G17: 蛯名 ナミエ | J17: 様 | K17: 26 | M17: ・ | N17: ・ | P17: 3 | Q17: 坂本 佳之 | T17: 様 | U17: 27 | W17: ・ | X17: ・ | Z17: 0 | AA17: 田口 トシ子 | AD17: 様
A18: 28 | C18: ・ | D18: ・ | F18: 56 | G18: 古里 順子 | J18: 様 | K18: 29 | M18: ・ | N18: ・ | P18: 7 | Q18: 佐々木 晴香 | T18: 様 | U18: 30 | W18: ・ | X18: ・ | Z18: 0 | AA18: 高村 加津子 | AD18: 様
A19: 31 | C19: ・ | D19: ・ | F19: 0 | G19: 萠出 克治 | J19: 様 | K19: 32 | M19: ・ | N19: ・ | P19: 28 | Q19: 成田 純広 | T19: 様 | U19: 33 | W19: ・ | X19: ・ | Z19: 0 | AA19: 瀬川 高雄 | AD19: 様
A20: 34 | C20: ・ | D20: ・ | F20: 35 | G20: 土橋 翔吾 | J20: 様 | K20: 35 | M20: ・ | N20: ・ | P20: 28 | Q20: 吉田 路代 | T20: 様 | U20: 36 | W20: ・ | X20: ・ | Z20: 0 | AA20: 沼端 ミセ | AD20: 様
A21: 37 | C21: ・ | D21: ・ | F21: 42 | G21: 新田 節子 | J21: 様 | K21: 38 | M21: ・ | N21: ・ | P21: 28 | Q21: 工藤 敏子 | T21: 様 | U21: 39 | W21: ・ | X21: ・ | Z21: 0 | AA21: 藤田 絢三 | AD21: 様
A22: 40 | C22: ・ | D22: ・ | F22: 56 | G22: 佐藤 勇男 | J22: 様 | K22: 41 | M22: ・ | N22: ・ | P22: 28 | Q22: 野坂 裕子 | T22: 様 | U22: 42 | W22: ・ | X22: ・ | Z22: 0 | AA22: 深町 栄美子 | AD22: 様
A23: 43 | C23: ・ | D23: ・ | F23: 28 | G23: 平 将浩 | J23: 様 | K23: 44 | M23: ・ | N23: ・ | P23: 42 | Q23: 高橋 正直 | T23: 様 | U23: 45 | W23: ・ | X23: ・ | Z23: 0 | AA23: 萠出 きのゑ | AD23: 様
A24: 46 | B24: ・ | D24: ・ | F24: 0 | G24: 柏木 詠紀 | J24: 様 | K24: 47 | M24: ・ | N24: ・ | P24: 30 | Q24: 成田 陸翔 | T24: 様 | U24: 48 | W24: ・ | X24: ・ | Z24: 0 | AA24: 渡辺 クニ | AD24: 様
A25: 49 | C25: ・ | D25: ・ | F25: 30 | G25: 柏木 霞邑 | J25: 様 | K25: 50 | M25: ・ | N25: ・ | P25: 30 | Q25: 市村 実百南 | T25: 様 | U25: 51 | W25: ・ | X25: ・ | Z25: 0 | AA25: 坂本 政勝 | AD25: 様
A26: 52 | C26: ・ | D26: ・ | F26: 7 | G26: 鶴ケ崎 莉理子 | J26: 様 | K26: 53 | M26: ・ | N26: ・ | P26: 30 | Q26: 黒川 日々人 | T26: 様 | U26: 54 | W26: ・ | X26: ・ | Z26: 21 | AA26: 杉本 英春 | AD26: 様
A27: 55 | C27: ・ | D27: ・ | F27: 30 | G27: 野坂 翔 | J27: 様 | K27: 56 | M27: ・ | N27: ・ | P27: 14 | Q27: 堀切 乃愛 | T27: 様 | U27: 57 | W27: ・ | X27: ・ | Z27: 0 | AA27: 中村 としゑ | AD27: 様
A28: 58 | C28: ・ | D28: ・ | F28: 12 | G28: 蛯名 壱也 | J28: 様 | K28: 59 | L28: ・ | N28: ・ | P28: 0 | Q28: 鳥谷部 直樹 | T28: 様 | U28: 60 | W28: ・ | X28: ・ | Z28: 28 | AA28: 中村 きく | AD28: 様
A29: 61 | C29: ・ | D29: ・ | F29: 30 | G29: 関川 悦子 | J29: 様 | K29: 62 | T29: 様 | U29: 63 | AD29: 様
A30: 外来患者数 | E30: 新： | F30: =COUNTIF(B9:B29,"・")+COUNTIF(L9:L29,"・")+COUNTIF(V9:V29,"・") -> 3 | H30: 名 | I30: 再： | J30: =COUNTIF(C9:C29,"・")+COUNTIF(M9:M29,"・")+COUNTIF(W9:W29,"・") -> 58 | L30: 名 | M30: 計： | N30: =SUM(F30:K30) -> 61 | Q30: 名 | R30: （ | S30: 精： | T30: =COUNTIF(D9:D29,"・")+COUNTIF(N9:N29,"・")+COUNTIF(X9:X29,"・") -> 60 | W30: 名 | X30: ・ | Y30: 内： | Z30: =COUNTIF(E9:E29,"・")+COUNTIF(O9:O29,"・")+COUNTIF(Y9:Y29,"・") -> 1 | AC30: 名 | AD30: ）
A32: 紹介患者様氏名 | F32: 紹介先 | K32: 逆紹介患者様氏名 | P32: 紹介元 | U32: 処置実施者 | AA32: 処置内容
E33: 様 | O33: 様 | U33: 中村 きく | Z33: 様 | AA33: インフル予防接種
A34: 本日の検査 | F34: 検査内容 | K34: 処置実施者 | P34: 処置内容 | U34: 佐々木 快翔 | Z34: 様 | AA34: インフル予防接種
A35: 鳥谷部 直樹 | E35: 様 | F35: CMI | O35: 様 | Z35: 様
E36: 様 | O36: 様 | U36: 点検項目
E37: 様 | O37: 様 | U37: 項目 | Z37: 時間 | AC37: 点検者
A38: 発熱 | F38: 下痢 | K38: 風邪薬 | P38: 男性：27 | U38: 医療廃棄物 | Y38: 0.75 | AB38: 柳田 美雪
A39: 0 | F39: 0 | K39: 0 | P39: 女性：34 | U39: 戸締り | Y39: 0.75 | AB39: ='6'!AB49:AD49 -> 中村 恵理子
A41: 備考欄 | C41: （連絡事項・処方変更・その他）
G42: 特記なし
G43: 柳田

Sheet 15
B1: クリニック 日 誌 | H1: 令和 | J1: ='6'!J1 -> 2 | K1: 年 | L1: ='1'!L1 -> 12 | M1: 月 | N1: 15 | O1: 日 | Q1: （ | R1: 火 | S1: ） | V1: COO | Y1: IOO | AB1: AOM
A3: 勤務者名
A4: ='6'!A4:F4 -> 中村 恵理子 | G4: 日 | I4: 柳田 美雪 | N4: 日 | Q4: 診察室 | W4: 外来担当医 | Z4: 外来介助者
A5: 石原 恵海 | G5: 日 | I5: 石谷 美代子 | N5: 欠 | Q5: 第１診察室 | U5: 千葉 潜 | Z5: 柳田・石原
Q6: 第２診察室
B8: 新 | C8: 再 | D8: 精 | E8: 内 | F8: 処 | G8: 患者様氏名 | L8: 新 | M8: 再 | N8: 精 | O8: 内 | P8: 処 | Q8: 患者様氏名 | V8: 新 | W8: 再 | X8: 精 | Y8: 内 | Z8: 処 | AA8: 患者様氏名
A9: 1 | C9: ・ | D9: ・ | F9: 56 | G9: 榊 重志 | J9: 様 | K9: 2 | M9: ・ | N9: ・ | P9: 28 | Q9: 安村 恵 | T9: 様 | U9: 3 | W9: ・ | X9: ・ | Z9: 30 | AA9: 中村 ミヤ | AD9: 様
A10: 4 | C10: ・ | D10: ・ | F10: 35 | G10: 日下 勉 | J10: 様 | K10: 5 | M10: ・ | N10: ・ | P10: 28 | Q10: 沼田 トキ | T10: 様 | U10: 6 | W10: ・ | X10: ・ | Z10: 28 | AA10: 熊崎 ユウ子 | AD10: 様
A11: 7 | C11: ・ | D11: ・ | F11: 28 | G11: 小橋 裕見子 | J11: 様 | K11: 8 | M11: ・ | N11: ・ | P11: 30 | Q11: 武井 ツセ | T11: 様 | U11: 9 | W11: ・ | X11: ・ | Z11: 21 | AA11: 町屋 ヤエ | AD11: 様
A12: 10 | C12: ・ | D12: ・ | F12: 28 | G12: 対馬 まき子 | J12: 様 | K12: 11 | M12: ・ | N12: ・ | P12: 28 | Q12: 村舘 博輝 | T12: 様 | U12: 12 | W12: ・ | X12: ・ | Z12: 7 | AA12: 佐藤 市真 | AD12: 様
A13: 13 | C13: ・ | D13: ・ | F13: 28 | G13: 吉田 めぐみ | J13: 様 | K13: 14 | M13: ・ | N13: ・ | P13: 60 | Q13: 山崎 新吾 | T13: 様 | U13: 15 | W13: ・ | X13: ・ | Z13: 0 | AA13: 工藤 健壽 | AD13: 様
A14: 16 | C14: ・ | D14: ・ | F14: 28 | G14: 三浦 年男 | J14: 様 | K14: 17 | M14: ・ | N14: ・ | P14: 28 | Q14: 工藤 利子 | T14: 様 | U14: 18 | W14: ・ | X14: ・ | Z14: 0 | AA14: 田口 トシ子 | AD14: 様
A15: 19 | C15: ・ | D15: ・ | F15: 28 | G15: 中村 実樹 | J15: 様 | K15: 20 | M15: ・ | N15: ・ | P15: 28 | Q15: 河村 幸祐 | T15: 様 | U15: 21 | W15: ・ | X15: ・ | Z15: 0 | AA15: 高村 加津子 | AD15: 様
A16: 22 | C16: ・ | D16: ・ | F16: 28 | G16: 中村 ミサ | J16: 様 | K16: 23 | M16: ・ | N16: ・ | P16: 28 | Q16: 下川原 昭子 | T16: 様 | U16: 24 | W16: ・ | X16: ・ | Z16: 0 | AA16: 萠出 きのゑ | AD16: 様
A17: 25 | C17: ・ | D17: ・ | F17: 56 | G17: 山本 トヨ | J17: 様 | K17: 26 | M17: ・ | N17: ・ | P17: 30 | Q17: 小向 忍 | T17: 様 | U17: 27 | W17: ・ | X17: ・ | Z17: 0 | AA17: 萠出 克治 | AD17: 様
A18: 28 | C18: ・ | D18: ・ | F18: 28 | G18: 田辺 京子 | J18: 様 | K18: 29 | M18: ・ | N18: ・ | P18: 7 | Q18: 山岡 裕花 | T18: 様 | U18: 30 | W18: ・ | X18: ・ | Z18: 0 | AA18: 藤田 絢三 | AD18: 様
A19: 31 | C19: ・ | D19: ・ | F19: 30 | G19: 角 茜莉 | J19: 様 | K19: 32 | M19: ・ | N19: ・ | P19: 30 | Q19: 菅原 百合子 | T19: 様 | U19: 33 | W19: ・ | X19: ・ | Z19: 0 | AA19: 鈴木 寛二 | AD19: 様
