Workbook

Sheet 1
B1: クリニック 日 誌 | H1: 令和 | J1: 2 | K1: 年 | L1: 8 | M1: 月 | N1: 1 | O1: 日 | Q1: （ | S1: ） | V1: COO | Y1: IOO | AB1: AOM
A3: 勤務者名
A4: 中村 恵理子 | G4: 日 | I4: 柳田 美雪 | N4: 日 | Q4: 診察室 | W4: 外来担当医 | Z4: 外来介助者
A5: 石原 恵海 | G5: 日 | Q5: 第１診察室 | Z5: 柳田・石原
Q6: 第２診察室
B8: 新 | C8: 再 | D8: 精 | E8: 内 | F8: 処 | G8: 患者様氏名 | L8: 新 | M8: 再 | N8: 精 | O8: 内 | P8: 処 | Q8: 患者様氏名 | V8: 新 | W8: 再 | X8: 精 | Y8: 内 | Z8: 処 | AA8: 患者様氏名
A9: 1 | J9: 様 | K9: 2 | T9: 様 | U9: 3 | AD9: 様
A10: 4 | J10: 様 | K10: 5 | T10: 様 | U10: 6 | AD10: 様
A11: 7 | J11: 様 | K11: 8 | T11: 様 | U11: 9 | AD11: 様
A12: 10 | J12: 様 | K12: 11 | T12: 様 | U12: 12 | AD12: 様
A13: 13 | J13: 様 | K13: 14 | T13: 様 | U13: 15 | AD13: 様
A14: 16 | J14: 様 | K14: 17 | T14: 様 | U14: 18 | AD14: 様
A15: 19 | J15: 様 | K15: 20 | T15: 様 | U15: 21 | AD15: 様
A16: 22 | J16: 様 | K16: 23 | T16: 様 | U16: 24 | AD16: 様
A17: 25 | J17: 様 | K17: 26 | T17: 様 | U17: 27 | AD17: 様
A18: 28 | J18: 様 | K18: 29 | T18: 様 | U18: 30 | AD18: 様
A19: 31 | J19: 様 | K19: 32 | T19: 様 | U19: 33 | AD19: 様
A20: 34 | J20: 様 | K20: 35 | T20: 様 | U20: 36 | AD20: 様
... A33: 73 | J33: 様 | K33: 74 | T33: 様 | U33: 75 | AD33: 様
A34: 外来患者数 | E34: 新： | F34: =COUNTIF(B9:B33,"・")+COUNTIF(L9:L33,"・")+COUNTIF(V9:V33,"・") -> 0 | H34: 名 | I34: 再： | J34: =COUNTIF(C9:C33,"・")+COUNTIF(M9:M33,"・")+COUNTIF(W9:W33,"・") -> 0 | L34: 名 | M34: 計： | N34: =SUM(F34:K34) -> 0 | Q34: 名 | R34: （ | S34: 精： | T34: =COUNTIF(D9:D33,"・")+COUNTIF(N9:N33,"・")+COUNTIF(X9:X33,"・") -> 0 | W34: 名 | X34: ・ | Y34: 内： | Z34: =COUNTIF(E9:E33,"・")+COUNTIF(O9:O33,"・")+COUNTIF(Y9:Y33,"・") -> 0 | AC34: 名 | AD34: ）
A36: 紹介患者様氏名 | F36: 紹介先 | K36: 逆紹介患者様氏名 | P36: 紹介元 | U36: 処置実施者 | AA36: 処置内容
E37: 様 | O37: 様 | Z37: 様
E38: 様 | O38: 様 | Z38: 様
E39: 様 | O39: 様 | Z39: 様
E40: 様 | O40: 様 | Z40: 様
E41: 様 | O41: 様 | Z41: 様
A42: 本日の検査 | F42: 検査内容 | K42: 処置実施者 | P42: 処置内容 | Z42: 様
E43: 様 | O43: 様 | Z43: 様
E44: 様 | O44: 様 | Z44: 様
E45: 様 | O45: 様 | Z45: 様
E46: 様 | O46: 様 | U46: 点検項目
E47: 様 | O47: 様 | U47: 項目 | Z47: 時間 | AC47: 点検者
A48: 発熱 | F48: 下痢 | K48: 風邪薬 | P48: 男性： | U48: 医療廃棄物 | Y48: 0.75
A49: 0 | F49: 0 | K49: 0 | P49: 女性： | U49: 戸締り | Y49: 0.75 | AB49: 中村 恵理子
A51: 備考欄 | C51: （連絡事項・処方変更・その他）

Sheet 2
B1: クリニック 日 誌 | H1: 令和 | J1: ='1'!J1 -> 2 | K1: 年 | L1: ='1'!L1 -> 8 | M1: 月 | N1: 2 | O1: 日 | Q1: （ | S1: ） | V1: COO | Y1: IOO | AB1: AOM
A3: 勤務者名
A4: ='1'!A4:F4 -> 中村 恵理子 | G4: 日 | I4: 柳田 美雪 | N4: 日 | Q4: 診察室 | W4: 外来担当医 | Z4: 外来介助者
A5: 石原 恵海 | G5: 日 | Q5: 第１診察室 | Z5: 柳田・石原
Q6: 第２診察室
B8: 新 | C8: 再 | D8: 精 | E8: 内 | F8: 処 | G8: 患者様氏名 | L8: 新 | M8: 再 | N8: 精 | O8: 内 | P8: 処 | Q8: 患者様氏名 | V8: 新 | W8: 再 | X8: 精 | Y8: 内 | Z8: 処 | AA8: 患者様氏名
A9: 1 | J9: 様 | K9: 2 | T9: 様 | U9: 3 | AD9: 様
A10: 4 | J10: 様 | K10: 5 | T10: 様 | U10: 6 | AD10: 様
A11: 7 | J11: 様 | K11: 8 | T11: 様 | U11: 9 | AD11: 様
A12: 10 | J12: 様 | K12: 11 | T12: 様 | U12: 12 | AD12: 様
A13: 13 | J13: 様 | K13: 14 | T13: 様 | U13: 15 | AD13: 様
A14: 16 | J14: 様 | K14: 17 | T14: 様 | U14: 18 | AD14: 様
A15: 19 | J15: 様 | K15: 20 | T15: 様 | U15: 21 | AD15: 様
A16: 22 | J16: 様 | K16: 23 | T16: 様 | U16: 24 | AD16: 様
A17: 25 | J17: 様 | K17: 26 | T17: 様 | U17: 27 | AD17: 様
A18: 28 | J18: 様 | K18: 29 | T18: 様 | U18: 30 | AD18: 様
A19: 31 | J19: 様 | K19: 32 | T19: 様 | U19: 33 | AD19: 様
A20: 34 | J20: 様 | K20: 35 | T20: 様 | U20: 36 | AD20: 様
... A33: 73 | J33: 様 | K33: 74 | T33: 様 | U33: 75 | AD33: 様
A34: 外来患者数 | E34: 新： | F34: =COUNTIF(B9:B33,"・")+COUNTIF(L9:L33,"・")+COUNTIF(V9:V33,"・") -> 0 | H34: 名 | I34: 再： | J34: =COUNTIF(C9:C33,"・")+COUNTIF(M9:M33,"・")+COUNTIF(W9:W33,"・") -> 0 | L34: 名 | M34: 計： | N34: =SUM(F34:K34) -> 0 | Q34: 名 | R34: （ | S34: 精： | T34: =COUNTIF(D9:D33,"・")+COUNTIF(N9:N33,"・")+COUNTIF(X9:X33,"・") -> 0 | W34: 名 | X34: ・ | Y34: 内： | Z34: =COUNTIF(E9:E33,"・")+COUNTIF(O9:O33,"・")+COUNTIF(Y9:Y33,"・") -> 0 | AC34: 名 | AD34: ）
A36: 紹介患者様氏名 | F36: 紹介先 | K36: 逆紹介患者様氏名 | P36: 紹介元 | U36: 処置実施者 | AA36: 処置内容
E37: 様 | O37: 様 | Z37: 様
E38: 様 | O38: 様 | Z38: 様
E39: 様 | O39: 様 | Z39: 様
E40: 様 | O40: 様 | Z40: 様
E41: 様 | O41: 様 | Z41: 様
A42: 本日の検査 | F42: 検査内容 | K42: 処置実施者 | P42: 処置内容 | Z42: 様
E43: 様 | O43: 様 | Z43: 様
E44: 様 | O44: 様 | Z44: 様
E45: 様 | O45: 様 | Z45: 様
E46: 様 | O46: 様 | U46: 点検項目
E47: 様 | O47: 様 | U47: 項目 | Z47: 時間 | AC47: 点検者
A48: 発熱 | F48: 下痢 | K48: 風邪薬 | P48: 男性： | U48: 医療廃棄物 | Y48: 0.75
A49: 0 | F49: 0 | K49: 0 | P49: 女性： | U49: 戸締り | Y49: 0.75 | AB49: ='1'!AB49:AD49 -> 中村 恵理子
A51: 備考欄 | C51: （連絡事項・処方変更・その他）

Sheet 3
B1: クリニック 日 誌 | H1: 令和 | J1: ='1'!J1 -> 2 | K1: 年 | L1: ='1'!L1 -> 8 | M1: 月 | N1: 3 | O1: 日 | Q1: （ | R1: 月 | S1: ） | V1: COO | Y1: IOO | AB1: AOM
A3: 勤務者名
A4: ='1'!A4:F4 -> 中村 恵理子 | G4: 日 | I4: 柳田 美雪 | N4: 日 | Q4: 診察室 | W4: 外来担当医 | Z4: 外来介助者
A5: 石原 恵海 | G5: 日 | I5: 石谷 美代子 | N5: 日 | Q5: 第１診察室 | U5: 馬渡 晃弘 | Z5: 柳田・石原
Q6: 第２診察室 | U6: 千葉 良 | Z6: 柳田・石原
B8: 新 | C8: 再 | D8: 精 | E8: 内 | F8: 処 | G8: 患者様氏名 | L8: 新 | M8: 再 | N8: 精 | O8: 内 | P8: 処 | Q8: 患者様氏名 | V8: 新 | W8: 再 | X8: 精 | Y8: 内 | Z8: 処 | AA8: 患者様氏名
A9: 1 | C9: ・ | D9: ・ | F9: 28 | G9: 和田 ハルエ | J9: 様 | K9: 2 | M9: ・ | N9: ・ | P9: 21 | Q9: 木村 豊之 | T9: 様 | U9: 3 | W9: ・ | X9: ・ | Z9: 0 | AA9: 佐々木 あき | AD9: 様
A10: 4 | C10: ・ | D10: ・ | F10: 56 | G10: 織笠 重作 | J10: 様 | K10: 5 | M10: ・ | N10: ・ | P10: 20 | Q10: 野月 良江 | T10: 様 | U10: 6 | W10: ・ | X10: ・ | Z10: 30 | AA10: 冨田 空 | AD10: 様
A11: 7 | C11: ・ | D11: ・ | F11: 28 | G11: 沼山 深雪 | J11: 様 | K11: 8 | M11: ・ | N11: ・ | P11: 14 | Q11: 坪 和昭 | T11: 様 | U11: 9 | W11: ・ | X11: ・ | Z11: 28 | AA11: 畠山 由美子 | AD11: 様
A12: 10 | C12: ・ | D12: ・ | F12: 56 | G12: 是川 次友 | J12: 様 | K12: 11 | M12: ・ | N12: ・ | P12: 28 | Q12: 新田 節子 | T12: 様 | U12: 12 | W12: ・ | X12: ・ | Z12: 28 | AA12: 北上 貴仁 | AD12: 様
A13: 13 | C13: ・ | D13: ・ | F13: 56 | G13: 目代 幸枝 | J13: 様 | K13: 14 | M13: ・ | N13: ・ | P13: 30 | Q13: 野坂 翔 | T13: 様 | U13: 15 | W13: ・ | X13: ・ | Z13: 28 | AA13: 吉田 路代 | AD13: 様
A14: 16 | C14: ・ | D14: ・ | F14: 56 | G14: 田村 一重 | J14: 様 | K14: 17 | M14: ・ | N14: ・ | P14: 30 | Q14: 柳 尊丸 | T14: 様 | U14: 18 | W14: ・ | X14: ・ | Z14: 56 | AA14: 加賀 遥大 | AD14: 様
A15: 19 | C15: ・ | E15: ・ | F15: 60 | G15: 相内 照美 | J15: 様 | K15: 20 | M15: ・ | N15: ・ | P15: 56 | Q15: 田屋 サヨ | T15: 様 | U15: 21 | W15: ・ | X15: ・ | Z15: 3 | AA15: 坂本 佳之 | AD15: 様
A16: 22 | C16: ・ | D16: ・ | F16: 42 | G16: 吉村 直樹 | J16: 様 | K16: 23 | M16: ・ | N16: ・ | P16: 28 | Q16: 石橋 満里奈 | T16: 様 | U16: 24 | W16: ・ | X16: ・ | Z16: 30 | AA16: 高橋 真颯 | AD16: 様
A17: 25 | C17: ・ | D17: ・ | F17: 56 | G17: 古川 忍 | J17: 様 | K17: 26 | M17: ・ | N17: ・ | P17: 28 | Q17: 沼山 明 | T17: 様 | U17: 27 | W17: ・ | X17: ・ | Z17: 56 | AA17: 菅原 仙一 | AD17: 様
A18: 28 | C18: ・ | D18: ・ | F18: 28 | G18: 松森 英作 | J18: 様 | K18: 29 | M18: ・ | N18: ・ | P18: 28 | Q18: 沢村 まさえ | T18: 様 | U18: 30 | W18: ・ | X18: ・ | Z18: 35 | AA18: 江渡 野乃花 | AD18: 様
A19: 31 | C19: ・ | D19: ・ | F19: 0 | G19: 三浦 剛 | J19: 様 | K19: 32 | M19: ・ | N19: ・ | P19: 14 | Q19: 高松 奎虹 | T19: 様 | U19: 33 | W19: ・ | X19: ・ | Z19: 28 | AA19: 甲田 ミドリ | AD19: 様
A20: 34 | C20: ・ | D20: ・ | F20: 84 | G20: 藤島 かおり | J20: 様 | K20: 35 | M20: ・ | N20: ・ | P20: 28 | Q20: 工藤 敏子 | T20: 様 | U20: 36 | W20: ・ | X20: ・ | Z20: 28 | AA20: 鈴木 康真 | AD20: 様
A21: 37 | C21: ・ | D21: ・ | F21: 28 | G21: 野坂 裕子 | J21: 様 | K21: 38 | M21: ・ | N21: ・ | P21: 28 | Q21: 大野 政彦 | T21: 様 | U21: 39 | W21: ・ | X21: ・ | Z21: 60 | AA21: 星川 和子 | AD21: 様
A22: 40 | C22: ・ | D22: ・ | F22: 30 | G22: 佐藤 務 | J22: 様 | K22: 41 | M22: ・ | N22: ・ | P22: 56 | Q22: 林 礼子 | T22: 様 | U22: 42 | W22: ・ | X22: ・ | Z22: 21 | AA22: 原 奈々絵 | AD22: 様
A23: 43 | C23: ・ | D23: ・ | F23: 28 | G23: 大村 恵美 | J23: 様 | K23: 44 | M23: ・ | N23: ・ | P23: 28 | Q23: 沼田 博徳 | T23: 様 | U23: 45 | W23: ・ | X23: ・ | Z23: 0 | AA23: 高村 加津子 | AD23: 様
A24: 46 | C24: ・ | D24: ・ | F24: 56 | G24: 松橋 芳子 | J24: 様 | K24: 47 | M24: ・ | N24: ・ | P24: 0 | Q24: 小笠原 由美子 | T24: 様 | U24: 48 | W24: ・ | X24: ・ | Z24: 0 | AA24: 深町 栄美子 | AD24: 様
A25: 49 | C25: ・ | D25: ・ | F25: 28 | G25: 川村 ミエ | J25: 様 | K25: 50 | M25: ・ | N25: ・ | P25: 28 | Q25: 山縣 堅一 | T25: 様 | U25: 51 | W25: ・ | X25: ・ | Z25: 0 | AA25: 萠出 きのゑ | AD25: 様
A26: 52 | C26: ・ | D26: ・ | F26: 30 | G26: 沼山 武美 | J26: 様 | K26: 53 | M26: ・ | N26: ・ | P26: 28 | Q26: 川村 みせ | T26: 様 | U26: 54 | W26: ・ | X26: ・ | Z26: 0 | AA26: 萠出 克治 | AD26: 様
A27: 55 | C27: ・ | D27: ・ | F27: 28 | G27: 千葉 綾美 | J27: 様 | K27: 56 | M27: ・ | N27: ・ | P27: 35 | Q27: 岩森 美奈 | T27: 様 | U27: 57 | W27: ・ | X27: ・ | Z27: 0 | AA27: 沼端 ミセ | AD27: 様
... A33: 73 | C33: ・ | D33: ・ | F33: 56 | G33: 小笠原 諒 | J33: 様 | K33: 74 | M33: ・ | N33: ・ | P33: 30 | Q33: 山田 一輝 | T33: 様 | U33: 75 | W33: ・ | X33: ・ | Z33: 30 | AA33: 二宮 実里 | AD33: 様
A34: 76 | C34: ・ | D34: ・ | F34: 30 | G34: 岩脇 利旺 | J34: 様 | K34: 77 | M34: ・ | N34: ・ | P34: 30 | Q34: 蛯沢 鈴音波 | T34: 様 | U34: 76 | AD34: 様
A35: 外来患者数 | E35: 新： | F35: =COUNTIF(B9:B33,"・")+COUNTIF(L9:L33,"・")+COUNTIF(V9:V33,"・") -> 0 | H35: 名 | I35: 再： | J35: =COUNTIF(C9:C33,"・")+COUNTIF(M9:M33,"・")+COUNTIF(W9:W33,"・") -> 75 | L35: 名 | M35: 計： | N35: =SUM(F35:K35) -> 75 | Q35: 名 | R35: （ | S35: 精： | T35: =COUNTIF(D9:D33,"・")+COUNTIF(N9:N33,"・")+COUNTIF(X9:X33,"・") -> 74 | W35: 名 | X35: ・ | Y35: 内： | Z35: =COUNTIF(E9:E33,"・")+COUNTIF(O9:O33,"・")+COUNTIF(Y9:Y33,"・") -> 1 | AC35: 名 | AD35: ）
A37: 紹介患者様氏名 | F37: 紹介先 | K37: 逆紹介患者様氏名 | P37: 紹介元 | U37: 処置実施者 | AA37: 処置内容
E38: 様 | O38: 様 | Z38: 様
A39: 本日の検査 | F39: 検査内容 | K39: 処置実施者 | P39: 処置内容 | Z39: 様
A40: 佐々木 あき | E40: 様 | F40: 血液検査 | K40: 小笠原 由美子 | O40: 様 | P40: エビリファイ(400㎎) 1ｷｯﾄ | Z40: 様
E41: 様 | O41: 様 | U41: 点検項目
E42: 様 | O42: 様 | U42: 項目 | Z42: 時間 | AC42: 点検者
A43: 発熱 | F43: 下痢 | K43: 風邪薬 | P43: 男性：32 | U43: 医療廃棄物 | Y43: 0.75 | AB43: 石原 恵海
A44: 0 | F44: 0 | K44: 0 | P44: 女性：45 | U44: 戸締り | Y44: 0.75 | AB44: 石谷 美代子
A46: 備考欄 | C46: （連絡事項・処方変更・その他）
G47: 特になし
G48: 石原

Sheet 4
B1: クリニック 日 誌 | H1: 令和 | J1: ='1'!J1 -> 2 | K1: 年 | L1: ='1'!L1 -> 8 | M1: 月 | N1: 4 | O1: 日 | Q1: （ | R1: 火 | S1: ） | V1: COO | Y1: IOO | AB1: AOM
A3: 勤務者名
A4: ='1'!A4:F4 -> 中村 恵理子 | G4: 早 | I4: 柳田 美雪 | N4: 日 | Q4: 診察室 | W4: 外来担当医 | Z4: 外来介助者
A5: 石原 恵海 | G5: 日 | I5: 石谷 美代子 | N5: 日 | Q5: 第１診察室 | U5: 千葉 潜 | Z5: 柳田・石原
A6: 鳴海 彩香 | G6: 日 | I6: 神 圭輔 | N6: 日 | Q6: 第２診察室 | U6: 千葉 良 | Z6: 柳田・石原
B8: 新 | C8: 再 | D8: 精 | E8: 内 | F8: 処 | G8: 患者様氏名 | L8: 新 | M8: 再 | N8: 精 | O8: 内 | P8: 処 | Q8: 患者様氏名 | V8: 新 | W8: 再 | X8: 精 | Y8: 内 | Z8: 処 | AA8: 患者様氏名
A9: 1 | C9: ・ | D9: ・ | F9: 14 | G9: 新山 優衣 | J9: 様 | K9: 2 | M9: ・ | N9: ・ | P9: 0 | Q9: 遠嶋 千鶴 | T9: 様 | U9: 3 | V9: ・ | X9: ・ | Z9: 0 | AA9: 甲田 優弥 | AD9: 様
A10: 4 | C10: ・ | D10: ・ | F10: 14 | G10: 昆 早葵子 | J10: 様 | K10: 5 | M10: ・ | N10: ・ | P10: 28 | Q10: 宮崎 真一 | T10: 様 | U10: 6 | V10: ・ | X10: ・ | Z10: 0 | AA10: 和田 勇治 | AD10: 様
A11: 7 | C11: ・ | D11: ・ | F11: 28 | G11: 関川 隆子 | J11: 様 | K11: 8 | M11: ・ | N11: ・ | P11: 28 | Q11: 対馬 まき子 | T11: 様 | U11: 9 | W11: ・ | X11: ・ | Z11: 30 | AA11: 對馬 穣 | AD11: 様
A12: 10 | C12: ・ | D12: ・ | F12: 28 | G12: 尾形 志津香 | J12: 様 | K12: 11 | M12: ・ | N12: ・ | P12: 28 | Q12: 和田 懸 | T12: 様 | U12: 12 | W12: ・ | X12: ・ | Z12: 24 | AA12: 福田 輝美 | AD12: 様
A13: 13 | C13: ・ | D13: ・ | F13: 28 | G13: 古川 美姫 | J13: 様 | K13: 14 | M13: ・ | N13: ・ | P13: 28 | Q13: 高橋 ゆり子 | T13: 様 | U13: 15 | W13: ・ | X13: ・ | Z13: 21 | AA13: 田中 久美子 | AD13: 様
A14: 16 | C14: ・ | D14: ・ | F14: 28 | G14: 吹越 幸子 | J14: 様 | K14: 17 | M14: ・ | N14: ・ | P14: 28 | Q14: 後村 三根子 | T14: 様 | U14: 18 | W14: ・ | X14: ・ | Z14: 28 | AA14: シャムズバス | AD14: 様
A15: 19 | C15: ・ | D15: ・ | F15: 14 | G15: 武良 ミセ | J15: 様 | K15: 20 | M15: ・ | N15: ・ | P15: 28 | Q15: 井崎 恭子 | T15: 様 | U15: 21 | W15: ・ | X15: ・ | Z15: 28 | AA15: 大下内 テル | AD15: 様
A16: 22 | C16: ・ | D16: ・ | F16: 28 | G16: 武内 隆三 | J16: 様 | K16: 23 | M16: ・ | N16: ・ | P16: 30 | Q16: 田中 真由美 | T16: 様 | U16: 24 | W16: ・ | X16: ・ | Z16: 0 | AA16: 佐々木 政夫 | AD16: 様
A17: 25 | C17: ・ | D17: ・ | F17: 28 | G17: 川守田 智恵子 | J17: 様 | K17: 26 | M17: ・ | N17: ・ | P17: 28 | Q17: 種市 スエ | T17: 様 | U17: 27 | W17: ・ | X17: ・ | Z17: 28 | AA17: 鈴木 寛二 | AD17: 様
A18: 28 | C18: ・ | D18: ・ | F18: 28 | G18: 浄法寺 ミツエ | J18: 様 | K18: 29 | M18: ・ | N18: ・ | P18: 28 | Q18: 山崎 敦子 | T18: 様 | U18: 30 | W18: ・ | X18: ・ | Z18: 28 | AA18: 工藤 健壽 | AD18: 様
A19: 31 | C19: ・ | D19: ・ | F19: 28 | G19: 吉田 めぐみ | J19: 様 | K19: 32 | M19: ・ | N19: ・ | P19: 28 | Q19: 中澤 慶太 | T19: 様 | U19: 33 | W19: ・ | X19: ・ | Z19: 0 | AA19: 高村 加津子 | AD19: 様
A20: 34 | C20: ・ | D20: ・ | F20: 28 | G20: 宮古 月菜 | J20: 様 | K20: 35 | M20: ・ | N20: ・ | P20: 28 | Q20: 石岡 裕子 | T20: 様 | U20: 36 | W20: ・ | X20: ・ | Z20: 0 | AA20: 瀬川 高雄 | AD20: 様
A21: 37 | C21: ・ | D21: ・ | F21: 28 | G21: 小林 美智子 | J21: 様 | K21: 38 | M21: ・ | N21: ・ | P21: 25 | Q21: 三瓶 政行 | T21: 様 | U21: 39 | W21: ・ | X21: ・ | Z21: 0 | AA21: 坂本 政勝 | AD21: 様
A22: 40 | C22: ・ | D22: ・ | F22: 28 | G22: 熊崎 ユウ子 | J22: 様 | K22: 41 | M22: ・ | N22: ・ | P22: 28 | Q22: 古谷 京子 | T22: 様 | U22: 42 | W22: ・ | X22: ・ | Z22: 0 | AA22: 杉元 香菜子 | AD22: 様
... A24: 46 | C24: ・ | D24: ・ | F24: 28 | G24: 半澤 令 | J24: 様 | K24: 47 | M24: ・ | N24: ・ | P24: 0 | Q24: 遠嶋 剛 | T24: 様 | U24: 48 | W24: ・ | X24: ・ | Z24: 0 | AA24: 萠出 克治 | AD24: 様
A25: 49 | B25: ・ | D25: ・ | F25: 28 | G25: 福田 真由子 | J25: 様 | K25: 50 | M25: ・ | N25: ・ | P25: 28 | Q25: 二本柳 冨美子 | T25: 様 | U25: 51 | W25: ・ | X25: ・ | Z25: 0 | AA25: 田口 トシ子 | AD25: 様
A26: 52 | C26: ・ | D26: ・ | F26: 14 | G26: 鈴木 勝子 | J26: 様 | K26: 53 | M26: ・ | N26: ・ | P26: 28 | Q26: 山崎 奈津子 | T26: 様 | U26: 54 | W26: ・ | X26: ・ | Z26: 28 | AA26: 小栗 健太郎 | AD26: 様
A27: 55 | B27: ・ | D27: ・ | F27: 7 | G27: 椎葉 千枝 | J27: 様 | K27: 56 | L27: ・ | N27: ・ | P27: 7 | Q27: 吉田 佑子 | T27: 様 | U27: 57 | W27: ・ | X27: ・ | Z27: 28 | AA27: 吉村 彩花 | AD27: 様
A28: 58 | C28: ・ | D28: ・ | F28: 14 | G28: 石ケ谷 數子 | J28: 様 | K28: 59 | M28: ・ | N28: ・ | P28: 60 | Q28: 月舘 ユリ | T28: 様 | U28: 60 | W28: ・ | X28: ・ | Z28: 28 | AA28: 野崎 丈大 | AD28: 様
A29: 61 | C29: ・ | D29: ・ | F29: 28 | G29: 山口 陽子 | J29: 様 | K29: 62 | M29: ・ | N29: ・ | P29: 15 | Q29: 橋本 オシエ | T29: 様 | U29: 63 | W29: ・ | X29: ・ | Z29: 0 | AA29: 石井 佐代子 | AD29: 様
A30: 64 | C30: ・ | D30: ・ | F30: 28 | G30: 鈴木 勝士 | J30: 様 | K30: 65 | M30: ・ | N30: ・ | P30: 7 | Q30: 山岡 裕花 | T30: 様 | U30: 66 | W30: ・ | X30: ・ | Z30: 0 | AA30: 駒澤 キヤ | AD30: 様
A31: 67 | C31: ・ | D31: ・ | F31: 14 | G31: 馬場 悠 | J31: 様 | K31: 68 | M31: ・ | N31: ・ | P31: 28 | Q31: 佐々木 富雄 | T31: 様 | U31: 69 | W31: ・ | X31: ・ | Z31: 0 | AA31: 水上 民一 | AD31: 様
A32: 70 | C32: ・ | D32: ・ | F32: 30 | G32: 小泉 さめ | J32: 様 | K32: 71 | M32: ・ | N32: ・ | P32: 21 | Q32: 角 節子 | T32: 様 | U32: 72 | W32: ・ | X32: ・ | AD32: 様
A33: 外来患者数 | E33: 新： | F33: =COUNTIF(B9:B32,"・")+COUNTIF(L9:L32,"・")+COUNTIF(V9:V32,"・") -> 5 | H33: 名 | I33: 再： | J33: =COUNTIF(C9:C32,"・")+COUNTIF(M9:M32,"・")+COUNTIF(W9:W32,"・") -> 67 | L33: 名 | M33: 計： | N33: =SUM(F33:K33) -> 72 | Q33: 名 | R33: （ | S33: 精： | T33: =COUNTIF(D9:D32,"・")+COUNTIF(N9:N32,"・")+COUNTIF(X9:X32,"・") -> 72 | W33: 名 | X33: ・ | Y33: 内： | Z33: =COUNTIF(E9:E32,"・")+COUNTIF(O9:O32,"・")+COUNTIF(Y9:Y32,"・") -> 0 | AC33: 名 | AD33: ）
A35: 紹介患者様氏名 | F35: 紹介先 | K35: 逆紹介患者様氏名 | P35: 紹介元 | U35: 本日の検査 | AA35: 検査内容
E36: 様 | K36: 和田 勇治 | O36: 様 | P36: 三沢市立病院 | U36: 古谷 京子 | Z36: 様 | AA36: 血液検査
A37: 本日の検査 | F37: 検査内容 | K37: 処置実施者 | P37: 処置内容 | Z37: 様
A38: 新山 優衣 | E38: 様 | F38: WAIS | K38: 鈴木 寛二 | O38: 様 | P38: ｾﾞﾌﾟﾘｵﾝ150mg １ｷｯﾄ | Z38: 様
A39: 井崎 恭子 | E39: 様 | F39: 血液検査 | O39: 様 | Z39: 様
A40: 橋本 オシエ | E40: 様 | F40: 血液検査 | O40: 様 | Z40: 様
A41: 月舘 ユリ | E41: 様 | F41: 血液検査 | O41: 様 | U41: 点検項目
A42: 和田 勇治 | E42: 様 | F42: HDS-R・MMSE・血液検査 | O42: 様 | U42: 項目 | Z42: 時間 | AC42: 点検者
A43: 発熱 | F43: 下痢 | K43: 風邪薬 | P43: 男性：20 | U43: 医療廃棄物 | Y43: 0.75 | AB43: 石原 恵海
A44: 0 | F44: 0 | K44: 0 | P44: 女性：51 | U44: 戸締り | Y44: 0.75 | AB44: 石谷 美代子
A46: 備考欄 | C46: （連絡事項・処方変更・その他）
G47: 特になし
G48: 石原

Sheet 5
B1: クリニック 日 誌 | H1: 令和 | J1: ='1'!J1 -> 2 | K1: 年 | L1: ='1'!L1 -> 8 | M1: 月 | N1: 5 | O1: 日 | Q1: （ | R1: 水 | S1: ） | V1: COO | Y1: IOO | AB1: AOM
A3: 勤務者名
A4: ='1'!A4:F4 -> 中村 恵理子 | G4: 日 | I4: 柳田 美雪 | N4: 日 | Q4: 診察室 | W4: 外来担当医 | Z4: 外来介助者
A5: 石原 恵海 | G5: 日 | I5: 石谷 美代子 | N5: 日 | Q5: 第１診察室 | U5: 千葉 潜 | Z5: 柳田・石原
A6: 鳴海 彩香 | G6: 日 | Q6: 第２診察室
B8: 新 | C8: 再 | D8: 精 | E8: 内 | F8: 処 | G8: 患者様氏名 | L8: 新 | M8: 再 | N8: 精 | O8: 内 | P8: 処 | Q8: 患者様氏名 | V8: 新 | W8: 再 | X8: 精 | Y8: 内 | Z8: 処 | AA8: 患者様氏名
A9: 1 | C9: ・ | D9: ・ | F9: 60 | G9: 山本 キワ | J9: 様 | K9: 2 | M9: ・ | N9: ・ | P9: 28 | Q9: 沖田 千喜子 | T9: 様 | U9: 3 | V9: ・ | X9: ・ | Z9: 14 | AA9: 橘 夕美 | AD9: 様
A10: 4 | C10: ・ | D10: ・ | F10: 60 | G10: 宮古 タツ | J10: 様 | K10: 5 | M10: ・ | N10: ・ | P10: 28 | Q10: 佐々木 りせ子 | T10: 様 | U10: 6 | W10: ・ | X10: ・ | Z10: 30 | AA10: 山田 敏 | AD10: 様
A11: 7 | C11: ・ | D11: ・ | F11: 28 | G11: 角 正一郎 | J11: 様 | K11: 8 | M11: ・ | N11: ・ | P11: 28 | Q11: 一戸 幸子 | T11: 様 | U11: 9 | W11: ・ | X11: ・ | Z11: 28 | AA11: 佐藤 喜子 | AD11: 様
A12: 10 | C12: ・ | D12: ・ | F12: 42 | G12: 川口 凌矢 | J12: 様 | K12: 11 | M12: ・ | N12: ・ | P12: 14 | Q12: 原田 千鴻 | T12: 様 | U12: 12 | W12: ・ | X12: ・ | Z12: 0 | AA12: 小川 サクラ | AD12: 様
A13: 13 | C13: ・ | D13: ・ | F13: 28 | G13: 小比券巻 千和子 | J13: 様 | K13: 14 | M13: ・ | N13: ・ | P13: 28 | Q13: 菅藤 麻美 | T13: 様 | U13: 15 | W13: ・ | X13: ・ | Z13: 28 | AA13: 橘 珠里 | AD13: 様
A14: 16 | C14: ・ | D14: ・ | F14: 28 | G14: 種市 紀子 | J14: 様 | K14: 17 | M14: ・ | N14: ・ | P14: 14 | Q14: 浦邊 健司 | T14: 様 | U14: 18 | W14: ・ | X14: ・ | Z14: 28 | AA14: 相坂 遥 | AD14: 様
A15: 19 | C15: ・ | D15: ・ | F15: 0 | G15: 川村 悠歌 | J15: 様 | K15: 20 | M15: ・ | N15: ・ | P15: 28 | Q15: 赤沼 信克 | T15: 様 | U15: 21 | W15: ・ | X15: ・ | Z15: 28 | AA15: 赤沼 拓朗 | AD15: 様
A16: 22 | C16: ・ | D16: ・ | F16: 60 | G16: 千葉 リチ子 | J16: 様 | K16: 23 | M16: ・ | N16: ・ | P16: 28 | Q16: 田口 トシ子 | T16: 様 | U16: 24 | W16: ・ | X16: ・ | Z16: 28 | AA16: 菊池 真実 | AD16: 様
A17: 25 | C17: ・ | D17: ・ | F17: 56 | G17: 鹿糠 望 | J17: 様 | K17: 26 | M17: ・ | N17: ・ | P17: 30 | Q17: 川久保 一茂 | T17: 様 | U17: 27 | W17: ・ | X17: ・ | Z17: 42 | AA17: 堀内 兼博 | AD17: 様
A18: 28 | C18: ・ | D18: ・ | F18: 28 | G18: 西澤 智穂 | J18: 様 | K18: 29 | M18: ・ | N18: ・ | P18: 28 | Q18: 中村 美香子 | T18: 様 | U18: 30 | W18: ・ | X18: ・ | Z18: 0 | AA18: 工藤 健壽 | AD18: 様
A19: 31 | C19: ・ | D19: ・ | F19: 28 | G19: 小橋 裕見子 | J19: 様 | K19: 32 | M19: ・ | N19: ・ | P19: 14 | Q19: 川村 魁斗 | T19: 様 | U19: 33 | W19: ・ | X19: ・ | Z19: 0 | AA19: 豊川 悦子 | AD19: 様
A20: 34 | C20: ・ | D20: ・ | F20: 28 | G20: 阿部 セツ子 | J20: 様 | K20: 35 | M20: ・ | N20: ・ | P20: 30 | Q20: 鈴木 敏信 | T20: 様 | U20: 36 | W20: ・ | X20: ・ | Z20: 0 | AA20: 高村 加津子 | AD20: 様
A21: 37 | C21: ・ | D21: ・ | F21: 28 | G21: 山崎 はなゑ | J21: 様 | K21: 38 | M21: ・ | N21: ・ | P21: 28 | Q21: 高山 かぢ子 | T21: 様 | U21: 39 | W21: ・ | X21: ・ | Z21: 0 | AA21: 坂本 政勝 | AD21: 様
... A30: 64 | C30: ・ | D30: ・ | F30: 28 | G30: 齊藤 満寿夫 | J30: 様 | K30: 65 | M30: ・ | N30: ・ | P30: 14 | Q30: 浪岡 淳哉 | T30: 様 | U30: 66 | W30: ・ | X30: ・ | Z30: 0 | AA30: 佐藤 初男 | AD30: 様
A31: 67 | C31: ・ | D31: ・ | F31: 14 | G31: 織笠 勝男 | J31: 様 | K31: 68 | M31: ・ | N31: ・ | P31: 21 | Q31: 山本 美津子 | T31: 様 | U31: 69 | W31: ・ | X31: ・ | AD31: 様
A32: 外来患者数 | E32: 新： | F32: =COUNTIF(B9:B31,"・")+COUNTIF(L9:L31,"・")+COUNTIF(V9:V31,"・") -> 1 | H32: 名 | I32: 再： | J32: =COUNTIF(C9:C31,"・")+COUNTIF(M9:M31,"・")+COUNTIF(W9:W31,"・") -> 68 | L32: 名 | M32: 計： | N32: =SUM(F32:K32) -> 69 | Q32: 名 | R32: （ | S32: 精： | T32: =COUNTIF(D9:D31,"・")+COUNTIF(N9:N31,"・")+COUNTIF(X9:X31,"・") -> 69 | W32: 名 | X32: ・ | Y32: 内： | Z32: =COUNTIF(E9:E31,"・")+COUNTIF(O9:O31,"・")+COUNTIF(Y9:Y31,"・") -> 0 | AC32: 名 | AD32: ）
A34: 紹介患者様氏名 | F34: 紹介先 | K34: 逆紹介患者様氏名 | P34: 紹介元 | U34: 本日の検査 | AA34: 検査内容
E35: 様 | K35: 橘 夕美 | O35: 様 | P35: 麻美レディースクリニック | U35: 浦邊 健司 | Z35: 様 | AA35: 血液検査
E36: 様 | O36: 様 | U36: 橘 夕美 | Z36: 様 | AA36: CMI
A37: 本日の検査 | F37: 検査内容 | K37: 処置実施者 | P37: 処置内容 | Z37: 様
A38: 川村 悠歌 | E38: 様 | F38: Y-G | K38: 川村 魁斗 | O38: 様 | P38: ハロマンス50mg 1A | Z38: 様
A39: 相馬 里奈 | E39: 様 | F39: SCT | O39: 様 | Z39: 様
A40: 野川 英雄 | E40: 様 | F40: 血液検査 | O40: 様 | Z40: 様
A41: 貝塚 一忠 | E41: 様 | F41: 血液検査 | O41: 様 | U41: 点検項目
A42: 宮古 タツ | E42: 様 | F42: 血液検査 | O42: 様 | U42: 項目 | Z42: 時間 | AC42: 点検者
A43: 発熱 | F43: 下痢 | K43: 風邪薬 | P43: 男性：26 | U43: 医療廃棄物 | Y43: 0.75 | AB43: 石原 恵海
A44: 0 | F44: 0 | K44: 0 | P44: 女性：42 | U44: 戸締り | Y44: 0.75 | AB44: 石谷 美代子
A46: 備考欄 | C46: （連絡事項・処方変更・その他）
G47: 特になし
G48: 石原

Sheet 6
B1: クリニック 日 誌 | H1: 令和 | J1: ='1'!J1 -> 2 | K1: 年 | L1: ='1'!L1 -> 8 | M1: 月 | N1: 6 | O1: 日 | Q1: （ | R1: 木 | S1: ） | V1: COO | Y1: IOO | AB1: AOM
A3: 勤務者名
A4: 中村 恵理子 | G4: 日 | I4: 柳田 美雪 | N4: 早退 | Q4: 診察室 | W4: 外来担当医 | Z4: 外来介助者
A5: 石原 恵海 | G5: 日 | I5: 石谷 美代子 | N5: 日 | Q5: 第１診察室 | U5: 千葉 潜 | Z5: 石原
Q6: 第２診察室 | U6: 深澤 隆 | Z6: 石原
B8: 新 | C8: 再 | D8: 精 | E8: 内 | F8: 処 | G8: 患者様氏名 | L8: 新 | M8: 再 | N8: 精 | O8: 内 | P8: 処 | Q8: 患者様氏名 | V8: 新 | W8: 再 | X8: 精 | Y8: 内 | Z8: 処 | AA8: 患者様氏名
A9: 1 | C9: ・ | D9: ・ | F9: 60 | G9: 木村 タキ | J9: 様 | K9: 2 | M9: ・ | N9: ・ | P9: 7 | Q9: 中居 敬悦 | T9: 様 | U9: 3 | W9: ・ | X9: ・ | Z9: 56 | AA9: 土井 健一 | AD9: 様
A10: 4 | C10: ・ | D10: ・ | F10: 28 | G10: 岡山 キミ | J10: 様 | K10: 5 | M10: ・ | N10: ・ | P10: 60 | Q10: 長井 竹 | T10: 様 | U10: 6 | W10: ・ | X10: ・ | Z10: 42 | AA10: 杉村 義雄 | AD10: 様
A11: 7 | C11: ・ | D11: ・ | F11: 30 | G11: 小比券巻 栄子 | J11: 様 | K11: 8 | M11: ・ | N11: ・ | P11: 28 | Q11: 坂本 柊子 | T11: 様 | U11: 9 | W11: ・ | X11: ・ | Z11: 28 | AA11: 小笠原 由美子 | AD11: 様
A12: 10 | C12: ・ | D12: ・ | F12: 28 | G12: 大塚 弘志 | J12: 様 | K12: 11 | M12: ・ | N12: ・ | P12: 28 | Q12: 高村 幸平 | T12: 様 | U12: 12 | W12: ・ | X12: ・ | Z12: 28 | AA12: 齊藤 翔太 | AD12: 様
A13: 13 | C13: ・ | D13: ・ | F13: 28 | G13: 川原 明 | J13: 様 | K13: 14 | M13: ・ | N13: ・ | P13: 30 | Q13: 久保 トク | T13: 様 | U13: 15 | W13: ・ | X13: ・ | Z13: 28 | AA13: 宮古 克弘 | AD13: 様
A14: 16 | C14: ・ | D14: ・ | F14: 28 | G14: 小笠原 秀男 | J14: 様 | K14: 17 | M14: ・ | N14: ・ | P14: 28 | Q14: 太田 明子 | T14: 様 | U14: 18 | W14: ・ | X14: ・ | Z14: 58 | AA14: 小笠原 早苗 | AD14: 様
A15: 19 | C15: ・ | D15: ・ | F15: 28 | G15: 小笠原 千恵子 | J15: 様 | K15: 20 | M15: ・ | N15: ・ | P15: 28 | Q15: 畑山 みゆき | T15: 様 | U15: 21 | W15: ・ | X15: ・ | Z15: 0 | AA15: 杉元 悠敏 | AD15: 様
A16: 22 | C16: ・ | D16: ・ | F16: 60 | G16: 川村 ふさ | J16: 様 | K16: 23 | M16: ・ | N16: ・ | P16: 14 | Q16: 片桐 惣一郎 | T16: 様 | U16: 24 | W16: ・ | X16: ・ | Z16: 28 | AA16: 岩井 純子 | AD16: 様
A17: 25 | C17: ・ | D17: ・ | F17: 28 | G17: 古澤 博美 | J17: 様 | K17: 26 | M17: ・ | N17: ・ | P17: 28 | Q17: 岸 明香里 | T17: 様 | U17: 27 | W17: ・ | X17: ・ | Z17: 0 | AA17: 藤ケ森 貴美枝 | AD17: 様
A18: 28 | C18: ・ | D18: ・ | F18: 30 | G18: 田村 とよ | J18: 様 | K18: 29 | M18: ・ | N18: ・ | P18: 14 | Q18: 沼山 祐一 | T18: 様 | U18: 30 | W18: ・ | X18: ・ | Z18: 28 | AA18: 柏木 薫 | AD18: 様
A19: 31 | C19: ・ | D19: ・ | F19: 28 | G19: 町屋 自由 | J19: 様 | K19: 32 | M19: ・ | N19: ・ | P19: 14 | Q19: 岡田 恭佳 | T19: 様 | U19: 33 | W19: ・ | X19: ・ | Z19: 60 | AA19: 佐々木 優奈 | AD19: 様
A20: 34 | C20: ・ | D20: ・ | F20: 30 | G20: 小笠原 琴葉 | J20: 様 | K20: 35 | M20: ・ | N20: ・ | P20: 21 | Q20: 岡本 光男 | T20: 様 | U20: 36 | W20: ・ | X20: ・ | Z20: 60 | AA20: 松館 邦子 | AD20: 様
... A26: 52 | C26: ・ | D26: ・ | F26: 0 | G26: 坂本 政勝 | J26: 様 | K26: 53 | M26: ・ | N26: ・ | P26: 0 | Q26: 塚田 敏子 | T26: 様 | U26: 54 | W26: ・ | X26: ・ | Z26: 0 | AA26: 佐々木 政夫 | AD26: 様
A27: 外来患者数 | E27: 新： | F27: =COUNTIF(B9:B26,"・")+COUNTIF(L9:L26,"・")+COUNTIF(V9:V26,"・") -> 0 | H27: 名 | I27: 再： | J27: =COUNTIF(C9:C26,"・")+COUNTIF(M9:M26,"・")+COUNTIF(W9:W26,"・") -> 54 | L27: 名 | M27: 計： | N27: =SUM(F27:K27) -> 54 | Q27: 名 | R27: （ | S27: 精： | T27: =COUNTIF(D9:D26,"・")+COUNTIF(N9:N26,"・")+COUNTIF(X9:X26,"・") -> 54 | W27: 名 | X27: ・ | Y27: 内： | Z27: =COUNTIF(E9:E26,"・")+COUNTIF(O9:O26,"・")+COUNTIF(Y9:Y26,"・") -> 0 | AC27: 名 | AD27: ）
A29: 紹介患者様氏名 | F29: 紹介先 | K29: 逆紹介患者様氏名 | P29: 紹介元 | U29: 処置実施者 | AA29: 処置内容
E30: 様 | O30: 様 | Z30: 様
A31: 本日の検査 | F31: 検査内容 | K31: 処置実施者 | P31: 処置内容 | Z31: 様
A32: 杉元 悠敏 | E32: 様 | F32: カウンセリング | O32: 様 | Z32: 様
A33: 杉元 香菜子 | E33: 様 | F33: 面談 | O33: 様 | Z33: 様
E34: 様 | O34: 様 | U34: 点検項目
E35: 様 | O35: 様 | U35: 項目 | Z35: 時間 | AC35: 点検者
A36: 発熱 | F36: 下痢 | K36: 風邪薬 | P36: 男性：20 | U36: 医療廃棄物 | Y36: 0.75 | AB36: 石原 恵海
A37: 0 | F37: 0 | K37: 0 | P37: 女性：34 | U37: 戸締り | Y37: 0.75 | AB37: 石谷 美代子
A39: 備考欄 | C39: （連絡事項・処方変更・その他）
G40: 特になし
G41: 石原

Sheet 7
B1: クリニック 日 誌 | H1: 令和 | J1: ='6'!J1 -> 2 | K1: 年 | L1: ='1'!L1 -> 8 | M1: 月 | N1: 7 | O1: 日 | Q1: （ | S1: ） | V1: COO | Y1: IOO | AB1: AOM
A3: 勤務者名
A4: ='6'!A4:F4 -> 中村 恵理子 | G4: 日 | I4: 柳田 美雪 | N4: 日 | Q4: 診察室 | W4: 外来担当医 | Z4: 外来介助者
A5: 石原 恵海 | G5: 日 | I5: 石谷 美代子 | N5: 日 | Q5: 第１診察室 | U5: 金 泰徳 | Z5: 柳田・石原
Q6: 第２診察室 | U6: 千葉 良 | Z6: 柳田・石原
B8: 新 | C8: 再 | D8: 精 | E8: 内 | F8: 処 | G8: 患者様氏名 | L8: 新 | M8: 再 | N8: 精 | O8: 内 | P8: 処 | Q8: 患者様氏名 | V8: 新 | W8: 再 | X8: 精 | Y8: 内 | Z8: 処 | AA8: 患者様氏名
A9: 1 | C9: ・ | D9: ・ | F9: 28 | G9: 大平 陸 | J9: 様 | K9: 2 | M9: ・ | N9: ・ | P9: 28 | Q9: 花松 ナヨ | T9: 様 | U9: 3 | W9: ・ | X9: ・ | Z9: 60 | AA9: 木村 奈津子 | AD9: 様
A10: 4 | C10: ・ | D10: ・ | F10: 49 | G10: 久保田 みつ | J10: 様 | K10: 5 | M10: ・ | N10: ・ | P10: 21 | Q10: 舩山 ゆかり | T10: 様 | U10: 6 | W10: ・ | X10: ・ | Z10: 30 | AA10: 小西 チヨ | AD10: 様
A11: 7 | C11: ・ | D11: ・ | F11: 30 | G11: 内藤 誠一郎 | J11: 様 | K11: 8 | M11: ・ | N11: ・ | P11: 21 | Q11: 熊野 冨美子 | T11: 様 | U11: 9 | W11: ・ | X11: ・ | Z11: 30 | AA11: 田中 喜代志 | AD11: 様
A12: 10 | C12: ・ | D12: ・ | F12: 28 | G12: 野田頭 真由美 | J12: 様 | K12: 11 | M12: ・ | N12: ・ | P12: 28 | Q12: 山口 陽子 | T12: 様 | U12: 12 | W12: ・ | X12: ・ | Z12: 30 | AA12: 苅谷 れい子 | AD12: 様
A13: 13 | C13: ・ | D13: ・ | F13: 30 | G13: 山本 キヨ | J13: 様 | K13: 14 | M13: ・ | N13: ・ | P13: 56 | Q13: 佐々木 札子 | T13: 様 | U13: 15 | W13: ・ | X13: ・ | Z13: 28 | AA13: 島貫 香央里 | AD13: 様
A14: 16 | C14: ・ | D14: ・ | F14: 30 | G14: 中川原 ちる | J14: 様 | K14: 17 | M14: ・ | N14: ・ | P14: 30 | Q14: 山口 誠一郎 | T14: 様 | U14: 18 | W14: ・ | X14: ・ | Z14: 56 | AA14: 石岡 せつ | AD14: 様
A15: 19 | C15: ・ | D15: ・ | F15: 56 | G15: 原 トモエ | J15: 様 | K15: 20 | M15: ・ | N15: ・ | P15: 60 | Q15: 藤田 絢三 | T15: 様 | U15: 21 | W15: ・ | X15: ・ | Z15: 0 | AA15: 成田 イチコ | AD15: 様
A16: 22 | B16: ・ | D16: ・ | F16: 0 | G16: 平澤 圭佑 | J16: 様 | K16: 23 | M16: ・ | N16: ・ | P16: 30 | Q16: 山口 ちえ | T16: 様 | U16: 24 | W16: ・ | X16: ・ | Z16: 28 | AA16: 類家 義明 | AD16: 様
A17: 25 | C17: ・ | D17: ・ | F17: 30 | G17: 小林 昭治 | J17: 様 | K17: 26 | M17: ・ | N17: ・ | P17: 28 | Q17: 石原 トシ | T17: 様 | U17: 27 | W17: ・ | X17: ・ | Z17: 30 | AA17: 高橋 千佳 | AD17: 様
A18: 28 | C18: ・ | D18: ・ | F18: 30 | G18: 佐々木 光政 | J18: 様 | K18: 29 | M18: ・ | N18: ・ | P18: 28 | Q18: 水上 民一 | T18: 様 | U18: 30 | W18: ・ | X18: ・ | Z18: 28 | AA18: 山本 チヤ | AD18: 様
A19: 31 | C19: ・ | D19: ・ | F19: 60 | G19: 小比券巻 與一 | J19: 様 | K19: 32 | M19: ・ | N19: ・ | P19: 28 | Q19: 齊藤 鈴美香 | T19: 様 | U19: 33 | W19: ・ | X19: ・ | Z19: 28 | AA19: 吉田 浩 | AD19: 様
A20: 34 | C20: ・ | D20: ・ | F20: 28 | G20: 伊藤 よし子 | J20: 様 | K20: 35 | M20: ・ | N20: ・ | P20: 35 | Q20: 千葉 麗生 | T20: 様 | U20: 36 | W20: ・ | X20: ・ | Z20: 30 | AA20: 増沢 脩一 | AD20: 様
A21: 37 | C21: ・ | D21: ・ | F21: 21 | G21: 柏木 チヤ子 | J21: 様 | K21: 38 | M21: ・ | N21: ・ | P21: 30 | Q21: 冨田 未歩 | T21: 様 | U21: 39 | W21: ・ | X21: ・ | Z21: 14 | AA21: 沢尾 美香 | AD21: 様
A22: 40 | C22: ・ | D22: ・ | F22: 0 | G22: 片桐 惣一郎 | J22: 様 | K22: 41 | M22: ・ | N22: ・ | P22: 30 | Q22: 安是 和子 | T22: 様 | U22: 42 | W22: ・ | X22: ・ | Z22: 0 | AA22: 山本 美津子 | AD22: 様
A23: 43 | C23: ・ | D23: ・ | F23: 30 | G23: 大坂 公子 | J23: 様 | K23: 44 | M23: ・ | N23: ・ | P23: 30 | Q23: 高橋 鮎美 | T23: 様 | U23: 45 | W23: ・ | X23: ・ | Z23: 0 | AA23: 松山 日向 | AD23: 様
A24: 46 | C24: ・ | D24: ・ | F24: 90 | G24: 杉山 明伸 | J24: 様 | K24: 47 | M24: ・ | N24: ・ | P24: 28 | Q24: 蛯名 信一朗 | T24: 様 | U24: 48 | W24: ・ | X24: ・ | Z24: 30 | AA24: 山田 淳一 | AD24: 様
A25: 49 | C25: ・ | D25: ・ | F25: 0 | G25: 中川原 いさ | J25: 様 | K25: 50 | M25: ・ | N25: ・ | P25: 30 | Q25: 乙部 孝太 | T25: 様 | U25: 51 | W25: ・ | X25: ・ | Z25: 0 | AA25: 工藤 健壽 | AD25: 様
A26: 52 | C26: ・ | D26: ・ | F26: 14 | G26: 増田 大和 | J26: 様 | K26: 53 | M26: ・ | N26: ・ | P26: 30 | Q26: 齊藤 千鶴 | T26: 様 | U26: 54 | W26: ・ | X26: ・ | Z26: 0 | AA26: 高村 加津子 | AD26: 様
A27: 55 | C27: ・ | D27: ・ | F27: 30 | G27: 阿部 利洋 | J27: 様 | K27: 56 | M27: ・ | N27: ・ | P27: 30 | Q27: 木村 理海 | T27: 様 | U27: 57 | W27: ・ | X27: ・ | Z27: 0 | AA27: 沼端 ミセ | AD27: 様
A28: 58 | C28: ・ | D28: ・ | F28: 30 | G28: 中村 克仁 | J28: 様 | K28: 59 | M28: ・ | N28: ・ | P28: 0 | Q28: 根岸 希空 | T28: 様 | U28: 60 | W28: ・ | X28: ・ | Z28: 0 | AA28: 田口 トシ子 | AD28: 様
... A31: 67 | C31: ・ | D31: ・ | F31: 0 | G31: 萠出 克治 | J31: 様 | K31: 68 | M31: ・ | N31: ・ | P31: 0 | Q31: 坂本 政勝 | T31: 様 | U31: 69 | W31: ・ | X31: ・ | Z31: 0 | AA31: 佐々木 すぢ江 | AD31: 様
A32: 70 | C32: ・ | D32: ・ | F32: 0 | G32: 瀬川 高雄 | J32: 様 | K32: 71 | M32: ・ | N32: ・ | P32: 0 | T32: 様 | U32: 72 | AD32: 様
A33: 外来患者数 | E33: 新： | F33: =COUNTIF(B9:B32,"・")+COUNTIF(L9:L32,"・")+COUNTIF(V9:V32,"・") -> 1 | H33: 名 | I33: 再： | J33: =COUNTIF(C9:C32,"・")+COUNTIF(M9:M32,"・")+COUNTIF(W9:W32,"・") -> 70 | L33: 名 | M33: 計： | N33: =SUM(F33:K33) -> 71 | Q33: 名 | R33: （ | S33: 精： | T33: =COUNTIF(D9:D32,"・")+COUNTIF(N9:N32,"・")+COUNTIF(X9:X32,"・") -> 71 | W33: 名 | X33: ・ | Y33: 内： | Z33: =COUNTIF(E9:E32,"・")+COUNTIF(O9:O32,"・")+COUNTIF(Y9:Y32,"・") -> 0 | AC33: 名 | AD33: ）
A35: 紹介患者様氏名 | F35: 紹介先 | K35: 逆紹介患者様氏名 | P35: 紹介元 | U35: 処置実施者 | AA35: 処置内容
E36: 様 | O36: 様 | Z36: 様
A37: 本日の検査 | F37: 検査内容 | K37: 処置実施者 | P37: 処置内容 | Z37: 様
A38: 大平 陸 | E38: 様 | F38: 血液検査 | K38: 野田頭 真由美 | O38: 様 | P38: ハロマンス100mg 1A | Z38: 様
A39: 中村 克仁 | E39: 様 | F39: 血液検査 | K39: 古谷 京子 | O39: 様 | P39: ECG 尿検査 | Z39: 様
A40: 松山 日向 | E40: 様 | F40: WAIS | O40: 様 | U40: 点検項目
E41: 様 | O41: 様 | U41: 項目 | Z41: 時間 | AC41: 点検者
A42: 発熱 | F42: 下痢 | K42: 風邪薬 | P42: 男性：29 | U42: 医療廃棄物 | Y42: 0.75 | AB42: 石原 恵海
A43: 0 | F43: 0 | K43: 0 | P43: 女性：41 | U43: 戸締り | Y43: 0.75 | AB43: ='6'!AB37:AD37 -> 石谷 美代子
A45: 備考欄 | C45: （連絡事項・処方変更・その他）
G46: 特になし
G47: 石原

Sheet 8
B1: クリニック 日 誌 | H1: 令和 | J1: ='6'!J1 -> 2 | K1: 年 | L1: ='1'!L1 -> 8 | M1: 月 | N1: 8 | O1: 日 | Q1: （ | S1: ） | V1: COO | Y1: IOO | AB1: AOM
A3: 勤務者名
A4: ='7'!A4:F4 -> 中村 恵理子 | G4: 日 | I4: 柳田 美雪 | N4: 日 | Q4: 診察室 | W4: 外来担当医 | Z4: 外来介助者
A5: 石原 恵海 | G5: 日 | Q5: 第１診察室 | Z5: 柳田・石原
Q6: 第２診察室
B8: 新 | C8: 再 | D8: 精 | E8: 内 | F8: 処 | G8: 患者様氏名 | L8: 新 | M8: 再 | N8: 精 | O8: 内 | P8: 処 | Q8: 患者様氏名 | V8: 新 | W8: 再 | X8: 精 | Y8: 内 | Z8: 処 | AA8: 患者様氏名
A9: 1 | J9: 様 | K9: 2 | T9: 様 | U9: 3 | AD9: 様
A10: 4 | J10: 様 | K10: 5 | T10: 様 | U10: 6 | AD10: 様
A11: 7 | J11: 様 | K11: 8 | T11: 様 | U11: 9 | AD11: 様
A12: 10 | J12: 様 | K12: 11 | T12: 様 | U12: 12 | AD12: 様
A13: 13 | J13: 様 | K13: 14 | T13: 様 | U13: 15 | AD13: 様
A14: 16 | J14: 様 | K14: 17 | T14: 様 | U14: 18 | AD14: 様
A15: 19 | J15: 様 | K15: 20 | T15: 様 | U15: 21 | AD15: 様
A16: 22 | J16: 様 | K16: 23 | T16: 様 | U16: 24 | AD16: 様
A17: 25 | J17: 様 | K17: 26 | T17: 様 | U17: 27 | AD17: 様
A18: 28 | J18: 様 | K18: 29 | T18: 様 | U18: 30 | AD18: 様
A19: 31 | J19: 様 | K19: 32 | T19: 様 | U19: 33 | AD19: 様
A20: 34 | J20: 様 | K20: 35 | T20: 様 | U20: 36 | AD20: 様
... A33: 73 | J33: 様 | K33: 74 | T33: 様 | U33: 75 | AD33: 様
A34: 外来患者数 | E34: 新： | F34: =COUNTIF(B9:B33,"・")+COUNTIF(L9:L33,"・")+COUNTIF(V9:V33,"・") -> 0 | H34: 名 | I34: 再： | J34: =COUNTIF(C9:C33,"・")+COUNTIF(M9:M33,"・")+COUNTIF(W9:W33,"・") -> 0 | L34: 名 | M34: 計： | N34: =SUM(F34:K34) -> 0 | Q34: 名 | R34: （ | S34: 精： | T34: =COUNTIF(D9:D33,"・")+COUNTIF(N9:N33,"・")+COUNTIF(X9:X33,"・") -> 0 | W34: 名 | X34: ・ | Y34: 内： | Z34: =COUNTIF(E9:E33,"・")+COUNTIF(O9:O33,"・")+COUNTIF(Y9:Y33,"・") -> 0 | AC34: 名 | AD34: ）
A36: 紹介患者様氏名 | F36: 紹介先 | K36: 逆紹介患者様氏名 | P36: 紹介元 | U36: 処置実施者 | AA36: 処置内容
E37: 様 | O37: 様 | Z37: 様
E38: 様 | O38: 様 | Z38: 様
E39: 様 | O39: 様 | Z39: 様
E40: 様 | O40: 様 | Z40: 様
E41: 様 | O41: 様 | Z41: 様
A42: 本日の検査 | F42: 検査内容 | K42: 処置実施者 | P42: 処置内容 | Z42: 様
E43: 様 | O43: 様 | Z43: 様
E44: 様 | O44: 様 | Z44: 様
E45: 様 | O45: 様 | Z45: 様
E46: 様 | O46: 様 | U46: 点検項目
E47: 様 | O47: 様 | U47: 項目 | Z47: 時間 | AC47: 点検者
A48: 発熱 | F48: 下痢 | K48: 風邪薬 | P48: 男性： | U48: 医療廃棄物 | Y48: 0.75
A49: 0 | F49: 0 | K49: 0 | P49: 女性： | U49: 戸締り | Y49: 0.75 | AB49: ='6'!AB37:AD37 -> 石谷 美代子
A51: 備考欄 | C51: （連絡事項・処方変更・その他）

Sheet 9
B1: クリニック 日 誌 | H1: 令和 | J1: ='6'!J1 -> 2 | K1: 年 | L1: ='1'!L1 -> 8 | M1: 月 | N1: 9 | O1: 日 | Q1: （ | S1: ） | V1: COO | Y1: IOO | AB1: AOM
A3: 勤務者名
A4: ='6'!A4:F4 -> 中村 恵理子 | G4: 日 | I4: 柳田 美雪 | N4: 日 | Q4: 診察室 | W4: 外来担当医 | Z4: 外来介助者
A5: 石原 恵海 | G5: 日 | Q5: 第１診察室 | Z5: 柳田・石原
Q6: 第２診察室
B8: 新 | C8: 再 | D8: 精 | E8: 内 | F8: 処 | G8: 患者様氏名 | L8: 新 | M8: 再 | N8: 精 | O8: 内 | P8: 処 | Q8: 患者様氏名 | V8: 新 | W8: 再 | X8: 精 | Y8: 内 | Z8: 処 | AA8: 患者様氏名
A9: 1 | J9: 様 | K9: 2 | T9: 様 | U9: 3 | AD9: 様
A10: 4 | J10: 様 | K10: 5 | T10: 様 | U10: 6 | AD10: 様
A11: 7 | J11: 様 | K11: 8 | T11: 様 | U11: 9 | AD11: 様
A12: 10 | J12: 様 | K12: 11 | T12: 様 | U12: 12 | AD12: 様
A13: 13 | J13: 様 | K13: 14 | T13: 様 | U13: 15 | AD13: 様
A14: 16 | J14: 様 | K14: 17 | T14: 様 | U14: 18 | AD14: 様
A15: 19 | J15: 様 | K15: 20 | T15: 様 | U15: 21 | AD15: 様
A16: 22 | J16: 様 | K16: 23 | T16: 様 | U16: 24 | AD16: 様
A17: 25 | J17: 様 | K17: 26 | T17: 様 | U17: 27 | AD17: 様
A18: 28 | J18: 様 | K18: 29 | T18: 様 | U18: 30 | AD18: 様
A19: 31 | J19: 様 | K19: 32 | T19: 様 | U19: 33 | AD19: 様
A20: 34 | J20: 様 | K20: 35 | T20: 様 | U20: 36 | AD20: 様
... A33: 73 | J33: 様 | K33: 74 | T33: 様 | U33: 75 | AD33: 様
A34: 外来患者数 | E34: 新： | F34: =COUNTIF(B9:B33,"・")+COUNTIF(L9:L33,"・")+COUNTIF(V9:V33,"・") -> 0 | H34: 名 | I34: 再： | J34: =COUNTIF(C9:C33,"・")+COUNTIF(M9:M33,"・")+COUNTIF(W9:W33,"・") -> 0 | L34: 名 | M34: 計： | N34: =SUM(F34:K34) -> 0 | Q34: 名 | R34: （ | S34: 精： | T34: =COUNTIF(D9:D33,"・")+COUNTIF(N9:N33,"・")+COUNTIF(X9:X33,"・") -> 0 | W34: 名 | X34: ・ | Y34: 内： | Z34: =COUNTIF(E9:E33,"・")+COUNTIF(O9:O33,"・")+COUNTIF(Y9:Y33,"・") -> 0 | AC34: 名 | AD34: ）
A36: 紹介患者様氏名 | F36: 紹介先 | K36: 逆紹介患者様氏名 | P36: 紹介元 | U36: 処置実施者 | AA36: 処置内容
E37: 様 | O37: 様 | Z37: 様
E38: 様 | O38: 様 | Z38: 様
E39: 様 | O39: 様 | Z39: 様
E40: 様 | O40: 様 | Z40: 様
E41: 様 | O41: 様 | Z41: 様
A42: 本日の検査 | F42: 検査内容 | K42: 処置実施者 | P42: 処置内容 | Z42: 様
E43: 様 | O43: 様 | Z43: 様
E44: 様 | O44: 様 | Z44: 様
E45: 様 | O45: 様 | Z45: 様
E46: 様 | O46: 様 | U46: 点検項目
E47: 様 | O47: 様 | U47: 項目 | Z47: 時間 | AC47: 点検者
A48: 発熱 | F48: 下痢 | K48: 風邪薬 | P48: 男性： | U48: 医療廃棄物 | Y48: 0.75
A49: 0 | F49: 0 | K49: 0 | P49: 女性： | U49: 戸締り | Y49: 0.75 | AB49: ='6'!AB37:AD37 -> 石谷 美代子
A51: 備考欄 | C51: （連絡事項・処方変更・その他）

Sheet 10
B1: クリニック 日 誌 | H1: 令和 | J1: ='6'!J1 -> 2 | K1: 年 | L1: ='1'!L1 -> 8 | M1: 月 | N1: 10 | O1: 日 | Q1: （ | R1: 月 | S1: ） | V1: COO | Y1: IOO | AB1: AOM
A3: 勤務者名
A4: ='6'!A4:F4 -> 中村 恵理子 | G4: 日 | I4: 柳田 美雪 | N4: 日 | Q4: 診察室 | W4: 外来担当医 | Z4: 外来介助者
A5: 石原 恵海 | G5: 日 | I5: 石谷 美代子 | N5: 日 | Q5: 第１診察室 | U5: 馬渡 晃弘 | Z5: 柳田・石原
Q6: 第２診察室 | U6: 千葉 良 | Z6: 柳田・石原
B8: 新 | C8: 再 | D8: 精 | E8: 内 | F8: 処 | G8: 患者様氏名 | L8: 新 | M8: 再 | N8: 精 | O8: 内 | P8: 処 | Q8: 患者様氏名 | V8: 新 | W8: 再 | X8: 精 | Y8: 内 | Z8: 処 | AA8: 患者様氏名
A9: 1 | C9: ・ | D9: ・ | F9: 28 | G9: 瀬川 高雄 | J9: 様 | K9: 2 | M9: ・ | N9: ・ | P9: 30 | Q9: 山本 洋子 | T9: 様 | U9: 3 | W9: ・ | X9: ・ | Z9: 0 | AA9: 山縣 堅一 | AD9: 様
A10: 4 | C10: ・ | D10: ・ | F10: 28 | G10: 佐藤 直樹 | J10: 様 | K10: 5 | L10: ・ | O10: ・ | P10: 5 | Q10: 沢頭 五吹 | T10: 様 | U10: 6 | W10: ・ | X10: ・ | Z10: 0 | AA10: 田口 トシ子 | AD10: 様
A11: 7 | C11: ・ | D11: ・ | F11: 28 | G11: 大西 真紀子 | J11: 様 | K11: 8 | M11: ・ | N11: ・ | P11: 28 | Q11: 加賀 遥大 | T11: 様 | U11: 9 | W11: ・ | X11: ・ | Z11: 0 | AA11: 高村 加津子 | AD11: 様
A12: 10 | C12: ・ | D12: ・ | F12: 56 | G12: 鶴居 イソ | J12: 様 | K12: 11 | M12: ・ | N12: ・ | P12: 14 | Q12: 土橋 翔吾 | T12: 様 | U12: 12 | W12: ・ | X12: ・ | Z12: 0 | AA12: 深町 栄美子 | AD12: 様
A13: 13 | C13: ・ | D13: ・ | F13: 28 | G13: 沼山 詩織 | J13: 様 | K13: 14 | M13: ・ | N13: ・ | P13: 28 | Q13: 瀧野 ミヤ | T13: 様 | U13: 15 | W13: ・ | X13: ・ | Z13: 0 | AA13: 萠出 きのゑ | AD13: 様
A14: 16 | C14: ・ | D14: ・ | F14: 30 | G14: 関口 潤也 | J14: 様 | K14: 17 | M14: ・ | N14: ・ | P14: 14 | Q14: 椛本 友菜 | T14: 様 | U14: 18 | W14: ・ | X14: ・ | Z14: 0 | AA14: 萠出 克治 | AD14: 様
A15: 19 | C15: ・ | D15: ・ | F15: 28 | G15: 澤谷 翔太 | J15: 様 | K15: 20 | M15: ・ | N15: ・ | P15: 28 | Q15: 駒形 克斗 | T15: 様 | U15: 21 | W15: ・ | X15: ・ | Z15: 0 | AA15: 沼端 ミセ | AD15: 様
A16: 22 | C16: ・ | D16: ・ | F16: 14 | G16: 蛯名 亜果音 | J16: 様 | K16: 23 | M16: ・ | N16: ・ | P16: 14 | Q16: 坂田 和也 | T16: 様 | U16: 24 | W16: ・ | X16: ・ | Z16: 0 | AA16: 坂本 政勝 | AD16: 様
A17: 25 | C17: ・ | D17: ・ | F17: 28 | G17: 山田 義勝 | J17: 様 | K17: 26 | L17: ・ | N17: ・ | P17: 7 | Q17: 宮古 峻 | T17: 様 | U17: 27 | W17: ・ | X17: ・ | Z17: 0 | AA17: 浪岡 ヒデ | AD17: 様
A18: 28 | C18: ・ | D18: ・ | F18: 0 | G18: 中居 敬悦 | J18: 様 | K18: 29 | L18: ・ | O18: ・ | P18: 2 | Q18: 田面木 慶司 | T18: 様 | U18: 30 | AD18: 様
A19: 31 | J19: 様 | K19: 32 | T19: 様 | U19: 33 | AD19: 様
A20: 34 | J20: 様 | K20: 35 | T20: 様 | U20: 36 | AD20: 様
A21: 37 | J21: 様 | K21: 38 | T21: 様 | U21: 39 | AD21: 様
A22: 外来患者数 | E22: 新： | F22: =COUNTIF(B9:B21,"・")+COUNTIF(L9:L21,"・")+COUNTIF(V9:V21,"・") -> 3 | H22: 名 | I22: 再： | J22: =COUNTIF(C9:C21,"・")+COUNTIF(M9:M21,"・")+COUNTIF(W9:W21,"・") -> 26 | L22: 名 | M22: 計： | N22: =SUM(F22:K22) -> 29 | Q22: 名 | R22: （ | S22: 精： | T22: =COUNTIF(D9:D21,"・")+COUNTIF(N9:N21,"・")+COUNTIF(X9:X21,"・") -> 27 | W22: 名 | X22: ・ | Y22: 内： | Z22: =COUNTIF(E9:E21,"・")+COUNTIF(O9:O21,"・")+COUNTIF(Y9:Y21,"・") -> 2 | AC22: 名 | AD22: ）
A24: 紹介患者様氏名 | F24: 紹介先 | K24: 逆紹介患者様氏名 | P24: 紹介元 | U24: 処置実施者 | AA24: 処置内容
E25: 様 | O25: 様 | Z25: 様
A26: 本日の検査 | F26: 検査内容 | K26: 処置実施者 | P26: 処置内容 | Z26: 様
E27: 様 | O27: 様 | U27: 点検項目
E28: 様 | O28: 様 | U28: 項目 | Z28: 時間 | AC28: 点検者
A29: 発熱 | F29: 下痢 | K29: 風邪薬 | P29: 男性：15 | U29: 医療廃棄物 | Y29: 0.75 | AB29: 柳田 美雪
A30: 0 | F30: 0 | K30: 0 | P30: 女性：14 | U30: 戸締り | Y30: 0.75 | AB30: 中村 恵理子
A32: 備考欄 | C32: （連絡事項・処方変更・その他）
G33: 休日当番日
G34: 柳田

Sheet 11
B1: クリニック 日 誌 | H1: 令和 | J1: ='6'!J1 -> 2 | K1: 年 | L1: ='1'!L1 -> 8 | M1: 月 | N1: 11 | O1: 日 | Q1: （ | R1: 火 | S1: ） | V1: COO | Y1: IOO | AB1: AOM
A3: 勤務者名
A4: ='6'!A4:F4 -> 中村 恵理子 | G4: 日 | I4: 柳田 美雪 | N4: 日 | Q4: 診察室 | W4: 外来担当医 | Z4: 外来介助者
A5: 石原 恵海 | G5: 日 | I5: 石谷 美代子 | N5: 日 | Q5: 第１診察室 | U5: 千葉 潜 | Z5: 石原
Q6: 第２診察室 | U6: 千葉 良 | Z6: 柳田
B8: 新 | C8: 再 | D8: 精 | E8: 内 | F8: 処 | G8: 患者様氏名 | L8: 新 | M8: 再 | N8: 精 | O8: 内 | P8: 処 | Q8: 患者様氏名 | V8: 新 | W8: 再 | X8: 精 | Y8: 内 | Z8: 処 | AA8: 患者様氏名
A9: 1 | C9: ・ | D9: ・ | F9: 42 | G9: 中村 ミサ | J9: 様 | K9: 2 | M9: ・ | N9: ・ | P9: 28 | Q9: 綿貫 啓子 | T9: 様 | U9: 3 | W9: ・ | X9: ・ | Z9: 14 | AA9: 大森 まみ | AD9: 様
A10: 4 | C10: ・ | D10: ・ | F10: 28 | G10: 大竹 紀美子 | J10: 様 | K10: 5 | M10: ・ | N10: ・ | P10: 14 | Q10: 小比類巻 由美 | T10: 様 | U10: 6 | W10: ・ | X10: ・ | Z10: 7 | AA10: 山岡 裕花 | AD10: 様
A11: 7 | C11: ・ | D11: ・ | F11: 28 | G11: 鈴木 洋光 | J11: 様 | K11: 8 | M11: ・ | N11: ・ | P11: 14 | Q11: 浪岡 美沙紀 | T11: 様 | U11: 9 | W11: ・ | X11: ・ | Z11: 30 | AA11: 橘 聖子 | AD11: 様
A12: 10 | C12: ・ | D12: ・ | F12: 28 | G12: 三村 幸喜 | J12: 様 | K12: 11 | M12: ・ | N12: ・ | P12: 42 | Q12: 板川 京子 | T12: 様 | U12: 12 | W12: ・ | X12: ・ | Z12: 30 | AA12: 飯田 昭子 | AD12: 様
A13: 13 | C13: ・ | D13: ・ | F13: 28 | G13: 清野 栄子 | J13: 様 | K13: 14 | M13: ・ | N13: ・ | P13: 0 | Q13: 佐藤 澄子 | T13: 様 | U13: 15 | W13: ・ | X13: ・ | Z13: 28 | AA13: 田中 千秋 | AD13: 様
A14: 16 | C14: ・ | D14: ・ | F14: 28 | G14: 袴田 ハナエ | J14: 様 | K14: 17 | M14: ・ | N14: ・ | P14: 28 | Q14: 木村 久子 | T14: 様 | U14: 18 | W14: ・ | X14: ・ | Z14: 28 | AA14: 柿本 美津 | AD14: 様
A15: 19 | C15: ・ | D15: ・ | F15: 42 | G15: 高根 あつ子 | J15: 様 | K15: 20 | M15: ・ | N15: ・ | P15: 28 | Q15: 瀬間 義大 | T15: 様 | U15: 21 | W15: ・ | X15: ・ | Z15: 30 | AA15: 新田 寛 | AD15: 様
A16: 22 | C16: ・ | D16: ・ | F16: 30 | G16: 内山 登 | J16: 様 | K16: 23 | M16: ・ | N16: ・ | P16: 28 | Q16: 野村 隆一 | T16: 様 | U16: 24 | W16: ・ | X16: ・ | Z16: 30 | AA16: 蛯名 ハナエ | AD16: 様
A17: 25 | C17: ・ | D17: ・ | F17: 28 | G17: 笹森 綾香 | J17: 様 | K17: 26 | M17: ・ | N17: ・ | P17: 30 | Q17: 山本 金雄 | T17: 様 | U17: 27 | W17: ・ | X17: ・ | Z17: 28 | AA17: 藤川 雅之 | AD17: 様
A18: 28 | C18: ・ | D18: ・ | F18: 28 | G18: 浦田 きよみ | J18: 様 | K18: 29 | M18: ・ | N18: ・ | P18: 16 | Q18: 西舘 ツル | T18: 様 | U18: 30 | W18: ・ | X18: ・ | Z18: 28 | AA18: 蛯沢 陽祐 | AD18: 様
A19: 31 | C19: ・ | D19: ・ | F19: 28 | G19: 曳木 一守 | J19: 様 | K19: 32 | M19: ・ | N19: ・ | P19: 30 | Q19: 倉舘 トワ | T19: 様 | U19: 33 | W19: ・ | X19: ・ | Z19: 0 | AA19: 石井 佐代子 | AD19: 様
A20: 34 | C20: ・ | D20: ・ | F20: 28 | G20: 野々宮 俊江 | J20: 様 | K20: 35 | M20: ・ | N20: ・ | P20: 28 | Q20: 西山 節子 | T20: 様 | U20: 36 | W20: ・ | X20: ・ | Z20: 0 | AA20: 田口 トシ子 | AD20: 様
... A30: 64 | C30: ・ | D30: ・ | F30: 28 | G30: 長谷川 友和 | J30: 様 | K30: 65 | M30: ・ | N30: ・ | P30: 28 | Q30: 円子 知未 | T30: 様 | U30: 66 | W30: ・ | X30: ・ | Z30: 28 | AA30: 浪岡 漁男 | AD30: 様
A31: 67 | B31: ・ | D31: ・ | F31: 16 | G31: 川守田 悠史 | J31: 様 | K31: 68 | L31: ・ | N31: ・ | Q31: 小野寺 柚子 | T31: 様 | U31: 69 | AD31: 様
A32: 外来患者数 | E32: 新： | F32: =COUNTIF(B9:B31,"・")+COUNTIF(L9:L31,"・")+COUNTIF(V9:V31,"・") -> 2 | H32: 名 | I32: 再： | J32: =COUNTIF(C9:C31,"・")+COUNTIF(M9:M31,"・")+COUNTIF(W9:W31,"・") -> 66 | L32: 名 | M32: 計： | N32: =SUM(F32:K32) -> 68 | Q32: 名 | R32: （ | S32: 精： | T32: =COUNTIF(D9:D31,"・")+COUNTIF(N9:N31,"・")+COUNTIF(X9:X31,"・") -> 68 | W32: 名 | X32: ・ | Y32: 内： | Z32: =COUNTIF(E9:E31,"・")+COUNTIF(O9:O31,"・")+COUNTIF(Y9:Y31,"・") -> 0 | AC32: 名 | AD32: ）
A34: 紹介患者様氏名 | F34: 紹介先 | K34: 逆紹介患者様氏名 | P34: 紹介元 | U34: 処置実施者 | AA34: 処置内容
E35: 様 | O35: 様 | Z35: 様
A36: 本日の検査 | F36: 検査内容 | K36: 処置実施者 | P36: 処置内容 | Z36: 様
A37: 木村 久子 | E37: 様 | F37: 血液検査 | K37: 三村 幸喜 | O37: 様 | P37: ｾﾞﾌﾟﾘｵﾝ150mg １ｷｯﾄ | Z37: 様
A38: 瀬間 義大 | E38: 様 | F38: 血液検査 | O38: 様 | Z38: 様
A39: 鈴木 隆一 | E39: 様 | F39: 血液検査 | O39: 様 | Z39: 様
A40: 三村 幸喜 | E40: 様 | F40: 血液検査 | O40: 様 | U40: 点検項目
A41: 袴田 ハナエ | E41: 様 | F41: HDS-R・MMSE・血液検査 | O41: 様 | U41: 項目 | Z41: 時間 | AC41: 点検者
A42: 発熱 | F42: 下痢 | K42: 風邪薬 | P42: 男性：23 | U42: 医療廃棄物 | Y42: 0.75 | AB42: 石原 恵海
A43: 0 | F43: 0 | K43: 0 | P43: 女性：45 | U43: 戸締り | Y43: 0.75 | AB43: ='6'!AB37:AD37 -> 石谷 美代子
A45: 備考欄 | C45: （連絡事項・処方変更・その他）
G46: 特になし
G47: 石原

Sheet 12
B1: クリニック 日 誌 | H1: 令和 | J1: ='6'!J1 -> 2 | K1: 年 | L1: ='1'!L1 -> 8 | M1: 月 | N1: 12 | O1: 日 | Q1: （ | R1: 水 | S1: ） | V1: COO | Y1: IOO | AB1: AOM
A3: 勤務者名
A4: ='6'!A4:F4 -> 中村 恵理子 | G4: 日 | I4: 柳田 美雪 | N4: 日 | Q4: 診察室 | W4: 外来担当医 | Z4: 外来介助者
A5: 石原 恵海 | G5: 日 | I5: 石谷 美代子 | N5: 日 | Q5: 第１診察室 | U5: 千葉 潜 | Z5: 柳田・石原
Q6: 第２診察室
B8: 新 | C8: 再 | D8: 精 | E8: 内 | F8: 処 | G8: 患者様氏名 | L8: 新 | M8: 再 | N8: 精 | O8: 内 | P8: 処 | Q8: 患者様氏名 | V8: 新 | W8: 再 | X8: 精 | Y8: 内 | Z8: 処 | AA8: 患者様氏名
A9: 1 | C9: ・ | D9: ・ | F9: 28 | G9: 榎林 真実 | J9: 様 | K9: 2 | M9: ・ | N9: ・ | P9: 28 | Q9: 豊川 洋子 | T9: 様 | U9: 3 | W9: ・ | X9: ・ | Z9: 14 | AA9: 沼山 寛子 | AD9: 様
A10: 4 | C10: ・ | D10: ・ | F10: 28 | G10: 附田 冨喜子 | J10: 様 | K10: 5 | M10: ・ | N10: ・ | P10: 7 | Q10: 中居 敬悦 | T10: 様 | U10: 6 | W10: ・ | X10: ・ | Z10: 28 | AA10: 市村 愛里沙 | AD10: 様
A11: 7 | C11: ・ | D11: ・ | F11: 14 | G11: 阿部 愛美 | J11: 様 | K11: 8 | M11: ・ | N11: ・ | P11: 28 | Q11: 冨田 勝政 | T11: 様 | U11: 9 | W11: ・ | X11: ・ | Z11: 30 | AA11: 若林 靖子 | AD11: 様
A12: 10 | C12: ・ | D12: ・ | F12: 28 | G12: 山本 伸子 | J12: 様 | K12: 11 | M12: ・ | N12: ・ | P12: 28 | Q12: 一戸 紀子 | T12: 様 | U12: 12 | W12: ・ | X12: ・ | Z12: 30 | AA12: 村上 チエ子 | AD12: 様
A13: 13 | C13: ・ | D13: ・ | F13: 28 | G13: 類家 つさ | J13: 様 | K13: 14 | M13: ・ | N13: ・ | P13: 42 | Q13: 塚田 敏子 | T13: 様 | U13: 15 | V13: ・ | X13: ・ | Z13: 14 | AA13: 原田 悠紀 | AD13: 様
A14: 16 | C14: ・ | D14: ・ | F14: 28 | G14: 市川 エミ子 | J14: 様 | K14: 17 | M14: ・ | N14: ・ | P14: 28 | Q14: 箕輪 麻紀子 | T14: 様 | U14: 18 | V14: ・ | X14: ・ | Z14: 6 | AA14: 田畑 あかり | AD14: 様
A15: 19 | C15: ・ | D15: ・ | F15: 28 | G15: 室山 外志高 | J15: 様 | K15: 20 | M15: ・ | N15: ・ | P15: 28 | Q15: 赤川 將麻 | T15: 様 | U15: 21 | W15: ・ | X15: ・ | Z15: 28 | AA15: 柏葉 信子 | AD15: 様
A16: 22 | C16: ・ | D16: ・ | F16: 30 | G16: 葛西 正人 | J16: 様 | K16: 23 | M16: ・ | N16: ・ | P16: 42 | Q16: 橋本 英治 | T16: 様 | U16: 24 | W16: ・ | X16: ・ | Z16: 28 | AA16: 阿部 勝廣 | AD16: 様
A17: 25 | C17: ・ | D17: ・ | F17: 28 | G17: 戸田 文子 | J17: 様 | K17: 26 | M17: ・ | N17: ・ | P17: 28 | Q17: 新堂 伸子 | T17: 様 | U17: 27 | W17: ・ | X17: ・ | Z17: 0 | AA17: 高村 加津子 | AD17: 様
A18: 28 | C18: ・ | D18: ・ | F18: 28 | G18: 竹内 くみ子 | J18: 様 | K18: 29 | M18: ・ | N18: ・ | P18: 28 | Q18: 工藤 喜美子 | T18: 様 | U18: 30 | W18: ・ | X18: ・ | Z18: 0 | AA18: 田口 トシ子 | AD18: 様
A19: 31 | C19: ・ | D19: ・ | F19: 28 | G19: 橋本 豊彦 | J19: 様 | K19: 32 | M19: ・ | N19: ・ | P19: 28 | Q19: 蛯名 慶子 | T19: 様 | U19: 33 | W19: ・ | X19: ・ | Z19: 0 | AA19: 瀬川 高雄 | AD19: 様
A20: 34 | C20: ・ | D20: ・ | F20: 28 | G20: 中市 マツエ | J20: 様 | K20: 35 | M20: ・ | N20: ・ | P20: 28 | Q20: 神田 輝子 | T20: 様 | U20: 36 | W20: ・ | X20: ・ | Z20: 0 | AA20: 石ケ谷 數子 | AD20: 様
A21: 37 | C21: ・ | D21: ・ | F21: 28 | G21: 織笠 裕美 | J21: 様 | K21: 38 | M21: ・ | N21: ・ | P21: 28 | Q21: 舛谷 哲雄 | T21: 様 | U21: 39 | W21: ・ | X21: ・ | Z21: 0 | AA21: 坂本 政勝 | AD21: 様
A22: 40 | C22: ・ | D22: ・ | F22: 28 | G22: 竹下 ミツ子 | J22: 様 | K22: 41 | M22: ・ | N22: ・ | P22: 28 | Q22: 舛谷 勝子 | T22: 様 | U22: 42 | W22: ・ | X22: ・ | Z22: 0 | AA22: 佐藤 初男 | AD22: 様
A23: 43 | C23: ・ | D23: ・ | F23: 30 | G23: 齋藤 繭介 | J23: 様 | K23: 44 | M23: ・ | N23: ・ | P23: 28 | Q23: 神 芽依 | T23: 様 | U23: 45 | W23: ・ | X23: ・ | Z23: 0 | AA23: 佐藤 澄子 | AD23: 様
A24: 46 | C24: ・ | D24: ・ | F24: 28 | G24: 簗場 ハギ | J24: 様 | K24: 47 | M24: ・ | N24: ・ | P24: 90 | Q24: 関川 進也 | T24: 様 | U24: 48 | V24: ・ | X24: ・ | Z24: 30 | AA24: 橋本 治男 | AD24: 様
A25: 49 | C25: ・ | D25: ・ | F25: 28 | G25: 酒井 啓太 | J25: 様 | K25: 50 | M25: ・ | N25: ・ | P25: 28 | Q25: 吉田 浩二 | T25: 様 | U25: 51 | W25: ・ | X25: ・ | Z25: 0 | AA25: 沼端 ミセ | AD25: 様
A26: 52 | C26: ・ | D26: ・ | F26: 28 | G26: 哘 典子 | J26: 様 | K26: 53 | M26: ・ | N26: ・ | P26: 0 | Q26: 佐藤 ソノ | T26: 様 | U26: 54 | AD26: 様
A27: 55 | J27: 様 | K27: 56 | T27: 様 | U27: 57 | AD27: 様
A28: 58 | J28: 様 | K28: 59 | T28: 様 | U28: 60 | AD28: 様
A29: 外来患者数 | E29: 新： | F29: =COUNTIF(B9:B28,"・")+COUNTIF(L9:L28,"・")+COUNTIF(V9:V28,"・") -> 3 | H29: 名 | I29: 再： | J29: =COUNTIF(C9:C28,"・")+COUNTIF(M9:M28,"・")+COUNTIF(W9:W28,"・") -> 50 | L29: 名 | M29: 計： | N29: =SUM(F29:K29) -> 53 | Q29: 名 | R29: （ | S29: 精： | T29: =COUNTIF(D9:D28,"・")+COUNTIF(N9:N28,"・")+COUNTIF(X9:X28,"・") -> 53 | W29: 名 | X29: ・ | Y29: 内： | Z29: =COUNTIF(E9:E28,"・")+COUNTIF(O9:O28,"・")+COUNTIF(Y9:Y28,"・") -> 0 | AC29: 名 | AD29: ）
A31: 紹介患者様氏名 | F31: 紹介先 | K31: 逆紹介患者様氏名 | P31: 紹介元 | U31: 処置実施者 | AA31: 処置内容
E32: 様 | K32: 原田 悠紀 | O32: 様 | P32: 野辺地病院 | Z32: 様
E33: 様 | K33: 田畑 あかり | O33: 様 | P33: みさわの森クリニック | Z33: 様
A34: 本日の検査 | F34: 検査内容 | K34: 処置実施者 | P34: 処置内容 | Z34: 様
A35: 類家 つさ | E35: 様 | F35: 血液検査 | O35: 様 | Z35: 様
A36: 蛯名 慶子 | E36: 様 | F36: 血液検査 | O36: 様 | Z36: 様
E37: 様 | O37: 様 | Z37: 様
E38: 様 | O38: 様 | U38: 点検項目
E39: 様 | O39: 様 | U39: 項目 | Z39: 時間 | AC39: 点検者
A40: 発熱 | F40: 下痢 | K40: 風邪薬 | P40: 男性：18 | U40: 医療廃棄物 | Y40: 0.75 | AB40: 柳田 美雪
A41: 0 | F41: 0 | K41: 0 | P41: 女性：35 | U41: 戸締り | Y41: 0.75 | AB41: 中村 恵理子
A43: 備考欄 | C43: （連絡事項・処方変更・その他）
G44: 特記なし
G45: 柳田

Sheet 13
B1: クリニック 日 誌 | H1: 令和 | J1: ='6'!J1 -> 2 | K1: 年 | L1: ='1'!L1 -> 8 | M1: 月 | N1: 13 | O1: 日 | Q1: （ | S1: ） | V1: COO | Y1: IOO | AB1: AOM
A3: 勤務者名
A4: ='6'!A4:F4 -> 中村 恵理子 | G4: 日 | I4: 柳田 美雪 | N4: 日 | Q4: 診察室 | W4: 外来担当医 | Z4: 外来介助者
A5: 石原 恵海 | G5: 日 | Q5: 第１診察室 | Z5: 柳田・石原
Q6: 第２診察室
B8: 新 | C8: 再 | D8: 精 | E8: 内 | F8: 処 | G8: 患者様氏名 | L8: 新 | M8: 再 | N8: 精 | O8: 内 | P8: 処 | Q8: 患者様氏名 | V8: 新 | W8: 再 | X8: 精 | Y8: 内 | Z8: 処 | AA8: 患者様氏名
A9: 1 | J9: 様 | K9: 2 | T9: 様 | U9: 3 | AD9: 様
A10: 4 | J10: 様 | K10: 5 | T10: 様 | U10: 6 | AD10: 様
A11: 7 | J11: 様 | K11: 8 | T11: 様 | U11: 9 | AD11: 様
A12: 10 | J12: 様 | K12: 11 | T12: 様 | U12: 12 | AD12: 様
A13: 13 | J13: 様 | K13: 14 | T13: 様 | U13: 15 | AD13: 様
A14: 16 | J14: 様 | K14: 17 | T14: 様 | U14: 18 | AD14: 様
A15: 19 | J15: 様 | K15: 20 | T15: 様 | U15: 21 | AD15: 様
A16: 22 | J16: 様 | K16: 23 | T16: 様 | U16: 24 | AD16: 様
A17: 25 | J17: 様 | K17: 26 | T17: 様 | U17: 27 | AD17: 様
A18: 28 | J18: 様 | K18: 29 | T18: 様 | U18: 30 | AD18: 様
A19: 31 | J19: 様 | K19: 32 | T19: 様 | U19: 33 | AD19: 様
A20: 34 | J20: 様 | K20: 35 | T20: 様 | U20: 36 | AD20: 様
... A33: 73 | J33: 様 | K33: 74 | T33: 様 | U33: 75 | AD33: 様
A34: 外来患者数 | E34: 新： | F34: =COUNTIF(B9:B33,"・")+COUNTIF(L9:L33,"・")+COUNTIF(V9:V33,"・") -> 0 | H34: 名 | I34: 再： | J34: =COUNTIF(C9:C33,"・")+COUNTIF(M9:M33,"・")+COUNTIF(W9:W33,"・") -> 0 | L34: 名 | M34: 計： | N34: =SUM(F34:K34) -> 0 | Q34: 名 | R34: （ | S34: 精： | T34: =COUNTIF(D9:D33,"・")+COUNTIF(N9:N33,"・")+COUNTIF(X9:X33,"・") -> 0 | W34: 名 | X34: ・ | Y34: 内： | Z34: =COUNTIF(E9:E33,"・")+COUNTIF(O9:O33,"・")+COUNTIF(Y9:Y33,"・") -> 0 | AC34: 名 | AD34: ）
A36: 紹介患者様氏名 | F36: 紹介先 | K36: 逆紹介患者様氏名 | P36: 紹介元 | U36: 処置実施者 | AA36: 処置内容
E37: 様 | O37: 様 | Z37: 様
E38: 様 | O38: 様 | Z38: 様
E39: 様 | O39: 様 | Z39: 様
E40: 様 | O40: 様 | Z40: 様
E41: 様 | O41: 様 | Z41: 様
A42: 本日の検査 | F42: 検査内容 | K42: 処置実施者 | P42: 処置内容 | Z42: 様
E43: 様 | O43: 様 | Z43: 様
E44: 様 | O44: 様 | Z44: 様
E45: 様 | O45: 様 | Z45: 様
E46: 様 | O46: 様 | U46: 点検項目
E47: 様 | O47: 様 | U47: 項目 | Z47: 時間 | AC47: 点検者
A48: 発熱 | F48: 下痢 | K48: 風邪薬 | P48: 男性： | U48: 医療廃棄物 | Y48: 0.75
A49: 0 | F49: 0 | K49: 0 | P49: 女性： | U49: 戸締り | Y49: 0.75 | AB49: ='6'!AB37:AD37 -> 石谷 美代子
A51: 備考欄 | C51: （連絡事項・処方変更・その他）

Sheet 14
B1: クリニック 日 誌 | H1: 令和 | J1: ='6'!J1 -> 2 | K1: 年 | L1: ='1'!L1 -> 8 | M1: 月 | N1: 14 | O1: 日 | Q1: （ | S1: ） | V1: COO | Y1: IOO | AB1: AOM
A3: 勤務者名
A4: ='6'!A4:F4 -> 中村 恵理子 | G4: 日 | I4: 柳田 美雪 | N4: 日 | Q4: 診察室 | W4: 外来担当医 | Z4: 外来介助者
A5: 石原 恵海 | G5: 日 | Q5: 第１診察室 | Z5: 柳田・石原
Q6: 第２診察室
B8: 新 | C8: 再 | D8: 精 | E8: 内 | F8: 処 | G8: 患者様氏名 | L8: 新 | M8: 再 | N8: 精 | O8: 内 | P8: 処 | Q8: 患者様氏名 | V8: 新 | W8: 再 | X8: 精 | Y8: 内 | Z8: 処 | AA8: 患者様氏名
A9: 1 | J9: 様 | K9: 2 | T9: 様 | U9: 3 | AD9: 様
A10: 4 | J10: 様 | K10: 5 | T10: 様 | U10: 6 | AD10: 様
A11: 7 | J11: 様 | K11: 8 | T11: 様 | U11: 9 | AD11: 様
A12: 10 | J12: 様 | K12: 11 | T12: 様 | U12: 12 | AD12: 様
A13: 13 | J13: 様 | K13: 14 | T13: 様 | U13: 15 | AD13: 様
A14: 16 | J14: 様 | K14: 17 | T14: 様 | U14: 18 | AD14: 様
A15: 19 | J15: 様 | K15: 20 | T15: 様 | U15: 21 | AD15: 様
A16: 22 | J16: 様 | K16: 23 | T16: 様 | U16: 24 | AD16: 様
A17: 25 | J17: 様 | K17: 26 | T17: 様 | U17: 27 | AD17: 様
A18: 28 | J18: 様 | K18: 29 | T18: 様 | U18: 30 | AD18: 様
A19: 31 | J19: 様 | K19: 32 | T19: 様 | U19: 33 | AD19: 様
A20: 34 | J20: 様 | K20: 35 | T20: 様 | U20: 36 | AD20: 様
... A33: 73 | J33: 様 | K33: 74 | T33: 様 | U33: 75 | AD33: 様
A34: 外来患者数 | E34: 新： | F34: =COUNTIF(B9:B33,"・")+COUNTIF(L9:L33,"・")+COUNTIF(V9:V33,"・") -> 0 | H34: 名 | I34: 再： | J34: =COUNTIF(C9:C33,"・")+COUNTIF(M9:M33,"・")+COUNTIF(W9:W33,"・") -> 0 | L34: 名 | M34: 計： | N34: =SUM(F34:K34) -> 0 | Q34: 名 | R34: （ | S34: 精： | T34: =COUNTIF(D9:D33,"・")+COUNTIF(N9:N33,"・")+COUNTIF(X9:X33,"・") -> 0 | W34: 名 | X34: ・ | Y34: 内： | Z34: =COUNTIF(E9:E33,"・")+COUNTIF(O9:O33,"・")+COUNTIF(Y9:Y33,"・") -> 0 | AC34: 名 | AD34: ）
A36: 紹介患者様氏名 | F36: 紹介先 | K36: 逆紹介患者様氏名 | P36: 紹介元 | U36: 処置実施者 | AA36: 処置内容
E37: 様 | O37: 様 | Z37: 様
E38: 様 | O38: 様 | Z38: 様
E39: 様 | O39: 様 | Z39: 様
E40: 様 | O40: 様 | Z40: 様
E41: 様 | O41: 様 | Z41: 様
A42: 本日の検査 | F42: 検査内容 | K42: 処置実施者 | P42: 処置内容 | Z42: 様
E43: 様 | O43: 様 | Z43: 様
E44: 様 | O44: 様 | Z44: 様
E45: 様 | O45: 様 | Z45: 様
E46: 様 | O46: 様 | U46: 点検項目
E47: 様 | O47: 様 | U47: 項目 | Z47: 時間 | AC47: 点検者
A48: 発熱 | F48: 下痢 | K48: 風邪薬 | P48: 男性： | U48: 医療廃棄物 | Y48: 0.75
A49: 0 | F49: 0 | K49: 0 | P49: 女性： | U49: 戸締り | Y49: 0.75 | AB49: ='6'!AB37:AD37 -> 石谷 美代子
A51: 備考欄 | C51: （連絡事項・処方変更・その他）

Sheet 15
B1: クリニック 日 誌 | H1: 令和 | J1: ='6'!J1 -> 2 | K1: 年 | L1: ='1'!L1 -> 8 | M1: 月 | N1: 15 | O1: 日 | Q1: （ | S1: ） | V1: COO | Y1: IOO | AB1: AOM
A3: 勤務者名
A4: ='6'!A4:F4 -> 中村 恵理子 | G4: 日 | I4: 柳田 美雪 | N4: 日 | Q4: 診察室 | W4: 外来担当医 | Z4: 外来介助者
A5: 石原 恵海 | G5: 日 | Q5: 第１診察室 | Z5: 柳田・石原
Q6: 第２診察室
B8: 新 | C8: 再 | D8: 精 | E8: 内 | F8: 処 | G8: 患者様氏名 | L8: 新 | M8: 再 | N8: 精 | O8: 内 | P8: 処 | Q8: 患者様氏名 | V8: 新 | W8: 再 | X8: 精 | Y8: 内 | Z8: 処 | AA8: 患者様氏名
A9: 1 | J9: 様 | K9: 2 | T9: 様 | U9: 3 | AD9: 様
A10: 4 | J10: 様 | K10: 5 | T10: 様 | U10: 6 | AD10: 様
A11: 7 | J11: 様 | K11: 8 | T11: 様 | U11: 9 | AD11: 様
A12: 10 | J12: 様 | K12: 11 | T12: 様 | U12: 12 | AD12: 様
A13: 13 | J13: 様 | K13: 14 | T13: 様 | U13: 15 | AD13: 様
A14: 16 | J14: 様 | K14: 17 | T14: 様 | U14: 18 | AD14: 様
A15: 19 | J15: 様 | K15: 20 | T15: 様 | U15: 21 | AD15: 様
A16: 22 | J16: 様 | K16: 23 | T16: 様 | U16: 24 | AD16: 様
A17: 25 | J17: 様 | K17: 26 | T17: 様 | U17: 27 | AD17: 様
A18: 28 | J18: 様 | K18: 29 | T18: 様 | U18: 30 | AD18: 様
A19: 31 | J19: 様 | K19: 32 | T19: 様 | U19: 33 | AD19: 様
A20: 34 | J20: 様 | K20: 35 | T20: 様 | U20: 36 | AD20: 様
... A33: 73 | J33: 様 | K33: 74 | T33: 様 | U33: 75 | AD33: 様
A34: 外来患者数 | E34: 新： | F34: =COUNTIF(B9:B33,"・")+COUNTIF(L9:L33,"・")+COUNTIF(V9:V33,"・") -> 0 | H34: 名 | I34: 再： | J34: =COUNTIF(C9:C33,"・")+COUNTIF(M9:M33,"・")+COUNTIF(W9:W33,"・") -> 0 | L34: 名 | M34: 計： | N34: =SUM(F34:K34) -> 0 | Q34: 名 | R34: （ | S34: 精： | T34: =COUNTIF(D9:D33,"・")+COUNTIF(N9:N33,"・")+COUNTIF(X9:X33,"・") -> 0 | W34: 名 | X34: ・ | Y34: 内： | Z34: =COUNTIF(E9:E33,"・")+COUNTIF(O9:O33,"・")+COUNTIF(Y9:Y33,"・") -> 0 | AC34: 名 | AD34: ）
A36: 紹介患者様氏名 | F36: 紹介先 | K36: 逆紹介患者様氏名 | P36: 紹介元 | U36: 処置実施者 | AA36: 処置内容
E37: 様 | O37: 様 | Z37: 様
E38: 様 | O38: 様 | Z38: 様
E39: 様 | O39: 様 | Z39: 様
E40: 様 | O40: 様 | Z40: 様
E41: 様 | O41: 様 | Z41: 様
A42: 本日の検査 | F42: 検査内容 | K42: 処置実施者 | P42: 処置内容 | Z42: 様
E43: 様 | O43: 様 | Z43: 様
E44: 様 | O44: 様 | Z44: 様
E45: 様 | O45: 様 | Z45: 様
E46: 様 | O46: 様 | U46: 点検項目
E47: 様 | O47: 様 | U47: 項目 | Z47: 時間 | AC47: 点検者
A48: 発熱 | F48: 下痢 | K48: 風邪薬 | P48: 男性： | U48: 医療廃棄物 | Y48: 0.75
A49: 0 | F49: 0 | K49: 0 | P49: 女性： | U49: 戸締り | Y49: 0.75 | AB49: ='6'!AB37:AD37 -> 石谷 美代子
A51: 備考欄 | C51: （連絡事項・処方変更・その他）

Sheet 16
B1: クリニック 日 誌 | H1: 令和 | J1: ='6'!J1 -> 2 | K1: 年 | L1: ='1'!L1 -> 8 | M1: 月 | N1: 16 | O1: 日 | Q1: （ | S1: ） | V1: COO | Y1: IOO | AB1: AOM
A3: 勤務者名
A4: ='6'!A4:F4 -> 中村 恵理子 | G4: 日 | I4: 柳田 美雪 | N4: 日 | Q4: 診察室 | W4: 外来担当医 | Z4: 外来介助者
A5: 石原 恵海 | G5: 日 | Q5: 第１診察室 | Z5: 柳田・石原
Q6: 第２診察室
B8: 新 | C8: 再 | D8: 精 | E8: 内 | F8: 処 | G8: 患者様氏名 | L8: 新 | M8: 再 | N8: 精 | O8: 内 | P8: 処 | Q8: 患者様氏名 | V8: 新 | W8: 再 | X8: 精 | Y8: 内 | Z8: 処 | AA8: 患者様氏名
A9: 1 | J9: 様 | K9: 2 | T9: 様 | U9: 3 | AD9: 様
A10: 4 | J10: 様 | K10: 5 | T10: 様 | U10: 6 | AD10: 様
A11: 7 | J11: 様 | K11: 8 | T11: 様 | U11: 9 | AD11: 様
A12: 10 | J12: 様 | K12: 11 | T12: 様 | U12: 12 | AD12: 様
A13: 13 | J13: 様 | K13: 14 | T13: 様 | U13: 15 | AD13: 様
A14: 16 | J14: 様 | K14: 17 | T14: 様 | U14: 18 | AD14: 様
A15: 19 | J15: 様 | K15: 20 | T15: 様 | U15: 21 | AD15: 様
A16: 22 | J16: 様 | K16: 23 | T16: 様 | U16: 24 | AD16: 様
A17: 25 | J17: 様 | K17: 26 | T17: 様 | U17: 27 | AD17: 様
A18: 28 | J18: 様 | K18: 29 | T18: 様 | U18: 30 | AD18: 様
A19: 31 | J19: 様 | K19: 32 | T19: 様 | U19: 33 | AD19: 様
A20: 34 | J20: 様 | K20: 35 | T20: 様 | U20: 36 | AD20: 様
... A33: 73 | J33: 様 | K33: 74 | T33: 様 | U33: 75 | AD33: 様
A34: 外来患者数 | E34: 新： | F34: =COUNTIF(B9:B33,"・")+COUNTIF(L9:L33,"・")+COUNTIF(V9:V33,"・") -> 0 | H34: 名 | I34: 再： | J34: =COUNTIF(C9:C33,"・")+COUNTIF(M9:M33,"・")+COUNTIF(W9:W33,"・") -> 0 | L34: 名 | M34: 計： | N34: =SUM(F34:K34) -> 0 | Q34: 名 | R34: （ | S34: 精： | T34: =COUNTIF(D9:D33,"・")+COUNTIF(N9:N33,"・")+COUNTIF(X9:X33,"・") -> 0 | W34: 名 | X34: ・ | Y34: 内： | Z34: =COUNTIF(E9:E33,"・")+COUNTIF(O9:O33,"・")+COUNTIF(Y9:Y33,"・") -> 0 | AC34: 名 | AD34: ）
A36: 紹介患者様氏名 | F36: 紹介先 | K36: 逆紹介患者様氏名 | P36: 紹介元 | U36: 処置実施者 | AA36: 処置内容
E37: 様 | O37: 様 | Z37: 様
E38: 様 | O38: 様 | Z38: 様
E39: 様 | O39: 様 | Z39: 様
E40: 様 | O40: 様 | Z40: 様
E41: 様 | O41: 様 | Z41: 様
A42: 本日の検査 | F42: 検査内容 | K42: 処置実施者 | P42: 処置内容 | Z42: 様
E43: 様 | O43: 様 | Z43: 様
E44: 様 | O44: 様 | Z44: 様
E45: 様 | O45: 様 | Z45: 様
E46: 様 | O46: 様 | U46: 点検項目
E47: 様 | O47: 様 | U47: 項目 | Z47: 時間 | AC47: 点検者
A48: 発熱 | F48: 下痢 | K48: 風邪薬 | P48: 男性： | U48: 医療廃棄物 | Y48: 0.75
A49: 0 | F49: 0 | K49: 0 | P49: 女性： | U49: 戸締り | Y49: 0.75 | AB49: ='6'!AB37:AD37 -> 石谷 美代子
A51: 備考欄 | C51: （連絡事項・処方変更・その他）

Sheet 17
B1: クリニック 日 誌 | H1: 令和 | J1: ='6'!J1 -> 2 | K1: 年 | L1: ='1'!L1 -> 8 | M1: 月 | N1: 17 | O1: 日 | Q1: （ | R1: 月 | S1: ） | V1: COO | Y1: IOO | AB1: AOM
A3: 勤務者名
A4: ='6'!A4:F4 -> 中村 恵理子 | G4: 日 | I4: 柳田 美雪 | N4: 日 | Q4: 診察室 | W4: 外来担当医 | Z4: 外来介助者
A5: 石原 恵海 | G5: 日 | I5: 石谷 美代子 | N5: 日 | Q5: 第１診察室 | U5: 馬渡 晃弘 | Z5: 柳田・石原
Q6: 第２診察室 | U6: 千葉 良 | Z6: 柳田・石原
B8: 新 | C8: 再 | D8: 精 | E8: 内 | F8: 処 | G8: 患者様氏名 | L8: 新 | M8: 再 | N8: 精 | O8: 内 | P8: 処 | Q8: 患者様氏名 | V8: 新 | W8: 再 | X8: 精 | Y8: 内 | Z8: 処 | AA8: 患者様氏名
A9: 1 | C9: ・ | D9: ・ | F9: 56 | G9: 山本 鉄也 | J9: 様 | K9: 2 | M9: ・ | N9: ・ | P9: 14 | Q9: 坪 和昭 | T9: 様 | U9: 3 | W9: ・ | X9: ・ | Z9: 56 | AA9: 山崎 ケイ | AD9: 様
A10: 4 | C10: ・ | D10: ・ | F10: 56 | G10: 最上 チエ | J10: 様 | K10: 5 | M10: ・ | O10: ・ | P10: 56 | Q10: 重信 考至 | T10: 様 | U10: 6 | W10: ・ | X10: ・ | Z10: 28 | AA10: 細田 洋一 | AD10: 様
A11: 7 | C11: ・ | D11: ・ | F11: 28 | G11: 沼田 ひろ子 | J11: 様 | K11: 8 | M11: ・ | O11: ・ | P11: 56 | Q11: 重信 ひろ子 | T11: 様 | U11: 9 | W11: ・ | X11: ・ | Z11: 28 | AA11: 松林 秀樹 | AD11: 様
A12: 10 | C12: ・ | D12: ・ | F12: 28 | G12: 田中 成典 | J12: 様 | K12: 11 | M12: ・ | N12: ・ | P12: 56 | Q12: 川村 孝之 | T12: 様 | U12: 12 | W12: ・ | X12: ・ | Z12: 14 | AA12: 星 歩 | AD12: 様
A13: 13 | C13: ・ | D13: ・ | F13: 0 | G13: 上田 昌弘 | J13: 様 | K13: 14 | M13: ・ | N13: ・ | P13: 42 | Q13: 小向 浩子 | T13: 様 | U13: 15 | W13: ・ | X13: ・ | Z13: 14 | AA13: 宇﨑 真弥 | AD13: 様
A14: 16 | C14: ・ | D14: ・ | F14: 56 | G14: 高橋 榮 | J14: 様 | K14: 17 | M14: ・ | N14: ・ | P14: 28 | Q14: 工藤 彩海 | T14: 様 | U14: 18 | W14: ・ | X14: ・ | Z14: 30 | AA14: 田嶋 来魅琉 | AD14: 様
A15: 19 | C15: ・ | D15: ・ | F15: 56 | G15: 馬場 あや子 | J15: 様 | K15: 20 | M15: ・ | N15: ・ | P15: 56 | Q15: 相坂 昭雄 | T15: 様 | U15: 21 | W15: ・ | X15: ・ | Z15: 30 | AA15: 五日市 史弥 | AD15: 様
A16: 22 | C16: ・ | D16: ・ | F16: 56 | G16: 齋藤 ヒサ | J16: 様 | K16: 23 | M16: ・ | N16: ・ | P16: 28 | Q16: 吉田 武雄 | T16: 様 | U16: 24 | W16: ・ | X16: ・ | Z16: 7 | AA16: 今 萌花 | AD16: 様
A17: 25 | C17: ・ | D17: ・ | F17: 28 | G17: 田嶋 十三雄 | J17: 様 | K17: 26 | M17: ・ | N17: ・ | P17: 30 | Q17: 高松 奎虹 | T17: 様 | U17: 27 | W17: ・ | X17: ・ | Z17: 30 | AA17: 浄法寺 七海 | AD17: 様
A18: 28 | C18: ・ | D18: ・ | F18: 28 | G18: 蛯名 ノエ | J18: 様 | K18: 29 | M18: ・ | N18: ・ | P18: 0 | Q18: 舘 将平 | T18: 様 | U18: 30 | W18: ・ | X18: ・ | Z18: 30 | AA18: 成田 陸翔 | AD18: 様
A19: 31 | C19: ・ | D19: ・ | F19: 28 | G19: 沼端 ミセ | J19: 様 | K19: 32 | M19: ・ | N19: ・ | P19: 0 | Q19: 瀬川 高雄 | T19: 様 | U19: 33 | W19: ・ | X19: ・ | Z19: 30 | AA19: 乙部 孝太 | AD19: 様
A20: 34 | C20: ・ | D20: ・ | F20: 28 | G20: 小向 克也 | J20: 様 | K20: 35 | M20: ・ | N20: ・ | P20: 56 | Q20: 遠藤 陽介 | T20: 様 | U20: 36 | W20: ・ | X20: ・ | Z20: 30 | AA20: 宮古 峻 | AD20: 様
A21: 37 | C21: ・ | D21: ・ | F21: 28 | G21: 似鳥 勝枝 | J21: 様 | K21: 38 | L21: ・ | N21: ・ | P21: 0 | Q21: 柴田 葉子 | T21: 様 | U21: 39 | W21: ・ | X21: ・ | Z21: 30 | AA21: 木村 理海 | AD21: 様
A22: 40 | C22: ・ | D22: ・ | F22: 0 | G22: 石田 あい | J22: 様 | K22: 41 | M22: ・ | N22: ・ | P22: 28 | Q22: 安田 早苗 | T22: 様 | U22: 42 | W22: ・ | X22: ・ | Z22: 30 | AA22: 船場 颯太 | AD22: 様
A23: 43 | C23: ・ | D23: ・ | F23: 28 | G23: 工藤 富雄 | J23: 様 | K23: 44 | M23: ・ | N23: ・ | P23: 14 | Q23: 新山 雄斗 | T23: 様 | U23: 45 | W23: ・ | X23: ・ | Z23: 30 | AA23: 矢吹 有瑠斗 | AD23: 様
A24: 46 | C24: ・ | D24: ・ | F24: 0 | G24: 杉元 英春 | J24: 様 | K24: 47 | M24: ・ | N24: ・ | P24: 30 | Q24: 冨田 崇 | T24: 様 | U24: 48 | W24: ・ | X24: ・ | Z24: 30 | AA24: 相澤 拓也 | AD24: 様
A25: 49 | C25: ・ | D25: ・ | F25: 28 | G25: 伊瀬 雄介 | J25: 様 | K25: 50 | M25: ・ | N25: ・ | P25: 28 | Q25: 蛯名 悟 | T25: 様 | U25: 51 | W25: ・ | X25: ・ | Z25: 0 | AA25: 工藤 健壽 | AD25: 様
A26: 52 | C26: ・ | D26: ・ | F26: 28 | G26: 橋本 百合子 | J26: 様 | K26: 53 | M26: ・ | N26: ・ | P26: 0 | Q26: 浪岡 ヒデ | T26: 様 | U26: 54 | W26: ・ | X26: ・ | Z26: 0 | AA26: 田口 トシ子 | AD26: 様
A27: 55 | C27: ・ | D27: ・ | F27: 28 | G27: 遠嶋 剛 | J27: 様 | K27: 56 | M27: ・ | N27: ・ | P27: 56 | Q27: 永島 かなえ | T27: 様 | U27: 57 | W27: ・ | X27: ・ | Z27: 0 | AA27: 高村 加津子 | AD27: 様
A28: 58 | C28: ・ | D28: ・ | F28: 0 | G28: 深町 栄美子 | J28: 様 | K28: 59 | M28: ・ | N28: ・ | P28: 0 | Q28: 山縣 堅一 | T28: 様 | U28: 60 | W28: ・ | X28: ・ | Z28: 0 | AA28: 塚田 敏子 | AD28: 様
A29: 61 | C29: ・ | D29: ・ | F29: 0 | G29: 萠出 きのゑ | J29: 様 | K29: 62 | M29: ・ | N29: ・ | P29: 0 | Q29: 坂本 政勝 | T29: 様 | U29: 63 | W29: ・ | Y29: ・ | Z29: 90 | AA29: 村山 義信 | AD29: 様
A30: 64 | C30: ・ | D30: ・ | F30: 0 | G30: 萠出 克治 | J30: 様 | K30: 65 | M30: ・ | N30: ・ | P30: 0 | Q30: 大村 千鶴子 | T30: 様 | U30: 66 | W30: ・ | X30: ・ | Z30: 0 | AA30: 新山 颯也 | AD30: 様
A31: 外来患者数 | E31: 新： | F31: =COUNTIF(B9:B30,"・")+COUNTIF(L9:L30,"・")+COUNTIF(V9:V30,"・") -> 1 | H31: 名 | I31: 再： | J31: =COUNTIF(C9:C30,"・")+COUNTIF(M9:M30,"・")+COUNTIF(W9:W30,"・") -> 65 | L31: 名 | M31: 計： | N31: =SUM(F31:K31) -> 66 | Q31: 名 | R31: （ | S31: 精： | T31: =COUNTIF(D9:D30,"・")+COUNTIF(N9:N30,"・")+COUNTIF(X9:X30,"・") -> 63 | W31: 名 | X31: ・ | Y31: 内： | Z31: =COUNTIF(E9:E30,"・")+COUNTIF(O9:O30,"・")+COUNTIF(Y9:Y30,"・") -> 3 | AC31: 名 | AD31: ）
A33: 紹介患者様氏名 | F33: 紹介先 | K33: 逆紹介患者様氏名 | P33: 紹介元 | U33: 処置実施者 | AA33: 処置内容
E34: 様 | O34: 様 | Z34: 様
A35: 本日の検査 | F35: 検査内容 | K35: 処置実施者 | P35: 処置内容 | Z35: 様
A36: 新山 雄斗 | E36: 様 | F36: Y-G | K36: 小向 克也 | O36: 様 | P36: ｾﾞﾌﾟﾘｵﾝ150ｍｇ 1セット | Z36: 様
A37: 舘 将平 | E37: 様 | F37: AQ | O37: 様 | Z37: 様
A38: 今 萌花 | E38: 様 | F38: 血液検査 | O38: 様 | Z38: 様
A39: 五日市 史弥 | E39: 様 | F39: 血液検査 | O39: 様 | U39: 点検項目
A40: 柴田 葉子 | E40: 様 | F40: HDS-R MMSE 血液検査 | O40: 様 | U40: 項目 | Z40: 時間 | AC40: 点検者
A41: 発熱 | F41: 下痢 | K41: 風邪薬 | P41: 男性：37 | U41: 医療廃棄物 | Y41: 0.75 | AB41: 石原 恵海
A42: 0 | F42: 0 | K42: 0 | P42: 女性：29 | U42: 戸締り | Y42: 0.75 | AB42: ='6'!AB37:AD37 -> 石谷 美代子
A44: 備考欄 | C44: （連絡事項・処方変更・その他）
G45: 特になし
G46: 石原

Sheet 18
B1: クリニック 日 誌 | H1: 令和 | J1: ='6'!J1 -> 2 | K1: 年 | L1: ='1'!L1 -> 8 | M1: 月 | N1: 18 | O1: 日 | Q1: （ | R1: 火 | S1: ） | V1: COO | Y1: IOO | AB1: AOM
A3: 勤務者名
A4: ='6'!A4:F4 -> 中村 恵理子 | G4: 日 | I4: 柳田 美雪 | N4: 日 | Q4: 診察室 | W4: 外来担当医 | Z4: 外来介助者
A5: 石原 恵海 | G5: 日 | I5: 石谷 美代子 | N5: 日 | Q5: 第１診察室 | U5: 千葉 潜 | Z5: 柳田・石原
Q6: 第２診察室 | U6: 千葉 良 | Z6: 柳田・石原
B8: 新 | C8: 再 | D8: 精 | E8: 内 | F8: 処 | G8: 患者様氏名 | L8: 新 | M8: 再 | N8: 精 | O8: 内 | P8: 処 | Q8: 患者様氏名 | V8: 新 | W8: 再 | X8: 精 | Y8: 内 | Z8: 処 | AA8: 患者様氏名
A9: 1 | C9: ・ | D9: ・ | F9: 15 | G9: 新山 優衣 | J9: 様 | K9: 2 | M9: ・ | N9: ・ | P9: 14 | Q9: 和田 勇治 | T9: 様 | U9: 3 | W9: ・ | X9: ・ | Z9: 28 | AA9: 山田 果奈 | AD9: 様
A10: 4 | C10: ・ | D10: ・ | F10: 56 | G10: 冨田 義信 | J10: 様 | K10: 5 | M10: ・ | N10: ・ | P10: 30 | Q10: 高橋 喬 | T10: 様 | U10: 6 | W10: ・ | X10: ・ | Z10: 28 | AA10: 柏葉 ユリ | AD10: 様
A11: 7 | C11: ・ | D11: ・ | F11: 56 | G11: 大坂 与太郎 | J11: 様 | K11: 8 | M11: ・ | N11: ・ | P11: 30 | Q11: 出町 舜介 | T11: 様 | U11: 9 | W11: ・ | X11: ・ | Z11: 7 | AA11: 山岡 裕花 | AD11: 様
A12: 10 | C12: ・ | D12: ・ | F12: 28 | G12: 作田 由美子 | J12: 様 | K12: 11 | M12: ・ | N12: ・ | P12: 28 | Q12: 寺沢 瞳 | T12: 様 | U12: 12 | W12: ・ | X12: ・ | Z12: 7 | AA12: 田畑 あかり | AD12: 様
A13: 13 | C13: ・ | D13: ・ | F13: 28 | G13: 濱田 志美 | J13: 様 | K13: 14 | M13: ・ | N13: ・ | P13: 28 | Q13: 工藤 希和子 | T13: 様 | U13: 15 | W13: ・ | X13: ・ | Z13: 28 | AA13: 加藤 智 | AD13: 様
A14: 16 | C14: ・ | D14: ・ | F14: 14 | G14: 武良 ミセ | J14: 様 | K14: 17 | M14: ・ | N14: ・ | P14: 28 | Q14: 小比券巻 寿 | T14: 様 | U14: 18 | W14: ・ | X14: ・ | Z14: 28 | AA14: 浄法寺 美有 | AD14: 様
A15: 19 | C15: ・ | D15: ・ | F15: 28 | G15: 住吉 鉄男 | J15: 様 | K15: 20 | M15: ・ | N15: ・ | P15: 28 | Q15: 杉元 香菜子 | T15: 様 | U15: 21 | W15: ・ | X15: ・ | Z15: 35 | AA15: 石岡 蔦 | AD15: 様
A16: 22 | C16: ・ | D16: ・ | F16: 60 | G16: 山崎 新吾 | J16: 様 | K16: 23 | M16: ・ | N16: ・ | P16: 28 | Q16: 酒田 朋紀 | T16: 様 | U16: 24 | W16: ・ | X16: ・ | Z16: 60 | AA16: 坂岡 亮 | AD16: 様
A17: 25 | C17: ・ | D17: ・ | F17: 0 | G17: 小塚 龍之介 | J17: 様 | K17: 26 | M17: ・ | N17: ・ | P17: 28 | Q17: 秋林 夕子 | T17: 様 | U17: 27 | W17: ・ | X17: ・ | Z17: 28 | AA17: 佐藤 初男 | AD17: 様
A18: 28 | C18: ・ | D18: ・ | F18: 7 | G18: 蛯名 琉有 | J18: 様 | K18: 29 | M18: ・ | N18: ・ | P18: 28 | Q18: 若沢 広志 | T18: 様 | U18: 30 | W18: ・ | X18: ・ | Z18: 28 | AA18: 南 英文 | AD18: 様
A19: 31 | C19: ・ | D19: ・ | F19: 28 | G19: 関向 辰哉 | J19: 様 | K19: 32 | M19: ・ | N19: ・ | P19: 28 | Q19: 佐々木 顕人 | T19: 様 | U19: 33 | W19: ・ | X19: ・ | Z19: 30 | AA19: 橋本 哲 | AD19: 様
A20: 34 | C20: ・ | D20: ・ | F20: 30 | G20: 馬場 ハツヨ | J20: 様 | K20: 35 | M20: ・ | N20: ・ | P20: 28 | Q20: 本間 昇 | T20: 様 | U20: 36 | W20: ・ | X20: ・ | Z20: 14 | AA20: 石ケ谷 數子 | AD20: 様
... A25: 49 | C25: ・ | D25: ・ | F25: 28 | G25: 成田 キヌエ | J25: 様 | K25: 50 | M25: ・ | N25: ・ | P25: 28 | Q25: 松山 日向 | T25: 様 | U25: 51 | W25: ・ | X25: ・ | Z25: 0 | AA25: 水上 民一 | AD25: 様
A26: 52 | C26: ・ | D26: ・ | F26: 28 | G26: 成田 秀之 | J26: 様 | K26: 53 | L26: ・ | N26: ・ | P26: 30 | Q26: 伊藤 哲也 | T26: 様 | U26: 54 | W26: ・ | X26: ・ | Z26: 0 | AA26: 石井 佐代子 | AD26: 様
A27: 55 | C27: ・ | D27: ・ | F27: 28 | G27: 太田 広枝 | J27: 様 | K27: 56 | M27: ・ | N27: ・ | P27: 28 | Q27: 工藤 利子 | T27: 様 | U27: 57 | W27: ・ | X27: ・ | Z27: 0 | AA27: 佐々木 政夫 | AD27: 様
A28: 58 | C28: ・ | D28: ・ | F28: 30 | G28: 下田 里美 | J28: 様 | K28: 59 | M28: ・ | N28: ・ | P28: 30 | Q28: 一戸 隆暢 | T28: 様 | U28: 60 | W28: ・ | X28: ・ | Z28: 0 | AA28: 工藤 健壽 | AD28: 様
A29: 61 | C29: ・ | D29: ・ | F29: 14 | G29: 馬場 悠 | J29: 様 | K29: 62 | M29: ・ | N29: ・ | P29: 28 | Q29: 西舘 瞳 | T29: 様 | U29: 63 | W29: ・ | X29: ・ | Z29: 0 | AA29: 高村 加津子 | AD29: 様
A30: 64 | C30: ・ | D30: ・ | F30: 30 | G30: 遠藤 ひとみ | J30: 様 | K30: 65 | M30: ・ | N30: ・ | P30: 28 | Q30: 若月 淳 | T30: 様 | U30: 66 | W30: ・ | X30: ・ | Z30: 0 | AA30: 田口 トシ子 | AD30: 様
A31: 外来患者数 | E31: 新： | F31: =COUNTIF(B9:B30,"・")+COUNTIF(L9:L30,"・")+COUNTIF(V9:V30,"・") -> 1 | H31: 名 | I31: 再： | J31: =COUNTIF(C9:C30,"・")+COUNTIF(M9:M30,"・")+COUNTIF(W9:W30,"・") -> 65 | L31: 名 | M31: 計： | N31: =SUM(F31:K31) -> 66 | Q31: 名 | R31: （ | S31: 精： | T31: =COUNTIF(D9:D30,"・")+COUNTIF(N9:N30,"・")+COUNTIF(X9:X30,"・") -> 66 | W31: 名 | X31: ・ | Y31: 内： | Z31: =COUNTIF(E9:E30,"・")+COUNTIF(O9:O30,"・")+COUNTIF(Y9:Y30,"・") -> 0 | AC31: 名 | AD31: ）
A33: 紹介患者様氏名 | F33: 紹介先 | K33: 逆紹介患者様氏名 | P33: 紹介元 | U33: 本日の検査 | AA33: 検査内容
A34: 石岡 蔦 | E34: 様 | F34: 三沢市立病院 | O34: 様 | U34: 石田 裕美 | Z34: 様 | AA34: MCI
A35: 本日の検査 | F35: 検査内容 | K35: 処置実施者 | P35: 処置内容 | U35: 浄法寺 美有 | Z35: 様 | AA35: AQ
A36: 大坂 与太郎 | E36: 様 | F36: 血液検査 | K36: 野田 菊枝 | O36: 様 | P36: ｾﾞﾌﾟﾘｵﾝ100mg １ｷｯﾄ | Z36: 様
A37: 住吉 鉄男 | E37: 様 | F37: 血液検査 | K37: 坂本 政勝 | O37: 様 | P37: ハロマンス50mg 1A | Z37: 様
A38: 高橋 喬 | E38: 様 | F38: 血液検査 | O38: 様 | Z38: 様
A39: 遠藤 ひとみ | E39: 様 | F39: 血液検査 | O39: 様 | Z39: 様
A40: 小塚 龍之介 | E40: 様 | F40: 血液検査 | O40: 様 | Z40: 様
A41: 松山 日向 | E41: 様 | F41: ロール | O41: 様 | Z41: 様
A42: 杉元 香奈子 | E42: 様 | F42: カウンセリング | O42: 様 | U42: 点検項目
A43: 新山 優衣 | E43: 様 | F43: WAIS | O43: 様 | U43: 項目 | Z43: 時間 | AC43: 点検者
A44: 発熱 | F44: 下痢 | K44: 風邪薬 | P44: 男性：28 | U44: 医療廃棄物 | Y44: 0.75 | AB44: 石原 恵海
A45: 0 | F45: 0 | K45: 0 | P45: 女性：38 | U45: 戸締り | Y45: 0.75 | AB45: ='6'!AB37:AD37 -> 石谷 美代子
A47: 備考欄 | C47: （連絡事項・処方変更・その他）
G48: 特になし
G49: 石原

Sheet 19
B1: クリニック 日 誌 | H1: 令和 | J1: ='6'!J1 -> 2 | K1: 年 | L1: ='1'!L1 -> 8 | M1: 月 | N1: 19 | O1: 日 | Q1: （ | R1: 水 | S1: ） | V1: COO | Y1: IOO | AB1: AOM
A3: 勤務者名
A4: ='6'!A4:F4 -> 中村 恵理子 | G4: 日 | I4: 柳田 美雪 | N4: 日 | Q4: 診察室 | W4: 外来担当医 | Z4: 外来介助者
A5: 石原 恵海 | G5: 日 | I5: 石谷 美代子 | N5: 日 | Q5: 第１診察室 | U5: 千葉 潜 | Z5: 柳田・石原
Q6: 第２診察室
B8: 新 | C8: 再 | D8: 精 | E8: 内 | F8: 処 | G8: 患者様氏名 | L8: 新 | M8: 再 | N8: 精 | O8: 内 | P8: 処 | Q8: 患者様氏名 | V8: 新 | W8: 再 | X8: 精 | Y8: 内 | Z8: 処 | AA8: 患者様氏名
A9: 1 | C9: ・ | D9: ・ | F9: 28 | G9: 中平 陽香 | J9: 様 | K9: 2 | M9: ・ | N9: ・ | P9: 28 | Q9: 奥寺 真理子 | T9: 様 | U9: 3 | V9: ・ | X9: ・ | Z9: 0 | AA9: 安村 恵 | AD9: 様
A10: 4 | C10: ・ | D10: ・ | F10: 28 | G10: 渡辺 クニ | J10: 様 | K10: 5 | M10: ・ | N10: ・ | P10: 28 | Q10: 佐々木 ヨコ | T10: 様 | U10: 6 | W10: ・ | X10: ・ | Z10: 14 | AA10: 浦邊 健司 | AD10: 様
A11: 7 | C11: ・ | D11: ・ | F11: 28 | G11: 小笠原 光俊 | J11: 様 | K11: 8 | M11: ・ | N11: ・ | P11: 30 | Q11: 佐々木 則子 | T11: 様 | U11: 9 | W11: ・ | X11: ・ | Z11: 0 | AA11: 原田 悠紀 | AD11: 様
A12: 10 | C12: ・ | D12: ・ | F12: 30 | G12: 小林 きよ | J12: 様 | K12: 11 | M12: ・ | N12: ・ | P12: 28 | Q12: 花木 よし | T12: 様 | U12: 12 | W12: ・ | X12: ・ | Z12: 30 | AA12: 種市 日出男 | AD12: 様
A13: 13 | C13: ・ | D13: ・ | F13: 14 | G13: 角 和子 | J13: 様 | K13: 14 | M13: ・ | N13: ・ | P13: 30 | Q13: 佐々木 政夫 | T13: 様 | U13: 15 | W13: ・ | X13: ・ | Z13: 14 | AA13: 川村 魁斗 | AD13: 様
A14: 16 | C14: ・ | D14: ・ | F14: 28 | G14: 鈴木 正記 | J14: 様 | K14: 17 | M14: ・ | N14: ・ | P14: 30 | Q14: 冨田 りえ | T14: 様 | U14: 18 | W14: ・ | X14: ・ | Z14: 14 | AA14: 橘 夕美 | AD14: 様
A15: 19 | C15: ・ | D15: ・ | F15: 14 | G15: 織笠 勝男 | J15: 様 | K15: 20 | M15: ・ | N15: ・ | P15: 28 | Q15: 橋本 隆二 | T15: 様 | U15: 21 | W15: ・ | X15: ・ | Z15: 28 | AA15: 村舘 博輝 | AD15: 様
A16: 22 | C16: ・ | D16: ・ | F16: 28 | G16: 濤岡 定四郎 | J16: 様 | K16: 23 | M16: ・ | N16: ・ | P16: 0 | Q16: 佐藤 澄子 | T16: 様 | U16: 24 | W16: ・ | X16: ・ | Z16: 0 | AA16: 坂本 政勝 | AD16: 様
A17: 25 | C17: ・ | D17: ・ | F17: 28 | G17: 土井 美保 | J17: 様 | K17: 26 | M17: ・ | N17: ・ | P17: 30 | Q17: 岡山 貴文 | T17: 様 | U17: 27 | W17: ・ | X17: ・ | Z17: 0 | AA17: 沼端 ミセ | AD17: 様
A18: 28 | C18: ・ | D18: ・ | F18: 28 | G18: 菊池 成年 | J18: 様 | K18: 29 | M18: ・ | N18: ・ | P18: 28 | Q18: 河村 孝子 | T18: 様 | U18: 30 | W18: ・ | X18: ・ | Z18: 0 | AA18: 深町 栄美子 | AD18: 様
A19: 31 | C19: ・ | D19: ・ | F19: 28 | G19: 鍛冶場 裕 | J19: 様 | K19: 32 | M19: ・ | N19: ・ | P19: 28 | Q19: 木村 正子 | T19: 様 | U19: 33 | W19: ・ | X19: ・ | Z19: 0 | AA19: 千葉 スワ | AD19: 様
A20: 34 | C20: ・ | D20: ・ | F20: 60 | G20: 東峯 光喜 | J20: 様 | K20: 35 | M20: ・ | N20: ・ | P20: 30 | Q20: 赤川 美紀 | T20: 様 | U20: 36 | W20: ・ | X20: ・ | Z20: 0 | AA20: 萠出 きのゑ | AD20: 様
A21: 37 | C21: ・ | D21: ・ | F21: 28 | G21: 中野渡 節子 | J21: 様 | K21: 38 | M21: ・ | N21: ・ | P21: 28 | Q21: 新山 金太郎 | T21: 様 | U21: 39 | W21: ・ | X21: ・ | Z21: 0 | AA21: 萠出 克治 | AD21: 様
A22: 40 | C22: ・ | D22: ・ | F22: 28 | G22: 野々宮 ミヨ | J22: 様 | K22: 41 | M22: ・ | N22: ・ | P22: 28 | Q22: 森 マサ子 | T22: 様 | U22: 42 | W22: ・ | X22: ・ | Z22: 0 | AA22: 石ケ谷 數子 | AD22: 様
A23: 43 | C23: ・ | D23: ・ | F23: 0 | G23: 小田桐 海 | J23: 様 | K23: 44 | L23: ・ | N23: ・ | P23: 30 | Q23: 坂本 隆志 | T23: 様 | U23: 45 | W23: ・ | X23: ・ | Z23: 0 | AA23: 豊川 悦子 | AD23: 様
A24: 46 | C24: ・ | D24: ・ | F24: 30 | G24: 松林 祐 | J24: 様 | K24: 47 | M24: ・ | N24: ・ | P24: 28 | Q24: 橋本 オシエ | T24: 様 | U24: 48 | W24: ・ | X24: ・ | Z24: 0 | AA24: 瀬川 高雄 | AD24: 様
A25: 49 | C25: ・ | D25: ・ | F25: 56 | G25: 山本 トヨ | J25: 様 | K25: 50 | M25: ・ | N25: ・ | P25: 14 | Q25: 浪岡 淳哉 | T25: 様 | U25: 51 | W25: ・ | X25: ・ | Z25: 0 | AA25: 田口 トシ子 | AD25: 様
A26: 52 | C26: ・ | D26: ・ | F26: 28 | G26: 大橋 ミサ | J26: 様 | K26: 53 | M26: ・ | N26: ・ | P26: 28 | Q26: 丸谷 美香 | T26: 様 | U26: 54 | W26: ・ | X26: ・ | Z26: 0 | AA26: 高村 加津子 | AD26: 様
A27: 55 | C27: ・ | D27: ・ | F27: 0 | G27: 伝法 俊彦 | J27: 様 | K27: 56 | M27: ・ | N27: ・ | P27: 0 | Q27: 佐藤 ソノ | T27: 様 | U27: 57 | W27: ・ | X27: ・ | Z27: 0 | AA27: 佐藤 初男 | AD27: 様
A28: 58 | C28: ・ | D28: ・ | F28: 0 | G28: 小川 サクラ | J28: 様 | K28: 59 | M28: ・ | N28: ・ | P28: 0 | Q28: 中居 敬悦 | T28: 様 | U28: 60 | W28: ・ | X28: ・ | Z28: 3 | AA28: 小山 瑞桔 | AD28: 様
A29: 61 | C29: ・ | D29: ・ | F29: 28 | G29: 須藤 直子 | J29: 様 | T29: 様 | AD29: 様
A30: 外来患者数 | E30: 新： | F30: =COUNTIF(B9:B28,"・")+COUNTIF(L9:L28,"・")+COUNTIF(V9:V28,"・") -> 2 | H30: 名 | I30: 再： | J30: =COUNTIF(C9:C28,"・")+COUNTIF(M9:M28,"・")+COUNTIF(W9:W28,"・") -> 58 | L30: 名 | M30: 計： | N30: =SUM(F30:K30) -> 60 | Q30: 名 | R30: （ | S30: 精： | T30: =COUNTIF(D9:D28,"・")+COUNTIF(N9:N28,"・")+COUNTIF(X9:X28,"・") -> 60 | W30: 名 | X30: ・ | Y30: 内： | Z30: =COUNTIF(E9:E28,"・")+COUNTIF(O9:O28,"・")+COUNTIF(Y9:Y28,"・") -> 0 | AC30: 名 | AD30: ）
A32: 紹介患者様氏名 | F32: 紹介先 | K32: 逆紹介患者様氏名 | P32: 紹介元 | U32: 処置実施者 | AA32: 処置内容
E33: 様 | K33: 坂本 隆志 | O33: 様 | P33: 三沢聖心会病院 | Z33: 様
E34: 様 | K34: 浦邊 健司 | O34: 様 | P34: 三沢市立病院 | Z34: 様
A35: 本日の検査 | F35: 検査内容 | K35: 処置実施者 | P35: 処置内容 | Z35: 様
A36: 鈴木 正記 | E36: 様 | F36: 血液検査 | K36: 川村 魁斗 | O36: 様 | P36: ハロマンス50ｍｇ 1A | Z36: 様
A37: 織笠 勝男 | E37: 様 | F37: 血液検査 | O37: 様 | Z37: 様
A38: 大橋 ミサ | E38: 様 | F38: 血液検査 | O38: 様 | Z38: 様
A39: 伝法 俊彦 | E39: 様 | F39: Y-G | O39: 様 | U39: 点検項目
E40: 様 | O40: 様 | U40: 項目 | Z40: 時間 | AC40: 点検者
A41: 発熱 | F41: 下痢 | K41: 風邪薬 | P41: 男性：28 | U41: 医療廃棄物 | Y41: 0.75 | AB41: 石原 恵海
A42: 0 | F42: 0 | K42: 0 | P42: 女性：33 | U42: 戸締り | Y42: 0.75 | AB42: ='6'!AB37:AD37 -> 石谷 美代子
A44: 備考欄 | C44: （連絡事項・処方変更・その他）
G45: 特になし
G46: 石原

Sheet 20
B1: クリニック 日 誌 | H1: 令和 | J1: ='6'!J1 -> 2 | K1: 年 | L1: ='1'!L1 -> 8 | M1: 月 | N1: 20 | O1: 日 | Q1: （ | S1: ） | V1: COO | Y1: IOO | AB1: AOM
A3: 勤務者名
A4: ='6'!A4:F4 -> 中村 恵理子 | G4: 日 | I4: 柳田 美雪 | N4: 日 | Q4: 診察室 | W4: 外来担当医 | Z4: 外来介助者
A5: 石原 恵海 | G5: 日 | I5: 石谷 美代子 | N5: 日 | Q5: 第１診察室 | U5: 千葉 潜 | Z5: 柳田・石原
Q6: 第２診察室 | U6: 馬渡 晃弘 | Z6: 柳田・石原
B8: 新 | C8: 再 | D8: 精 | E8: 内 | F8: 処 | G8: 患者様氏名 | L8: 新 | M8: 再 | N8: 精 | O8: 内 | P8: 処 | Q8: 患者様氏名 | V8: 新 | W8: 再 | X8: 精 | Y8: 内 | Z8: 処 | AA8: 患者様氏名
A9: 1 | C9: ・ | D9: ・ | F9: 0 | G9: 大嶋 康裕 | J9: 様 | K9: 2 | M9: ・ | N9: ・ | P9: 0 | Q9: 野田 真莉奈 | T9: 様 | U9: 3 | W9: ・ | X9: ・ | Z9: 30 | AA9: 横浜 秀一 | AD9: 様
A10: 4 | C10: ・ | D10: ・ | F10: 28 | G10: 角田 晃 | J10: 様 | K10: 5 | M10: ・ | N10: ・ | P10: 14 | Q10: 岡田 恭佳 | T10: 様 | U10: 6 | W10: ・ | X10: ・ | Z10: 60 | AA10: 市川 由雄 | AD10: 様
A11: 7 | C11: ・ | D11: ・ | F11: 28 | G11: 佐藤 美菜子 | J11: 様 | K11: 8 | M11: ・ | N11: ・ | P11: 14 | Q11: 沼田 壽美子 | T11: 様 | U11: 9 | W11: ・ | X11: ・ | Z11: 60 | AA11: 玉澤 善治 | AD11: 様
A12: 10 | C12: ・ | D12: ・ | F12: 28 | G12: 町屋 睦子 | J12: 様 | K12: 11 | M12: ・ | N12: ・ | P12: 7 | Q12: 中居 敬悦 | T12: 様 | U12: 12 | W12: ・ | X12: ・ | Z12: 60 | AA12: 近藤 光子 | AD12: 様
A13: 13 | C13: ・ | D13: ・ | F13: 28 | G13: 千葉 幸子 | J13: 様 | K13: 14 | M13: ・ | N13: ・ | P13: 28 | Q13: 高橋 田鶴子 | T13: 様 | U13: 15 | W13: ・ | X13: ・ | Z13: 21 | AA13: 相内 京子 | AD13: 様
A14: 16 | C14: ・ | D14: ・ | F14: 28 | G14: 小又 清二 | J14: 様 | K14: 17 | M14: ・ | N14: ・ | P14: 7 | Q14: 佐藤 秀子 | T14: 様 | U14: 18 | W14: ・ | X14: ・ | Z14: 30 | AA14: 鈴木 愛子 | AD14: 様
A15: 19 | C15: ・ | D15: ・ | F15: 30 | G15: 木村 健 | J15: 様 | K15: 20 | M15: ・ | N15: ・ | P15: 28 | Q15: 古舘 沙織 | T15: 様 | U15: 21 | W15: ・ | X15: ・ | Z15: 30 | AA15: 河原﨑 キヨエ | AD15: 様
A16: 22 | C16: ・ | D16: ・ | F16: 30 | G16: 佐々木 春夫 | J16: 様 | K16: 23 | M16: ・ | N16: ・ | P16: 28 | Q16: 長南 のぞみ | T16: 様 | U16: 24 | W16: ・ | X16: ・ | Z16: 30 | AA16: 舛田 良子 | AD16: 様
A17: 25 | C17: ・ | D17: ・ | F17: 28 | G17: 石久保 香織 | J17: 様 | K17: 26 | L17: ・ | N17: ・ | P17: 0 | Q17: 鈴木 智恵子 | T17: 様 | U17: 27 | W17: ・ | X17: ・ | Z17: 60 | AA17: 馬場 貴子 | AD17: 様
A18: 28 | C18: ・ | D18: ・ | F18: 30 | G18: 田村 美津子 | J18: 様 | K18: 29 | M18: ・ | N18: ・ | P18: 0 | Q18: 舘花 志穂 | T18: 様 | U18: 30 | W18: ・ | X18: ・ | Z18: 0 | AA18: 工藤 健壽 | AD18: 様
A19: 31 | C19: ・ | D19: ・ | F19: 28 | G19: 町屋 ヤエ | J19: 様 | K19: 32 | M19: ・ | N19: ・ | P19: 28 | Q19: 橋本 イチ | T19: 様 | U19: 33 | W19: ・ | X19: ・ | Z19: 0 | AA19: 高村 加津子 | AD19: 様
A20: 34 | C20: ・ | D20: ・ | F20: 0 | G20: 西舘 瞳 | J20: 様 | K20: 35 | M20: ・ | N20: ・ | P20: 28 | Q20: 沼山 かおる | T20: 様 | U20: 36 | W20: ・ | X20: ・ | Z20: 0 | AA20: 田口 トシ子 | AD20: 様
A21: 37 | C21: ・ | D21: ・ | F21: 0 | G21: 佐藤 澄子 | J21: 様 | K21: 38 | M21: ・ | N21: ・ | P21: 0 | Q21: 佐々木 政夫 | T21: 様 | U21: 39 | V21: ・ | X21: ・ | Z21: 11 | AA21: 高田 キミヨ | AD21: 様
A22: 40 | B22: ・ | D22: ・ | F22: 0 | G22: 西向 ツギ | J22: 様 | K22: 41 | T22: 様 | U22: 42 | AD22: 様
A23: 外来患者数 | E23: 新： | F23: =COUNTIF(B9:B22,"・")+COUNTIF(L9:L22,"・")+COUNTIF(V9:V22,"・") -> 3 | H23: 名 | I23: 再： | J23: =COUNTIF(C9:C22,"・")+COUNTIF(M9:M22,"・")+COUNTIF(W9:W22,"・") -> 37 | L23: 名 | M23: 計： | N23: =SUM(F23:K23) -> 40 | Q23: 名 | R23: （ | S23: 精： | T23: =COUNTIF(D9:D22,"・")+COUNTIF(N9:N22,"・")+COUNTIF(X9:X22,"・") -> 40 | W23: 名 | X23: ・ | Y23: 内： | Z23: =COUNTIF(E9:E22,"・")+COUNTIF(O9:O22,"・")+COUNTIF(Y9:Y22,"・") -> 0 | AC23: 名 | AD23: ）
A25: 紹介患者様氏名 | F25: 紹介先 | K25: 逆紹介患者様氏名 | P25: 紹介元 | U25: 処置実施者 | AA25: 処置内容
E26: 様 | K26: 鈴木 智恵子 | O26: 様 | P26: 三沢市立病院 | Z26: 様
E27: 様 | K27: 高田 キミヨ | O27: 様 | P27: 三沢中央病院 | Z27: 様
E28: 様 | K28: 西向 ツギ | O28: 様 | P28: 岡三沢診療所 | Z28: 様
A29: 本日の検査 | F29: 検査内容 | K29: 処置実施者 | P29: 処置内容 | Z29: 様
A30: 千葉 幸子 | E30: 様 | F30: 血液検査 | O30: 様 | Z30: 様
A31: 高田 キミヨ | E31: 様 | F31: HDS-R MMSE 血液検査 | O31: 様 | Z31: 様
A32: 鈴木 智恵子 | E32: 様 | F32: HDS-R MMSE | O32: 様 | Z32: 様
A33: 大嶋 康裕 | E33: 様 | F33: WAIS | O33: 様 | U33: 点検項目
A34: 舘花 志穂 | E34: 様 | F34: Ror | O34: 様 | U34: 項目 | Z34: 時間 | AC34: 点検者
A35: 発熱 | F35: 下痢 | K35: 風邪薬 | P35: 男性：11 | U35: 医療廃棄物 | Y35: 0.75 | AB35: 石原 恵海
A36: 0 | F36: 0 | K36: 0 | P36: 女性：29 | U36: 戸締り | Y36: 0.75 | AB36: ='6'!AB37:AD37 -> 石谷 美代子
A38: 備考欄 | C38: （連絡事項・処方変更・その他）

Sheet 21
B1: クリニック 日 誌 | H1: 令和 | J1: ='6'!J1 -> 2 | K1: 年 | L1: ='1'!L1 -> 8 | M1: 月 | N1: 21 | O1: 日 | Q1: （ | R1: 金 | S1: ） | V1: COO | Y1: IOO | AB1: AOM
A3: 勤務者名
A4: ='6'!A4:F4 -> 中村 恵理子 | G4: 日 | I4: 柳田 美雪 | N4: 日 | Q4: 診察室 | W4: 外来担当医 | Z4: 外来介助者
A5: 石原 恵海 | G5: 日 | I5: 石谷 美代子 | N5: 日 | Q5: 第１診察室 | U5: 金 泰徳 | Z5: 柳田・石原
Q6: 第２診察室 | U6: 千葉 良 | Z6: 柳田・石原
B8: 新 | C8: 再 | D8: 精 | E8: 内 | F8: 処 | G8: 患者様氏名 | L8: 新 | M8: 再 | N8: 精 | O8: 内 | P8: 処 | Q8: 患者様氏名 | V8: 新 | W8: 再 | X8: 精 | Y8: 内 | Z8: 処 | AA8: 患者様氏名
A9: 1 | C9: ・ | D9: ・ | F9: 28 | G9: 澤田 千代子 | J9: 様 | K9: 2 | M9: ・ | N9: ・ | P9: 28 | Q9: 望月 恵美子 | T9: 様 | U9: 3 | W9: ・ | X9: ・ | Z9: 28 | AA9: 古田 真 | AD9: 様
A10: 4 | B10: ・ | E10: ・ | F10: 7 | G10: 滝田 伊純 | J10: 様 | K10: 5 | M10: ・ | O10: ・ | P10: 30 | Q10: 山本 優 | T10: 様 | U10: 6 | W10: ・ | X10: ・ | Z10: 28 | AA10: 野々宮 是 | AD10: 様
A11: 7 | C11: ・ | D11: ・ | F11: 30 | G11: 吉田 俊一 | J11: 様 | K11: 8 | M11: ・ | N11: ・ | P11: 60 | Q11: 遠藤 勝也 | T11: 様 | U11: 9 | W11: ・ | X11: ・ | Z11: 28 | AA11: 宮崎 由美子 | AD11: 様
A12: 10 | C12: ・ | D12: ・ | F12: 5 | G12: 蒔苗 美穂子 | J12: 様 | K12: 11 | M12: ・ | N12: ・ | P12: 30 | Q12: 伊藤 和子 | T12: 様 | U12: 12 | W12: ・ | X12: ・ | Z12: 28 | AA12: 宮崎 雪子 | AD12: 様
A13: 13 | C13: ・ | D13: ・ | F13: 30 | G13: 藤田 予里 | J13: 様 | K13: 14 | M13: ・ | N13: ・ | P13: 60 | Q13: 工藤 貞子 | T13: 様 | U13: 15 | W13: ・ | X13: ・ | Z13: 60 | AA13: 坂本 リセ | AD13: 様
A14: 16 | C14: ・ | D14: ・ | F14: 35 | G14: 北村 イウ子 | J14: 様 | K14: 17 | M14: ・ | N14: ・ | P14: 63 | Q14: 前田 チヤ | T14: 様 | U14: 18 | W14: ・ | X14: ・ | Z14: 28 | AA14: 沢尾 美香 | AD14: 様
A15: 19 | C15: ・ | D15: ・ | F15: 14 | G15: 沼山 裕一 | J15: 様 | K15: 20 | M15: ・ | N15: ・ | P15: 42 | Q15: 堤 富美子 | T15: 様 | U15: 21 | W15: ・ | X15: ・ | Z15: 28 | AA15: 大釜 美香子 | AD15: 様
A16: 22 | C16: ・ | D16: ・ | F16: 42 | G16: 袴田 紀子 | J16: 様 | K16: 23 | M16: ・ | N16: ・ | P16: 35 | Q16: 中野渡 雄 | T16: 様 | U16: 24 | W16: ・ | X16: ・ | Z16: 60 | AA16: 小野 俊幸 | AD16: 様
A17: 25 | C17: ・ | D17: ・ | F17: 35 | G17: 類家 せき | J17: 様 | K17: 26 | M17: ・ | N17: ・ | P17: 30 | Q17: 市川 貴裕 | T17: 様 | U17: 27 | W17: ・ | X17: ・ | Z17: 56 | AA17: 加藤 英俊 | AD17: 様
A18: 28 | C18: ・ | D18: ・ | F18: 28 | G18: 岩間 ツネ | J18: 様 | K18: 29 | M18: ・ | N18: ・ | P18: 30 | Q18: 佐々木 久美子 | T18: 様 | U18: 30 | W18: ・ | X18: ・ | Z18: 21 | AA18: 川口 千明 | AD18: 様
A19: 31 | C19: ・ | D19: ・ | F19: 30 | G19: 木村 洋子 | J19: 様 | K19: 32 | M19: ・ | N19: ・ | P19: 28 | Q19: 新山 光浩 | T19: 様 | U19: 33 | W19: ・ | X19: ・ | Z19: 17 | AA19: 倉内 翼 | AD19: 様
A20: 34 | C20: ・ | D20: ・ | F20: 30 | G20: 前畑 清子 | J20: 様 | K20: 35 | M20: ・ | N20: ・ | P20: 60 | Q20: 二ッ森 アサ | T20: 様 | U20: 36 | W20: ・ | X20: ・ | Z20: 21 | AA20: 小林 稔 | AD20: 様
A21: 37 | C21: ・ | D21: ・ | F21: 21 | G21: 畑山 栄美子 | J21: 様 | K21: 38 | M21: ・ | N21: ・ | P21: 0 | Q21: 磯谷 善正 | T21: 様 | U21: 39 | W21: ・ | X21: ・ | Z21: 21 | AA21: 石原 恵海 | AD21: 様
A22: 40 | C22: ・ | D22: ・ | F22: 21 | G22: 川村 華子 | J22: 様 | K22: 41 | M22: ・ | N22: ・ | P22: 28 | Q22: 小泉 進 | T22: 様 | U22: 42 | W22: ・ | X22: ・ | Z22: 14 | AA22: 増田 大和 | AD22: 様
... A30: 64 | C30: ・ | D30: ・ | F30: 0 | G30: 萠出 克治 | J30: 様 | K30: 65 | M30: ・ | N30: ・ | P30: 0 | Q30: 山本 美津子 | T30: 様 | U30: 66 | W30: ・ | X30: ・ | Z30: 30 | AA30: 古山 瑞桔 | AD30: 様
A31: 67 | C31: ・ | D31: ・ | F31: 30 | G31: 小野 蒼弥 | J31: 様 | K31: 68 | M31: ・ | N31: ・ | P31: 30 | Q31: 大澤 琉欧 | T31: 様 | U31: 69 | V31: ・ | Y31: ・ | Z31: 7 | AA31: 梅津 禮子 | AD31: 様
A32: 外来患者数 | E32: 新： | F32: =COUNTIF(B9:B31,"・")+COUNTIF(L9:L31,"・")+COUNTIF(V9:V31,"・") -> 2 | H32: 名 | I32: 再： | J32: =COUNTIF(C9:C31,"・")+COUNTIF(M9:M31,"・")+COUNTIF(W9:W31,"・") -> 67 | L32: 名 | M32: 計： | N32: =SUM(F32:K32) -> 69 | Q32: 名 | R32: （ | S32: 精： | T32: =COUNTIF(D9:D31,"・")+COUNTIF(N9:N31,"・")+COUNTIF(X9:X31,"・") -> 66 | W32: 名 | X32: ・ | Y32: 内： | Z32: =COUNTIF(E9:E31,"・")+COUNTIF(O9:O31,"・")+COUNTIF(Y9:Y31,"・") -> 3 | AC32: 名 | AD32: ）
A34: 紹介患者様氏名 | F34: 紹介先 | K34: 逆紹介患者様氏名 | P34: 紹介元 | U34: 処置実施者 | AA34: 処置内容
E35: 様 | O35: 様 | Z35: 様
A36: 本日の検査 | F36: 検査内容 | K36: 処置実施者 | P36: 処置内容 | Z36: 様
E37: 様 | O37: 様 | U37: 点検項目
E38: 様 | O38: 様 | U38: 項目 | Z38: 時間 | AC38: 点検者
A39: 発熱 | F39: 下痢 | K39: 風邪薬 | P39: 男性：28 | U39: 医療廃棄物 | Y39: 0.75 | AB39: 石原 恵海
A40: 0 | F40: 0 | K40: 0 | P40: 女性：41 | U40: 戸締り | Y40: 0.75 | AB40: ='6'!AB37:AD37 -> 石谷 美代子
A42: 備考欄 | C42: （連絡事項・処方変更・その他）
G43: 特になし
G44: 石原

Sheet 22
B1: クリニック 日 誌 | H1: 令和 | J1: ='6'!J1 -> 2 | K1: 年 | L1: ='1'!L1 -> 8 | M1: 月 | N1: 22 | O1: 日 | Q1: （ | S1: ） | V1: COO | Y1: IOO | AB1: AOM
A3: 勤務者名
A4: ='6'!A4:F4 -> 中村 恵理子 | G4: 日 | I4: 柳田 美雪 | N4: 日 | Q4: 診察室 | W4: 外来担当医 | Z4: 外来介助者
A5: 石原 恵海 | G5: 日 | Q5: 第１診察室 | Z5: 柳田・石原
Q6: 第２診察室
B8: 新 | C8: 再 | D8: 精 | E8: 内 | F8: 処 | G8: 患者様氏名 | L8: 新 | M8: 再 | N8: 精 | O8: 内 | P8: 処 | Q8: 患者様氏名 | V8: 新 | W8: 再 | X8: 精 | Y8: 内 | Z8: 処 | AA8: 患者様氏名
A9: 1 | J9: 様 | K9: 2 | T9: 様 | U9: 3 | AD9: 様
A10: 4 | J10: 様 | K10: 5 | T10: 様 | U10: 6 | AD10: 様
A11: 7 | J11: 様 | K11: 8 | T11: 様 | U11: 9 | AD11: 様
A12: 10 | J12: 様 | K12: 11 | T12: 様 | U12: 12 | AD12: 様
A13: 13 | J13: 様 | K13: 14 | T13: 様 | U13: 15 | AD13: 様
A14: 16 | J14: 様 | K14: 17 | T14: 様 | U14: 18 | AD14: 様
A15: 19 | J15: 様 | K15: 20 | T15: 様 | U15: 21 | AD15: 様
A16: 22 | J16: 様 | K16: 23 | T16: 様 | U16: 24 | AD16: 様
A17: 25 | J17: 様 | K17: 26 | T17: 様 | U17: 27 | AD17: 様
A18: 28 | J18: 様 | K18: 29 | T18: 様 | U18: 30 | AD18: 様
A19: 31 | J19: 様 | K19: 32 | T19: 様 | U19: 33 | AD19: 様
A20: 34 | J20: 様 | K20: 35 | T20: 様 | U20: 36 | AD20: 様
... A33: 73 | J33: 様 | K33: 74 | T33: 様 | U33: 75 | AD33: 様
A34: 外来患者数 | E34: 新： | F34: =COUNTIF(B9:B33,"・")+COUNTIF(L9:L33,"・")+COUNTIF(V9:V33,"・") -> 0 | H34: 名 | I34: 再： | J34: =COUNTIF(C9:C33,"・")+COUNTIF(M9:M33,"・")+COUNTIF(W9:W33,"・") -> 0 | L34: 名 | M34: 計： | N34: =SUM(F34:K34) -> 0 | Q34: 名 | R34: （ | S34: 精： | T34: =COUNTIF(D9:D33,"・")+COUNTIF(N9:N33,"・")+COUNTIF(X9:X33,"・") -> 0 | W34: 名 | X34: ・ | Y34: 内： | Z34: =COUNTIF(E9:E33,"・")+COUNTIF(O9:O33,"・")+COUNTIF(Y9:Y33,"・") -> 0 | AC34: 名 | AD34: ）
A36: 紹介患者様氏名 | F36: 紹介先 | K36: 逆紹介患者様氏名 | P36: 紹介元 | U36: 処置実施者 | AA36: 処置内容
E37: 様 | O37: 様 | Z37: 様
E38: 様 | O38: 様 | Z38: 様
E39: 様 | O39: 様 | Z39: 様
E40: 様 | O40: 様 | Z40: 様
E41: 様 | O41: 様 | Z41: 様
A42: 本日の検査 | F42: 検査内容 | K42: 処置実施者 | P42: 処置内容 | Z42: 様
E43: 様 | O43: 様 | Z43: 様
E44: 様 | O44: 様 | Z44: 様
E45: 様 | O45: 様 | Z45: 様
E46: 様 | O46: 様 | U46: 点検項目
E47: 様 | O47: 様 | U47: 項目 | Z47: 時間 | AC47: 点検者
A48: 発熱 | F48: 下痢 | K48: 風邪薬 | P48: 男性： | U48: 医療廃棄物 | Y48: 0.75
A49: 0 | F49: 0 | K49: 0 | P49: 女性： | U49: 戸締り | Y49: 0.75 | AB49: ='6'!AB37:AD37 -> 石谷 美代子
A51: 備考欄 | C51: （連絡事項・処方変更・その他）

Sheet 23
B1: クリニック 日 誌 | H1: 令和 | J1: ='6'!J1 -> 2 | K1: 年 | L1: ='1'!L1 -> 8 | M1: 月 | N1: 23 | O1: 日 | Q1: （ | S1: ） | V1: COO | Y1: IOO | AB1: AOM
A3: 勤務者名
A4: ='6'!A4:F4 -> 中村 恵理子 | G4: 日 | I4: 柳田 美雪 | N4: 日 | Q4: 診察室 | W4: 外来担当医 | Z4: 外来介助者
A5: 石原 恵海 | G5: 日 | Q5: 第１診察室 | Z5: 柳田・石原
Q6: 第２診察室
B8: 新 | C8: 再 | D8: 精 | E8: 内 | F8: 処 | G8: 患者様氏名 | L8: 新 | M8: 再 | N8: 精 | O8: 内 | P8: 処 | Q8: 患者様氏名 | V8: 新 | W8: 再 | X8: 精 | Y8: 内 | Z8: 処 | AA8: 患者様氏名
A9: 1 | J9: 様 | K9: 2 | T9: 様 | U9: 3 | AD9: 様
A10: 4 | J10: 様 | K10: 5 | T10: 様 | U10: 6 | AD10: 様
A11: 7 | J11: 様 | K11: 8 | T11: 様 | U11: 9 | AD11: 様
A12: 10 | J12: 様 | K12: 11 | T12: 様 | U12: 12 | AD12: 様
A13: 13 | J13: 様 | K13: 14 | T13: 様 | U13: 15 | AD13: 様
A14: 16 | J14: 様 | K14: 17 | T14: 様 | U14: 18 | AD14: 様
A15: 19 | J15: 様 | K15: 20 | T15: 様 | U15: 21 | AD15: 様
A16: 22 | J16: 様 | K16: 23 | T16: 様 | U16: 24 | AD16: 様
A17: 25 | J17: 様 | K17: 26 | T17: 様 | U17: 27 | AD17: 様
A18: 28 | J18: 様 | K18: 29 | T18: 様 | U18: 30 | AD18: 様
A19: 31 | J19: 様 | K19: 32 | T19: 様 | U19: 33 | AD19: 様
A20: 34 | J20: 様 | K20: 35 | T20: 様 | U20: 36 | AD20: 様
... A33: 73 | J33: 様 | K33: 74 | T33: 様 | U33: 75 | AD33: 様
A34: 外来患者数 | E34: 新： | F34: =COUNTIF(B9:B33,"・")+COUNTIF(L9:L33,"・")+COUNTIF(V9:V33,"・") -> 0 | H34: 名 | I34: 再： | J34: =COUNTIF(C9:C33,"・")+COUNTIF(M9:M33,"・")+COUNTIF(W9:W33,"・") -> 0 | L34: 名 | M34: 計： | N34: =SUM(F34:K34) -> 0 | Q34: 名 | R34: （ | S34: 精： | T34: =COUNTIF(D9:D33,"・")+COUNTIF(N9:N33,"・")+COUNTIF(X9:X33,"・") -> 0 | W34: 名 | X34: ・ | Y34: 内： | Z34: =COUNTIF(E9:E33,"・")+COUNTIF(O9:O33,"・")+COUNTIF(Y9:Y33,"・") -> 0 | AC34: 名 | AD34: ）
A36: 紹介患者様氏名 | F36: 紹介先 | K36: 逆紹介患者様氏名 | P36: 紹介元 | U36: 処置実施者 | AA36: 処置内容
E37: 様 | O37: 様 | Z37: 様
E38: 様 | O38: 様 | Z38: 様
E39: 様 | O39: 様 | Z39: 様
E40: 様 | O40: 様 | Z40: 様
E41: 様 | O41: 様 | Z41: 様
A42: 本日の検査 | F42: 検査内容 | K42: 処置実施者 | P42: 処置内容 | Z42: 様
E43: 様 | O43: 様 | Z43: 様
E44: 様 | O44: 様 | Z44: 様
E45: 様 | O45: 様 | Z45: 様
E46: 様 | O46: 様 | U46: 点検項目
E47: 様 | O47: 様 | U47: 項目 | Z47: 時間 | AC47: 点検者
A48: 発熱 | F48: 下痢 | K48: 風邪薬 | P48: 男性： | U48: 医療廃棄物 | Y48: 0.75
A49: 0 | F49: 0 | K49: 0 | P49: 女性： | U49: 戸締り | Y49: 0.75 | AB49: ='6'!AB37:AD37 -> 石谷 美代子
A51: 備考欄 | C51: （連絡事項・処方変更・その他）

Sheet 24
B1: クリニック 日 誌 | H1: 令和 | J1: ='6'!J1 -> 2 | K1: 年 | L1: ='1'!L1 -> 8 | M1: 月 | N1: 24 | O1: 日 | Q1: （ | R1: 月 | S1: ） | V1: COO | Y1: IOO | AB1: AOM
A3: 勤務者名
A4: ='6'!A4:F4 -> 中村 恵理子 | G4: 日 | I4: 柳田 美雪 | N4: 日 | Q4: 診察室 | W4: 外来担当医 | Z4: 外来介助者
A5: 石原 恵海 | G5: 日 | I5: 石谷 美代子 | N5: 日 | Q5: 第１診察室 | U5: 馬渡 晃弘 | Z5: 柳田・石原
Q6: 第２診察室 | U6: 千葉 良 | Z6: 柳田・石原
B8: 新 | C8: 再 | D8: 精 | E8: 内 | F8: 処 | G8: 患者様氏名 | L8: 新 | M8: 再 | N8: 精 | O8: 内 | P8: 処 | Q8: 患者様氏名 | V8: 新 | W8: 再 | X8: 精 | Y8: 内 | Z8: 処 | AA8: 患者様氏名
A9: 1 | C9: ・ | D9: ・ | F9: 10 | G9: 浄法寺 のり子 | J9: 様 | K9: 2 | M9: ・ | N9: ・ | P9: 28 | Q9: 割澤 夏子 | T9: 様 | U9: 3 | W9: ・ | X9: ・ | Z9: 0 | AA9: 深町 栄美子 | AD9: 様
A10: 4 | C10: ・ | D10: ・ | F10: 56 | G10: 小泉 キセ | J10: 様 | K10: 5 | M10: ・ | N10: ・ | P10: 56 | Q10: 久慈 早苗 | T10: 様 | U10: 6 | W10: ・ | X10: ・ | Z10: 0 | AA10: 萠出 きのゑ | AD10: 様
A11: 7 | C11: ・ | D11: ・ | F11: 28 | G11: 家沢 亜希子 | J11: 様 | K11: 8 | L11: ・ | N11: ・ | P11: 14 | Q11: 石橋 千恵 | T11: 様 | U11: 9 | W11: ・ | X11: ・ | Z11: 0 | AA11: 坂本 政勝 | AD11: 様
A12: 10 | C12: ・ | D12: ・ | F12: 28 | G12: 渡部 節子 | J12: 様 | K12: 11 | M12: ・ | N12: ・ | P12: 28 | Q12: 鈴木 健一 | T12: 様 | U12: 12 | W12: ・ | X12: ・ | Z12: 0 | AA12: 沼端 ミセ | AD12: 様
A13: 13 | C13: ・ | D13: ・ | F13: 0 | G13: 佐藤 勇男 | J13: 様 | K13: 14 | M13: ・ | N13: ・ | P13: 28 | Q13: 槻舘 浩子 | T13: 様 | U13: 15 | W13: ・ | X13: ・ | Z13: 0 | AA13: 瀬川 高雄 | AD13: 様
A14: 16 | C14: ・ | D14: ・ | F14: 28 | G14: 中村 きく | J14: 様 | K14: 17 | L14: ・ | N14: ・ | P14: 28 | Q14: 今村 初正 | T14: 様 | U14: 18 | W14: ・ | X14: ・ | Z14: 0 | AA14: 佐々木 ヨシ | AD14: 様
A15: 19 | C15: ・ | D15: ・ | F15: 14 | G15: 土橋 翔吾 | J15: 様 | K15: 20 | M15: ・ | N15: ・ | P15: 0 | Q15: 石久保 美羽 | T15: 様 | U15: 21 | W15: ・ | X15: ・ | Z15: 0 | AA15: 野田頭 真由美 | AD15: 様
A16: 22 | C16: ・ | D16: ・ | F16: 14 | G16: 坂田 和也 | J16: 様 | K16: 23 | M16: ・ | N16: ・ | P16: 21 | Q16: 原 奈々枝 | T16: 様 | U16: 24 | W16: ・ | X16: ・ | Z16: 28 | AA16: 浅井 真理子 | AD16: 様
A17: 25 | C17: ・ | D17: ・ | F17: 30 | G17: 古川 舞子 | J17: 様 | K17: 26 | M17: ・ | N17: ・ | P17: 14 | Q17: 蛯名 亜果音 | T17: 様 | U17: 27 | W17: ・ | X17: ・ | Z17: 0 | AA17: 遠嶋 剛 | AD17: 様
A18: 28 | C18: ・ | D18: ・ | F18: 28 | G18: 萠出 克治 | J18: 様 | K18: 29 | M18: ・ | N18: ・ | P18: 28 | Q18: 大西 真紀子 | T18: 様 | U18: 30 | W18: ・ | X18: ・ | Z18: 0 | AA18: 高宮 らん | AD18: 様
A19: 31 | C19: ・ | D19: ・ | F19: 28 | G19: 古里 順子 | J19: 様 | K19: 32 | L19: ・ | N19: ・ | P19: 7 | Q19: 堀切 乃愛 | T19: 様 | U19: 33 | V19: ・ | X19: ・ | Z19: 14 | AA19: 熊谷 雪子 | AD19: 様
A20: 34 | C20: ・ | D20: ・ | F20: 28 | G20: 附田 亜矢子 | J20: 様 | K20: 35 | M20: ・ | N20: ・ | P20: 30 | Q20: 石久保 耀斗 | T20: 様 | U20: 36 | W20: ・ | X20: ・ | Z20: 30 | AA20: 田島 来魅琉 | AD20: 様
A21: 37 | C21: ・ | D21: ・ | F21: 28 | G21: 平 将浩 | J21: 様 | K21: 38 | M21: ・ | N21: ・ | P21: 0 | Q21: 猪越 陽 | T21: 様 | U21: 39 | V21: ・ | X21: ・ | Z21: 14 | AA21: 窪田 清正 | AD21: 様
A22: 40 | C22: ・ | D22: ・ | F22: 56 | G22: 蛯名 ナミエ | J22: 様 | K22: 41 | M22: ・ | N22: ・ | P22: 7 | Q22: 蛯名 琉有 | T22: 様 | U22: 42 | W22: ・ | X22: ・ | Z22: 14 | AA22: 椛木 友菜 | AD22: 様
A23: 43 | C23: ・ | D23: ・ | F23: 14 | G23: 奈良 和 | J23: 様 | K23: 44 | M23: ・ | N23: ・ | P23: 0 | Q23: 高村 加津子 | T23: 様 | U23: 45 | W23: ・ | X23: ・ | Z23: 30 | AA23: 熊野 花音 | AD23: 様
A24: 46 | C24: ・ | D24: ・ | F24: 28 | G24: 松本 詩穂 | J24: 様 | K24: 47 | M24: ・ | N24: ・ | P24: 0 | Q24: 田口 トシ子 | T24: 様 | U24: 48 | AD24: 様
A25: 外来患者数 | E25: 新： | F25: =COUNTIF(B9:B24,"・")+COUNTIF(L9:L24,"・")+COUNTIF(V9:V24,"・") -> 5 | H25: 名 | I25: 再： | J25: =COUNTIF(C9:C24,"・")+COUNTIF(M9:M24,"・")+COUNTIF(W9:W24,"・") -> 42 | L25: 名 | M25: 計： | N25: =SUM(F25:K25) -> 47 | Q25: 名 | R25: （ | S25: 精： | T25: =COUNTIF(D9:D24,"・")+COUNTIF(N9:N24,"・")+COUNTIF(X9:X24,"・") -> 47 | W25: 名 | X25: ・ | Y25: 内： | Z25: =COUNTIF(E9:E24,"・")+COUNTIF(O9:O24,"・")+COUNTIF(Y9:Y24,"・") -> 0 | AC25: 名 | AD25: ）
A27: 紹介患者様氏名 | F27: 紹介先 | K27: 逆紹介患者様氏名 | P27: 紹介元 | U27: 処置実施者 | AA27: 処置内容
E28: 様 | K28: 熊谷 雪子 | O28: 様 | P28: 三沢市立病院 | Z28: 様
A29: 本日の検査 | F29: 検査内容 | K29: 処置実施者 | P29: 処置内容 | Z29: 様
A30: 窪田 清正 | E30: 様 | F30: 血液検査、CMI | O30: 様 | Z30: 様
A31: 石橋 千恵 | E31: 様 | F31: CMI | O31: 様 | Z31: 様
A32: 熊谷 雪子 | E32: 様 | F32: 血液検査、 CMI | O32: 様 | Z32: 様
A33: 今村 初正 | E33: 様 | F33: CMI | O33: 様 | U33: 点検項目
E34: 様 | O34: 様 | U34: 項目 | Z34: 時間 | AC34: 点検者
A35: 発熱 | F35: 下痢 | K35: 風邪薬 | P35: 男性：14 | U35: 医療廃棄物 | Y35: 0.75 | AB35: 柳田 美雪
A36: 0 | F36: 0 | K36: 0 | P36: 女性：33 | U36: 戸締り | Y36: 0.75 | AB36: 中村 恵理子
A38: 備考欄 | C38: （連絡事項・処方変更・その他）
G39: 特記なし
G40: 柳田

Sheet 25
B1: クリニック 日 誌 | H1: 令和 | J1: ='6'!J1 -> 2 | K1: 年 | L1: ='1'!L1 -> 8 | M1: 月 | N1: 25 | O1: 日 | Q1: （ | R1: 火 | S1: ） | V1: COO | Y1: IOO | AB1: AOM
A3: 勤務者名
A4: ='6'!A4:F4 -> 中村 恵理子 | G4: 日 | I4: 柳田 美雪 | N4: 日 | Q4: 診察室 | W4: 外来担当医 | Z4: 外来介助者
A5: 石原 恵海 | G5: 日 | I5: 石谷 美代子 | N5: 日 | Q5: 第１診察室 | U5: 千葉 潜 | Z5: 柳田・石原
Q6: 第２診察室 | U6: 千葉 良 | Z6: 柳田・石原
B8: 新 | C8: 再 | D8: 精 | E8: 内 | F8: 処 | G8: 患者様氏名 | L8: 新 | M8: 再 | N8: 精 | O8: 内 | P8: 処 | Q8: 患者様氏名 | V8: 新 | W8: 再 | X8: 精 | Y8: 内 | Z8: 処 | AA8: 患者様氏名
A9: 1 | C9: ・ | D9: ・ | F9: 0 | G9: 杉元 香奈子 | J9: 様 | K9: 2 | M9: ・ | N9: ・ | P9: 27 | Q9: 浪岡 美沙希 | T9: 様 | U9: 3 | W9: ・ | X9: ・ | Z9: 30 | AA9: 大久保 友樹 | AD9: 様
A10: 4 | C10: ・ | D10: ・ | F10: 60 | G10: 横山 光子 | J10: 様 | K10: 5 | M10: ・ | N10: ・ | P10: 60 | Q10: 十枝内 一希 | T10: 様 | U10: 6 | W10: ・ | X10: ・ | Z10: 28 | AA10: 野々宮 重美 | AD10: 様
A11: 7 | C11: ・ | D11: ・ | F11: 56 | G11: 榊 重志 | J11: 様 | K11: 8 | M11: ・ | N11: ・ | P11: 20 | Q11: 田畑 あかり | T11: 様 | U11: 9 | W11: ・ | X11: ・ | Z11: 0 | AA11: 袴田 ハナエ | AD11: 様
A12: 10 | C12: ・ | D12: ・ | F12: 42 | G12: 古川 ミキ | J12: 様 | K12: 11 | M12: ・ | N12: ・ | P12: 28 | Q12: 沼田 トキ | T12: 様 | U12: 12 | W12: ・ | X12: ・ | Z12: 28 | AA12: 高村 加津子 | AD12: 様
A13: 13 | C13: ・ | D13: ・ | F13: 0 | G13: 長岡 叶人 | J13: 様 | K13: 14 | L13: ・ | N13: ・ | P13: 7 | Q13: 秋村 夏帆 | T13: 様 | U13: 15 | W13: ・ | X13: ・ | Z13: 0 | AA13: 工藤 健壽 | AD13: 様
A14: 16 | C14: ・ | D14: ・ | F14: 28 | G14: 二又 安子 | J14: 様 | K14: 17 | M14: ・ | N14: ・ | P14: 28 | Q14: 鹿糠 泰裕 | T14: 様 | U14: 18 | W14: ・ | X14: ・ | Z14: 0 | AA14: 石井 佐代子 | AD14: 様
A15: 19 | C15: ・ | D15: ・ | F15: 30 | G15: 中村 ミヤ | J15: 様 | K15: 20 | M15: ・ | N15: ・ | P15: 30 | Q15: 小向 忍 | T15: 様 | U15: 21 | W15: ・ | X15: ・ | Z15: 0 | AA15: 池田 アエ | AD15: 様
A16: 22 | C16: ・ | D16: ・ | F16: 28 | G16: 向井 ヒロ子 | J16: 様 | K16: 23 | M16: ・ | N16: ・ | P16: 28 | Q16: 大森 まみ | T16: 様 | U16: 24 | W16: ・ | X16: ・ | Z16: 0 | AA16: 水上 民一 | AD16: 様
A17: 25 | C17: ・ | D17: ・ | F17: 28 | G17: 角 茜莉 | J17: 様 | K17: 26 | L17: ・ | N17: ・ | P17: 7 | Q17: 中村 奈々恵 | T17: 様 | U17: 27 | V17: ・ | X17: ・ | Z17: 5 | AA17: 大坪 志帆 | AD17: 様
A18: 28 | C18: ・ | D18: ・ | F18: 28 | G18: 浪岡 ヒデ | J18: 様 | K18: 29 | M18: ・ | N18: ・ | P18: 28 | Q18: 種市 悦子 | T18: 様 | U18: 30 | W18: ・ | X18: ・ | Z18: 0 | AA18: 萠出 きのゑ | AD18: 様
A19: 31 | C19: ・ | D19: ・ | F19: 30 | G19: 梅津 禮子 | J19: 様 | K19: 32 | M19: ・ | N19: ・ | P19: 28 | Q19: 駒澤 キヤ | T19: 様 | U19: 33 | W19: ・ | X19: ・ | Z19: 0 | AA19: 萠出 克治 | AD19: 様
A20: 34 | C20: ・ | D20: ・ | F20: 28 | G20: 田辺 京子 | J20: 様 | K20: 35 | M20: ・ | N20: ・ | P20: 14 | Q20: 石田 裕美 | T20: 様 | U20: 36 | W20: ・ | X20: ・ | Z20: 0 | AA20: 田口 トシ子 | AD20: 様
A21: 37 | C21: ・ | D21: ・ | F21: 30 | G21: 三浦 年男 | J21: 様 | K21: 38 | M21: ・ | N21: ・ | P21: 28 | Q21: 高橋 佳子 | T21: 様 | U21: 39 | W21: ・ | X21: ・ | Z21: 0 | AA21: 瀬川 高雄 | AD21: 様
A22: 40 | C22: ・ | D22: ・ | F22: 28 | G22: 長谷地 トキ | J22: 様 | K22: 41 | M22: ・ | N22: ・ | P22: 28 | Q22: 角 節子 | T22: 様 | U22: 42 | W22: ・ | X22: ・ | Z22: 0 | AA22: 佐々木 政夫 | AD22: 様
A23: 43 | C23: ・ | D23: ・ | F23: 14 | G23: 小比券巻 由美 | J23: 様 | K23: 44 | M23: ・ | N23: ・ | P23: 28 | Q23: 田中 久美子 | T23: 様 | U23: 45 | W23: ・ | X23: ・ | Z23: 0 | AA23: 坂本 政勝 | AD23: 様
A24: 46 | C24: ・ | D24: ・ | F24: 28 | G24: 山田 秀徳 | J24: 様 | K24: 47 | L24: ・ | N24: ・ | P24: 0 | Q24: 松永 利伸 | T24: 様 | U24: 48 | W24: ・ | X24: ・ | Z24: 0 | AA24: 鈴木 寛二 | AD24: 様
A25: 49 | B25: ・ | D25: ・ | F25: 7 | G25: 工藤 幸子 | J25: 様 | K25: 50 | M25: ・ | N25: ・ | P25: 30 | Q25: 藤原 チイ | T25: 様 | U25: 51 | W25: ・ | X25: ・ | Z25: 0 | AA25: 遠嶋 剛 | AD25: 様
A26: 52 | C26: ・ | D26: ・ | F26: 28 | G26: 中村 善治 | J26: 様 | K26: 53 | M26: ・ | N26: ・ | P26: 0 | Q26: 遠嶋 千鶴 | T26: 様 | U26: 54 | AD26: 様
A27: 外来患者数 | E27: 新： | F27: =COUNTIF(B9:B26,"・")+COUNTIF(L9:L26,"・")+COUNTIF(V9:V26,"・") -> 5 | H27: 名 | I27: 再： | J27: =COUNTIF(C9:C26,"・")+COUNTIF(M9:M26,"・")+COUNTIF(W9:W26,"・") -> 48 | L27: 名 | M27: 計： | N27: =SUM(F27:K27) -> 53 | Q27: 名 | R27: （ | S27: 精： | T27: =COUNTIF(D9:D26,"・")+COUNTIF(N9:N26,"・")+COUNTIF(X9:X26,"・") -> 53 | W27: 名 | X27: ・ | Y27: 内： | Z27: =COUNTIF(E9:E26,"・")+COUNTIF(O9:O26,"・")+COUNTIF(Y9:Y26,"・") -> 0 | AC27: 名 | AD27: ）
A29: 紹介患者様氏名 | F29: 紹介先 | K29: 逆紹介患者様氏名 | P29: 紹介元 | U29: 処置実施者 | AA29: 処置内容
A30: 袴田 ハナエ | E30: 様 | F30: 青南病院 | K30: 工藤 幸子 | O30: 様 | P30: 六ヶ所地域医療センター | Z30: 様
E31: 様 | O31: 様 | Z31: 様
A32: 本日の検査 | F32: 検査内容 | K32: 処置実施者 | P32: 処置内容 | Z32: 様
A33: 工藤 幸子 | E33: 様 | F33: CMI | K33: 袴田 ハナエ | O33: 様 | P33: ブドウ糖+ﾀﾞｲﾋﾞﾀ1A IV | Z33: 様
A34: 秋村 夏帆 | E34: 様 | F34: CMI 血液検査 | O34: 様 | Z34: 様
A35: 中村 奈々恵 | E35: 様 | F35: CMI 血液検査 | O35: 様 | Z35: 様
E36: 様 | O36: 様 | U36: 点検項目
E37: 様 | O37: 様 | U37: 項目 | Z37: 時間 | AC37: 点検者
A38: 発熱 | F38: 下痢 | K38: 風邪薬 | P38: 男性：19 | U38: 医療廃棄物 | Y38: 0.75 | AB38: 柳田美雪
A39: 0 | F39: 0 | K39: 0 | P39: 女性：34 | U39: 戸締り | Y39: 0.75 | AB39: 中村 恵理子
A41: 備考欄 | C41: （連絡事項・処方変更・その他）
A42: 袴田 ハナヱ 様 | G42: ８６歳。主病名 アルツハイマー型認知症。 岩手県生まれ。一人っ子。尋常小学校を卒業し、若い頃は郵便局で働いていた。 ２０歳頃結婚し、３人の子供をもうける。１５年程前に夫が他界し、独居していたが２０１９年（時期は不明）に孫様の新居新築をきっかけに同居となった。もの忘れを主訴に当院を受診。次女様より、忘れやすい自分に怒っているのか怒りっぽくなってきた。生活にはあまり困っていないと話していた。H３０年まで車の運転をしていたがニュース等で高齢者の交通事故があるので免許は返納している。 今年、７月頃まで時々、旧家に行き、草取りに行ったりし活動的でありました。 ２０２０年８月１１日に受診時、極端に食欲低下してきたと、食欲低下と気力低下の訴えがありました。本日の受診で、付添いの娘様から食事摂取もあまりできなくふらつきもあるため入院加療を希望され８月２６日に青南病院へ紹介受診となった。
A43: （再来・精神）

Sheet 26
B1: クリニック 日 誌 | H1: 令和 | J1: ='6'!J1 -> 2 | K1: 年 | L1: ='1'!L1 -> 8 | M1: 月 | N1: 26 | O1: 日 | Q1: （ | R1: 水 | S1: ） | V1: COO | Y1: IOO | AB1: AOM
A3: 勤務者名
A4: ='6'!A4:F4 -> 中村 恵理子 | G4: 日 | I4: 柳田 美雪 | N4: 日 | Q4: 診察室 | W4: 外来担当医 | Z4: 外来介助者
A5: 石原 恵海 | G5: 日 | I5: 石谷 美代子 | N5: 日 | Q5: 第１診察室 | U5: 千葉 潜 | Z5: 柳田・石原
Q6: 第２診察室
B8: 新 | C8: 再 | D8: 精 | E8: 内 | F8: 処 | G8: 患者様氏名 | L8: 新 | M8: 再 | N8: 精 | O8: 内 | P8: 処 | Q8: 患者様氏名 | V8: 新 | W8: 再 | X8: 精 | Y8: 内 | Z8: 処 | AA8: 患者様氏名
A9: 1 | C9: ・ | D9: ・ | F9: 28 | G9: 岩城 芳枝 | J9: 様 | K9: 2 | M9: ・ | N9: ・ | P9: 28 | Q9: 本間 きよ | T9: 様 | U9: 3 | W9: ・ | X9: ・ | Z9: 14 | AA9: 原田 悠紀 | AD9: 様
A10: 4 | C10: ・ | D10: ・ | F10: 28 | G10: 山本 美津子 | J10: 様 | K10: 5 | M10: ・ | N10: ・ | P10: 30 | Q10: 小山 誠 | T10: 様 | U10: 6 | W10: ・ | X10: ・ | Z10: 28 | AA10: 沼山 寛子 | AD10: 様
A11: 7 | C11: ・ | D11: ・ | F11: 28 | G11: 小西 豊美 | J11: 様 | K11: 8 | L11: ・ | N11: ・ | P11: 7 | Q11: チェ イェリム | T11: 様 | U11: 9 | V11: ・ | X11: ・ | Z11: 0 | AA11: 森 スエ子 | AD11: 様
A12: 10 | C12: ・ | D12: ・ | F12: 14 | G12: 室山 外志高 | J12: 様 | K12: 11 | M12: ・ | N12: ・ | P12: 28 | Q12: 駒澤 眞次 | T12: 様 | U12: 12 | W12: ・ | X12: ・ | Z12: 28 | AA12: 藤原 克子 | AD12: 様
A13: 13 | C13: ・ | D13: ・ | F13: 17 | G13: 水上 民一 | J13: 様 | K13: 14 | M13: ・ | N13: ・ | P13: 28 | Q13: 種市 キクヱ | T13: 様 | U13: 15 | W13: ・ | X13: ・ | Z13: 30 | AA13: 木村 朋子 | AD13: 様
A14: 16 | C14: ・ | D14: ・ | F14: 28 | G14: 下田 末五郎 | J14: 様 | K14: 17 | M14: ・ | N14: ・ | P14: 0 | Q14: 佐藤 初男 | T14: 様 | U14: 18 | V14: ・ | X14: ・ | Z14: 14 | AA14: 和田 春奈 | AD14: 様
A15: 19 | C15: ・ | D15: ・ | F15: 28 | G15: 下田 守雄 | J15: 様 | K15: 20 | M15: ・ | N15: ・ | P15: 28 | Q15: 吉田 和子 | T15: 様 | U15: 21 | W15: ・ | X15: ・ | Z15: 28 | AA15: 松林 朋子 | AD15: 様
A16: 22 | C16: ・ | D16: ・ | F16: 28 | G16: 島貫 香央里 | J16: 様 | K16: 23 | M16: ・ | N16: ・ | P16: 28 | Q16: 松森 俊雄 | T16: 様 | U16: 24 | W16: ・ | X16: ・ | Z16: 28 | AA16: 大渡 信光 | AD16: 様
A17: 25 | C17: ・ | D17: ・ | F17: 28 | G17: 山端 悦子 | J17: 様 | K17: 26 | M17: ・ | N17: ・ | P17: 28 | Q17: 舘花 嘉久 | T17: 様 | U17: 27 | W17: ・ | X17: ・ | Z17: 28 | AA17: 川村 一也 | AD17: 様
A18: 28 | C18: ・ | D18: ・ | F18: 30 | G18: 川久保 一茂 | J18: 様 | K18: 29 | M18: ・ | N18: ・ | P18: 28 | Q18: 川守田 悠史 | T18: 様 | U18: 30 | W18: ・ | X18: ・ | Z18: 28 | AA18: 木村 めぐみ | AD18: 様
A19: 31 | C19: ・ | D19: ・ | F19: 28 | G19: 岡本 光男 | J19: 様 | K19: 32 | M19: ・ | N19: ・ | P19: 14 | Q19: 佐藤 秀子 | T19: 様 | U19: 33 | W19: ・ | X19: ・ | Z19: 30 | AA19: 小松 亮太 | AD19: 様
A20: 34 | C20: ・ | D20: ・ | F20: 90 | G20: 新堂 マツ | J20: 様 | K20: 35 | L20: ・ | N20: ・ | P20: 14 | Q20: 成田 文枝 | T20: 様 | U20: 36 | W20: ・ | X20: ・ | Z20: 30 | AA20: 佐藤 ソノ | AD20: 様
A21: 37 | C21: ・ | D21: ・ | F21: 56 | G21: 馬場 真由美 | J21: 様 | K21: 38 | M21: ・ | N21: ・ | P21: 30 | Q21: 小坂 和美 | T21: 様 | U21: 39 | W21: ・ | X21: ・ | Z21: 0 | AA21: 古間木 義美 | AD21: 様
A22: 40 | C22: ・ | D22: ・ | F22: 0 | G22: 工藤 健壽 | J22: 様 | K22: 41 | M22: ・ | N22: ・ | P22: 0 | Q22: 豊川 洋子 | T22: 様 | U22: 42 | W22: ・ | X22: ・ | Z22: 0 | AA22: 沼端 ミセ | AD22: 様
A23: 43 | C23: ・ | D23: ・ | F23: 0 | G23: 千葉 スワ | J23: 様 | K23: 44 | M23: ・ | N23: ・ | P23: 0 | Q23: 深町 栄美子 | T23: 様 | U23: 45 | W23: ・ | X23: ・ | Z23: 0 | AA23: 瀬川 高雄 | AD23: 様
A24: 46 | C24: ・ | D24: ・ | F24: 0 | G24: 田口 トシ子 | J24: 様 | K24: 47 | M24: ・ | N24: ・ | P24: 0 | Q24: 萠出 きのゑ | T24: 様 | U24: 48 | W24: ・ | X24: ・ | Z24: 0 | AA24: 石ケ谷 數子 | AD24: 様
A25: 49 | C25: ・ | D25: ・ | F25: 0 | G25: 高村 加津子 | J25: 様 | K25: 50 | M25: ・ | N25: ・ | P25: 0 | Q25: 萠出 克治 | T25: 様 | U25: 51 | W25: ・ | X25: ・ | Z25: 0 | AA25: 中居 敬悦 | AD25: 様
A26: 52 | C26: ・ | D26: ・ | F26: 0 | G26: 橋本 豊彦 | J26: 様 | K26: 53 | T26: 様 | U26: 54 | AD26: 様
A27: 外来患者数 | E27: 新： | F27: =COUNTIF(B9:B26,"・")+COUNTIF(L9:L26,"・")+COUNTIF(V9:V26,"・") -> 4 | H27: 名 | I27: 再： | J27: =COUNTIF(C9:C26,"・")+COUNTIF(M9:M26,"・")+COUNTIF(W9:W26,"・") -> 48 | L27: 名 | M27: 計： | N27: =SUM(F27:K27) -> 52 | Q27: 名 | R27: （ | S27: 精： | T27: =COUNTIF(D9:D26,"・")+COUNTIF(N9:N26,"・")+COUNTIF(X9:X26,"・") -> 52 | W27: 名 | X27: ・ | Y27: 内： | Z27: =COUNTIF(E9:E26,"・")+COUNTIF(O9:O26,"・")+COUNTIF(Y9:Y26,"・") -> 0 | AC27: 名 | AD27: ）
A29: 紹介患者様氏名 | F29: 紹介先 | K29: 逆紹介患者様氏名 | P29: 紹介元 | U29: 処置実施者 | AA29: 処置内容
E30: 様 | K30: 成田 文枝 | O30: 様 | P30: あいざわクリニック | Z30: 様
E31: 様 | O31: 様 | Z31: 様
A32: 本日の検査 | F32: 検査内容 | K32: 処置実施者 | P32: 処置内容 | Z32: 様
A33: 室山 外志高 | E33: 様 | F33: 血液検査 | O33: 様 | Z33: 様
A34: 山本 美津子 | E34: 様 | F34: 血液検査 | O34: 様 | Z34: 様
A35: 下田 守雄 | E35: 様 | F35: 血液検査 | O35: 様 | Z35: 様
A36: 森 スエ子 | E36: 様 | F36: 血液検査、HDS-R、MMSE | O36: 様 | U36: 点検項目
A37: 成田 文枝 | E37: 様 | F37: HDS-R MMSE | O37: 様 | U37: 項目 | Z37: 時間 | AC37: 点検者
A38: 発熱 | F38: 下痢 | K38: 風邪薬 | P38: 男性：23 | U38: 医療廃棄物 | Y38: 0.75 | AB38: 柳田美雪
A39: 0 | F39: 0 | K39: 0 | P39: 女性：29 | U39: 戸締り | Y39: 0.75 | AB39: 中村 恵理子
A41: 備考欄 | C41: （連絡事項・処方変更・その他）
G42: 特記なし
G43: 柳田

Sheet 27
B1: クリニック 日 誌 | H1: 令和 | J1: ='6'!J1 -> 2 | K1: 年 | L1: ='1'!L1 -> 8 | M1: 月 | N1: 27 | O1: 日 | Q1: （ | R1: 木 | S1: ） | V1: COO | Y1: IOO | AB1: AOM
A3: 勤務者名
A4: ='6'!A4:F4 -> 中村 恵理子 | G4: 日 | I4: 柳田 美雪 | N4: 日 | Q4: 診察室 | W4: 外来担当医 | Z4: 外来介助者
A5: 石原 恵海 | G5: 日 | I5: 石谷 美代子 | N5: 日 | Q5: 第１診察室 | U5: 千葉 潜 | Z5: 柳田・石原
Q6: 第２診察室 | U6: 田名部 茂 | Z6: 柳田・石原
B8: 新 | C8: 再 | D8: 精 | E8: 内 | F8: 処 | G8: 患者様氏名 | L8: 新 | M8: 再 | N8: 精 | O8: 内 | P8: 処 | Q8: 患者様氏名 | V8: 新 | W8: 再 | X8: 精 | Y8: 内 | Z8: 処 | AA8: 患者様氏名
A9: 1 | C9: ・ | D9: ・ | F9: 60 | G9: 田中 幸雄 | J9: 様 | K9: 2 | M9: ・ | N9: ・ | P9: 28 | Q9: 藤ケ森 貴美枝 | T9: 様 | U9: 3 | W9: ・ | X9: ・ | Z9: 5 | AA9: 駒澤 石松 | AD9: 様
A10: 4 | C10: ・ | D10: ・ | F10: 28 | G10: 小西 徳仁 | J10: 様 | K10: 5 | M10: ・ | N10: ・ | P10: 30 | Q10: 奈良 治隆 | T10: 様 | U10: 6 | W10: ・ | X10: ・ | Z10: 0 | AA10: 西舘 瞳 | AD10: 様
A11: 7 | C11: ・ | D11: ・ | F11: 28 | G11: 冨田 芙美子 | J11: 様 | K11: 8 | M11: ・ | N11: ・ | P11: 30 | Q11: 西舘 ツル | T11: 様 | U11: 9 | W11: ・ | X11: ・ | Z11: 0 | AA11: 佐藤 澄子 | AD11: 様
A12: 10 | C12: ・ | D12: ・ | F12: 28 | G12: 島名 恵子 | J12: 様 | K12: 11 | M12: ・ | N12: ・ | P12: 30 | Q12: 鈴木 英男 | T12: 様 | U12: 12 | W12: ・ | X12: ・ | Z12: 0 | AA12: 高村 加津子 | AD12: 様
A13: 13 | C13: ・ | D13: ・ | F13: 28 | G13: 豊川 清人 | J13: 様 | K13: 14 | M13: ・ | N13: ・ | P13: 28 | Q13: 沢村 まさえ | T13: 様 | U13: 15 | W13: ・ | X13: ・ | Z13: 0 | AA13: 田口 トシ子 | AD13: 様
A14: 16 | C14: ・ | D14: ・ | F14: 28 | G14: 豊川 美智子 | J14: 様 | K14: 17 | M14: ・ | N14: ・ | P14: 30 | Q14: 天間 功一 | T14: 様 | U14: 18 | W14: ・ | X14: ・ | Z14: 0 | AA14: 坂本 政勝 | AD14: 様
A15: 19 | C15: ・ | D15: ・ | F15: 28 | G15: 小林 アサ | J15: 様 | K15: 20 | M15: ・ | N15: ・ | P15: 0 | Q15: 横浜 秀一 | T15: 様 | U15: 21 | W15: ・ | X15: ・ | Z15: 0 | AA15: 沼端 ミセ | AD15: 様
A16: 22 | C16: ・ | D16: ・ | F16: 28 | G16: 妻神 京子 | J16: 様 | K16: 23 | M16: ・ | N16: ・ | P16: 30 | Q16: 深沢口 誠 | T16: 様 | U16: 24 | W16: ・ | X16: ・ | Z16: 0 | AA16: 工藤 健壽 | AD16: 様
A17: 25 | C17: ・ | D17: ・ | F17: 30 | G17: 山本 光豊 | J17: 様 | K17: 26 | M17: ・ | N17: ・ | P17: 30 | Q17: 石岡 正利 | T17: 様 | U17: 27 | W17: ・ | X17: ・ | Z17: 0 | AA17: 塚田 敏子 | AD17: 様
A18: 28 | C18: ・ | D18: ・ | F18: 28 | G18: 太田 美津 | J18: 様 | K18: 29 | M18: ・ | N18: ・ | P18: 28 | Q18: 村上 トクヱ | T18: 様 | U18: 30 | W18: ・ | X18: ・ | Z18: 0 | AA18: 佐々木 政夫 | AD18: 様
A19: 31 | C19: ・ | D19: ・ | F19: 28 | G19: 繁田 千晶 | J19: 様 | K19: 32 | M19: ・ | N19: ・ | P19: 56 | Q19: 石橋 京子 | T19: 様 | U19: 33 | W19: ・ | X19: ・ | Z19: 30 | AA19: 新山 まき子 | AD19: 様
A20: 34 | C20: ・ | D20: ・ | F20: 28 | G20: 蛯名 忍 | J20: 様 | K20: 35 | M20: ・ | N20: ・ | P20: 56 | Q20: 大野 みほゑ | T20: 様 | U20: 36 | W20: ・ | X20: ・ | Z20: 60 | AA20: 高橋 優子 | AD20: 様
A21: 37 | C21: ・ | D21: ・ | F21: 28 | G21: 太田 志緒 | J21: 様 | K21: 38 | M21: ・ | N21: ・ | P21: 30 | Q21: 浪岡 ヒロ | T21: 様 | U21: 39 | V21: ・ | X21: ・ | Z21: 6 | AA21: 小原 遥 | AD21: 様
A22: 40 | C22: ・ | D22: ・ | F22: 28 | G22: 沼尾 千春 | J22: 様 | K22: 41 | M22: ・ | N22: ・ | P22: 28 | Q22: 野坂 翔 | T22: 様 | U22: 42 | V22: ・ | X22: ・ | Z22: 14 | AA22: 町野 千秋 | AD22: 様
A23: 43 | C23: ・ | D23: ・ | F23: 7 | G23: 中居 敬悦 | J23: 様 | K23: 44 | M23: ・ | N23: ・ | P23: 28 | Q23: 宮古 克弘 | T23: 様 | U23: 45 | V23: ・ | X23: ・ | Z23: 30 | AA23: 中村 佳奈 | AD23: 様
A24: 46 | C24: ・ | D24: ・ | F24: 30 | G24: 和野 祥子 | J24: 様 | K24: 47 | M24: ・ | N24: ・ | P24: 30 | Q24: 金田 重一 | T24: 様 | U24: 48 | AD24: 様
A25: 外来患者数 | E25: 新： | F25: =COUNTIF(B9:B24,"・")+COUNTIF(L9:L24,"・")+COUNTIF(V9:V24,"・") -> 3 | H25: 名 | I25: 再： | J25: =COUNTIF(C9:C24,"・")+COUNTIF(M9:M24,"・")+COUNTIF(W9:W24,"・") -> 44 | L25: 名 | M25: 計： | N25: =SUM(F25:K25) -> 47 | Q25: 名 | R25: （ | S25: 精： | T25: =COUNTIF(D9:D24,"・")+COUNTIF(N9:N24,"・")+COUNTIF(X9:X24,"・") -> 47 | W25: 名 | X25: ・ | Y25: 内： | Z25: =COUNTIF(E9:E24,"・")+COUNTIF(O9:O24,"・")+COUNTIF(Y9:Y24,"・") -> 0 | AC25: 名 | AD25: ）
A27: 紹介患者様氏名 | F27: 紹介先 | K27: 逆紹介患者様氏名 | P27: 紹介元 | U27: 処置実施者 | AA27: 処置内容
E28: 様 | K28: 中村 佳奈 | O28: 様 | P28: クリニック坂本 | Z28: 様
A29: 本日の検査 | F29: 検査内容 | K29: 処置実施者 | P29: 処置内容 | Z29: 様
A30: 田中 幸雄 | E30: 様 | F30: 血液検査 | K30: 中居 敬悦 | O30: 様 | P30: ハロマンス50ｍｇ 1A | Z30: 様
A31: 駒澤 石松 | E31: 様 | F31: 血液検査 ブドウ5％500ｍｌ | O31: 様 | Z31: 様
E32: 様 | F32: ダイビタミックス1A DIV | O32: 様 | Z32: 様
E33: 様 | O33: 様 | U33: 点検項目
E34: 様 | O34: 様 | U34: 項目 | Z34: 時間 | AC34: 点検者
A35: 発熱 | F35: 下痢 | K35: 風邪薬 | P35: 男性：18 | U35: 医療廃棄物 | Y35: 0.75 | AB35: 柳田美雪
A36: 0 | F36: 0 | K36: 0 | P36: 女性：29 | U36: 戸締り | Y36: 0.75 | AB36: 中村 恵理子
A38: 備考欄 | C38: （連絡事項・処方変更・その他）
G39: 特記なし
G40: 柳田

Sheet 28
B1: クリニック 日 誌 | H1: 令和 | J1: ='6'!J1 -> 2 | K1: 年 | L1: ='1'!L1 -> 8 | M1: 月 | N1: 28 | O1: 日 | Q1: （ | S1: ） | V1: COO | Y1: IOO | AB1: AOM
A3: 勤務者名
A4: ='6'!A4:F4 -> 中村 恵理子 | G4: 日 | I4: 柳田 美雪 | N4: 日 | Q4: 診察室 | W4: 外来担当医 | Z4: 外来介助者
A5: 石原 恵海 | G5: 日 | Q5: 第１診察室
Q6: 第２診察室
B8: 新 | C8: 再 | D8: 精 | E8: 内 | F8: 処 | G8: 患者様氏名 | L8: 新 | M8: 再 | N8: 精 | O8: 内 | P8: 処 | Q8: 患者様氏名 | V8: 新 | W8: 再 | X8: 精 | Y8: 内 | Z8: 処 | AA8: 患者様氏名
A9: 1 | J9: 様 | K9: 2 | T9: 様 | U9: 3 | AD9: 様
A10: 4 | J10: 様 | K10: 5 | T10: 様 | U10: 6 | AD10: 様
A11: 7 | J11: 様 | K11: 8 | T11: 様 | U11: 9 | AD11: 様
A12: 10 | J12: 様 | K12: 11 | T12: 様 | U12: 12 | AD12: 様
A13: 13 | J13: 様 | K13: 14 | T13: 様 | U13: 15 | AD13: 様
A14: 16 | J14: 様 | K14: 17 | T14: 様 | U14: 18 | AD14: 様
A15: 19 | J15: 様 | K15: 20 | T15: 様 | U15: 21 | AD15: 様
A16: 22 | J16: 様 | K16: 23 | T16: 様 | U16: 24 | AD16: 様
A17: 25 | J17: 様 | K17: 26 | T17: 様 | U17: 27 | AD17: 様
A18: 28 | J18: 様 | K18: 29 | T18: 様 | U18: 30 | AD18: 様
A19: 31 | J19: 様 | K19: 32 | T19: 様 | U19: 33 | AD19: 様
A20: 34 | J20: 様 | K20: 35 | T20: 様 | U20: 36 | AD20: 様
... A33: 73 | J33: 様 | K33: 74 | T33: 様 | U33: 75 | AD33: 様
A34: 外来患者数 | E34: 新： | F34: =COUNTIF(B9:B33,"・")+COUNTIF(L9:L33,"・")+COUNTIF(V9:V33,"・") -> 0 | H34: 名 | I34: 再： | J34: =COUNTIF(C9:C33,"・")+COUNTIF(M9:M33,"・")+COUNTIF(W9:W33,"・") -> 0 | L34: 名 | M34: 計： | N34: =SUM(F34:K34) -> 0 | Q34: 名 | R34: （ | S34: 精： | T34: =COUNTIF(D9:D33,"・")+COUNTIF(N9:N33,"・")+COUNTIF(X9:X33,"・") -> 0 | W34: 名 | X34: ・ | Y34: 内： | Z34: =COUNTIF(E9:E33,"・")+COUNTIF(O9:O33,"・")+COUNTIF(Y9:Y33,"・") -> 0 | AC34: 名 | AD34: ）
A36: 紹介患者様氏名 | F36: 紹介先 | K36: 逆紹介患者様氏名 | P36: 紹介元 | U36: 処置実施者 | AA36: 処置内容
E37: 様 | O37: 様 | Z37: 様
E38: 様 | O38: 様 | Z38: 様
E39: 様 | O39: 様 | Z39: 様
E40: 様 | O40: 様 | Z40: 様
E41: 様 | O41: 様 | Z41: 様
A42: 本日の検査 | F42: 検査内容 | K42: 処置実施者 | P42: 処置内容 | Z42: 様
E43: 様 | O43: 様 | Z43: 様
E44: 様 | O44: 様 | Z44: 様
E45: 様 | O45: 様 | Z45: 様
E46: 様 | O46: 様 | U46: 点検項目
E47: 様 | O47: 様 | U47: 項目 | Z47: 時間 | AC47: 点検者
A48: 発熱 | F48: 下痢 | K48: 風邪薬 | P48: 男性： | U48: 医療廃棄物 | Y48: 0.75 | AB48: 柳田美雪
A49: 0 | F49: 0 | K49: 0 | P49: 女性： | U49: 戸締り | Y49: 0.75 | AB49: 中村 恵理子
A51: 備考欄 | C51: （連絡事項・処方変更・その他）

Sheet 29
B1: クリニック 日 誌 | H1: 令和 | J1: ='6'!J1 -> 2 | K1: 年 | L1: ='1'!L1 -> 8 | M1: 月 | N1: 29 | O1: 日 | Q1: （ | S1: ） | V1: COO | Y1: IOO | AB1: AOM
A3: 勤務者名
A4: ='6'!A4:F4 -> 中村 恵理子 | G4: 日 | I4: 柳田 美雪 | N4: 日 | Q4: 診察室 | W4: 外来担当医 | Z4: 外来介助者
A5: 石原 恵海 | G5: 日 | Q5: 第１診察室 | Z5: 柳田・石原
Q6: 第２診察室
B8: 新 | C8: 再 | D8: 精 | E8: 内 | F8: 処 | G8: 患者様氏名 | L8: 新 | M8: 再 | N8: 精 | O8: 内 | P8: 処 | Q8: 患者様氏名 | V8: 新 | W8: 再 | X8: 精 | Y8: 内 | Z8: 処 | AA8: 患者様氏名
A9: 1 | J9: 様 | K9: 2 | T9: 様 | U9: 3 | AD9: 様
A10: 4 | J10: 様 | K10: 5 | T10: 様 | U10: 6 | AD10: 様
A11: 7 | J11: 様 | K11: 8 | T11: 様 | U11: 9 | AD11: 様
A12: 10 | J12: 様 | K12: 11 | T12: 様 | U12: 12 | AD12: 様
A13: 13 | J13: 様 | K13: 14 | T13: 様 | U13: 15 | AD13: 様
A14: 16 | J14: 様 | K14: 17 | T14: 様 | U14: 18 | AD14: 様
A15: 19 | J15: 様 | K15: 20 | T15: 様 | U15: 21 | AD15: 様
A16: 22 | J16: 様 | K16: 23 | T16: 様 | U16: 24 | AD16: 様
A17: 25 | J17: 様 | K17: 26 | T17: 様 | U17: 27 | AD17: 様
A18: 28 | J18: 様 | K18: 29 | T18: 様 | U18: 30 | AD18: 様
A19: 31 | J19: 様 | K19: 32 | T19: 様 | U19: 33 | AD19: 様
A20: 34 | J20: 様 | K20: 35 | T20: 様 | U20: 36 | AD20: 様
... A33: 73 | J33: 様 | K33: 74 | T33: 様 | U33: 75 | AD33: 様
A34: 外来患者数 | E34: 新： | F34: =COUNTIF(B9:B33,"・")+COUNTIF(L9:L33,"・")+COUNTIF(V9:V33,"・") -> 0 | H34: 名 | I34: 再： | J34: =COUNTIF(C9:C33,"・")+COUNTIF(M9:M33,"・")+COUNTIF(W9:W33,"・") -> 0 | L34: 名 | M34: 計： | N34: =SUM(F34:K34) -> 0 | Q34: 名 | R34: （ | S34: 精： | T34: =COUNTIF(D9:D33,"・")+COUNTIF(N9:N33,"・")+COUNTIF(X9:X33,"・") -> 0 | W34: 名 | X34: ・ | Y34: 内： | Z34: =COUNTIF(E9:E33,"・")+COUNTIF(O9:O33,"・")+COUNTIF(Y9:Y33,"・") -> 0 | AC34: 名 | AD34: ）
A36: 紹介患者様氏名 | F36: 紹介先 | K36: 逆紹介患者様氏名 | P36: 紹介元 | U36: 処置実施者 | AA36: 処置内容
E37: 様 | O37: 様 | Z37: 様
E38: 様 | O38: 様 | Z38: 様
E39: 様 | O39: 様 | Z39: 様
E40: 様 | O40: 様 | Z40: 様
E41: 様 | O41: 様 | Z41: 様
A42: 本日の検査 | F42: 検査内容 | K42: 処置実施者 | P42: 処置内容 | Z42: 様
E43: 様 | O43: 様 | Z43: 様
E44: 様 | O44: 様 | Z44: 様
E45: 様 | O45: 様 | Z45: 様
E46: 様 | O46: 様 | U46: 点検項目
E47: 様 | O47: 様 | U47: 項目 | Z47: 時間 | AC47: 点検者
A48: 発熱 | F48: 下痢 | K48: 風邪薬 | P48: 男性： | U48: 医療廃棄物 | Y48: 0.75 | AB48: 柳田美雪
A49: 0 | F49: 0 | K49: 0 | P49: 女性： | U49: 戸締り | Y49: 0.75 | AB49: ='6'!AB37:AD37 -> 石谷 美代子
A51: 備考欄 | C51: （連絡事項・処方変更・その他）

Sheet 30
B1: クリニック 日 誌 | H1: 令和 | J1: ='6'!J1 -> 2 | K1: 年 | L1: ='1'!L1 -> 8 | M1: 月 | N1: 30 | O1: 日 | Q1: （ | S1: ） | V1: COO | Y1: IOO | AB1: AOM
A3: 勤務者名
A4: ='6'!A4:F4 -> 中村 恵理子 | G4: 日 | I4: 柳田 美雪 | N4: 日 | Q4: 診察室 | W4: 外来担当医 | Z4: 外来介助者
A5: 石原 恵海 | G5: 日 | Q5: 第１診察室
Q6: 第２診察室
B8: 新 | C8: 再 | D8: 精 | E8: 内 | F8: 処 | G8: 患者様氏名 | L8: 新 | M8: 再 | N8: 精 | O8: 内 | P8: 処 | Q8: 患者様氏名 | V8: 新 | W8: 再 | X8: 精 | Y8: 内 | Z8: 処 | AA8: 患者様氏名
A9: 1 | J9: 様 | K9: 2 | T9: 様 | U9: 3 | AD9: 様
A10: 4 | J10: 様 | K10: 5 | T10: 様 | U10: 6 | AD10: 様
A11: 7 | J11: 様 | K11: 8 | T11: 様 | U11: 9 | AD11: 様
A12: 10 | J12: 様 | K12: 11 | T12: 様 | U12: 12 | AD12: 様
A13: 13 | J13: 様 | K13: 14 | T13: 様 | U13: 15 | AD13: 様
A14: 16 | J14: 様 | K14: 17 | T14: 様 | U14: 18 | AD14: 様
A15: 19 | J15: 様 | K15: 20 | T15: 様 | U15: 21 | AD15: 様
A16: 22 | J16: 様 | K16: 23 | T16: 様 | U16: 24 | AD16: 様
A17: 25 | J17: 様 | K17: 26 | T17: 様 | U17: 27 | AD17: 様
A18: 28 | J18: 様 | K18: 29 | T18: 様 | U18: 30 | AD18: 様
A19: 31 | J19: 様 | K19: 32 | T19: 様 | U19: 33 | AD19: 様
A20: 34 | J20: 様 | K20: 35 | T20: 様 | U20: 36 | AD20: 様
... A33: 73 | J33: 様 | K33: 74 | T33: 様 | U33: 75 | AD33: 様
A34: 外来患者数 | E34: 新： | F34: =COUNTIF(B9:B33,"・")+COUNTIF(L9:L33,"・")+COUNTIF(V9:V33,"・") -> 0 | H34: 名 | I34: 再： | J34: =COUNTIF(C9:C33,"・")+COUNTIF(M9:M33,"・")+COUNTIF(W9:W33,"・") -> 0 | L34: 名 | M34: 計： | N34: =SUM(F34:K34) -> 0 | Q34: 名 | R34: （ | S34: 精： | T34: =COUNTIF(D9:D33,"・")+COUNTIF(N9:N33,"・")+COUNTIF(X9:X33,"・") -> 0 | W34: 名 | X34: ・ | Y34: 内： | Z34: =COUNTIF(E9:E33,"・")+COUNTIF(O9:O33,"・")+COUNTIF(Y9:Y33,"・") -> 0 | AC34: 名 | AD34: ）
A36: 紹介患者様氏名 | F36: 紹介先 | K36: 逆紹介患者様氏名 | P36: 紹介元 | U36: 処置実施者 | AA36: 処置内容
E37: 様 | O37: 様 | Z37: 様
E38: 様 | O38: 様 | Z38: 様
E39: 様 | O39: 様 | Z39: 様
E40: 様 | O40: 様 | Z40: 様
E41: 様 | O41: 様 | Z41: 様
A42: 本日の検査 | F42: 検査内容 | K42: 処置実施者 | P42: 処置内容 | Z42: 様
E43: 様 | O43: 様 | Z43: 様
E44: 様 | O44: 様 | Z44: 様
E45: 様 | O45: 様 | Z45: 様
E46: 様 | O46: 様 | U46: 点検項目
E47: 様 | O47: 様 | U47: 項目 | Z47: 時間 | AC47: 点検者
A48: 発熱 | F48: 下痢 | K48: 風邪薬 | P48: 男性： | U48: 医療廃棄物 | Y48: 0.75 | AB48: 柳田美雪
A49: 0 | F49: 0 | K49: 0 | P49: 女性： | U49: 戸締り | Y49: 0.75 | AB49: ='6'!AB37:AD37 -> 石谷 美代子
A51: 備考欄 | C51: （連絡事項・処方変更・その他）

Sheet 31
B1: クリニック 日 誌 | H1: 令和 | J1: ='6'!J1 -> 2 | K1: 年 | L1: ='1'!L1 -> 8 | M1: 月 | N1: 31 | O1: 日 | Q1: （ | S1: ） | V1: COO | Y1: IOO | AB1: AOM
A3: 勤務者名
A4: ='6'!A4:F4 -> 中村 恵理子 | G4: 日 | I4: 柳田 美雪 | N4: 日 | Q4: 診察室 | W4: 外来担当医 | Z4: 外来介助者
A5: 石原 恵海 | G5: 日 | Q5: 第１診察室
Q6: 第２診察室
B8: 新 | C8: 再 | D8: 精 | E8: 内 | F8: 処 | G8: 患者様氏名 | L8: 新 | M8: 再 | N8: 精 | O8: 内 | P8: 処 | Q8: 患者様氏名 | V8: 新 | W8: 再 | X8: 精 | Y8: 内 | Z8: 処 | AA8: 患者様氏名
A9: 1 | J9: 様 | K9: 2 | T9: 様 | U9: 3 | AD9: 様
A10: 4 | J10: 様 | K10: 5 | T10: 様 | U10: 6 | AD10: 様
A11: 7 | J11: 様 | K11: 8 | T11: 様 | U11: 9 | AD11: 様
A12: 10 | J12: 様 | K12: 11 | T12: 様 | U12: 12 | AD12: 様
A13: 13 | J13: 様 | K13: 14 | T13: 様 | U13: 15 | AD13: 様
A14: 16 | J14: 様 | K14: 17 | T14: 様 | U14: 18 | AD14: 様
A15: 19 | J15: 様 | K15: 20 | T15: 様 | U15: 21 | AD15: 様
A16: 22 | J16: 様 | K16: 23 | T16: 様 | U16: 24 | AD16: 様
A17: 25 | J17: 様 | K17: 26 | T17: 様 | U17: 27 | AD17: 様
A18: 28 | J18: 様 | K18: 29 | T18: 様 | U18: 30 | AD18: 様
A19: 31 | J19: 様 | K19: 32 | T19: 様 | U19: 33 | AD19: 様
A20: 34 | J20: 様 | K20: 35 | T20: 様 | U20: 36 | AD20: 様
... A33: 73 | J33: 様 | K33: 74 | T33: 様 | U33: 75 | AD33: 様
A34: 外来患者数 | E34: 新： | F34: =COUNTIF(B9:B33,"・")+COUNTIF(L9:L33,"・")+COUNTIF(V9:V33,"・") -> 0 | H34: 名 | I34: 再： | J34: =COUNTIF(C9:C33,"・")+COUNTIF(M9:M33,"・")+COUNTIF(W9:W33,"・") -> 0 | L34: 名 | M34: 計： | N34: =SUM(F34:K34) -> 0 | Q34: 名 | R34: （ | S34: 精： | T34: =COUNTIF(D9:D33,"・")+COUNTIF(N9:N33,"・")+COUNTIF(X9:X33,"・") -> 0 | W34: 名 | X34: ・ | Y34: 内： | Z34: =COUNTIF(E9:E33,"・")+COUNTIF(O9:O33,"・")+COUNTIF(Y9:Y33,"・") -> 0 | AC34: 名 | AD34: ）
A36: 紹介患者様氏名 | F36: 紹介先 | K36: 逆紹介患者様氏名 | P36: 紹介元 | U36: 処置実施者 | AA36: 処置内容
E37: 様 | O37: 様 | Z37: 様
E38: 様 | O38: 様 | Z38: 様
E39: 様 | O39: 様 | Z39: 様
E40: 様 | O40: 様 | Z40: 様
E41: 様 | O41: 様 | Z41: 様
A42: 本日の検査 | F42: 検査内容 | K42: 処置実施者 | P42: 処置内容 | Z42: 様
E43: 様 | O43: 様 | Z43: 様
E44: 様 | O44: 様 | Z44: 様
E45: 様 | O45: 様 | Z45: 様
E46: 様 | O46: 様 | U46: 点検項目
E47: 様 | O47: 様 | U47: 項目 | Z47: 時間 | AC47: 点検者
A48: 発熱 | F48: 下痢 | K48: 風邪薬 | P48: 男性： | U48: 医療廃棄物 | Y48: 0.75 | AB48: 柳田美雪
A49: 0 | F49: 0 | K49: 0 | P49: 女性： | U49: 戸締り | Y49: 0.75 | AB49: ='6'!AB37:AD37 -> 石谷 美代子
A51: 備考欄 | C51: （連絡事項・処方変更・その他）

Sheet Sheet1

Sheet 互換性レポート
B1: クリニック 日 誌 | H1: 令和 | J1: 元 | K1: 年 | L1: 8 | M1: 月 | N1: 2 | O1: 日 | Q1: （ | R1: 金 | S1: ） | V1: COO | Y1: IOO | AB1: AOM
A3: 勤務者名
A4: 小笠原 恵理子 | G4: 日 | I4: 柳田 美雪 | N4: 日 | Q4: 診察室 | W4: 外来担当医 | Z4: 外来介助者
I5: 恵谷 愛 | N5: 日 | Q5: 第１診察室 | U5: 金 | Z5: 柳田・恵谷
Q6: 第２診察室 | U6: 千葉 良 | Z6: 柳田・恵谷
B8: 新 | C8: 再 | D8: 精 | E8: 内 | F8: 処 | G8: 患者様氏名 | L8: 新 | M8: 再 | N8: 精 | O8: 内 | P8: 処 | Q8: 患者様氏名 | V8: 新 | W8: 再 | X8: 精 | Y8: 内 | Z8: 処 | AA8: 患者様氏名
A9: 1 | C9: ・ | D9: ・ | F9: 28 | G9: 織笠 祐美 | J9: 様 | K9: 2 | M9: ・ | N9: ・ | P9: 28 | Q9: 蒔苗 美穂子 | T9: 様 | U9: 3 | W9: ・ | X9: ・ | Z9: 30 | AA9: 小笠原 とよ | AD9: 様
A10: 4 | C10: ・ | D10: ・ | F10: 30 | G10: 山口 陽子 | J10: 様 | K10: 5 | M10: ・ | N10: ・ | P10: 30 | Q10: 伊藤 和子 | T10: 様 | U10: 6 | W10: ・ | X10: ・ | Z10: 7 | AA10: 生平 祥恵 | AD10: 様
A11: 7 | C11: ・ | D11: ・ | F11: 30 | G11: 畑山 栄子 | J11: 様 | K11: 8 | M11: ・ | N11: ・ | P11: 30 | Q11: 小林 昭治 | T11: 様 | U11: 9 | W11: ・ | X11: ・ | Z11: 28 | AA11: 千葉 スワ | AD11: 様
A12: 10 | C12: ・ | D12: ・ | F12: 30 | G12: 野田 恵美 | J12: 様 | K12: 11 | M12: ・ | N12: ・ | P12: 30 | Q12: 高橋 千佳 | T12: 様 | U12: 12 | V12: ・ | X12: ・ | Z12: 30 | AA12: 安藤 クニ | AD12: 様
A13: 13 | C13: ・ | D13: ・ | F13: 28 | G13: 中村 ノリ子 | J13: 様 | K13: 14 | L13: ・ | N13: ・ | P13: 0 | Q13: 川村 俊行 | T13: 様 | U13: 15 | W13: ・ | X13: ・ | Z13: 21 | AA13: 小林 稔 | AD13: 様
A14: 16 | C14: ・ | D14: ・ | F14: 0 | G14: 工藤 隆斗 | J14: 様 | K14: 17 | M14: ・ | N14: ・ | P14: 30 | Q14: 中川原 いさ | T14: 様 | U14: 18 | V14: ・ | X14: ・ | Z14: 14 | AA14: 福士 チエ | AD14: 様
A15: 19 | C15: ・ | D15: ・ | F15: 30 | G15: 沼尾 タマエ | J15: 様 | K15: 20 | M15: ・ | N15: ・ | P15: 63 | Q15: 今田 則夫 | T15: 様 | U15: 21 | W15: ・ | X15: ・ | Z15: 28 | AA15: 市川 太祐 | AD15: 様
A16: 22 | C16: ・ | D16: ・ | F16: 30 | G16: 馬場 トセ子 | J16: 様 | K16: 23 | M16: ・ | N16: ・ | P16: 7 | Q16: 千葉 あいり | T16: 様 | U16: 24 | W16: ・ | X16: ・ | Z16: 30 | AA16: 西野 謙三 | AD16: 様
A17: 25 | C17: ・ | D17: ・ | F17: 28 | G17: 長根 謙二 | J17: 様 | K17: 26 | M17: ・ | N17: ・ | P17: 60 | Q17: 尾崎 良夫 | T17: 様 | U17: 27 | W17: ・ | X17: ・ | Z17: 30 | AA17: 佐々木 則子 | AD17: 様
A18: 28 | C18: ・ | D18: ・ | F18: 60 | G18: 小野 俊幸 | J18: 様 | K18: 29 | M18: ・ | N18: ・ | P18: 60 | Q18: 宮里 ミネ | T18: 様 | U18: 30 | W18: ・ | X18: ・ | Z18: 30 | AA18: 角 汰一 | AD18: 様
A19: 31 | C19: ・ | D19: ・ | F19: 0 | G19: 大久保 瑠七 | J19: 様 | K19: 32 | M19: ・ | N19: ・ | P19: 21 | Q19: 丸谷 美香 | T19: 様 | U19: 33 | W19: ・ | X19: ・ | Z19: 60 | AA19: 月館 ユリ | AD19: 様
A20: 34 | C20: ・ | D20: ・ | F20: 60 | G20: 浪岡 モミ | J20: 様 | K20: 35 | M20: ・ | N20: ・ | P20: 30 | Q20: 佐々木 札子 | T20: 様 | U20: 36 | W20: ・ | X20: ・ | Z20: 30 | AA20: 渡辺 愛子 | AD20: 様
A21: 37 | C21: ・ | D21: ・ | F21: 30 | G21: 袴田 紀子 | J21: 様 | K21: 38 | M21: ・ | N21: ・ | P21: 30 | Q21: 国分 トシ子 | T21: 様 | U21: 39 | W21: ・ | X21: ・ | Z21: 21 | AA21: 熊野 富美子 | AD21: 様
A22: 40 | C22: ・ | D22: ・ | F22: 30 | G22: 小比券巻 興一 | J22: 様 | K22: 41 | M22: ・ | N22: ・ | P22: 30 | Q22: 長嶺 孝 | T22: 様 | U22: 42 | W22: ・ | X22: ・ | Z22: 21 | AA22: 山田 淳一 | AD22: 様
A23: 43 | C23: ・ | D23: ・ | F23: 30 | G23: 井上 憲昭 | J23: 様 | K23: 44 | M23: ・ | N23: ・ | P23: 30 | Q23: 起田 妙子 | T23: 様 | U23: 45 | W23: ・ | X23: ・ | Z23: 30 | AA23: 小坂 和美 | AD23: 様
A24: 46 | C24: ・ | D24: ・ | F24: 30 | G24: 山谷 光都 | J24: 様 | K24: 47 | M24: ・ | N24: ・ | P24: 30 | Q24: 伊藤 和子 | T24: 様 | U24: 48 | W24: ・ | X24: ・ | Z24: 0 | AA24: 林 成信 | AD24: 様
A25: 49 | C25: ・ | D25: ・ | F25: 0 | G25: 工藤 健壽 | J25: 様 | K25: 50 | M25: ・ | N25: ・ | P25: 0 | Q25: 深町 栄美子 | T25: 様 | U25: 51 | W25: ・ | X25: ・ | Z25: 0 | AA25: 北村 イウ子 | AD25: 様
A26: 52 | C26: ・ | D26: ・ | F26: 0 | G26: 瀬川 高雄 | J26: 様 | K26: 53 | M26: ・ | N26: ・ | P26: 0 | Q26: 工藤 富雄 | T26: 様 | U26: 54 | W26: ・ | X26: ・ | Z26: 0 | AA26: 高村 加津子 | AD26: 様
A27: 55 | C27: ・ | D27: ・ | F27: 0 | G27: 萠出 克治 | J27: 様 | K27: 56 | T27: 様 | U27: 57 | AD27: 様
A28: 外来患者数 | E28: 新： | F28: =COUNTIF(B9:B27,"・")+COUNTIF(L9:L27,"・")+COUNTIF(V9:V27,"・") -> 3 | H28: 名 | I28: 再： | J28: =COUNTIF(C9:C27,"・")+COUNTIF(M9:M27,"・")+COUNTIF(W9:W27,"・") -> 52 | L28: 名 | M28: 計： | N28: =SUM(F28:K28) -> 55 | Q28: 名 | R28: （ | S28: 精： | T28: =COUNTIF(D9:D27,"・")+COUNTIF(N9:N27,"・")+COUNTIF(X9:X27,"・") -> 55 | W28: 名 | X28: ・ | Y28: 内： | Z28: =COUNTIF(E9:E27,"・")+COUNTIF(O9:O27,"・")+COUNTIF(Y9:Y27,"・") -> 0 | AC28: 名 | AD28: ）
A30: 紹介患者様氏名 | F30: 紹介先 | K30: 逆紹介患者様氏名 | P30: 紹介元 | U30: 処置実施者 | AA30: 処置内容
E31: 様 | K31: 安藤 クニ | O31: 様 | P31: 三沢中央病院 | Z31: 様
A32: 本日の検査 | F32: 検査内容 | K32: 処置実施者 | P32: 処置内容 | Z32: 様
A33: 工藤 隆斗 | E33: 様 | F33: 血液検査 | O33: 様 | Z33: 様
E34: 様 | O34: 様 | Z34: 様
E35: 様 | O35: 様 | Z35: 様
E36: 様 | O36: 様 | U36: 点検項目
E37: 様 | O37: 様 | U37: 項目 | Z37: 時間 | AC37: 点検者
A38: 発熱 | F38: 下痢 | K38: 風邪薬 | P38: 男性：21 | U38: 医療廃棄物 | Y38: 0.75 | AB38: 柳田美雪
A39: 0 | F39: 0 | K39: 0 | P39: 女性：31 | U39: 戸締り | Y39: 0.75 | AB39: 小笠原恵理子
A41: 備考欄 | C41: （連絡事項・処方変更・その他）
G42: 特記なし
G43: 柳田

Sheet 曜日
A1: 曜日 | E1: 説明書 その月の１日～７日までの曜日を黄色のセルに記入してください。 （例：１日が水曜日の月なら…… １日＝水 ２日＝木 ： ７日＝火
A2: 1日 | B2: = | C2: 日
A3: 2日 | B3: = | C3: 月 | D3: ←
A4: 3日 | B4: = | C4: 火
A5: 4日 | B5: = | C5: 水
A6: 5日 | B6: = | C6: 木
A7: 6日 | B7: = | C7: 金
A8: 7日 | B8: = | C8: 土
A10: 年 | B10: 月 | E10: 説明書 年・月を入れてください。
A11: 1 | B11: 12 | D11: ←
