Workbook

Sheet 1
B1: クリニック 日 誌 | H1: 令和 | J1: 2 | K1: 年 | L1: 8 | M1: 月 | N1: 1 | O1: 日 | Q1: （ | S1: ） | V1: COO | Y1: IOO | AB1: AOM
A3: 勤務者名
A4: 中村 恵理子 | G4: 日 | I4: 柳田 美雪 | N4: 日 | Q4: 診察室 | W4: 外来担当医 | Z4: 外来介助者
A5: 石原 恵海 | G5: 日 | Q5: 第１診察室 | Z5: 柳田・石原
Q6: 第２診察室
B8: 新 | C8: 再 | D8: 精 | E8: 内 | F8: 処 | G8: 患者様氏名 | L8: 新 | M8: 再 | N8: 精 | O8: 内 | P8: 処 | Q8: 患者様氏名 | V8: 新 | W8: 再 | X8: 精 | Y8: 内 | Z8: 処 | AA8: 患者様氏名
A9: 1 | J9: 様 | K9: 2 | T9: 様 | U9: 3 | AD9: 様
A10: 4 | J10: 様 | K10: 5 | T10: 様 | U10: 6 | AD10: 様
A11: 7 | J11: 様 | K11: 8 | T11: 様 | U11: 9 | AD11: 様
A12: 10 | J12: 様 | K12: 11 | T12: 様 | U12: 12 | AD12: 様
A13: 13 | J13: 様 | K13: 14 | T13: 様 | U13: 15 | AD13: 様
A14: 16 | J14: 様 | K14: 17 | T14: 様 | U14: 18 | AD14: 様
A15: 19 | J15: 様 | K15: 20 | T15: 様 | U15: 21 | AD15: 様
A16: 22 | J16: 様 | K16: 23 | T16: 様 | U16: 24 | AD16: 様
A17: 25 | J17: 様 | K17: 26 | T17: 様 | U17: 27 | AD17: 様
A18: 28 | J18: 様 | K18: 29 | T18: 様 | U18: 30 | AD18: 様
A19: 31 | J19: 様 | K19: 32 | T19: 様 | U19: 33 | AD19: 様
A20: 34 | J20: 様 | K20: 35 | T20: 様 | U20: 36 | AD20: 様
... A33: 73 | J33: 様 | K33: 74 | T33: 様 | U33: 75 | AD33: 様
A34: 外来患者数 | E34: 新： | F34: =COUNTIF(B9:B33,"・")+COUNTIF(L9:L33,"・")+COUNTIF(V9:V33,"・") -> 0 | H34: 名 | I34: 再： | J34: =COUNTIF(C9:C33,"・")+COUNTIF(M9:M33,"・")+COUNTIF(W9:W33,"・") -> 0 | L34: 名 | M34: 計： | N34: =SUM(F34:K34) -> 0 | Q34: 名 | R34: （ | S34: 精： | T34: =COUNTIF(D9:D33,"・")+COUNTIF(N9:N33,"・")+COUNTIF(X9:X33,"・") -> 0 | W34: 名 | X34: ・ | Y34: 内： | Z34: =COUNTIF(E9:E33,"・")+COUNTIF(O9:O33,"・")+COUNTIF(Y9:Y33,"・") -> 0 | AC34: 名 | AD34: ）
A36: 紹介患者様氏名 | F36: 紹介先 | K36: 逆紹介患者様氏名 | P36: 紹介元 | U36: 処置実施者 | AA36: 処置内容
E37: 様 | O37: 様 | Z37: 様
E38: 様 | O38: 様 | Z38: 様
E39: 様 | O39: 様 | Z39: 様
E40: 様 | O40: 様 | Z40: 様
E41: 様 | O41: 様 | Z41: 様
A42: 本日の検査 | F42: 検査内容 | K42: 処置実施者 | P42: 処置内容 | Z42: 様
E43: 様 | O43: 様 | Z43: 様
E44: 様 | O44: 様 | Z44: 様
E45: 様 | O45: 様 | Z45: 様
E46: 様 | O46: 様 | U46: 点検項目
E47: 様 | O47: 様 | U47: 項目 | Z47: 時間 | AC47: 点検者
A48: 発熱 | F48: 下痢 | K48: 風邪薬 | P48: 男性： | U48: 医療廃棄物 | Y48: 0.75
A49: 0 | F49: 0 | K49: 0 | P49: 女性： | U49: 戸締り | Y49: 0.75 | AB49: 中村 恵理子
A51: 備考欄 | C51: （連絡事項・処方変更・その他）

Sheet 2
B1: クリニック 日 誌 | H1: 令和 | J1: ='1'!J1 -> 2 | K1: 年 | L1: ='1'!L1 -> 8 | M1: 月 | N1: 2 | O1: 日 | Q1: （ | S1: ） | V1: COO | Y1: IOO | AB1: AOM
A3: 勤務者名
A4: ='1'!A4:F4 -> 中村 恵理子 | G4: 日 | I4: 柳田 美雪 | N4: 日 | Q4: 診察室 | W4: 外来担当医 | Z4: 外来介助者
A5: 石原 恵海 | G5: 日 | Q5: 第１診察室 | Z5: 柳田・石原
Q6: 第２診察室
B8: 新 | C8: 再 | D8: 精 | E8: 内 | F8: 処 | G8: 患者様氏名 | L8: 新 | M8: 再 | N8: 精 | O8: 内 | P8: 処 | Q8: 患者様氏名 | V8: 新 | W8: 再 | X8: 精 | Y8: 内 | Z8: 処 | AA8: 患者様氏名
A9: 1 | J9: 様 | K9: 2 | T9: 様 | U9: 3 | AD9: 様
A10: 4 | J10: 様 | K10: 5 | T10: 様 | U10: 6 | AD10: 様
A11: 7 | J11: 様 | K11: 8 | T11: 様 | U11: 9 | AD11: 様
A12: 10 | J12: 様 | K12: 11 | T12: 様 | U12: 12 | AD12: 様
A13: 13 | J13: 様 | K13: 14 | T13: 様 | U13: 15 | AD13: 様
A14: 16 | J14: 様 | K14: 17 | T14: 様 | U14: 18 | AD14: 様
A15: 19 | J15: 様 | K15: 20 | T15: 様 | U15: 21 | AD15: 様
A16: 22 | J16: 様 | K16: 23 | T16: 様 | U16: 24 | AD16: 様
A17: 25 | J17: 様 | K17: 26 | T17: 様 | U17: 27 | AD17: 様
A18: 28 | J18: 様 | K18: 29 | T18: 様 | U18: 30 | AD18: 様
A19: 31 | J19: 様 | K19: 32 | T19: 様 | U19: 33 | AD19: 様
A20: 34 | J20: 様 | K20: 35 | T20: 様 | U20: 36 | AD20: 様
... A33: 73 | J33: 様 | K33: 74 | T33: 様 | U33: 75 | AD33: 様
A34: 外来患者数 | E34: 新： | F34: =COUNTIF(B9:B33,"・")+COUNTIF(L9:L33,"・")+COUNTIF(V9:V33,"・") -> 0 | H34: 名 | I34: 再： | J34: =COUNTIF(C9:C33,"・")+COUNTIF(M9:M33,"・")+COUNTIF(W9:W33,"・") -> 0 | L34: 名 | M34: 計： | N34: =SUM(F34:K34) -> 0 | Q34: 名 | R34: （ | S34: 精： | T34: =COUNTIF(D9:D33,"・")+COUNTIF(N9:N33,"・")+COUNTIF(X9:X33,"・") -> 0 | W34: 名 | X34: ・ | Y34: 内： | Z34: =COUNTIF(E9:E33,"・")+COUNTIF(O9:O33,"・")+COUNTIF(Y9:Y33,"・") -> 0 | AC34: 名 | AD34: ）
A36: 紹介患者様氏名 | F36: 紹介先 | K36: 逆紹介患者様氏名 | P36: 紹介元 | U36: 処置実施者 | AA36: 処置内容
E37: 様 | O37: 様 | Z37: 様
E38: 様 | O38: 様 | Z38: 様
E39: 様 | O39: 様 | Z39: 様
E40: 様 | O40: 様 | Z40: 様
E41: 様 | O41: 様 | Z41: 様
A42: 本日の検査 | F42: 検査内容 | K42: 処置実施者 | P42: 処置内容 | Z42: 様
E43: 様 | O43: 様 | Z43: 様
E44: 様 | O44: 様 | Z44: 様
E45: 様 | O45: 様 | Z45: 様
E46: 様 | O46: 様 | U46: 点検項目
E47: 様 | O47: 様 | U47: 項目 | Z47: 時間 | AC47: 点検者
A48: 発熱 | F48: 下痢 | K48: 風邪薬 | P48: 男性： | U48: 医療廃棄物 | Y48: 0.75
A49: 0 | F49: 0 | K49: 0 | P49: 女性： | U49: 戸締り | Y49: 0.75 | AB49: ='1'!AB49:AD49 -> 中村 恵理子
A51: 備考欄 | C51: （連絡事項・処方変更・その他）

Sheet 3
B1: クリニック 日 誌 | H1: 令和 | J1: ='1'!J1 -> 2 | K1: 年 | L1: ='1'!L1 -> 8 | M1: 月 | N1: 3 | O1: 日 | Q1: （ | R1: 月 | S1: ） | V1: COO | Y1: IOO | AB1: AOM
A3: 勤務者名
A4: ='1'!A4:F4 -> 中村 恵理子 | G4: 日 | I4: 柳田 美雪 | N4: 日 | Q4: 診察室 | W4: 外来担当医 | Z4: 外来介助者
A5: 石原 恵海 | G5: 日 | I5: 石谷 美代子 | N5: 日 | Q5: 第１診察室 | U5: 馬渡 晃弘 | Z5: 柳田・石原
Q6: 第２診察室 | U6: 千葉 良 | Z6: 柳田・石原
B8: 新 | C8: 再 | D8: 精 | E8: 内 | F8: 処 | G8: 患者様氏名 | L8: 新 | M8: 再 | N8: 精 | O8: 内 | P8: 処 | Q8: 患者様氏名 | V8: 新 | W8: 再 | X8: 精 | Y8: 内 | Z8: 処 | AA8: 患者様氏名
A9: 1 | C9: ・ | D9: ・ | F9: 28 | G9: 和田 ハルエ | J9: 様 | K9: 2 | M9: ・ | N9: ・ | P9: 21 | Q9: 木村 豊之 | T9: 様 | U9: 3 | W9: ・ | X9: ・ | Z9: 0 | AA9: 佐々木 あき | AD9: 様
A10: 4 | C10: ・ | D10: ・ | F10: 56 | G10: 織笠 重作 | J10: 様 | K10: 5 | M10: ・ | N10: ・ | P10: 20 | Q10: 野月 良江 | T10: 様 | U10: 6 | W10: ・ | X10: ・ | Z10: 30 | AA10: 冨田 空 | AD10: 様
A11: 7 | C11: ・ | D11: ・ | F11: 28 | G11: 沼山 深雪 | J11: 様 | K11: 8 | M11: ・ | N11: ・ | P11: 14 | Q11: 坪 和昭 | T11: 様 | U11: 9 | W11: ・ | X11: ・ | Z11: 28 | AA11: 畠山 由美子 | AD11: 様
A12: 10 | C12: ・ | D12: ・ | F12: 56 | G12: 是川 次友 | J12: 様 | K12: 11 | M12: ・ | N12: ・ | P12: 28 | Q12: 新田 節子 | T12: 様 | U12: 12 | W12: ・ | X12: ・ | Z12: 28 | AA12: 北上 貴仁 | AD12: 様
A13: 13 | C13: ・ | D13: ・ | F13: 56 | G13: 目代 幸枝 | J13: 様 | K13: 14 | M13: ・ | N13: ・ | P13: 30 | Q13: 野坂 翔 | T13: 様 | U13: 15 | W13: ・ | X13: ・ | Z13: 28 | AA13: 吉田 路代 | AD13: 様
A14: 16 | C14: ・ | D14: ・ | F14: 56 | G14: 田村 一重 | J14: 様 | K14: 17 | M14: ・ | N14: ・ | P14: 30 | Q14: 柳 尊丸 | T14: 様 | U14: 18 | W14: ・ | X14: ・ | Z14: 56 | AA14: 加賀 遥大 | AD14: 様
A15: 19 | C15: ・ | E15: ・ | F15: 60 | G15: 相内 照美 | J15: 様 | K15: 20 | M15: ・ | N15: ・ | P15: 56 | Q15: 田屋 サヨ | T15: 様 | U15: 21 | W15: ・ | X15: ・ | Z15: 3 | AA15: 坂本 佳之 | AD15: 様
A16: 22 | C16: ・ | D16: ・ | F16: 42 | G16: 吉村 直樹 | J16: 様 | K16: 23 | M16: ・ | N16: ・ | P16: 28 | Q16: 石橋 満里奈 | T16: 様 | U16: 24 | W16: ・ | X16: ・ | Z16: 30 | AA16: 高橋 真颯 | AD16: 様
A17: 25 | C17: ・ | D17: ・ | F17: 56 | G17: 古川 忍 | J17: 様 | K17: 26 | M17: ・ | N17: ・ | P17: 28 | Q17: 沼山 明 | T17: 様 | U17: 27 | W17: ・ | X17: ・ | Z17: 56 | AA17: 菅原 仙一 | AD17: 様
A18: 28 | C18: ・ | D18: ・ | F18: 28 | G18: 松森 英作 | J18: 様 | K18: 29 | M18: ・ | N18: ・ | P18: 28 | Q18: 沢村 まさえ | T18: 様 | U18: 30 | W18: ・ | X18: ・ | Z18: 35 | AA18: 江渡 野乃花 | AD18: 様
A19: 31 | C19: ・ | D19: ・ | F19: 0 | G19: 三浦 剛 | J19: 様 | K19: 32 | M19: ・ | N19: ・ | P19: 14 | Q19: 高松 奎虹 | T19: 様 | U19: 33 | W19: ・ | X19: ・ | Z19: 28 | AA19: 甲田 ミドリ | AD19: 様
A20: 34 | C20: ・ | D20: ・ | F20: 84 | G20: 藤島 かおり | J20: 様 | K20: 35 | M20: ・ | N20: ・ | P20: 28 | Q20: 工藤 敏子 | T20: 様 | U20: 36 | W20: ・ | X20: ・ | Z20: 28 | AA20: 鈴木 康真 | AD20: 様
A21: 37 | C21: ・ | D21: ・ | F21: 28 | G21: 野坂 裕子 | J21: 様 | K21: 38 | M21: ・ | N21: ・ | P21: 28 | Q21: 大野 政彦 | T21: 様 | U21: 39 | W21: ・ | X21: ・ | Z21: 60 | AA21: 星川 和子 | AD21: 様
A22: 40 | C22: ・ | D22: ・ | F22: 30 | G22: 佐藤 務 | J22: 様 | K22: 41 | M22: ・ | N22: ・ | P22: 56 | Q22: 林 礼子 | T22: 様 | U22: 42 | W22: ・ | X22: ・ | Z22: 21 | AA22: 原 奈々絵 | AD22: 様
A23: 43 | C23: ・ | D23: ・ | F23: 28 | G23: 大村 恵美 | J23: 様 | K23: 44 | M23: ・ | N23: ・ | P23: 28 | Q23: 沼田 博徳 | T23: 様 | U23: 45 | W23: ・ | X23: ・ | Z23: 0 | AA23: 高村 加津子 | AD23: 様
A24: 46 | C24: ・ | D24: ・ | F24: 56 | G24: 松橋 芳子 | J24: 様 | K24: 47 | M24: ・ | N24: ・ | P24: 0 | Q24: 小笠原 由美子 | T24: 様 | U24: 48 | W24: ・ | X24: ・ | Z24: 0 | AA24: 深町 栄美子 | AD24: 様
A25: 49 | C25: ・ | D25: ・ | F25: 28 | G25: 川村 ミエ | J25: 様 | K25: 50 | M25: ・ | N25: ・ | P25: 28 | Q25: 山縣 堅一 | T25: 様 | U25: 51 | W25: ・ | X25: ・ | Z25: 0 | AA25: 萠出 きのゑ | AD25: 様
A26: 52 | C26: ・ | D26: ・ | F26: 30 | G26: 沼山 武美 | J26: 様 | K26: 53 | M26: ・ | N26: ・ | P26: 28 | Q26: 川村 みせ | T26: 様 | U26: 54 | W26: ・ | X26: ・ | Z26: 0 | AA26: 萠出 克治 | AD26: 様
A27: 55 | C27: ・ | D27: ・ | F27: 28 | G27: 千葉 綾美 | J27: 様 | K27: 56 | M27: ・ | N27: ・ | P27: 35 | Q27: 岩森 美奈 | T27: 様 | U27: 57 | W27: ・ | X27: ・ | Z27: 0 | AA27: 沼端 ミセ | AD27: 様
... A33: 73 | C33: ・ | D33: ・ | F33: 56 | G33: 小笠原 諒 | J33: 様 | K33: 74 | M33: ・ | N33: ・ | P33: 30 | Q33: 山田 一輝 | T33: 様 | U33: 75 | W33: ・ | X33: ・ | Z33: 30 | AA33: 二宮 実里 | AD33: 様
A34: 76 | C34: ・ | D34: ・ | F34: 30 | G34: 岩脇 利旺 | J34: 様 | K34: 77 | M34: ・ | N34: ・ | P34: 30 | Q34: 蛯沢 鈴音波 | T34: 様 | U34: 76 | AD34: 様
A35: 外来患者数 | E35: 新： | F35: =COUNTIF(B9:B33,"・")+COUNTIF(L9:L33,"・")+COUNTIF(V9:V33,"・") -> 0 | H35: 名 | I35: 再： | J35: =COUNTIF(C9:C33,"・")+COUNTIF(M9:M33,"・")+COUNTIF(W9:W33,"・") -> 75 | L35: 名 | M35: 計： | N35: =SUM(F35:K35) -> 75 | Q35: 名 | R35: （ | S35: 精： | T35: =COUNTIF(D9:D33,"・")+COUNTIF(N9:N33,"・")+COUNTIF(X9:X33,"・") -> 74 | W35: 名 | X35: ・ | Y35: 内： | Z35: =COUNTIF(E9:E33,"・")+COUNTIF(O9:O33,"・")+COUNTIF(Y9:Y33,"・") -> 1 | AC35: 名 | AD35: ）
A37: 紹介患者様氏名 | F37: 紹介先 | K37: 逆紹介患者様氏名 | P37: 紹介元 | U37: 処置実施者 | AA37: 処置内容
E38: 様 | O38: 様 | Z38: 様
A39: 本日の検査 | F39: 検査内容 | K39: 処置実施者 | P39: 処置内容 | Z39: 様
A40: 佐々木 あき | E40: 様 | F40: 血液検査 | K40: 小笠原 由美子 | O40: 様 | P40: エビリファイ(400㎎) 1ｷｯﾄ | Z40: 様
E41: 様 | O41: 様 | U41: 点検項目
E42: 様 | O42: 様 | U42: 項目 | Z42: 時間 | AC42: 点検者
A43: 発熱 | F43: 下痢 | K43: 風邪薬 | P43: 男性：32 | U43: 医療廃棄物 | Y43: 0.75 | AB43: 石原 恵海
A44: 0 | F44: 0 | K44: 0 | P44: 女性：45 | U44: 戸締り | Y44: 0.75 | AB44: 石谷 美代子
A46: 備考欄 | C46: （連絡事項・処方変更・その他）
G47: 特になし
G48: 石原

Sheet 4
B1: クリニック 日 誌 | H1: 令和 | J1: ='1'!J1 -> 2 | K1: 年 | L1: ='1'!L1 -> 8 | M1: 月 | N1: 4 | O1: 日 | Q1: （ | R1: 火 | S1: ） | V1: COO | Y1: IOO | AB1: AOM
A3: 勤務者名
A4: ='1'!A4:F4 -> 中村 恵理子 | G4: 早 | I4: 柳田 美雪 | N4: 日 | Q4: 診察室 | W4: 外来担当医 | Z4: 外来介助者
A5: 石原 恵海 | G5: 日 | I5: 石谷 美代子 | N5: 日 | Q5: 第１診察室 | U5: 千葉 潜 | Z5: 柳田・石原
A6: 鳴海 彩香 | G6: 日 | I6: 神 圭輔 | N6: 日 | Q6: 第２診察室 | U6: 千葉 良 | Z6: 柳田・石原
B8: 新 | C8: 再 | D8: 精 | E8: 内 | F8: 処 | G8: 患者様氏名 | L8: 新 | M8: 再 | N8: 精 | O8: 内 | P8: 処 | Q8: 患者様氏名 | V8: 新 | W8: 再 | X8: 精 | Y8: 内 | Z8: 処 | AA8: 患者様氏名
A9: 1 | C9: ・ | D9: ・ | F9: 14 | G9: 新山 優衣 | J9: 様 | K9: 2 | M9: ・ | N9: ・ | P9: 0 | Q9: 遠嶋 千鶴 | T9: 様 | U9: 3 | V9: ・ | X9: ・ | Z9: 0 | AA9: 甲田 優弥 | AD9: 様
A10: 4 | C10: ・ | D10: ・ | F10: 14 | G10: 昆 早葵子 | J10: 様 | K10: 5 | M10: ・ | N10: ・ | P10: 28 | Q10: 宮崎 真一 | T10: 様 | U10: 6 | V10: ・ | X10: ・ | Z10: 0 | AA10: 和田 勇治 | AD10: 様
A11: 7 | C11: ・ | D11: ・ | F11: 28 | G11: 関川 隆子 | J11: 様 | K11: 8 | M11: ・ | N11: ・ | P11: 28 | Q11: 対馬 まき子 | T11: 様 | U11: 9 | W11: ・ | X11: ・ | Z11: 30 | AA11: 對馬 穣 | AD11: 様
A12: 10 | C12: ・ | D12: ・ | F12: 28 | G12: 尾形 志津香 | J12: 様 | K12: 11 | M12: ・ | N12: ・ | P12: 28 | Q12: 和田 懸 | T12: 様 | U12: 12 | W12: ・ | X12: ・ | Z12: 24 | AA12: 福田 輝美 | AD12: 様
A13: 13 | C13: ・ | D13: ・ | F13: 28 | G13: 古川 美姫 | J13: 様 | K13: 14 | M13: ・ | N13: ・ | P13: 28 | Q13: 高橋 ゆり子 | T13: 様 | U13: 15 | W13: ・ | X13: ・ | Z13: 21 | AA13: 田中 久美子 | AD13: 様
A14: 16 | C14: ・ | D14: ・ | F14: 28 | G14: 吹越 幸子 | J14: 様 | K14: 17 | M14: ・ | N14: ・ | P14: 28 | Q14: 後村 三根子 | T14: 様 | U14: 18 | W14: ・ | X14: ・ | Z14: 28 | AA14: シャムズバス | AD14: 様
A15: 19 | C15: ・ | D15: ・ | F15: 14 | G15: 武良 ミセ | J15: 様 | K15: 20 | M15: ・ | N15: ・ | P15: 28 | Q15: 井崎 恭子 | T15: 様 | U15: 21 | W15: ・ | X15: ・ | Z15: 28 | AA15: 大下内 テル | AD15: 様
A16: 22 | C16: ・ | D16: ・ | F16: 28 | G16: 武内 隆三 | J16: 様 | K16: 23 | M16: ・ | N16: ・ | P16: 30 | Q16: 田中 真由美 | T16: 様 | U16: 24 | W16: ・ | X16: ・ | Z16: 0 | AA16: 佐々木 政夫 | AD16: 様
A17: 25 | C17: ・ | D17: ・ | F17: 28 | G17: 川守田 智恵子 | J17: 様 | K17: 26 | M17: ・ | N17: ・ | P17: 28 | Q17: 種市 スエ | T17: 様 | U17: 27 | W17: ・ | X17: ・ | Z17: 28 | AA17: 鈴木 寛二 | AD17: 様
A18: 28 | C18: ・ | D18: ・ | F18: 28 | G18: 浄法寺 ミツエ | J18: 様 | K18: 29 | M18: ・ | N18: ・ | P18: 28 | Q18: 山崎 敦子 | T18: 様 | U18: 30 | W18: ・ | X18: ・ | Z18: 28 | AA18: 工藤 健壽 | AD18: 様
A19: 31 | C19: ・ | D19: ・ | F19: 28 | G19: 吉田 めぐみ | J19: 様 | K19: 32 | M19: ・ | N19: ・ | P19: 28 | Q19: 中澤 慶太 | T19: 様 | U19: 33 | W19: ・ | X19: ・ | Z19: 0 | AA19: 高村 加津子 | AD19: 様
A20: 34 | C20: ・ | D20: ・ | F20: 28 | G20: 宮古 月菜 | J20: 様 | K20: 35 | M20: ・ | N20: ・ | P20: 28 | Q20: 石岡 裕子 | T20: 様 | U20: 36 | W20: ・ | X20: ・ | Z20: 0 | AA20: 瀬川 高雄 | AD20: 様
A21: 37 | C21: ・ | D21: ・ | F21: 28 | G21: 小林 美智子 | J21: 様 | K21: 38 | M21: ・ | N21: ・ | P21: 25 | Q21: 三瓶 政行 | T21: 様 | U21: 39 | W21: ・ | X21: ・ | Z21: 0 | AA21: 坂本 政勝 | AD21: 様
A22: 40 | C22: ・ | D22: ・ | F22: 28 | G22: 熊崎 ユウ子 | J22: 様 | K22: 41 | M22: ・ | N22: ・ | P22: 28 | Q22: 古谷 京子 | T22: 様 | U22: 42 | W22: ・ | X22: ・ | Z22: 0 | AA22: 杉元 香菜子 | AD22: 様
... A24: 46 | C24: ・ | D24: ・ | F24: 28 | G24: 半澤 令 | J24: 様 | K24: 47 | M24: ・ | N24: ・ | P24: 0 | Q24: 遠嶋 剛 | T24: 様 | U24: 48 | W24: ・ | X24: ・ | Z24: 0 | AA24: 萠出 克治 | AD24: 様
A25: 49 | B25: ・ | D25: ・ | F25: 28 | G25: 福田 真由子 | J25: 様 | K25: 50 | M25: ・ | N25: ・ | P25: 28 | Q25: 二本柳 冨美子 | T25: 様 | U25: 51 | W25: ・ | X25: ・ | Z25: 0 | AA25: 田口 トシ子 | AD25: 様
A26: 52 | C26: ・ | D26: ・ | F26: 14 | G26: 鈴木 勝子 | J26: 様 | K26: 53 | M26: ・ | N26: ・ | P26: 28 | Q26: 山崎 奈津子 | T26: 様 | U26: 54 | W26: ・ | X26: ・ | Z26: 28 | AA26: 小栗 健太郎 | AD26: 様
A27: 55 | B27: ・ | D27: ・ | F27: 7 | G27: 椎葉 千枝 | J27: 様 | K27: 56 | L27: ・ | N27: ・ | P27: 7 | Q27: 吉田 佑子 | T27: 様 | U27: 57 | W27: ・ | X27: ・ | Z27: 28 | AA27: 吉村 彩花 | AD27: 様
A28: 58 | C28: ・ | D28: ・ | F28: 14 | G28: 石ケ谷 數子 | J28: 様 | K28: 59 | M28: ・ | N28: ・ | P28: 60 | Q28: 月舘 ユリ | T28: 様 | U28: 60 | W28: ・ | X28: ・ | Z28: 28 | AA28: 野崎 丈大 | AD28: 様
A29: 61 | C29: ・ | D29: ・ | F29: 28 | G29: 山口 陽子 | J29: 様 | K29: 62 | M29: ・ | N29: ・ | P29: 15 | Q29: 橋本 オシエ | T29: 様 | U29: 63 | W29: ・ | X29: ・ | Z29: 0 | AA29: 石井 佐代子 | AD29: 様
A30: 64 | C30: ・ | D30: ・ | F30: 28 | G30: 鈴木 勝士 | J30: 様 | K30: 65 | M30: ・ | N30: ・ | P30: 7 | Q30: 山岡 裕花 | T30: 様 | U30: 66 | W30: ・ | X30: ・ | Z30: 0 | AA30: 駒澤 キヤ | AD30: 様
A31: 67 | C31: ・ | D31: ・ | F31: 14 | G31: 馬場 悠 | J31: 様 | K31: 68 | M31: ・ | N31: ・ | P31: 28 | Q31: 佐々木 富雄 | T31: 様 | U31: 69 | W31: ・ | X31: ・ | Z31: 0 | AA31: 水上 民一 | AD31: 様
A32: 70 | C32: ・ | D32: ・ | F32: 30 | G32: 小泉 さめ | J32: 様 | K32: 71 | M32: ・ | N32: ・ | P32: 21 | Q32: 角 節子 | T32: 様 | U32: 72 | W32: ・ | X32: ・ | AD32: 様
A33: 外来患者数 | E33: 新： | F33: =COUNTIF(B9:B32,"・")+COUNTIF(L9:L32,"・")+COUNTIF(V9:V32,"・") -> 5 | H33: 名 | I33: 再： | J33: =COUNTIF(C9:C32,"・")+COUNTIF(M9:M32,"・")+COUNTIF(W9:W32,"・") -> 67 | L33: 名 | M33: 計： | N33: =SUM(F33:K33) -> 72 | Q33: 名 | R33: （ | S33: 精： | T33: =COUNTIF(D9:D32,"・")+COUNTIF(N9:N32,"・")+COUNTIF(X9:X32,"・") -> 72 | W33: 名 | X33: ・ | Y33: 内： | Z33: =COUNTIF(E9:E32,"・")+COUNTIF(O9:O32,"・")+COUNTIF(Y9:Y32,"・") -> 0 | AC33: 名 | AD33: ）
A35: 紹介患者様氏名 | F35: 紹介先 | K35: 逆紹介患者様氏名 | P35: 紹介元 | U35: 本日の検査 | AA35: 検査内容
E36: 様 | K36: 和田 勇治 | O36: 様 | P36: 三沢市立病院 | U36: 古谷 京子 | Z36: 様 | AA36: 血液検査
A37: 本日の検査 | F37: 検査内容 | K37: 処置実施者 | P37: 処置内容 | Z37: 様
A38: 新山 優衣 | E38: 様 | F38: WAIS | K38: 鈴木 寛二 | O38: 様 | P38: ｾﾞﾌﾟﾘｵﾝ150mg １ｷｯﾄ | Z38: 様
A39: 井崎 恭子 | E39: 様 | F39: 血液検査 | O39: 様 | Z39: 様
A40: 橋本 オシエ | E40: 様 | F40: 血液検査 | O40: 様 | Z40: 様
A41: 月舘 ユリ | E41: 様 | F41: 血液検査 | O41: 様 | U41: 点検項目
A42: 和田 勇治 | E42: 様 | F42: HDS-R・MMSE・血液検査 | O42: 様 | U42: 項目 | Z42: 時間 | AC42: 点検者
A43: 発熱 | F43: 下痢 | K43: 風邪薬 | P43: 男性：20 | U43: 医療廃棄物 | Y43: 0.75 | AB43: 石原 恵海
A44: 0 | F44: 0 | K44: 0 | P44: 女性：51 | U44: 戸締り | Y44: 0.75 | AB44: 石谷 美代子
...

Sheet 5
B1: クリニック 日 誌 | H1: 令和 | J1: ='1'!J1 -> 2 | K1: 年 | L1: ='1'!L1 -> 8 | M1: 月 | N1: 5 | O1: 日 | Q1: （ | R1: 水 | S1: ） | V1: COO | Y1: IOO | AB1: AOM
A3: 勤務者名
A4: ='1'!A4:F4 -> 中村 恵理子 | G4: 日 | I4: 柳田 美雪 | N4: 日 | Q4: 診察室 | W4: 外来担当医 | Z4: 外来介助者
A5: 石原 恵海 | G5: 日 | I5: 石谷 美代子 | N5: 日 | Q5: 第１診察室 | U5: 千葉 潜 | Z5: 柳田・石原
A6: 鳴海 彩香 | G6: 日 | Q6: 第２診察室
B8: 新 | C8: 再 | D8: 精 | E8: 内 | F8: 処 | G8: 患者様氏名 | L8: 新 | M8: 再 | N8: 精 | O8: 内 | P8: 処 | Q8: 患者様氏名 | V8: 新 | W8: 再 | X8: 精 | Y8: 内 | Z8: 処 | AA8: 患者様氏名
A9: 1 | C9: ・ | D9: ・ | F9: 60 | G9: 山本 キワ | J9: 様 | K9: 2 | M9: ・ | N9: ・ | P9: 28 | Q9: 沖田 千喜子 | T9: 様 | U9: 3 | V9: ・ | X9: ・ | Z9: 14 | AA9: 橘 夕美 | AD9: 様
A10: 4 | C10: ・ | D10: ・ | F10: 60 | G10: 宮古 タツ | J10: 様 | K10: 5 | M10: ・ | N10: ・ | P10: 28 | Q10: 佐々木 りせ子 | T10: 様 | U10: 6 | W10: ・ | X10: ・ | Z10: 30 | AA10: 山田 敏 | AD10: 様
A11: 7 | C11: ・ | D11: ・ | F11: 28 | G11: 角 正一郎 | J11: 様 | K11: 8 | M11: ・ | N11: ・ | P11: 28 | Q11: 一戸 幸子 | T11: 様 | U11: 9 | W11: ・ | X11: ・ | Z11: 28 | AA11: 佐藤 喜子 | AD11: 様
A12: 10 | C12: ・ | D12: ・ | F12: 42 | G12: 川口 凌矢 | J12: 様 | K12: 11 | M12: ・ | N12: ・ | P12: 14 | Q12: 原田 千鴻 | T12: 様 | U12: 12 | W12: ・ | X12: ・ | Z12: 0 | AA12: 小川 サクラ | AD12: 様
A13: 13 | C13: ・ | D13: ・ | F13: 28 | G13: 小比券巻 千和子 | J13: 様 | K13: 14 | M13: ・ | N13: ・ | P13: 28 | Q13: 菅藤 麻美 | T13: 様 | U13: 15 | W13: ・ | X13: ・ | Z13: 28 | AA13: 橘 珠里 | AD13: 様
A14: 16 | C14: ・ | D14: ・ | F14: 28 | G14: 種市 紀子 | J14: 様 | K14: 17 | M14: ・ | N14: ・ | P14: 14 | Q14: 浦邊 健司 | T14: 様 | U14: 18 | W14: ・ | X14: ・ | Z14: 28 | AA14: 相坂 遥 | AD14: 様
A15: 19 | C15: ・ | D15: ・ | F15: 0 | G15: 川村 悠歌 | J15: 様 | K15: 20 | M15: ・ | N15: ・ | P15: 28 | Q15: 赤沼 信克 | T15: 様 | U15: 21 | W15: ・ | X15: ・ | Z15: 28 | AA15: 赤沼 拓朗 | AD15: 様
A16: 22 | C16: ・ | D16: ・ | F16: 60 | G16: 千葉 リチ子 | J16: 様 | K16: 23 | M16: ・ | N16: ・ | P16: 28 | Q16: 田口 トシ子 | T16: 様 | U16: 24 | W16: ・ | X16: ・ | Z16: 28 | AA16: 菊池 真実 | AD16: 様
A17: 25 | C17: ・ | D17: ・ | F17: 56 | G17: 鹿糠 望 | J17: 様 | K17: 26 | M17: ・ | N17: ・ | P17: 30 | Q17: 川久保 一茂 | T17: 様 | U17: 27 | W17: ・ | X17: ・ | Z17: 42 | AA17: 堀内 兼博 | AD17: 様
A18: 28 | C18: ・ | D18: ・ | F18: 28 | G18: 西澤 智穂 | J18: 様 | K18: 29 | M18: ・ | N18: ・ | P18: 28 | Q18: 中村 美香子 | T18: 様 | U18: 30 | W18: ・ | X18: ・ | Z18: 0 | AA18: 工藤 健壽 | AD18: 様
A19: 31 | C19: ・ | D19: ・ | F19: 28 | G19: 小橋 裕見子 | J19: 様 | K19: 32 | M19: ・ | N19: ・ | P19: 14 | Q19: 川村 魁斗 | T19: 様 | U19: 33 | W19: ・ | X19: ・ | Z19: 0 | AA19: 豊川 悦子 | AD19: 様
A20: 34 | C20: ・ | D20: ・ | F20: 28 | G20: 阿部 セツ子 | J20: 様 | K20: 35 | M20: ・ | N20: ・ | P20: 30 | Q20: 鈴木 敏信 | T20: 様 | U20: 36 | W20: ・ | X20: ・ | Z20: 0 | AA20: 高村 加津子 | AD20: 様
A21: 37 | C21: ・ | D21: ・ | F21: 28 | G21: 山崎 はなゑ | J21: 様 | K21: 38 | M21: ・ | N21: ・ | P21: 28 | Q21: 高山 かぢ子 | T21: 様 | U21: 39 | W21: ・ | X21: ・ | Z21: 0 | AA21: 坂本 政勝 | AD21: 様
... A30: 64 | C30: ・ | D30: ・ | F30: 28 | G30: 齊藤 満寿夫 | J30: 様 | K30: 65 | M30: ・ | N30: ・ | P30: 14 | Q30: 浪岡 淳哉 | T30: 様 | U30: 66 | W30: ・ | X30: ・ | Z30: 0 | AA30: 佐藤 初男 | AD30: 様
A31: 67 | C31: ・ | D31: ・ | F31: 14 | G31: 織笠 勝男 | J31: 様 | K31: 68 | M31: ・ | N31: ・ | P31: 21 | Q31: 山本 美津子 | T31: 様 | U31: 69 | W31: ・ | X31: ・ | AD31: 様
A32: 外来患者数 | E32: 新： | F32: =COUNTIF(B9:B31,"・")+COUNTIF(L9:L31,"・")+COUNTIF(V9:V31,"・") -> 1 | H32: 名 | I32: 再： | J32: =COUNTIF(C9:C31,"・")+COUNTIF(M9:M31,"・")+COUNTIF(W9:W31,"・") -> 68 | L32: 名 | M32: 計： | N32: =SUM(F32:K32) -> 69 | Q32: 名 | R32: （ | S32: 精： | T32: =COUNTIF(D9:D31,"・")+COUNTIF(N9:N31,"・")+COUNTIF(X9:X31,"・") -> 69 | W32: 名 | X32: ・ | Y32: 内： | Z32: =COUNTIF(E9:E31,"・")+COUNTIF(O9:O31,"・")+COUNTIF(Y9:Y31,"・") -> 0 | AC32: 名 | AD32: ）
A34: 紹介患者様氏名 | F34: 紹介先 | K34: 逆紹介患者様氏名 | P34: 紹介元 | U34: 本日の検査 | AA34: 検査内容
E35: 様 | K35: 橘 夕美 | O35: 様 | P35: 麻美レディースクリニック | U35: 浦邊 健司 | Z35: 様 | AA35: 血液検査
E36: 様 | O36: 様 | U36: 橘 夕美 | Z36: 様 | AA36: CMI
A37: 本日の検査 | F37: 検査内容 | K37: 処置実施者 | P37: 処置内容 | Z37: 様
A38: 川村 悠歌 | E38: 様 | F38: Y-G | K38: 川村 魁斗 | O38: 様 | P38: ハロマンス50mg 1A | Z38: 様
A39: 相馬 里奈 | E39: 様 | F39: SCT | O39: 様 | Z39: 様
A40: 野川 英雄 | E40: 様 | F40: 血液検査 | O40: 様 | Z40: 様
A41: 貝塚 一忠 | E41: 様 | F41: 血液検査 | O41: 様 | U41: 点検項目
A42: 宮古 タツ | E42: 様 | F42: 血液検査 | O42: 様 | U42: 項目 | Z42: 時間 | AC42: 点検者
A43: 発熱 | F43: 下痢 | K43: 風邪薬 | P43: 男性：26 | U43: 医療廃棄物 | Y43: 0.75 | AB43: 石原 恵海
A44: 0 | F44: 0 | K44: 0 | P44: 女性：42 | U44: 戸締り | Y44: 0.75 | AB44: 石谷 美代子
A46: 備考欄 | C46: （連絡事項・処方変更・その他）
G47: 特になし
G48: 石原

Sheet 6
B1: クリニック 日 誌 | H1: 令和 | J1: ='1'!J1 -> 2 | K1: 年 | L1: ='1'!L1 -> 8 | M1: 月 | N1: 6 | O1: 日 | Q1: （ | R1: 木 | S1: ） | V1: COO | Y1: IOO | AB1: AOM
A3: 勤務者名
A4: 中村 恵理子 | G4: 日 | I4: 柳田 美雪 | N4: 早退 | Q4: 診察室 | W4: 外来担当医 | Z4: 外来介助者
A5: 石原 恵海 | G5: 日 | I5: 石谷 美代子 | N5: 日 | Q5: 第１診察室 | U5: 千葉 潜 | Z5: 石原
Q6: 第２診察室 | U6: 深澤 隆 | Z6: 石原
B8: 新 | C8: 再 | D8: 精 | E8: 内 | F8: 処 | G8: 患者様氏名 | L8: 新 | M8: 再 | N8: 精 | O8: 内 | P8: 処 | Q8: 患者様氏名 | V8: 新 | W8: 再 | X8: 精 | Y8: 内 | Z8: 処 | AA8: 患者様氏名
A9: 1 | C9: ・ | D9: ・ | F9: 60 | G9: 木村 タキ | J9: 様 | K9: 2 | M9: ・ | N9: ・ | P9: 7 | Q9: 中居 敬悦 | T9: 様 | U9: 3 | W9: ・ | X9: ・ | Z9: 56 | AA9: 土井 健一 | AD9: 様
A10: 4 | C10: ・ | D10: ・ | F10: 28 | G10: 岡山 キミ | J10: 様 | K10: 5 | M10: ・ | N10: ・ | P10: 60 | Q10: 長井 竹 | T10: 様 | U10: 6 | W10: ・ | X10: ・ | Z10: 42 | AA10: 杉村 義雄 | AD10: 様
A11: 7 | C11: ・ | D11: ・ | F11: 30 | G11: 小比券巻 栄子 | J11: 様 | K11: 8 | M11: ・ | N11: ・ | P11: 28 | Q11: 坂本 柊子 | T11: 様 | U11: 9 | W11: ・ | X11: ・ | Z11: 28 | AA11: 小笠原 由美子 | AD11: 様
A12: 10 | C12: ・ | D12: ・ | F12: 28 | G12: 大塚 弘志 | J12: 様 | K12: 11 | M12: ・ | N12: ・ | P12: 28 | Q12: 高村 幸平 | T12: 様 | U12: 12 | W12: ・ | X12: ・ | Z12: 28 | AA12: 齊藤 翔太 | AD12: 様
A13: 13 | C13: ・ | D13: ・ | F13: 28 | G13: 川原 明 | J13: 様 | K13: 14 | M13: ・ | N13: ・ | P13: 30 | Q13: 久保 トク | T13: 様 | U13: 15 | W13: ・ | X13: ・ | Z13: 28 | AA13: 宮古 克弘 | AD13: 様
A14: 16 | C14: ・ | D14: ・ | F14: 28 | G14: 小笠原 秀男 | J14: 様 | K14: 17 | M14: ・ | N14: ・ | P14: 28 | Q14: 太田 明子 | T14: 様 | U14: 18 | W14: ・ | X14: ・ | Z14: 58 | AA14: 小笠原 早苗 | AD14: 様
A15: 19 | C15: ・ | D15: ・ | F15: 28 | G15: 小笠原 千恵子 | J15: 様 | K15: 20 | M15: ・ | N15: ・ | P15: 28 | Q15: 畑山 みゆき | T15: 様 | U15: 21 | W15: ・ | X15: ・ | Z15: 0 | AA15: 杉元 悠敏 | AD15: 様
A16: 22 | C16: ・ | D16: ・ | F16: 60 | G16: 川村 ふさ | J16: 様 | K16: 23 | M16: ・ | N16: ・ | P16: 14 | Q16: 片桐 惣一郎 | T16: 様 | U16: 24 | W16: ・ | X16: ・ | Z16: 28 | AA16: 岩井 純子 | AD16: 様
A17: 25 | C17: ・ | D17: ・ | F17: 28 | G17: 古澤 博美 | J17: 様 | K17: 26 | M17: ・ | N17: ・ | P17: 28 | Q17: 岸 明香里 | T17: 様 | U17: 27 | W17: ・ | X17: ・ | Z17: 0 | AA17: 藤ケ森 貴美枝 | AD17: 様
A18: 28 | C18: ・ | D18: ・ | F18: 30 | G18: 田村 とよ | J18: 様 | K18: 29 | M18: ・ | N18: ・ | P18: 14 | Q18: 沼山 祐一 | T18: 様 | U18: 30 | W18: ・ | X18: ・ | Z18: 28 | AA18: 柏木 薫 | AD18: 様
A19: 31 | C19: ・ | D19: ・ | F19: 28 | G19: 町屋 自由 | J19: 様 | K19: 32 | M19: ・ | N19: ・ | P19: 14 | Q19: 岡田 恭佳 | T19: 様 | U19: 33 | W19: ・ | X19: ・ | Z19: 60 | AA19: 佐々木 優奈 | AD19: 様
A20: 34 | C20: ・ | D20: ・ | F20: 30 | G20: 小笠原 琴葉 | J20: 様 | K20: 35 | M20: ・ | N20: ・ | P20: 21 | Q20: 岡本 光男 | T20: 様 | U20: 36 | W20: ・ | X20: ・ | Z20: 60 | AA20: 松館 邦子 | AD20: 様
... A26: 52 | C26: ・ | D26: ・ | F26: 0 | G26: 坂本 政勝 | J26: 様 | K26: 53 | M26: ・ | N26: ・ | P26: 0 | Q26: 塚田 敏子 | T26: 様 | U26: 54 | W26: ・ | X26: ・ | Z26: 0 | AA26: 佐々木 政夫 | AD26: 様
A27: 外来患者数 | E27: 新： | F27: =COUNTIF(B9:B26,"・")+COUNTIF(L9:L26,"・")+COUNTIF(V9:V26,"・") -> 0 | H27: 名 | I27: 再： | J27: =COUNTIF(C9:C26,"・")+COUNTIF(M9:M26,"・")+COUNTIF(W9:W26,"・") -> 54 | L27: 名 | M27: 計： | N27: =SUM(F27:K27) -> 54 | Q27: 名 | R27: （ | S27: 精： | T27: =COUNTIF(D9:D26,"・")+COUNTIF(N9:N26,"・")+COUNTIF(X9:X26,"・") -> 54 | W27: 名 | X27: ・ | Y27: 内： | Z27: =COUNTIF(E9:E26,"・")+COUNTIF(O9:O26,"・")+COUNTIF(Y9:Y26,"・") -> 0 | AC27: 名 | AD27: ）
A29: 紹介患者様氏名 | F29: 紹介先 | K29: 逆紹介患者様氏名 | P29: 紹介元 | U29: 処置実施者 | AA29: 処置内容
E30: 様 | O30: 様 | Z30: 様
A31: 本日の検査 | F31: 検査内容 | K31: 処置実施者 | P31: 処置内容 | Z31: 様
A32: 杉元 悠敏 | E32: 様 | F32: カウンセリング | O32: 様 | Z32: 様
A33: 杉元 香菜子 | E33: 様 | F33: 面談 | O33: 様 | Z33: 様
E34: 様 | O34: 様 | U34: 点検項目
E35: 様 | O35: 様 | U35: 項目 | Z35: 時間 | AC35: 点検者
A36: 発熱 | F36: 下痢 | K36: 風邪薬 | P36: 男性：20 | U36: 医療廃棄物 | Y36: 0.75 | AB36: 石原 恵海
A37: 0 | F37: 0 | K37: 0 | P37: 女性：34 | U37: 戸締り | Y37: 0.75 | AB37: 石谷 美代子
A39: 備考欄 | C39: （連絡事項・処方変更・その他）
G40: 特になし
G41: 石原

Sheet 7
B1: クリニック 日 誌 | H1: 令和 | J1: ='6'!J1 -> 2 | K1: 年 | L1: ='1'!L1 -> 8 | M1: 月 | N1: 7 | O1: 日 | Q1: （ | S1: ） | V1: COO | Y1: IOO | AB1: AOM
A3: 勤務者名
A4: ='6'!A4:F4 -> 中村 恵理子 | G4: 日 | I4: 柳田 美雪 | N4: 日 | Q4: 診察室 | W4: 外来担当医 | Z4: 外来介助者
A5: 石原 恵海 | G5: 日 | I5: 石谷 美代子 | N5: 日 | Q5: 第１診察室 | U5: 金 泰徳 | Z5: 柳田・石原
Q6: 第２診察室 | U6: 千葉 良 | Z6: 柳田・石原
B8: 新 | C8: 再 | D8: 精 | E8: 内 | F8: 処 | G8: 患者様氏名 | L8: 新 | M8: 再 | N8: 精 | O8: 内 | P8: 処 | Q8: 患者様氏名 | V8: 新 | W8: 再 | X8: 精 | Y8: 内 | Z8: 処 | AA8: 患者様氏名
A9: 1 | C9: ・ | D9: ・ | F9: 28 | G9: 大平 陸 | J9: 様 | K9: 2 | M9: ・ | N9: ・ | P9: 28 | Q9: 花松 ナヨ | T9: 様 | U9: 3 | W9: ・ | X9: ・ | Z9: 60 | AA9: 木村 奈津子 | AD9: 様
A10: 4 | C10: ・ | D10: ・ | F10: 49 | G10: 久保田 みつ | J10: 様 | K10: 5 | M10: ・ | N10: ・ | P10: 21 | Q10: 舩山 ゆかり | T10: 様 | U10: 6 | W10: ・ | X10: ・ | Z10: 30 | AA10: 小西 チヨ | AD10: 様
A11: 7 | C11: ・ | D11: ・ | F11: 30 | G11: 内藤 誠一郎 | J11: 様 | K11: 8 | M11: ・ | N11: ・ | P11: 21 | Q11: 熊野 冨美子 | T11: 様 | U11: 9 | W11: ・ | X11: ・ | Z11: 30 | AA11: 田中 喜代志 | AD11: 様
A12: 10 | C12: ・ | D12: ・ | F12: 28 | G12: 野田頭 真由美 | J12: 様 | K12: 11 | M12: ・ | N12: ・ | P12: 28 | Q12: 山口 陽子 | T12: 様 | U12: 12 | W12: ・ | X12: ・ | Z12: 30 | AA12: 苅谷 れい子 | AD12: 様
A13: 13 | C13: ・ | D13: ・ | F13: 30 | G13: 山本 キヨ | J13: 様 | K13: 14 | M13: ・ | N13: ・ | P13: 56 | Q13: 佐々木 札子 | T13: 様 | U13: 15 | W13: ・ | X13: ・ | Z13: 28 | AA13: 島貫 香央里 | AD13: 様
A14: 16 | C14: ・ | D14: ・ | F14: 30 | G14: 中川原 ちる | J14: 様 | K14: 17 | M14: ・ | N14: ・ | P14: 30 | Q14: 山口 誠一郎 | T14: 様 | U14: 18 | W14: ・ | X14: ・ | Z14: 56 | AA14: 石岡 せつ | AD14: 様
A15: 19 | C15: ・ | D15: ・ | F15: 56 | G15: 原 トモエ | J15: 様 | K15: 20 | M15: ・ | N15: ・ | P15: 60 | Q15: 藤田 絢三 | T15: 様 | U15: 21 | W15: ・ | X15: ・ | Z15: 0 | AA15: 成田 イチコ | AD15: 様
A16: 22 | B16: ・ | D16: ・ | F16: 0 | G16: 平澤 圭佑 | J16: 様 | K16: 23 | M16: ・ | N16: ・ | P16: 30 | Q16: 山口 ちえ | T16: 様 | U16: 24 | W16: ・ | X16: ・ | Z16: 28 | AA16: 類家 義明 | AD16: 様
A17: 25 | C17: ・ | D17: ・ | F17: 30 | G17: 小林 昭治 | J17: 様 | K17: 26 | M17: ・ | N17: ・ | P17: 28 | Q17: 石原 トシ | T17: 様 | U17: 27 | W17: ・ | X17: ・ | Z17: 30 | AA17: 高橋 千佳 | AD17: 様
A18: 28 | C18: ・ | D18: ・ | F18: 30 | G18: 佐々木 光政 | J18: 様 | K18: 29 | M18: ・ | N18: ・ | P18: 28 | Q18: 水上 民一 | T18: 様 | U18: 30 | W18: ・ | X18: ・ | Z18: 28 | AA18: 山本 チヤ | AD18: 様
A19: 31 | C19: ・ | D19: ・ | F19: 60 | G19: 小比券巻 與一 | J19: 様 | K19: 32 | M19: ・ | N19: ・ | P19: 28 | Q19: 齊藤 鈴美香 | T19: 様 | U19: 33 | W19: ・ | X19: ・ | Z19: 28 | AA19: 吉田 浩 | AD19: 様
A20: 34 | C20: ・ | D20: ・ | F20: 28 | G20: 伊藤 よし子 | J20: 様 | K20: 35 | M20: ・ | N20: ・ | P20: 35 | Q20: 千葉 麗生 | T20: 様 | U20: 36 | W20: ・ | X20: ・ | Z20: 30 | AA20: 増沢 脩一 | AD20: 様
A21: 37 | C21: ・ | D21: ・ | F21: 21 | G21: 柏木 チヤ子 | J21: 様 | K21: 38 | M21: ・ | N21: ・ | P21: 30 | Q21: 冨田 未歩 | T21: 様 | U21: 39 | W21: ・ | X21: ・ | Z21: 14 | AA21: 沢尾 美香 | AD21: 様
A22: 40 | C22: ・ | D22: ・ | F22: 0 | G22: 片桐 惣一郎 | J22: 様 | K22: 41 | M22: ・ | N22: ・ | P22: 30 | Q22: 安是 和子 | T22: 様 | U22: 42 | W22: ・ | X22: ・ | Z22: 0 | AA22: 山本 美津子 | AD22: 様
A23: 43 | C23: ・ | D23: ・ | F23: 30 | G23: 大坂 公子 | J23: 様 | K23: 44 | M23: ・ | N23: ・ | P23: 30 | Q23: 高橋 鮎美 | T23: 様 | U23: 45 | W23: ・ | X23: ・ | Z23: 0 | AA23: 松山 日向 | AD23: 様
A24: 46 | C24: ・ | D24: ・ | F24: 90 | G24: 杉山 明伸 | J24: 様 | K24: 47 | M24: ・ | N24: ・ | P24: 28 | Q24: 蛯名 信一朗 | T24: 様 | U24: 48 | W24: ・ | X24: ・ | Z24: 30 | AA24: 山田 淳一 | AD24: 様
A25: 49 | C25: ・ | D25: ・ | F25: 0 | G25: 中川原 いさ | J25: 様 | K25: 50 | M25: ・ | N25: ・ | P25: 30 | Q25: 乙部 孝太 | T25: 様 | U25: 51 | W25: ・ | X25: ・ | Z25: 0 | AA25: 工藤 健壽 | AD25: 様
A26: 52 | C26: ・ | D26: ・ | F26: 14 | G26: 増田 大和 | J26: 様 | K26: 53 | M26: ・ | N26: ・ | P26: 30 | Q26: 齊藤 千鶴 | T26: 様 | U26: 54 | W26: ・ | X26: ・ | Z26: 0 | AA26: 高村 加津子 | AD26: 様
A27: 55 | C27: ・ | D27: ・ | F27: 30 | G27: 阿部 利洋 | J27: 様 | K27: 56 | M27: ・ | N27: ・ | P27: 30 | Q27: 木村 理海 | T27: 様 | U27: 57 | W27: ・ | X27: ・ | Z27: 0 | AA27: 沼端 ミセ | AD27: 様
A28: 58 | C28: ・ | D28: ・ | F28: 30 | G28: 中村 克仁 | J28: 様 | K28: 59 | M28: ・ | N28: ・ | P28: 0 | Q28: 根岸 希空 | T28: 様 | U28: 60 | W28: ・ | X28: ・ | Z28: 0 | AA28: 田口 トシ子 | AD28: 様
... A31: 67 | C31: ・ | D31: ・ | F31: 0 | G31: 萠出 克治 | J31: 様 | K31: 68 | M31: ・ | N31: ・ | P31: 0 | Q31: 坂本 政勝 | T31: 様 | U31: 69 | W31: ・ | X31: ・ | Z31: 0 | AA31: 佐々木 すぢ江 | AD31: 様
A32: 70 | C32: ・ | D32: ・ | F32: 0 | G32: 瀬川 高雄 | J32: 様 | K32: 71 | M32: ・ | N32: ・ | P32: 0 | T32: 様 | U32: 72 | AD32: 様
A33: 外来患者数 | E33: 新： | F33: =COUNTIF(B9:B32,"・")+COUNTIF(L9:L32,"・")+COUNTIF(V9:V32,"・") -> 1 | H33: 名 | I33: 再： | J33: =COUNTIF(C9:C32,"・")+COUNTIF(M9:M32,"・")+COUNTIF(W9:W32,"・") -> 70 | L33: 名 | M33: 計： | N33: =SUM(F33:K33) -> 71 | Q33: 名 | R33: （ | S33: 精： | T33: =COUNTIF(D9:D32,"・")+COUNTIF(N9:N32,"・")+COUNTIF(X9:X32,"・") -> 71 | W33: 名 | X33: ・ | Y33: 内： | Z33: =COUNTIF(E9:E32,"・")+COUNTIF(O9:O32,"・")+COUNTIF(Y9:Y32,"・") -> 0 | AC33: 名 | AD33: ）
A35: 紹介患者様氏名 | F35: 紹介先 | K35: 逆紹介患者様氏名 | P35: 紹介元 | U35: 処置実施者 | AA35: 処置内容
E36: 様 | O36: 様 | Z36: 様
A37: 本日の検査 | F37: 検査内容 | K37: 処置実施者 | P37: 処置内容 | Z37: 様
A38: 大平 陸 | E38: 様 | F38: 血液検査 | K38: 野田頭 真由美 | O38: 様 | P38: ハロマンス100mg 1A | Z38: 様
A39: 中村 克仁 | E39: 様 | F39: 血液検査 | K39: 古谷 京子 | O39: 様 | P39: ECG 尿検査 | Z39: 様
A40: 松山 日向 | E40: 様 | F40: WAIS | O40: 様 | U40: 点検項目
E41: 様 | O41: 様 | U41: 項目 | Z41: 時間 | AC41: 点検者
A42: 発熱 | F42: 下痢 | K42: 風邪薬 | P42: 男性：29 | U42: 医療廃棄物 | Y42: 0.75 | AB42: 石原 恵海
A43: 0 | F43: 0 | K43: 0 | P43: 女性：41 | U43: 戸締り | Y43: 0.75 | AB43: ='6'!AB37:AD37 -> 石谷 美代子
A45: 備考欄 | C45: （連絡事項・処方変更・その他）
G46: 特になし
...

Sheet 8
B1: クリニック 日 誌 | H1: 令和 | J1: ='6'!J1 -> 2 | K1: 年 | L1: ='1'!L1 -> 8 | M1: 月 | N1: 8 | O1: 日 | Q1: （ | S1: ） | V1: COO | Y1: IOO | AB1: AOM
A3: 勤務者名
A4: ='7'!A4:F4 -> 中村 恵理子 | G4: 日 | I4: 柳田 美雪 | N4: 日 | Q4: 診察室 | W4: 外来担当医 | Z4: 外来介助者
A5: 石原 恵海 | G5: 日 | Q5: 第１診察室 | Z5: 柳田・石原
Q6: 第２診察室
B8: 新 | C8: 再 | D8: 精 | E8: 内 | F8: 処 | G8: 患者様氏名 | L8: 新 | M8: 再 | N8: 精 | O8: 内 | P8: 処 | Q8: 患者様氏名 | V8: 新 | W8: 再 | X8: 精 | Y8: 内 | Z8: 処 | AA8: 患者様氏名
A9: 1 | J9: 様 | K9: 2 | T9: 様 | U9: 3 | AD9: 様
A10: 4 | J10: 様 | K10: 5 | T10: 様 | U10: 6 | AD10: 様
A11: 7 | J11: 様 | K11: 8 | T11: 様 | U11: 9 | AD11: 様
A12: 10 | J12: 様 | K12: 11 | T12: 様 | U12: 12 | AD12: 様
A13: 13 | J13: 様 | K13: 14 | T13: 様 | U13: 15 | AD13: 様
A14: 16 | J14: 様 | K14: 17 | T14: 様 | U14: 18 | AD14: 様
A15: 19 | J15: 様 | K15: 20 | T15: 様 | U15: 21 | AD15: 様
A16: 22 | J16: 様 | K16: 23 | T16: 様 | U16: 24 | AD16: 様
A17: 25 | J17: 様 | K17: 26 | T17: 様 | U17: 27 | AD17: 様
A18: 28 | J18: 様 | K18: 29 | T18: 様 | U18: 30 | AD18: 様
A19: 31 | J19: 様 | K19: 32 | T19: 様 | U19: 33 | AD19: 様
A20: 34 | J20: 様 | K20: 35 | T20: 様 | U20: 36 | AD20: 様
... A33: 73 | J33: 様 | K33: 74 | T33: 様 | U33: 75 | AD33: 様
A34: 外来患者数 | E34: 新： | F34: =COUNTIF(B9:B33,"・")+COUNTIF(L9:L33,"・")+COUNTIF(V9:V33,"・") -> 0 | H34: 名 | I34: 再： | J34: =COUNTIF(C9:C33,"・")+COUNTIF(M9:M33,"・")+COUNTIF(W9:W33,"・") -> 0 | L34: 名 | M34: 計： | N34: =SUM(F34:K34) -> 0 | Q34: 名 | R34: （ | S34: 精： | T34: =COUNTIF(D9:D33,"・")+COUNTIF(N9:N33,"・")+COUNTIF(X9:X33,"・") -> 0 | W34: 名 | X34: ・ | Y34: 内： | Z34: =COUNTIF(E9:E33,"・")+COUNTIF(O9:O33,"・")+COUNTIF(Y9:Y33,"・") -> 0 | AC34: 名 | AD34: ）
A36: 紹介患者様氏名 | F36: 紹介先 | K36: 逆紹介患者様氏名 | P36: 紹介元 | U36: 処置実施者 | AA36: 処置内容
E37: 様 | O37: 様 | Z37: 様
E38: 様 | O38: 様 | Z38: 様
E39: 様 | O39: 様 | Z39: 様
E40: 様 | O40: 様 | Z40: 様
E41: 様 | O41: 様 | Z41: 様
A42: 本日の検査 | F42: 検査内容 | K42: 処置実施者 | P42: 処置内容 | Z42: 様
E43: 様 | O43: 様 | Z43: 様
E44: 様 | O44: 様 | Z44: 様
E45: 様 | O45: 様 | Z45: 様
E46: 様 | O46: 様 | U46: 点検項目
E47: 様 | O47: 様 | U47: 項目 | Z47: 時間 | AC47: 点検者
A48: 発熱 | F48: 下痢 | K48: 風邪薬 | P48: 男性： | U48: 医療廃棄物 | Y48: 0.75
A49: 0 | F49: 0 | K49: 0 | P49: 女性： | U49: 戸締り | Y49: 0.75 | AB49: ='6'!AB37:AD37 -> 石谷 美代子
A51: 備考欄 | C51: （連絡事項・処方変更・その他）

Sheet 9
B1: クリニック 日 誌 | H1: 令和 | J1: ='6'!J1 -> 2 | K1: 年 | L1: ='1'!L1 -> 8 | M1: 月 | N1: 9 | O1: 日 | Q1: （ | S1: ） | V1: COO | Y1: IOO | AB1: AOM
A3: 勤務者名
A4: ='6'!A4:F4 -> 中村 恵理子 | G4: 日 | I4: 柳田 美雪 | N4: 日 | Q4: 診察室 | W4: 外来担当医 | Z4: 外来介助者
A5: 石原 恵海 | G5: 日 | Q5: 第１診察室 | Z5: 柳田・石原
Q6: 第２診察室
B8: 新 | C8: 再 | D8: 精 | E8: 内 | F8: 処 | G8: 患者様氏名 | L8: 新 | M8: 再 | N8: 精 | O8: 内 | P8: 処 | Q8: 患者様氏名 | V8: 新 | W8: 再 | X8: 精 | Y8: 内 | Z8: 処 | AA8: 患者様氏名
A9: 1 | J9: 様 | K9: 2 | T9: 様 | U9: 3 | AD9: 様
A10: 4 | J10: 様 | K10: 5 | T10: 様 | U10: 6 | AD10: 様
A11: 7 | J11: 様 | K11: 8 | T11: 様 | U11: 9 | AD11: 様
A12: 10 | J12: 様 | K12: 11 | T12: 様 | U12: 12 | AD12: 様
A13: 13 | J13: 様 | K13: 14 | T13: 様 | U13: 15 | AD13: 様
A14: 16 | J14: 様 | K14: 17 | T14: 様 | U14: 18 | AD14: 様
A15: 19 | J15: 様 | K15: 20 | T15: 様 | U15: 21 | AD15: 様
A16: 22 | J16: 様 | K16: 23 | T16: 様 | U16: 24 | AD16: 様
A17: 25 | J17: 様 | K17: 26 | T17: 様 | U17: 27 | AD17: 様
A18: 28 | J18: 様 | K18: 29 | T18: 様 | U18: 30 | AD18: 様
A19: 31 | J19: 様 | K19: 32 | T19: 様 | U19: 33 | AD19: 様
A20: 34 | J20: 様 | K20: 35 | T20: 様 | U20: 36 | AD20: 様
... A33: 73 | J33: 様 | K33: 74 | T33: 様 | U33: 75 | AD33: 様
A34: 外来患者数 | E34: 新： | F34: =COUNTIF(B9:B33,"・")+COUNTIF(L9:L33,"・")+COUNTIF(V9:V33,"・") -> 0 | H34: 名 | I34: 再： | J34: =COUNTIF(C9:C33,"・")+COUNTIF(M9:M33,"・")+COUNTIF(W9:W33,"・") -> 0 | L34: 名 | M34: 計： | N34: =SUM(F34:K34) -> 0 | Q34: 名 | R34: （ | S34: 精： | T34: =COUNTIF(D9:D33,"・")+COUNTIF(N9:N33,"・")+COUNTIF(X9:X33,"・") -> 0 | W34: 名 | X34: ・ | Y34: 内： | Z34: =COUNTIF(E9:E33,"・")+COUNTIF(O9:O33,"・")+COUNTIF(Y9:Y33,"・") -> 0 | AC34: 名 | AD34: ）
A36: 紹介患者様氏名 | F36: 紹介先 | K36: 逆紹介患者様氏名 | P36: 紹介元 | U36: 処置実施者 | AA36: 処置内容
E37: 様 | O37: 様 | Z37: 様
E38: 様 | O38: 様 | Z38: 様
E39: 様 | O39: 様 | Z39: 様
E40: 様 | O40: 様 | Z40: 様
E41: 様 | O41: 様 | Z41: 様
A42: 本日の検査 | F42: 検査内容 | K42: 処置実施者 | P42: 処置内容 | Z42: 様
E43: 様 | O43: 様 | Z43: 様
E44: 様 | O44: 様 | Z44: 様
E45: 様 | O45: 様 | Z45: 様
E46: 様 | O46: 様 | U46: 点検項目
E47: 様 | O47: 様 | U47: 項目 | Z47: 時間 | AC47: 点検者
A48: 発熱 | F48: 下痢 | K48: 風邪薬 | P48: 男性： | U48: 医療廃棄物 | Y48: 0.75
A49: 0 | F49: 0 | K49: 0 | P49: 女性： | U49: 戸締り | Y49: 0.75 | AB49: ='6'!AB37:AD37 -> 石谷 美代子
A51: 備考欄 | C51: （連絡事項・処方変更・その他）

Sheet 10
B1: クリニック 日 誌 | H1: 令和 | J1: ='6'!J1 -> 2 | K1: 年 | L1: ='1'!L1 -> 8 | M1: 月 | N1: 10 | O1: 日 | Q1: （ | R1: 月 | S1: ） | V1: COO | Y1: IOO | AB1: AOM
A3: 勤務者名
A4: ='6'!A4:F4 -> 中村 恵理子 | G4: 日 | I4: 柳田 美雪 | N4: 日 | Q4: 診察室 | W4: 外来担当医 | Z4: 外来介助者
A5: 石原 恵海 | G5: 日 | I5: 石谷 美代子 | N5: 日 | Q5: 第１診察室 | U5: 馬渡 晃弘 | Z5: 柳田・石原
Q6: 第２診察室 | U6: 千葉 良 | Z6: 柳田・石原
B8: 新 | C8: 再 | D8: 精 | E8: 内 | F8: 処 | G8: 患者様氏名 | L8: 新 | M8: 再 | N8: 精 | O8: 内 | P8: 処 | Q8: 患者様氏名 | V8: 新 | W8: 再 | X8: 精 | Y8: 内 | Z8: 処 | AA8: 患者様氏名
A9: 1 | C9: ・ | D9: ・ | F9: 28 | G9: 瀬川 高雄 | J9: 様 | K9: 2 | M9: ・ | N9: ・ | P9: 30 | Q9: 山本 洋子 | T9: 様 | U9: 3 | W9: ・ | X9: ・ | Z9: 0 | AA9: 山縣 堅一 | AD9: 様
A10: 4 | C10: ・ | D10: ・ | F10: 28 | G10: 佐藤 直樹 | J10: 様 | K10: 5 | L10: ・ | O10: ・ | P10: 5 | Q10: 沢頭 五吹 | T10: 様 | U10: 6 | W10: ・ | X10: ・ | Z10: 0 | AA10: 田口 トシ子 | AD10: 様
A11: 7 | C11: ・ | D11: ・ | F11: 28 | G11: 大西 真紀子 | J11: 様 | K11: 8 | M11: ・ | N11: ・ | P11: 28 | Q11: 加賀 遥大 | T11: 様 | U11: 9 | W11: ・ | X11: ・ | Z11: 0 | AA11: 高村 加津子 | AD11: 様
A12: 10 | C12: ・ | D12: ・ | F12: 56 | G12: 鶴居 イソ | J12: 様 | K12: 11 | M12: ・ | N12: ・ | P12: 14 | Q12: 土橋 翔吾 | T12: 様 | U12: 12 | W12: ・ | X12: ・ | Z12: 0 | AA12: 深町 栄美子 | AD12: 様
A13: 13 | C13: ・ | D13: ・ | F13: 28 | G13: 沼山 詩織 | J13: 様 | K13: 14 | M13: ・ | N13: ・ | P13: 28 | Q13: 瀧野 ミヤ | T13: 様 | U13: 15 | W13: ・ | X13: ・ | Z13: 0 | AA13: 萠出 きのゑ | AD13: 様
A14: 16 | C14: ・ | D14: ・ | F14: 30 | G14: 関口 潤也 | J14: 様 | K14: 17 | M14: ・ | N14: ・ | P14: 14 | Q14: 椛本 友菜 | T14: 様 | U14: 18 | W14: ・ | X14: ・ | Z14: 0 | AA14: 萠出 克治 | AD14: 様
A15: 19 | C15: ・ | D15: ・ | F15: 28 | G15: 澤谷 翔太 | J15: 様 | K15: 20 | M15: ・ | N15: ・ | P15: 28 | Q15: 駒形 克斗 | T15: 様 | U15: 21 | W15: ・ | X15: ・ | Z15: 0 | AA15: 沼端 ミセ | AD15: 様
A16: 22 | C16: ・ | D16: ・ | F16: 14 | G16: 蛯名 亜果音 | J16: 様 | K16: 23 | M16: ・ | N16: ・ | P16: 14 | Q16: 坂田 和也 | T16: 様 | U16: 24 | W16: ・ | X16: ・ | Z16: 0 | AA16: 坂本 政勝 | AD16: 様
A17: 25 | C17: ・ | D17: ・ | F17: 28 | G17: 山田 義勝 | J17: 様 | K17: 26 | L17: ・ | N17: ・ | P17: 7 | Q17: 宮古 峻 | T17: 様 | U17: 27 | W17: ・ | X17: ・ | Z17: 0 | AA17: 浪岡 ヒデ | AD17: 様
A18: 28 | C18: ・ | D18: ・ | F18: 0 | G18: 中居 敬悦 | J18: 様 | K18: 29 | L18: ・ | O18: ・ | P18: 2 | Q18: 田面木 慶司 | T18: 様 | U18: 30 | AD18: 様
A19: 31 | J19: 様 | K19: 32 | T19: 様 | U19: 33 | AD19: 様
A20: 34 | J20: 様 | K20: 35 | T20: 様 | U20: 36 | AD20: 様
A21: 37 | J21: 様 | K21: 38 | T21: 様 | U21: 39 | AD21: 様
A22: 外来患者数 | E22: 新： | F22: =COUNTIF(B9:B21,"・")+COUNTIF(L9:L21,"・")+COUNTIF(V9:V21,"・") -> 3 | H22: 名 | I22: 再： | J22: =COUNTIF(C9:C21,"・")+COUNTIF(M9:M21,"・")+COUNTIF(W9:W21,"・") -> 26 | L22: 名 | M22: 計： | N22: =SUM(F22:K22) -> 29 | Q22: 名 | R22: （ | S22: 精： | T22: =COUNTIF(D9:D21,"・")+COUNTIF(N9:N21,"・")+COUNTIF(X9:X21,"・") -> 27 | W22: 名 | X22: ・ | Y22: 内： | Z22: =COUNTIF(E9:E21,"・")+COUNTIF(O9:O21,"・")+COUNTIF(Y9:Y21,"・") -> 2 | AC22: 名 | AD22: ）
A24: 紹介患者様氏名 | F24: 紹介先 | K24: 逆紹介患者様氏名 | P24: 紹介元 | U24: 処置実施者 | AA24: 処置内容
E25: 様 | O25: 様 | Z25: 様
A26: 本日の検査 | F26: 検査内容 | K26: 処置実施者 | P26: 処置内容 | Z26: 様
E27: 様 | O27: 様 | U27: 点検項目
E28: 様 | O28: 様 | U28: 項目 | Z28: 時間 | AC28: 点検者
A29: 発熱 | F29: 下痢 | K29: 風邪薬 | P29: 男性：15 | U29: 医療廃棄物 | Y29: 0.75 | AB29: 柳田 美雪
A30: 0 | F30: 0 | K30: 0 | P30: 女性：14 | U30: 戸締り | Y30: 0.75 | AB30: 中村 恵理子
A32: 備考欄 | C32: （連絡事項・処方変更・その他）
G33: 休日当番日
G34: 柳田

Sheet 11
B1: クリニック 日 誌 | H1: 令和 | J1: ='6'!J1 -> 2 | K1: 年 | L1: ='1'!L1 -> 8 | M1: 月 | N1: 11 | O1: 日 | Q1: （ | R1: 火 | S1: ） | V1: COO | Y1: IOO | AB1: AOM
A3: 勤務者名
A4: ='6'!A4:F4 -> 中村 恵理子 | G4: 日 | I4: 柳田 美雪 | N4: 日 | Q4: 診察室 | W4: 外来担当医 | Z4: 外来介助者
A5: 石原 恵海 | G5: 日 | I5: 石谷 美代子 | N5: 日 | Q5: 第１診察室 | U5: 千葉 潜 | Z5: 石原
Q6: 第２診察室 | U6: 千葉 良 | Z6: 柳田
B8: 新 | C8: 再 | D8: 精 | E8: 内 | F8: 処 | G8: 患者様氏名 | L8: 新 | M8: 再 | N8: 精 | O8: 内 | P8: 処 | Q8: 患者様氏名 | V8: 新 | W8: 再 | X8: 精 | Y8: 内 | Z8: 処 | AA8: 患者様氏名
A9: 1 | C9: ・ | D9: ・ | F9: 42 | G9: 中村 ミサ | J9: 様 | K9: 2 | M9: ・ | N9: ・ | P9: 28 | Q9: 綿貫 啓子 | T9: 様 | U9: 3 | W9: ・ | X9: ・ | Z9: 14 | AA9: 大森 まみ | AD9: 様
A10: 4 | C10: ・ | D10: ・ | F10: 28 | G10: 大竹 紀美子 | J10: 様 | K10: 5 | M10: ・ | N10: ・ | P10: 14 | Q10: 小比類巻 由美 | T10: 様 | U10: 6 | W10: ・ | X10: ・ | Z10: 7 | AA10: 山岡 裕花 | AD10: 様
A11: 7 | C11: ・ | D11: ・ | F11: 28 | G11: 鈴木 洋光 | J11: 様 | K11: 8 | M11: ・ | N11: ・ | P11: 14 | Q11: 浪岡 美沙紀 | T11: 様 | U11: 9 | W11: ・ | X11: ・ | Z11: 30 | AA11: 橘 聖子 | AD11: 様
A12: 10 | C12: ・ | D12: ・ | F12: 28 | G12: 三村 幸喜 | J12: 様 | K12: 11 | M12: ・ | N12: ・ | P12: 42 | Q12: 板川 京子 | T12: 様 | U12: 12 | W12: ・ | X12: ・ | Z12: 30 | AA12: 飯田 昭子 | AD12: 様
A13: 13 | C13: ・ | D13: ・ | F13: 28 | G13: 清野 栄子 | J13: 様 | K13: 14 | M13: ・ | N13: ・ | P13: 0 | Q13: 佐藤 澄子 | T13: 様 | U13: 15 | W13: ・ | X13: ・ | Z13: 28 | AA13: 田中 千秋 | AD13: 様
A14: 16 | C14: ・ | D14: ・ | F14: 28 | G14: 袴田 ハナエ | J14: 様 | K14: 17 | M14: ・ | N14: ・ | P14: 28 | Q14: 木村 久子 | T14: 様 | U14: 18 | W14: ・ | X14: ・ | Z14: 28 | AA14: 柿本 美津 | AD14: 様
A15: 19 | C15: ・ | D15: ・ | F15: 42 | G15: 高根 あつ子 | J15: 様 | K15: 20 | M15: ・ | N15: ・ | P15: 28 | Q15: 瀬間 義大 | T15: 様 | U15: 21 | W15: ・ | X15: ・ | Z15: 30 | AA15: 新田 寛 | AD15: 様
A16: 22 | C16: ・ | D16: ・ | F16: 30 | G16: 内山 登 | J16: 様 | K16: 23 | M16: ・ | N16: ・ | P16: 28 | Q16: 野村 隆一 | T16: 様 | U16: 24 | W16: ・ | X16: ・ | Z16: 30 | AA16: 蛯名 ハナエ | AD16: 様
A17: 25 | C17: ・ | D17: ・ | F17: 28 | G17: 笹森 綾香 | J17: 様 | K17: 26 | M17: ・ | N17: ・ | P17: 30 | Q17: 山本 金雄 | T17: 様 | U17: 27 | W17: ・ | X17: ・ | Z17: 28 | AA17: 藤川 雅之 | AD17: 様
A18: 28 | C18: ・ | D18: ・ | F18: 28 | G18: 浦田 きよみ | J18: 様 | K18: 29 | M18: ・ | N18: ・ | P18: 16 | Q18: 西舘 ツル | T18: 様 | U18: 30 | W18: ・ | X18: ・ | Z18: 28 | AA18: 蛯沢 陽祐 | AD18: 様
A19: 31 | C19: ・ | D19: ・ | F19: 28 | G19: 曳木 一守 | J19: 様 | K19: 32 | M19: ・ | N19: ・ | P19: 30 | Q19: 倉舘 トワ | T19: 様 | U19: 33 | W19: ・ | X19: ・ | Z19: 0 | AA19: 石井 佐代子 | AD19: 様
A20: 34 | C20: ・ | D20: ・ | F20: 28 | G20: 野々宮 俊江 | J20: 様 | K20: 35 | M20: ・ | N20: ・ | P20: 28 | Q20: 西山 節子 | T20: 様 | U20: 36 | W20: ・ | X20: ・ | Z20: 0 | AA20: 田口 トシ子 | AD20: 様
... A30: 64 | C30: ・ | D30: ・ | F30: 28 | G30: 長谷川 友和 | J30: 様 | K30: 65 | M30: ・ | N30: ・ | P30: 28 | Q30: 円子 知未 | T30: 様 | U30: 66 | W30: ・ | X30: ・ | Z30: 28 | AA30: 浪岡 漁男 | AD30: 様
A31: 67 | B31: ・ | D31: ・ | F31: 16 | G31: 川守田 悠史 | J31: 様 | K31: 68 | L31: ・ | N31: ・ | Q31: 小野寺 柚子 | T31: 様 | U31: 69 | AD31: 様
A32: 外来患者数 | E32: 新： | F32: =COUNTIF(B9:B31,"・")+COUNTIF(L9:L31,"・")+COUNTIF(V9:V31,"・") -> 2 | H32: 名 | I32: 再： | J32: =COUNTIF(C9:C31,"・")+COUNTIF(M9:M31,"・")+COUNTIF(W9:W31,"・") -> 66 | L32: 名 | M32: 計： | N32: =SUM(F32:K32) -> 68 | Q32: 名 | R32: （ | S32: 精： | T32: =COUNTIF(D9:D31,"・")+COUNTIF(N9:N31,"・")+COUNTIF(X9:X31,"・") -> 68 | W32: 名 | X32: ・ | Y32: 内： | Z32: =COUNTIF(E9:E31,"・")+COUNTIF(O9:O31,"・")+COUNTIF(Y9:Y31,"・") -> 0 | AC32: 名 | AD32: ）
A34: 紹介患者様氏名 | F34: 紹介先 | K34: 逆紹介患者様氏名 | P34: 紹介元 | U34: 処置実施者 | AA34: 処置内容
E35: 様 | O35: 様 | Z35: 様
A36: 本日の検査 | F36: 検査内容 | K36: 処置実施者 | P36: 処置内容 | Z36: 様
A37: 木村 久子 | E37: 様 | F37: 血液検査 | K37: 三村 幸喜 | O37: 様 | P37: ｾﾞﾌﾟﾘｵﾝ150mg １ｷｯﾄ | Z37: 様
A38: 瀬間 義大 | E38: 様 | F38: 血液検査 | O38: 様 | Z38: 様
A39: 鈴木 隆一 | E39: 様 | F39: 血液検査 | O39: 様 | Z39: 様
A40: 三村 幸喜 | E40: 様 | F40: 血液検査 | O40: 様 | U40: 点検項目
A41: 袴田 ハナエ | E41: 様 | F41: HDS-R・MMSE・血液検査 | O41: 様 | U41: 項目 | Z41: 時間 | AC41: 点検者
A42: 発熱 | F42: 下痢 | K42: 風邪薬 | P42: 男性：23 | U42: 医療廃棄物 | Y42: 0.75 | AB42: 石原 恵海
A43: 0 | F43: 0 | K43: 0 | P43: 女性：45 | U43: 戸締り | Y43: 0.75 | AB43: ='6'!AB37:AD37 -> 石谷 美代子
A45: 備考欄 | C45: （連絡事項・処方変更・その他）
G46: 特になし
G47: 石原

Sheet 12
B1: クリニック 日 誌 | H1: 令和 | J1: ='6'!J1 -> 2 | K1: 年 | L1: ='1'!L1 -> 8 | M1: 月 | N1: 12 | O1: 日 | Q1: （ | R1: 水 | S1: ） | V1: COO | Y1: IOO | AB1: AOM
A3: 勤務者名
A4: ='6'!A4:F4 -> 中村 恵理子 | G4: 日 | I4: 柳田 美雪 | N4: 日 | Q4: 診察室 | W4: 外来担当医 | Z4: 外来介助者
A5: 石原 恵海 | G5: 日 | I5: 石谷 美代子 | N5: 日 | Q5: 第１診察室 | U5: 千葉 潜 | Z5: 柳田・石原
Q6: 第２診察室
B8: 新 | C8: 再 | D8: 精 | E8: 内 | F8: 処 | G8: 患者様氏名 | L8: 新 | M8: 再 | N8: 精 | O8: 内 | P8: 処 | Q8: 患者様氏名 | V8: 新 | W8: 再 | X8: 精 | Y8: 内 | Z8: 処 | AA8: 患者様氏名
A9: 1 | C9: ・ | D9: ・ | F9: 28 | G9: 榎林 真実 | J9: 様 | K9: 2 | M9: ・ | N9: ・ | P9: 28 | Q9: 豊川 洋子 | T9: 様 | U9: 3 | W9: ・ | X9: ・ | Z9: 14 | AA9: 沼山 寛子 | AD9: 様
A10: 4 | C10: ・ | D10: ・ | F10: 28 | G10: 附田 冨喜子 | J10: 様 | K10: 5 | M10: ・ | N10: ・ | P10: 7 | Q10: 中居 敬悦 | T10: 様 | U10: 6 | W10: ・ | X10: ・ | Z10: 28 | AA10: 市村 愛里沙 | AD10: 様
A11: 7 | C11: ・ | D11: ・ | F11: 14 | G11: 阿部 愛美 | J11: 様 | K11: 8 | M11: ・ | N11: ・ | P11: 28 | Q11: 冨田 勝政 | T11: 様 | U11: 9 | W11: ・ | X11: ・ | Z11: 30 | AA11: 若林 靖子 | AD11: 様
A12: 10 | C12: ・ | D12: ・ | F12: 28 | G12: 山本 伸子 | J12: 様 | K12: 11 | M12: ・ | N12: ・ | P12: 28 | Q12: 一戸 紀子 | T12: 様 | U12: 12 | W12: ・ | X12: ・ | Z12: 30 | AA12: 村上 チエ子 | AD12: 様
A13: 13 | C13: ・ | D13: ・ | F13: 28 | G13: 類家 つさ | J13: 様 | K13: 14 | M13: ・ | N13: ・ | P13: 42 | Q13: 塚田 敏子 | T13: 様 | U13: 15 | V13: ・ | X13: ・ | Z13: 14 | AA13: 原田 悠紀 | AD13: 様
A14: 16 | C14: ・ | D14: ・ | F14: 28 | G14: 市川 エミ子 | J14: 様 | K14: 17 | M14: ・ | N14: ・ | P14: 28 | Q14: 箕輪 麻紀子 | T14: 様 | U14: 18 | V14: ・ | X14: ・ | Z14: 6 | AA14: 田畑 あかり | AD14: 様
A15: 19 | C15: ・ | D15: ・ | F15: 28 | G15: 室山 外志高 | J15: 様 | K15: 20 | M15: ・ | N15: ・ | P15: 28 | Q15: 赤川 將麻 | T15: 様 | U15: 21 | W15: ・ | X15: ・ | Z15: 28 | AA15: 柏葉 信子 | AD15: 様
A16: 22 | C16: ・ | D16: ・ | F16: 30 | G16: 葛西 正人 | J16: 様 | K16: 23 | M16: ・ | N16: ・ | P16: 42 | Q16: 橋本 英治 | T16: 様 | U16: 24 | W16: ・ | X16: ・ | Z16: 28 | AA16: 阿部 勝廣 | AD16: 様
A17: 25 | C17: ・ | D17: ・ | F17: 28 | G17: 戸田 文子 | J17: 様 | K17: 26 | M17: ・ | N17: ・ | P17: 28 | Q17: 新堂 伸子 | T17: 様 | U17: 27 | W17: ・ | X17: ・ | Z17: 0 | AA17: 高村 加津子 | AD17: 様
A18: 28 | C18: ・ | D18: ・ | F18: 28 | G18: 竹内 くみ子 | J18: 様 | K18: 29 | M18: ・ | N18: ・ | P18: 28 | Q18: 工藤 喜美子 | T18: 様 | U18: 30 | W18: ・ | X18: ・ | Z18: 0 | AA18: 田口 トシ子 | AD18: 様
A19: 31 | C19: ・ | D19: ・ | F19: 28 | G19: 橋本 豊彦 | J19: 様 | K19: 32 | M19: ・ | N19: ・ | P19: 28 | Q19: 蛯名 慶子 | T19: 様 | U19: 33 | W19: ・ | X19: ・ | Z19: 0 | AA19: 瀬川 高雄 | AD19: 様
A20: 34 | C20: ・ | D20: ・ | F20: 28 | G20: 中市 マツエ | J20: 様 | K20: 35 | M20: ・ | N20: ・ | P20: 28 | Q20: 神田 輝子 | T20: 様 | U20: 36 | W20: ・ | X20: ・ | Z20: 0 | AA20: 石ケ谷 數子 | AD20: 様
A21: 37 | C21: ・ | D21: ・ | F21: 28 | G21: 織笠 裕美 | J21: 様 | K21: 38 | M21: ・ | N21: ・ | P21: 28 | Q21: 舛谷 哲雄 | T21: 様 | U21: 39 | W21: ・ | X21: ・ | Z21: 0 | AA21: 坂本 政勝 | AD21: 様
A22: 40 | C22: ・ | D22: ・ | F22: 28 | G22: 竹下 ミツ子 | J22: 様 | K22: 41 | M22: ・ | N22: ・ | P22: 28 | Q22: 舛谷 勝子 | T22: 様 | U22: 42 | W22: ・ | X22: ・ | Z22: 0 | AA22: 佐藤 初男 | AD22: 様
A23: 43 | C23: ・ | D23: ・ | F23: 30 | G23: 齋藤 繭介 | J23: 様 | K23: 44 | M23: ・ | N23: ・ | P23: 28 | Q23: 神 芽依 | T23: 様 | U23: 45 | W23: ・ | X23: ・ | Z23: 0 | AA23: 佐藤 澄子 | AD23: 様
A24: 46 | C24: ・ | D24: ・ | F24: 28 | G24: 簗場 ハギ | J24: 様 | K24: 47 | M24: ・ | N24: ・ | P24: 90 | Q24: 関川 進也 | T24: 様 | U24: 48 | V24: ・ | X24: ・ | Z24: 30 | AA24: 橋本 治男 | AD24: 様
A25: 49 | C25: ・ | D25: ・ | F25: 28 | G25: 酒井 啓太 | J25: 様 | K25: 50 | M25: ・ | N25: ・ | P25: 28 | Q25: 吉田 浩二 | T25: 様 | U25: 51 | W25: ・ | X25: ・ | Z25: 0 | AA25: 沼端 ミセ | AD25: 様
A26: 52 | C26: ・ | D26: ・ | F26: 28 | G26: 哘 典子 | J26: 様 | K26: 53 | M26: ・ | N26: ・ | P26: 0 | Q26: 佐藤 ソノ | T26: 様 | U26: 54 | AD26: 様
A27: 55 | J27: 様 | K27: 56 | T27: 様 | U27: 57 | AD27: 様
A28: 58 | J28: 様 | K28: 59 | T28: 様 | U28: 60 | AD28: 様
A29: 外来患者数 | E29: 新： | F29: =COUNTIF(B9:B28,"・")+COUNTIF(L9:L28,"・")+COUNTIF(V9:V28,"・") -> 3 | H29: 名 | I29: 再： | J29: =COUNTIF(C9:C28,"・")+COUNTIF(M9:M28,"・")+COUNTIF(W9:W28,"・") -> 50 | L29: 名 | M29: 計： | N29: =SUM(F29:K29) -> 53 | Q29: 名 | R29: （ | S29: 精： | T29: =COUNTIF(D9:D28,"・")+COUNTIF(N9:N28,"・")+COUNTIF(X9:X28,"・") -> 53 | W29: 名 | X29: ・ | Y29: 内： | Z29: =COUNTIF(E9:E28,"・")+COUNTIF(O9:O28,"・")+COUNTIF(Y9:Y28,"・") -> 0 | AC29: 名 | AD29: ）
A31: 紹介患者様氏名 | F31: 紹介先 | K31: 逆紹介患者様氏名 | P31: 紹介元 | U31: 処置実施者 | AA31: 処置内容
E32: 様 | K32: 原田 悠紀 | O32: 様 | P32: 野辺地病院 | Z32: 様
E33: 様 | K33: 田畑 あかり | O33: 様 | P33: みさわの森クリニック | Z33: 様
A34: 本日の検査 | F34: 検査内容 | K34: 処置実施者 | P34: 処置内容 | Z34: 様
A35: 類家 つさ | E35: 様 | F35: 血液検査 | O35: 様 | Z35: 様
A36: 蛯名 慶子 | E36: 様 | F36: 血液検査 | O36: 様 | Z36: 様
E37: 様 | O37: 様 | Z37: 様
E38: 様 | O38: 様 | U38: 点検項目
E39: 様 | O39: 様 | U39: 項目 | Z39: 時間 | AC39: 点検者
A40: 発熱 | F40: 下痢 | K40: 風邪薬 | P40: 男性：18 | U40: 医療廃棄物 | Y40: 0.75 | AB40: 柳田 美雪
A41: 0 | F41: 0 | K41: 0 | P41: 女性：35 | U41: 戸締り | Y41: 0.75 | AB41: 中村 恵理子
A43: 備考欄 | C43: （連絡事項・処方変更・その他）
G44: 特記なし
...

Sheet 13
B1: クリニック 日 誌 | H1: 令和 | J1: ='6'!J1 -> 2 | K1: 年 | L1: ='1'!L1 -> 8 | M1: 月 | N1: 13 | O1: 日 | Q1: （ | S1: ） | V1: COO | Y1: IOO | AB1: AOM
A3: 勤務者名
A4: ='6'!A4:F4 -> 中村 恵理子 | G4: 日 | I4: 柳田 美雪 | N4: 日 | Q4: 診察室 | W4: 外来担当医 | Z4: 外来介助者
A5: 石原 恵海 | G5: 日 | Q5: 第１診察室 | Z5: 柳田・石原
Q6: 第２診察室
B8: 新 | C8: 再 | D8: 精 | E8: 内 | F8: 処 | G8: 患者様氏名 | L8: 新 | M8: 再 | N8: 精 | O8: 内 | P8: 処 | Q8: 患者様氏名 | V8: 新 | W8: 再 | X8: 精 | Y8: 内 | Z8: 処 | AA8: 患者様氏名
A9: 1 | J9: 様 | K9: 2 | T9: 様 | U9: 3 | AD9: 様
A10: 4 | J10: 様 | K10: 5 | T10: 様 | U10: 6 | AD10: 様
A11: 7 | J11: 様 | K11: 8 | T11: 様 | U11: 9 | AD11: 様
A12: 10 | J12: 様 | K12: 11 | T12: 様 | U12: 12 | AD12: 様
A13: 13 | J13: 様 | K13: 14 | T13: 様 | U13: 15 | AD13: 様
A14: 16 | J14: 様 | K14: 17 | T14: 様 | U14: 18 | AD14: 様
A15: 19 | J15: 様 | K15: 20 | T15: 様 | U15: 21 | AD15: 様
A16: 22 | J16: 様 | K16: 23 | T16: 様 | U16: 24 | AD16: 様
A17: 25 | J17: 様 | K17: 26 | T17: 様 | U17: 27 | AD17: 様
A18: 28 | J18: 様 | K18: 29 | T18: 様 | U18: 30 | AD18: 様
A19: 31 | J19: 様 | K19: 32 | T19: 様 | U19: 33 | AD19: 様
A20: 34 | J20: 様 | K20: 35 | T20: 様 | U20: 36 | AD20: 様
... A33: 73 | J33: 様 | K33: 74 | T33: 様 | U33: 75 | AD33: 様
A34: 外来患者数 | E34: 新： | F34: =COUNTIF(B9:B33,"・")+COUNTIF(L9:L33,"・")+COUNTIF(V9:V33,"・") -> 0 | H34: 名 | I34: 再： | J34: =COUNTIF(C9:C33,"・")+COUNTIF(M9:M33,"・")+COUNTIF(W9:W33,"・") -> 0 | L34: 名 | M34: 計： | N34: =SUM(F34:K34) -> 0 | Q34: 名 | R34: （ | S34: 精： | T34: =COUNTIF(D9:D33,"・")+COUNTIF(N9:N33,"・")+COUNTIF(X9:X33,"・") -> 0 | W34: 名 | X34: ・ | Y34: 内： | Z34: =COUNTIF(E9:E33,"・")+COUNTIF(O9:O33,"・")+COUNTIF(Y9:Y33,"・") -> 0 | AC34: 名 | AD34: ）
A36: 紹介患者様氏名 | F36: 紹介先 | K36: 逆紹介患者様氏名 | P36: 紹介元 | U36: 処置実施者 | AA36: 処置内容
E37: 様 | O37: 様 | Z37: 様
E38: 様 | O38: 様 | Z38: 様
E39: 様 | O39: 様 | Z39: 様
E40: 様 | O40: 様 | Z40: 様
E41: 様 | O41: 様 | Z41: 様
A42: 本日の検査 | F42: 検査内容 | K42: 処置実施者 | P42: 処置内容 | Z42: 様
E43: 様 | O43: 様 | Z43: 様
E44: 様 | O44: 様 | Z44: 様
E45: 様 | O45: 様 | Z45: 様
E46: 様 | O46: 様 | U46: 点検項目
E47: 様 | O47: 様 | U47: 項目 | Z47: 時間 | AC47: 点検者
A48: 発熱 | F48: 下痢 | K48: 風邪薬 | P48: 男性： | U48: 医療廃棄物 | Y48: 0.75
A49: 0 | F49: 0 | K49: 0 | P49: 女性： | U49: 戸締り | Y49: 0.75 | AB49: ='6'!AB37:AD37 -> 石谷 美代子
A51: 備考欄 | C51: （連絡事項・処方変更・その他）

Sheet 14
B1: クリニック 日 誌 | H1: 令和 | J1: ='6'!J1 -> 2 | K1: 年 | L1: ='1'!L1 -> 8 | M1: 月 | N1: 14 | O1: 日 | Q1: （ | S1: ） | V1: COO | Y1: IOO | AB1: AOM
A3: 勤務者名
A4: ='6'!A4:F4 -> 中村 恵理子 | G4: 日 | I4: 柳田 美雪 | N4: 日 | Q4: 診察室 | W4: 外来担当医 | Z4: 外来介助者
A5: 石原 恵海 | G5: 日 | Q5: 第１診察室 | Z5: 柳田・石原
Q6: 第２診察室
B8: 新 | C8: 再 | D8: 精 | E8: 内 | F8: 処 | G8: 患者様氏名 | L8: 新 | M8: 再 | N8: 精 | O8: 内 | P8: 処 | Q8: 患者様氏名 | V8: 新 | W8: 再 | X8: 精 | Y8: 内 | Z8: 処 | AA8: 患者様氏名
A9: 1 | J9: 様 | K9: 2 | T9: 様 | U9: 3 | AD9: 様
A10: 4 | J10: 様 | K10: 5 | T10: 様 | U10: 6 | AD10: 様
A11: 7 | J11: 様 | K11: 8 | T11: 様 | U11: 9 | AD11: 様
A12: 10 | J12: 様 | K12: 11 | T12: 様 | U12: 12 | AD12: 様
A13: 13 | J13: 様 | K13: 14 | T13: 様 | U13: 15 | AD13: 様
A14: 16 | J14: 様 | K14: 17 | T14: 様 | U14: 18 | AD14: 様
A15: 19 | J15: 様 | K15: 20 | T15: 様 | U15: 21 | AD15: 様
A16: 22 | J16: 様 | K16: 23 | T16: 様 | U16: 24 | AD16: 様
A17: 25 | J17: 様 | K17: 26 | T17: 様 | U17: 27 | AD17: 様
A18: 28 | J18: 様 | K18: 29 | T18: 様 | U18: 30 | AD18: 様
A19: 31 | J19: 様 | K19: 32 | T19: 様 | U19: 33 | AD19: 様
A20: 34 | J20: 様 | K20: 35 | T20: 様 | U20: 36 | AD20: 様
... A33: 73 | J33: 様 | K33: 74 | T33: 様 | U33: 75 | AD33: 様
A34: 外来患者数 | E34: 新： | F34: =COUNTIF(B9:B33,"・")+COUNTIF(L9:L33,"・")+COUNTIF(V9:V33,"・") -> 0 | H34: 名 | I34: 再： | J34: =COUNTIF(C9:C33,"・")+COUNTIF(M9:M33,"・")+COUNTIF(W9:W33,"・") -> 0 | L34: 名 | M34: 計： | N34: =SUM(F34:K34) -> 0 | Q34: 名 | R34: （ | S34: 精： | T34: =COUNTIF(D9:D33,"・")+COUNTIF(N9:N33,"・")+COUNTIF(X9:X33,"・") -> 0 | W34: 名 | X34: ・ | Y34: 内： | Z34: =COUNTIF(E9:E33,"・")+COUNTIF(O9:O33,"・")+COUNTIF(Y9:Y33,"・") -> 0 | AC34: 名 | AD34: ）
A36: 紹介患者様氏名 | F36: 紹介先 | K36: 逆紹介患者様氏名 | P36: 紹介元 | U36: 処置実施者 | AA36: 処置内容
E37: 様 | O37: 様 | Z37: 様
E38: 様 | O38: 様 | Z38: 様
E39: 様 | O39: 様 | Z39: 様
E40: 様 | O40: 様 | Z40: 様
E41: 様 | O41: 様 | Z41: 様
A42: 本日の検査 | F42: 検査内容 | K42: 処置実施者 | P42: 処置内容 | Z42: 様
E43: 様 | O43: 様 | Z43: 様
E44: 様 | O44: 様 | Z44: 様
E45: 様 | O45: 様 | Z45: 様
E46: 様 | O46: 様 | U46: 点検項目
E47: 様 | O47: 様 | U47: 項目 | Z47: 時間 | AC47: 点検者
A48: 発熱 | F48: 下痢 | K48: 風邪薬 | P48: 男性： | U48: 医療廃棄物 | Y48: 0.75
A49: 0 | F49: 0 | K49: 0 | P49: 女性： | U49: 戸締り | Y49: 0.75 | AB49: ='6'!AB37:AD37 -> 石谷 美代子
A51: 備考欄 | C51: （連絡事項・処方変更・その他）

Sheet 15
B1: クリニック 日 誌 | H1: 令和 | J1: ='6'!J1 -> 2 | K1: 年 | L1: ='1'!L1 -> 8 | M1: 月 | N1: 15 | O1: 日 | Q1: （ | S1: ） | V1: COO | Y1: IOO | AB1: AOM
A3: 勤務者名
A4: ='6'!A4:F4 -> 中村 恵理子 | G4: 日 | I4: 柳田 美雪 | N4: 日 | Q4: 診察室 | W4: 外来担当医 | Z4: 外来介助者
A5: 石原 恵海 | G5: 日 | Q5: 第１診察室 | Z5: 柳田・石原
Q6: 第２診察室
B8: 新 | C8: 再 | D8: 精 | E8: 内 | F8: 処 | G8: 患者様氏名 | L8: 新 | M8: 再 | N8: 精 | O8: 内 | P8: 処 | Q8: 患者様氏名 | V8: 新 | W8: 再 | X8: 精 | Y8: 内 | Z8: 処 | AA8: 患者様氏名
A9: 1 | J9: 様 | K9: 2 | T9: 様 | U9: 3 | AD9: 様
A10: 4 | J10: 様 | K10: 5 | T10: 様 | U10: 6 | AD10: 様
A11: 7 | J11: 様 | K11: 8 | T11: 様 | U11: 9 | AD11: 様
A12: 10 | J12: 様 | K12: 11 | T12: 様 | U12: 12 | AD12: 様
A13: 13 | J13: 様 | K13: 14 | T13: 様 | U13: 15 | AD13: 様
A14: 16 | J14: 様 | K14: 17 | T14: 様 | U14: 18 | AD14: 様
A15: 19 | J15: 様 | K15: 20 | T15: 様 | U15: 21 | AD15: 様
A16: 22 | J16: 様 | K16: 23 | T16: 様 | U16: 24 | AD16: 様
A17: 25 | J17: 様 | K17: 26 | T17: 様 | U17: 27 | AD17: 様
A18: 28 | J18: 様 | K18: 29 | T18: 様 | U18: 30 | AD18: 様
A19: 31 | J19: 様 | K19: 32 | T19: 様 | U19: 33 | AD19: 様
A20: 34 | J20: 様 | K20: 35 | T20: 様 | U20: 36 | AD20: 様
... A33: 73 | J33: 様 | K33: 74 | T33: 様 | U33: 75 | AD33: 様
A34: 外来患者数 | E34: 新： | F34: =COUNTIF(B9:B33,"・")+COUNTIF(L9:L33,"・")+COUNTIF(V9:V33,"・") -> 0 | H34: 名 | I34: 再： | J34: =COUNTIF(C9:C33,"・")+COUNTIF(M9:M33,"・")+COUNTIF(W9:W33,"・") -> 0 | L34: 名 | M34: 計： | N34: =SUM(F34:K34) -> 0 | Q34: 名 | R34: （ | S34: 精： | T34: =COUNTIF(D9:D33,"・")+COUNTIF(N9:N33,"・")+COUNTIF(X9:X33,"・") -> 0 | W34: 名 | X34: ・ | Y34: 内： | Z34: =COUNTIF(E9:E33,"・")+COUNTIF(O9:O33,"・")+COUNTIF(Y9:Y33,"・") -> 0 | AC34: 名 | AD34: ）
A36: 紹介患者様氏名 | F36: 紹介先 | K36: 逆紹介患者様氏名 | P36: 紹介元 | U36: 処置実施者 | AA36: 処置内容
E37: 様 | O37: 様 | Z37: 様
E38: 様 | O38: 様 | Z38: 様
E39: 様 | O39: 様 | Z39: 様
E40: 様 | O40: 様 | Z40: 様
E41: 様 | O41: 様 | Z41: 様
A42: 本日の検査 | F42: 検査内容 | K42: 処置実施者 | P42: 処置内容 | Z42: 様
E43: 様 | O43: 様 | Z43: 様
E44: 様 | O44: 様 | Z44: 様
E45: 様 | O45: 様 | Z45: 様
E46: 様 | O46: 様 | U46: 点検項目
E47: 様 | O47: 様 | U47: 項目 | Z47: 時間 | AC47: 点検者
A48: 発熱 | F48: 下痢 | K48: 風邪薬 | P48: 男性： | U48: 医療廃棄物 | Y48: 0.75
A49: 0 | F49: 0 | K49: 0 | P49: 女性： | U49: 戸締り | Y49: 0.75 | AB49: ='6'!AB37:AD37 -> 石谷 美代子
A51: 備考欄 | C51: （連絡事項・処方変更・その他）

Sheet 16
B1: クリニック 日 誌 | H1: 令和 | J1: ='6'!J1 -> 2 | K1: 年 | L1: ='1'!L1 -> 8 | M1: 月 | N1: 16 | O1: 日 | Q1: （ | S1: ） | V1: COO | Y1: IOO | AB1: AOM
A3: 勤務者名
A4: ='6'!A4:F4 -> 中村 恵理子 | G4: 日 | I4: 柳田 美雪 | N4: 日 | Q4: 診察室 | W4: 外来担当医 | Z4: 外来介助者
A5: 石原 恵海 | G5: 日 | Q5: 第１診察室 | Z5: 柳田・石原
Q6: 第２診察室
B8: 新 | C8: 再 | D8: 精 | E8: 内 | F8: 処 | G8: 患者様氏名 | L8: 新 | M8: 再 | N8: 精 | O8: 内 | P8: 処 | Q8: 患者様氏名 | V8: 新 | W8: 再 | X8: 精 | Y8: 内 | Z8: 処 | AA8: 患者様氏名
A9: 1 | J9: 様 | K9: 2 | T9: 様 | U9: 3 | AD9: 様
A10: 4 | J10: 様 | K10: 5 | T10: 様 | U10: 6 | AD10: 様
A11: 7 | J11: 様 | K11: 8 | T11: 様 | U11: 9 | AD11: 様
A12: 10 | J12: 様 | K12: 11 | T12: 様 | U12: 12 | AD12: 様
A13: 13 | J13: 様 | K13: 14 | T13: 様 | U13: 15 | AD13: 様
A14: 16 | J14: 様 | K14: 17 | T14: 様 | U14: 18 | AD14: 様
A15: 19 | J15: 様 | K15: 20 | T15: 様 | U15: 21 | AD15: 様
A16: 22 | J16: 様 | K16: 23 | T16: 様 | U16: 24 | AD16: 様
A17: 25 | J17: 様 | K17: 26 | T17: 様 | U17: 27 | AD17: 様
A18: 28 | J18: 様 | K18: 29 | T18: 様 | U18: 30 | AD18: 様
A19: 31 | J19: 様 | K19: 32 | T19: 様 | U19: 33 | AD19: 様
A20: 34 | J20: 様 | K20: 35 | T20: 様 | U20: 36 | AD20: 様
... A33: 73 | J33: 様 | K33: 74 | T33: 様 | U33: 75 | AD33: 様
A34: 外来患者数 | E34: 新： | F34: =COUNTIF(B9:B33,"・")+COUNTIF(L9:L33,"・")+COUNTIF(V9:V33,"・") -> 0 | H34: 名 | I34: 再： | J34: =COUNTIF(C9:C33,"・")+COUNTIF(M9:M33,"・")+COUNTIF(W9:W33,"・") -> 0 | L34: 名 | M34: 計： | N34: =SUM(F34:K34) -> 0 | Q34: 名 | R34: （ | S34: 精： | T34: =COUNTIF(D9:D33,"・")+COUNTIF(N9:N33,"・")+COUNTIF(X9:X33,"・") -> 0 | W34: 名 | X34: ・ | Y34: 内： | Z34: =COUNTIF(E9:E33,"・")+COUNTIF(O9:O33,"・")+COUNTIF(Y9:Y33,"・") -> 0 | AC34: 名 | AD34: ）
A36: 紹介患者様氏名 | F36: 紹介先 | K36: 逆紹介患者様氏名 | P36: 紹介元 | U36: 処置実施者 | AA36: 処置内容
E37: 様 | O37: 様 | Z37: 様
E38: 様 | O38: 様 | Z38: 様
E39: 様 | O39: 様 | Z39: 様
E40: 様 | O40: 様 | Z40: 様
E41: 様 | O41: 様 | Z41: 様
A42: 本日の検査 | F42: 検査内容 | K42: 処置実施者 | P42: 処置内容 | Z42: 様
E43: 様 | O43: 様 | Z43: 様
E44: 様 | O44: 様 | Z44: 様
E45: 様 | O45: 様 | Z45: 様
E46: 様 | O46: 様 | U46: 点検項目
E47: 様 | O47: 様 | U47: 項目 | Z47: 時間 | AC47: 点検者
A48: 発熱 | F48: 下痢 | K48: 風邪薬 | P48: 男性： | U48: 医療廃棄物 | Y48: 0.75
A49: 0 | F49: 0 | K49: 0 | P49: 女性： | U49: 戸締り | Y49: 0.75 | AB49: ='6'!AB37:AD37 -> 石谷 美代子
A51: 備考欄 | C51: （連絡事項・処方変更・その他）

Sheet 17
B1: クリニック 日 誌 | H1: 令和 | J1: ='6'!J1 -> 2 | K1: 年 | L1: ='1'!L1 -> 8 | M1: 月 | N1: 17 | O1: 日 | Q1: （ | R1: 月 | S1: ） | V1: COO | Y1: IOO | AB1: AOM
A3: 勤務者名
A4: ='6'!A4:F4 -> 中村 恵理子 | G4: 日 | I4: 柳田 美雪 | N4: 日 | Q4: 診察室 | W4: 外来担当医 | Z4: 外来介助者
A5: 石原 恵海 | G5: 日 | I5: 石谷 美代子 | N5: 日 | Q5: 第１診察室 | U5: 馬渡 晃弘 | Z5: 柳田・石原
Q6: 第２診察室 | U6: 千葉 良 | Z6: 柳田・石原
B8: 新 | C8: 再 | D8: 精 | E8: 内 | F8: 処 | G8: 患者様氏名 | L8: 新 | M8: 再 | N8: 精 | O8: 内 | P8: 処 | Q8: 患者様氏名 | V8: 新 | W8: 再 | X8: 精 | Y8: 内 | Z8: 処 | AA8: 患者様氏名
A9: 1 | C9: ・ | D9: ・ | F9: 56 | G9: 山本 鉄也 | J9: 様 | K9: 2 | M9: ・ | N9: ・ | P9: 14 | Q9: 坪 和昭 | T9: 様 | U9: 3 | W9: ・ | X9: ・ | Z9: 56 | AA9: 山崎 ケイ | AD9: 様
A10: 4 | C10: ・ | D10: ・ | F10: 56 | G10: 最上 チエ | J10: 様 | K10: 5 | M10: ・ | O10: ・ | P10: 56 | Q10: 重信 考至 | T10: 様 | U10: 6 | W10: ・ | X10: ・ | Z10: 28 | AA10: 細田 洋一 | AD10: 様
A11: 7 | C11: ・ | D11: ・ | F11: 28 | G11: 沼田 ひろ子 | J11: 様 | K11: 8 | M11: ・ | O11: ・ | P11: 56 | Q11: 重信 ひろ子 | T11: 様 | U11: 9 | W11: ・ | X11: ・ | Z11: 28 | AA11: 松林 秀樹 | AD11: 様
A12: 10 | C12: ・ | D12: ・ | F12: 28 | G12: 田中 成典 | J12: 様 | K12: 11 | M12: ・ | N12: ・ | P12: 56 | Q12: 川村 孝之 | T12: 様 | U12: 12 | W12: ・ | X12: ・ | Z12: 14 | AA12: 星 歩 | AD12: 様
A13: 13 | C13: ・ | D13: ・ | F13: 0 | G13: 上田 昌弘 | J13: 様 | K13: 14 | M13: ・ | N13: ・ | P13: 42 | Q13: 小向 浩子 | T13: 様 | U13: 15 | W13: ・ | X13: ・ | Z13: 14 | AA13: 宇﨑 真弥 | AD13: 様
A14: 16 | C14: ・ | D14: ・ | F14: 56 | G14: 高橋 榮 | J14: 様 | K14: 17 | M14: ・ | N14: ・ | P14: 28 | Q14: 工藤 彩海 | T14: 様 | U14: 18 | W14: ・ | X14: ・ | Z14: 30 | AA14: 田嶋 来魅琉 | AD14: 様
A15: 19 | C15: ・ | D15: ・ | F15: 56 | G15: 馬場 あや子 | J15: 様 | K15: 20 | M15: ・ | N15: ・ | P15: 56 | Q15: 相坂 昭雄 | T15: 様 | U15: 21 | W15: ・ | X15: ・ | Z15: 30 | AA15: 五日市 史弥 | AD15: 様
A16: 22 | C16: ・ | D16: ・ | F16: 56 | G16: 齋藤 ヒサ | J16: 様 | K16: 23 | M16: ・ | N16: ・ | P16: 28 | Q16: 吉田 武雄 | T16: 様 | U16: 24 | W16: ・ | X16: ・ | Z16: 7 | AA16: 今 萌花 | AD16: 様
A17: 25 | C17: ・ | D17: ・ | F17: 28 | G17: 田嶋 十三雄 | J17: 様 | K17: 26 | M17: ・ | N17: ・ | P17: 30 | Q17: 高松 奎虹 | T17: 様 | U17: 27 | W17: ・ | X17: ・ | Z17: 30 | AA17: 浄法寺 七海 | AD17: 様
A18: 28 | C18: ・ | D18: ・ | F18: 28 | G18: 蛯名 ノエ | J18: 様 | K18: 29 | M18: ・ | N18: ・ | P18: 0 | Q18: 舘 将平 | T18: 様 | U18: 30 | W18: ・ | X18: ・ | Z18: 30 | AA18: 成田 陸翔 | AD18: 様
A19: 31 | C19: ・ | D19: ・ | F19: 28 | G19: 沼端 ミセ | J19: 様 | K19: 32 | M19: ・ | N19: ・ | P19: 0 | Q19: 瀬川 高雄 | T19: 様 | U19: 33 | W19: ・ | X19: ・ | Z19: 30 | AA19: 乙部 孝太 | AD19: 様
A20: 34 | C20: ・ | D20: ・ | F20: 28 | G20: 小向 克也 | J20: 様 | K20: 35 | M20: ・ | N20: ・ | P20: 56 | Q20: 遠藤 陽介 | T20: 様 | U20: 36 | W20: ・ | X20: ・ | Z20: 30 | AA20: 宮古 峻 | AD20: 様
A21: 37 | C21: ・ | D21: ・ | F21: 28 | G21: 似鳥 勝枝 | J21: 様 | K21: 38 | L21: ・ | N21: ・ | P21: 0 | Q21: 柴田 葉子 | T21: 様 | U21: 39 | W21: ・ | X21: ・ | Z21: 30 | AA21: 木村 理海 | AD21: 様
A22: 40 | C22: ・ | D22: ・ | F22: 0 | G22: 石田 あい | J22: 様 | K22: 41 | M22: ・ | N22: ・ | P22: 28 | Q22: 安田 早苗 | T22: 様 | U22: 42 | W22: ・ | X22: ・ | Z22: 30 | AA22: 船場 颯太 | AD22: 様
A23: 43 | C23: ・ | D23: ・ | F23: 28 | G23: 工藤 富雄 | J23: 様 | K23: 44 | M23: ・ | N23: ・ | P23: 14 | Q23: 新山 雄斗 | T23: 様 | U23: 45 | W23: ・ | X23: ・ | Z23: 30 | AA23: 矢吹 有瑠斗 | AD23: 様
A24: 46 | C24: ・ | D24: ・ | F24: 0 | G24: 杉元 英春 | J24: 様 | K24: 47 | M24: ・ | N24: ・ | P24: 30 | Q24: 冨田 崇 | T24: 様 | U24: 48 | W24: ・ | X24: ・ | Z24: 30 | AA24: 相澤 拓也 | AD24: 様
A25: 49 | C25: ・ | D25: ・ | F25: 28 | G25: 伊瀬 雄介 | J25: 様 | K25: 50 | M25: ・ | N25: ・ | P25: 28 | Q25: 蛯名 悟 | T25: 様 | U25: 51 | W25: ・ | X25: ・ | Z25: 0 | AA25: 工藤 健壽 | AD25: 様
A26: 52 | C26: ・ | D26: ・ | F26: 28 | G26: 橋本 百合子 | J26: 様 | K26: 53 | M26: ・ | N26: ・ | P26: 0 | Q26: 浪岡 ヒデ | T26: 様 | U26: 54 | W26: ・ | X26: ・ | Z26: 0 | AA26: 田口 トシ子 | AD26: 様
A27: 55 | C27: ・ | D27: ・ | F27: 28 | G27: 遠嶋 剛 | J27: 様 | K27: 56 | M27: ・ | N27: ・ | P27: 56 | Q27: 永島 かなえ | T27: 様 | U27: 57 | W27: ・ | X27: ・ | Z27: 0 | AA27: 高村 加津子 | AD27: 様
A28: 58 | C28: ・ | D28: ・ | F28: 0 | G28: 深町 栄美子 | J28: 様 | K28: 59 | M28: ・ | N28: ・ | P28: 0 | Q28: 山縣 堅一 | T28: 様 | U28: 60 | W28: ・ | X28: ・ | Z28: 0 | AA28: 塚田 敏子 | AD28: 様
A29: 61 | C29: ・ | D29: ・ | F29: 0 | G29: 萠出 きのゑ | J29: 様 | K29: 62 | M29: ・ | N29: ・ | P29: 0 | Q29: 坂本 政勝 | T29: 様 | U29: 63 | W29: ・ | Y29: ・ | Z29: 90 | AA29: 村山 義信 | AD29: 様
A30: 64 | C30: ・ | D30: ・ | F30: 0 | G30: 萠出 克治 | J30: 様 | K30: 65 | M30: ・ | N30: ・ | P30: 0 | Q30: 大村 千鶴子 | T30: 様 | U30: 66 | W30: ・ | X30: ・ | Z30: 0 | AA30: 新山 颯也 | AD30: 様
A31: 外来患者数 | E31: 新： | F31: =COUNTIF(B9:B30,"・")+COUNTIF(L9:L30,"・")+COUNTIF(V9:V30,"・") -> 1 | H31: 名 | I31: 再： | J31: =COUNTIF(C9:C30,"・")+COUNTIF(M9:M30,"・")+COUNTIF(W9:W30,"・") -> 65 | L31: 名 | M31: 計： | N31: =SUM(F31:K31) -> 66 | Q31: 名 | R31: （ | S31: 精： | T31: =COUNTIF(D9:D30,"・")+COUNTIF(N9:N30,"・")+COUNTIF(X9:X30,"・") -> 63 | W31: 名 | X31: ・ | Y31: 内： | Z31: =COUNTIF(E9:E30,"・")+COUNTIF(O9:O30,"・")+COUNTIF(Y9:Y30,"・") -> 3 | AC31: 名 | AD31: ）
A33: 紹介患者様氏名 | F33: 紹介先 | K33: 逆紹介患者様氏名 | P33: 紹介元 | U33: 処置実施者 | AA33: 処置内容
E34: 様 | O34: 様 | Z34: 様
A35: 本日の検査 | F35: 検査内容 | K35: 処置実施者 | P35: 処置内容 | Z35: 様
A36: 新山 雄斗 | E36: 様 | F36: Y-G | K36: 小向 克也 | O36: 様 | P36: ｾﾞﾌﾟﾘｵﾝ150ｍｇ 1セット | Z36: 様
A37: 舘 将平 | E37: 様 | F37: AQ | O37: 様 | Z37: 様
