Workbook

Sheet 1
A1: ソーシャルワーカー室 業務日誌 | AH1: C.O.O | AL1: I.O.O | AP1: Ａ.Ｏ.Ｍ
H3: =曜日!B12 -> 令和2年 | M3: =曜日!C12 -> 6月 | P3: 1日 | S3: （ | T3: =曜日!D3 -> 月 | U3: ） | W3: 作成者 | Z3: ： | AA3: 小屋敷 千瑛
A5: 労務 状況 | D5: 勤務状況 | K5: 西舘 翔子 | P5: 公休 | T5: 小屋敷 千瑛 | Y5: 日勤 | AC5: 大川 祥子 | AH5: 日勤
A7: 入退院 状況 | D7: 入院形態 | K7: 東病棟 | Q7: 西病棟 | W7: 北病棟 | AC7: 南病棟 | AI7: 合計 | AO7: 総数
K8: 男性 | N8: 女性 | Q8: 男性 | T8: 女性 | W8: 男性 | Z8: 女性 | AC8: 男性 | AF8: 女性 | AI8: 男性 | AL8: 女性
D9: 任意入院 | K9: 4 | N9: 6 | Q9: 5 | T9: 7 | W9: 23 | Z9: 11 | AC9: 1 | AF9: 3 | AI9: =K9+Q9+W9+AC9 -> 33 | AL9: =N9+T9+Z9+AF9 -> 27 | AO9: =AI13 -> 185
D10: 医療保護入院 | K10: 23 | N10: 14 | Q10: 17 | T10: 14 | W10: 0 | Z10: 0 | AC10: 31 | AF10: 25 | AI10: =K10+Q10+W10+AC10 -> 71 | AL10: =N10+T10+Z10+AF10 -> 53
D11: 措置入院 | K11: 1 | N11: 0 | Q11: 0 | T11: 0 | W11: 0 | Z11: 0 | AC11: 0 | AF11: 0 | AI11: =K11+Q11+W11+AC11 -> 1 | AL11: =N11+T11+Z11+AF11 -> 0
D12: 合計 | K12: =K9+K10+K11 -> 28 | N12: =N9+N10+N11 -> 20 | Q12: =Q9+Q10+Q11 -> 22 | T12: =SUM(T9:V11) -> 21 | W12: =SUM(W9:Y11) -> 23 | Z12: =SUM(Z9:AB11) -> 11 | AC12: =SUM(AC9:AE11) -> 32 | AF12: =SUM(AF9:AH11) -> 28 | AI12: =SUM(K12+Q12+W12+AC12) -> 105 | AL12: =SUM(N12+T12+Z12+AF12) -> 80 | AO12: 人
K13: =K12+N12 -> 48 | Q13: =Q12+T12 -> 43 | W13: =W12+Z12 -> 34 | AC13: =AC12+AF12 -> 60 | AI13: =AI12+AL12 -> 185
F14: 患者様氏名 | N14: 入院形態 | T14: 担当Dr | Y14: 担当SW | AD14: 病棟 | AJ14: 備考欄
D15: 入院 | F15: 宮古 みゆき | L15: 様 | N15: 医療保護入院 | T15: 馬渡晃弘Dr | Y15: 小屋敷 千瑛 | AD15: 東A | AJ15: 入院時診察：齊藤Dr
L16: 様
L17: 様
L18: 様
L19: 様
D20: 退院 | F20: 木村 よしゑ | L20: 様 | N20: 医療保護入院 | T20: 深澤隆Dr | Y20: 大川 祥子 | AD20: 南A
F21: 浪岡 美喜男 | L21: 様 | N21: 医療保護入院 | T21: 馬渡晃弘Dr | Y21: 西舘 翔子 | AD21: 東C
L22: 様
L23: 様
L24: 様
D25: 転棟 ･ 入院形態変更 | F25: 上田 恭子 | L25: 様 | N25: 医療保護入院 | T25: 馬渡晃弘Dr | Y25: 大川 祥子 | AD25: 東C→南A
L26: 様
L27: 様
L28: 様
L29: 様
A30: 患者様 関連 | D30: 患者様氏名 | K30: 担当Dr | P30: 病棟 | S30: 制限内容 | X30: 制限時間 | AC30: 開始日時 | AO30: 備考
D31: 立花 圭 | I31: 様 | K31: 田名部茂Dr | P31: 東A | S31: 時間隔離 | X31: 時間隔離 | AC31: 令和 | AE31: 1 | AF31: 年 | AG31: 9 | AH31: 月 | AI31: 25 | AJ31: 日 | AL31: ： | AN31: ～
D32: 宮崎 宏之 | I32: 様 | K32: 馬渡晃弘Dr | P32: 東A | S32: 終日隔離 | X32: 終日隔離 | AC32: 令和 | AE32: 2 | AF32: 年 | AG32: 5 | AH32: 月 | AI32: 23 | AJ32: 日 | AL32: ： | AN32: ～
D33: 宮古 みゆき | I33: 様 | K33: 馬渡晃弘Dr | P33: 東A | S33: 終日隔離 | X33: 終日隔離 | AC33: 令和 | AE33: 2 | AF33: 年 | AG33: 6 | AH33: 月 | AI33: 1 | AJ33: 日 | AL33: ： | AN33: ～ | AO33: 開始
I34: 様 | AC34: 平成 | AF34: 年 | AH34: 月 | AJ34: 日 | AL34: ： | AN34: ～
I35: 様 | AC35: 平成 | AF35: 年 | AH35: 月 | AJ35: 日 | AL35: ： | AN35: ～
I36: 様 | AC36: 平成 | AF36: 年 | AH36: 月 | AJ36: 日 | AL36: ： | AN36: ～
I37: 様 | AC37: 平成 | AF37: 年 | AH37: 月 | AJ37: 日 | AL37: ： | AN37: ～
I38: 様 | AC38: 平成 | AF38: 年 | AH38: 月 | AJ38: 日 | AL38: ： | AN38: ～
I39: 様 | AC39: 平成 | AF39: 年 | AH39: 月 | AJ39: 日 | AL39: ： | AN39: ～
I40: 様 | AC40: 平成 | AF40: 年 | AH40: 月 | AJ40: 日 | AL40: ： | AN40: ～
I41: 様 | AC41: 平成 | AF41: 年 | AH41: 月 | AJ41: 日 | AL41: ： | AN41: ～
I42: 様 | AC42: 平成 | AF42: 年 | AH42: 月 | AJ42: 日 | AL42: ： | AN42: ～
I43: 様 | AC43: 平成 | AF43: 年 | AH43: 月 | AJ43: 日 | AL43: ： | AN43: ～
...

Sheet 2
A1: ソーシャルワーカー室 業務日誌 | AH1: C.O.O | AL1: I.O.O | AP1: Ａ.Ｏ.Ｍ
H3: =曜日!B12 -> 令和2年 | M3: =曜日!C12 -> 6月 | P3: 2日 | S3: （ | T3: =曜日!D4 -> 火 | U3: ） | W3: 作成者 | Z3: ： | AA3: 小屋敷 千瑛
A5: 労務 状況 | D5: 勤務状況 | K5: 西舘 翔子 | P5: 日勤 | T5: 小屋敷 千瑛 | Y5: 日勤 | AC5: 大川 祥子 | AH5: 日勤
A7: 入退院 状況 | D7: 入院形態 | K7: 東病棟 | Q7: 西病棟 | W7: 北病棟 | AC7: 南病棟 | AI7: 合計 | AO7: 総数
K8: 男性 | N8: 女性 | Q8: 男性 | T8: 女性 | W8: 男性 | Z8: 女性 | AC8: 男性 | AF8: 女性 | AI8: 男性 | AL8: 女性
D9: 任意入院 | K9: 4 | N9: 6 | Q9: 5 | T9: 7 | W9: 23 | Z9: 11 | AC9: 1 | AF9: 3 | AI9: =K9+Q9+W9+AC9 -> 33 | AL9: =N9+T9+Z9+AF9 -> 27 | AO9: =AI13 -> 187
D10: 医療保護入院 | K10: 24 | N10: 15 | Q10: 17 | T10: 14 | W10: 0 | Z10: 0 | AC10: 31 | AF10: 25 | AI10: =K10+Q10+W10+AC10 -> 72 | AL10: =N10+T10+Z10+AF10 -> 54
D11: 措置入院 | K11: 1 | N11: 0 | Q11: 0 | T11: 0 | W11: 0 | Z11: 0 | AC11: 0 | AF11: 0 | AI11: =K11+Q11+W11+AC11 -> 1 | AL11: =N11+T11+Z11+AF11 -> 0
D12: 合計 | K12: =K9+K10+K11 -> 29 | N12: =N9+N10+N11 -> 21 | Q12: =Q9+Q10+Q11 -> 22 | T12: =SUM(T9:V11) -> 21 | W12: =SUM(W9:Y11) -> 23 | Z12: =SUM(Z9:AB11) -> 11 | AC12: =SUM(AC9:AE11) -> 32 | AF12: =SUM(AF9:AH11) -> 28 | AI12: =SUM(K12+Q12+W12+AC12) -> 106 | AL12: =SUM(N12+T12+Z12+AF12) -> 81 | AO12: 人
K13: =K12+N12 -> 50 | Q13: =Q12+T12 -> 43 | W13: =W12+Z12 -> 34 | AC13: =AC12+AF12 -> 60 | AI13: =AI12+AL12 -> 187
F14: 患者様氏名 | N14: 入院形態 | T14: 担当Dr | Y14: 担当SW | AD14: 病棟 | AJ14: 備考欄
D15: 入院 | F15: 田中 トシヱ | L15: 様 | N15: 医療保護入院 | T15: 深澤隆Dr | Y15: 西舘 翔子 | AD15: 東C
F16: 木村 茂 | L16: 様 | N16: 医療保護入院 | T16: 馬渡晃弘Dr | Y16: 大川 祥子 | AD16: 東C
L17: 様
L18: 様
L19: 様
D20: 退院 | L20: 様
L21: 様
L22: 様
L23: 様
L24: 様
D25: 転棟 ･ 入院形態変更 | L25: 様
L26: 様
L27: 様
L28: 様
L29: 様
A30: 患者様 関連 | D30: 患者様氏名 | K30: 担当Dr | P30: 病棟 | S30: 制限内容 | X30: 制限時間 | AC30: 開始日時 | AO30: 備考
D31: 立花 圭 | I31: 様 | K31: 田名部茂Dr | P31: 東A | S31: 時間隔離 | X31: 時間隔離 | AC31: 令和 | AE31: 1 | AF31: 年 | AG31: 9 | AH31: 月 | AI31: 25 | AJ31: 日 | AL31: ： | AN31: ～
D32: 宮崎 宏之 | I32: 様 | K32: 馬渡晃弘Dr | P32: 東A | S32: 終日隔離 | X32: 終日隔離 | AC32: 令和 | AE32: 2 | AF32: 年 | AG32: 5 | AH32: 月 | AI32: 23 | AJ32: 日 | AL32: ： | AN32: ～
D33: 宮古 みゆき | I33: 様 | K33: 馬渡晃弘Dr | P33: 東A | S33: 終日隔離 | X33: 終日隔離 | AC33: 令和 | AE33: 2 | AF33: 年 | AG33: 6 | AH33: 月 | AI33: 1 | AJ33: 日 | AL33: ： | AN33: ～ | AO33: 終了
D34: 宮古 みゆき | I34: 様 | K34: 馬渡晃弘Dr | P34: 東A | S34: 時間隔離 | X34: 時間隔離 | AC34: 令和 | AE34: 2 | AF34: 年 | AG34: 6 | AH34: 月 | AI34: 2 | AJ34: 日 | AL34: ： | AN34: ～ | AO34: 開始
D35: 袴田 将志 | I35: 様 | K35: 田名部茂Dr | P35: 東A | S35: 終日隔離 | X35: 終日隔離 | AC35: 令和 | AE35: 2 | AF35: 年 | AG35: 6 | AH35: 月 | AI35: 2 | AJ35: 日 | AL35: ： | AN35: ～ | AO35: 開始
I36: 様 | AC36: 平成 | AF36: 年 | AH36: 月 | AJ36: 日 | AL36: ： | AN36: ～
I37: 様 | AC37: 平成 | AF37: 年 | AH37: 月 | AJ37: 日 | AL37: ： | AN37: ～
I38: 様 | AC38: 平成 | AF38: 年 | AH38: 月 | AJ38: 日 | AL38: ： | AN38: ～
I39: 様 | AC39: 平成 | AF39: 年 | AH39: 月 | AJ39: 日 | AL39: ： | AN39: ～
I40: 様 | AC40: 平成 | AF40: 年 | AH40: 月 | AJ40: 日 | AL40: ： | AN40: ～
I41: 様 | AC41: 平成 | AF41: 年 | AH41: 月 | AJ41: 日 | AL41: ： | AN41: ～
I42: 様 | AC42: 平成 | AF42: 年 | AH42: 月 | AJ42: 日 | AL42: ： | AN42: ～
I43: 様 | AC43: 平成 | AF43: 年 | AH43: 月 | AJ43: 日 | AL43: ： | AN43: ～
...

Sheet 3
A1: ソーシャルワーカー室 業務日誌 | AH1: C.O.O | AL1: I.O.O | AP1: Ａ.Ｏ.Ｍ
H3: =曜日!B12 -> 令和2年 | M3: =曜日!C12 -> 6月 | P3: 3日 | S3: （ | T3: =曜日!D5 -> 水 | U3: ） | W3: 作成者 | Z3: ： | AA3: 小屋敷 千瑛
A5: 労務 状況 | D5: 勤務状況 | K5: 西舘 翔子 | P5: 日勤 | T5: 小屋敷 千瑛 | Y5: 日勤 | AC5: 大川 祥子 | AH5: 日勤
A7: 入退院 状況 | D7: 入院形態 | K7: 東病棟 | Q7: 西病棟 | W7: 北病棟 | AC7: 南病棟 | AI7: 合計 | AO7: 総数
K8: 男性 | N8: 女性 | Q8: 男性 | T8: 女性 | W8: 男性 | Z8: 女性 | AC8: 男性 | AF8: 女性 | AI8: 男性 | AL8: 女性
D9: 任意入院 | K9: 4 | N9: 6 | Q9: 5 | T9: 7 | W9: 23 | Z9: 11 | AC9: 1 | AF9: 3 | AI9: =K9+Q9+W9+AC9 -> 33 | AL9: =N9+T9+Z9+AF9 -> 27 | AO9: =AI13 -> 187
D10: 医療保護入院 | K10: 24 | N10: 15 | Q10: 17 | T10: 14 | W10: 0 | Z10: 0 | AC10: 31 | AF10: 25 | AI10: =K10+Q10+W10+AC10 -> 72 | AL10: =N10+T10+Z10+AF10 -> 54
D11: 措置入院 | K11: 1 | N11: 0 | Q11: 0 | T11: 0 | W11: 0 | Z11: 0 | AC11: 0 | AF11: 0 | AI11: =K11+Q11+W11+AC11 -> 1 | AL11: =N11+T11+Z11+AF11 -> 0
D12: 合計 | K12: =K9+K10+K11 -> 29 | N12: =N9+N10+N11 -> 21 | Q12: =Q9+Q10+Q11 -> 22 | T12: =SUM(T9:V11) -> 21 | W12: =SUM(W9:Y11) -> 23 | Z12: =SUM(Z9:AB11) -> 11 | AC12: =SUM(AC9:AE11) -> 32 | AF12: =SUM(AF9:AH11) -> 28 | AI12: =SUM(K12+Q12+W12+AC12) -> 106 | AL12: =SUM(N12+T12+Z12+AF12) -> 81 | AO12: 人
K13: =K12+N12 -> 50 | Q13: =Q12+T12 -> 43 | W13: =W12+Z12 -> 34 | AC13: =AC12+AF12 -> 60 | AI13: =AI12+AL12 -> 187
F14: 患者様氏名 | N14: 入院形態 | T14: 担当Dr | Y14: 担当SW | AD14: 病棟 | AJ14: 備考欄
D15: 入院 | L15: 様
L16: 様
L17: 様
L18: 様
L19: 様
D20: 退院 | L20: 様
L21: 様
L22: 様
L23: 様
L24: 様
D25: 転棟 ･ 入院形態変更 | L25: 様
L26: 様
L27: 様
L28: 様
L29: 様
A30: 患者様 関連 | D30: 患者様氏名 | K30: 担当Dr | P30: 病棟 | S30: 制限内容 | X30: 制限時間 | AC30: 開始日時 | AO30: 備考
D31: 立花 圭 | I31: 様 | K31: 田名部茂Dr | P31: 東A | S31: 時間隔離 | X31: 時間隔離 | AC31: 令和 | AE31: 1 | AF31: 年 | AG31: 9 | AH31: 月 | AI31: 25 | AJ31: 日 | AL31: ： | AN31: ～
D32: 宮崎 宏之 | I32: 様 | K32: 馬渡晃弘Dr | P32: 東A | S32: 終日隔離 | X32: 終日隔離 | AC32: 令和 | AE32: 2 | AF32: 年 | AG32: 5 | AH32: 月 | AI32: 23 | AJ32: 日 | AL32: ： | AN32: ～
D33: 宮古 みゆき | I33: 様 | K33: 馬渡晃弘Dr | P33: 東A | S33: 時間隔離 | X33: 時間隔離 | AC33: 令和 | AE33: 2 | AF33: 年 | AG33: 6 | AH33: 月 | AI33: 2 | AJ33: 日 | AL33: ： | AN33: ～
D34: 袴田 将志 | I34: 様 | K34: 田名部茂Dr | P34: 東A | S34: 終日隔離 | X34: 終日隔離 | AC34: 令和 | AE34: 2 | AF34: 年 | AG34: 6 | AH34: 月 | AI34: 2 | AJ34: 日 | AL34: ： | AN34: ～
I35: 様 | AC35: 平成 | AF35: 年 | AH35: 月 | AJ35: 日 | AL35: ： | AN35: ～
I36: 様 | AC36: 平成 | AF36: 年 | AH36: 月 | AJ36: 日 | AL36: ： | AN36: ～
I37: 様 | AC37: 平成 | AF37: 年 | AH37: 月 | AJ37: 日 | AL37: ： | AN37: ～
I38: 様 | AC38: 平成 | AF38: 年 | AH38: 月 | AJ38: 日 | AL38: ： | AN38: ～
I39: 様 | AC39: 平成 | AF39: 年 | AH39: 月 | AJ39: 日 | AL39: ： | AN39: ～
I40: 様 | AC40: 平成 | AF40: 年 | AH40: 月 | AJ40: 日 | AL40: ： | AN40: ～
I41: 様 | AC41: 平成 | AF41: 年 | AH41: 月 | AJ41: 日 | AL41: ： | AN41: ～
I42: 様 | AC42: 平成 | AF42: 年 | AH42: 月 | AJ42: 日 | AL42: ： | AN42: ～
I43: 様 | AC43: 平成 | AF43: 年 | AH43: 月 | AJ43: 日 | AL43: ： | AN43: ～
...

Sheet 4
A1: ソーシャルワーカー室 業務日誌 | AH1: C.O.O | AL1: I.O.O | AP1: Ａ.Ｏ.Ｍ
H3: =曜日!B12 -> 令和2年 | M3: =曜日!C12 -> 6月 | P3: 4日 | S3: （ | T3: =曜日!D6 -> 木 | U3: ） | W3: 作成者 | Z3: ： | AA3: 西舘 翔子
A5: 労務 状況 | D5: 勤務状況 | K5: 西舘 翔子 | P5: 日勤 | T5: 小屋敷 千瑛 | Y5: 公休 | AC5: 大川 祥子 | AH5: 日勤
A7: 入退院 状況 | D7: 入院形態 | K7: 東病棟 | Q7: 西病棟 | W7: 北病棟 | AC7: 南病棟 | AI7: 合計 | AO7: 総数
K8: 男性 | N8: 女性 | Q8: 男性 | T8: 女性 | W8: 男性 | Z8: 女性 | AC8: 男性 | AF8: 女性 | AI8: 男性 | AL8: 女性
D9: 任意入院 | K9: 3 | N9: 6 | Q9: 6 | T9: 7 | W9: 23 | Z9: 11 | AC9: 1 | AF9: 3 | AI9: =K9+Q9+W9+AC9 -> 33 | AL9: =N9+T9+Z9+AF9 -> 27 | AO9: =AI13 -> 188
D10: 医療保護入院 | K10: 26 | N10: 14 | Q10: 16 | T10: 15 | W10: 0 | Z10: 0 | AC10: 31 | AF10: 25 | AI10: =K10+Q10+W10+AC10 -> 73 | AL10: =N10+T10+Z10+AF10 -> 54
D11: 措置入院 | K11: 1 | N11: 0 | Q11: 0 | T11: 0 | W11: 0 | Z11: 0 | AC11: 0 | AF11: 0 | AI11: =K11+Q11+W11+AC11 -> 1 | AL11: =N11+T11+Z11+AF11 -> 0
D12: 合計 | K12: =K9+K10+K11 -> 30 | N12: =N9+N10+N11 -> 20 | Q12: =Q9+Q10+Q11 -> 22 | T12: =SUM(T9:V11) -> 22 | W12: =SUM(W9:Y11) -> 23 | Z12: =SUM(Z9:AB11) -> 11 | AC12: =SUM(AC9:AE11) -> 32 | AF12: =SUM(AF9:AH11) -> 28 | AI12: =SUM(K12+Q12+W12+AC12) -> 107 | AL12: =SUM(N12+T12+Z12+AF12) -> 81 | AO12: 人
K13: =K12+N12 -> 50 | Q13: =Q12+T12 -> 44 | W13: =W12+Z12 -> 34 | AC13: =AC12+AF12 -> 60 | AI13: =AI12+AL12 -> 188
F14: 患者様氏名 | N14: 入院形態 | T14: 担当Dr | Y14: 担当SW | AD14: 病棟 | AJ14: 備考欄
D15: 入院 | F15: 佐々木 忠明 | L15: 様 | N15: 医療保護入院 | T15: 馬渡晃弘Dr | Y15: 大川 祥子 | AD15: 東A
L16: 様
L17: 様
L18: 様
L19: 様
D20: 退院 | L20: 様
L21: 様
L22: 様
L23: 様
L24: 様
D25: 転棟 ･ 入院形態変更 | F25: 恵茂田 義春 | L25: 様 | N25: 医療保護入院 | T25: 金泰德Dr | Y25: 西舘 翔子 | AD25: 西B→東A
F26: 澁屋 智子 | L26: 様 | N26: 医療保護入院 | T26: 深澤隆Dr | Y26: 西舘 翔子 | AD26: 東B→西B
F27: 阿部 勉 | L27: 様 | N27: 任意入院 | T27: 馬渡晃弘Dr | Y27: 西舘 翔子 | AD27: 東B→西B
L28: 様
L29: 様
A30: 患者様 関連 | D30: 患者様氏名 | K30: 担当Dr | P30: 病棟 | S30: 制限内容 | X30: 制限時間 | AC30: 開始日時 | AO30: 備考
D31: 立花 圭 | I31: 様 | K31: 田名部茂Dr | P31: 東A | S31: 時間隔離 | X31: 時間隔離 | AC31: 令和 | AE31: 1 | AF31: 年 | AG31: 9 | AH31: 月 | AI31: 25 | AJ31: 日 | AL31: ： | AN31: ～
D32: 宮崎 宏之 | I32: 様 | K32: 馬渡晃弘Dr | P32: 東A | S32: 終日隔離 | X32: 終日隔離 | AC32: 令和 | AE32: 2 | AF32: 年 | AG32: 5 | AH32: 月 | AI32: 23 | AJ32: 日 | AL32: ： | AN32: ～
D33: 袴田 将志 | I33: 様 | K33: 田名部茂Dr | P33: 東A | S33: 終日隔離 | X33: 終日隔離 | AC33: 令和 | AE33: 2 | AF33: 年 | AG33: 6 | AH33: 月 | AI33: 2 | AJ33: 日 | AL33: ： | AN33: ～
D34: 宮古 みゆき | I34: 様 | K34: 馬渡晃弘Dr | P34: 東A | S34: 時間隔離 | X34: 時間隔離 | AC34: 令和 | AE34: 2 | AF34: 年 | AG34: 6 | AH34: 月 | AI34: 2 | AJ34: 日 | AL34: ： | AN34: ～ | AO34: 解除
I35: 様 | AC35: 平成 | AF35: 年 | AH35: 月 | AJ35: 日 | AL35: ： | AN35: ～
I36: 様 | AC36: 平成 | AF36: 年 | AH36: 月 | AJ36: 日 | AL36: ： | AN36: ～
I37: 様 | AC37: 平成 | AF37: 年 | AH37: 月 | AJ37: 日 | AL37: ： | AN37: ～
I38: 様 | AC38: 平成 | AF38: 年 | AH38: 月 | AJ38: 日 | AL38: ： | AN38: ～
I39: 様 | AC39: 平成 | AF39: 年 | AH39: 月 | AJ39: 日 | AL39: ： | AN39: ～
I40: 様 | AC40: 平成 | AF40: 年 | AH40: 月 | AJ40: 日 | AL40: ： | AN40: ～
I41: 様 | AC41: 平成 | AF41: 年 | AH41: 月 | AJ41: 日 | AL41: ： | AN41: ～
I42: 様 | AC42: 平成 | AF42: 年 | AH42: 月 | AJ42: 日 | AL42: ： | AN42: ～
I43: 様 | AC43: 平成 | AF43: 年 | AH43: 月 | AJ43: 日 | AL43: ： | AN43: ～
...

Sheet 5
A1: ソーシャルワーカー室 業務日誌 | AH1: C.O.O | AL1: I.O.O | AP1: Ａ.Ｏ.Ｍ
H3: =曜日!B12 -> 令和2年 | M3: =曜日!C12 -> 6月 | P3: 5日 | S3: （ | T3: =曜日!D7 -> 金 | U3: ） | W3: 作成者 | Z3: ： | AA3: 小屋敷 千瑛
A5: 労務 状況 | D5: 勤務状況 | K5: 西舘 翔子 | P5: 日勤 | T5: 小屋敷 千瑛 | Y5: 日勤 | AC5: 大川 祥子 | AH5: 日勤
A7: 入退院 状況 | D7: 入院形態 | K7: 東病棟 | Q7: 西病棟 | W7: 北病棟 | AC7: 南病棟 | AI7: 合計 | AO7: 総数
K8: 男性 | N8: 女性 | Q8: 男性 | T8: 女性 | W8: 男性 | Z8: 女性 | AC8: 男性 | AF8: 女性 | AI8: 男性 | AL8: 女性
D9: 任意入院 | K9: 3 | N9: 6 | Q9: 6 | T9: 7 | W9: 23 | Z9: 11 | AC9: 1 | AF9: 3 | AI9: =K9+Q9+W9+AC9 -> 33 | AL9: =N9+T9+Z9+AF9 -> 27 | AO9: =AI13 -> 189
D10: 医療保護入院 | K10: 27 | N10: 15 | Q10: 16 | T10: 15 | W10: 0 | Z10: 0 | AC10: 30 | AF10: 25 | AI10: =K10+Q10+W10+AC10 -> 73 | AL10: =N10+T10+Z10+AF10 -> 55
D11: 措置入院 | K11: 1 | N11: 0 | Q11: 0 | T11: 0 | W11: 0 | Z11: 0 | AC11: 0 | AF11: 0 | AI11: =K11+Q11+W11+AC11 -> 1 | AL11: =N11+T11+Z11+AF11 -> 0
D12: 合計 | K12: =K9+K10+K11 -> 31 | N12: =N9+N10+N11 -> 21 | Q12: =Q9+Q10+Q11 -> 22 | T12: =SUM(T9:V11) -> 22 | W12: =SUM(W9:Y11) -> 23 | Z12: =SUM(Z9:AB11) -> 11 | AC12: =SUM(AC9:AE11) -> 31 | AF12: =SUM(AF9:AH11) -> 28 | AI12: =SUM(K12+Q12+W12+AC12) -> 107 | AL12: =SUM(N12+T12+Z12+AF12) -> 82 | AO12: 人
K13: =K12+N12 -> 52 | Q13: =Q12+T12 -> 44 | W13: =W12+Z12 -> 34 | AC13: =AC12+AF12 -> 59 | AI13: =AI12+AL12 -> 189
F14: 患者様氏名 | N14: 入院形態 | T14: 担当Dr | Y14: 担当SW | AD14: 病棟 | AJ14: 備考欄
D15: 入院 | F15: 清水 浩 | L15: 様 | N15: 医療保護入院 | T15: 馬渡晃弘Dr | Y15: 西舘 翔子 | AD15: 東D
F16: 小山田 チヤ | L16: 様 | N16: 医療保護入院 | T16: 馬渡晃弘Dr | Y16: 大川 祥子 | AD16: 東B
L17: 様
L18: 様
L19: 様
D20: 退院 | F20: 服部 英喜 | L20: 様 | N20: 医療保護入院 | T20: 馬渡晃弘Dr | Y20: 大川 祥子 | AD20: 南C
L21: 様
L22: 様
L23: 様
L24: 様
D25: 転棟 ･ 入院形態変更 | L25: 様
L26: 様
L27: 様
L28: 様
L29: 様
A30: 患者様 関連 | D30: 患者様氏名 | K30: 担当Dr | P30: 病棟 | S30: 制限内容 | X30: 制限時間 | AC30: 開始日時 | AO30: 備考
D31: 立花 圭 | I31: 様 | K31: 田名部茂Dr | P31: 東A | S31: 時間隔離 | X31: 時間隔離 | AC31: 令和 | AE31: 1 | AF31: 年 | AG31: 9 | AH31: 月 | AI31: 25 | AJ31: 日 | AL31: ： | AN31: ～
D32: 宮崎 宏之 | I32: 様 | K32: 馬渡晃弘Dr | P32: 東A | S32: 終日隔離 | X32: 終日隔離 | AC32: 令和 | AE32: 2 | AF32: 年 | AG32: 5 | AH32: 月 | AI32: 23 | AJ32: 日 | AL32: ： | AN32: ～
D33: 袴田 将志 | I33: 様 | K33: 田名部茂Dr | P33: 東A | S33: 終日隔離 | X33: 終日隔離 | AC33: 令和 | AE33: 2 | AF33: 年 | AG33: 6 | AH33: 月 | AI33: 2 | AJ33: 日 | AL33: ： | AN33: ～
I34: 様 | AC34: 令和 | AF34: 年 | AH34: 月 | AJ34: 日 | AL34: ： | AN34: ～
I35: 様 | AC35: 平成 | AF35: 年 | AH35: 月 | AJ35: 日 | AL35: ： | AN35: ～
I36: 様 | AC36: 平成 | AF36: 年 | AH36: 月 | AJ36: 日 | AL36: ： | AN36: ～
I37: 様 | AC37: 平成 | AF37: 年 | AH37: 月 | AJ37: 日 | AL37: ： | AN37: ～
I38: 様 | AC38: 平成 | AF38: 年 | AH38: 月 | AJ38: 日 | AL38: ： | AN38: ～
I39: 様 | AC39: 平成 | AF39: 年 | AH39: 月 | AJ39: 日 | AL39: ： | AN39: ～
I40: 様 | AC40: 平成 | AF40: 年 | AH40: 月 | AJ40: 日 | AL40: ： | AN40: ～
I41: 様 | AC41: 平成 | AF41: 年 | AH41: 月 | AJ41: 日 | AL41: ： | AN41: ～
I42: 様 | AC42: 平成 | AF42: 年 | AH42: 月 | AJ42: 日 | AL42: ： | AN42: ～
I43: 様 | AC43: 平成 | AF43: 年 | AH43: 月 | AJ43: 日 | AL43: ： | AN43: ～
...

Sheet 6
A1: ソーシャルワーカー室 業務日誌 | AH1: C.O.O | AL1: I.O.O | AP1: Ａ.Ｏ.Ｍ
H3: =曜日!B12 -> 令和2年 | M3: =曜日!C12 -> 6月 | P3: 6日 | S3: （ | T3: =曜日!D8 -> 土 | U3: ） | W3: 作成者 | Z3: ： | AA3: 小屋敷 千瑛
A5: 労務 状況 | D5: 勤務状況 | K5: 西舘 翔子 | P5: 日勤 | T5: 小屋敷 千瑛 | Y5: 日勤 | AC5: 大川 祥子 | AH5: 公休
A7: 入退院 状況 | D7: 入院形態 | K7: 東病棟 | Q7: 西病棟 | W7: 北病棟 | AC7: 南病棟 | AI7: 合計 | AO7: 総数
K8: 男性 | N8: 女性 | Q8: 男性 | T8: 女性 | W8: 男性 | Z8: 女性 | AC8: 男性 | AF8: 女性 | AI8: 男性 | AL8: 女性
D9: 任意入院 | K9: 3 | N9: 6 | Q9: 6 | T9: 7 | W9: 23 | Z9: 11 | AC9: 1 | AF9: 3 | AI9: =K9+Q9+W9+AC9 -> 33 | AL9: =N9+T9+Z9+AF9 -> 27 | AO9: =AI13 -> 190
D10: 医療保護入院 | K10: 26 | N10: 15 | Q10: 16 | T10: 15 | W10: 0 | Z10: 0 | AC10: 31 | AF10: 25 | AI10: =K10+Q10+W10+AC10 -> 73 | AL10: =N10+T10+Z10+AF10 -> 55
D11: 措置入院 | K11: 2 | N11: 0 | Q11: 0 | T11: 0 | W11: 0 | Z11: 0 | AC11: 0 | AF11: 0 | AI11: =K11+Q11+W11+AC11 -> 2 | AL11: =N11+T11+Z11+AF11 -> 0
D12: 合計 | K12: =K9+K10+K11 -> 31 | N12: =N9+N10+N11 -> 21 | Q12: =Q9+Q10+Q11 -> 22 | T12: =SUM(T9:V11) -> 22 | W12: =SUM(W9:Y11) -> 23 | Z12: =SUM(Z9:AB11) -> 11 | AC12: =SUM(AC9:AE11) -> 32 | AF12: =SUM(AF9:AH11) -> 28 | AI12: =SUM(K12+Q12+W12+AC12) -> 108 | AL12: =SUM(N12+T12+Z12+AF12) -> 82 | AO12: 人
K13: =K12+N12 -> 52 | Q13: =Q12+T12 -> 44 | W13: =W12+Z12 -> 34 | AC13: =AC12+AF12 -> 60 | AI13: =AI12+AL12 -> 190
F14: 患者様氏名 | N14: 入院形態 | T14: 担当Dr | Y14: 担当SW | AD14: 病棟 | AJ14: 備考欄
D15: 入院 | F15: 村山 吾朗 | L15: 様 | N15: 措置入院 | T15: 深澤隆Dr | Y15: 西舘 翔子 | AD15: 東A | AJ15: 診察：今川Dr
L16: 様
L17: 様
L18: 様
L19: 様
D20: 退院 | L20: 様
L21: 様
L22: 様
L23: 様
L24: 様
D25: 転棟 ･ 入院形態変更 | F25: 佐藤 國雄 | L25: 様 | N25: 医療保護入院 | T25: 深澤隆Dr | Y25: 大川 祥子 | AD25: 東C→南C
L26: 様
L27: 様
L28: 様
L29: 様
A30: 患者様 関連 | D30: 患者様氏名 | K30: 担当Dr | P30: 病棟 | S30: 制限内容 | X30: 制限時間 | AC30: 開始日時 | AO30: 備考
D31: 立花 圭 | I31: 様 | K31: 田名部茂Dr | P31: 東A | S31: 時間隔離 | X31: 時間隔離 | AC31: 令和 | AE31: 1 | AF31: 年 | AG31: 9 | AH31: 月 | AI31: 25 | AJ31: 日 | AL31: ： | AN31: ～
D32: 宮崎 宏之 | I32: 様 | K32: 馬渡晃弘Dr | P32: 東A | S32: 終日隔離 | X32: 終日隔離 | AC32: 令和 | AE32: 2 | AF32: 年 | AG32: 5 | AH32: 月 | AI32: 23 | AJ32: 日 | AL32: ： | AN32: ～
D33: 袴田 将志 | I33: 様 | K33: 田名部茂Dr | P33: 東A | S33: 終日隔離 | X33: 終日隔離 | AC33: 令和 | AE33: 2 | AF33: 年 | AG33: 6 | AH33: 月 | AI33: 2 | AJ33: 日 | AL33: ： | AN33: ～
D34: 村山 吾朗 | I34: 様 | K34: 深澤隆Dr | P34: 東A | S34: 終日隔離 | X34: 終日隔離 | AC34: 令和 | AE34: 2 | AF34: 年 | AG34: 6 | AH34: 月 | AI34: 8 | AJ34: 日 | AL34: ： | AN34: ～ | AO34: 開始
I35: 様 | AC35: 平成 | AF35: 年 | AH35: 月 | AJ35: 日 | AL35: ： | AN35: ～
I36: 様 | AC36: 平成 | AF36: 年 | AH36: 月 | AJ36: 日 | AL36: ： | AN36: ～
I37: 様 | AC37: 平成 | AF37: 年 | AH37: 月 | AJ37: 日 | AL37: ： | AN37: ～
I38: 様 | AC38: 平成 | AF38: 年 | AH38: 月 | AJ38: 日 | AL38: ： | AN38: ～
I39: 様 | AC39: 平成 | AF39: 年 | AH39: 月 | AJ39: 日 | AL39: ： | AN39: ～
I40: 様 | AC40: 平成 | AF40: 年 | AH40: 月 | AJ40: 日 | AL40: ： | AN40: ～
I41: 様 | AC41: 平成 | AF41: 年 | AH41: 月 | AJ41: 日 | AL41: ： | AN41: ～
I42: 様 | AC42: 平成 | AF42: 年 | AH42: 月 | AJ42: 日 | AL42: ： | AN42: ～
I43: 様 | AC43: 平成 | AF43: 年 | AH43: 月 | AJ43: 日 | AL43: ： | AN43: ～
...

Sheet 7
A1: ソーシャルワーカー室 業務日誌 | AH1: C.O.O | AL1: I.O.O | AP1: Ａ.Ｏ.Ｍ
H3: =曜日!B12 -> 令和2年 | M3: =曜日!C12 -> 6月 | P3: 7日 | S3: （ | T3: =曜日!D9 -> 日 | U3: ） | W3: 作成者 | Z3: ： | AA3: 小屋敷 千瑛
A5: 労務 状況 | D5: 勤務状況 | K5: 西舘 翔子 | P5: 公休 | T5: 小屋敷 千瑛 | Y5: 公休 | AC5: 大川 祥子 | AH5: 公休
A7: 入退院 状況 | D7: 入院形態 | K7: 東病棟 | Q7: 西病棟 | W7: 北病棟 | AC7: 南病棟 | AI7: 合計 | AO7: 総数
K8: 男性 | N8: 女性 | Q8: 男性 | T8: 女性 | W8: 男性 | Z8: 女性 | AC8: 男性 | AF8: 女性 | AI8: 男性 | AL8: 女性
D9: 任意入院 | K9: 3 | N9: 6 | Q9: 6 | T9: 7 | W9: 23 | Z9: 11 | AC9: 1 | AF9: 3 | AI9: =K9+Q9+W9+AC9 -> 33 | AL9: =N9+T9+Z9+AF9 -> 27 | AO9: =AI13 -> 189
D10: 医療保護入院 | K10: 25 | N10: 15 | Q10: 16 | T10: 15 | W10: 0 | Z10: 0 | AC10: 31 | AF10: 25 | AI10: =K10+Q10+W10+AC10 -> 72 | AL10: =N10+T10+Z10+AF10 -> 55
D11: 措置入院 | K11: 2 | N11: 0 | Q11: 0 | T11: 0 | W11: 0 | Z11: 0 | AC11: 0 | AF11: 0 | AI11: =K11+Q11+W11+AC11 -> 2 | AL11: =N11+T11+Z11+AF11 -> 0
D12: 合計 | K12: =K9+K10+K11 -> 30 | N12: =N9+N10+N11 -> 21 | Q12: =Q9+Q10+Q11 -> 22 | T12: =SUM(T9:V11) -> 22 | W12: =SUM(W9:Y11) -> 23 | Z12: =SUM(Z9:AB11) -> 11 | AC12: =SUM(AC9:AE11) -> 32 | AF12: =SUM(AF9:AH11) -> 28 | AI12: =SUM(K12+Q12+W12+AC12) -> 107 | AL12: =SUM(N12+T12+Z12+AF12) -> 82 | AO12: 人
K13: =K12+N12 -> 51 | Q13: =Q12+T12 -> 44 | W13: =W12+Z12 -> 34 | AC13: =AC12+AF12 -> 60 | AI13: =AI12+AL12 -> 189
F14: 患者様氏名 | N14: 入院形態 | T14: 担当Dr | Y14: 担当SW | AD14: 病棟 | AJ14: 備考欄
D15: 入院 | L15: 様
L16: 様
L17: 様
L18: 様
L19: 様
D20: 退院 | F20: 鹿島 亀男 | L20: 様 | N20: 医療保護入院 | T20: 田名部茂Dr | Y20: 大川 祥子 | AD20: 東合
L21: 様
L22: 様
L23: 様
L24: 様
D25: 転棟 ･ 入院形態変更 | L25: 様
L26: 様
L27: 様
L28: 様
L29: 様
A30: 患者様 関連 | D30: 患者様氏名 | K30: 担当Dr | P30: 病棟 | S30: 制限内容 | X30: 制限時間 | AC30: 開始日時 | AO30: 備考
D31: 立花 圭 | I31: 様 | K31: 田名部茂Dr | P31: 東A | S31: 時間隔離 | X31: 時間隔離 | AC31: 令和 | AE31: 1 | AF31: 年 | AG31: 9 | AH31: 月 | AI31: 25 | AJ31: 日 | AL31: ： | AN31: ～
D32: 宮崎 宏之 | I32: 様 | K32: 馬渡晃弘Dr | P32: 東A | S32: 終日隔離 | X32: 終日隔離 | AC32: 令和 | AE32: 2 | AF32: 年 | AG32: 5 | AH32: 月 | AI32: 23 | AJ32: 日 | AL32: ： | AN32: ～
D33: 袴田 将志 | I33: 様 | K33: 田名部茂Dr | P33: 東A | S33: 終日隔離 | X33: 終日隔離 | AC33: 令和 | AE33: 2 | AF33: 年 | AG33: 6 | AH33: 月 | AI33: 2 | AJ33: 日 | AL33: ： | AN33: ～
D34: 村山 吾朗 | I34: 様 | K34: 深澤隆Dr | P34: 東A | S34: 終日隔離 | X34: 終日隔離 | AC34: 令和 | AE34: 2 | AF34: 年 | AG34: 6 | AH34: 月 | AI34: 8 | AJ34: 日 | AL34: ： | AN34: ～
I35: 様 | AC35: 平成 | AF35: 年 | AH35: 月 | AJ35: 日 | AL35: ： | AN35: ～
I36: 様 | AC36: 平成 | AF36: 年 | AH36: 月 | AJ36: 日 | AL36: ： | AN36: ～
I37: 様 | AC37: 平成 | AF37: 年 | AH37: 月 | AJ37: 日 | AL37: ： | AN37: ～
I38: 様 | AC38: 平成 | AF38: 年 | AH38: 月 | AJ38: 日 | AL38: ： | AN38: ～
I39: 様 | AC39: 平成 | AF39: 年 | AH39: 月 | AJ39: 日 | AL39: ： | AN39: ～
I40: 様 | AC40: 平成 | AF40: 年 | AH40: 月 | AJ40: 日 | AL40: ： | AN40: ～
I41: 様 | AC41: 平成 | AF41: 年 | AH41: 月 | AJ41: 日 | AL41: ： | AN41: ～
I42: 様 | AC42: 平成 | AF42: 年 | AH42: 月 | AJ42: 日 | AL42: ： | AN42: ～
I43: 様 | AC43: 平成 | AF43: 年 | AH43: 月 | AJ43: 日 | AL43: ： | AN43: ～
...

Sheet 8
A1: ソーシャルワーカー室 業務日誌 | AH1: C.O.O | AL1: I.O.O | AP1: Ａ.Ｏ.Ｍ
H3: =曜日!B12 -> 令和2年 | M3: =曜日!C12 -> 6月 | P3: 8日 | S3: （ | T3: =曜日!D3 -> 月 | U3: ） | W3: 作成者 | Z3: ： | AA3: 西舘 翔子
A5: 労務 状況 | D5: 勤務状況 | K5: 西舘 翔子 | P5: 日勤 | T5: 小屋敷 千瑛 | Y5: 日勤 | AC5: 大川 祥子 | AH5: 有給
A7: 入退院 状況 | D7: 入院形態 | K7: 東病棟 | Q7: 西病棟 | W7: 北病棟 | AC7: 南病棟 | AI7: 合計 | AO7: 総数
K8: 男性 | N8: 女性 | Q8: 男性 | T8: 女性 | W8: 男性 | Z8: 女性 | AC8: 男性 | AF8: 女性 | AI8: 男性 | AL8: 女性
D9: 任意入院 | K9: 3 | N9: 6 | Q9: 6 | T9: 7 | W9: 23 | Z9: 11 | AC9: 1 | AF9: 3 | AI9: =K9+Q9+W9+AC9 -> 33 | AL9: =N9+T9+Z9+AF9 -> 27 | AO9: =AI13 -> 189
D10: 医療保護入院 | K10: 25 | N10: 15 | Q10: 16 | T10: 15 | W10: 0 | Z10: 0 | AC10: 31 | AF10: 25 | AI10: =K10+Q10+W10+AC10 -> 72 | AL10: =N10+T10+Z10+AF10 -> 55
D11: 措置入院 | K11: 2 | N11: 0 | Q11: 0 | T11: 0 | W11: 0 | Z11: 0 | AC11: 0 | AF11: 0 | AI11: =K11+Q11+W11+AC11 -> 2 | AL11: =N11+T11+Z11+AF11 -> 0
D12: 合計 | K12: =K9+K10+K11 -> 30 | N12: =N9+N10+N11 -> 21 | Q12: =Q9+Q10+Q11 -> 22 | T12: =SUM(T9:V11) -> 22 | W12: =SUM(W9:Y11) -> 23 | Z12: =SUM(Z9:AB11) -> 11 | AC12: =SUM(AC9:AE11) -> 32 | AF12: =SUM(AF9:AH11) -> 28 | AI12: =SUM(K12+Q12+W12+AC12) -> 107 | AL12: =SUM(N12+T12+Z12+AF12) -> 82 | AO12: 人
K13: =K12+N12 -> 51 | Q13: =Q12+T12 -> 44 | W13: =W12+Z12 -> 34 | AC13: =AC12+AF12 -> 60 | AI13: =AI12+AL12 -> 189
F14: 患者様氏名 | N14: 入院形態 | T14: 担当Dr | Y14: 担当SW | AD14: 病棟 | AJ14: 備考欄
D15: 入院 | L15: 様
L16: 様
L17: 様
L18: 様
L19: 様
D20: 退院 | L20: 様
L21: 様
L22: 様
L23: 様
L24: 様
D25: 転棟 ･ 入院形態変更 | L25: 様
L26: 様
L27: 様
L28: 様
L29: 様
A30: 患者様 関連 | D30: 患者様氏名 | K30: 担当Dr | P30: 病棟 | S30: 制限内容 | X30: 制限時間 | AC30: 開始日時 | AO30: 備考
D31: 立花 圭 | I31: 様 | K31: 田名部茂Dr | P31: 東A | S31: 時間隔離 | X31: 時間隔離 | AC31: 令和 | AE31: 1 | AF31: 年 | AG31: 9 | AH31: 月 | AI31: 25 | AJ31: 日 | AL31: ： | AN31: ～
D32: 宮崎 宏之 | I32: 様 | K32: 馬渡晃弘Dr | P32: 東A | S32: 終日隔離 | X32: 終日隔離 | AC32: 令和 | AE32: 2 | AF32: 年 | AG32: 5 | AH32: 月 | AI32: 23 | AJ32: 日 | AL32: ： | AN32: ～
D33: 袴田 将志 | I33: 様 | K33: 田名部茂Dr | P33: 東A | S33: 終日隔離 | X33: 終日隔離 | AC33: 令和 | AE33: 2 | AF33: 年 | AG33: 6 | AH33: 月 | AI33: 2 | AJ33: 日 | AL33: ： | AN33: ～
D34: 村山 吾朗 | I34: 様 | K34: 深澤隆Dr | P34: 東A | S34: 終日隔離 | X34: 終日隔離 | AC34: 令和 | AE34: 2 | AF34: 年 | AG34: 6 | AH34: 月 | AI34: 8 | AJ34: 日 | AL34: ： | AN34: ～
I35: 様 | AC35: 平成 | AF35: 年 | AH35: 月 | AJ35: 日 | AL35: ： | AN35: ～
I36: 様 | AC36: 平成 | AF36: 年 | AH36: 月 | AJ36: 日 | AL36: ： | AN36: ～
I37: 様 | AC37: 平成 | AF37: 年 | AH37: 月 | AJ37: 日 | AL37: ： | AN37: ～
I38: 様 | AC38: 平成 | AF38: 年 | AH38: 月 | AJ38: 日 | AL38: ： | AN38: ～
I39: 様 | AC39: 平成 | AF39: 年 | AH39: 月 | AJ39: 日 | AL39: ： | AN39: ～
I40: 様 | AC40: 平成 | AF40: 年 | AH40: 月 | AJ40: 日 | AL40: ： | AN40: ～
I41: 様 | AC41: 平成 | AF41: 年 | AH41: 月 | AJ41: 日 | AL41: ： | AN41: ～
I42: 様 | AC42: 平成 | AF42: 年 | AH42: 月 | AJ42: 日 | AL42: ： | AN42: ～
I43: 様 | AC43: 平成 | AF43: 年 | AH43: 月 | AJ43: 日 | AL43: ： | AN43: ～
...

Sheet 9
A1: ソーシャルワーカー室 業務日誌 | AH1: C.O.O | AL1: I.O.O | AP1: Ａ.Ｏ.Ｍ
H3: =曜日!B12 -> 令和2年 | M3: =曜日!C12 -> 6月 | P3: 9日 | S3: （ | T3: =曜日!D4 -> 火 | U3: ） | W3: 作成者 | Z3: ： | AA3: 西舘 翔子
A5: 労務 状況 | D5: 勤務状況 | K5: 西舘 翔子 | P5: 日勤 | T5: 小屋敷 千瑛 | Y5: 日勤 | AC5: 大川 祥子 | AH5: 日勤
A7: 入退院 状況 | D7: 入院形態 | K7: 東病棟 | Q7: 西病棟 | W7: 北病棟 | AC7: 南病棟 | AI7: 合計 | AO7: 総数
K8: 男性 | N8: 女性 | Q8: 男性 | T8: 女性 | W8: 男性 | Z8: 女性 | AC8: 男性 | AF8: 女性 | AI8: 男性 | AL8: 女性
D9: 任意入院 | K9: 3 | N9: 6 | Q9: 6 | T9: 7 | W9: 23 | Z9: 11 | AC9: 1 | AF9: 3 | AI9: =K9+Q9+W9+AC9 -> 33 | AL9: =N9+T9+Z9+AF9 -> 27 | AO9: =AI13 -> 189
D10: 医療保護入院 | K10: 25 | N10: 15 | Q10: 16 | T10: 15 | W10: 0 | Z10: 0 | AC10: 31 | AF10: 25 | AI10: =K10+Q10+W10+AC10 -> 72 | AL10: =N10+T10+Z10+AF10 -> 55
D11: 措置入院 | K11: 2 | N11: 0 | Q11: 0 | T11: 0 | W11: 0 | Z11: 0 | AC11: 0 | AF11: 0 | AI11: =K11+Q11+W11+AC11 -> 2 | AL11: =N11+T11+Z11+AF11 -> 0
D12: 合計 | K12: =K9+K10+K11 -> 30 | N12: =N9+N10+N11 -> 21 | Q12: =Q9+Q10+Q11 -> 22 | T12: =SUM(T9:V11) -> 22 | W12: =SUM(W9:Y11) -> 23 | Z12: =SUM(Z9:AB11) -> 11 | AC12: =SUM(AC9:AE11) -> 32 | AF12: =SUM(AF9:AH11) -> 28 | AI12: =SUM(K12+Q12+W12+AC12) -> 107 | AL12: =SUM(N12+T12+Z12+AF12) -> 82 | AO12: 人
K13: =K12+N12 -> 51 | Q13: =Q12+T12 -> 44 | W13: =W12+Z12 -> 34 | AC13: =AC12+AF12 -> 60 | AI13: =AI12+AL12 -> 189
F14: 患者様氏名 | N14: 入院形態 | T14: 担当Dr | Y14: 担当SW | AD14: 病棟 | AJ14: 備考欄
D15: 入院 | L15: 様
L16: 様
L17: 様
L18: 様
L19: 様
D20: 退院 | L20: 様
L21: 様
L22: 様
L23: 様
L24: 様
D25: 転棟 ･ 入院形態変更 | L25: 様
L26: 様
L27: 様
L28: 様
L29: 様
A30: 患者様 関連 | D30: 患者様氏名 | K30: 担当Dr | P30: 病棟 | S30: 制限内容 | X30: 制限時間 | AC30: 開始日時 | AO30: 備考
D31: 立花 圭 | I31: 様 | K31: 田名部茂Dr | P31: 東A | S31: 時間隔離 | X31: 時間隔離 | AC31: 令和 | AE31: 1 | AF31: 年 | AG31: 9 | AH31: 月 | AI31: 25 | AJ31: 日 | AL31: ： | AN31: ～
D32: 宮崎 宏之 | I32: 様 | K32: 馬渡晃弘Dr | P32: 東A | S32: 終日隔離 | X32: 終日隔離 | AC32: 令和 | AE32: 2 | AF32: 年 | AG32: 5 | AH32: 月 | AI32: 23 | AJ32: 日 | AL32: ： | AN32: ～
D33: 袴田 将志 | I33: 様 | K33: 田名部茂Dr | P33: 東A | S33: 終日隔離 | X33: 終日隔離 | AC33: 令和 | AE33: 2 | AF33: 年 | AG33: 6 | AH33: 月 | AI33: 2 | AJ33: 日 | AL33: ： | AN33: ～
D34: 村山 吾朗 | I34: 様 | K34: 深澤隆Dr | P34: 東A | S34: 終日隔離 | X34: 終日隔離 | AC34: 令和 | AE34: 2 | AF34: 年 | AG34: 6 | AH34: 月 | AI34: 8 | AJ34: 日 | AL34: ： | AN34: ～
I35: 様 | AC35: 平成 | AF35: 年 | AH35: 月 | AJ35: 日 | AL35: ： | AN35: ～
I36: 様 | AC36: 平成 | AF36: 年 | AH36: 月 | AJ36: 日 | AL36: ： | AN36: ～
I37: 様 | AC37: 平成 | AF37: 年 | AH37: 月 | AJ37: 日 | AL37: ： | AN37: ～
I38: 様 | AC38: 平成 | AF38: 年 | AH38: 月 | AJ38: 日 | AL38: ： | AN38: ～
I39: 様 | AC39: 平成 | AF39: 年 | AH39: 月 | AJ39: 日 | AL39: ： | AN39: ～
I40: 様 | AC40: 平成 | AF40: 年 | AH40: 月 | AJ40: 日 | AL40: ： | AN40: ～
I41: 様 | AC41: 平成 | AF41: 年 | AH41: 月 | AJ41: 日 | AL41: ： | AN41: ～
I42: 様 | AC42: 平成 | AF42: 年 | AH42: 月 | AJ42: 日 | AL42: ： | AN42: ～
I43: 様 | AC43: 平成 | AF43: 年 | AH43: 月 | AJ43: 日 | AL43: ： | AN43: ～
...

Sheet 10
A1: ソーシャルワーカー室 業務日誌 | AH1: C.O.O | AL1: I.O.O | AP1: Ａ.Ｏ.Ｍ
H3: =曜日!B12 -> 令和2年 | M3: =曜日!C12 -> 6月 | P3: 10日 | S3: （ | T3: =曜日!D5 -> 水 | U3: ） | W3: 作成者 | Z3: ： | AA3: 西舘 翔子
A5: 労務 状況 | D5: 勤務状況 | K5: 西舘 翔子 | P5: 日勤 | T5: 小屋敷 千瑛 | Y5: 日勤 | AC5: 大川 祥子 | AH5: 日勤
A7: 入退院 状況 | D7: 入院形態 | K7: 東病棟 | Q7: 西病棟 | W7: 北病棟 | AC7: 南病棟 | AI7: 合計 | AO7: 総数
K8: 男性 | N8: 女性 | Q8: 男性 | T8: 女性 | W8: 男性 | Z8: 女性 | AC8: 男性 | AF8: 女性 | AI8: 男性 | AL8: 女性
D9: 任意入院 | K9: 3 | N9: 6 | Q9: 5 | T9: 7 | W9: 23 | Z9: 11 | AC9: 1 | AF9: 3 | AI9: =K9+Q9+W9+AC9 -> 32 | AL9: =N9+T9+Z9+AF9 -> 27 | AO9: =AI13 -> 188
D10: 医療保護入院 | K10: 25 | N10: 14 | Q10: 16 | T10: 16 | W10: 0 | Z10: 0 | AC10: 31 | AF10: 25 | AI10: =K10+Q10+W10+AC10 -> 72 | AL10: =N10+T10+Z10+AF10 -> 55
D11: 措置入院 | K11: 2 | N11: 0 | Q11: 0 | T11: 0 | W11: 0 | Z11: 0 | AC11: 0 | AF11: 0 | AI11: =K11+Q11+W11+AC11 -> 2 | AL11: =N11+T11+Z11+AF11 -> 0
D12: 合計 | K12: =K9+K10+K11 -> 30 | N12: =N9+N10+N11 -> 20 | Q12: =Q9+Q10+Q11 -> 21 | T12: =SUM(T9:V11) -> 23 | W12: =SUM(W9:Y11) -> 23 | Z12: =SUM(Z9:AB11) -> 11 | AC12: =SUM(AC9:AE11) -> 32 | AF12: =SUM(AF9:AH11) -> 28 | AI12: =SUM(K12+Q12+W12+AC12) -> 106 | AL12: =SUM(N12+T12+Z12+AF12) -> 82 | AO12: 人
K13: =K12+N12 -> 50 | Q13: =Q12+T12 -> 44 | W13: =W12+Z12 -> 34 | AC13: =AC12+AF12 -> 60 | AI13: =AI12+AL12 -> 188
F14: 患者様氏名 | N14: 入院形態 | T14: 担当Dr | Y14: 担当SW | AD14: 病棟 | AJ14: 備考欄
D15: 入院 | L15: 様
L16: 様
L17: 様
L18: 様
L19: 様
D20: 退院 | F20: 髙山 英佐 | L20: 様 | N20: 任意入院 | T20: 深澤隆Dr | Y20: 小屋敷 千瑛 | AD20: 西A
L21: 様
L22: 様
L23: 様
L24: 様
D25: 転棟 ･ 入院形態変更 | F25: 沼山 真紀子 | L25: 様 | N25: 医療保護入院 | T25: 金泰德Dr | Y25: 西舘 翔子 | AD25: 東B→西B
L26: 様
L27: 様
L28: 様
L29: 様
A30: 患者様 関連 | D30: 患者様氏名 | K30: 担当Dr | P30: 病棟 | S30: 制限内容 | X30: 制限時間 | AC30: 開始日時 | AO30: 備考
D31: 立花 圭 | I31: 様 | K31: 田名部茂Dr | P31: 東A | S31: 時間隔離 | X31: 時間隔離 | AC31: 令和 | AE31: 1 | AF31: 年 | AG31: 9 | AH31: 月 | AI31: 25 | AJ31: 日 | AL31: ： | AN31: ～
D32: 宮崎 宏之 | I32: 様 | K32: 馬渡晃弘Dr | P32: 東A | S32: 終日隔離 | X32: 終日隔離 | AC32: 令和 | AE32: 2 | AF32: 年 | AG32: 5 | AH32: 月 | AI32: 23 | AJ32: 日 | AL32: ： | AN32: ～
D33: 袴田 将志 | I33: 様 | K33: 田名部茂Dr | P33: 東A | S33: 終日隔離 | X33: 終日隔離 | AC33: 令和 | AE33: 2 | AF33: 年 | AG33: 6 | AH33: 月 | AI33: 2 | AJ33: 日 | AL33: ： | AN33: ～
D34: 村山 吾朗 | I34: 様 | K34: 深澤隆Dr | P34: 東A | S34: 終日隔離 | X34: 終日隔離 | AC34: 令和 | AE34: 2 | AF34: 年 | AG34: 6 | AH34: 月 | AI34: 8 | AJ34: 日 | AL34: ： | AN34: ～
I35: 様 | AC35: 平成 | AF35: 年 | AH35: 月 | AJ35: 日 | AL35: ： | AN35: ～
I36: 様 | AC36: 平成 | AF36: 年 | AH36: 月 | AJ36: 日 | AL36: ： | AN36: ～
I37: 様 | AC37: 平成 | AF37: 年 | AH37: 月 | AJ37: 日 | AL37: ： | AN37: ～
I38: 様 | AC38: 平成 | AF38: 年 | AH38: 月 | AJ38: 日 | AL38: ： | AN38: ～
I39: 様 | AC39: 平成 | AF39: 年 | AH39: 月 | AJ39: 日 | AL39: ： | AN39: ～
I40: 様 | AC40: 平成 | AF40: 年 | AH40: 月 | AJ40: 日 | AL40: ： | AN40: ～
I41: 様 | AC41: 平成 | AF41: 年 | AH41: 月 | AJ41: 日 | AL41: ： | AN41: ～
I42: 様 | AC42: 平成 | AF42: 年 | AH42: 月 | AJ42: 日 | AL42: ： | AN42: ～
I43: 様 | AC43: 平成 | AF43: 年 | AH43: 月 | AJ43: 日 | AL43: ： | AN43: ～
...

Sheet 11
A1: ソーシャルワーカー室 業務日誌 | AH1: C.O.O | AL1: I.O.O | AP1: Ａ.Ｏ.Ｍ
H3: =曜日!B12 -> 令和2年 | M3: =曜日!C12 -> 6月 | P3: 11日 | S3: （ | T3: =曜日!D6 -> 木 | U3: ） | W3: 作成者 | Z3: ： | AA3: 西舘 翔子
A5: 労務 状況 | D5: 勤務状況 | K5: 西舘 翔子 | P5: 日勤 | T5: 小屋敷 千瑛 | Y5: 日勤 | AC5: 大川 祥子 | AH5: 日勤
A7: 入退院 状況 | D7: 入院形態 | K7: 東病棟 | Q7: 西病棟 | W7: 北病棟 | AC7: 南病棟 | AI7: 合計 | AO7: 総数
K8: 男性 | N8: 女性 | Q8: 男性 | T8: 女性 | W8: 男性 | Z8: 女性 | AC8: 男性 | AF8: 女性 | AI8: 男性 | AL8: 女性
D9: 任意入院 | K9: 3 | N9: 6 | Q9: 5 | T9: 7 | W9: 23 | Z9: 11 | AC9: 1 | AF9: 3 | AI9: =K9+Q9+W9+AC9 -> 32 | AL9: =N9+T9+Z9+AF9 -> 27 | AO9: =AI13 -> 187
D10: 医療保護入院 | K10: 25 | N10: 13 | Q10: 16 | T10: 16 | W10: 0 | Z10: 0 | AC10: 30 | AF10: 26 | AI10: =K10+Q10+W10+AC10 -> 71 | AL10: =N10+T10+Z10+AF10 -> 55
D11: 措置入院 | K11: 2 | N11: 0 | Q11: 0 | T11: 0 | W11: 0 | Z11: 0 | AC11: 0 | AF11: 0 | AI11: =K11+Q11+W11+AC11 -> 2 | AL11: =N11+T11+Z11+AF11 -> 0
D12: 合計 | K12: =K9+K10+K11 -> 30 | N12: =N9+N10+N11 -> 19 | Q12: =Q9+Q10+Q11 -> 21 | T12: =SUM(T9:V11) -> 23 | W12: =SUM(W9:Y11) -> 23 | Z12: =SUM(Z9:AB11) -> 11 | AC12: =SUM(AC9:AE11) -> 31 | AF12: =SUM(AF9:AH11) -> 29 | AI12: =SUM(K12+Q12+W12+AC12) -> 105 | AL12: =SUM(N12+T12+Z12+AF12) -> 82 | AO12: 人
K13: =K12+N12 -> 49 | Q13: =Q12+T12 -> 44 | W13: =W12+Z12 -> 34 | AC13: =AC12+AF12 -> 60 | AI13: =AI12+AL12 -> 187
F14: 患者様氏名 | N14: 入院形態 | T14: 担当Dr | Y14: 担当SW | AD14: 病棟 | AJ14: 備考欄
D15: 入院 | L15: 様
L16: 様
L17: 様
L18: 様
L19: 様
D20: 退院 | F20: 稲村 留吉 | L20: 様 | N20: 医療保護入院 | T20: 馬渡晃弘Dr | Y20: 大川 祥子 | AD20: 南C
L21: 様
L22: 様
L23: 様
L24: 様
D25: 転棟 ･ 入院形態変更 | F25: 吉田 レイ子 | L25: 様 | N25: 医療保護入院 | T25: 深澤隆Dr | Y25: 大川 祥子 | AD25: 東B→南B
L26: 様
L27: 様
L28: 様
L29: 様
A30: 患者様 関連 | D30: 患者様氏名 | K30: 担当Dr | P30: 病棟 | S30: 制限内容 | X30: 制限時間 | AC30: 開始日時 | AO30: 備考
D31: 立花 圭 | I31: 様 | K31: 田名部茂Dr | P31: 東A | S31: 時間隔離 | X31: 時間隔離 | AC31: 令和 | AE31: 1 | AF31: 年 | AG31: 9 | AH31: 月 | AI31: 25 | AJ31: 日 | AL31: ： | AN31: ～
D32: 宮崎 宏之 | I32: 様 | K32: 馬渡晃弘Dr | P32: 東A | S32: 終日隔離 | X32: 終日隔離 | AC32: 令和 | AE32: 2 | AF32: 年 | AG32: 5 | AH32: 月 | AI32: 23 | AJ32: 日 | AL32: ： | AN32: ～
D33: 袴田 将志 | I33: 様 | K33: 田名部茂Dr | P33: 東A | S33: 終日隔離 | X33: 終日隔離 | AC33: 令和 | AE33: 2 | AF33: 年 | AG33: 6 | AH33: 月 | AI33: 2 | AJ33: 日 | AL33: ： | AN33: ～
D34: 村山 吾朗 | I34: 様 | K34: 深澤隆Dr | P34: 東A | S34: 終日隔離 | X34: 終日隔離 | AC34: 令和 | AE34: 2 | AF34: 年 | AG34: 6 | AH34: 月 | AI34: 8 | AJ34: 日 | AL34: ： | AN34: ～
I35: 様 | AC35: 平成 | AF35: 年 | AH35: 月 | AJ35: 日 | AL35: ： | AN35: ～
I36: 様 | AC36: 平成 | AF36: 年 | AH36: 月 | AJ36: 日 | AL36: ： | AN36: ～
I37: 様 | AC37: 平成 | AF37: 年 | AH37: 月 | AJ37: 日 | AL37: ： | AN37: ～
I38: 様 | AC38: 平成 | AF38: 年 | AH38: 月 | AJ38: 日 | AL38: ： | AN38: ～
I39: 様 | AC39: 平成 | AF39: 年 | AH39: 月 | AJ39: 日 | AL39: ： | AN39: ～
I40: 様 | AC40: 平成 | AF40: 年 | AH40: 月 | AJ40: 日 | AL40: ： | AN40: ～
I41: 様 | AC41: 平成 | AF41: 年 | AH41: 月 | AJ41: 日 | AL41: ： | AN41: ～
I42: 様 | AC42: 平成 | AF42: 年 | AH42: 月 | AJ42: 日 | AL42: ： | AN42: ～
I43: 様 | AC43: 平成 | AF43: 年 | AH43: 月 | AJ43: 日 | AL43: ： | AN43: ～
...

Sheet 12
A1: ソーシャルワーカー室 業務日誌 | AH1: C.O.O | AL1: I.O.O | AP1: Ａ.Ｏ.Ｍ
H3: =曜日!B12 -> 令和2年 | M3: =曜日!C12 -> 6月 | P3: 12日 | S3: （ | T3: =曜日!D7 -> 金 | U3: ） | W3: 作成者 | Z3: ： | AA3: 西舘 翔子
A5: 労務 状況 | D5: 勤務状況 | K5: 西舘 翔子 | P5: 日勤 | T5: 小屋敷 千瑛 | Y5: 日勤 | AC5: 大川 祥子 | AH5: 日勤
A7: 入退院 状況 | D7: 入院形態 | K7: 東病棟 | Q7: 西病棟 | W7: 北病棟 | AC7: 南病棟 | AI7: 合計 | AO7: 総数
K8: 男性 | N8: 女性 | Q8: 男性 | T8: 女性 | W8: 男性 | Z8: 女性 | AC8: 男性 | AF8: 女性 | AI8: 男性 | AL8: 女性
D9: 任意入院 | K9: 3 | N9: 6 | Q9: 5 | T9: 7 | W9: 23 | Z9: 11 | AC9: 1 | AF9: 3 | AI9: =K9+Q9+W9+AC9 -> 32 | AL9: =N9+T9+Z9+AF9 -> 27 | AO9: =AI13 -> 187
D10: 医療保護入院 | K10: 25 | N10: 13 | Q10: 16 | T10: 16 | W10: 0 | Z10: 0 | AC10: 29 | AF10: 27 | AI10: =K10+Q10+W10+AC10 -> 70 | AL10: =N10+T10+Z10+AF10 -> 56
D11: 措置入院 | K11: 2 | N11: 0 | Q11: 0 | T11: 0 | W11: 0 | Z11: 0 | AC11: 0 | AF11: 0 | AI11: =K11+Q11+W11+AC11 -> 2 | AL11: =N11+T11+Z11+AF11 -> 0
D12: 合計 | K12: =K9+K10+K11 -> 30 | N12: =N9+N10+N11 -> 19 | Q12: =Q9+Q10+Q11 -> 21 | T12: =SUM(T9:V11) -> 23 | W12: =SUM(W9:Y11) -> 23 | Z12: =SUM(Z9:AB11) -> 11 | AC12: =SUM(AC9:AE11) -> 30 | AF12: =SUM(AF9:AH11) -> 30 | AI12: =SUM(K12+Q12+W12+AC12) -> 104 | AL12: =SUM(N12+T12+Z12+AF12) -> 83 | AO12: 人
K13: =K12+N12 -> 49 | Q13: =Q12+T12 -> 44 | W13: =W12+Z12 -> 34 | AC13: =AC12+AF12 -> 60 | AI13: =AI12+AL12 -> 187
F14: 患者様氏名 | N14: 入院形態 | T14: 担当Dr | Y14: 担当SW | AD14: 病棟 | AJ14: 備考欄
D15: 入院 | F15: 飛鳥 サト | L15: 様 | N15: 医療保護入院 | T15: 馬渡晃弘Dr | Y15: 大川 祥子 | AD15: 東C
L16: 様
L17: 様
L18: 様
L19: 様
D20: 退院 | F20: 三輪 一浩 | L20: 様 | N20: 医療保護入院 | T20: 深澤隆Dr | Y20: 大川 祥子 | AD20: 南B
L21: 様
L22: 様
L23: 様
L24: 様
D25: 転棟 ･ 入院形態変更 | F25: 田中 トシヱ | L25: 様 | N25: 医療保護入院 | T25: 深澤隆Dr | Y25: 大川 祥子 | AD25: 東C→南A
L26: 様
L27: 様
L28: 様
L29: 様
A30: 患者様 関連 | D30: 患者様氏名 | K30: 担当Dr | P30: 病棟 | S30: 制限内容 | X30: 制限時間 | AC30: 開始日時 | AO30: 備考
D31: 立花 圭 | I31: 様 | K31: 田名部茂Dr | P31: 東A | S31: 時間隔離 | X31: 時間隔離 | AC31: 令和 | AE31: 1 | AF31: 年 | AG31: 9 | AH31: 月 | AI31: 25 | AJ31: 日 | AL31: ： | AN31: ～
D32: 宮崎 宏之 | I32: 様 | K32: 馬渡晃弘Dr | P32: 東A | S32: 終日隔離 | X32: 終日隔離 | AC32: 令和 | AE32: 2 | AF32: 年 | AG32: 5 | AH32: 月 | AI32: 23 | AJ32: 日 | AL32: ： | AN32: ～
D33: 袴田 将志 | I33: 様 | K33: 田名部茂Dr | P33: 東A | S33: 終日隔離 | X33: 終日隔離 | AC33: 令和 | AE33: 2 | AF33: 年 | AG33: 6 | AH33: 月 | AI33: 2 | AJ33: 日 | AL33: ： | AN33: ～
D34: 村山 吾朗 | I34: 様 | K34: 深澤隆Dr | P34: 東A | S34: 終日隔離 | X34: 終日隔離 | AC34: 令和 | AE34: 2 | AF34: 年 | AG34: 6 | AH34: 月 | AI34: 8 | AJ34: 日 | AL34: ： | AN34: ～
I35: 様 | AC35: 平成 | AF35: 年 | AH35: 月 | AJ35: 日 | AL35: ： | AN35: ～
I36: 様 | AC36: 平成 | AF36: 年 | AH36: 月 | AJ36: 日 | AL36: ： | AN36: ～
I37: 様 | AC37: 平成 | AF37: 年 | AH37: 月 | AJ37: 日 | AL37: ： | AN37: ～
I38: 様 | AC38: 平成 | AF38: 年 | AH38: 月 | AJ38: 日 | AL38: ： | AN38: ～
I39: 様 | AC39: 平成 | AF39: 年 | AH39: 月 | AJ39: 日 | AL39: ： | AN39: ～
I40: 様 | AC40: 平成 | AF40: 年 | AH40: 月 | AJ40: 日 | AL40: ： | AN40: ～
I41: 様 | AC41: 平成 | AF41: 年 | AH41: 月 | AJ41: 日 | AL41: ： | AN41: ～
I42: 様 | AC42: 平成 | AF42: 年 | AH42: 月 | AJ42: 日 | AL42: ： | AN42: ～
I43: 様 | AC43: 平成 | AF43: 年 | AH43: 月 | AJ43: 日 | AL43: ： | AN43: ～
...

Sheet 13
A1: ソーシャルワーカー室 業務日誌 | AH1: C.O.O | AL1: I.O.O | AP1: Ａ.Ｏ.Ｍ
H3: =曜日!B12 -> 令和2年 | M3: =曜日!C12 -> 6月 | P3: 13日 | S3: （ | T3: =曜日!D8 -> 土 | U3: ） | W3: 作成者 | Z3: ： | AA3: 小屋敷 千瑛
A5: 労務 状況 | D5: 勤務状況 | K5: 西舘 翔子 | P5: 公休 | T5: 小屋敷 千瑛 | Y5: 日勤 | AC5: 大川 祥子 | AH5: 公休
A7: 入退院 状況 | D7: 入院形態 | K7: 東病棟 | Q7: 西病棟 | W7: 北病棟 | AC7: 南病棟 | AI7: 合計 | AO7: 総数
K8: 男性 | N8: 女性 | Q8: 男性 | T8: 女性 | W8: 男性 | Z8: 女性 | AC8: 男性 | AF8: 女性 | AI8: 男性 | AL8: 女性
D9: 任意入院 | K9: 3 | N9: 6 | Q9: 5 | T9: 7 | W9: 23 | Z9: 11 | AC9: 1 | AF9: 3 | AI9: =K9+Q9+W9+AC9 -> 32 | AL9: =N9+T9+Z9+AF9 -> 27 | AO9: =AI13 -> 188
D10: 医療保護入院 | K10: 25 | N10: 14 | Q10: 16 | T10: 16 | W10: 0 | Z10: 0 | AC10: 29 | AF10: 27 | AI10: =K10+Q10+W10+AC10 -> 70 | AL10: =N10+T10+Z10+AF10 -> 57
D11: 措置入院 | K11: 2 | N11: 0 | Q11: 0 | T11: 0 | W11: 0 | Z11: 0 | AC11: 0 | AF11: 0 | AI11: =K11+Q11+W11+AC11 -> 2 | AL11: =N11+T11+Z11+AF11 -> 0
D12: 合計 | K12: =K9+K10+K11 -> 30 | N12: =N9+N10+N11 -> 20 | Q12: =Q9+Q10+Q11 -> 21 | T12: =SUM(T9:V11) -> 23 | W12: =SUM(W9:Y11) -> 23 | Z12: =SUM(Z9:AB11) -> 11 | AC12: =SUM(AC9:AE11) -> 30 | AF12: =SUM(AF9:AH11) -> 30 | AI12: =SUM(K12+Q12+W12+AC12) -> 104 | AL12: =SUM(N12+T12+Z12+AF12) -> 84 | AO12: 人
K13: =K12+N12 -> 50 | Q13: =Q12+T12 -> 44 | W13: =W12+Z12 -> 34 | AC13: =AC12+AF12 -> 60 | AI13: =AI12+AL12 -> 188
F14: 患者様氏名 | N14: 入院形態 | T14: 担当Dr | Y14: 担当SW | AD14: 病棟 | AJ14: 備考欄
D15: 入院 | F15: 坂上 典子 | L15: 様 | N15: 医療保護入院 | T15: 田名部茂Dr | Y15: 小屋敷 千瑛 | AD15: 東A | AJ15: 診察：馬渡Dr
L16: 様
L17: 様
L18: 様
L19: 様
D20: 退院 | L20: 様
L21: 様
L22: 様
L23: 様
L24: 様
D25: 転棟 ･ 入院形態変更 | L25: 様
L26: 様
L27: 様
L28: 様
L29: 様
A30: 患者様 関連 | D30: 患者様氏名 | K30: 担当Dr | P30: 病棟 | S30: 制限内容 | X30: 制限時間 | AC30: 開始日時 | AO30: 備考
D31: 立花 圭 | I31: 様 | K31: 田名部茂Dr | P31: 東A | S31: 時間隔離 | X31: 時間隔離 | AC31: 令和 | AE31: 1 | AF31: 年 | AG31: 9 | AH31: 月 | AI31: 25 | AJ31: 日 | AL31: ： | AN31: ～
D32: 宮崎 宏之 | I32: 様 | K32: 馬渡晃弘Dr | P32: 東A | S32: 終日隔離 | X32: 終日隔離 | AC32: 令和 | AE32: 2 | AF32: 年 | AG32: 5 | AH32: 月 | AI32: 23 | AJ32: 日 | AL32: ： | AN32: ～
D33: 袴田 将志 | I33: 様 | K33: 田名部茂Dr | P33: 東A | S33: 終日隔離 | X33: 終日隔離 | AC33: 令和 | AE33: 2 | AF33: 年 | AG33: 6 | AH33: 月 | AI33: 2 | AJ33: 日 | AL33: ： | AN33: ～
D34: 村山 吾朗 | I34: 様 | K34: 深澤隆Dr | P34: 東A | S34: 終日隔離 | X34: 終日隔離 | AC34: 令和 | AE34: 2 | AF34: 年 | AG34: 6 | AH34: 月 | AI34: 8 | AJ34: 日 | AL34: ： | AN34: ～
I35: 様 | AC35: 平成 | AF35: 年 | AH35: 月 | AJ35: 日 | AL35: ： | AN35: ～
I36: 様 | AC36: 平成 | AF36: 年 | AH36: 月 | AJ36: 日 | AL36: ： | AN36: ～
I37: 様 | AC37: 平成 | AF37: 年 | AH37: 月 | AJ37: 日 | AL37: ： | AN37: ～
I38: 様 | AC38: 平成 | AF38: 年 | AH38: 月 | AJ38: 日 | AL38: ： | AN38: ～
I39: 様 | AC39: 平成 | AF39: 年 | AH39: 月 | AJ39: 日 | AL39: ： | AN39: ～
I40: 様 | AC40: 平成 | AF40: 年 | AH40: 月 | AJ40: 日 | AL40: ： | AN40: ～
I41: 様 | AC41: 平成 | AF41: 年 | AH41: 月 | AJ41: 日 | AL41: ： | AN41: ～
I42: 様 | AC42: 平成 | AF42: 年 | AH42: 月 | AJ42: 日 | AL42: ： | AN42: ～
I43: 様 | AC43: 平成 | AF43: 年 | AH43: 月 | AJ43: 日 | AL43: ： | AN43: ～
...

Sheet 14
A1: ソーシャルワーカー室 業務日誌 | AH1: C.O.O | AL1: I.O.O | AP1: Ａ.Ｏ.Ｍ
H3: =曜日!B12 -> 令和2年 | M3: =曜日!C12 -> 6月 | P3: 14日 | S3: （ | T3: =曜日!D9 -> 日 | U3: ） | W3: 作成者 | Z3: ： | AA3: 小屋敷 千瑛
A5: 労務 状況 | D5: 勤務状況 | K5: 西舘 翔子 | P5: 公休 | T5: 小屋敷 千瑛 | Y5: 公休 | AC5: 大川 祥子 | AH5: 公休
A7: 入退院 状況 | D7: 入院形態 | K7: 東病棟 | Q7: 西病棟 | W7: 北病棟 | AC7: 南病棟 | AI7: 合計 | AO7: 総数
K8: 男性 | N8: 女性 | Q8: 男性 | T8: 女性 | W8: 男性 | Z8: 女性 | AC8: 男性 | AF8: 女性 | AI8: 男性 | AL8: 女性
D9: 任意入院 | K9: 3 | N9: 6 | Q9: 5 | T9: 7 | W9: 23 | Z9: 11 | AC9: 1 | AF9: 3 | AI9: =K9+Q9+W9+AC9 -> 32 | AL9: =N9+T9+Z9+AF9 -> 27 | AO9: =AI13 -> 188
D10: 医療保護入院 | K10: 25 | N10: 14 | Q10: 16 | T10: 16 | W10: 0 | Z10: 0 | AC10: 29 | AF10: 27 | AI10: =K10+Q10+W10+AC10 -> 70 | AL10: =N10+T10+Z10+AF10 -> 57
D11: 措置入院 | K11: 2 | N11: 0 | Q11: 0 | T11: 0 | W11: 0 | Z11: 0 | AC11: 0 | AF11: 0 | AI11: =K11+Q11+W11+AC11 -> 2 | AL11: =N11+T11+Z11+AF11 -> 0
D12: 合計 | K12: =K9+K10+K11 -> 30 | N12: =N9+N10+N11 -> 20 | Q12: =Q9+Q10+Q11 -> 21 | T12: =SUM(T9:V11) -> 23 | W12: =SUM(W9:Y11) -> 23 | Z12: =SUM(Z9:AB11) -> 11 | AC12: =SUM(AC9:AE11) -> 30 | AF12: =SUM(AF9:AH11) -> 30 | AI12: =SUM(K12+Q12+W12+AC12) -> 104 | AL12: =SUM(N12+T12+Z12+AF12) -> 84 | AO12: 人
K13: =K12+N12 -> 50 | Q13: =Q12+T12 -> 44 | W13: =W12+Z12 -> 34 | AC13: =AC12+AF12 -> 60 | AI13: =AI12+AL12 -> 188
F14: 患者様氏名 | N14: 入院形態 | T14: 担当Dr | Y14: 担当SW | AD14: 病棟 | AJ14: 備考欄
D15: 入院 | L15: 様
L16: 様
L17: 様
L18: 様
L19: 様
D20: 退院 | L20: 様
L21: 様
L22: 様
L23: 様
L24: 様
D25: 転棟 ･ 入院形態変更 | L25: 様
L26: 様
L27: 様
L28: 様
L29: 様
A30: 患者様 関連 | D30: 患者様氏名 | K30: 担当Dr | P30: 病棟 | S30: 制限内容 | X30: 制限時間 | AC30: 開始日時 | AO30: 備考
D31: 立花 圭 | I31: 様 | K31: 田名部茂Dr | P31: 東A | S31: 時間隔離 | X31: 時間隔離 | AC31: 令和 | AE31: 1 | AF31: 年 | AG31: 9 | AH31: 月 | AI31: 25 | AJ31: 日 | AL31: ： | AN31: ～
D32: 宮崎 宏之 | I32: 様 | K32: 馬渡晃弘Dr | P32: 東A | S32: 終日隔離 | X32: 終日隔離 | AC32: 令和 | AE32: 2 | AF32: 年 | AG32: 5 | AH32: 月 | AI32: 23 | AJ32: 日 | AL32: ： | AN32: ～
D33: 袴田 将志 | I33: 様 | K33: 田名部茂Dr | P33: 東A | S33: 終日隔離 | X33: 終日隔離 | AC33: 令和 | AE33: 2 | AF33: 年 | AG33: 6 | AH33: 月 | AI33: 2 | AJ33: 日 | AL33: ： | AN33: ～
D34: 村山 吾朗 | I34: 様 | K34: 深澤隆Dr | P34: 東A | S34: 終日隔離 | X34: 終日隔離 | AC34: 令和 | AE34: 2 | AF34: 年 | AG34: 6 | AH34: 月 | AI34: 8 | AJ34: 日 | AL34: ： | AN34: ～
I35: 様 | AC35: 平成 | AF35: 年 | AH35: 月 | AJ35: 日 | AL35: ： | AN35: ～
I36: 様 | AC36: 平成 | AF36: 年 | AH36: 月 | AJ36: 日 | AL36: ： | AN36: ～
I37: 様 | AC37: 平成 | AF37: 年 | AH37: 月 | AJ37: 日 | AL37: ： | AN37: ～
I38: 様 | AC38: 平成 | AF38: 年 | AH38: 月 | AJ38: 日 | AL38: ： | AN38: ～
I39: 様 | AC39: 平成 | AF39: 年 | AH39: 月 | AJ39: 日 | AL39: ： | AN39: ～
I40: 様 | AC40: 平成 | AF40: 年 | AH40: 月 | AJ40: 日 | AL40: ： | AN40: ～
I41: 様 | AC41: 平成 | AF41: 年 | AH41: 月 | AJ41: 日 | AL41: ： | AN41: ～
I42: 様 | AC42: 平成 | AF42: 年 | AH42: 月 | AJ42: 日 | AL42: ： | AN42: ～
I43: 様 | AC43: 平成 | AF43: 年 | AH43: 月 | AJ43: 日 | AL43: ： | AN43: ～
...

Sheet 15
A1: ソーシャルワーカー室 業務日誌 | AH1: C.O.O | AL1: I.O.O | AP1: Ａ.Ｏ.Ｍ
H3: =曜日!B12 -> 令和2年 | M3: =曜日!C12 -> 6月 | P3: 15日 | S3: （ | T3: =曜日!D3 -> 月 | U3: ） | W3: 作成者 | Z3: ： | AA3: 小屋敷 千瑛
A5: 労務 状況 | D5: 勤務状況 | K5: 西舘 翔子 | P5: 公休 | T5: 小屋敷 千瑛 | Y5: 日勤 | AC5: 大川 祥子 | AH5: 日勤
A7: 入退院 状況 | D7: 入院形態 | K7: 東病棟 | Q7: 西病棟 | W7: 北病棟 | AC7: 南病棟 | AI7: 合計 | AO7: 総数
K8: 男性 | N8: 女性 | Q8: 男性 | T8: 女性 | W8: 男性 | Z8: 女性 | AC8: 男性 | AF8: 女性 | AI8: 男性 | AL8: 女性
D9: 任意入院 | K9: 3 | N9: 6 | Q9: 5 | T9: 7 | W9: 23 | Z9: 11 | AC9: 1 | AF9: 3 | AI9: =K9+Q9+W9+AC9 -> 32 | AL9: =N9+T9+Z9+AF9 -> 27 | AO9: =AI13 -> 188
D10: 医療保護入院 | K10: 25 | N10: 14 | Q10: 16 | T10: 16 | W10: 0 | Z10: 0 | AC10: 29 | AF10: 27 | AI10: =K10+Q10+W10+AC10 -> 70 | AL10: =N10+T10+Z10+AF10 -> 57
D11: 措置入院 | K11: 2 | N11: 0 | Q11: 0 | T11: 0 | W11: 0 | Z11: 0 | AC11: 0 | AF11: 0 | AI11: =K11+Q11+W11+AC11 -> 2 | AL11: =N11+T11+Z11+AF11 -> 0
D12: 合計 | K12: =K9+K10+K11 -> 30 | N12: =N9+N10+N11 -> 20 | Q12: =Q9+Q10+Q11 -> 21 | T12: =SUM(T9:V11) -> 23 | W12: =SUM(W9:Y11) -> 23 | Z12: =SUM(Z9:AB11) -> 11 | AC12: =SUM(AC9:AE11) -> 30 | AF12: =SUM(AF9:AH11) -> 30 | AI12: =SUM(K12+Q12+W12+AC12) -> 104 | AL12: =SUM(N12+T12+Z12+AF12) -> 84 | AO12: 人
K13: =K12+N12 -> 50 | Q13: =Q12+T12 -> 44 | W13: =W12+Z12 -> 34 | AC13: =AC12+AF12 -> 60 | AI13: =AI12+AL12 -> 188
F14: 患者様氏名 | N14: 入院形態 | T14: 担当Dr | Y14: 担当SW | AD14: 病棟 | AJ14: 備考欄
D15: 入院 | L15: 様
L16: 様
L17: 様
L18: 様
L19: 様
D20: 退院 | L20: 様
L21: 様
L22: 様
L23: 様
L24: 様
D25: 転棟 ･ 入院形態変更 | L25: 様
L26: 様
L27: 様
L28: 様
L29: 様
A30: 患者様 関連 | D30: 患者様氏名 | K30: 担当Dr | P30: 病棟 | S30: 制限内容 | X30: 制限時間 | AC30: 開始日時 | AO30: 備考
D31: 立花 圭 | I31: 様 | K31: 田名部茂Dr | P31: 東A | S31: 時間隔離 | X31: 時間隔離 | AC31: 令和 | AE31: 1 | AF31: 年 | AG31: 9 | AH31: 月 | AI31: 25 | AJ31: 日 | AL31: ： | AN31: ～
D32: 宮崎 宏之 | I32: 様 | K32: 馬渡晃弘Dr | P32: 東A | S32: 終日隔離 | X32: 終日隔離 | AC32: 令和 | AE32: 2 | AF32: 年 | AG32: 5 | AH32: 月 | AI32: 23 | AJ32: 日 | AL32: ： | AN32: ～
D33: 袴田 将志 | I33: 様 | K33: 田名部茂Dr | P33: 東A | S33: 終日隔離 | X33: 終日隔離 | AC33: 令和 | AE33: 2 | AF33: 年 | AG33: 6 | AH33: 月 | AI33: 2 | AJ33: 日 | AL33: ： | AN33: ～
D34: 村山 吾朗 | I34: 様 | K34: 深澤隆Dr | P34: 東A | S34: 終日隔離 | X34: 終日隔離 | AC34: 令和 | AE34: 2 | AF34: 年 | AG34: 6 | AH34: 月 | AI34: 8 | AJ34: 日 | AL34: ： | AN34: ～
I35: 様 | AC35: 平成 | AF35: 年 | AH35: 月 | AJ35: 日 | AL35: ： | AN35: ～
I36: 様 | AC36: 平成 | AF36: 年 | AH36: 月 | AJ36: 日 | AL36: ： | AN36: ～
I37: 様 | AC37: 平成 | AF37: 年 | AH37: 月 | AJ37: 日 | AL37: ： | AN37: ～
I38: 様 | AC38: 平成 | AF38: 年 | AH38: 月 | AJ38: 日 | AL38: ： | AN38: ～
I39: 様 | AC39: 平成 | AF39: 年 | AH39: 月 | AJ39: 日 | AL39: ： | AN39: ～
I40: 様 | AC40: 平成 | AF40: 年 | AH40: 月 | AJ40: 日 | AL40: ： | AN40: ～
I41: 様 | AC41: 平成 | AF41: 年 | AH41: 月 | AJ41: 日 | AL41: ： | AN41: ～
I42: 様 | AC42: 平成 | AF42: 年 | AH42: 月 | AJ42: 日 | AL42: ： | AN42: ～
I43: 様 | AC43: 平成 | AF43: 年 | AH43: 月 | AJ43: 日 | AL43: ： | AN43: ～
...

Sheet 16
A1: ソーシャルワーカー室 業務日誌 | AH1: C.O.O | AL1: I.O.O | AP1: Ａ.Ｏ.Ｍ
H3: =曜日!B12 -> 令和2年 | M3: =曜日!C12 -> 6月 | P3: 16日 | S3: （ | T3: =曜日!D4 -> 火 | U3: ） | W3: 作成者 | Z3: ： | AA3: 大川 祥子
A5: 労務 状況 | D5: 勤務状況 | K5: 西舘 翔子 | P5: 日勤 | T5: 小屋敷 千瑛 | Y5: 日勤 | AC5: 大川 祥子 | AH5: 日勤
A7: 入退院 状況 | D7: 入院形態 | K7: 東病棟 | Q7: 西病棟 | W7: 北病棟 | AC7: 南病棟 | AI7: 合計 | AO7: 総数
K8: 男性 | N8: 女性 | Q8: 男性 | T8: 女性 | W8: 男性 | Z8: 女性 | AC8: 男性 | AF8: 女性 | AI8: 男性 | AL8: 女性
D9: 任意入院 | K9: 3 | N9: 6 | Q9: 5 | T9: 7 | W9: 23 | Z9: 11 | AC9: 1 | AF9: 3 | AI9: =K9+Q9+W9+AC9 -> 32 | AL9: =N9+T9+Z9+AF9 -> 27 | AO9: =AI13 -> 188
D10: 医療保護入院 | K10: 25 | N10: 14 | Q10: 16 | T10: 16 | W10: 0 | Z10: 0 | AC10: 29 | AF10: 27 | AI10: =K10+Q10+W10+AC10 -> 70 | AL10: =N10+T10+Z10+AF10 -> 57
D11: 措置入院 | K11: 2 | N11: 0 | Q11: 0 | T11: 0 | W11: 0 | Z11: 0 | AC11: 0 | AF11: 0 | AI11: =K11+Q11+W11+AC11 -> 2 | AL11: =N11+T11+Z11+AF11 -> 0
D12: 合計 | K12: =K9+K10+K11 -> 30 | N12: =N9+N10+N11 -> 20 | Q12: =Q9+Q10+Q11 -> 21 | T12: =SUM(T9:V11) -> 23 | W12: =SUM(W9:Y11) -> 23 | Z12: =SUM(Z9:AB11) -> 11 | AC12: =SUM(AC9:AE11) -> 30 | AF12: =SUM(AF9:AH11) -> 30 | AI12: =SUM(K12+Q12+W12+AC12) -> 104 | AL12: =SUM(N12+T12+Z12+AF12) -> 84 | AO12: 人
K13: =K12+N12 -> 50 | Q13: =Q12+T12 -> 44 | W13: =W12+Z12 -> 34 | AC13: =AC12+AF12 -> 60 | AI13: =AI12+AL12 -> 188
F14: 患者様氏名 | N14: 入院形態 | T14: 担当Dr | Y14: 担当SW | AD14: 病棟 | AJ14: 備考欄
D15: 入院 | L15: 様
L16: 様
L17: 様
L18: 様
L19: 様
D20: 退院 | L20: 様
L21: 様
L22: 様
L23: 様
L24: 様
D25: 転棟 ･ 入院形態変更 | L25: 様
L26: 様
L27: 様
L28: 様
L29: 様
A30: 患者様 関連 | D30: 患者様氏名 | K30: 担当Dr | P30: 病棟 | S30: 制限内容 | X30: 制限時間 | AC30: 開始日時 | AO30: 備考
D31: 立花 圭 | I31: 様 | K31: 田名部茂Dr | P31: 東A | S31: 時間隔離 | X31: 時間隔離 | AC31: 令和 | AE31: 1 | AF31: 年 | AG31: 9 | AH31: 月 | AI31: 25 | AJ31: 日 | AL31: ： | AN31: ～
D32: 宮崎 宏之 | I32: 様 | K32: 馬渡晃弘Dr | P32: 東A | S32: 終日隔離 | X32: 終日隔離 | AC32: 令和 | AE32: 2 | AF32: 年 | AG32: 5 | AH32: 月 | AI32: 23 | AJ32: 日 | AL32: ： | AN32: ～
D33: 袴田 将志 | I33: 様 | K33: 田名部茂Dr | P33: 東A | S33: 終日隔離 | X33: 終日隔離 | AC33: 令和 | AE33: 2 | AF33: 年 | AG33: 6 | AH33: 月 | AI33: 2 | AJ33: 日 | AL33: ： | AN33: ～
D34: 村山 吾朗 | I34: 様 | K34: 深澤隆Dr | P34: 東A | S34: 終日隔離 | X34: 終日隔離 | AC34: 令和 | AE34: 2 | AF34: 年 | AG34: 6 | AH34: 月 | AI34: 8 | AJ34: 日 | AL34: ： | AN34: ～
I35: 様 | AC35: 平成 | AF35: 年 | AH35: 月 | AJ35: 日 | AL35: ： | AN35: ～
I36: 様 | AC36: 平成 | AF36: 年 | AH36: 月 | AJ36: 日 | AL36: ： | AN36: ～
I37: 様 | AC37: 平成 | AF37: 年 | AH37: 月 | AJ37: 日 | AL37: ： | AN37: ～
I38: 様 | AC38: 平成 | AF38: 年 | AH38: 月 | AJ38: 日 | AL38: ： | AN38: ～
I39: 様 | AC39: 平成 | AF39: 年 | AH39: 月 | AJ39: 日 | AL39: ： | AN39: ～
I40: 様 | AC40: 平成 | AF40: 年 | AH40: 月 | AJ40: 日 | AL40: ： | AN40: ～
I41: 様 | AC41: 平成 | AF41: 年 | AH41: 月 | AJ41: 日 | AL41: ： | AN41: ～
I42: 様 | AC42: 平成 | AF42: 年 | AH42: 月 | AJ42: 日 | AL42: ： | AN42: ～
I43: 様 | AC43: 平成 | AF43: 年 | AH43: 月 | AJ43: 日 | AL43: ： | AN43: ～
...

Sheet 17
A1: ソーシャルワーカー室 業務日誌 | AH1: C.O.O | AL1: I.O.O | AP1: Ａ.Ｏ.Ｍ
H3: =曜日!B12 -> 令和2年 | M3: =曜日!C12 -> 6月 | P3: 17日 | S3: （ | T3: =曜日!D5 -> 水 | U3: ） | W3: 作成者 | Z3: ： | AA3: 大川 祥子
A5: 労務 状況 | D5: 勤務状況 | K5: 西舘 翔子 | P5: 日勤 | T5: 小屋敷 千瑛 | Y5: 日勤 | AC5: 大川 祥子 | AH5: 日勤
A7: 入退院 状況 | D7: 入院形態 | K7: 東病棟 | Q7: 西病棟 | W7: 北病棟 | AC7: 南病棟 | AI7: 合計 | AO7: 総数
K8: 男性 | N8: 女性 | Q8: 男性 | T8: 女性 | W8: 男性 | Z8: 女性 | AC8: 男性 | AF8: 女性 | AI8: 男性 | AL8: 女性
D9: 任意入院 | K9: 3 | N9: 6 | Q9: 5 | T9: 7 | W9: 23 | Z9: 11 | AC9: 1 | AF9: 3 | AI9: =K9+Q9+W9+AC9 -> 32 | AL9: =N9+T9+Z9+AF9 -> 27 | AO9: =AI13 -> 188
D10: 医療保護入院 | K10: 25 | N10: 14 | Q10: 16 | T10: 16 | W10: 0 | Z10: 0 | AC10: 28 | AF10: 28 | AI10: =K10+Q10+W10+AC10 -> 69 | AL10: =N10+T10+Z10+AF10 -> 58
D11: 措置入院 | K11: 2 | N11: 0 | Q11: 0 | T11: 0 | W11: 0 | Z11: 0 | AC11: 0 | AF11: 0 | AI11: =K11+Q11+W11+AC11 -> 2 | AL11: =N11+T11+Z11+AF11 -> 0
D12: 合計 | K12: =K9+K10+K11 -> 30 | N12: =N9+N10+N11 -> 20 | Q12: =Q9+Q10+Q11 -> 21 | T12: =SUM(T9:V11) -> 23 | W12: =SUM(W9:Y11) -> 23 | Z12: =SUM(Z9:AB11) -> 11 | AC12: =SUM(AC9:AE11) -> 29 | AF12: =SUM(AF9:AH11) -> 31 | AI12: =SUM(K12+Q12+W12+AC12) -> 103 | AL12: =SUM(N12+T12+Z12+AF12) -> 85 | AO12: 人
K13: =K12+N12 -> 50 | Q13: =Q12+T12 -> 44 | W13: =W12+Z12 -> 34 | AC13: =AC12+AF12 -> 60 | AI13: =AI12+AL12 -> 188
F14: 患者様氏名 | N14: 入院形態 | T14: 担当Dr | Y14: 担当SW | AD14: 病棟 | AJ14: 備考欄
D15: 入院 | F15: 尾下 モト | L15: 様 | N15: 医療保護入院 | T15: 深澤隆Dr | Y15: 大川 祥子 | AD15: 東C
L16: 様
L17: 様
L18: 様
L19: 様
D20: 退院 | F20: 林 重雄 | L20: 様 | N20: 医療保護入院 | T20: 深澤隆Dr | Y20: 大川 祥子 | AD20: 南D
L21: 様
L22: 様
L23: 様
L24: 様
D25: 転棟 ･ 入院形態変更 | F25: 谷地 ツヨノ | L25: 様 | N25: 医療保護入院 | AJ25: 東C→南C
L26: 様
L27: 様
L28: 様
L29: 様
A30: 患者様 関連 | D30: 患者様氏名 | K30: 担当Dr | P30: 病棟 | S30: 制限内容 | X30: 制限時間 | AC30: 開始日時 | AO30: 備考
D31: 立花 圭 | I31: 様 | K31: 田名部茂Dr | P31: 東A | S31: 時間隔離 | X31: 時間隔離 | AC31: 令和 | AE31: 1 | AF31: 年 | AG31: 9 | AH31: 月 | AI31: 25 | AJ31: 日 | AL31: ： | AN31: ～
D32: 宮崎 宏之 | I32: 様 | K32: 馬渡晃弘Dr | P32: 東A | S32: 終日隔離 | X32: 終日隔離 | AC32: 令和 | AE32: 2 | AF32: 年 | AG32: 5 | AH32: 月 | AI32: 23 | AJ32: 日 | AL32: ： | AN32: ～
D33: 袴田 将志 | I33: 様 | K33: 田名部茂Dr | P33: 東A | S33: 終日隔離 | X33: 終日隔離 | AC33: 令和 | AE33: 2 | AF33: 年 | AG33: 6 | AH33: 月 | AI33: 2 | AJ33: 日 | AL33: ： | AN33: ～
D34: 村山 吾朗 | I34: 様 | K34: 深澤隆Dr | P34: 東A | S34: 終日隔離 | X34: 終日隔離 | AC34: 令和 | AE34: 2 | AF34: 年 | AG34: 6 | AH34: 月 | AI34: 8 | AJ34: 日 | AL34: ： | AN34: ～
I35: 様 | AC35: 平成 | AF35: 年 | AH35: 月 | AJ35: 日 | AL35: ： | AN35: ～
I36: 様 | AC36: 平成 | AF36: 年 | AH36: 月 | AJ36: 日 | AL36: ： | AN36: ～
I37: 様 | AC37: 平成 | AF37: 年 | AH37: 月 | AJ37: 日 | AL37: ： | AN37: ～
I38: 様 | AC38: 平成 | AF38: 年 | AH38: 月 | AJ38: 日 | AL38: ： | AN38: ～
I39: 様 | AC39: 平成 | AF39: 年 | AH39: 月 | AJ39: 日 | AL39: ： | AN39: ～
I40: 様 | AC40: 平成 | AF40: 年 | AH40: 月 | AJ40: 日 | AL40: ： | AN40: ～
I41: 様 | AC41: 平成 | AF41: 年 | AH41: 月 | AJ41: 日 | AL41: ： | AN41: ～
I42: 様 | AC42: 平成 | AF42: 年 | AH42: 月 | AJ42: 日 | AL42: ： | AN42: ～
I43: 様 | AC43: 平成 | AF43: 年 | AH43: 月 | AJ43: 日 | AL43: ： | AN43: ～
...

Sheet 18
A1: ソーシャルワーカー室 業務日誌 | AH1: C.O.O | AL1: I.O.O | AP1: Ａ.Ｏ.Ｍ
H3: =曜日!B12 -> 令和2年 | M3: =曜日!C12 -> 6月 | P3: 18日 | S3: （ | T3: =曜日!D6 -> 木 | U3: ） | W3: 作成者 | Z3: ： | AA3: 西舘 翔子
A5: 労務 状況 | D5: 勤務状況 | K5: 西舘 翔子 | P5: 日勤 | T5: 小屋敷 千瑛 | Y5: 日勤 | AC5: 大川 祥子 | AH5: 公休
A7: 入退院 状況 | D7: 入院形態 | K7: 東病棟 | Q7: 西病棟 | W7: 北病棟 | AC7: 南病棟 | AI7: 合計 | AO7: 総数
K8: 男性 | N8: 女性 | Q8: 男性 | T8: 女性 | W8: 男性 | Z8: 女性 | AC8: 男性 | AF8: 女性 | AI8: 男性 | AL8: 女性
D9: 任意入院 | K9: 3 | N9: 6 | Q9: 5 | T9: 7 | W9: 23 | Z9: 11 | AC9: 1 | AF9: 3 | AI9: =K9+Q9+W9+AC9 -> 32 | AL9: =N9+T9+Z9+AF9 -> 27 | AO9: =AI13 -> 189
D10: 医療保護入院 | K10: 25 | N10: 15 | Q10: 16 | T10: 16 | W10: 0 | Z10: 0 | AC10: 28 | AF10: 28 | AI10: =K10+Q10+W10+AC10 -> 69 | AL10: =N10+T10+Z10+AF10 -> 59
D11: 措置入院 | K11: 2 | N11: 0 | Q11: 0 | T11: 0 | W11: 0 | Z11: 0 | AC11: 0 | AF11: 0 | AI11: =K11+Q11+W11+AC11 -> 2 | AL11: =N11+T11+Z11+AF11 -> 0
D12: 合計 | K12: =K9+K10+K11 -> 30 | N12: =N9+N10+N11 -> 21 | Q12: =Q9+Q10+Q11 -> 21 | T12: =SUM(T9:V11) -> 23 | W12: =SUM(W9:Y11) -> 23 | Z12: =SUM(Z9:AB11) -> 11 | AC12: =SUM(AC9:AE11) -> 29 | AF12: =SUM(AF9:AH11) -> 31 | AI12: =SUM(K12+Q12+W12+AC12) -> 103 | AL12: =SUM(N12+T12+Z12+AF12) -> 86 | AO12: 人
K13: =K12+N12 -> 51 | Q13: =Q12+T12 -> 44 | W13: =W12+Z12 -> 34 | AC13: =AC12+AF12 -> 60 | AI13: =AI12+AL12 -> 189
F14: 患者様氏名 | N14: 入院形態 | T14: 担当Dr | Y14: 担当SW | AD14: 病棟 | AJ14: 備考欄
D15: 入院 | F15: 鎌田 隆子 | L15: 様 | N15: 医療保護入院 | T15: 深澤隆Dr | Y15: 西舘 翔子 | AD15: 東C
L16: 様
L17: 様
L18: 様
L19: 様
D20: 退院 | L20: 様
L21: 様
L22: 様
L23: 様
L24: 様
D25: 転棟 ･ 入院形態変更 | L25: 様
L26: 様
L27: 様
L28: 様
L29: 様
A30: 患者様 関連 | D30: 患者様氏名 | K30: 担当Dr | P30: 病棟 | S30: 制限内容 | X30: 制限時間 | AC30: 開始日時 | AO30: 備考
D31: 立花 圭 | I31: 様 | K31: 田名部茂Dr | P31: 東A | S31: 時間隔離 | X31: 時間隔離 | AC31: 令和 | AE31: 1 | AF31: 年 | AG31: 9 | AH31: 月 | AI31: 25 | AJ31: 日 | AL31: ： | AN31: ～
D32: 宮崎 宏之 | I32: 様 | K32: 馬渡晃弘Dr | P32: 東A | S32: 終日隔離 | X32: 終日隔離 | AC32: 令和 | AE32: 2 | AF32: 年 | AG32: 5 | AH32: 月 | AI32: 23 | AJ32: 日 | AL32: ： | AN32: ～
D33: 袴田 将志 | I33: 様 | K33: 田名部茂Dr | P33: 東A | S33: 終日隔離 | X33: 終日隔離 | AC33: 令和 | AE33: 2 | AF33: 年 | AG33: 6 | AH33: 月 | AI33: 2 | AJ33: 日 | AL33: ： | AN33: ～
D34: 村山 吾朗 | I34: 様 | K34: 深澤隆Dr | P34: 東A | S34: 終日隔離 | X34: 終日隔離 | AC34: 令和 | AE34: 2 | AF34: 年 | AG34: 6 | AH34: 月 | AI34: 8 | AJ34: 日 | AL34: ： | AN34: ～
I35: 様 | AC35: 平成 | AF35: 年 | AH35: 月 | AJ35: 日 | AL35: ： | AN35: ～
I36: 様 | AC36: 平成 | AF36: 年 | AH36: 月 | AJ36: 日 | AL36: ： | AN36: ～
I37: 様 | AC37: 平成 | AF37: 年 | AH37: 月 | AJ37: 日 | AL37: ： | AN37: ～
I38: 様 | AC38: 平成 | AF38: 年 | AH38: 月 | AJ38: 日 | AL38: ： | AN38: ～
I39: 様 | AC39: 平成 | AF39: 年 | AH39: 月 | AJ39: 日 | AL39: ： | AN39: ～
I40: 様 | AC40: 平成 | AF40: 年 | AH40: 月 | AJ40: 日 | AL40: ： | AN40: ～
I41: 様 | AC41: 平成 | AF41: 年 | AH41: 月 | AJ41: 日 | AL41: ： | AN41: ～
I42: 様 | AC42: 平成 | AF42: 年 | AH42: 月 | AJ42: 日 | AL42: ： | AN42: ～
I43: 様 | AC43: 平成 | AF43: 年 | AH43: 月 | AJ43: 日 | AL43: ： | AN43: ～
...

Sheet 19
A1: ソーシャルワーカー室 業務日誌 | AH1: C.O.O | AL1: I.O.O | AP1: Ａ.Ｏ.Ｍ
H3: =曜日!B12 -> 令和2年 | M3: =曜日!C12 -> 6月 | P3: 19日 | S3: （ | T3: =曜日!D7 -> 金 | U3: ） | W3: 作成者 | Z3: ： | AA3: 大川 祥子
A5: 労務 状況 | D5: 勤務状況 | K5: 西舘 翔子 | P5: 日勤 | T5: 小屋敷 千瑛 | Y5: 日勤 | AC5: 大川 祥子 | AH5: 日勤
A7: 入退院 状況 | D7: 入院形態 | K7: 東病棟 | Q7: 西病棟 | W7: 北病棟 | AC7: 南病棟 | AI7: 合計 | AO7: 総数
K8: 男性 | N8: 女性 | Q8: 男性 | T8: 女性 | W8: 男性 | Z8: 女性 | AC8: 男性 | AF8: 女性 | AI8: 男性 | AL8: 女性
D9: 任意入院 | K9: 3 | N9: 6 | Q9: 5 | T9: 7 | W9: 23 | Z9: 11 | AC9: 1 | AF9: 3 | AI9: =K9+Q9+W9+AC9 -> 32 | AL9: =N9+T9+Z9+AF9 -> 27 | AO9: =AI13 -> 190
D10: 医療保護入院 | K10: 26 | N10: 15 | Q10: 16 | T10: 16 | W10: 0 | Z10: 0 | AC10: 28 | AF10: 28 | AI10: =K10+Q10+W10+AC10 -> 70 | AL10: =N10+T10+Z10+AF10 -> 59
D11: 措置入院 | K11: 2 | N11: 0 | Q11: 0 | T11: 0 | W11: 0 | Z11: 0 | AC11: 0 | AF11: 0 | AI11: =K11+Q11+W11+AC11 -> 2 | AL11: =N11+T11+Z11+AF11 -> 0
D12: 合計 | K12: =K9+K10+K11 -> 31 | N12: =N9+N10+N11 -> 21 | Q12: =Q9+Q10+Q11 -> 21 | T12: =SUM(T9:V11) -> 23 | W12: =SUM(W9:Y11) -> 23 | Z12: =SUM(Z9:AB11) -> 11 | AC12: =SUM(AC9:AE11) -> 29 | AF12: =SUM(AF9:AH11) -> 31 | AI12: =SUM(K12+Q12+W12+AC12) -> 104 | AL12: =SUM(N12+T12+Z12+AF12) -> 86 | AO12: 人
K13: =K12+N12 -> 52 | Q13: =Q12+T12 -> 44 | W13: =W12+Z12 -> 34 | AC13: =AC12+AF12 -> 60 | AI13: =AI12+AL12 -> 190
F14: 患者様氏名 | N14: 入院形態 | T14: 担当Dr | Y14: 担当SW | AD14: 病棟 | AJ14: 備考欄
D15: 入院 | F15: 山田 晃大 | L15: 様 | N15: 医療保護入院 | T15: 馬渡晃弘Dr | Y15: 西舘 翔子 | AD15: 東A
L16: 様
L17: 様
L18: 様
L19: 様
D20: 退院 | L20: 様
L21: 様
L22: 様
L23: 様
L24: 様
D25: 転棟 ･ 入院形態変更 | L25: 様
L26: 様
L27: 様
L28: 様
L29: 様
A30: 患者様 関連 | D30: 患者様氏名 | K30: 担当Dr | P30: 病棟 | S30: 制限内容 | X30: 制限時間 | AC30: 開始日時 | AO30: 備考
D31: 立花 圭 | I31: 様 | K31: 田名部茂Dr | P31: 東A | S31: 時間隔離 | X31: 時間隔離 | AC31: 令和 | AE31: 1 | AF31: 年 | AG31: 9 | AH31: 月 | AI31: 25 | AJ31: 日 | AL31: ： | AN31: ～
D32: 宮崎 宏之 | I32: 様 | K32: 馬渡晃弘Dr | P32: 東A | S32: 終日隔離 | X32: 終日隔離 | AC32: 令和 | AE32: 2 | AF32: 年 | AG32: 5 | AH32: 月 | AI32: 23 | AJ32: 日 | AL32: ： | AN32: ～
D33: 袴田 将志 | I33: 様 | K33: 田名部茂Dr | P33: 東A | S33: 時間隔離 | X33: 時間隔離 | AC33: 令和 | AE33: 2 | AF33: 年 | AG33: 6 | AH33: 月 | AI33: 19 | AJ33: 日 | AL33: ： | AN33: ～ | AO33: 時間隔離へ変更
D34: 村山 吾朗 | I34: 様 | K34: 深澤隆Dr | P34: 東A | S34: 終日隔離 | X34: 終日隔離 | AC34: 令和 | AE34: 2 | AF34: 年 | AG34: 6 | AH34: 月 | AI34: 8 | AJ34: 日 | AL34: ： | AN34: ～ | AO34: 終了
I35: 様 | AC35: 平成 | AF35: 年 | AH35: 月 | AJ35: 日 | AL35: ： | AN35: ～
I36: 様 | AC36: 平成 | AF36: 年 | AH36: 月 | AJ36: 日 | AL36: ： | AN36: ～
I37: 様 | AC37: 平成 | AF37: 年 | AH37: 月 | AJ37: 日 | AL37: ： | AN37: ～
I38: 様 | AC38: 平成 | AF38: 年 | AH38: 月 | AJ38: 日 | AL38: ： | AN38: ～
I39: 様 | AC39: 平成 | AF39: 年 | AH39: 月 | AJ39: 日 | AL39: ： | AN39: ～
I40: 様 | AC40: 平成 | AF40: 年 | AH40: 月 | AJ40: 日 | AL40: ： | AN40: ～
I41: 様 | AC41: 平成 | AF41: 年 | AH41: 月 | AJ41: 日 | AL41: ： | AN41: ～
I42: 様 | AC42: 平成 | AF42: 年 | AH42: 月 | AJ42: 日 | AL42: ： | AN42: ～
I43: 様 | AC43: 平成 | AF43: 年 | AH43: 月 | AJ43: 日 | AL43: ： | AN43: ～
...

Sheet 20
A1: ソーシャルワーカー室 業務日誌 | AH1: C.O.O | AL1: I.O.O | AP1: Ａ.Ｏ.Ｍ
H3: =曜日!B12 -> 令和2年 | M3: =曜日!C12 -> 6月 | P3: 20日 | S3: （ | T3: =曜日!D8 -> 土 | U3: ） | W3: 作成者 | Z3: ： | AA3: 西舘 翔子
A5: 労務 状況 | D5: 勤務状況 | K5: 西舘 翔子 | P5: 日勤 | T5: 小屋敷 千瑛 | Y5: 公休 | AC5: 大川 祥子 | AH5: 公休
A7: 入退院 状況 | D7: 入院形態 | K7: 東病棟 | Q7: 西病棟 | W7: 北病棟 | AC7: 南病棟 | AI7: 合計 | AO7: 総数
K8: 男性 | N8: 女性 | Q8: 男性 | T8: 女性 | W8: 男性 | Z8: 女性 | AC8: 男性 | AF8: 女性 | AI8: 男性 | AL8: 女性
D9: 任意入院 | K9: 2 | N9: 5 | Q9: 7 | T9: 7 | W9: 23 | Z9: 12 | AC9: 1 | AF9: 3 | AI9: =K9+Q9+W9+AC9 -> 33 | AL9: =N9+T9+Z9+AF9 -> 27 | AO9: =AI13 -> 191
D10: 医療保護入院 | K10: 27 | N10: 15 | Q10: 15 | T10: 16 | W10: 0 | Z10: 0 | AC10: 28 | AF10: 28 | AI10: =K10+Q10+W10+AC10 -> 70 | AL10: =N10+T10+Z10+AF10 -> 59
D11: 措置入院 | K11: 2 | N11: 0 | Q11: 0 | T11: 0 | W11: 0 | Z11: 0 | AC11: 0 | AF11: 0 | AI11: =K11+Q11+W11+AC11 -> 2 | AL11: =N11+T11+Z11+AF11 -> 0
D12: 合計 | K12: =K9+K10+K11 -> 31 | N12: =N9+N10+N11 -> 20 | Q12: =Q9+Q10+Q11 -> 22 | T12: =SUM(T9:V11) -> 23 | W12: =SUM(W9:Y11) -> 23 | Z12: =SUM(Z9:AB11) -> 12 | AC12: =SUM(AC9:AE11) -> 29 | AF12: =SUM(AF9:AH11) -> 31 | AI12: =SUM(K12+Q12+W12+AC12) -> 105 | AL12: =SUM(N12+T12+Z12+AF12) -> 86 | AO12: 人
K13: =K12+N12 -> 51 | Q13: =Q12+T12 -> 45 | W13: =W12+Z12 -> 35 | AC13: =AC12+AF12 -> 60 | AI13: =AI12+AL12 -> 191
F14: 患者様氏名 | N14: 入院形態 | T14: 担当Dr | Y14: 担当SW | AD14: 病棟 | AJ14: 備考欄
D15: 入院 | F15: 中村 寿昭 | L15: 様 | N15: 任意入院 | T15: 田名部茂Dr | Y15: 西舘 翔子 | AD15: 東B
L16: 様
L17: 様
L18: 様
L19: 様
D20: 退院 | L20: 様
L21: 様
L22: 様
L23: 様
L24: 様
D25: 転棟 ･ 入院形態変更 | L25: 様
L26: 様
L27: 様
L28: 様
L29: 様
A30: 患者様 関連 | D30: 患者様氏名 | K30: 担当Dr | P30: 病棟 | S30: 制限内容 | X30: 制限時間 | AC30: 開始日時 | AO30: 備考
D31: 立花 圭 | I31: 様 | K31: 田名部茂Dr | P31: 東A | S31: 時間隔離 | X31: 時間隔離 | AC31: 令和 | AE31: 1 | AF31: 年 | AG31: 9 | AH31: 月 | AI31: 25 | AJ31: 日 | AL31: ： | AN31: ～
D32: 宮崎 宏之 | I32: 様 | K32: 馬渡晃弘Dr | P32: 東A | S32: 終日隔離 | X32: 終日隔離 | AC32: 令和 | AE32: 2 | AF32: 年 | AG32: 5 | AH32: 月 | AI32: 23 | AJ32: 日 | AL32: ： | AN32: ～
D33: 袴田 将志 | I33: 様 | K33: 田名部茂Dr | P33: 東A | S33: 時間隔離 | X33: 時間隔離 | AC33: 令和 | AE33: 2 | AF33: 年 | AG33: 6 | AH33: 月 | AI33: 19 | AJ33: 日 | AL33: ： | AN33: ～
I34: 様 | AC34: 令和 | AF34: 年 | AH34: 月 | AJ34: 日 | AL34: ： | AN34: ～
I35: 様 | AC35: 平成 | AF35: 年 | AH35: 月 | AJ35: 日 | AL35: ： | AN35: ～
I36: 様 | AC36: 平成 | AF36: 年 | AH36: 月 | AJ36: 日 | AL36: ： | AN36: ～
I37: 様 | AC37: 平成 | AF37: 年 | AH37: 月 | AJ37: 日 | AL37: ： | AN37: ～
I38: 様 | AC38: 平成 | AF38: 年 | AH38: 月 | AJ38: 日 | AL38: ： | AN38: ～
I39: 様 | AC39: 平成 | AF39: 年 | AH39: 月 | AJ39: 日 | AL39: ： | AN39: ～
I40: 様 | AC40: 平成 | AF40: 年 | AH40: 月 | AJ40: 日 | AL40: ： | AN40: ～
I41: 様 | AC41: 平成 | AF41: 年 | AH41: 月 | AJ41: 日 | AL41: ： | AN41: ～
I42: 様 | AC42: 平成 | AF42: 年 | AH42: 月 | AJ42: 日 | AL42: ： | AN42: ～
I43: 様 | AC43: 平成 | AF43: 年 | AH43: 月 | AJ43: 日 | AL43: ： | AN43: ～
...

Sheet 21
A1: ソーシャルワーカー室 業務日誌 | AH1: C.O.O | AL1: I.O.O | AP1: Ａ.Ｏ.Ｍ
H3: =曜日!B12 -> 令和2年 | M3: =曜日!C12 -> 6月 | P3: 21日 | S3: （ | T3: =曜日!D9 -> 日 | U3: ） | W3: 作成者 | Z3: ： | AA3: 小屋敷 千瑛
A5: 労務 状況 | D5: 勤務状況 | K5: 西舘 翔子 | P5: 公休 | T5: 小屋敷 千瑛 | Y5: 公休 | AC5: 大川 祥子 | AH5: 公休
A7: 入退院 状況 | D7: 入院形態 | K7: 東病棟 | Q7: 西病棟 | W7: 北病棟 | AC7: 南病棟 | AI7: 合計 | AO7: 総数
K8: 男性 | N8: 女性 | Q8: 男性 | T8: 女性 | W8: 男性 | Z8: 女性 | AC8: 男性 | AF8: 女性 | AI8: 男性 | AL8: 女性
