Workbook

Sheet 1
B1: クリニック 日 誌 | H1: 令和 | J1: 2 | K1: 年 | L1: 4 | M1: 月 | N1: 1 | O1: 日 | Q1: （ | R1: 水 | S1: ） | V1: COO | Y1: IOO | AB1: AOM
A3: 勤務者名
A4: 中村 恵理子 | G4: 日 | I4: 柳田 美雪 | N4: 日 | Q4: 診察室 | W4: 外来担当医 | Z4: 外来介助者
A5: 石原 恵海 | G5: 日 | I5: 石谷 美代子 | N5: 日 | Q5: 第１診察室 | U5: 千葉 潜 | Z5: 柳田・石原
Q6: 第２診察室
B8: 新 | C8: 再 | D8: 精 | E8: 内 | F8: 処 | G8: 患者様氏名 | L8: 新 | M8: 再 | N8: 精 | O8: 内 | P8: 処 | Q8: 患者様氏名 | V8: 新 | W8: 再 | X8: 精 | Y8: 内 | Z8: 処 | AA8: 患者様氏名
A9: 1 | C9: ・ | D9: ・ | F9: 28 | G9: 附田 富貴子 | J9: 様 | K9: 2 | M9: ・ | N9: ・ | P9: 42 | Q9: 清水 奈緒美 | T9: 様 | U9: 3 | W9: ・ | X9: ・ | Z9: 21 | AA9: 須藤 直子 | AD9: 様
A10: 4 | C10: ・ | D10: ・ | F10: 30 | G10: 小林 きよ | J10: 様 | K10: 5 | M10: ・ | N10: ・ | P10: 21 | Q10: 神 芽依 | T10: 様 | U10: 6 | V10: ・ | X10: ・ | Z10: 14 | AA10: 浪岡 淳哉 | AD10: 様
A11: 7 | C11: ・ | D11: ・ | F11: 22 | G11: 野川 安雄 | J11: 様 | K11: 8 | M11: ・ | N11: ・ | P11: 0 | Q11: 山本 トヨ | T11: 様 | U11: 9 | W11: ・ | X11: ・ | Z11: 0 | AA11: 小栗 健太郎 | AD11: 様
A12: 10 | C12: ・ | D12: ・ | F12: 22 | G12: 太田 明子 | J12: 様 | K12: 11 | M12: ・ | N12: ・ | P12: 21 | Q12: 沼田 壽美子 | T12: 様 | U12: 12 | W12: ・ | X12: ・ | Z12: 56 | AA12: 山本 ハナコ | AD12: 様
A13: 13 | C13: ・ | D13: ・ | F13: 30 | G13: 町屋 ヤエ | J13: 様 | K13: 14 | M13: ・ | N13: ・ | P13: 30 | Q13: 高橋 喬 | T13: 様 | U13: 15 | W13: ・ | X13: ・ | Z13: 0 | AA13: 沼端 ミセ | AD13: 様
A14: 16 | C14: ・ | D14: ・ | F14: 42 | G14: 目代 幸枝 | J14: 様 | K14: 17 | M14: ・ | N14: ・ | P14: 30 | Q14: 川市 勲 | T14: 様 | U14: 18 | W14: ・ | X14: ・ | Z14: 0 | AA14: 高村 加津子 | AD14: 様
A15: 19 | C15: ・ | D15: ・ | F15: 21 | G15: 橋本 英治 | J15: 様 | K15: 20 | M15: ・ | N15: ・ | P15: 29 | Q15: 木村 正子 | T15: 様 | U15: 21 | W15: ・ | X15: ・ | Z15: 0 | AA15: 工藤 富雄 | AD15: 様
A16: 22 | C16: ・ | D16: ・ | F16: 14 | G16: 角田 晃 | J16: 様 | K16: 23 | L16: ・ | N16: ・ | P16: 21 | Q16: 舛谷 勝子 | T16: 様 | U16: 24 | W16: ・ | X16: ・ | Z16: 0 | AA16: 石ケ谷 數子 | AD16: 様
A17: 25 | C17: ・ | D17: ・ | F17: 0 | G17: 小川 サクラ | J17: 様 | K17: 26 | M17: ・ | N17: ・ | P17: 14 | Q17: 浦邊 健司 | T17: 様 | U17: 27 | W17: ・ | X17: ・ | Z17: 0 | AA17: 坂本 政勝 | AD17: 様
A18: 28 | C18: ・ | D18: ・ | F18: 30 | G18: 島貫 香織 | J18: 様 | K18: 29 | M18: ・ | N18: ・ | P18: 28 | Q18: 吉田 邦雄 | T18: 様 | U18: 30 | W18: ・ | X18: ・ | Z18: 0 | AA18: 豊川 洋子 | AD18: 様
A19: 31 | C19: ・ | D19: ・ | F19: 56 | G19: 中野渡 ツエ | J19: 様 | K19: 32 | M19: ・ | N19: ・ | P19: 21 | Q19: 中村 実樹 | T19: 様 | U19: 33 | W19: ・ | X19: ・ | Z19: 0 | AA19: 瀬川 高雄 | AD19: 様
A20: 34 | C20: ・ | D20: ・ | F20: 28 | G20: 宮古 月菜 | J20: 様 | K20: 35 | M20: ・ | N20: ・ | P20: 0 | Q20: 千葉 スワ | T20: 様 | U20: 36 | W20: ・ | X20: ・ | Z20: 0 | AA20: 深町 栄美子 | AD20: 様
A21: 37 | C21: ・ | D21: ・ | F21: 42 | G21: 野川 英雄 | J21: 様 | K21: 38 | M21: ・ | N21: ・ | P21: 28 | Q21: 哘 典子 | T21: 様 | U21: 39 | W21: ・ | X21: ・ | Z21: 0 | AA21: 工藤 健壽 | AD21: 様
A22: 40 | C22: ・ | D22: ・ | F22: 28 | G22: 遠嶋 千鶴 | J22: 様 | K22: 41 | M22: ・ | N22: ・ | P22: 28 | Q22: 類家 つさ | T22: 様 | U22: 42 | W22: ・ | X22: ・ | Z22: 28 | AA22: 野田頭 真由美 | AD22: 様
A23: 43 | C23: ・ | D23: ・ | F23: 21 | G23: 箕輪 麻紀子 | J23: 様 | K23: 44 | L23: ・ | N23: ・ | P23: 0 | Q23: 野崎 拓哉 | T23: 様 | U23: 45 | W23: ・ | X23: ・ | Z23: 0 | AA23: 中居 敬悦 | AD23: 様
A24: 46 | C24: ・ | D24: ・ | F24: 56 | G24: 小林 美智子 | J24: 様 | K24: 47 | M24: ・ | N24: ・ | P24: 21 | Q24: 室山 外志髙 | T24: 様 | U24: 48 | W24: ・ | X24: ・ | Z24: 0 | AA24: 佐藤 初男 | AD24: 様
A25: 外来患者数 | E25: 新： | F25: =COUNTIF(B9:B24,"・")+COUNTIF(L9:L24,"・")+COUNTIF(V9:V24,"・") -> 3 | H25: 名 | I25: 再： | J25: =COUNTIF(C9:C24,"・")+COUNTIF(M9:M24,"・")+COUNTIF(W9:W24,"・") -> 45 | L25: 名 | M25: 計： | N25: =SUM(F25:K25) -> 48 | Q25: 名 | R25: （ | S25: 精： | T25: =COUNTIF(D9:D24,"・")+COUNTIF(N9:N24,"・")+COUNTIF(X9:X24,"・") -> 48 | W25: 名 | X25: ・ | Y25: 内： | Z25: =COUNTIF(E9:E24,"・")+COUNTIF(O9:O24,"・")+COUNTIF(Y9:Y24,"・") -> 0 | AC25: 名 | AD25: ）
A27: 紹介患者様氏名 | F27: 紹介先 | K27: 逆紹介患者様氏名 | P27: 紹介元 | U27: 処置実施者 | AA27: 処置内容
E28: 様 | K28: 舛谷 勝子 | O28: 様 | P28: 岡三沢診療所 | Z28: 様
E29: 様 | K29: 花輪 聖大 | O29: 様 | P29: 三沢自衛隊病院 | Z29: 様
E30: 様 | K30: 一戸 隆暢 | O30: 様 | P30: 三沢中央病院 | Z30: 様
A31: 本日の検査 | F31: 検査内容 | K31: 処置実施者 | P31: 処置内容 | Z31: 様
A32: 浦邊 健司 | E32: 様 | F32: 血液検査 | K32: 野田頭 真由美 | O32: 様 | P32: ハロマンス 50mg 1A | Z32: 様
A33: 木村 正子 | E33: 様 | F33: WAIS | O33: 様 | Z33: 様
E34: 様 | O34: 様 | Z34: 様
E35: 様 | O35: 様 | U35: 点検項目
E36: 様 | O36: 様 | U36: 項目 | Z36: 時間 | AC36: 点検者
A37: 発熱 | F37: 下痢 | K37: 風邪薬 | P37: 男性：18 | U37: 医療廃棄物 | Y37: 0.75 | AB37: 石原 恵海
A38: 0 | F38: 0 | K38: 0 | P38: 女性：30 | U38: 戸締り | Y38: 0.75 | AB38: 石谷 美代子
A40: 備考欄 | C40: （連絡事項・処方変更・その他）
G41: 特になし
G42: 石原

Sheet 2
B1: クリニック 日 誌 | H1: 令和 | J1: ='1'!J1 -> 2 | K1: 年 | L1: ='1'!L1 -> 4 | M1: 月 | N1: 2 | O1: 日 | Q1: （ | R1: 木 | S1: ） | V1: COO | Y1: IOO | AB1: AOM
A3: 勤務者名
A4: ='1'!A4:F4 -> 中村 恵理子 | G4: 日 | I4: 柳田 美雪 | N4: 日 | Q4: 診察室 | W4: 外来担当医 | Z4: 外来介助者
A5: 石原 恵海 | G5: 日 | I5: 石谷 美代子 | N5: 日 | Q5: 第１診察室 | U5: 千葉 潜 | Z5: 柳田・石原
Q6: 第２診察室 | U6: 深澤 隆 | Z6: 柳田・石原
B8: 新 | C8: 再 | D8: 精 | E8: 内 | F8: 処 | G8: 患者様氏名 | L8: 新 | M8: 再 | N8: 精 | O8: 内 | P8: 処 | Q8: 患者様氏名 | V8: 新 | W8: 再 | X8: 精 | Y8: 内 | Z8: 処 | AA8: 患者様氏名
A9: 1 | C9: ・ | D9: ・ | F9: 30 | G9: 小村 明日香 | J9: 様 | K9: 2 | M9: ・ | N9: ・ | P9: 28 | Q9: 遠藤 那菜 | T9: 様 | U9: 3 | W9: ・ | X9: ・ | Z9: 0 | AA9: 蛯名 彌志藏 | AD9: 様
A10: 4 | C10: ・ | D10: ・ | F10: 0 | G10: 花輪 聖大 | J10: 様 | K10: 5 | L10: ・ | N10: ・ | P10: 14 | Q10: 鷹架 イチ | T10: 様 | U10: 6 | W10: ・ | X10: ・ | Z10: 28 | AA10: 齊藤 翔太 | AD10: 様
A11: 7 | C11: ・ | D11: ・ | F11: 90 | G11: 佐藤 一枝 | J11: 様 | K11: 8 | L11: ・ | N11: ・ | P11: 0 | Q11: 坂田 優 | T11: 様 | U11: 9 | W11: ・ | X11: ・ | Z11: 28 | AA11: 舘花 嘉久 | AD11: 様
A12: 10 | C12: ・ | D12: ・ | F12: 0 | G12: 西舘 瞳 | J12: 様 | K12: 11 | M12: ・ | N12: ・ | P12: 7 | Q12: 中居 敬悦 | T12: 様 | U12: 12 | W12: ・ | X12: ・ | Z12: 30 | AA12: 西舘 ツル | AD12: 様
A13: 13 | C13: ・ | D13: ・ | F13: 28 | G13: 蛯沢 陽祐 | J13: 様 | K13: 14 | M13: ・ | N13: ・ | P13: 0 | Q13: 岩井 のどか | T13: 様 | U13: 15 | W13: ・ | X13: ・ | Z13: 56 | AA13: 中村 鐐一 | AD13: 様
A14: 16 | C14: ・ | D14: ・ | F14: 28 | G14: 中平 陽香 | J14: 様 | K14: 17 | M14: ・ | N14: ・ | P14: 42 | Q14: 杉村 義雄 | T14: 様 | U14: 18 | W14: ・ | X14: ・ | Z14: 30 | AA14: 飯田 昭子 | AD14: 様
A15: 19 | C15: ・ | D15: ・ | F15: 28 | G15: 石久保 香織 | J15: 様 | K15: 20 | M15: ・ | N15: ・ | P15: 30 | Q15: 河原崎 キヨエ | T15: 様 | U15: 21 | W15: ・ | X15: ・ | Z15: 0 | AA15: 工藤 健壽 | AD15: 様
A16: 22 | C16: ・ | D16: ・ | F16: 28 | G16: 濤岡 定四郎 | J16: 様 | K16: 23 | M16: ・ | N16: ・ | P16: 30 | Q16: 鈴木 愛子 | T16: 様 | U16: 24 | W16: ・ | X16: ・ | Z16: 0 | AA16: 柏木 薫 | AD16: 様
A17: 25 | C17: ・ | D17: ・ | F17: 28 | G17: 橋本 イチ | J17: 様 | K17: 26 | M17: ・ | N17: ・ | P17: 14 | Q17: 畑山 栄美子 | T17: 様 | U17: 27 | W17: ・ | X17: ・ | Z17: 0 | AA17: 高村 加津子 | AD17: 様
A18: 28 | C18: ・ | D18: ・ | F18: 28 | G18: 野々宮 ミヨ | J18: 様 | K18: 29 | M18: ・ | N18: ・ | P18: 56 | Q18: 船越 尚子 | T18: 様 | U18: 30 | W18: ・ | X18: ・ | Z18: 0 | AA18: 駒澤 キヤ | AD18: 様
A19: 31 | C19: ・ | D19: ・ | F19: 14 | G19: 太田 美津 | J19: 様 | K19: 32 | M19: ・ | N19: ・ | P19: 30 | Q19: 久保田 操 | T19: 様 | U19: 33 | W19: ・ | X19: ・ | Z19: 0 | AA19: 坂本 政勝 | AD19: 様
A20: 34 | C20: ・ | D20: ・ | F20: 90 | G20: 久保田 萌那 | J20: 様 | K20: 35 | M20: ・ | N20: ・ | P20: 21 | Q20: 藤ケ森 貴美枝 | T20: 様 | U20: 36 | W20: ・ | X20: ・ | Z20: 0 | AA20: 萠出 きのゑ | AD20: 様
A21: 37 | C21: ・ | D21: ・ | F21: 28 | G21: 町屋 睦子 | J21: 様 | K21: 38 | M21: ・ | N21: ・ | P21: 30 | Q21: 深沢口 誠 | T21: 様 | U21: 39 | W21: ・ | X21: ・ | Z21: 0 | AA21: 萠出 克治 | AD21: 様
A22: 40 | C22: ・ | D22: ・ | F22: 30 | G22: 赤川 美紀 | J22: 様 | K22: 41 | M22: ・ | N22: ・ | P22: 56 | Q22: 古里 イサ | T22: 様 | U22: 42 | W22: ・ | X22: ・ | Z22: 0 | AA22: 塚田 敏子 | AD22: 様
A23: 43 | C23: ・ | D23: ・ | F23: 28 | G23: 佐々木 ヨコ | J23: 様 | K23: 44 | M23: ・ | N23: ・ | P23: 56 | Q23: 横田 トキ | T23: 様 | U23: 45 | W23: ・ | X23: ・ | Z23: 28 | AA23: 村上 トクヱ | AD23: 様
A24: 46 | C24: ・ | D24: ・ | F24: 28 | G24: 蛯名 忍 | J24: 様 | K24: 47 | M24: ・ | N24: ・ | P24: 28 | Q24: 神田 輝子 | T24: 様 | U24: 48 | W24: ・ | X24: ・ | AA24: 蛇沼 紅子 | AD24: 様
A25: 49 | C25: ・ | D25: ・ | F25: 14 | G25: 岸 明香里 | J25: 様 | K25: 50 | T25: 様 | U25: 51 | AD25: 様
A26: 外来患者数 | E26: 新： | F26: =COUNTIF(B9:B25,"・")+COUNTIF(L9:L25,"・")+COUNTIF(V9:V25,"・") -> 2 | H26: 名 | I26: 再： | J26: =COUNTIF(C9:C25,"・")+COUNTIF(M9:M25,"・")+COUNTIF(W9:W25,"・") -> 47 | L26: 名 | M26: 計： | N26: =SUM(F26:K26) -> 49 | Q26: 名 | R26: （ | S26: 精： | T26: =COUNTIF(D9:D25,"・")+COUNTIF(N9:N25,"・")+COUNTIF(X9:X25,"・") -> 49 | W26: 名 | X26: ・ | Y26: 内： | Z26: =COUNTIF(E9:E25,"・")+COUNTIF(O9:O25,"・")+COUNTIF(Y9:Y25,"・") -> 0 | AC26: 名 | AD26: ）
A28: 紹介患者様氏名 | F28: 紹介先 | K28: 逆紹介患者様氏名 | P28: 紹介元 | U28: 処置実施者 | AA28: 処置内容
E29: 様 | O29: 様 | Z29: 様
A30: 本日の検査 | F30: 検査内容 | K30: 処置実施者 | P30: 処置内容 | Z30: 様
A31: 小村 明日香 | E31: 様 | F31: 風景 | O31: 様 | Z31: 様
A32: 岩井 のどか | E32: 様 | F32: WAIS | O32: 様 | Z32: 様
A33: 久保田 萌那 | E33: 様 | F33: 血液検査 | O33: 様 | Z33: 様
E34: 様 | O34: 様 | U34: 点検項目
E35: 様 | O35: 様 | U35: 項目 | Z35: 時間 | AC35: 点検者
A36: 発熱 | F36: 下痢 | K36: 風邪薬 | P36: 男性：15 | U36: 医療廃棄物 | Y36: 0.75 | AB36: 石原 恵海
A37: 0 | F37: 0 | K37: 0 | P37: 女性：34 | U37: 戸締り | Y37: 0.75 | AB37: ='1'!AB38:AD38 -> 石谷 美代子
A39: 備考欄 | C39: （連絡事項・処方変更・その他）
G40: 特になし
G41: 石原

Sheet 3
B1: クリニック 日 誌 | H1: 令和 | J1: ='1'!J1 -> 2 | K1: 年 | L1: ='1'!L1 -> 4 | M1: 月 | N1: 3 | O1: 日 | Q1: （ | R1: 金 | S1: ） | V1: COO | Y1: IOO | AB1: AOM
A3: 勤務者名
A4: ='1'!A4:F4 -> 中村 恵理子 | G4: 日 | I4: 柳田 美雪 | N4: 日 | Q4: 診察室 | W4: 外来担当医 | Z4: 外来介助者
A5: 石原 恵海 | G5: 日 | I5: 石谷 美代子 | N5: 日 | Q5: 第１診察室 | U5: 金 泰康 | Z5: 柳田・石原
Q6: 第２診察室 | U6: 千葉 良 | Z6: 柳田・石原
B8: 新 | C8: 再 | D8: 精 | E8: 内 | F8: 処 | G8: 患者様氏名 | L8: 新 | M8: 再 | N8: 精 | O8: 内 | P8: 処 | Q8: 患者様氏名 | V8: 新 | W8: 再 | X8: 精 | Y8: 内 | Z8: 処 | AA8: 患者様氏名
A9: 1 | C9: ・ | D9: ・ | F9: 45 | G9: 内藤 誠一郎 | J9: 様 | K9: 2 | M9: ・ | N9: ・ | P9: 30 | Q9: 佐々木 久美子 | T9: 様 | U9: 3 | W9: ・ | X9: ・ | Z9: 0 | AA9: 工藤 健壽 | AD9: 様
A10: 4 | C10: ・ | D10: ・ | F10: 60 | G10: 山崎 要四郎 | J10: 様 | K10: 5 | M10: ・ | N10: ・ | P10: 28 | Q10: 新山 光浩 | T10: 様 | U10: 6 | W10: ・ | X10: ・ | Z10: 0 | AA10: 瀬川 高雄 | AD10: 様
A11: 7 | C11: ・ | D11: ・ | F11: 28 | G11: 岩間 ツネ | J11: 様 | K11: 8 | M11: ・ | N11: ・ | P11: 14 | Q11: 古田 真 | T11: 様 | U11: 9 | W11: ・ | X11: ・ | Z11: 0 | AA11: 千葉 スワ | AD11: 様
A12: 10 | C12: ・ | D12: ・ | F12: 90 | G12: 小坂 良治 | J12: 様 | K12: 11 | M12: ・ | N12: ・ | P12: 30 | Q12: 古田 留美子 | T12: 様 | U12: 12 | W12: ・ | X12: ・ | Z12: 0 | AA12: 高村 加津子 | AD12: 様
A13: 13 | C13: ・ | D13: ・ | F13: 30 | G13: 市川 裕美 | J13: 様 | K13: 14 | M13: ・ | N13: ・ | P13: 30 | Q13: 増沢 修一 | T13: 様 | U13: 15 | W13: ・ | X13: ・ | Z13: 0 | AA13: 沼端 ミセ | AD13: 様
A14: 16 | C14: ・ | D14: ・ | F14: 28 | G14: 北村 イウ子 | J14: 様 | K14: 17 | L14: ・ | N14: ・ | P14: 0 | Q14: 菊地 秀樹 | T14: 様 | U14: 18 | W14: ・ | X14: ・ | Z14: 0 | AA14: 工藤 富雄 | AD14: 様
A15: 19 | C15: ・ | D15: ・ | F15: 28 | G15: 市川 太佑 | J15: 様 | K15: 20 | M15: ・ | N15: ・ | P15: 28 | Q15: 大釜 美香子 | T15: 様 | U15: 21 | W15: ・ | X15: ・ | Z15: 0 | AA15: 萠出 克治 | AD15: 様
A16: 22 | C16: ・ | D16: ・ | F16: 30 | G16: 萠出 きのゑ | J16: 様 | K16: 23 | M16: ・ | N16: ・ | P16: 0 | Q16: 武良 ミセ | T16: 様 | U16: 24 | W16: ・ | X16: ・ | Z16: 0 | AA16: 坂本 政勝 | AD16: 様
A17: 25 | C17: ・ | D17: ・ | F17: 60 | G17: 大橋 正男 | J17: 様 | K17: 26 | M17: ・ | N17: ・ | P17: 30 | Q17: 坂本 明広 | T17: 様 | U17: 27 | W17: ・ | X17: ・ | Z17: 30 | AA17: 砂渡 夏実 | AD17: 様
A18: 28 | C18: ・ | D18: ・ | F18: 30 | G18: 花松 ナヨ | J18: 様 | K18: 29 | M18: ・ | N18: ・ | P18: 28 | Q18: 小比券巻 登 | T18: 様 | U18: 30 | W18: ・ | X18: ・ | Z18: 30 | AA18: 角 汰一 | AD18: 様
A19: 31 | C19: ・ | D19: ・ | F19: 30 | G19: 古川 とし | J19: 様 | K19: 32 | M19: ・ | N19: ・ | P19: 21 | Q19: 山田 淳一 | T19: 様 | U19: 33 | W19: ・ | X19: ・ | Z19: 30 | AA19: 小塚 龍之介 | AD19: 様
A20: 34 | C20: ・ | D20: ・ | F20: 28 | G20: 望月 恵美子 | J20: 様 | K20: 35 | M20: ・ | N20: ・ | P20: 0 | Q20: 岩井 のどか | T20: 様 | U20: 36 | W20: ・ | X20: ・ | Z20: 30 | AA20: 杉元 悠敏 | AD20: 様
A21: 37 | C21: ・ | D21: ・ | F21: 28 | G21: 蒔苗 美穂子 | J21: 様 | K21: 38 | M21: ・ | N21: ・ | P21: 0 | Q21: 小村 明日香 | T21: 様 | U21: 39 | W21: ・ | X21: ・ | Z21: 30 | AA21: 石久保 美来 | AD21: 様
A22: 40 | C22: ・ | D22: ・ | F22: 30 | G22: 重面 宏子 | J22: 様 | K22: 41 | M22: ・ | N22: ・ | P22: 0 | Q22: 原 大輔 | T22: 様 | U22: 42 | W22: ・ | X22: ・ | Z22: 30 | AA22: 成田 陸翔 | AD22: 様
A23: 43 | C23: ・ | D23: ・ | F23: 30 | G23: 高田 昭彦 | J23: 様 | K23: 44 | M23: ・ | N23: ・ | P23: 0 | Q23: 工藤 公夫 | T23: 様 | U23: 45 | W23: ・ | X23: ・ | Z23: 0 | AA23: 中河原 いさ | AD23: 様
A24: 46 | C24: ・ | D24: ・ | F24: 0 | G24: 武良 ミセ | J24: 様 | K24: 47 | T24: 様 | U24: 48 | AD24: 様
A25: 外来患者数 | E25: 新： | F25: =COUNTIF(B9:B24,"・")+COUNTIF(L9:L24,"・")+COUNTIF(V9:V24,"・") -> 1 | H25: 名 | I25: 再： | J25: =COUNTIF(C9:C24,"・")+COUNTIF(M9:M24,"・")+COUNTIF(W9:W24,"・") -> 45 | L25: 名 | M25: 計： | N25: =SUM(F25:K25) -> 46 | Q25: 名 | R25: （ | S25: 精： | T25: =COUNTIF(D9:D24,"・")+COUNTIF(N9:N24,"・")+COUNTIF(X9:X24,"・") -> 46 | W25: 名 | X25: ・ | Y25: 内： | Z25: =COUNTIF(E9:E24,"・")+COUNTIF(O9:O24,"・")+COUNTIF(Y9:Y24,"・") -> 0 | AC25: 名 | AD25: ）
A27: 紹介患者様氏名 | F27: 紹介先 | K27: 逆紹介患者様氏名 | P27: 紹介元 | U27: 処置実施者 | AA27: 処置内容
E28: 様 | O28: 様 | Z28: 様
A29: 本日の検査 | F29: 検査内容 | K29: 処置実施者 | P29: 処置内容 | Z29: 様
A30: 角 汰一 | E30: 様 | F30: 血液検査 | O30: 様 | Z30: 様
A31: 工藤 富雄 | E31: 様 | F31: WAIS | O31: 様 | Z31: 様
A32: 小村 明日香 | E32: 様 | F32: 人格・Ror | O32: 様 | Z32: 様
A33: 岩井 のどか | E33: 様 | F33: 人格・Ror | O33: 様 | U33: 点検項目
A34: 原 大輔 | E34: 様 | F34: WAIS | O34: 様 | U34: 項目 | Z34: 時間 | AC34: 点検者
A35: 発熱 | F35: 下痢 | K35: 風邪薬 | P35: 男性：24 | U35: 医療廃棄物 | Y35: 0.75 | AB35: 石原 恵海
A36: 0 | F36: 0 | K36: 0 | P36: 女性：22 | U36: 戸締り | Y36: 0.75 | AB36: ='1'!AB38:AD38 -> 石谷 美代子
A38: 備考欄 | C38: （連絡事項・処方変更・その他）
G39: 特になし
G40: 石原

Sheet 4
B1: クリニック 日 誌 | H1: 令和 | J1: ='1'!J1 -> 2 | K1: 年 | L1: ='1'!L1 -> 4 | M1: 月 | N1: 4 | O1: 日 | Q1: （ | S1: ） | V1: COO | Y1: IOO | AB1: AOM
A3: 勤務者名
A4: ='1'!A4:F4 -> 中村 恵理子 | G4: 日 | I4: 柳田 美雪 | N4: 日 | Q4: 診察室 | W4: 外来担当医 | Z4: 外来介助者
A5: 石原 恵海 | G5: 日 | Q5: 第１診察室 | Z5: 柳田・石原
Q6: 第２診察室
B8: 新 | C8: 再 | D8: 精 | E8: 内 | F8: 処 | G8: 患者様氏名 | L8: 新 | M8: 再 | N8: 精 | O8: 内 | P8: 処 | Q8: 患者様氏名 | V8: 新 | W8: 再 | X8: 精 | Y8: 内 | Z8: 処 | AA8: 患者様氏名
A9: 1 | J9: 様 | K9: 2 | T9: 様 | U9: 3 | AD9: 様
A10: 4 | J10: 様 | K10: 5 | T10: 様 | U10: 6 | AD10: 様
A11: 7 | J11: 様 | K11: 8 | T11: 様 | U11: 9 | AD11: 様
A12: 10 | J12: 様 | K12: 11 | T12: 様 | U12: 12 | AD12: 様
A13: 13 | J13: 様 | K13: 14 | T13: 様 | U13: 15 | AD13: 様
A14: 16 | J14: 様 | K14: 17 | T14: 様 | U14: 18 | AD14: 様
A15: 19 | J15: 様 | K15: 20 | T15: 様 | U15: 21 | AD15: 様
A16: 22 | J16: 様 | K16: 23 | T16: 様 | U16: 24 | AD16: 様
A17: 25 | J17: 様 | K17: 26 | T17: 様 | U17: 27 | AD17: 様
A18: 28 | J18: 様 | K18: 29 | T18: 様 | U18: 30 | AD18: 様
A19: 31 | J19: 様 | K19: 32 | T19: 様 | U19: 33 | AD19: 様
A20: 34 | J20: 様 | K20: 35 | T20: 様 | U20: 36 | AD20: 様
... A33: 73 | J33: 様 | K33: 74 | T33: 様 | U33: 75 | AD33: 様
A34: 外来患者数 | E34: 新： | F34: =COUNTIF(B9:B33,"・")+COUNTIF(L9:L33,"・")+COUNTIF(V9:V33,"・") -> 0 | H34: 名 | I34: 再： | J34: =COUNTIF(C9:C33,"・")+COUNTIF(M9:M33,"・")+COUNTIF(W9:W33,"・") -> 0 | L34: 名 | M34: 計： | N34: =SUM(F34:K34) -> 0 | Q34: 名 | R34: （ | S34: 精： | T34: =COUNTIF(D9:D33,"・")+COUNTIF(N9:N33,"・")+COUNTIF(X9:X33,"・") -> 0 | W34: 名 | X34: ・ | Y34: 内： | Z34: =COUNTIF(E9:E33,"・")+COUNTIF(O9:O33,"・")+COUNTIF(Y9:Y33,"・") -> 0 | AC34: 名 | AD34: ）
A36: 紹介患者様氏名 | F36: 紹介先 | K36: 逆紹介患者様氏名 | P36: 紹介元 | U36: 処置実施者 | AA36: 処置内容
E37: 様 | O37: 様 | Z37: 様
E38: 様 | O38: 様 | Z38: 様
E39: 様 | O39: 様 | Z39: 様
E40: 様 | O40: 様 | Z40: 様
E41: 様 | O41: 様 | Z41: 様
A42: 本日の検査 | F42: 検査内容 | K42: 処置実施者 | P42: 処置内容 | Z42: 様
E43: 様 | O43: 様 | Z43: 様
E44: 様 | O44: 様 | Z44: 様
E45: 様 | O45: 様 | Z45: 様
E46: 様 | O46: 様 | U46: 点検項目
E47: 様 | O47: 様 | U47: 項目 | Z47: 時間 | AC47: 点検者
A48: 発熱 | F48: 下痢 | K48: 風邪薬 | P48: 男性： | U48: 医療廃棄物 | Y48: 0.75
A49: 0 | F49: 0 | K49: 0 | P49: 女性： | U49: 戸締り | Y49: 0.75 | AB49: ='1'!AB38:AD38 -> 石谷 美代子
A51: 備考欄 | C51: （連絡事項・処方変更・その他）

Sheet 5
B1: クリニック 日 誌 | H1: 令和 | J1: ='1'!J1 -> 2 | K1: 年 | L1: ='1'!L1 -> 4 | M1: 月 | N1: 5 | O1: 日 | Q1: （ | S1: ） | V1: COO | Y1: IOO | AB1: AOM
A3: 勤務者名
A4: ='1'!A4:F4 -> 中村 恵理子 | G4: 日 | I4: 柳田 美雪 | N4: 日 | Q4: 診察室 | W4: 外来担当医 | Z4: 外来介助者
A5: 石原 恵海 | G5: 日 | Q5: 第１診察室 | Z5: 柳田・石原
Q6: 第２診察室
B8: 新 | C8: 再 | D8: 精 | E8: 内 | F8: 処 | G8: 患者様氏名 | L8: 新 | M8: 再 | N8: 精 | O8: 内 | P8: 処 | Q8: 患者様氏名 | V8: 新 | W8: 再 | X8: 精 | Y8: 内 | Z8: 処 | AA8: 患者様氏名
A9: 1 | J9: 様 | K9: 2 | T9: 様 | U9: 3 | AD9: 様
A10: 4 | J10: 様 | K10: 5 | T10: 様 | U10: 6 | AD10: 様
A11: 7 | J11: 様 | K11: 8 | T11: 様 | U11: 9 | AD11: 様
A12: 10 | J12: 様 | K12: 11 | T12: 様 | U12: 12 | AD12: 様
A13: 13 | J13: 様 | K13: 14 | T13: 様 | U13: 15 | AD13: 様
A14: 16 | J14: 様 | K14: 17 | T14: 様 | U14: 18 | AD14: 様
A15: 19 | J15: 様 | K15: 20 | T15: 様 | U15: 21 | AD15: 様
A16: 22 | J16: 様 | K16: 23 | T16: 様 | U16: 24 | AD16: 様
A17: 25 | J17: 様 | K17: 26 | T17: 様 | U17: 27 | AD17: 様
A18: 28 | J18: 様 | K18: 29 | T18: 様 | U18: 30 | AD18: 様
A19: 31 | J19: 様 | K19: 32 | T19: 様 | U19: 33 | AD19: 様
A20: 34 | J20: 様 | K20: 35 | T20: 様 | U20: 36 | AD20: 様
... A33: 73 | J33: 様 | K33: 74 | T33: 様 | U33: 75 | AD33: 様
A34: 外来患者数 | E34: 新： | F34: =COUNTIF(B9:B33,"・")+COUNTIF(L9:L33,"・")+COUNTIF(V9:V33,"・") -> 0 | H34: 名 | I34: 再： | J34: =COUNTIF(C9:C33,"・")+COUNTIF(M9:M33,"・")+COUNTIF(W9:W33,"・") -> 0 | L34: 名 | M34: 計： | N34: =SUM(F34:K34) -> 0 | Q34: 名 | R34: （ | S34: 精： | T34: =COUNTIF(D9:D33,"・")+COUNTIF(N9:N33,"・")+COUNTIF(X9:X33,"・") -> 0 | W34: 名 | X34: ・ | Y34: 内： | Z34: =COUNTIF(E9:E33,"・")+COUNTIF(O9:O33,"・")+COUNTIF(Y9:Y33,"・") -> 0 | AC34: 名 | AD34: ）
A36: 紹介患者様氏名 | F36: 紹介先 | K36: 逆紹介患者様氏名 | P36: 紹介元 | U36: 処置実施者 | AA36: 処置内容
E37: 様 | O37: 様 | Z37: 様
E38: 様 | O38: 様 | Z38: 様
E39: 様 | O39: 様 | Z39: 様
E40: 様 | O40: 様 | Z40: 様
E41: 様 | O41: 様 | Z41: 様
A42: 本日の検査 | F42: 検査内容 | K42: 処置実施者 | P42: 処置内容 | Z42: 様
E43: 様 | O43: 様 | Z43: 様
E44: 様 | O44: 様 | Z44: 様
E45: 様 | O45: 様 | Z45: 様
E46: 様 | O46: 様 | U46: 点検項目
E47: 様 | O47: 様 | U47: 項目 | Z47: 時間 | AC47: 点検者
A48: 発熱 | F48: 下痢 | K48: 風邪薬 | P48: 男性： | U48: 医療廃棄物 | Y48: 0.75
A49: 0 | F49: 0 | K49: 0 | P49: 女性： | U49: 戸締り | Y49: 0.75 | AB49: ='1'!AB38:AD38 -> 石谷 美代子
A51: 備考欄 | C51: （連絡事項・処方変更・その他）

Sheet 6
B1: クリニック 日 誌 | H1: 令和 | J1: ='1'!J1 -> 2 | K1: 年 | L1: ='1'!L1 -> 4 | M1: 月 | N1: 6 | O1: 日 | Q1: （ | R1: 月 | S1: ） | V1: COO | Y1: IOO | AB1: AOM
A3: 勤務者名
A4: 中村 恵理子 | G4: 日 | I4: 柳田 美雪 | N4: 日 | Q4: 診察室 | W4: 外来担当医 | Z4: 外来介助者
A5: 石原 恵海 | G5: 日 | I5: 石谷 美代子 | N5: 日 | Q5: 第１診察室 | U5: 馬渡 晃弘 | Z5: 柳田・石原
Q6: 第２診察室 | U6: 千葉 良 | Z6: 柳田・石原
B8: 新 | C8: 再 | D8: 精 | E8: 内 | F8: 処 | G8: 患者様氏名 | L8: 新 | M8: 再 | N8: 精 | O8: 内 | P8: 処 | Q8: 患者様氏名 | V8: 新 | W8: 再 | X8: 精 | Y8: 内 | Z8: 処 | AA8: 患者様氏名
A9: 1 | C9: ・ | D9: ・ | F9: 28 | G9: 畠山 まゆみ | J9: 様 | K9: 2 | M9: ・ | N9: ・ | P9: 56 | Q9: 吉田 ヤツヨ | T9: 様 | U9: 3 | W9: ・ | X9: ・ | Z9: 28 | AA9: 鈴木 健一 | AD9: 様
A10: 4 | C10: ・ | D10: ・ | F10: 28 | G10: 小泉 キセ | J10: 様 | K10: 5 | M10: ・ | N10: ・ | P10: 30 | Q10: 沼山 武美 | T10: 様 | U10: 6 | W10: ・ | X10: ・ | Z10: 30 | AA10: 乙供 ひかる | AD10: 様
A11: 7 | C11: ・ | D11: ・ | F11: 28 | G11: 沼田 ひろ子 | J11: 様 | K11: 8 | M11: ・ | N11: ・ | P11: 28 | Q11: 沼山 詩織 | T11: 様 | U11: 9 | V11: ・ | X11: ・ | Z11: 14 | AA11: 野坂 裕子 | AD11: 様
A12: 10 | C12: ・ | D12: ・ | F12: 56 | G12: 織笠 重作 | J12: 様 | K12: 11 | M12: ・ | N12: ・ | P12: 14 | Q12: 伊瀬 雄介 | T12: 様 | U12: 12 | W12: ・ | X12: ・ | Z12: 21 | AA12: 細田 洋一 | AD12: 様
A13: 13 | C13: ・ | D13: ・ | F13: 28 | G13: 小橋 裕見子 | J13: 様 | K13: 14 | M13: ・ | N13: ・ | P13: 21 | Q13: 坪 和昭 | T13: 様 | U13: 15 | W13: ・ | X13: ・ | Z13: 14 | AA13: 原 奈々絵 | AD13: 様
A14: 16 | C14: ・ | D14: ・ | F14: 56 | G14: 相内 照美 | J14: 様 | K14: 17 | M14: ・ | N14: ・ | P14: 28 | Q14: 加藤 有里 | T14: 様 | U14: 18 | W14: ・ | X14: ・ | Z14: 7 | AA14: 星 歩 | AD14: 様
A15: 19 | C15: ・ | D15: ・ | F15: 30 | G15: 浄法寺 七海 | J15: 様 | K15: 20 | M15: ・ | N15: ・ | P15: 14 | Q15: 矢幅 比呂之 | T15: 様 | U15: 21 | W15: ・ | X15: ・ | Z15: 56 | AA15: 遠山 順三 | AD15: 様
A16: 22 | C16: ・ | D16: ・ | F16: 56 | G16: 佐藤 貞子 | J16: 様 | K16: 23 | M16: ・ | N16: ・ | P16: 28 | Q16: 小向 洋二 | T16: 様 | U16: 24 | W16: ・ | X16: ・ | Z16: 0 | AA16: 工藤 健壽 | AD16: 様
A17: 25 | C17: ・ | D17: ・ | F17: 28 | G17: 附田 亜矢子 | J17: 様 | K17: 26 | L17: ・ | N17: ・ | P17: 0 | Q17: 阿部 利博 | T17: 様 | U17: 27 | W17: ・ | X17: ・ | Z17: 0 | AA17: 高村 加津子 | AD17: 様
A18: 28 | C18: ・ | D18: ・ | F18: 56 | G18: 吉田 武雄 | J18: 様 | K18: 29 | M18: ・ | N18: ・ | P18: 0 | Q18: 角 茜莉 | T18: 様 | U18: 30 | W18: ・ | X18: ・ | Z18: 0 | AA18: 瀬川 高雄 | AD18: 様
A19: 31 | C19: ・ | D19: ・ | F19: 28 | G19: 遠嶋 剛 | J19: 様 | K19: 32 | M19: ・ | N19: ・ | P19: 30 | Q19: 船場 颯太 | T19: 様 | U19: 33 | W19: ・ | X19: ・ | Z19: 0 | AA19: 深町 栄美子 | AD19: 様
A20: 34 | C20: ・ | D20: ・ | F20: 56 | G20: 沼端 ミセ | J20: 様 | K20: 35 | M20: ・ | N20: ・ | P20: 30 | Q20: 蛯名 海斗 | T20: 様 | U20: 36 | W20: ・ | X20: ・ | Z20: 0 | AA20: 工藤 富雄 | AD20: 様
A21: 37 | C21: ・ | D21: ・ | F21: 0 | G21: 坂本 政勝 | J21: 様 | K21: 38 | M21: ・ | N21: ・ | P21: 30 | Q21: 坂本 達哉 | T21: 様 | U21: 39 | W21: ・ | X21: ・ | Z21: 0 | AA21: 萠出 きのゑ | AD21: 様
A22: 40 | C22: ・ | D22: ・ | F22: 30 | G22: 有馬 大和 | J22: 様 | K22: 41 | M22: ・ | N22: ・ | P22: 30 | Q22: 高城 琉壱 | T22: 様 | U22: 42 | W22: ・ | X22: ・ | Z22: 0 | AA22: 萠出 克治 | AD22: 様
A23: 43 | C23: ・ | D23: ・ | F23: 30 | G23: 横沢 美羽 | J23: 様 | K23: 44 | M23: ・ | N23: ・ | P23: 30 | Q23: 冨田 空 | T23: 様 | U23: 45 | AD23: 様
A24: 外来患者数 | E24: 新： | F24: =COUNTIF(B9:B23,"・")+COUNTIF(L9:L23,"・")+COUNTIF(V9:V23,"・") -> 2 | H24: 名 | I24: 再： | J24: =COUNTIF(C9:C23,"・")+COUNTIF(M9:M23,"・")+COUNTIF(W9:W23,"・") -> 42 | L24: 名 | M24: 計： | N24: =SUM(F24:K24) -> 44 | Q24: 名 | R24: （ | S24: 精： | T24: =COUNTIF(D9:D23,"・")+COUNTIF(N9:N23,"・")+COUNTIF(X9:X23,"・") -> 44 | W24: 名 | X24: ・ | Y24: 内： | Z24: =COUNTIF(E9:E23,"・")+COUNTIF(O9:O23,"・")+COUNTIF(Y9:Y23,"・") -> 0 | AC24: 名 | AD24: ）
A26: 紹介患者様氏名 | F26: 紹介先 | K26: 逆紹介患者様氏名 | P26: 紹介元 | U26: 処置実施者 | AA26: 処置内容
A27: 加藤 有里 | E27: 様 | F27: 市橋クリニック | O27: 様 | Z27: 様
A28: 阿部 利博 | E28: 様 | F28: 高松病院 | O28: 様 | Z28: 様
E29: 様 | O29: 様 | Z29: 様
E30: 様 | O30: 様 | Z30: 様
E31: 様 | O31: 様 | Z31: 様
A32: 本日の検査 | F32: 検査内容 | K32: 本日の検査 | P32: 検査内容 | Z32: 様
A33: 有馬 大和 | E33: 様 | F33: 血液検査 | K33: 原 奈々絵 | O33: 様 | P33: 血液検査 | Z33: 様
A34: 吉田 武雄 | E34: 様 | F34: HDS-R.MMSE | O34: 様 | Z34: 様
A35: 横沢 美羽 | E35: 様 | F35: 血液検査 | O35: 様 | U35: 点検項目
A36: 阿部 利博 | E36: 様 | F36: HDS-R.MMSE | O36: 様 | U36: 項目 | Z36: 時間 | AC36: 点検者
A37: 発熱 | F37: 下痢 | K37: 風邪薬 | P37: 男性：24 | U37: 医療廃棄物 | Y37: 0.75 | AB37: 柳田 美雪
A38: 0 | F38: 0 | K38: 0 | P38: 女性：20 | U38: 戸締り | Y38: 0.75 | AB38: 中村 恵理子
A40: 備考欄 | C40: （連絡事項・処方変更・その他）
G41: 特になし
G42: 石原

Sheet 7
B1: クリニック 日 誌 | H1: 令和 | J1: ='6'!J1 -> 2 | K1: 年 | L1: ='1'!L1 -> 4 | M1: 月 | N1: 7 | O1: 日 | Q1: （ | R1: 火 | S1: ） | V1: COO | Y1: IOO | AB1: AOM
A3: 勤務者名
A4: ='6'!A4:F4 -> 中村 恵理子 | G4: 日 | I4: 柳田 美雪 | N4: 日 | Q4: 診察室 | W4: 外来担当医 | Z4: 外来介助者
A5: 石原 恵海 | G5: 日 | I5: 石谷 美代子 | N5: 日 | Q5: 第１診察室 | U5: 千葉 潜 | Z5: 柳田・石原
Q6: 第２診察室 | U6: 千葉 良 | Z6: 柳田・石原
B8: 新 | C8: 再 | D8: 精 | E8: 内 | F8: 処 | G8: 患者様氏名 | L8: 新 | M8: 再 | N8: 精 | O8: 内 | P8: 処 | Q8: 患者様氏名 | V8: 新 | W8: 再 | X8: 精 | Y8: 内 | Z8: 処 | AA8: 患者様氏名
A9: 1 | C9: ・ | E9: ・ | F9: 5 | G9: 大下内 テル | J9: 様 | K9: 2 | M9: ・ | N9: ・ | P9: 0 | Q9: 柿本 禮子 | T9: 様 | U9: 3 | W9: ・ | X9: ・ | Z9: 7 | AA9: 田口 トシ子 | AD9: 様
A10: 4 | C10: ・ | D10: ・ | F10: 30 | G10: 大野 宏子 | J10: 様 | K10: 5 | M10: ・ | N10: ・ | P10: 42 | Q10: 中村 ミサ | T10: 様 | U10: 6 | W10: ・ | X10: ・ | Z10: 21 | AA10: 山田 秀徳 | AD10: 様
A11: 7 | C11: ・ | D11: ・ | F11: 28 | G11: 尾形 志津香 | J11: 様 | K11: 8 | L11: ・ | N11: ・ | P11: 0 | Q11: 野々宮 重美 | T11: 様 | U11: 9 | W11: ・ | X11: ・ | Z11: 0 | AA11: 水上 民一 | AD11: 様
A12: 10 | C12: ・ | D12: ・ | F12: 30 | G12: 戸村 節子 | J12: 様 | K12: 11 | M12: ・ | N12: ・ | P12: 8 | Q12: 鈴木 敏信 | T12: 様 | U12: 12 | W12: ・ | X12: ・ | Z12: 28 | AA12: 佐々木 富雄 | AD12: 様
A13: 13 | C13: ・ | D13: ・ | F13: 28 | G13: 向井 ヒロ子 | J13: 様 | K13: 14 | M13: ・ | N13: ・ | P13: 28 | Q13: 冨田 勝政 | T13: 様 | U13: 15 | W13: ・ | X13: ・ | Z13: 0 | AA13: 坂本 政勝 | AD13: 様
A14: 16 | C14: ・ | D14: ・ | F14: 28 | G14: 古川 美姫 | J14: 様 | K14: 17 | M14: ・ | N14: ・ | P14: 35 | Q14: 宮崎 真一 | T14: 様 | U14: 18 | W14: ・ | X14: ・ | Z14: 14 | AA14: 高橋 佳子 | AD14: 様
A15: 19 | C15: ・ | D15: ・ | F15: 42 | G15: 古川 ミキ | J15: 様 | K15: 20 | M15: ・ | N15: ・ | P15: 35 | Q15: 和田 懸 | T15: 様 | U15: 21 | W15: ・ | X15: ・ | Z15: 28 | AA15: 川村 一也 | AD15: 様
A16: 22 | C16: ・ | D16: ・ | F16: 42 | G16: 高根 あつ子 | J16: 様 | K16: 23 | M16: ・ | N16: ・ | P16: 21 | Q16: 木下内 秀一 | T16: 様 | U16: 24 | W16: ・ | X16: ・ | Z16: 0 | AA16: 下山 優芽 | AD16: 様
A17: 25 | C17: ・ | D17: ・ | F17: 42 | G17: 大竹 紀美子 | J17: 様 | K17: 26 | M17: ・ | N17: ・ | P17: 56 | Q17: 松林 アサ | T17: 様 | U17: 27 | W17: ・ | X17: ・ | Z17: 0 | AA17: 佐々木 隆明 | AD17: 様
A18: 28 | C18: ・ | D18: ・ | F18: 14 | G18: 小比券巻 由美 | J18: 様 | K18: 29 | M18: ・ | N18: ・ | P18: 0 | Q18: 鹿糠 泰裕 | T18: 様 | U18: 30 | W18: ・ | X18: ・ | Z18: 35 | AA18: 小川 サクラ | AD18: 様
A19: 31 | B19: ・ | D19: ・ | F19: 0 | G19: 太田 結子 | J19: 様 | K19: 32 | M19: ・ | N19: ・ | P19: 35 | Q19: 針田 朋江 | T19: 様 | U19: 33 | W19: ・ | X19: ・ | Z19: 0 | AA19: 石井 佐代子 | AD19: 様
A20: 34 | C20: ・ | D20: ・ | F20: 35 | G20: 熊谷 貴之 | J20: 様 | K20: 35 | M20: ・ | N20: ・ | P20: 21 | Q20: 市川 貴裕 | T20: 様 | U20: 36 | W20: ・ | X20: ・ | Z20: 0 | AA20: 工藤 健壽 | AD20: 様
A21: 37 | C21: ・ | D21: ・ | F21: 42 | G21: 清野 栄子 | J21: 様 | K21: 38 | M21: ・ | N21: ・ | P21: 20 | Q21: 苫米地 昭夫 | T21: 様 | U21: 39 | W21: ・ | X21: ・ | Z21: 35 | AA21: 高村 加津子 | AD21: 様
A22: 40 | C22: ・ | D22: ・ | F22: 14 | G22: 野々宮 俊江 | J22: 様 | K22: 41 | M22: ・ | N22: ・ | P22: 7 | Q22: 武内 隆三 | T22: 様 | U22: 42 | W22: ・ | X22: ・ | Z22: 0 | AA22: 瀬川 高雄 | AD22: 様
A23: 43 | C23: ・ | D23: ・ | F23: 35 | G23: 島名 恵子 | J23: 様 | K23: 44 | M23: ・ | N23: ・ | P23: 35 | Q23: 菊地 真美 | T23: 様 | U23: 45 | W23: ・ | X23: ・ | Z23: 0 | AA23: 萠出 きのゑ | AD23: 様
A24: 46 | C24: ・ | D24: ・ | F24: 0 | G24: 橋本 豊彦 | J24: 様 | K24: 47 | M24: ・ | N24: ・ | P24: 0 | Q24: 駒澤 キヤ | T24: 様 | U24: 48 | Z24: 0 | AA24: 萠出 克治 | AD24: 様
A25: 外来患者数 | E25: 新： | F25: =COUNTIF(B9:B24,"・")+COUNTIF(L9:L24,"・")+COUNTIF(V9:V24,"・") -> 2 | H25: 名 | I25: 再： | J25: =COUNTIF(C9:C24,"・")+COUNTIF(M9:M24,"・")+COUNTIF(W9:W24,"・") -> 45 | L25: 名 | M25: 計： | N25: =SUM(F25:K25) -> 47 | Q25: 名 | R25: （ | S25: 精： | T25: =COUNTIF(D9:D24,"・")+COUNTIF(N9:N24,"・")+COUNTIF(X9:X24,"・") -> 46 | W25: 名 | X25: ・ | Y25: 内： | Z25: =COUNTIF(E9:E24,"・")+COUNTIF(O9:O24,"・")+COUNTIF(Y9:Y24,"・") -> 1 | AC25: 名 | AD25: ）
A27: 紹介患者様氏名 | F27: 紹介先 | K27: 逆紹介患者様氏名 | P27: 紹介元 | U27: 処置実施者 | AA27: 処置内容
A28: 佐々木 隆明 | E28: 様 | F28: みさわの森クリニック | K28: 鹿糠 泰裕 | O28: 様 | P28: 東大宮メンタルクリニック | Z28: 様
E29: 様 | O29: 様 | Z29: 様
A30: 本日の検査 | F30: 検査内容 | K30: 処置実施者 | P30: 処置内容 | Z30: 様
A31: 野々宮 重美 | E31: 様 | F31: HDS-R,MMSE,血液検査 | O31: 様 | Z31: 様
A32: 田口 トシ子 | E32: 様 | F32: HDS-R,MMSE,血液検査 | O32: 様 | Z32: 様
E33: 様 | O33: 様 | U33: 点検項目
E34: 様 | O34: 様 | U34: 項目 | Z34: 時間 | AC34: 点検者
A35: 発熱 | F35: 下痢 | K35: 風邪薬 | P35: 男性：21 | U35: 医療廃棄物 | Y35: 0.75 | AB35: 柳田 美雪
A36: 0 | F36: 0 | K36: 0 | P36: 女性：27 | U36: 戸締り | Y36: 0.75 | AB36: ='6'!AB38:AD38 -> 中村 恵理子
A38: 備考欄 | C38: （連絡事項・処方変更・その他）
G39: 特になし
G40: 石原

Sheet 8
B1: クリニック 日 誌 | H1: 令和 | J1: ='6'!J1 -> 2 | K1: 年 | L1: ='1'!L1 -> 4 | M1: 月 | N1: 8 | O1: 日 | Q1: （ | R1: 水 | S1: ） | V1: COO | Y1: IOO | AB1: AOM
A3: 勤務者名
A4: ='7'!A4:F4 -> 中村 恵理子 | G4: 日 | I4: 柳田 美雪 | N4: 日 | Q4: 診察室 | W4: 外来担当医 | Z4: 外来介助者
A5: 石原 恵海 | G5: 日 | I5: ='6'!I5:M5 -> 石谷 美代子 | N5: 日 | Q5: 第１診察室 | U5: 千葉 潜 | Z5: 柳田・石原
Q6: 第２診察室
B8: 新 | C8: 再 | D8: 精 | E8: 内 | F8: 処 | G8: 患者様氏名 | L8: 新 | M8: 再 | N8: 精 | O8: 内 | P8: 処 | Q8: 患者様氏名 | V8: 新 | W8: 再 | X8: 精 | Y8: 内 | Z8: 処 | AA8: 患者様氏名
A9: 1 | C9: ・ | D9: ・ | F9: 28 | G9: 岩城 芳枝 | J9: 様 | K9: 2 | M9: ・ | N9: ・ | P9: 35 | Q9: 一戸 幸子 | T9: 様 | U9: 3 | W9: ・ | X9: ・ | Z9: 0 | AA9: 千葉 スワ | AD9: 様
A10: 4 | C10: ・ | D10: ・ | F10: 28 | G10: 種市 紀子 | J10: 様 | K10: 5 | M10: ・ | N10: ・ | P10: 35 | Q10: 木村 久子 | T10: 様 | U10: 6 | W10: ・ | X10: ・ | Z10: 0 | AA10: 工藤 富雄 | AD10: 様
A11: 7 | C11: ・ | D11: ・ | F11: 30 | G11: 小比券巻 千和子 | J11: 様 | K11: 8 | M11: ・ | N11: ・ | P11: 42 | Q11: 塚田 敏子 | T11: 様 | U11: 9 | W11: ・ | X11: ・ | Z11: 0 | AA11: 瀬川 高雄 | AD11: 様
A12: 10 | C12: ・ | D12: ・ | F12: 35 | G12: 熊野 千代子 | J12: 様 | K12: 11 | M12: ・ | N12: ・ | P12: 35 | Q12: 沖田 千喜子 | T12: 様 | U12: 12 | W12: ・ | X12: ・ | Z12: 0 | AA12: 石ケ谷 數子 | AD12: 様
A13: 13 | C13: ・ | D13: ・ | F13: 35 | G13: 米内 清人 | J13: 様 | K13: 14 | M13: ・ | N13: ・ | P13: 30 | Q13: 藤原 チイ | T13: 様 | U13: 15 | W13: ・ | X13: ・ | Z13: 0 | AA13: 豊川 洋子 | AD13: 様
A14: 16 | C14: ・ | D14: ・ | F14: 42 | G14: 田中 正治 | J14: 様 | K14: 17 | M14: ・ | N14: ・ | P14: 29 | Q14: 駒澤 眞次 | T14: 様 | U14: 18 | W14: ・ | X14: ・ | Z14: 0 | AA14: 坂本 政勝 | AD14: 様
A15: 19 | C15: ・ | D15: ・ | F15: 35 | G15: 山崎 はなゑ | J15: 様 | K15: 20 | M15: ・ | N15: ・ | P15: 42 | Q15: 馬場 ハツヨ | T15: 様 | U15: 21 | W15: ・ | X15: ・ | Z15: 0 | AA15: 深町 栄美子 | AD15: 様
A16: 22 | C16: ・ | D16: ・ | F16: 28 | G16: 小西 徳仁 | J16: 様 | K16: 23 | M16: ・ | N16: ・ | P16: 20 | Q16: 山本 ヤエ | T16: 様 | U16: 24 | W16: ・ | X16: ・ | Z16: 0 | AA16: 工藤 健壽 | AD16: 様
A17: 25 | C17: ・ | D17: ・ | F17: 14 | G17: 竹内 くみ子 | J17: 様 | K17: 26 | M17: ・ | N17: ・ | P17: 14 | Q17: 中村 美香子 | T17: 様 | U17: 27 | W17: ・ | X17: ・ | Z17: 0 | AA17: 沼端 ミセ | AD17: 様
A18: 28 | C18: ・ | D18: ・ | F18: 30 | G18: 織笠 祐美 | J18: 様 | K18: 29 | M18: ・ | N18: ・ | P18: 35 | Q18: 石川 漸太郎 | T18: 様 | U18: 30 | W18: ・ | X18: ・ | Z18: 0 | AA18: 高村 加津子 | AD18: 様
A19: 31 | C19: ・ | D19: ・ | F19: 42 | G19: 川口 凌矢 | J19: 様 | K19: 32 | M19: ・ | N19: ・ | P19: 42 | Q19: 森 マサ子 | T19: 様 | U19: 33 | W19: ・ | X19: ・ | Z19: 0 | AA19: 佐藤 初男 | AD19: 様
A20: 34 | C20: ・ | D20: ・ | F20: 42 | G20: 山本 雅江 | J20: 様 | K20: 35 | L20: ・ | N20: ・ | P20: 0 | Q20: 木村 信博 | T20: 様 | U20: 36 | W20: ・ | X20: ・ | Z20: 0 | AA20: 中居 敬悦 | AD20: 様
A21: 37 | C21: ・ | D21: ・ | F21: 35 | G21: 吉田 和子 | J21: 様 | K21: 38 | M21: ・ | N21: ・ | P21: 35 | Q21: 大渡 信光 | T21: 様 | U21: 39 | W21: ・ | X21: ・ | Z21: 14 | AA21: 中村 ミヤ | AD21: 様
A22: 40 | C22: ・ | D22: ・ | F22: 28 | G22: 下田 末五郎 | J22: 様 | K22: 41 | M22: ・ | N22: ・ | P22: 35 | Q22: 原田 千鴻 | T22: 様 | U22: 42 | W22: ・ | X22: ・ | Z22: 0 | AA22: 野村 豊明 | AD22: 様
A23: 43 | C23: ・ | D23: ・ | F23: 30 | G23: 高橋 田鶴子 | J23: 様 | K23: 44 | M23: ・ | N23: ・ | P23: 30 | Q23: 川久保 一茂 | T23: 様 | U23: 45 | W23: ・ | X23: ・ | Z23: 7 | AA23: 角 茜莉 | AD23: 様
A24: 46 | C24: ・ | D24: ・ | F24: 28 | G24: 下田 守雄 | J24: 様 | K24: 47 | L24: ・ | N24: ・ | P24: 28 | Q24: 佐々木 政夫 | T24: 様 | U24: 48 | W24: ・ | X24: ・ | Z24: 0 | AA24: 折川 綾子 | AD24: 様
A25: 49 | C25: ・ | D25: ・ | F25: 28 | G25: 赤川 將麻 | J25: 様 | K25: 50 | M25: ・ | N25: ・ | P25: 42 | Q25: 村舘 博輝 | T25: 様 | U25: 51 | W25: ・ | X25: ・ | Z25: 35 | AA25: 中村 ノリ子 | AD25: 様
A26: 52 | C26: ・ | D26: ・ | F26: 42 | G26: 原田 信子 | J26: 様 | K26: 53 | M26: ・ | N26: ・ | P26: 42 | Q26: 武井 ツセ | T26: 様 | U26: 54 | W26: ・ | X26: ・ | Z26: 42 | AA26: 阿部 勝広 | AD26: 様
A27: 外来患者数 | E27: 新： | F27: =COUNTIF(B9:B26,"・")+COUNTIF(L9:L26,"・")+COUNTIF(V9:V26,"・") -> 2 | H27: 名 | I27: 再： | J27: =COUNTIF(C9:C26,"・")+COUNTIF(M9:M26,"・")+COUNTIF(W9:W26,"・") -> 52 | L27: 名 | M27: 計： | N27: =SUM(F27:K27) -> 54 | Q27: 名 | R27: （ | S27: 精： | T27: =COUNTIF(D9:D26,"・")+COUNTIF(N9:N26,"・")+COUNTIF(X9:X26,"・") -> 54 | W27: 名 | X27: ・ | Y27: 内： | Z27: =COUNTIF(E9:E26,"・")+COUNTIF(O9:O26,"・")+COUNTIF(Y9:Y26,"・") -> 0 | AC27: 名 | AD27: ）
A29: 紹介患者様氏名 | F29: 紹介先 | K29: 逆紹介患者様氏名 | P29: 紹介元 | U29: 処置実施者 | AA29: 処置内容
A30: 山本 ヤエ | E30: 様 | F30: 高松病院 | K30: 佐々木 政夫 | O30: 様 | P30: 十和田中央病院 | Z30: 様
A31: 本日の検査 | F31: 検査内容 | K31: 処置実施者 | P31: 処置内容 | Z31: 様
A32: 米内 清人 | E32: 様 | F32: 血液検査 | O32: 様 | Z32: 様
A33: 木村 信博 | E33: 様 | F33: HDS-R・MMSE | O33: 様 | Z33: 様
A34: 佐々木 政夫 | E34: 様 | F34: HDS-R・MMSE | O34: 様 | Z34: 様
E35: 様 | O35: 様 | U35: 点検項目
E36: 様 | O36: 様 | U36: 項目 | Z36: 時間 | AC36: 点検者
A37: 発熱 | F37: 下痢 | K37: 風邪薬 | P37: 男性：22 | U37: 医療廃棄物 | Y37: 0.75 | AB37: 柳田 美雪
A38: 0 | F38: 0 | K38: 0 | P38: 女性：33 | U38: 戸締り | Y38: 0.75 | AB38: ='6'!AB38:AD38 -> 中村 恵理子
A40: 備考欄 | C40: （連絡事項・処方変更・その他）
G41: 特になし
G42: 石原

Sheet 9
B1: クリニック 日 誌 | H1: 令和 | J1: ='6'!J1 -> 2 | K1: 年 | L1: ='1'!L1 -> 4 | M1: 月 | N1: 9 | O1: 日 | Q1: （ | R1: 木 | S1: ） | V1: COO | Y1: IOO | AB1: AOM
A3: 勤務者名
A4: ='6'!A4:F4 -> 中村 恵理子 | G4: 日 | I4: 柳田 美雪 | N4: 日 | Q4: 診察室 | W4: 外来担当医 | Z4: 外来介助者
A5: 石原 恵海 | G5: 日 | I5: ='6'!I5:M5 -> 石谷 美代子 | N5: 日 | Q5: 第１診察室 | U5: 千葉 潜 | Z5: 柳田・石原
Q6: 第２診察室
B8: 新 | C8: 再 | D8: 精 | E8: 内 | F8: 処 | G8: 患者様氏名 | L8: 新 | M8: 再 | N8: 精 | O8: 内 | P8: 処 | Q8: 患者様氏名 | V8: 新 | W8: 再 | X8: 精 | Y8: 内 | Z8: 処 | AA8: 患者様氏名
A9: 1 | C9: ・ | D9: ・ | F9: 10 | G9: 松坂 正子 | J9: 様 | K9: 2 | M9: ・ | N9: ・ | P9: 7 | Q9: 中居 敬悦 | T9: 様 | U9: 3 | W9: ・ | X9: ・ | Z9: 28 | AA9: 佐々木 優那 | AD9: 様
A10: 4 | C10: ・ | D10: ・ | F10: 28 | G10: 豊川 清人 | J10: 様 | K10: 5 | M10: ・ | N10: ・ | P10: 30 | Q10: 新山 まき子 | T10: 様 | U10: 6 | W10: ・ | X10: ・ | Z10: 28 | AA10: 沖沢 あずさ | AD10: 様
A11: 7 | C11: ・ | D11: ・ | F11: 28 | G11: 豊川 美智子 | J11: 様 | K11: 8 | M11: ・ | N11: ・ | P11: 60 | Q11: 高橋 優子 | T11: 様 | U11: 9 | V11: ・ | X11: ・ | Z11: 0 | AA11: 宮守 さと | AD11: 様
A12: 10 | C12: ・ | D12: ・ | F12: 28 | G12: 小林 アサ | J12: 様 | K12: 11 | M12: ・ | N12: ・ | P12: 28 | Q12: 加倉井 遥 | T12: 様 | U12: 12 | W12: ・ | X12: ・ | Z12: 35 | AA12: 金田 重一 | AD12: 様
A13: 13 | C13: ・ | D13: ・ | F13: 28 | G13: 市川 エミ子 | J13: 様 | K13: 14 | L13: ・ | N13: ・ | Q13: 熊谷 ひより | T13: 様 | U13: 15 | W13: ・ | X13: ・ | Z13: 30 | AA13: 月舘 ユリ | AD13: 様
A14: 16 | C14: ・ | D14: ・ | F14: 30 | G14: 佐藤 務 | J14: 様 | K14: 17 | M14: ・ | N14: ・ | P14: 0 | Q14: 坂田 優 | T14: 様 | U14: 18 | W14: ・ | X14: ・ | Z14: 30 | AA14: 堀内 兼博 | AD14: 様
A15: 19 | C15: ・ | D15: ・ | F15: 28 | G15: 冨田 扶美子 | J15: 様 | K15: 20 | M15: ・ | N15: ・ | P15: 30 | Q15: 浪岡 ヒロ | T15: 様 | U15: 21 | W15: ・ | X15: ・ | Z15: 56 | AA15: 古間木 義美 | AD15: 様
A16: 22 | C16: ・ | D16: ・ | F16: 30 | G16: 梅津 禮子 | J16: 様 | K16: 23 | M16: ・ | N16: ・ | P16: 30 | Q16: 大野 みほゑ | T16: 様 | U16: 24 | W16: ・ | X16: ・ | Z16: 28 | AA16: 佐々木 莉夏 | AD16: 様
A17: 25 | C17: ・ | D17: ・ | F17: 28 | G17: 繁田 千晶 | J17: 様 | K17: 26 | M17: ・ | N17: ・ | P17: 56 | Q17: 蛯名 モト | T17: 様 | U17: 27 | W17: ・ | X17: ・ | Z17: 0 | AA17: 塚田 敏子 | AD17: 様
A18: 28 | C18: ・ | D18: ・ | F18: 28 | G18: 菊池 貴子 | J18: 様 | K18: 29 | M18: ・ | N18: ・ | P18: 28 | Q18: 石橋 京子 | T18: 様 | U18: 30 | W18: ・ | X18: ・ | Z18: 0 | AA18: 古川 とし | AD18: 様
A19: 31 | C19: ・ | D19: ・ | F19: 28 | G19: 長谷地 トキ | J19: 様 | K19: 32 | M19: ・ | N19: ・ | P19: 30 | Q19: 天間 功一 | T19: 様 | U19: 33 | W19: ・ | X19: ・ | Z19: 0 | AA19: 西舘 瞳 | AD19: 様
A20: 34 | C20: ・ | D20: ・ | F20: 28 | G20: 竹下 ミツ子 | J20: 様 | K20: 35 | M20: ・ | N20: ・ | P20: 30 | Q20: 鈴木 英男 | T20: 様 | U20: 36 | W20: ・ | X20: ・ | Z20: 0 | AA20: 坂本 政勝 | AD20: 様
A21: 37 | C21: ・ | D21: ・ | F21: 28 | G21: 妻神 京子 | J21: 様 | K21: 38 | M21: ・ | N21: ・ | P21: 56 | Q21: 小笠原 早苗 | T21: 様 | U21: 39 | W21: ・ | X21: ・ | Z21: 0 | AA21: 工藤 健壽 | AD21: 様
A22: 40 | C22: ・ | D22: ・ | F22: 30 | G22: 山本 光豊 | J22: 様 | K22: 41 | M22: ・ | N22: ・ | P22: 30 | Q22: 小坂 和美 | T22: 様 | U22: 42 | W22: ・ | X22: ・ | Z22: 0 | AA22: 高村 加津子 | AD22: 様
A23: 43 | C23: ・ | D23: ・ | F23: 42 | G23: 野田 真莉奈 | J23: 様 | K23: 44 | M23: ・ | N23: ・ | P23: 28 | Q23: 沼尾 千春 | T23: 様 | U23: 45 | W23: ・ | X23: ・ | Z23: 0 | AA23: 駒澤 キヤ | AD23: 様
A24: 46 | C24: ・ | D24: ・ | F24: 28 | G24: 本間 きよ | J24: 様 | K24: 47 | M24: ・ | N24: ・ | P24: 28 | Q24: 加藤 ミサ | T24: 様 | U24: 48 | W24: ・ | X24: ・ | Z24: 0 | AA24: 柏木 薫 | AD24: 様
A25: 外来患者数 | E25: 新： | F25: =COUNTIF(B9:B24,"・")+COUNTIF(L9:L24,"・")+COUNTIF(V9:V24,"・") -> 2 | H25: 名 | I25: 再： | J25: =COUNTIF(C9:C24,"・")+COUNTIF(M9:M24,"・")+COUNTIF(W9:W24,"・") -> 46 | L25: 名 | M25: 計： | N25: =SUM(F25:K25) -> 48 | Q25: 名 | R25: （ | S25: 精： | T25: =COUNTIF(D9:D24,"・")+COUNTIF(N9:N24,"・")+COUNTIF(X9:X24,"・") -> 48 | W25: 名 | X25: ・ | Y25: 内： | Z25: =COUNTIF(E9:E24,"・")+COUNTIF(O9:O24,"・")+COUNTIF(Y9:Y24,"・") -> 0 | AC25: 名 | AD25: ）
A27: 紹介患者様氏名 | F27: 紹介先 | K27: 逆紹介患者様氏名 | P27: 紹介元 | U27: 処置実施者 | AA27: 処置内容
A28: 加藤 ミサ | E28: 様 | F28: 岡三沢診療所 | K28: 宮守 さと | O28: 様 | P28: 泊診療所 | Z28: 様
A29: 本日の検査 | F29: 検査内容 | K29: 処置実施者 | P29: 処置内容 | Z29: 様
A30: 宮守 さと | E30: 様 | F30: HDS-R、MMSE、血液検査 | K30: 中居 敬悦 | O30: 様 | P30: ハロマンス50mg 1A | Z30: 様
E31: 様 | O31: 様 | U31: 点検項目
E32: 様 | O32: 様 | U32: 項目 | Z32: 時間 | AC32: 点検者
A33: 発熱 | F33: 下痢 | K33: 風邪薬 | P33: 男性：13 | U33: 医療廃棄物 | Y33: 0.75 | AB33: 柳田 美雪
A34: 0 | F34: 0 | K34: 0 | P34: 女性：35 | U34: 戸締り | Y34: 0.75 | AB34: ='6'!AB38:AD38 -> 中村 恵理子
A36: 備考欄 | C36: （連絡事項・処方変更・その他）
G37: 特記なし
G38: 柳田

Sheet 10
B1: クリニック 日 誌 | H1: 令和 | J1: ='6'!J1 -> 2 | K1: 年 | L1: ='1'!L1 -> 4 | M1: 月 | N1: 10 | O1: 日 | Q1: （ | R1: 金 | S1: ） | V1: COO | Y1: IOO | AB1: AOM
A3: 勤務者名
A4: ='6'!A4:F4 -> 中村 恵理子 | G4: 日 | I4: 柳田 美雪 | N4: 日 | Q4: 診察室 | W4: 外来担当医 | Z4: 外来介助者
A5: 石原 恵海 | G5: 日 | I5: ='6'!I5:M5 -> 石谷 美代子 | N5: 日 | Q5: 第１診察室 | U5: 金 泰康 | Z5: 柳田・石原
Q6: 第２診察室 | U6: 千葉 良 | Z6: 柳田・石原
B8: 新 | C8: 再 | D8: 精 | E8: 内 | F8: 処 | G8: 患者様氏名 | L8: 新 | M8: 再 | N8: 精 | O8: 内 | P8: 処 | Q8: 患者様氏名 | V8: 新 | W8: 再 | X8: 精 | Y8: 内 | Z8: 処 | AA8: 患者様氏名
A9: 1 | G9: 坂田 イミ | J9: 様 | K9: 2 | Q9: 起田 妙子 | T9: 様 | U9: 3 | AA9: 山本 チヤ | AD9: 様
A10: 4 | G10: 山口 陽子 | J10: 様 | K10: 5 | Q10: 黒澤 慎一郎 | T10: 様 | U10: 6 | AA10: 吉田 浩 | AD10: 様
A11: 7 | G11: 一戸 ヒデ | J11: 様 | K11: 8 | Q11: 山本 ミワ | T11: 様 | U11: 9 | AA11: 高橋 幸喜 | AD11: 様
A12: 10 | G12: 山口 誠一郎 | J12: 様 | K12: 11 | Q12: 杉山 政枝 | T12: 様 | U12: 12 | AA12: 蛯名 信一郎 | AD12: 様
A13: 13 | G13: 山口 ちゑ | J13: 様 | K13: 14 | Q13: 袴田 麻衣 | T13: 様 | U13: 15 | AA13: 橋本 アヤ | AD13: 様
A14: 16 | G14: 成田 イチコ | J14: 様 | K14: 17 | Q14: 今田 則夫 | T14: 様 | U14: 18 | AA14: 川口 千明 | AD14: 様
A15: 19 | G15: 和田 成人 | J15: 様 | K15: 20 | Q15: 沼端 佑太 | T15: 様 | U15: 21 | AA15: 熊野 冨美子 | AD15: 様
A16: 22 | G16: 畑山 栄子 | J16: 様 | K16: 23 | Q16: 小笠原 とよ | T16: 様 | U16: 24 | AA16: 伊藤 慎弥 | AD16: 様
A17: 25 | G17: 馬場 トセ子 | J17: 様 | K17: 26 | Q17: 長根 謙二 | T17: 様 | U17: 27 | AD17: 様
A18: 28 | G18: 佐々木 ヨシ | J18: 様 | K18: 29 | Q18: 森外 鉄雄 | T18: 様 | U18: 30 | AD18: 様
A19: 31 | G19: 小林 昭治 | J19: 様 | K19: 32 | Q19: 池田 アエ | T19: 様 | U19: 33 | AD19: 様
A20: 34 | G20: 佐藤 晴子 | J20: 様 | K20: 35 | Q20: 沢尾 美香 | T20: 様 | U20: 36 | AD20: 様
A21: 37 | G21: 久保田 由美 | J21: 様 | K21: 38 | Q21: 生平 祥恵 | T21: 様 | U21: 39 | AD21: 様
A22: 40 | G22: 藤田 予里 | J22: 様 | K22: 41 | Q22: 千葉 スワ | T22: 様 | U22: 42 | AD22: 様
A23: 43 | G23: 鳥谷部 和子 | J23: 様 | K23: 44 | Q23: 中村 真弓 | T23: 様 | U23: 45 | AD23: 様
A24: 46 | G24: 高田 佐智子 | J24: 様 | K24: 47 | Q24: 吉田 美樹 | T24: 様 | U24: 48 | AD24: 様
A25: 49 | J25: 様 | K25: 50 | T25: 様 | U25: 51 | AD25: 様
A26: 52 | J26: 様 | K26: 53 | T26: 様 | U26: 54 | AD26: 様
A27: 55 | J27: 様 | K27: 56 | T27: 様 | U27: 57 | AD27: 様
A28: 58 | J28: 様 | K28: 59 | T28: 様 | U28: 60 | AD28: 様
A29: 61 | J29: 様 | K29: 62 | T29: 様 | U29: 63 | AD29: 様
A30: 64 | J30: 様 | K30: 65 | T30: 様 | U30: 66 | AD30: 様
A31: 67 | J31: 様 | K31: 68 | T31: 様 | U31: 69 | AD31: 様
A32: 70 | J32: 様 | K32: 71 | T32: 様 | U32: 72 | AD32: 様
A33: 73 | J33: 様 | K33: 74 | T33: 様 | U33: 75 | AD33: 様
A34: 外来患者数 | E34: 新： | F34: =COUNTIF(B9:B33,"・")+COUNTIF(L9:L33,"・")+COUNTIF(V9:V33,"・") -> 0 | H34: 名 | I34: 再： | J34: =COUNTIF(C9:C33,"・")+COUNTIF(M9:M33,"・")+COUNTIF(W9:W33,"・") -> 0 | L34: 名 | M34: 計： | N34: =SUM(F34:K34) -> 0 | Q34: 名 | R34: （ | S34: 精： | T34: =COUNTIF(D9:D33,"・")+COUNTIF(N9:N33,"・")+COUNTIF(X9:X33,"・") -> 0 | W34: 名 | X34: ・ | Y34: 内： | Z34: =COUNTIF(E9:E33,"・")+COUNTIF(O9:O33,"・")+COUNTIF(Y9:Y33,"・") -> 0 | AC34: 名 | AD34: ）
A36: 紹介患者様氏名 | F36: 紹介先 | K36: 逆紹介患者様氏名 | P36: 紹介元 | U36: 処置実施者 | AA36: 処置内容
E37: 様 | O37: 様 | Z37: 様
E38: 様 | O38: 様 | Z38: 様
E39: 様 | O39: 様 | Z39: 様
E40: 様 | O40: 様 | Z40: 様
E41: 様 | O41: 様 | Z41: 様
A42: 本日の検査 | F42: 検査内容 | K42: 処置実施者 | P42: 処置内容 | Z42: 様
E43: 様 | O43: 様 | Z43: 様
...

Sheet 11
B1: クリニック 日 誌 | H1: 令和 | J1: ='6'!J1 -> 2 | K1: 年 | L1: ='1'!L1 -> 4 | M1: 月 | N1: 11 | O1: 日 | Q1: （ | S1: ） | V1: COO | Y1: IOO | AB1: AOM
A3: 勤務者名
A4: ='6'!A4:F4 -> 中村 恵理子 | G4: 日 | I4: 柳田 美雪 | N4: 日 | Q4: 診察室 | W4: 外来担当医 | Z4: 外来介助者
A5: 石原 恵海 | G5: 日 | Q5: 第１診察室 | Z5: 柳田・石原
Q6: 第２診察室
B8: 新 | C8: 再 | D8: 精 | E8: 内 | F8: 処 | G8: 患者様氏名 | L8: 新 | M8: 再 | N8: 精 | O8: 内 | P8: 処 | Q8: 患者様氏名 | V8: 新 | W8: 再 | X8: 精 | Y8: 内 | Z8: 処 | AA8: 患者様氏名
A9: 1 | J9: 様 | K9: 2 | T9: 様 | U9: 3 | AD9: 様
A10: 4 | J10: 様 | K10: 5 | T10: 様 | U10: 6 | AD10: 様
A11: 7 | J11: 様 | K11: 8 | T11: 様 | U11: 9 | AD11: 様
A12: 10 | J12: 様 | K12: 11 | T12: 様 | U12: 12 | AD12: 様
A13: 13 | J13: 様 | K13: 14 | T13: 様 | U13: 15 | AD13: 様
A14: 16 | J14: 様 | K14: 17 | T14: 様 | U14: 18 | AD14: 様
A15: 19 | J15: 様 | K15: 20 | T15: 様 | U15: 21 | AD15: 様
A16: 22 | J16: 様 | K16: 23 | T16: 様 | U16: 24 | AD16: 様
A17: 25 | J17: 様 | K17: 26 | T17: 様 | U17: 27 | AD17: 様
A18: 28 | J18: 様 | K18: 29 | T18: 様 | U18: 30 | AD18: 様
A19: 31 | J19: 様 | K19: 32 | T19: 様 | U19: 33 | AD19: 様
A20: 34 | J20: 様 | K20: 35 | T20: 様 | U20: 36 | AD20: 様
... A33: 73 | J33: 様 | K33: 74 | T33: 様 | U33: 75 | AD33: 様
A34: 外来患者数 | E34: 新： | F34: =COUNTIF(B9:B33,"・")+COUNTIF(L9:L33,"・")+COUNTIF(V9:V33,"・") -> 0 | H34: 名 | I34: 再： | J34: =COUNTIF(C9:C33,"・")+COUNTIF(M9:M33,"・")+COUNTIF(W9:W33,"・") -> 0 | L34: 名 | M34: 計： | N34: =SUM(F34:K34) -> 0 | Q34: 名 | R34: （ | S34: 精： | T34: =COUNTIF(D9:D33,"・")+COUNTIF(N9:N33,"・")+COUNTIF(X9:X33,"・") -> 0 | W34: 名 | X34: ・ | Y34: 内： | Z34: =COUNTIF(E9:E33,"・")+COUNTIF(O9:O33,"・")+COUNTIF(Y9:Y33,"・") -> 0 | AC34: 名 | AD34: ）
A36: 紹介患者様氏名 | F36: 紹介先 | K36: 逆紹介患者様氏名 | P36: 紹介元 | U36: 処置実施者 | AA36: 処置内容
E37: 様 | O37: 様 | Z37: 様
E38: 様 | O38: 様 | Z38: 様
E39: 様 | O39: 様 | Z39: 様
E40: 様 | O40: 様 | Z40: 様
E41: 様 | O41: 様 | Z41: 様
A42: 本日の検査 | F42: 検査内容 | K42: 処置実施者 | P42: 処置内容 | Z42: 様
E43: 様 | O43: 様 | Z43: 様
E44: 様 | O44: 様 | Z44: 様
E45: 様 | O45: 様 | Z45: 様
E46: 様 | O46: 様 | U46: 点検項目
E47: 様 | O47: 様 | U47: 項目 | Z47: 時間 | AC47: 点検者
A48: 発熱 | F48: 下痢 | K48: 風邪薬 | P48: 男性： | U48: 医療廃棄物 | Y48: 0.75
A49: 0 | F49: 0 | K49: 0 | P49: 女性： | U49: 戸締り | Y49: 0.75 | AB49: ='6'!AB38:AD38 -> 中村 恵理子
A51: 備考欄 | C51: （連絡事項・処方変更・その他）

Sheet 12
B1: クリニック 日 誌 | H1: 令和 | J1: ='6'!J1 -> 2 | K1: 年 | L1: ='1'!L1 -> 4 | M1: 月 | N1: 12 | O1: 日 | Q1: （ | S1: ） | V1: COO | Y1: IOO | AB1: AOM
A3: 勤務者名
A4: ='6'!A4:F4 -> 中村 恵理子 | G4: 日 | I4: 柳田 美雪 | N4: 日 | Q4: 診察室 | W4: 外来担当医 | Z4: 外来介助者
A5: 石原 恵海 | G5: 日 | Q5: 第１診察室 | Z5: 柳田・石原
Q6: 第２診察室
B8: 新 | C8: 再 | D8: 精 | E8: 内 | F8: 処 | G8: 患者様氏名 | L8: 新 | M8: 再 | N8: 精 | O8: 内 | P8: 処 | Q8: 患者様氏名 | V8: 新 | W8: 再 | X8: 精 | Y8: 内 | Z8: 処 | AA8: 患者様氏名
A9: 1 | J9: 様 | K9: 2 | T9: 様 | U9: 3 | AD9: 様
A10: 4 | J10: 様 | K10: 5 | T10: 様 | U10: 6 | AD10: 様
A11: 7 | J11: 様 | K11: 8 | T11: 様 | U11: 9 | AD11: 様
A12: 10 | J12: 様 | K12: 11 | T12: 様 | U12: 12 | AD12: 様
A13: 13 | J13: 様 | K13: 14 | T13: 様 | U13: 15 | AD13: 様
A14: 16 | J14: 様 | K14: 17 | T14: 様 | U14: 18 | AD14: 様
A15: 19 | J15: 様 | K15: 20 | T15: 様 | U15: 21 | AD15: 様
A16: 22 | J16: 様 | K16: 23 | T16: 様 | U16: 24 | AD16: 様
A17: 25 | J17: 様 | K17: 26 | T17: 様 | U17: 27 | AD17: 様
A18: 28 | J18: 様 | K18: 29 | T18: 様 | U18: 30 | AD18: 様
A19: 31 | J19: 様 | K19: 32 | T19: 様 | U19: 33 | AD19: 様
A20: 34 | J20: 様 | K20: 35 | T20: 様 | U20: 36 | AD20: 様
... A33: 73 | J33: 様 | K33: 74 | T33: 様 | U33: 75 | AD33: 様
A34: 外来患者数 | E34: 新： | F34: =COUNTIF(B9:B33,"・")+COUNTIF(L9:L33,"・")+COUNTIF(V9:V33,"・") -> 0 | H34: 名 | I34: 再： | J34: =COUNTIF(C9:C33,"・")+COUNTIF(M9:M33,"・")+COUNTIF(W9:W33,"・") -> 0 | L34: 名 | M34: 計： | N34: =SUM(F34:K34) -> 0 | Q34: 名 | R34: （ | S34: 精： | T34: =COUNTIF(D9:D33,"・")+COUNTIF(N9:N33,"・")+COUNTIF(X9:X33,"・") -> 0 | W34: 名 | X34: ・ | Y34: 内： | Z34: =COUNTIF(E9:E33,"・")+COUNTIF(O9:O33,"・")+COUNTIF(Y9:Y33,"・") -> 0 | AC34: 名 | AD34: ）
A36: 紹介患者様氏名 | F36: 紹介先 | K36: 逆紹介患者様氏名 | P36: 紹介元 | U36: 処置実施者 | AA36: 処置内容
E37: 様 | O37: 様 | Z37: 様
E38: 様 | O38: 様 | Z38: 様
E39: 様 | O39: 様 | Z39: 様
E40: 様 | O40: 様 | Z40: 様
E41: 様 | O41: 様 | Z41: 様
A42: 本日の検査 | F42: 検査内容 | K42: 処置実施者 | P42: 処置内容 | Z42: 様
E43: 様 | O43: 様 | Z43: 様
E44: 様 | O44: 様 | Z44: 様
E45: 様 | O45: 様 | Z45: 様
E46: 様 | O46: 様 | U46: 点検項目
E47: 様 | O47: 様 | U47: 項目 | Z47: 時間 | AC47: 点検者
A48: 発熱 | F48: 下痢 | K48: 風邪薬 | P48: 男性： | U48: 医療廃棄物 | Y48: 0.75
A49: 0 | F49: 0 | K49: 0 | P49: 女性： | U49: 戸締り | Y49: 0.75 | AB49: ='6'!AB38:AD38 -> 中村 恵理子
A51: 備考欄 | C51: （連絡事項・処方変更・その他）

Sheet 13
B1: クリニック 日 誌 | H1: 令和 | J1: ='6'!J1 -> 2 | K1: 年 | L1: ='1'!L1 -> 4 | M1: 月 | N1: 13 | O1: 日 | Q1: （ | S1: ） | V1: COO | Y1: IOO | AB1: AOM
A3: 勤務者名
A4: ='6'!A4:F4 -> 中村 恵理子 | G4: 日 | I4: 柳田 美雪 | N4: 日 | Q4: 診察室 | W4: 外来担当医 | Z4: 外来介助者
A5: 石原 恵海 | G5: 日 | Q5: 第１診察室 | Z5: 柳田・石原
Q6: 第２診察室
B8: 新 | C8: 再 | D8: 精 | E8: 内 | F8: 処 | G8: 患者様氏名 | L8: 新 | M8: 再 | N8: 精 | O8: 内 | P8: 処 | Q8: 患者様氏名 | V8: 新 | W8: 再 | X8: 精 | Y8: 内 | Z8: 処 | AA8: 患者様氏名
A9: 1 | J9: 様 | K9: 2 | T9: 様 | U9: 3 | AD9: 様
A10: 4 | J10: 様 | K10: 5 | T10: 様 | U10: 6 | AD10: 様
A11: 7 | J11: 様 | K11: 8 | T11: 様 | U11: 9 | AD11: 様
A12: 10 | J12: 様 | K12: 11 | T12: 様 | U12: 12 | AD12: 様
A13: 13 | J13: 様 | K13: 14 | T13: 様 | U13: 15 | AD13: 様
A14: 16 | J14: 様 | K14: 17 | T14: 様 | U14: 18 | AD14: 様
A15: 19 | J15: 様 | K15: 20 | T15: 様 | U15: 21 | AD15: 様
A16: 22 | J16: 様 | K16: 23 | T16: 様 | U16: 24 | AD16: 様
A17: 25 | J17: 様 | K17: 26 | T17: 様 | U17: 27 | AD17: 様
A18: 28 | J18: 様 | K18: 29 | T18: 様 | U18: 30 | AD18: 様
A19: 31 | J19: 様 | K19: 32 | T19: 様 | U19: 33 | AD19: 様
A20: 34 | J20: 様 | K20: 35 | T20: 様 | U20: 36 | AD20: 様
... A33: 73 | J33: 様 | K33: 74 | T33: 様 | U33: 75 | AD33: 様
A34: 外来患者数 | E34: 新： | F34: =COUNTIF(B9:B33,"・")+COUNTIF(L9:L33,"・")+COUNTIF(V9:V33,"・") -> 0 | H34: 名 | I34: 再： | J34: =COUNTIF(C9:C33,"・")+COUNTIF(M9:M33,"・")+COUNTIF(W9:W33,"・") -> 0 | L34: 名 | M34: 計： | N34: =SUM(F34:K34) -> 0 | Q34: 名 | R34: （ | S34: 精： | T34: =COUNTIF(D9:D33,"・")+COUNTIF(N9:N33,"・")+COUNTIF(X9:X33,"・") -> 0 | W34: 名 | X34: ・ | Y34: 内： | Z34: =COUNTIF(E9:E33,"・")+COUNTIF(O9:O33,"・")+COUNTIF(Y9:Y33,"・") -> 0 | AC34: 名 | AD34: ）
A36: 紹介患者様氏名 | F36: 紹介先 | K36: 逆紹介患者様氏名 | P36: 紹介元 | U36: 処置実施者 | AA36: 処置内容
E37: 様 | O37: 様 | Z37: 様
E38: 様 | O38: 様 | Z38: 様
E39: 様 | O39: 様 | Z39: 様
E40: 様 | O40: 様 | Z40: 様
E41: 様 | O41: 様 | Z41: 様
A42: 本日の検査 | F42: 検査内容 | K42: 処置実施者 | P42: 処置内容 | Z42: 様
E43: 様 | O43: 様 | Z43: 様
E44: 様 | O44: 様 | Z44: 様
E45: 様 | O45: 様 | Z45: 様
E46: 様 | O46: 様 | U46: 点検項目
E47: 様 | O47: 様 | U47: 項目 | Z47: 時間 | AC47: 点検者
A48: 発熱 | F48: 下痢 | K48: 風邪薬 | P48: 男性： | U48: 医療廃棄物 | Y48: 0.75
A49: 0 | F49: 0 | K49: 0 | P49: 女性： | U49: 戸締り | Y49: 0.75 | AB49: ='6'!AB38:AD38 -> 中村 恵理子
A51: 備考欄 | C51: （連絡事項・処方変更・その他）

Sheet 14
B1: クリニック 日 誌 | H1: 令和 | J1: ='6'!J1 -> 2 | K1: 年 | L1: ='1'!L1 -> 4 | M1: 月 | N1: 14 | O1: 日 | Q1: （ | S1: ） | V1: COO | Y1: IOO | AB1: AOM
A3: 勤務者名
A4: ='6'!A4:F4 -> 中村 恵理子 | G4: 日 | I4: 柳田 美雪 | N4: 日 | Q4: 診察室 | W4: 外来担当医 | Z4: 外来介助者
A5: 石原 恵海 | G5: 日 | Q5: 第１診察室 | Z5: 柳田・石原
Q6: 第２診察室
B8: 新 | C8: 再 | D8: 精 | E8: 内 | F8: 処 | G8: 患者様氏名 | L8: 新 | M8: 再 | N8: 精 | O8: 内 | P8: 処 | Q8: 患者様氏名 | V8: 新 | W8: 再 | X8: 精 | Y8: 内 | Z8: 処 | AA8: 患者様氏名
A9: 1 | J9: 様 | K9: 2 | T9: 様 | U9: 3 | AD9: 様
A10: 4 | J10: 様 | K10: 5 | T10: 様 | U10: 6 | AD10: 様
A11: 7 | J11: 様 | K11: 8 | T11: 様 | U11: 9 | AD11: 様
A12: 10 | J12: 様 | K12: 11 | T12: 様 | U12: 12 | AD12: 様
A13: 13 | J13: 様 | K13: 14 | T13: 様 | U13: 15 | AD13: 様
A14: 16 | J14: 様 | K14: 17 | T14: 様 | U14: 18 | AD14: 様
A15: 19 | J15: 様 | K15: 20 | T15: 様 | U15: 21 | AD15: 様
A16: 22 | J16: 様 | K16: 23 | T16: 様 | U16: 24 | AD16: 様
A17: 25 | J17: 様 | K17: 26 | T17: 様 | U17: 27 | AD17: 様
A18: 28 | J18: 様 | K18: 29 | T18: 様 | U18: 30 | AD18: 様
A19: 31 | J19: 様 | K19: 32 | T19: 様 | U19: 33 | AD19: 様
A20: 34 | J20: 様 | K20: 35 | T20: 様 | U20: 36 | AD20: 様
... A33: 73 | J33: 様 | K33: 74 | T33: 様 | U33: 75 | AD33: 様
A34: 外来患者数 | E34: 新： | F34: =COUNTIF(B9:B33,"・")+COUNTIF(L9:L33,"・")+COUNTIF(V9:V33,"・") -> 0 | H34: 名 | I34: 再： | J34: =COUNTIF(C9:C33,"・")+COUNTIF(M9:M33,"・")+COUNTIF(W9:W33,"・") -> 0 | L34: 名 | M34: 計： | N34: =SUM(F34:K34) -> 0 | Q34: 名 | R34: （ | S34: 精： | T34: =COUNTIF(D9:D33,"・")+COUNTIF(N9:N33,"・")+COUNTIF(X9:X33,"・") -> 0 | W34: 名 | X34: ・ | Y34: 内： | Z34: =COUNTIF(E9:E33,"・")+COUNTIF(O9:O33,"・")+COUNTIF(Y9:Y33,"・") -> 0 | AC34: 名 | AD34: ）
A36: 紹介患者様氏名 | F36: 紹介先 | K36: 逆紹介患者様氏名 | P36: 紹介元 | U36: 処置実施者 | AA36: 処置内容
E37: 様 | O37: 様 | Z37: 様
E38: 様 | O38: 様 | Z38: 様
E39: 様 | O39: 様 | Z39: 様
E40: 様 | O40: 様 | Z40: 様
E41: 様 | O41: 様 | Z41: 様
A42: 本日の検査 | F42: 検査内容 | K42: 処置実施者 | P42: 処置内容 | Z42: 様
E43: 様 | O43: 様 | Z43: 様
E44: 様 | O44: 様 | Z44: 様
E45: 様 | O45: 様 | Z45: 様
E46: 様 | O46: 様 | U46: 点検項目
E47: 様 | O47: 様 | U47: 項目 | Z47: 時間 | AC47: 点検者
A48: 発熱 | F48: 下痢 | K48: 風邪薬 | P48: 男性： | U48: 医療廃棄物 | Y48: 0.75
A49: 0 | F49: 0 | K49: 0 | P49: 女性： | U49: 戸締り | Y49: 0.75 | AB49: ='6'!AB38:AD38 -> 中村 恵理子
A51: 備考欄 | C51: （連絡事項・処方変更・その他）

Sheet 15
B1: クリニック 日 誌 | H1: 令和 | J1: ='6'!J1 -> 2 | K1: 年 | L1: ='1'!L1 -> 4 | M1: 月 | N1: 15 | O1: 日 | Q1: （ | S1: ） | V1: COO | Y1: IOO | AB1: AOM
A3: 勤務者名
A4: ='6'!A4:F4 -> 中村 恵理子 | G4: 日 | I4: 柳田 美雪 | N4: 日 | Q4: 診察室 | W4: 外来担当医 | Z4: 外来介助者
A5: 石原 恵海 | G5: 日 | Q5: 第１診察室 | Z5: 柳田・石原
Q6: 第２診察室
B8: 新 | C8: 再 | D8: 精 | E8: 内 | F8: 処 | G8: 患者様氏名 | L8: 新 | M8: 再 | N8: 精 | O8: 内 | P8: 処 | Q8: 患者様氏名 | V8: 新 | W8: 再 | X8: 精 | Y8: 内 | Z8: 処 | AA8: 患者様氏名
A9: 1 | J9: 様 | K9: 2 | T9: 様 | U9: 3 | AD9: 様
A10: 4 | J10: 様 | K10: 5 | T10: 様 | U10: 6 | AD10: 様
A11: 7 | J11: 様 | K11: 8 | T11: 様 | U11: 9 | AD11: 様
A12: 10 | J12: 様 | K12: 11 | T12: 様 | U12: 12 | AD12: 様
A13: 13 | J13: 様 | K13: 14 | T13: 様 | U13: 15 | AD13: 様
A14: 16 | J14: 様 | K14: 17 | T14: 様 | U14: 18 | AD14: 様
A15: 19 | J15: 様 | K15: 20 | T15: 様 | U15: 21 | AD15: 様
A16: 22 | J16: 様 | K16: 23 | T16: 様 | U16: 24 | AD16: 様
A17: 25 | J17: 様 | K17: 26 | T17: 様 | U17: 27 | AD17: 様
A18: 28 | J18: 様 | K18: 29 | T18: 様 | U18: 30 | AD18: 様
A19: 31 | J19: 様 | K19: 32 | T19: 様 | U19: 33 | AD19: 様
A20: 34 | J20: 様 | K20: 35 | T20: 様 | U20: 36 | AD20: 様
... A33: 73 | J33: 様 | K33: 74 | T33: 様 | U33: 75 | AD33: 様
A34: 外来患者数 | E34: 新： | F34: =COUNTIF(B9:B33,"・")+COUNTIF(L9:L33,"・")+COUNTIF(V9:V33,"・") -> 0 | H34: 名 | I34: 再： | J34: =COUNTIF(C9:C33,"・")+COUNTIF(M9:M33,"・")+COUNTIF(W9:W33,"・") -> 0 | L34: 名 | M34: 計： | N34: =SUM(F34:K34) -> 0 | Q34: 名 | R34: （ | S34: 精： | T34: =COUNTIF(D9:D33,"・")+COUNTIF(N9:N33,"・")+COUNTIF(X9:X33,"・") -> 0 | W34: 名 | X34: ・ | Y34: 内： | Z34: =COUNTIF(E9:E33,"・")+COUNTIF(O9:O33,"・")+COUNTIF(Y9:Y33,"・") -> 0 | AC34: 名 | AD34: ）
A36: 紹介患者様氏名 | F36: 紹介先 | K36: 逆紹介患者様氏名 | P36: 紹介元 | U36: 処置実施者 | AA36: 処置内容
E37: 様 | O37: 様 | Z37: 様
E38: 様 | O38: 様 | Z38: 様
E39: 様 | O39: 様 | Z39: 様
E40: 様 | O40: 様 | Z40: 様
E41: 様 | O41: 様 | Z41: 様
A42: 本日の検査 | F42: 検査内容 | K42: 処置実施者 | P42: 処置内容 | Z42: 様
E43: 様 | O43: 様 | Z43: 様
E44: 様 | O44: 様 | Z44: 様
E45: 様 | O45: 様 | Z45: 様
E46: 様 | O46: 様 | U46: 点検項目
E47: 様 | O47: 様 | U47: 項目 | Z47: 時間 | AC47: 点検者
A48: 発熱 | F48: 下痢 | K48: 風邪薬 | P48: 男性： | U48: 医療廃棄物 | Y48: 0.75
A49: 0 | F49: 0 | K49: 0 | P49: 女性： | U49: 戸締り | Y49: 0.75 | AB49: ='6'!AB38:AD38 -> 中村 恵理子
A51: 備考欄 | C51: （連絡事項・処方変更・その他）

Sheet 16
B1: クリニック 日 誌 | H1: 令和 | J1: ='6'!J1 -> 2 | K1: 年 | L1: ='1'!L1 -> 4 | M1: 月 | N1: 16 | O1: 日 | Q1: （ | S1: ） | V1: COO | Y1: IOO | AB1: AOM
A3: 勤務者名
A4: ='6'!A4:F4 -> 中村 恵理子 | G4: 日 | I4: 柳田 美雪 | N4: 日 | Q4: 診察室 | W4: 外来担当医 | Z4: 外来介助者
A5: 石原 恵海 | G5: 日 | Q5: 第１診察室 | Z5: 柳田・石原
Q6: 第２診察室
B8: 新 | C8: 再 | D8: 精 | E8: 内 | F8: 処 | G8: 患者様氏名 | L8: 新 | M8: 再 | N8: 精 | O8: 内 | P8: 処 | Q8: 患者様氏名 | V8: 新 | W8: 再 | X8: 精 | Y8: 内 | Z8: 処 | AA8: 患者様氏名
A9: 1 | J9: 様 | K9: 2 | T9: 様 | U9: 3 | AD9: 様
A10: 4 | J10: 様 | K10: 5 | T10: 様 | U10: 6 | AD10: 様
A11: 7 | J11: 様 | K11: 8 | T11: 様 | U11: 9 | AD11: 様
A12: 10 | J12: 様 | K12: 11 | T12: 様 | U12: 12 | AD12: 様
A13: 13 | J13: 様 | K13: 14 | T13: 様 | U13: 15 | AD13: 様
A14: 16 | J14: 様 | K14: 17 | T14: 様 | U14: 18 | AD14: 様
A15: 19 | J15: 様 | K15: 20 | T15: 様 | U15: 21 | AD15: 様
A16: 22 | J16: 様 | K16: 23 | T16: 様 | U16: 24 | AD16: 様
A17: 25 | J17: 様 | K17: 26 | T17: 様 | U17: 27 | AD17: 様
A18: 28 | J18: 様 | K18: 29 | T18: 様 | U18: 30 | AD18: 様
A19: 31 | J19: 様 | K19: 32 | T19: 様 | U19: 33 | AD19: 様
A20: 34 | J20: 様 | K20: 35 | T20: 様 | U20: 36 | AD20: 様
... A33: 73 | J33: 様 | K33: 74 | T33: 様 | U33: 75 | AD33: 様
A34: 外来患者数 | E34: 新： | F34: =COUNTIF(B9:B33,"・")+COUNTIF(L9:L33,"・")+COUNTIF(V9:V33,"・") -> 0 | H34: 名 | I34: 再： | J34: =COUNTIF(C9:C33,"・")+COUNTIF(M9:M33,"・")+COUNTIF(W9:W33,"・") -> 0 | L34: 名 | M34: 計： | N34: =SUM(F34:K34) -> 0 | Q34: 名 | R34: （ | S34: 精： | T34: =COUNTIF(D9:D33,"・")+COUNTIF(N9:N33,"・")+COUNTIF(X9:X33,"・") -> 0 | W34: 名 | X34: ・ | Y34: 内： | Z34: =COUNTIF(E9:E33,"・")+COUNTIF(O9:O33,"・")+COUNTIF(Y9:Y33,"・") -> 0 | AC34: 名 | AD34: ）
A36: 紹介患者様氏名 | F36: 紹介先 | K36: 逆紹介患者様氏名 | P36: 紹介元 | U36: 処置実施者 | AA36: 処置内容
E37: 様 | O37: 様 | Z37: 様
E38: 様 | O38: 様 | Z38: 様
E39: 様 | O39: 様 | Z39: 様
E40: 様 | O40: 様 | Z40: 様
E41: 様 | O41: 様 | Z41: 様
A42: 本日の検査 | F42: 検査内容 | K42: 処置実施者 | P42: 処置内容 | Z42: 様
E43: 様 | O43: 様 | Z43: 様
E44: 様 | O44: 様 | Z44: 様
E45: 様 | O45: 様 | Z45: 様
E46: 様 | O46: 様 | U46: 点検項目
E47: 様 | O47: 様 | U47: 項目 | Z47: 時間 | AC47: 点検者
A48: 発熱 | F48: 下痢 | K48: 風邪薬 | P48: 男性： | U48: 医療廃棄物 | Y48: 0.75
A49: 0 | F49: 0 | K49: 0 | P49: 女性： | U49: 戸締り | Y49: 0.75 | AB49: ='6'!AB38:AD38 -> 中村 恵理子
A51: 備考欄 | C51: （連絡事項・処方変更・その他）

Sheet 17
B1: クリニック 日 誌 | H1: 令和 | J1: ='6'!J1 -> 2 | K1: 年 | L1: ='1'!L1 -> 4 | M1: 月 | N1: 17 | O1: 日 | Q1: （ | S1: ） | V1: COO | Y1: IOO | AB1: AOM
A3: 勤務者名
A4: ='6'!A4:F4 -> 中村 恵理子 | G4: 日 | I4: 柳田 美雪 | N4: 日 | Q4: 診察室 | W4: 外来担当医 | Z4: 外来介助者
A5: 石原 恵海 | G5: 日 | Q5: 第１診察室 | Z5: 柳田・石原
Q6: 第２診察室
B8: 新 | C8: 再 | D8: 精 | E8: 内 | F8: 処 | G8: 患者様氏名 | L8: 新 | M8: 再 | N8: 精 | O8: 内 | P8: 処 | Q8: 患者様氏名 | V8: 新 | W8: 再 | X8: 精 | Y8: 内 | Z8: 処 | AA8: 患者様氏名
A9: 1 | J9: 様 | K9: 2 | T9: 様 | U9: 3 | AD9: 様
A10: 4 | J10: 様 | K10: 5 | T10: 様 | U10: 6 | AD10: 様
A11: 7 | J11: 様 | K11: 8 | T11: 様 | U11: 9 | AD11: 様
A12: 10 | J12: 様 | K12: 11 | T12: 様 | U12: 12 | AD12: 様
A13: 13 | J13: 様 | K13: 14 | T13: 様 | U13: 15 | AD13: 様
A14: 16 | J14: 様 | K14: 17 | T14: 様 | U14: 18 | AD14: 様
A15: 19 | J15: 様 | K15: 20 | T15: 様 | U15: 21 | AD15: 様
A16: 22 | J16: 様 | K16: 23 | T16: 様 | U16: 24 | AD16: 様
A17: 25 | J17: 様 | K17: 26 | T17: 様 | U17: 27 | AD17: 様
A18: 28 | J18: 様 | K18: 29 | T18: 様 | U18: 30 | AD18: 様
A19: 31 | J19: 様 | K19: 32 | T19: 様 | U19: 33 | AD19: 様
A20: 34 | J20: 様 | K20: 35 | T20: 様 | U20: 36 | AD20: 様
... A33: 73 | J33: 様 | K33: 74 | T33: 様 | U33: 75 | AD33: 様
A34: 外来患者数 | E34: 新： | F34: =COUNTIF(B9:B33,"・")+COUNTIF(L9:L33,"・")+COUNTIF(V9:V33,"・") -> 0 | H34: 名 | I34: 再： | J34: =COUNTIF(C9:C33,"・")+COUNTIF(M9:M33,"・")+COUNTIF(W9:W33,"・") -> 0 | L34: 名 | M34: 計： | N34: =SUM(F34:K34) -> 0 | Q34: 名 | R34: （ | S34: 精： | T34: =COUNTIF(D9:D33,"・")+COUNTIF(N9:N33,"・")+COUNTIF(X9:X33,"・") -> 0 | W34: 名 | X34: ・ | Y34: 内： | Z34: =COUNTIF(E9:E33,"・")+COUNTIF(O9:O33,"・")+COUNTIF(Y9:Y33,"・") -> 0 | AC34: 名 | AD34: ）
A36: 紹介患者様氏名 | F36: 紹介先 | K36: 逆紹介患者様氏名 | P36: 紹介元 | U36: 処置実施者 | AA36: 処置内容
E37: 様 | O37: 様 | Z37: 様
E38: 様 | O38: 様 | Z38: 様
E39: 様 | O39: 様 | Z39: 様
E40: 様 | O40: 様 | Z40: 様
E41: 様 | O41: 様 | Z41: 様
A42: 本日の検査 | F42: 検査内容 | K42: 処置実施者 | P42: 処置内容 | Z42: 様
E43: 様 | O43: 様 | Z43: 様
E44: 様 | O44: 様 | Z44: 様
E45: 様 | O45: 様 | Z45: 様
E46: 様 | O46: 様 | U46: 点検項目
E47: 様 | O47: 様 | U47: 項目 | Z47: 時間 | AC47: 点検者
A48: 発熱 | F48: 下痢 | K48: 風邪薬 | P48: 男性： | U48: 医療廃棄物 | Y48: 0.75
A49: 0 | F49: 0 | K49: 0 | P49: 女性： | U49: 戸締り | Y49: 0.75 | AB49: ='6'!AB38:AD38 -> 中村 恵理子
A51: 備考欄 | C51: （連絡事項・処方変更・その他）

Sheet 18
B1: クリニック 日 誌 | H1: 令和 | J1: ='6'!J1 -> 2 | K1: 年 | L1: ='1'!L1 -> 4 | M1: 月 | N1: 18 | O1: 日 | Q1: （ | S1: ） | V1: COO | Y1: IOO | AB1: AOM
A3: 勤務者名
A4: ='6'!A4:F4 -> 中村 恵理子 | G4: 日 | I4: 柳田 美雪 | N4: 日 | Q4: 診察室 | W4: 外来担当医 | Z4: 外来介助者
A5: 石原 恵海 | G5: 日 | Q5: 第１診察室 | Z5: 柳田・石原
Q6: 第２診察室
B8: 新 | C8: 再 | D8: 精 | E8: 内 | F8: 処 | G8: 患者様氏名 | L8: 新 | M8: 再 | N8: 精 | O8: 内 | P8: 処 | Q8: 患者様氏名 | V8: 新 | W8: 再 | X8: 精 | Y8: 内 | Z8: 処 | AA8: 患者様氏名
A9: 1 | J9: 様 | K9: 2 | T9: 様 | U9: 3 | AD9: 様
A10: 4 | J10: 様 | K10: 5 | T10: 様 | U10: 6 | AD10: 様
A11: 7 | J11: 様 | K11: 8 | T11: 様 | U11: 9 | AD11: 様
A12: 10 | J12: 様 | K12: 11 | T12: 様 | U12: 12 | AD12: 様
A13: 13 | J13: 様 | K13: 14 | T13: 様 | U13: 15 | AD13: 様
A14: 16 | J14: 様 | K14: 17 | T14: 様 | U14: 18 | AD14: 様
A15: 19 | J15: 様 | K15: 20 | T15: 様 | U15: 21 | AD15: 様
A16: 22 | J16: 様 | K16: 23 | T16: 様 | U16: 24 | AD16: 様
A17: 25 | J17: 様 | K17: 26 | T17: 様 | U17: 27 | AD17: 様
A18: 28 | J18: 様 | K18: 29 | T18: 様 | U18: 30 | AD18: 様
A19: 31 | J19: 様 | K19: 32 | T19: 様 | U19: 33 | AD19: 様
A20: 34 | J20: 様 | K20: 35 | T20: 様 | U20: 36 | AD20: 様
... A33: 73 | J33: 様 | K33: 74 | T33: 様 | U33: 75 | AD33: 様
A34: 外来患者数 | E34: 新： | F34: =COUNTIF(B9:B33,"・")+COUNTIF(L9:L33,"・")+COUNTIF(V9:V33,"・") -> 0 | H34: 名 | I34: 再： | J34: =COUNTIF(C9:C33,"・")+COUNTIF(M9:M33,"・")+COUNTIF(W9:W33,"・") -> 0 | L34: 名 | M34: 計： | N34: =SUM(F34:K34) -> 0 | Q34: 名 | R34: （ | S34: 精： | T34: =COUNTIF(D9:D33,"・")+COUNTIF(N9:N33,"・")+COUNTIF(X9:X33,"・") -> 0 | W34: 名 | X34: ・ | Y34: 内： | Z34: =COUNTIF(E9:E33,"・")+COUNTIF(O9:O33,"・")+COUNTIF(Y9:Y33,"・") -> 0 | AC34: 名 | AD34: ）
A36: 紹介患者様氏名 | F36: 紹介先 | K36: 逆紹介患者様氏名 | P36: 紹介元 | U36: 処置実施者 | AA36: 処置内容
E37: 様 | O37: 様 | Z37: 様
E38: 様 | O38: 様 | Z38: 様
E39: 様 | O39: 様 | Z39: 様
E40: 様 | O40: 様 | Z40: 様
E41: 様 | O41: 様 | Z41: 様
A42: 本日の検査 | F42: 検査内容 | K42: 処置実施者 | P42: 処置内容 | Z42: 様
E43: 様 | O43: 様 | Z43: 様
E44: 様 | O44: 様 | Z44: 様
E45: 様 | O45: 様 | Z45: 様
E46: 様 | O46: 様 | U46: 点検項目
E47: 様 | O47: 様 | U47: 項目 | Z47: 時間 | AC47: 点検者
A48: 発熱 | F48: 下痢 | K48: 風邪薬 | P48: 男性： | U48: 医療廃棄物 | Y48: 0.75
A49: 0 | F49: 0 | K49: 0 | P49: 女性： | U49: 戸締り | Y49: 0.75 | AB49: ='6'!AB38:AD38 -> 中村 恵理子
A51: 備考欄 | C51: （連絡事項・処方変更・その他）

Sheet 19
B1: クリニック 日 誌 | H1: 令和 | J1: ='6'!J1 -> 2 | K1: 年 | L1: ='1'!L1 -> 4 | M1: 月 | N1: 19 | O1: 日 | Q1: （ | S1: ） | V1: COO | Y1: IOO | AB1: AOM
A3: 勤務者名
A4: ='6'!A4:F4 -> 中村 恵理子 | G4: 日 | I4: 柳田 美雪 | N4: 日 | Q4: 診察室 | W4: 外来担当医 | Z4: 外来介助者
A5: 石原 恵海 | G5: 日 | Q5: 第１診察室 | Z5: 柳田・石原
Q6: 第２診察室
B8: 新 | C8: 再 | D8: 精 | E8: 内 | F8: 処 | G8: 患者様氏名 | L8: 新 | M8: 再 | N8: 精 | O8: 内 | P8: 処 | Q8: 患者様氏名 | V8: 新 | W8: 再 | X8: 精 | Y8: 内 | Z8: 処 | AA8: 患者様氏名
A9: 1 | J9: 様 | K9: 2 | T9: 様 | U9: 3 | AD9: 様
A10: 4 | J10: 様 | K10: 5 | T10: 様 | U10: 6 | AD10: 様
A11: 7 | J11: 様 | K11: 8 | T11: 様 | U11: 9 | AD11: 様
A12: 10 | J12: 様 | K12: 11 | T12: 様 | U12: 12 | AD12: 様
A13: 13 | J13: 様 | K13: 14 | T13: 様 | U13: 15 | AD13: 様
A14: 16 | J14: 様 | K14: 17 | T14: 様 | U14: 18 | AD14: 様
A15: 19 | J15: 様 | K15: 20 | T15: 様 | U15: 21 | AD15: 様
A16: 22 | J16: 様 | K16: 23 | T16: 様 | U16: 24 | AD16: 様
A17: 25 | J17: 様 | K17: 26 | T17: 様 | U17: 27 | AD17: 様
A18: 28 | J18: 様 | K18: 29 | T18: 様 | U18: 30 | AD18: 様
A19: 31 | J19: 様 | K19: 32 | T19: 様 | U19: 33 | AD19: 様
A20: 34 | J20: 様 | K20: 35 | T20: 様 | U20: 36 | AD20: 様
... A33: 73 | J33: 様 | K33: 74 | T33: 様 | U33: 75 | AD33: 様
A34: 外来患者数 | E34: 新： | F34: =COUNTIF(B9:B33,"・")+COUNTIF(L9:L33,"・")+COUNTIF(V9:V33,"・") -> 0 | H34: 名 | I34: 再： | J34: =COUNTIF(C9:C33,"・")+COUNTIF(M9:M33,"・")+COUNTIF(W9:W33,"・") -> 0 | L34: 名 | M34: 計： | N34: =SUM(F34:K34) -> 0 | Q34: 名 | R34: （ | S34: 精： | T34: =COUNTIF(D9:D33,"・")+COUNTIF(N9:N33,"・")+COUNTIF(X9:X33,"・") -> 0 | W34: 名 | X34: ・ | Y34: 内： | Z34: =COUNTIF(E9:E33,"・")+COUNTIF(O9:O33,"・")+COUNTIF(Y9:Y33,"・") -> 0 | AC34: 名 | AD34: ）
A36: 紹介患者様氏名 | F36: 紹介先 | K36: 逆紹介患者様氏名 | P36: 紹介元 | U36: 処置実施者 | AA36: 処置内容
E37: 様 | O37: 様 | Z37: 様
E38: 様 | O38: 様 | Z38: 様
E39: 様 | O39: 様 | Z39: 様
E40: 様 | O40: 様 | Z40: 様
E41: 様 | O41: 様 | Z41: 様
A42: 本日の検査 | F42: 検査内容 | K42: 処置実施者 | P42: 処置内容 | Z42: 様
E43: 様 | O43: 様 | Z43: 様
E44: 様 | O44: 様 | Z44: 様
E45: 様 | O45: 様 | Z45: 様
E46: 様 | O46: 様 | U46: 点検項目
E47: 様 | O47: 様 | U47: 項目 | Z47: 時間 | AC47: 点検者
A48: 発熱 | F48: 下痢 | K48: 風邪薬 | P48: 男性： | U48: 医療廃棄物 | Y48: 0.75
A49: 0 | F49: 0 | K49: 0 | P49: 女性： | U49: 戸締り | Y49: 0.75 | AB49: ='6'!AB38:AD38 -> 中村 恵理子
A51: 備考欄 | C51: （連絡事項・処方変更・その他）

Sheet 20
B1: クリニック 日 誌 | H1: 令和 | J1: ='6'!J1 -> 2 | K1: 年 | L1: ='1'!L1 -> 4 | M1: 月 | N1: 20 | O1: 日 | Q1: （ | S1: ） | V1: COO | Y1: IOO | AB1: AOM
A3: 勤務者名
A4: ='6'!A4:F4 -> 中村 恵理子 | G4: 日 | I4: 柳田 美雪 | N4: 日 | Q4: 診察室 | W4: 外来担当医 | Z4: 外来介助者
A5: 石原 恵海 | G5: 日 | Q5: 第１診察室 | Z5: 柳田・石原
Q6: 第２診察室
B8: 新 | C8: 再 | D8: 精 | E8: 内 | F8: 処 | G8: 患者様氏名 | L8: 新 | M8: 再 | N8: 精 | O8: 内 | P8: 処 | Q8: 患者様氏名 | V8: 新 | W8: 再 | X8: 精 | Y8: 内 | Z8: 処 | AA8: 患者様氏名
A9: 1 | J9: 様 | K9: 2 | T9: 様 | U9: 3 | AD9: 様
A10: 4 | J10: 様 | K10: 5 | T10: 様 | U10: 6 | AD10: 様
A11: 7 | J11: 様 | K11: 8 | T11: 様 | U11: 9 | AD11: 様
A12: 10 | J12: 様 | K12: 11 | T12: 様 | U12: 12 | AD12: 様
A13: 13 | J13: 様 | K13: 14 | T13: 様 | U13: 15 | AD13: 様
A14: 16 | J14: 様 | K14: 17 | T14: 様 | U14: 18 | AD14: 様
