Workbook

Sheet 3
B1: クリニック 日 誌 | H1: 令和 | J1: 2 | K1: 年 | L1: 2 | M1: 月 | N1: 3 | O1: 日 | Q1: （ | R1: 月 | S1: ） | V1: COO | Y1: IOO | AB1: AOM
A3: 勤務者名
A4: 中村 恵理子 | G4: 日 | I4: 柳田 美雪 | N4: 日 | Q4: 診察室 | W4: 外来担当医 | Z4: 外来介助者
A5: 石原 恵海 | G5: 日 | I5: 石谷 美代子 | N5: 日 | Q5: 第１診察室 | U5: 田名部 茂 | W5: /千葉 潜 | Z5: 柳田・石原
Q6: 第２診察室 | U6: 千葉 良 | Z6: 柳田・石原
B8: 新 | C8: 再 | D8: 精 | E8: 内 | F8: 処 | G8: 患者様氏名 | L8: 新 | M8: 再 | N8: 精 | O8: 内 | P8: 処 | Q8: 患者様氏名 | V8: 新 | W8: 再 | X8: 精 | Y8: 内 | Z8: 処 | AA8: 患者様氏名
A9: 1 | C9: ・ | D9: ・ | F9: 56 | G9: 山本 ハナコ | J9: 様 | K9: 2 | L9: ・ | N9: ・ | P9: 0 | Q9: 妻神 京子 | T9: 様 | U9: 3 | W9: ・ | X9: ・ | Z9: 30 | AA9: 沼田 隆太郎 | AD9: 様
A10: 4 | C10: ・ | D10: ・ | F10: 28 | G10: 田嶋 十三雄 | J10: 様 | K10: 5 | M10: ・ | N10: ・ | P10: 14 | Q10: 森山 柚葵 | T10: 様 | U10: 6 | W10: ・ | X10: ・ | Z10: 30 | AA10: 浄法寺 七海 | AD10: 様
A11: 7 | B11: ・ | E11: ・ | F11: 7 | G11: 小比券巻 義光 | J11: 様 | K11: 8 | L11: ・ | N11: ・ | P11: 0 | Q11: 古舘 専一 | T11: 様 | U11: 9 | W11: ・ | X11: ・ | Z11: 0 | AA11: 萠出 克治 | AD11: 様
A12: 10 | C12: ・ | D12: ・ | F12: 28 | G12: 似鳥 勝枝 | J12: 様 | K12: 11 | M12: ・ | N12: ・ | P12: 56 | Q12: 永島 かなえ | T12: 様 | U12: 12 | W12: ・ | X12: ・ | Z12: 0 | AA12: 山本 トヨ | AD12: 様
A13: 13 | C13: ・ | D13: ・ | F13: 28 | G13: 蛯名 ノエ | J13: 様 | K13: 14 | L13: ・ | N13: ・ | P13: 28 | Q13: 鈴木 正記 | T13: 様 | U13: 15 | W13: ・ | X13: ・ | Z13: 30 | AA13: 野坂 翔 | AD13: 様
A14: 16 | C14: ・ | D14: ・ | F14: 28 | G14: 沼端 ミセ | J14: 様 | K14: 17 | M14: ・ | N14: ・ | P14: 0 | Q14: 遠嶋 剛 | T14: 様 | U14: 18 | W14: ・ | X14: ・ | Z14: 0 | AA14: 工藤 健壽 | AD14: 様
A15: 19 | C15: ・ | D15: ・ | F15: 28 | G15: 小向 克也 | J15: 様 | K15: 20 | L15: ・ | N15: ・ | P15: 19 | Q15: 小江 キセ | T15: 様 | U15: 21 | W15: ・ | X15: ・ | Z15: 0 | AA15: 工藤 富雄 | AD15: 様
A16: 22 | C16: ・ | D16: ・ | F16: 20 | G16: 塚田 佳子 | J16: 様 | K16: 23 | L16: ・ | N16: ・ | P16: 8 | Q16: 石岡 祐子 | T16: 様 | U16: 24 | W16: ・ | X16: ・ | Z16: 0 | AA16: 深町 栄美子 | AD16: 様
A17: 25 | C17: ・ | D17: ・ | F17: 0 | G17: 加藤 亜耶 | J17: 様 | K17: 26 | M17: ・ | N17: ・ | P17: 30 | Q17: 坂本 達哉 | T17: 様 | U17: 27 | W17: ・ | X17: ・ | Z17: 0 | AA17: 瀬川 高雄 | AD17: 様
A18: 28 | C18: ・ | D18: ・ | F18: 0 | G18: 山下 蒼空 | J18: 様 | K18: 29 | M18: ・ | N18: ・ | P18: 30 | Q18: 二又 安子 | T18: 様 | U18: 30 | W18: ・ | X18: ・ | Z18: 0 | AA18: 高村 加津子 | AD18: 様
A19: 31 | C19: ・ | D19: ・ | F19: 14 | G19: 猪越 陽 | J19: 様 | K19: 32 | M19: ・ | N19: ・ | P19: 30 | Q19: 佐々木 あき | T19: 様 | U19: 33 | W19: ・ | X19: ・ | Z19: 0 | AA19: 萠出 きのゑ | AD19: 様
A20: 34 | C20: ・ | D20: ・ | F20: 0 | G20: 目時 晶太 | J20: 様 | K20: 35 | T20: 様 | U20: 36 | AD20: 様
A21: 外来患者数 | E21: 新： | F21: =COUNTIF(B9:B20,"・")+COUNTIF(L9:L20,"・")+COUNTIF(V9:V20,"・") -> 6 | H21: 名 | I21: 再： | J21: =COUNTIF(C9:C20,"・")+COUNTIF(M9:M20,"・")+COUNTIF(W9:W20,"・") -> 28 | L21: 名 | M21: 計： | N21: =SUM(F21:K21) -> 34 | Q21: 名 | R21: （ | S21: 精： | T21: =COUNTIF(D9:D20,"・")+COUNTIF(N9:N20,"・")+COUNTIF(X9:X20,"・") -> 33 | W21: 名 | X21: ・ | Y21: 内： | Z21: =COUNTIF(E9:E20,"・")+COUNTIF(O9:O20,"・")+COUNTIF(Y9:Y20,"・") -> 1 | AC21: 名 | AD21: ）
A23: 紹介患者様氏名 | F23: 紹介先 | K23: 逆紹介患者様氏名 | P23: 紹介元 | U23: 処置実施者 | AA23: 処置内容
E24: 様 | K24: 鈴木 正記 | O24: 様 | P24: 高松病院 | Z24: 様
E25: 様 | K25: 古舘 専一 | O25: 様 | P25: 下田診療所 | Z25: 様
E26: 様 | K26: 妻神 京子 | O26: 様 | P26: 三沢中央病院 | Z26: 様
E27: 様 | K27: 小江 キセ | O27: 様 | P27: 岡三沢診療所 | Z27: 様
A28: 本日の検査 | F28: 検査内容 | K28: 処置実施者 | P28: 処置内容 | Z28: 様
A29: 加藤 亜耶 | E29: 様 | F29: AQ/ASRS | K29: 小向 克也 | O29: 様 | P29: ｾﾞﾌﾟﾘｵﾝ150mg 1セット | Z29: 様
A30: 目時 晶太 | E30: 様 | F30: RARS/AQ-J/ASRS | O30: 様 | Z30: 様
A31: 鈴木 正記 | E31: 様 | F31: AQ/ASRS | O31: 様 | Z31: 様
A32: 鈴木 正記 | E32: 様 | F32: 血液検査 | O32: 様 | U32: 点検項目
A33: 小江 キセ | E33: 様 | F33: MMSE HDS-R | O33: 様 | U33: 項目 | Z33: 時間 | AC33: 点検者
A34: 発熱 | F34: 下痢 | K34: 風邪薬 | P34: 男性：16 | U34: 医療廃棄物 | Y34: 0.75 | AB34: 石原 恵海
A35: 0 | F35: 0 | K35: 0 | P35: 女性：18 | U35: 戸締り | Y35: 0.75 | AB35: 石谷 美代子
A37: 備考欄 | C37: （連絡事項・処方変更・その他）
G38: 特になし
G39: 石原 恵海

Sheet 4
B1: クリニック 日 誌 | H1: 令和 | J1: ='3'!J1 -> 2 | K1: 年 | L1: ='3'!L1 -> 2 | M1: 月 | N1: 4 | O1: 日 | Q1: （ | R1: 火 | S1: ） | V1: COO | Y1: IOO | AB1: AOM
A3: 勤務者名
A4: ='3'!A4:F4 -> 中村 恵理子 | G4: 日 | I4: 柳田 美雪 | N4: 日 | Q4: 診察室 | W4: 外来担当医 | Z4: 外来介助者
A5: 石原 恵海 | G5: 日 | I5: ='3'!I5:M5 -> 石谷 美代子 | N5: 日 | Q5: 第１診察室 | U5: 千葉 潜 | Z5: 柳田・石原
Q6: 第２診察室 | U6: 千葉 良 | Z6: 柳田・石原
B8: 新 | C8: 再 | D8: 精 | E8: 内 | F8: 処 | G8: 患者様氏名 | L8: 新 | M8: 再 | N8: 精 | O8: 内 | P8: 処 | Q8: 患者様氏名 | V8: 新 | W8: 再 | X8: 精 | Y8: 内 | Z8: 処 | AA8: 患者様氏名
A9: 1 | C9: ・ | D9: ・ | F9: 21 | G9: 戸田 文子 | J9: 様 | K9: 2 | M9: ・ | N9: ・ | P9: 14 | Q9: 織笠 勝男 | T9: 様 | U9: 3 | W9: ・ | X9: ・ | Z9: 14 | AA9: 畑山 貴史 | AD9: 様
A10: 4 | C10: ・ | D10: ・ | F10: 56 | G10: 袴田 きみ | J10: 様 | K10: 5 | M10: ・ | N10: ・ | P10: 14 | Q10: 高橋 佳子 | T10: 様 | U10: 6 | W10: ・ | X10: ・ | Z10: 14 | AA10: 花輪 聖大 | AD10: 様
A11: 7 | B11: ・ | E11: ・ | F11: 5 | G11: 小塩 和行 | J11: 様 | K11: 8 | M11: ・ | N11: ・ | P11: 28 | Q11: 村田 茉美 | T11: 様 | U11: 9 | W11: ・ | X11: ・ | Z11: 0 | AA11: 花輪 和子 | AD11: 様
A12: 10 | C12: ・ | D12: ・ | F12: 28 | G12: 戸村 節子 | J12: 様 | K12: 11 | M12: ・ | N12: ・ | P12: 28 | Q12: 若月 淳 | T12: 様 | U12: 12 | W12: ・ | X12: ・ | Z12: 28 | AA12: 山田 果奈 | AD12: 様
A13: 13 | C13: ・ | D13: ・ | F13: 14 | G13: 石ケ谷 數子 | J13: 様 | K13: 14 | M13: ・ | N13: ・ | P13: 28 | Q13: 西舘 瞳 | T13: 様 | U13: 15 | W13: ・ | X13: ・ | Z13: 7 | AA13: 山岡 裕花 | AD13: 様
A14: 16 | C14: ・ | D14: ・ | F14: 28 | G14: 佐藤 市真 | J14: 様 | K14: 17 | M14: ・ | N14: ・ | P14: 30 | Q14: 橋本 哲 | T14: 様 | U14: 18 | W14: ・ | X14: ・ | Z14: 28 | AA14: 加藤 智 | AD14: 様
A15: 19 | C15: ・ | D15: ・ | F15: 14 | G15: 橋本 英治 | J15: 様 | K15: 20 | M15: ・ | N15: ・ | P15: 14 | Q15: 伊藤 咲月 | T15: 様 | U15: 21 | W15: ・ | X15: ・ | Z15: 7 | AA15: 小笠原 彩子 | AD15: 様
A16: 22 | C16: ・ | D16: ・ | F16: 28 | G16: 住吉 鉄男 | J16: 様 | K16: 23 | M16: ・ | N16: ・ | P16: 28 | Q16: 高橋 喬 | T16: 様 | U16: 24 | W16: ・ | X16: ・ | Z16: 28 | AA16: 佐藤 初男 | AD16: 様
A17: 25 | C17: ・ | D17: ・ | F17: 28 | G17: 曳木 一守 | J17: 様 | K17: 26 | M17: ・ | N17: ・ | P17: 28 | Q17: 天間 ミツエ | T17: 様 | U17: 27 | W17: ・ | X17: ・ | Z17: 28 | AA17: 南 英幸 | AD17: 様
A18: 28 | C18: ・ | D18: ・ | F18: 28 | G18: 吉田 めぐみ | J18: 様 | K18: 29 | M18: ・ | N18: ・ | P18: 28 | Q18: 工藤 希和子 | T18: 様 | U18: 30 | W18: ・ | X18: ・ | Z18: 0 | AA18: 鈴木 寛二 | AD18: 様
A19: 31 | C19: ・ | D19: ・ | F19: 30 | G19: 田辺 京子 | J19: 様 | K19: 32 | M19: ・ | N19: ・ | P19: 28 | Q19: 小比券巻 寿 | T19: 様 | U19: 33 | W19: ・ | X19: ・ | Z19: 0 | AA19: 瀬川 高雄 | AD19: 様
A20: 34 | C20: ・ | D20: ・ | F20: 28 | G20: 三浦 年男 | J20: 様 | K20: 35 | M20: ・ | N20: ・ | P20: 28 | Q20: 酒田 朋紀 | T20: 様 | U20: 36 | W20: ・ | X20: ・ | Z20: 0 | AA20: 高村 加津子 | AD20: 様
A21: 37 | C21: ・ | D21: ・ | F21: 28 | G21: 野田 菊枝 | J21: 様 | K21: 38 | M21: ・ | N21: ・ | P21: 30 | Q21: 古谷 京子 | T21: 様 | U21: 39 | W21: ・ | X21: ・ | Z21: 0 | AA21: 遠嶋 剛 | AD21: 様
A22: 40 | C22: ・ | D22: ・ | F22: 28 | G22: 太田 広枝 | J22: 様 | K22: 41 | M22: ・ | N22: ・ | P22: 28 | Q22: 菊地 由希 | T22: 様 | U22: 42 | W22: ・ | X22: ・ | Z22: 0 | AA22: 萠出 克治 | AD22: 様
A23: 43 | C23: ・ | D23: ・ | F23: 28 | G23: 角 茜莉 | J23: 様 | K23: 44 | M23: ・ | N23: ・ | P23: 28 | Q23: 箕輪 麻紀子 | T23: 様 | U23: 45 | W23: ・ | X23: ・ | Z23: 0 | AA23: 萠出 きのゑ | AD23: 様
... A29: 61 | C29: ・ | D29: ・ | F29: 30 | G29: 出町 舜介 | J29: 様 | K29: 62 | M29: ・ | N29: ・ | P29: 28 | Q29: 坂本 政勝 | T29: 様 | U29: 63 | W29: ・ | X29: ・ | Z29: 0 | AA29: 橋本 豊彦 | AD29: 様
A30: 64 | C30: ・ | D30: ・ | F30: 28 | G30: 哘 典子 | J30: 様 | K30: 65 | M30: ・ | N30: ・ | P30: 28 | Q30: 奥寺 真理子 | T30: 様 | U30: 66 | AD30: 様
A31: 外来患者数 | E31: 新： | F31: =COUNTIF(B9:B30,"・")+COUNTIF(L9:L30,"・")+COUNTIF(V9:V30,"・") -> 1 | H31: 名 | I31: 再： | J31: =COUNTIF(C9:C30,"・")+COUNTIF(M9:M30,"・")+COUNTIF(W9:W30,"・") -> 64 | L31: 名 | M31: 計： | N31: =SUM(F31:K31) -> 65 | Q31: 名 | R31: （ | S31: 精： | T31: =COUNTIF(D9:D30,"・")+COUNTIF(N9:N30,"・")+COUNTIF(X9:X30,"・") -> 64 | W31: 名 | X31: ・ | Y31: 内： | Z31: =COUNTIF(E9:E30,"・")+COUNTIF(O9:O30,"・")+COUNTIF(Y9:Y30,"・") -> 1 | AC31: 名 | AD31: ）
A33: 紹介患者様氏名 | F33: 紹介先 | K33: 逆紹介患者様氏名 | P33: 紹介元 | U33: 処置実施者 | AA33: 処置内容
E34: 様 | O34: 様 | Z34: 様
A35: 本日の検査 | F35: 検査内容 | K35: 処置実施者 | P35: 処置内容 | Z35: 様
A36: 袴田 きみ | E36: 様 | F36: 血液検査 | K36: 野田 菊枝 | O36: 様 | P36: ｾﾞﾌﾟﾘｵﾝ100mg １ｷｯﾄ | Z36: 様
E37: 様 | K37: 坂本 政勝 | O37: 様 | P37: ハロマンス50 １A筋注 | Z37: 様
E38: 様 | O38: 様 | U38: 点検項目
E39: 様 | O39: 様 | U39: 項目 | Z39: 時間 | AC39: 点検者
A40: 発熱 | F40: 下痢 | K40: 風邪薬 | P40: 男性：27 | U40: 医療廃棄物 | Y40: 0.75 | AB40: 石原 恵海
A41: 0 | F41: 0 | K41: 0 | P41: 女性：38 | U41: 戸締り | Y41: 0.75 | AB41: ='3'!AB35:AD35 -> 石谷 美代子
A43: 備考欄 | C43: （連絡事項・処方変更・その他）
G44: 特記なし
G45: 柳田 美雪

Sheet 5
B1: クリニック 日 誌 | H1: 令和 | J1: ='3'!J1 -> 2 | K1: 年 | L1: ='3'!L1 -> 2 | M1: 月 | N1: 5 | O1: 日 | Q1: （ | R1: 水 | S1: ） | V1: COO | Y1: IOO | AB1: AOM
A3: 勤務者名
A4: ='3'!A4:F4 -> 中村 恵理子 | G4: 日 | I4: 柳田 美雪 | N4: 日 | Q4: 診察室 | W4: 外来担当医 | Z4: 外来介助者
A5: 石原 恵海 | G5: 日 | I5: ='3'!I5:M5 -> 石谷 美代子 | N5: 日 | Q5: 第１診察室 | U5: 千葉 潜 | Z5: 柳田・石原
Q6: 第２診察室
B8: 新 | C8: 再 | D8: 精 | E8: 内 | F8: 処 | G8: 患者様氏名 | L8: 新 | M8: 再 | N8: 精 | O8: 内 | P8: 処 | Q8: 患者様氏名 | V8: 新 | W8: 再 | X8: 精 | Y8: 内 | Z8: 処 | AA8: 患者様氏名
A9: 1 | C9: ・ | D9: ・ | F9: 30 | G9: 飯田 昭子 | J9: 様 | K9: 2 | M9: ・ | N9: ・ | P9: 30 | Q9: 川市 勲 | T9: 様 | U9: 3 | W9: ・ | X9: ・ | Z9: 14 | AA9: 須藤 直子 | AD9: 様
A10: 4 | C10: ・ | D10: ・ | F10: 30 | G10: 小林 きよ | J10: 様 | K10: 5 | M10: ・ | N10: ・ | P10: 28 | Q10: 吉田 邦雄 | T10: 様 | U10: 6 | W10: ・ | X10: ・ | Z10: 28 | AA10: 谷口 玉枝 | AD10: 様
A11: 7 | C11: ・ | D11: ・ | F11: 28 | G11: 佐々木 勝哉 | J11: 様 | K11: 8 | M11: ・ | N11: ・ | P11: 28 | Q11: 沼田 壽美子 | T11: 様 | U11: 9 | W11: ・ | X11: ・ | Z11: 14 | AA11: 蛯沢 陽祐 | AD11: 様
A12: 10 | C12: ・ | D12: ・ | F12: 28 | G12: 野川 安雄 | J12: 様 | K12: 11 | M12: ・ | N12: ・ | P12: 28 | Q12: 西山 節子 | T12: 様 | U12: 12 | W12: ・ | X12: ・ | Z12: 28 | AA12: 一戸 幸子 | AD12: 様
A13: 13 | C13: ・ | D13: ・ | F13: 42 | G13: 大坂 与太郎 | J13: 様 | K13: 14 | M13: ・ | N13: ・ | P13: 28 | Q13: 目代 幸枝 | T13: 様 | U13: 15 | W13: ・ | X13: ・ | Z13: 42 | AA13: 松岡 準三郎 | AD13: 様
A14: 16 | C14: ・ | D14: ・ | F14: 7 | G14: 西舘 惠子 | J14: 様 | K14: 17 | M14: ・ | N14: ・ | P14: 28 | Q14: 附田 富貴子 | T14: 様 | U14: 18 | W14: ・ | X14: ・ | Z14: 28 | AA14: 佐藤 喜子 | AD14: 様
A15: 19 | C15: ・ | D15: ・ | F15: 28 | G15: 中村 ミヤ | J15: 様 | K15: 20 | M15: ・ | N15: ・ | P15: 29 | Q15: 藤田 絢三 | T15: 様 | U15: 21 | W15: ・ | X15: ・ | Z15: 14 | AA15: 浪岡 淳哉 | AD15: 様
A16: 22 | C16: ・ | D16: ・ | F16: 14 | G16: 杉山 貴之 | J16: 様 | K16: 23 | M16: ・ | N16: ・ | P16: 28 | Q16: 山本 文紀 | T16: 様 | U16: 24 | W16: ・ | X16: ・ | Z16: 28 | AA16: 阿部 勝廣 | AD16: 様
A17: 25 | C17: ・ | D17: ・ | F17: 7 | G17: 根本 幸子 | J17: 様 | K17: 26 | M17: ・ | N17: ・ | P17: 28 | Q17: 鈴木 敏信 | T17: 様 | U17: 27 | W17: ・ | X17: ・ | Z17: 5 | AA17: 蛯名 海斗 | AD17: 様
A18: 28 | C18: ・ | D18: ・ | F18: 14 | G18: 坂田 佳織 | J18: 様 | K18: 29 | M18: ・ | N18: ・ | P18: 28 | Q18: 中村 実樹 | T18: 様 | U18: 30 | W18: ・ | X18: ・ | Z18: 0 | AA18: 中居 敬悦 | AD18: 様
A19: 31 | C19: ・ | D19: ・ | F19: 28 | G19: 宮古 月菜 | J19: 様 | K19: 32 | M19: ・ | N19: ・ | P19: 28 | Q19: 類家 つさ | T19: 様 | U19: 33 | W19: ・ | X19: ・ | Z19: 0 | AA19: 小川 サクラ | AD19: 様
A20: 34 | C20: ・ | D20: ・ | F20: 28 | G20: 濱田 志美 | J20: 様 | K20: 35 | M20: ・ | N20: ・ | P20: 0 | Q20: 佐藤 初男 | T20: 様 | U20: 36 | W20: ・ | X20: ・ | Z20: 0 | AA20: 千葉 スワ | AD20: 様
... A29: 61 | C29: ・ | D29: ・ | F29: 0 | G29: 石ケ谷 數子 | J29: 様 | K29: 62 | M29: ・ | N29: ・ | P29: 0 | Q29: 深町 栄美子 | T29: 様 | U29: 63 | W29: ・ | X29: ・ | Z29: 0 | AA29: 遠嶋 剛 | AD29: 様
A30: 外来患者数 | E30: 新： | F30: =COUNTIF(B9:B29,"・")+COUNTIF(L9:L29,"・")+COUNTIF(V9:V29,"・") -> 0 | H30: 名 | I30: 再： | J30: =COUNTIF(C9:C29,"・")+COUNTIF(M9:M29,"・")+COUNTIF(W9:W29,"・") -> 63 | L30: 名 | M30: 計： | N30: =SUM(F30:K30) -> 63 | Q30: 名 | R30: （ | S30: 精： | T30: =COUNTIF(D9:D29,"・")+COUNTIF(N9:N29,"・")+COUNTIF(X9:X29,"・") -> 63 | W30: 名 | X30: ・ | Y30: 内： | Z30: =COUNTIF(E9:E29,"・")+COUNTIF(O9:O29,"・")+COUNTIF(Y9:Y29,"・") -> 0 | AC30: 名 | AD30: ）
A32: 紹介患者様氏名 | F32: 紹介先 | K32: 逆紹介患者様氏名 | P32: 紹介元 | U32: 処置実施者 | AA32: 処置内容
E33: 様 | K33: 谷口 玉枝 | O33: 様 | P33: 三沢市立病院 | Z33: 様
A34: 本日の検査 | F34: 検査内容 | K34: 処置実施者 | P34: 処置内容 | Z34: 様
A35: 飯田 昭子 | E35: 様 | F35: 血液検査 | O35: 様 | Z35: 様
A36: 佐々木 勝哉 | E36: 様 | F36: WAIS-Ⅲ | O36: 様 | Z36: 様
A37: 西舘 惠子 | E37: 様 | F37: 血液検査 | O37: 様 | Z37: 様
A38: 加藤 亜耶 | E38: 様 | F38: WAIS-Ⅲ | O38: 様 | U38: 点検項目
E39: 様 | O39: 様 | U39: 項目 | Z39: 時間 | AC39: 点検者
A40: 発熱 | F40: 下痢 | K40: 風邪薬 | P40: 男性：25 | U40: 医療廃棄物 | Y40: 0.75 | AB40: 石原 恵海
A41: 0 | F41: 0 | K41: 0 | P41: 女性：38 | U41: 戸締り | Y41: 0.75 | AB41: ='3'!AB35:AD35 -> 石谷 美代子
A43: 備考欄 | C43: （連絡事項・処方変更・その他）
G44: 特になし
G45: 石原

Sheet 6
B1: クリニック 日 誌 | H1: 令和 | J1: ='3'!J1 -> 2 | K1: 年 | L1: ='3'!L1 -> 2 | M1: 月 | N1: 6 | O1: 日 | Q1: （ | R1: 木 | S1: ） | V1: COO | Y1: IOO | AB1: AOM
A3: 勤務者名
A4: 中村 恵理子 | G4: 日 | I4: 柳田 美雪 | N4: 日 | Q4: 診察室 | W4: 外来担当医 | Z4: 外来介助者
A5: 石原 恵海 | G5: 日 | I5: ='3'!I5:M5 -> 石谷 美代子 | N5: 日 | Q5: 第１診察室 | U5: 千葉 潜 | Z5: 柳田・石原
Q6: 第２診察室 | U6: 馬渡 晃弘 | Z6: 柳田・石原
B8: 新 | C8: 再 | D8: 精 | E8: 内 | F8: 処 | G8: 患者様氏名 | L8: 新 | M8: 再 | N8: 精 | O8: 内 | P8: 処 | Q8: 患者様氏名 | V8: 新 | W8: 再 | X8: 精 | Y8: 内 | Z8: 処 | AA8: 患者様氏名
A9: 1 | C9: ・ | D9: ・ | F9: 28 | G9: 大野 宏子 | J9: 様 | K9: 2 | M9: ・ | N9: ・ | P9: 28 | Q9: 蛯名 忍 | T9: 様 | U9: 3 | W9: ・ | X9: ・ | Z9: 7 | AA9: 野々宮 俊江 | AD9: 様
A10: 4 | C10: ・ | D10: ・ | F10: 28 | G10: 中平 陽香 | J10: 様 | K10: 5 | M10: ・ | N10: ・ | P10: 28 | Q10: 赤川 美紀 | T10: 様 | U10: 6 | W10: ・ | X10: ・ | Z10: 28 | AA10: 石岡 正利 | AD10: 様
A11: 7 | C11: ・ | D11: ・ | F11: 28 | G11: 作田 由美子 | J11: 様 | K11: 8 | M11: ・ | N11: ・ | P11: 14 | Q11: 町屋 自由 | T11: 様 | U11: 9 | W11: ・ | X11: ・ | Z11: 30 | AA11: 深沢口 誠 | AD11: 様
A12: 10 | C12: ・ | D12: ・ | F12: 28 | G12: 石久保 香織 | J12: 様 | K12: 11 | M12: ・ | N12: ・ | P12: 28 | Q12: 遠藤 那菜 | T12: 様 | U12: 12 | W12: ・ | X12: ・ | Z12: 30 | AA12: 久保田 操 | AD12: 様
A13: 13 | C13: ・ | D13: ・ | F13: 30 | G13: 木村 健 | J13: 様 | K13: 14 | M13: ・ | N13: ・ | P13: 7 | Q13: 齊藤 翔太 | T13: 様 | U13: 15 | W13: ・ | X13: ・ | Z13: 18 | AA13: 瀬川 高雄 | AD13: 様
A14: 16 | C14: ・ | D14: ・ | F14: 30 | G14: 長井 カン子 | J14: 様 | K14: 17 | M14: ・ | N14: ・ | P14: 7 | Q14: 中居 直基 | T14: 様 | U14: 18 | W14: ・ | X14: ・ | Z14: 42 | AA14: 佐藤 ソノ | AD14: 様
A15: 19 | C15: ・ | D15: ・ | F15: 28 | G15: 島貫 香央里 | J15: 様 | K15: 20 | L15: ・ | N15: ・ | P15: 7 | Q15: 蛯名 慶子 | T15: 様 | U15: 21 | W15: ・ | X15: ・ | Z15: 28 | AA15: 神田 輝子 | AD15: 様
A16: 22 | C16: ・ | D16: ・ | F16: 28 | G16: 濤岡 定四郎 | J16: 様 | K16: 23 | L16: ・ | N16: ・ | P16: 7 | Q16: 山本 ヤエ | T16: 様 | U16: 24 | W16: ・ | X16: ・ | Z16: 28 | AA16: 村上 トクヱ | AD16: 様
A17: 25 | C17: ・ | D17: ・ | F17: 28 | G17: 町屋 睦子 | J17: 様 | K17: 26 | L17: ・ | N17: ・ | P17: 7 | Q17: 蛯名 慶子 | T17: 様 | U17: 27 | W17: ・ | X17: ・ | Z17: 30 | AA17: 川久保 一茂 | AD17: 様
A18: 28 | C18: ・ | D18: ・ | F18: 28 | G18: 橋本 イチ | J18: 様 | K18: 29 | M18: ・ | N18: ・ | P18: 14 | Q18: 神 芽依 | T18: 様 | U18: 30 | W18: ・ | X18: ・ | Z18: 28 | AA18: 倉内 翼 | AD18: 様
A19: 31 | C19: ・ | D19: ・ | F19: 7 | G19: 中居 敬悦 | J19: 様 | K19: 32 | M19: ・ | N19: ・ | P19: 28 | Q19: 水上 民一 | T19: 様 | U19: 33 | W19: ・ | X19: ・ | Z19: 0 | AA19: 塚田 敏子 | AD19: 様
A20: 34 | C20: ・ | D20: ・ | F20: 30 | G20: 野川 英雄 | J20: 様 | K20: 35 | M20: ・ | N20: ・ | P20: 28 | Q20: 藪 真弓 | T20: 様 | U20: 36 | W20: ・ | X20: ・ | Z20: 0 | AA20: 山田 淳一 | AD20: 様
A21: 37 | C21: ・ | D21: ・ | F21: 28 | G21: 長谷地 トキ | J21: 様 | K21: 38 | M21: ・ | N21: ・ | P21: 28 | Q21: 鹿野 達也 | T21: 様 | U21: 39 | V21: ・ | X21: ・ | Z21: 0 | AA21: 姥神 理子 | AD21: 様
A22: 40 | C22: ・ | D22: ・ | F22: 28 | G22: 中村 ミサ | J22: 様 | K22: 41 | M22: ・ | N22: ・ | P22: 14 | Q22: 畑山 栄美子 | T22: 様 | U22: 42 | W22: ・ | X22: ・ | Z22: 0 | AA22: 西舘 瞳 | AD22: 様
A23: 43 | C23: ・ | D23: ・ | F23: 28 | G23: 蛯名 勇 | J23: 様 | K23: 44 | M23: ・ | N23: ・ | P23: 60 | Q23: 高橋 優子 | T23: 様 | U23: 45 | W23: ・ | X23: ・ | Z23: 0 | AA23: 中河原 いさ | AD23: 様
A24: 46 | C24: ・ | D24: ・ | F24: 0 | G24: 工藤 健壽 | J24: 様 | K24: 47 | M24: ・ | N24: ・ | P24: 0 | Q24: 萠出 克治 | T24: 様 | U24: 48 | W24: ・ | X24: ・ | Z24: 0 | AA24: 駒澤 キヤ | AD24: 様
A25: 49 | C25: ・ | D25: ・ | F25: 0 | G25: 高村 加津子 | J25: 様 | K25: 50 | M25: ・ | N25: ・ | P25: 0 | Q25: 萠出 きのゑ | T25: 様 | U25: 51 | AD25: 様
A26: 外来患者数 | E26: 新： | F26: =COUNTIF(B9:B25,"・")+COUNTIF(L9:L25,"・")+COUNTIF(V9:V25,"・") -> 4 | H26: 名 | I26: 再： | J26: =COUNTIF(C9:C25,"・")+COUNTIF(M9:M25,"・")+COUNTIF(W9:W25,"・") -> 46 | L26: 名 | M26: 計： | N26: =SUM(F26:K26) -> 50 | Q26: 名 | R26: （ | S26: 精： | T26: =COUNTIF(D9:D25,"・")+COUNTIF(N9:N25,"・")+COUNTIF(X9:X25,"・") -> 50 | W26: 名 | X26: ・ | Y26: 内： | Z26: =COUNTIF(E9:E25,"・")+COUNTIF(O9:O25,"・")+COUNTIF(Y9:Y25,"・") -> 0 | AC26: 名 | AD26: ）
A28: 紹介患者様氏名 | F28: 紹介先 | K28: 逆紹介患者様氏名 | P28: 紹介元 | U28: 処置実施者 | AA28: 処置内容
A29: 中居 直基 | E29: 様 | F29: みさわの森クリニック | K29: 蛯名 慶子 | O29: 様 | P29: 小川原湖クリニック | Z29: 様
E30: 様 | K30: 山本 ヤエ | O30: 様 | P30: まつぞのクリニック | Z30: 様
E31: 様 | O31: 様 | Z31: 様
A32: 本日の検査 | F32: 検査内容 | K32: 処置実施者 | P32: 処置内容 | Z32: 様
A33: 町屋 睦子 | E33: 様 | F33: 血液検査 | K33: 姥神 理子 | O33: 様 | P33: ソリタT3 500ml+ | Z33: 様
A34: 山本 ヤエ | E34: 様 | F34: 血液検査 | O34: 様 | P34: ダイビタミックス1A+プリンペラン1A | Z34: 様
E35: 様 | O35: 様 | U35: 点検項目
E36: 様 | O36: 様 | U36: 項目 | Z36: 時間 | AC36: 点検者
A37: 発熱 | F37: 下痢 | K37: 風邪薬 | P37: 男性：19 | U37: 医療廃棄物 | Y37: 0.75 | AB37: 石原 恵海
A38: 0 | F38: 0 | K38: 0 | P38: 女性：31 | U38: 戸締り | Y38: 0.75 | AB38: 中村 恵理子
A40: 備考欄 | C40: （連絡事項・処方変更・その他）
G41: 特になし
G42: 石原

Sheet 7
B1: クリニック 日 誌 | H1: 令和 | J1: ='6'!J1 -> 2 | K1: 年 | L1: ='3'!L1 -> 2 | M1: 月 | N1: 7 | O1: 日 | Q1: （ | R1: 金 | S1: ） | V1: COO | Y1: IOO | AB1: AOM
A3: 勤務者名
A4: ='6'!A4:F4 -> 中村 恵理子 | G4: 日 | I4: 柳田 美雪 | N4: 日 | Q4: 診察室 | W4: 外来担当医 | Z4: 外来介助者
A5: 石原 恵海 | G5: 日 | I5: ='3'!I5:M5 -> 石谷 美代子 | N5: 日 | Q5: 第１診察室 | U5: 金 泰康 | Z5: 柳田・石原
Q6: 第２診察室 | U6: 千葉 良 | Z6: 柳田・石原
B8: 新 | C8: 再 | D8: 精 | E8: 内 | F8: 処 | G8: 患者様氏名 | L8: 新 | M8: 再 | N8: 精 | O8: 内 | P8: 処 | Q8: 患者様氏名 | V8: 新 | W8: 再 | X8: 精 | Y8: 内 | Z8: 処 | AA8: 患者様氏名
A9: 1 | C9: ・ | D9: ・ | F9: 30 | G9: 冨田 崇 | J9: 様 | K9: 2 | M9: ・ | N9: ・ | P9: 21 | Q9: 袴田 麻衣 | T9: 様 | U9: 3 | W9: ・ | X9: ・ | Z9: 21 | AA9: 太田 勝広 | AD9: 様
A10: 4 | C10: ・ | D10: ・ | F10: 28 | G10: 柏木 チヤ子 | J10: 様 | K10: 5 | M10: ・ | N10: ・ | P10: 30 | Q10: 萠出 きのゑ | T10: 様 | U10: 6 | W10: ・ | X10: ・ | Z10: 28 | AA10: 槻舘 浩子 | AD10: 様
A11: 7 | C11: ・ | D11: ・ | F11: 30 | G11: 山口 ちゑ | J11: 様 | K11: 8 | M11: ・ | N11: ・ | P11: 7 | Q11: 中村 美香子 | T11: 様 | U11: 9 | W11: ・ | X11: ・ | Z11: 30 | AA11: 大釜 美香子 | AD11: 様
A12: 10 | C12: ・ | D12: ・ | F12: 30 | G12: 山口 誠一郎 | J12: 様 | K12: 11 | M12: ・ | N12: ・ | P12: 63 | Q12: 今田 則夫 | T12: 様 | U12: 12 | W12: ・ | X12: ・ | Z12: 30 | AA12: 木村 奈津子 | AD12: 様
A13: 13 | C13: ・ | D13: ・ | F13: 30 | G13: 大橋 正男 | J13: 様 | K13: 14 | M13: ・ | N13: ・ | P13: 30 | Q13: 河原崎 キヨエ | T13: 様 | U13: 15 | W13: ・ | X13: ・ | Z13: 30 | AA13: 赤坂 優衣 | AD13: 様
A14: 16 | C14: ・ | D14: ・ | F14: 30 | G14: 花松 ナヨ | J14: 様 | K14: 17 | M14: ・ | N14: ・ | P14: 30 | Q14: 佐々木 久美子 | T14: 様 | U14: 18 | W14: ・ | X14: ・ | Z14: 21 | AA14: 蛯名 信一郎 | AD14: 様
A15: 19 | C15: ・ | D15: ・ | F15: 28 | G15: 北村 イウ子 | J15: 様 | K15: 20 | M15: ・ | N15: ・ | P15: 30 | Q15: 鈴木 愛子 | T15: 様 | U15: 21 | W15: ・ | X15: ・ | Z15: 30 | AA15: 坂本 明広 | AD15: 様
A16: 22 | C16: ・ | D16: ・ | F16: 28 | G16: 岩間 ツネ | J16: 様 | K16: 23 | M16: ・ | N16: ・ | P16: 28 | Q16: 新山 光浩 | T16: 様 | U16: 24 | W16: ・ | X16: ・ | Z16: 0 | AA16: 工藤 健壽 | AD16: 様
A17: 25 | C17: ・ | D17: ・ | F17: 28 | G17: 田中 喜代志 | J17: 様 | K17: 26 | M17: ・ | N17: ・ | P17: 30 | Q17: 古田 留美子 | T17: 様 | U17: 27 | W17: ・ | X17: ・ | Z17: 0 | AA17: 千葉 スワ | AD17: 様
A18: 28 | C18: ・ | D18: ・ | F18: 14 | G18: 大平 陸 | J18: 様 | K18: 29 | M18: ・ | N18: ・ | P18: 28 | Q18: 古田 真 | T18: 様 | U18: 30 | W18: ・ | X18: ・ | Z18: 0 | AA18: 工藤 富雄 | AD18: 様
A19: 31 | C19: ・ | D19: ・ | F19: 21 | G19: 矢部 昭男 | J19: 様 | K19: 32 | M19: ・ | N19: ・ | P19: 14 | Q19: 生平 祥恵 | T19: 様 | U19: 33 | W19: ・ | X19: ・ | Z19: 0 | AA19: 高村 加津子 | AD19: 様
A20: 34 | C20: ・ | D20: ・ | F20: 14 | G20: 黒澤 慎一郎 | J20: 様 | K20: 35 | M20: ・ | N20: ・ | P20: 60 | Q20: 小野 俊幸 | T20: 様 | U20: 36 | W20: ・ | X20: ・ | Z20: 0 | AA20: 深町 栄美子 | AD20: 様
A21: 37 | C21: ・ | D21: ・ | F21: 30 | G21: 重面 宏子 | J21: 様 | K21: 38 | L21: ・ | N21: ・ | P21: 0 | Q21: 中村 正 | T21: 様 | U21: 39 | W21: ・ | X21: ・ | Z21: 0 | AA21: 瀬川 高雄 | AD21: 様
A22: 40 | C22: ・ | D22: ・ | F22: 28 | G22: 望月 恵美子 | J22: 様 | K22: 41 | M22: ・ | N22: ・ | P22: 30 | Q22: 増沢 修一 | T22: 様 | U22: 42 | W22: ・ | X22: ・ | Z22: 0 | AA22: 林 成信 | AD22: 様
A23: 43 | C23: ・ | D23: ・ | F23: 28 | G23: 蒔苗 美穂子 | J23: 様 | K23: 44 | M23: ・ | N23: ・ | P23: 21 | Q23: 有坂 瑞紀 | T23: 様 | U23: 45 | W23: ・ | X23: ・ | Z23: 0 | AA23: 沼端 ミセ | AD23: 様
A24: 46 | C24: ・ | D24: ・ | F24: 30 | G24: 高田 昭彦 | J24: 様 | K24: 47 | M24: ・ | N24: ・ | P24: 21 | Q24: 沢尾 美香 | T24: 様 | U24: 48 | W24: ・ | X24: ・ | Z24: 0 | AA24: 萠出 克治 | AD24: 様
A25: 49 | C25: ・ | D25: ・ | F25: 0 | G25: 工藤 公夫 | J25: 様 | K25: 50 | M25: ・ | N25: ・ | P25: 30 | Q25: 高梨 晃亮 | T25: 様 | U25: 51 | W25: ・ | X25: ・ | Z25: 30 | AA25: 佐々木 丈 | AD25: 様
A26: 52 | C26: ・ | D26: ・ | F26: 10 | G26: 猪越 陽 | J26: 様 | K26: 53 | M26: ・ | N26: ・ | P26: 30 | Q26: 横沢 美羽 | T26: 様 | U26: 54 | W26: ・ | X26: ・ | Z26: 30 | AA26: 小塚 龍之介 | AD26: 様
A27: 55 | C27: ・ | D27: ・ | F27: 30 | G27: 杉元 悠敏 | J27: 様 | K27: 56 | M27: ・ | N27: ・ | P27: 30 | Q27: 浪岡 愛斗 | T27: 様 | U27: 57 | W27: ・ | X27: ・ | Z27: 30 | AA27: 甲田 漸大 | AD27: 様
A28: 58 | C28: ・ | D28: ・ | F28: 30 | G28: 古山 瑞桔 | J28: 様 | K28: 59 | M28: ・ | N28: ・ | P28: 30 | Q28: 小比券巻 登 | T28: 様 | U28: 60 | W28: ・ | X28: ・ | Z28: 30 | AA28: 砂渡 夏実 | AD28: 様
A29: 外来患者数 | E29: 新： | F29: =COUNTIF(B9:B28,"・")+COUNTIF(L9:L28,"・")+COUNTIF(V9:V28,"・") -> 1 | H29: 名 | I29: 再： | J29: =COUNTIF(C9:C28,"・")+COUNTIF(M9:M28,"・")+COUNTIF(W9:W28,"・") -> 59 | L29: 名 | M29: 計： | N29: =SUM(F29:K29) -> 60 | Q29: 名 | R29: （ | S29: 精： | T29: =COUNTIF(D9:D28,"・")+COUNTIF(N9:N28,"・")+COUNTIF(X9:X28,"・") -> 60 | W29: 名 | X29: ・ | Y29: 内： | Z29: =COUNTIF(E9:E28,"・")+COUNTIF(O9:O28,"・")+COUNTIF(Y9:Y28,"・") -> 0 | AC29: 名 | AD29: ）
A31: 紹介患者様氏名 | F31: 紹介先 | K31: 逆紹介患者様氏名 | P31: 紹介元 | U31: 処置実施者 | AA31: 処置内容
A32: 中村 正 | E32: 様 | F32: 八戸赤十字病院 | O32: 様 | Z32: 様
A33: 本日の検査 | F33: 検査内容 | K33: 処置実施者 | P33: 処置内容 | Z33: 様
A34: 中村 正 | E34: 様 | F34: HDS-R・MMSE | K34: 古田 真 | O34: 様 | P34: 生食250+ジアゼパム0.5ml | Z34: 様
E35: 様 | O35: 様 | U35: 点検項目
E36: 様 | O36: 様 | U36: 項目 | Z36: 時間 | AC36: 点検者
A37: 発熱 | F37: 下痢 | K37: 風邪薬 | P37: 男性：32 | U37: 医療廃棄物 | Y37: 0.75 | AB37: 石原 恵海
A38: 0 | F38: 0 | K38: 0 | P38: 女性：28 | U38: 戸締り | Y38: 0.75 | AB38: 石谷 美代子
A40: 備考欄 | C40: （連絡事項・処方変更・その他）
G41: 特記なし
G42: 石原

Sheet 8
B1: クリニック 日 誌 | H1: 令和 | J1: ='6'!J1 -> 2 | K1: 年 | L1: ='3'!L1 -> 2 | M1: 月 | N1: 8 | O1: 日 | Q1: （ | S1: ） | V1: COO | Y1: IOO | AB1: AOM
A3: 勤務者名
A4: ='7'!A4:F4 -> 中村 恵理子 | G4: 日 | I4: 柳田 美雪 | N4: 日 | Q4: 診察室 | W4: 外来担当医 | Z4: 外来介助者
A5: 石原 恵海 | G5: 日 | Q5: 第１診察室 | Z5: 柳田・石原
Q6: 第２診察室
B8: 新 | C8: 再 | D8: 精 | E8: 内 | F8: 処 | G8: 患者様氏名 | L8: 新 | M8: 再 | N8: 精 | O8: 内 | P8: 処 | Q8: 患者様氏名 | V8: 新 | W8: 再 | X8: 精 | Y8: 内 | Z8: 処 | AA8: 患者様氏名
A9: 1 | J9: 様 | K9: 2 | T9: 様 | U9: 3 | AD9: 様
A10: 4 | J10: 様 | K10: 5 | T10: 様 | U10: 6 | AD10: 様
A11: 7 | J11: 様 | K11: 8 | T11: 様 | U11: 9 | AD11: 様
A12: 10 | J12: 様 | K12: 11 | T12: 様 | U12: 12 | AD12: 様
A13: 13 | J13: 様 | K13: 14 | T13: 様 | U13: 15 | AD13: 様
A14: 16 | J14: 様 | K14: 17 | T14: 様 | U14: 18 | AD14: 様
A15: 19 | J15: 様 | K15: 20 | T15: 様 | U15: 21 | AD15: 様
A16: 22 | J16: 様 | K16: 23 | T16: 様 | U16: 24 | AD16: 様
A17: 25 | J17: 様 | K17: 26 | T17: 様 | U17: 27 | AD17: 様
A18: 28 | J18: 様 | K18: 29 | T18: 様 | U18: 30 | AD18: 様
A19: 31 | J19: 様 | K19: 32 | T19: 様 | U19: 33 | AD19: 様
A20: 34 | J20: 様 | K20: 35 | T20: 様 | U20: 36 | AD20: 様
... A33: 73 | J33: 様 | K33: 74 | T33: 様 | U33: 75 | AD33: 様
A34: 外来患者数 | E34: 新： | F34: =COUNTIF(B9:B33,"・")+COUNTIF(L9:L33,"・")+COUNTIF(V9:V33,"・") -> 0 | H34: 名 | I34: 再： | J34: =COUNTIF(C9:C33,"・")+COUNTIF(M9:M33,"・")+COUNTIF(W9:W33,"・") -> 0 | L34: 名 | M34: 計： | N34: =SUM(F34:K34) -> 0 | Q34: 名 | R34: （ | S34: 精： | T34: =COUNTIF(D9:D33,"・")+COUNTIF(N9:N33,"・")+COUNTIF(X9:X33,"・") -> 0 | W34: 名 | X34: ・ | Y34: 内： | Z34: =COUNTIF(E9:E33,"・")+COUNTIF(O9:O33,"・")+COUNTIF(Y9:Y33,"・") -> 0 | AC34: 名 | AD34: ）
A36: 紹介患者様氏名 | F36: 紹介先 | K36: 逆紹介患者様氏名 | P36: 紹介元 | U36: 処置実施者 | AA36: 処置内容
E37: 様 | O37: 様 | Z37: 様
E38: 様 | O38: 様 | Z38: 様
E39: 様 | O39: 様 | Z39: 様
E40: 様 | O40: 様 | Z40: 様
E41: 様 | O41: 様 | Z41: 様
A42: 本日の検査 | F42: 検査内容 | K42: 処置実施者 | P42: 処置内容 | Z42: 様
E43: 様 | O43: 様 | Z43: 様
E44: 様 | O44: 様 | Z44: 様
E45: 様 | O45: 様 | Z45: 様
E46: 様 | O46: 様 | U46: 点検項目
E47: 様 | O47: 様 | U47: 項目 | Z47: 時間 | AC47: 点検者
A48: 発熱 | F48: 下痢 | K48: 風邪薬 | P48: 男性： | U48: 医療廃棄物 | Y48: 0.75
A49: 0 | F49: 0 | K49: 0 | P49: 女性： | U49: 戸締り | Y49: 0.75 | AB49: ='6'!AB38:AD38 -> 中村 恵理子
A51: 備考欄 | C51: （連絡事項・処方変更・その他）

Sheet 9
B1: クリニック 日 誌 | H1: 令和 | J1: ='6'!J1 -> 2 | K1: 年 | L1: ='3'!L1 -> 2 | M1: 月 | N1: 9 | O1: 日 | Q1: （ | S1: ） | V1: COO | Y1: IOO | AB1: AOM
A3: 勤務者名
A4: ='6'!A4:F4 -> 中村 恵理子 | G4: 日 | I4: 柳田 美雪 | N4: 日 | Q4: 診察室 | W4: 外来担当医 | Z4: 外来介助者
A5: 石原 恵海 | G5: 日 | Q5: 第１診察室 | Z5: 柳田・石原
Q6: 第２診察室
B8: 新 | C8: 再 | D8: 精 | E8: 内 | F8: 処 | G8: 患者様氏名 | L8: 新 | M8: 再 | N8: 精 | O8: 内 | P8: 処 | Q8: 患者様氏名 | V8: 新 | W8: 再 | X8: 精 | Y8: 内 | Z8: 処 | AA8: 患者様氏名
A9: 1 | J9: 様 | K9: 2 | T9: 様 | U9: 3 | AD9: 様
A10: 4 | J10: 様 | K10: 5 | T10: 様 | U10: 6 | AD10: 様
A11: 7 | J11: 様 | K11: 8 | T11: 様 | U11: 9 | AD11: 様
A12: 10 | J12: 様 | K12: 11 | T12: 様 | U12: 12 | AD12: 様
A13: 13 | J13: 様 | K13: 14 | T13: 様 | U13: 15 | AD13: 様
A14: 16 | J14: 様 | K14: 17 | T14: 様 | U14: 18 | AD14: 様
A15: 19 | J15: 様 | K15: 20 | T15: 様 | U15: 21 | AD15: 様
A16: 22 | J16: 様 | K16: 23 | T16: 様 | U16: 24 | AD16: 様
A17: 25 | J17: 様 | K17: 26 | T17: 様 | U17: 27 | AD17: 様
A18: 28 | J18: 様 | K18: 29 | T18: 様 | U18: 30 | AD18: 様
A19: 31 | J19: 様 | K19: 32 | T19: 様 | U19: 33 | AD19: 様
A20: 34 | J20: 様 | K20: 35 | T20: 様 | U20: 36 | AD20: 様
... A33: 73 | J33: 様 | K33: 74 | T33: 様 | U33: 75 | AD33: 様
A34: 外来患者数 | E34: 新： | F34: =COUNTIF(B9:B33,"・")+COUNTIF(L9:L33,"・")+COUNTIF(V9:V33,"・") -> 0 | H34: 名 | I34: 再： | J34: =COUNTIF(C9:C33,"・")+COUNTIF(M9:M33,"・")+COUNTIF(W9:W33,"・") -> 0 | L34: 名 | M34: 計： | N34: =SUM(F34:K34) -> 0 | Q34: 名 | R34: （ | S34: 精： | T34: =COUNTIF(D9:D33,"・")+COUNTIF(N9:N33,"・")+COUNTIF(X9:X33,"・") -> 0 | W34: 名 | X34: ・ | Y34: 内： | Z34: =COUNTIF(E9:E33,"・")+COUNTIF(O9:O33,"・")+COUNTIF(Y9:Y33,"・") -> 0 | AC34: 名 | AD34: ）
A36: 紹介患者様氏名 | F36: 紹介先 | K36: 逆紹介患者様氏名 | P36: 紹介元 | U36: 処置実施者 | AA36: 処置内容
E37: 様 | O37: 様 | Z37: 様
E38: 様 | O38: 様 | Z38: 様
E39: 様 | O39: 様 | Z39: 様
E40: 様 | O40: 様 | Z40: 様
E41: 様 | O41: 様 | Z41: 様
A42: 本日の検査 | F42: 検査内容 | K42: 処置実施者 | P42: 処置内容 | Z42: 様
E43: 様 | O43: 様 | Z43: 様
E44: 様 | O44: 様 | Z44: 様
E45: 様 | O45: 様 | Z45: 様
E46: 様 | O46: 様 | U46: 点検項目
E47: 様 | O47: 様 | U47: 項目 | Z47: 時間 | AC47: 点検者
A48: 発熱 | F48: 下痢 | K48: 風邪薬 | P48: 男性： | U48: 医療廃棄物 | Y48: 0.75
A49: 0 | F49: 0 | K49: 0 | P49: 女性： | U49: 戸締り | Y49: 0.75 | AB49: ='6'!AB38:AD38 -> 中村 恵理子
A51: 備考欄 | C51: （連絡事項・処方変更・その他）

Sheet 10
B1: クリニック 日 誌 | H1: 令和 | J1: ='6'!J1 -> 2 | K1: 年 | L1: ='3'!L1 -> 2 | M1: 月 | N1: 10 | O1: 日 | Q1: （ | R1: 月 | S1: ） | V1: COO | Y1: IOO | AB1: AOM
A3: 勤務者名
A4: ='6'!A4:F4 -> 中村 恵理子 | G4: 遅 | I4: 柳田 美雪 | N4: 早 | Q4: 診察室 | W4: 外来担当医 | Z4: 外来介助者
A5: 石原 恵海 | G5: 日 | I5: ='3'!I5:M5 -> 石谷 美代子 | N5: 日 | Q5: 第１診察室 | U5: 馬渡 晃弘 | Z5: 柳田・石原
Q6: 第２診察室 | U6: 千葉 良 | Z6: 柳田・石原
B8: 新 | C8: 再 | D8: 精 | E8: 内 | F8: 処 | G8: 患者様氏名 | L8: 新 | M8: 再 | N8: 精 | O8: 内 | P8: 処 | Q8: 患者様氏名 | V8: 新 | W8: 再 | X8: 精 | Y8: 内 | Z8: 処 | AA8: 患者様氏名
A9: 1 | C9: ・ | D9: ・ | F9: 28 | G9: 吉村 直樹 | J9: 様 | K9: 2 | M9: ・ | N9: ・ | P9: 56 | Q9: 福田 ミキ | T9: 様 | U9: 3 | W9: ・ | X9: ・ | Z9: 0 | AA9: 中野 政志 | AD9: 様
A10: 4 | C10: ・ | D10: ・ | F10: 28 | G10: 畠山 まゆみ | J10: 様 | K10: 5 | M10: ・ | O10: ・ | P10: 56 | Q10: 相内 照美 | T10: 様 | U10: 6 | W10: ・ | X10: ・ | Z10: 28 | AA10: 川村 みせ | AD10: 様
A11: 7 | C11: ・ | D11: ・ | F11: 28 | G11: 小泉 キセ | J11: 様 | K11: 8 | M11: ・ | N11: ・ | P11: 28 | Q11: 附田 亜矢子 | T11: 様 | U11: 9 | W11: ・ | X11: ・ | Z11: 28 | AA11: 細田 洋一 | AD11: 様
A12: 10 | C12: ・ | D12: ・ | F12: 60 | G12: 月舘 ユリ | J12: 様 | K12: 11 | L12: ・ | N12: ・ | P12: 28 | Q12: 家沢 亜希子 | T12: 様 | U12: 12 | W12: ・ | X12: ・ | Z12: 28 | AA12: 小舘 静子 | AD12: 様
A13: 13 | C13: ・ | D13: ・ | F13: 28 | G13: 沼田 ひろ子 | J13: 様 | K13: 14 | L13: ・ | N13: ・ | P13: 7 | Q13: 今 萌香 | T13: 様 | U13: 15 | W13: ・ | X13: ・ | Z13: 28 | AA13: 鈴木 健一 | AD13: 様
A14: 16 | C14: ・ | D14: ・ | F14: 28 | G14: 遠嶋 剛 | J14: 様 | K14: 17 | M14: ・ | N14: ・ | P14: 28 | Q14: 小橋 裕見子 | T14: 様 | U14: 18 | W14: ・ | X14: ・ | Z14: 28 | AA14: 沼山 詩織 | AD14: 様
A15: 19 | C15: ・ | D15: ・ | F15: 28 | G15: 河村 ミヱ | J15: 様 | K15: 20 | M15: ・ | N15: ・ | P15: 28 | Q15: 冨田 勝政 | T15: 様 | U15: 21 | W15: ・ | X15: ・ | Z15: 30 | AA15: 永敷 蓮鳳 | AD15: 様
A16: 22 | C16: ・ | D16: ・ | F16: 56 | G16: 吉田 武雄 | J16: 様 | K16: 23 | M16: ・ | N16: ・ | P16: 0 | Q16: 伊藤 英晃 | T16: 様 | U16: 24 | W16: ・ | X16: ・ | Z16: 30 | AA16: 永敷 陽蓮 | AD16: 様
A17: 25 | C17: ・ | D17: ・ | F17: 56 | G17: 原 徳五郎 | J17: 様 | K17: 26 | M17: ・ | N17: ・ | P17: 28 | Q17: 小向 洋二 | T17: 様 | U17: 27 | W17: ・ | X17: ・ | Z17: 28 | AA17: 小舘 静子 | AD17: 様
A18: 28 | C18: ・ | D18: ・ | F18: 56 | G18: 森 慶子 | J18: 様 | K18: 29 | M18: ・ | N18: ・ | P18: 14 | Q18: 田巻 隆三 | T18: 様 | U18: 30 | W18: ・ | X18: ・ | Z18: 0 | AA18: 片山 愛子 | AD18: 様
A19: 31 | C19: ・ | D19: ・ | F19: 30 | G19: 沼山 武美 | J19: 様 | K19: 32 | M19: ・ | N19: ・ | P19: 0 | Q19: 高松 奎虹 | T19: 様 | U19: 33 | W19: ・ | X19: ・ | Z19: 0 | AA19: 工藤 富雄 | AD19: 様
A20: 34 | C20: ・ | D20: ・ | F20: 14 | G20: 原 奈々絵 | J20: 様 | K20: 35 | M20: ・ | N20: ・ | P20: 30 | Q20: 乙供 ひかる | T20: 様 | U20: 36 | W20: ・ | X20: ・ | Z20: 0 | AA20: 高村 加津子 | AD20: 様
A21: 37 | C21: ・ | D21: ・ | F21: 14 | G21: 星 幸 | J21: 様 | K21: 38 | M21: ・ | N21: ・ | P21: 0 | Q21: 萠出 克治 | T21: 様 | U21: 39 | W21: ・ | X21: ・ | Z21: 0 | AA21: 遠嶋 千鶴 | AD21: 様
A22: 40 | C22: ・ | D22: ・ | F22: 7 | G22: 星 歩 | J22: 様 | K22: 41 | M22: ・ | N22: ・ | P22: 0 | Q22: 萠出 きのゑ | T22: 様 | U22: 42 | W22: ・ | X22: ・ | Z22: 0 | AA22: 深町 栄美子 | AD22: 様
A23: 43 | C23: ・ | D23: ・ | F23: 28 | G23: 立崎 幸輔 | J23: 様 | K23: 44 | M23: ・ | N23: ・ | P23: 0 | Q23: 沼端 キセ | T23: 様 | U23: 45 | W23: ・ | X23: ・ | Z23: 0 | AA23: 瀬川 高雄 | AD23: 様
A24: 46 | C24: ・ | D24: ・ | F24: 20 | G24: 五日市 史弥 | J24: 様 | K24: 47 | M24: ・ | N24: ・ | P24: 28 | Q24: 加藤 有里 | T24: 様 | U24: 48 | W24: ・ | X24: ・ | Z24: 30 | AA24: 蛯名 海斗 | AD24: 様
A25: 49 | C25: ・ | D25: ・ | F25: 0 | G25: 新堂 魔裟斗 | J25: 様 | K25: 50 | L25: ・ | N25: ・ | P25: 0 | Q25: 岩渕 達 | T25: 様 | U25: 51 | V25: ・ | X25: ・ | Z25: 0 | AA25: 田中 明代 | AD25: 様
A26: 外来患者数 | E26: 新： | F26: =COUNTIF(B9:B25,"・")+COUNTIF(L9:L25,"・")+COUNTIF(V9:V25,"・") -> 4 | H26: 名 | I26: 再： | J26: =COUNTIF(C9:C25,"・")+COUNTIF(M9:M25,"・")+COUNTIF(W9:W25,"・") -> 47 | L26: 名 | M26: 計： | N26: =SUM(F26:K26) -> 51 | Q26: 名 | R26: （ | S26: 精： | T26: =COUNTIF(D9:D25,"・")+COUNTIF(N9:N25,"・")+COUNTIF(X9:X25,"・") -> 50 | W26: 名 | X26: ・ | Y26: 内： | Z26: =COUNTIF(E9:E25,"・")+COUNTIF(O9:O25,"・")+COUNTIF(Y9:Y25,"・") -> 1 | AC26: 名 | AD26: ）
A28: 紹介患者様氏名 | F28: 紹介先 | K28: 逆紹介患者様氏名 | P28: 紹介元 | U28: 処置実施者 | AA28: 処置内容
E29: 様 | K29: 家沢 亜希子 | O29: 様 | P29: 青森県立中央病院 | Z29: 様
E30: 様 | O30: 様 | Z30: 様
A31: 本日の検査 | F31: 検査内容 | K31: 処置実施者 | P31: 処置内容 | Z31: 様
A32: 岩渕 達 | E32: 様 | F32: HDS-R MMSE | O32: 様 | Z32: 様
E33: 様 | O33: 様 | U33: 点検項目
E34: 様 | O34: 様 | U34: 項目 | Z34: 時間 | AC34: 点検者
A35: 発熱 | F35: 下痢 | K35: 風邪薬 | P35: 男性：23 | U35: 医療廃棄物 | Y35: 0.75 | AB35: 恵谷 愛
A36: 0 | F36: 0 | K36: 0 | P36: 女性：28 | U36: 戸締り | Y36: 0.75 | AB36: ='6'!AB38:AD38 -> 中村 恵理子
A38: 備考欄 | C38: （連絡事項・処方変更・その他）
G40: 特記なし
G41: 恵谷 愛

Sheet 11
B1: クリニック 日 誌 | H1: 令和 | J1: ='6'!J1 -> 2 | K1: 年 | L1: ='3'!L1 -> 2 | M1: 月 | N1: 11 | O1: 日 | Q1: （ | R1: 火 | S1: ） | V1: COO | Y1: IOO | AB1: AOM
A3: 勤務者名
A4: ='6'!A4:F4 -> 中村 恵理子 | G4: 日 | I4: 柳田 美雪 | N4: 日 | Q4: 診察室 | W4: 外来担当医 | Z4: 外来介助者
A5: 石原 恵海 | G5: 日 | I5: ='3'!I5:M5 -> 石谷 美代子 | N5: 日 | Q5: 第１診察室 | U5: 千葉 潜 | Z5: 柳田・石原
Q6: 第２診察室 | U6: 千葉 良
B8: 新 | C8: 再 | D8: 精 | E8: 内 | F8: 処 | G8: 患者様氏名 | L8: 新 | M8: 再 | N8: 精 | O8: 内 | P8: 処 | Q8: 患者様氏名 | V8: 新 | W8: 再 | X8: 精 | Y8: 内 | Z8: 処 | AA8: 患者様氏名
A9: 1 | C9: ・ | D9: ・ | F9: 0 | G9: 水本 優香 | J9: 様 | K9: 2 | M9: ・ | N9: ・ | P9: 28 | Q9: 川村 一也 | T9: 様 | U9: 3 | W9: ・ | X9: ・ | Z9: 28 | AA9: 木下内 秀一 | AD9: 様
A10: 4 | C10: ・ | D10: ・ | F10: 28 | G10: 豊川 美智子 | J10: 様 | K10: 5 | M10: ・ | N10: ・ | P10: 5 | Q10: 滝田 伊織 | T10: 様 | U10: 6 | W10: ・ | X10: ・ | Z10: 28 | AA10: 田中 真由美 | AD10: 様
A11: 7 | C11: ・ | D11: ・ | F11: 28 | G11: 豊川 清人 | J11: 様 | K11: 8 | M11: ・ | N11: ・ | P11: 28 | Q11: 小川 サクラ | T11: 様 | U11: 9 | W11: ・ | X11: ・ | Z11: 14 | AA11: 石岡 裕子 | AD11: 様
A12: 10 | C12: ・ | D12: ・ | F12: 30 | G12: 松林 祐 | J12: 様 | K12: 11 | M12: ・ | N12: ・ | P12: 10 | Q12: 苫米地 昭夫 | T12: 様 | U12: 12 | V12: ・ | Y12: ・ | Z12: 5 | AA12: 秋谷 愛李 | AD12: 様
A13: 13 | C13: ・ | D13: ・ | F13: 28 | G13: 田中 正治 | J13: 様 | K13: 14 | M13: ・ | N13: ・ | P13: 7 | Q13: 武良 ミセ | T13: 様 | U13: 15 | W13: ・ | X13: ・ | Z13: 28 | AA13: 佐々木 富雄 | AD13: 様
A14: 16 | C14: ・ | D14: ・ | F14: 28 | G14: 宮崎 真一 | J14: 様 | K14: 17 | M14: ・ | N14: ・ | P14: 0 | Q14: 松林 朋子 | T14: 様 | U14: 18 | W14: ・ | X14: ・ | Z14: 56 | AA14: 澤口 陽介 | AD14: 様
A15: 19 | C15: ・ | D15: ・ | F15: 30 | G15: 種市 トワ | J15: 様 | K15: 20 | M15: ・ | N15: ・ | P15: 0 | Q15: 里村 浩彦 | T15: 様 | U15: 21 | W15: ・ | X15: ・ | Z15: 14 | AA15: 下山 優芽 | AD15: 様
A16: 22 | C16: ・ | D16: ・ | F16: 28 | G16: 針田 朋江 | J16: 様 | K16: 23 | M16: ・ | N16: ・ | P16: 28 | Q16: 和田 懸 | T16: 様 | U16: 24 | W16: ・ | X16: ・ | Z16: 30 | AA16: 蛯名 ハナエ | AD16: 様
A17: 25 | C17: ・ | D17: ・ | F17: 0 | G17: 石井 佐代子 | J17: 様 | K17: 26 | L17: ・ | O17: ・ | P17: 5 | Q17: 滝田 伊織 | T17: 様 | U17: 27 | W17: ・ | X17: ・ | Z17: 7 | AA17: 小笠原 彩子 | AD17: 様
A18: 28 | C18: ・ | D18: ・ | F18: 0 | G18: 萠出 きのゑ | J18: 様 | K18: 29 | M18: ・ | N18: ・ | P18: 0 | Q18: 萠出 克治 | T18: 様 | U18: 30 | V18: ・ | Y18: ・ | Z18: 4 | AA18: 堀川 純子 | AD18: 様
A19: 31 | C19: ・ | D19: ・ | F19: 0 | G19: 駒澤 キヤ | J19: 様 | K19: 32 | L19: ・ | O19: ・ | P19: 5 | Q19: 山本 真由美 | T19: 様 | U19: 33 | V19: ・ | Y19: ・ | Z19: 4 | AA19: 稲垣 コウ子 | AD19: 様
A20: 34 | C20: ・ | D20: ・ | F20: 0 | G20: 橋本 豊彦 | J20: 様 | K20: 35 | L20: ・ | O20: ・ | P20: 5 | Q20: 野宮 沙奈江 | T20: 様 | U20: 36 | V20: ・ | Y20: ・ | Z20: 3 | AA20: 佐藤 千紘 | AD20: 様
A21: 37 | C21: ・ | D21: ・ | F21: 0 | G21: 水上 民一 | J21: 様 | K21: 38 | L21: ・ | O21: ・ | P21: 3 | Q21: 里永 イーアン | T21: 様 | U21: 39 | AD21: 様
A22: 外来患者数 | E22: 新： | F22: =COUNTIF(B9:B21,"・")+COUNTIF(L9:L21,"・")+COUNTIF(V9:V21,"・") -> 8 | H22: 名 | I22: 再： | J22: =COUNTIF(C9:C21,"・")+COUNTIF(M9:M21,"・")+COUNTIF(W9:W21,"・") -> 30 | L22: 名 | M22: 計： | N22: =SUM(F22:K22) -> 38 | Q22: 名 | R22: （ | S22: 精： | T22: =COUNTIF(D9:D21,"・")+COUNTIF(N9:N21,"・")+COUNTIF(X9:X21,"・") -> 30 | W22: 名 | X22: ・ | Y22: 内： | Z22: =COUNTIF(E9:E21,"・")+COUNTIF(O9:O21,"・")+COUNTIF(Y9:Y21,"・") -> 8 | AC22: 名 | AD22: ）
A24: 紹介患者様氏名 | F24: 紹介先 | K24: 逆紹介患者様氏名 | P24: 紹介元 | U24: 処置実施者 | AA24: 処置内容
E25: 様 | O25: 様 | Z25: 様
A26: 本日の検査 | F26: 検査内容 | K26: 処置実施者 | P26: 処置内容 | Z26: 様
A27: 水本 優香 | E27: 様 | F27: Rｏr | K27: 野宮 沙奈江 | O27: 様 | P27: インフルエンザ検査 | Z27: 様
A28: 里村 浩彦 | E28: 様 | F28: AQ-J ASRS | K28: 滝田 伊織 | O28: 様 | P28: インフルエンザ検査 | Z28: 様
E29: 様 | K29: 山本 真由美 | O29: 様 | P29: インフルエンザ検査 | U29: 点検項目
E30: 様 | K30: 里永 イーアン | O30: 様 | P30: インフルエンザ検査 | U30: 項目 | Z30: 時間 | AC30: 点検者
A31: 発熱 | F31: 下痢 | K31: 風邪薬 | P31: 男性：17 | U31: 医療廃棄物 | Y31: 0.75 | AB31: 柳田 美雪
A32: 5 | F32: 3 | K32: 0 | P32: 女性：21 | U32: 戸締り | Y32: 0.75 | AB32: ='6'!AB38:AD38 -> 中村 恵理子
A34: 備考欄 | C34: （連絡事項・処方変更・その他）
G35: 特になし
G36: 石原 恵海

Sheet 12
B1: クリニック 日 誌 | H1: 令和 | J1: ='6'!J1 -> 2 | K1: 年 | L1: ='3'!L1 -> 2 | M1: 月 | N1: 12 | O1: 日 | Q1: （ | R1: 水 | S1: ） | V1: COO | Y1: IOO | AB1: AOM
A3: 勤務者名
A4: ='6'!A4:F4 -> 中村 恵理子 | G4: 日 | I4: 柳田 美雪 | N4: 日 | Q4: 診察室 | W4: 外来担当医 | Z4: 外来介助者
A5: 石原 恵海 | G5: 日 | I5: ='3'!I5:M5 -> 石谷 美代子 | N5: 日 | Q5: 第１診察室 | U5: 千葉 潜 | Z5: 石原
Q6: 第２診察室
B8: 新 | C8: 再 | D8: 精 | E8: 内 | F8: 処 | G8: 患者様氏名 | L8: 新 | M8: 再 | N8: 精 | O8: 内 | P8: 処 | Q8: 患者様氏名 | V8: 新 | W8: 再 | X8: 精 | Y8: 内 | Z8: 処 | AA8: 患者様氏名
A9: 1 | C9: ・ | D9: ・ | F9: 28 | G9: 大竹 紀美子 | J9: 様 | K9: 2 | M9: ・ | N9: ・ | P9: 28 | Q9: 熊野 千代子 | T9: 様 | U9: 3 | W9: ・ | X9: ・ | Z9: 28 | AA9: 相馬 理奈 | AD9: 様
A10: 4 | C10: ・ | D10: ・ | F10: 28 | G10: 種市 紀子 | J10: 様 | K10: 5 | M10: ・ | N10: ・ | P10: 28 | Q10: 木村 久子 | T10: 様 | U10: 6 | W10: ・ | X10: ・ | Z10: 28 | AA10: 長田 佳久 | AD10: 様
A11: 7 | C11: ・ | D11: ・ | F11: 28 | G11: 小比券巻 千和子 | J11: 様 | K11: 8 | M11: ・ | N11: ・ | P11: 28 | Q11: 駒澤 眞次 | T11: 様 | U11: 9 | W11: ・ | X11: ・ | Z11: 28 | AA11: 村舘 博輝 | AD11: 様
A12: 10 | C12: ・ | D12: ・ | F12: 28 | G12: 岩城 芳枝 | J12: 様 | K12: 11 | M12: ・ | N12: ・ | P12: 28 | Q12: 沖田 千喜子 | T12: 様 | U12: 12 | W12: ・ | X12: ・ | Z12: 0 | AA12: 千葉 スワ | AD12: 様
A13: 13 | C13: ・ | D13: ・ | F13: 28 | G13: 野田 真莉奈 | J13: 様 | K13: 14 | M13: ・ | N13: ・ | P13: 28 | Q13: 塚田 敏子 | T13: 様 | U13: 15 | W13: ・ | X13: ・ | Z13: 0 | AA13: 石ケ谷 數子 | AD13: 様
A14: 16 | C14: ・ | D14: ・ | F14: 28 | G14: 米内 清人 | J14: 様 | K14: 17 | M14: ・ | N14: ・ | P14: 0 | Q14: 佐藤 初男 | T14: 様 | U14: 18 | W14: ・ | X14: ・ | Z14: 0 | AA14: 萠出 きのゑ | AD14: 様
A15: 19 | C15: ・ | D15: ・ | F15: 30 | G15: 山崎 はなゑ | J15: 様 | K15: 20 | M15: ・ | N15: ・ | P15: 28 | Q15: 小平 由紀夫 | T15: 様 | U15: 21 | W15: ・ | X15: ・ | Z15: 0 | AA15: 萠出 克治 | AD15: 様
A16: 22 | C16: ・ | D16: ・ | F16: 7 | G16: 西舘 惠子 | J16: 様 | K16: 23 | M16: ・ | N16: ・ | P16: 28 | Q16: 吉田 和子 | T16: 様 | U16: 24 | W16: ・ | X16: ・ | Z16: 0 | AA16: 工藤 富雄 | AD16: 様
A17: 25 | C17: ・ | D17: ・ | F17: 28 | G17: 吉田 百合子 | J17: 様 | K17: 26 | M17: ・ | N17: ・ | P17: 28 | Q17: 平内 敬子 | T17: 様 | U17: 27 | W17: ・ | X17: ・ | Z17: 0 | AA17: 瀬川 高雄 | AD17: 様
A18: 28 | C18: ・ | D18: ・ | F18: 28 | G18: 高橋 田鶴子 | J18: 様 | K18: 29 | L18: ・ | N18: ・ | P18: 0 | Q18: 一戸 隆暢 | T18: 様 | U18: 30 | W18: ・ | X18: ・ | Z18: 0 | AA18: 豊川 洋子 | AD18: 様
A19: 31 | C19: ・ | D19: ・ | F19: 0 | G19: 中居 敬悦 | J19: 様 | K19: 32 | M19: ・ | N19: ・ | P19: 28 | Q19: 森 マサ子 | T19: 様 | U19: 33 | W19: ・ | X19: ・ | Z19: 0 | AA19: 深町 栄美子 | AD19: 様
A20: 34 | C20: ・ | D20: ・ | F20: 28 | G20: 下田 末五郎 | J20: 様 | K20: 35 | M20: ・ | N20: ・ | P20: 28 | Q20: 大渡 信光 | T20: 様 | U20: 36 | W20: ・ | X20: ・ | Z20: 0 | AA20: 工藤 健壽 | AD20: 様
A21: 37 | C21: ・ | D21: ・ | F21: 30 | G21: 小向 忍 | J21: 様 | K21: 38 | M21: ・ | N21: ・ | P21: 28 | Q21: 一戸 千春 | T21: 様 | U21: 39 | W21: ・ | X21: ・ | Z21: 0 | AA21: 沼端 ミセ | AD21: 様
A22: 40 | C22: ・ | D22: ・ | F22: 56 | G22: 中野渡 ツエ | J22: 様 | K22: 41 | M22: ・ | N22: ・ | P22: 28 | Q22: 武井 ツセ | T22: 様 | U22: 42 | W22: ・ | X22: ・ | Z22: 28 | AA22: 高村 加津子 | AD22: 様
A23: 43 | C23: ・ | D23: ・ | F23: 28 | G23: 熊谷 伸哉 | J23: 様 | K23: 44 | M23: ・ | N23: ・ | P23: 30 | Q23: 藤原 チイ | T23: 様 | U23: 45 | W23: ・ | X23: ・ | Z23: 7 | AA23: 山岡 裕花 | AD23: 様
A24: 46 | C24: ・ | D24: ・ | F24: 28 | G24: 小西 徳仁 | J24: 様 | K24: 47 | M24: ・ | N24: ・ | P24: 30 | Q24: 佐々木 隆明 | T24: 様 | U24: 48 | W24: ・ | X24: ・ | Z24: 30 | AA24: 山田 敏 | AD24: 様
A25: 49 | C25: ・ | D25: ・ | F25: 28 | G25: 中村 ノリ子 | J25: 様 | K25: 50 | M25: ・ | N25: ・ | P25: 28 | Q25: 赤川 將麻 | T25: 様 | U25: 51 | W25: ・ | X25: ・ | Z25: 7 | AA25: 根本 幸子 | AD25: 様
A26: 52 | C26: ・ | D26: ・ | F26: 28 | G26: 石井 佐代子 | J26: 様 | K26: 53 | M26: ・ | N26: ・ | P26: 28 | Q26: 沖沢 あずさ | T26: 様 | U26: 54 | W26: ・ | X26: ・ | Z26: 20 | AA26: 野村 豊明 | AD26: 様
A27: 55 | C27: ・ | D27: ・ | F27: 14 | G27: 小比券巻 由美 | J27: 様 | K27: 56 | M27: ・ | N27: ・ | P27: 7 | Q27: 蛯名 富久子 | T27: 様 | U27: 57 | AD27: 様
A28: 外来患者数 | E28: 新： | F28: =COUNTIF(B9:B27,"・")+COUNTIF(L9:L27,"・")+COUNTIF(V9:V27,"・") -> 1 | H28: 名 | I28: 再： | J28: =COUNTIF(C9:C27,"・")+COUNTIF(M9:M27,"・")+COUNTIF(W9:W27,"・") -> 55 | L28: 名 | M28: 計： | N28: =SUM(F28:K28) -> 56 | Q28: 名 | R28: （ | S28: 精： | T28: =COUNTIF(D9:D27,"・")+COUNTIF(N9:N27,"・")+COUNTIF(X9:X27,"・") -> 56 | W28: 名 | X28: ・ | Y28: 内： | Z28: =COUNTIF(E9:E27,"・")+COUNTIF(O9:O27,"・")+COUNTIF(Y9:Y27,"・") -> 0 | AC28: 名 | AD28: ）
A30: 紹介患者様氏名 | F30: 紹介先 | K30: 逆紹介患者様氏名 | P30: 紹介元 | U30: 処置実施者 | AA30: 処置内容
E31: 様 | K31: 一戸 隆暢 | O31: 様 | P31: 三沢中央病院 | Z31: 様
A32: 本日の検査 | F32: 検査内容 | K32: 処置実施者 | P32: 処置内容 | Z32: 様
A33: 一戸 隆暢 | E33: 様 | F33: HDS-R・MMSE・血液検査 | O33: 様 | Z33: 様
A34: 駒澤 眞次 | E34: 様 | F34: 血液検査 | O34: 様 | Z34: 様
E35: 様 | O35: 様 | U35: 点検項目
E36: 様 | O36: 様 | U36: 項目 | Z36: 時間 | AC36: 点検者
A37: 発熱 | F37: 下痢 | K37: 風邪薬 | P37: 男性：21 | U37: 医療廃棄物 | Y37: 0.75 | AB37: 柳田 美雪
A38: 0 | F38: 0 | K38: 0 | P38: 女性：35 | U38: 戸締り | Y38: 0.75 | AB38: ='6'!AB38:AD38 -> 中村 恵理子
A40: 備考欄 | C40: （連絡事項・処方変更・その他）
G41: 特記なし
G42: 柳田

Sheet 13
B1: クリニック 日 誌 | H1: 令和 | J1: ='6'!J1 -> 2 | K1: 年 | L1: ='3'!L1 -> 2 | M1: 月 | N1: 13 | O1: 日 | Q1: （ | R1: 木 | S1: ） | V1: COO | Y1: IOO | AB1: AOM
A3: 勤務者名
A4: ='6'!A4:F4 -> 中村 恵理子 | G4: 日 | I4: 柳田 美雪 | N4: 日 | Q4: 診察室 | W4: 外来担当医 | Z4: 外来介助者
A5: 石原 恵海 | G5: 日 | I5: ='3'!I5:M5 -> 石谷 美代子 | N5: 日 | Q5: 第１診察室 | U5: 千葉 潜 | Z5: 柳田・石原
Q6: 第２診察室
B8: 新 | C8: 再 | D8: 精 | E8: 内 | F8: 処 | G8: 患者様氏名 | L8: 新 | M8: 再 | N8: 精 | O8: 内 | P8: 処 | Q8: 患者様氏名 | V8: 新 | W8: 再 | X8: 精 | Y8: 内 | Z8: 処 | AA8: 患者様氏名
A9: 1 | C9: ・ | D9: ・ | F9: 28 | G9: 竹内 くみ子 | J9: 様 | K9: 2 | M9: ・ | N9: ・ | P9: 28 | Q9: 蛯名 莉夏 | T9: 様 | U9: 3 | W9: ・ | X9: ・ | Z9: 14 | AA9: 齊藤 翔太 | AD9: 様
A10: 4 | C10: ・ | D10: ・ | F10: 28 | G10: 沼山 かおる | J10: 様 | K10: 5 | M10: ・ | N10: ・ | P10: 28 | Q10: 小泉 香織 | T10: 様 | U10: 6 | W10: ・ | X10: ・ | Z10: 30 | AA10: 梅津 禮子 | AD10: 様
A11: 7 | C11: ・ | D11: ・ | F11: 28 | G11: 小林 アサ | J11: 様 | K11: 8 | M11: ・ | N11: ・ | P11: 14 | Q11: 蛯名 慶子 | T11: 様 | U11: 9 | W11: ・ | X11: ・ | Z11: 28 | AA11: 金田 重一 | AD11: 様
A12: 10 | C12: ・ | D12: ・ | F12: 28 | G12: 清野 栄子 | J12: 様 | K12: 11 | M12: ・ | N12: ・ | P12: 30 | Q12: 山本 光豊 | T12: 様 | U12: 12 | W12: ・ | X12: ・ | Z12: 60 | AA12: 村上 チエ子 | AD12: 様
A13: 13 | C13: ・ | D13: ・ | F13: 28 | G13: 冨田 芙美子 | J13: 様 | K13: 14 | M13: ・ | N13: ・ | P13: 60 | Q13: 川村 ふさ | T13: 様 | U13: 15 | W13: ・ | X13: ・ | Z13: 30 | AA13: 山辺 博彦 | AD13: 様
A14: 16 | C14: ・ | D14: ・ | F14: 28 | G14: 佐々木 洋子 | J14: 様 | K14: 17 | M14: ・ | N14: ・ | P14: 0 | Q14: 杉元 悠敏 | T14: 様 | U14: 18 | W14: ・ | X14: ・ | Z14: 30 | AA14: 堀内 兼博 | AD14: 様
A15: 19 | C15: ・ | D15: ・ | F15: 30 | G15: 佐藤 務 | J15: 様 | K15: 20 | M15: ・ | N15: ・ | P15: 7 | Q15: 鈴木 敏信 | T15: 様 | U15: 21 | V15: ・ | X15: ・ | Z15: 14 | AA15: 畑山 みゆき | AD15: 様
A16: 22 | C16: ・ | D16: ・ | F16: 28 | G16: 市川 エミ子 | J16: 様 | K16: 23 | M16: ・ | N16: ・ | P16: 30 | Q16: 小山 アイ | T16: 様 | U16: 24 | V16: ・ | X16: ・ | Z16: 7 | AA16: 馬場 弘子 | AD16: 様
A17: 25 | C17: ・ | D17: ・ | F17: 28 | G17: 下田 守雄 | J17: 様 | K17: 26 | M17: ・ | N17: ・ | P17: 28 | Q17: 加藤 ミサ | T17: 様 | U17: 27 | W17: ・ | X17: ・ | Z17: 0 | AA17: 鈴木 寛二 | AD17: 様
A18: 28 | C18: ・ | D18: ・ | F18: 28 | G18: 繁田 千晶 | J18: 様 | K18: 29 | M18: ・ | N18: ・ | P18: 30 | Q18: 沢内 悦子 | T18: 様 | U18: 30 | W18: ・ | X18: ・ | Z18: 0 | AA18: 工藤 健壽 | AD18: 様
A19: 31 | C19: ・ | D19: ・ | F19: 30 | G19: 田村 美津子 | J19: 様 | K19: 32 | M19: ・ | N19: ・ | P19: 14 | Q19: 沼尾 千春 | T19: 様 | U19: 33 | W19: ・ | X19: ・ | Z19: 0 | AA19: 遠嶋 剛 | AD19: 様
A20: 34 | C20: ・ | D20: ・ | F20: 28 | G20: 竹下 ミツ子 | J20: 様 | K20: 35 | M20: ・ | N20: ・ | P20: 28 | Q20: 山本 ヤエ | T20: 様 | U20: 36 | W20: ・ | X20: ・ | Z20: 0 | AA20: 遠嶋 千鶴 | AD20: 様
A21: 37 | C21: ・ | D21: ・ | F21: 28 | G21: 山口 瑛子 | J21: 様 | K21: 38 | M21: ・ | N21: ・ | P21: 28 | Q21: 菊地 真美 | T21: 様 | U21: 39 | W21: ・ | X21: ・ | Z21: 0 | AA21: 萠出 きのゑ | AD21: 様
A22: 40 | C22: ・ | D22: ・ | F22: 28 | G22: 妻神 京子 | J22: 様 | K22: 41 | M22: ・ | N22: ・ | P22: 30 | Q22: 小坂 和美 | T22: 様 | U22: 42 | W22: ・ | X22: ・ | Z22: 0 | AA22: 萠出 克治 | AD22: 様
A23: 43 | C23: ・ | D23: ・ | F23: 7 | G23: 野々宮 俊江 | J23: 様 | K23: 44 | M23: ・ | N23: ・ | P23: 28 | Q23: 佐々木 優那 | T23: 様 | U23: 45 | W23: ・ | X23: ・ | Z23: 0 | AA23: 柏木 薫 | AD23: 様
A24: 46 | C24: ・ | D24: ・ | F24: 28 | G24: 本間 きよ | J24: 様 | K24: 47 | M24: ・ | N24: ・ | P24: 28 | Q24: 鳥谷部 勇弥 | T24: 様 | U24: 48 | W24: ・ | X24: ・ | Z24: 0 | AA24: 高村 加津子 | AD24: 様
A25: 49 | C25: ・ | D25: ・ | F25: 28 | G25: 古間木 義美 | J25: 様 | K25: 50 | M25: ・ | N25: ・ | P25: 14 | Q25: 中村 美香子 | T25: 様 | U25: 51 | W25: ・ | X25: ・ | Z25: 0 | AA25: 駒澤 キヤ | AD25: 様
A26: 52 | C26: ・ | D26: ・ | F26: 7 | G26: 中居 敬悦 | J26: 様 | K26: 53 | M26: ・ | N26: ・ | P26: 0 | Q26: 塚田 敏子 | T26: 様 | U26: 54 | W26: ・ | X26: ・ | Z26: 0 | AA26: 西舘 瞳 | AD26: 様
A27: 55 | C27: ・ | D27: ・ | F27: 30 | G27: 新山 まき子 | J27: 様 | K27: 56 | M27: ・ | N27: ・ | P27: 0 | Q27: 古川 とし | T27: 様 | U27: 57 | W27: ・ | X27: ・ | Z27: 0 | AA27: 蛯名 ヒロ子 | AD27: 様
A28: 58 | C28: ・ | D28: ・ | F28: 0 | G28: 長岡 叶人 | J28: 様 | K28: 59 | T28: 様 | U28: 60 | AD28: 様
A29: 外来患者数 | E29: 新： | F29: =COUNTIF(B9:B27,"・")+COUNTIF(L9:L27,"・")+COUNTIF(V9:V27,"・") -> 2 | H29: 名 | I29: 再： | J29: =COUNTIF(C9:C28,"・")+COUNTIF(M9:M28,"・")+COUNTIF(W9:W28,"・") -> 56 | L29: 名 | M29: 計： | N29: =SUM(F29:K29) -> 58 | Q29: 名 | R29: （ | S29: 精： | T29: =COUNTIF(D9:D28,"・")+COUNTIF(N9:N28,"・")+COUNTIF(X9:X28,"・") -> 58 | W29: 名 | X29: ・ | Y29: 内： | Z29: =COUNTIF(E9:E28,"・")+COUNTIF(O9:O28,"・")+COUNTIF(Y9:Y28,"・") -> 0 | AC29: 名 | AD29: ）
A31: 紹介患者様氏名 | F31: 紹介先 | K31: 逆紹介患者様氏名 | P31: 紹介元 | U31: 処置実施者 | AA31: 処置内容
A32: 小泉 香織 | E32: 様 | F32: みさわの森クリニック | K32: 畑山 みゆき | O32: 様 | P32: まつぞのクリニック | Z32: 様
A33: 本日の検査 | F33: 検査内容 | K33: 処置実施者 | P33: 処置内容 | Z33: 様
A34: 山本 光豊 | E34: 様 | F34: 血液検査 | K34: 中居 敬悦 | O34: 様 | P34: ハロマンス50ｍｇ 1A | Z34: 様
A35: 田村 美津子 | E35: 様 | F35: 血液検査 | O35: 様 | Z35: 様
A36: 下田 守雄 | E36: 様 | F36: 血液検査 | O36: 様 | Z36: 様
E37: 様 | O37: 様 | U37: 点検項目
E38: 様 | O38: 様 | U38: 項目 | Z38: 時間 | AC38: 点検者
A39: 発熱 | F39: 下痢 | K39: 風邪薬 | P39: 男性：18 | U39: 医療廃棄物 | Y39: 0.75 | AB39: 柳田 美雪
A40: 0 | F40: 0 | K40: 0 | P40: 女性：40 | U40: 戸締り | Y40: 0.75 | AB40: ='6'!AB38:AD38 -> 中村 恵理子
A42: 備考欄 | C42: （連絡事項・処方変更・その他）
G43: 特記なし
G44: 柳田

Sheet 14
B1: クリニック 日 誌 | H1: 令和 | J1: ='6'!J1 -> 2 | K1: 年 | L1: ='3'!L1 -> 2 | M1: 月 | N1: 14 | O1: 日 | Q1: （ | R1: 金 | S1: ） | V1: COO | Y1: IOO | AB1: AOM
A3: 勤務者名
A4: ='6'!A4:F4 -> 中村 恵理子 | G4: 日 | I4: 柳田 美雪 | N4: 日 | Q4: 診察室 | W4: 外来担当医 | Z4: 外来介助者
A5: 石原 恵海 | G5: 日 | I5: ='3'!I5:M5 -> 石谷 美代子 | N5: 日 | Q5: 第１診察室 | U5: 金 泰康 | Z5: 柳田・石原
Q6: 第２診察室 | U6: 千葉 良 | Z6: 柳田・石原
B8: 新 | C8: 再 | D8: 精 | E8: 内 | F8: 処 | G8: 患者様氏名 | L8: 新 | M8: 再 | N8: 精 | O8: 内 | P8: 処 | Q8: 患者様氏名 | V8: 新 | W8: 再 | X8: 精 | Y8: 内 | Z8: 処 | AA8: 患者様氏名
A9: 1 | C9: ・ | D9: ・ | F9: 0 | G9: 西舘 惠子 | J9: 様 | K9: 2 | M9: ・ | N9: ・ | P9: 7 | Q9: 大平 陸 | T9: 様 | U9: 3 | W9: ・ | X9: ・ | Z9: 28 | AA9: 古舘 沙織 | AD9: 様
A10: 4 | C10: ・ | D10: ・ | F10: 60 | G10: 山口 陽子 | J10: 様 | K10: 5 | M10: ・ | N10: ・ | P10: 30 | Q10: 森外 鉄雄 | T10: 様 | U10: 6 | W10: ・ | X10: ・ | Z10: 30 | AA10: 十枝内 修斗 | AD10: 様
A11: 7 | C11: ・ | D11: ・ | F11: 60 | G11: 坂田 イミ | J11: 様 | K11: 8 | M11: ・ | N11: ・ | P11: 30 | Q11: 遠藤 ひろみ | T11: 様 | U11: 9 | W11: ・ | X11: ・ | Z11: 30 | AA11: 田島 来魅琉 | AD11: 様
A12: 10 | C12: ・ | D12: ・ | F12: 30 | G12: 和田 成人 | J12: 様 | K12: 11 | M12: ・ | N12: ・ | P12: 30 | Q12: 沼端 佑太 | T12: 様 | U12: 12 | W12: ・ | X12: ・ | Z12: 30 | AA12: 森野 流生 | AD12: 様
A13: 13 | C13: ・ | D13: ・ | F13: 30 | G13: 澤田 千代子 | J13: 様 | K13: 14 | M13: ・ | N13: ・ | P13: 28 | Q13: 長根 謙二 | T13: 様 | U13: 15 | W13: ・ | X13: ・ | Z13: 0 | AA13: 小塚 龍之介 | AD13: 様
A14: 16 | C14: ・ | D14: ・ | F14: 30 | G14: 小林 昭治 | J14: 様 | K14: 17 | M14: ・ | N14: ・ | P14: 30 | Q14: 小笠原 とよ | T14: 様 | U14: 18 | W14: ・ | X14: ・ | Z14: 21 | AA14: 熊野 富美子 | AD14: 様
A15: 19 | C15: ・ | D15: ・ | F15: 42 | G15: 馬島 耕平 | J15: 様 | K15: 20 | M15: ・ | N15: ・ | P15: 28 | Q15: 佐藤 浩子 | T15: 様 | U15: 21 | W15: ・ | X15: ・ | Z15: 60 | AA15: 一戸 ヒデ | AD15: 様
A16: 22 | C16: ・ | D16: ・ | F16: 28 | G16: 馬場 トセ子 | J16: 様 | K16: 23 | M16: ・ | N16: ・ | P16: 60 | Q16: 池田 アエ | T16: 様 | U16: 24 | W16: ・ | X16: ・ | Z16: 30 | AA16: 伊藤 慎弥 | AD16: 様
A17: 25 | C17: ・ | D17: ・ | F17: 30 | G17: 吉田 俊一 | J17: 様 | K17: 26 | M17: ・ | N17: ・ | P17: 10 | Q17: 山村 悦子 | T17: 様 | U17: 27 | W17: ・ | X17: ・ | Z17: 0 | AA17: 遠嶋 剛 | AD17: 様
A18: 28 | C18: ・ | D18: ・ | F18: 60 | G18: 佐々木 ヨシ | J18: 様 | K18: 29 | M18: ・ | N18: ・ | P18: 30 | Q18: 起田 妙子 | T18: 様 | U18: 30 | W18: ・ | X18: ・ | Z18: 0 | AA18: 遠嶋 千鶴 | AD18: 様
A19: 31 | C19: ・ | D19: ・ | F19: 30 | G19: 沼尾 タマエ | J19: 様 | K19: 32 | M19: ・ | N19: ・ | P19: 65 | Q19: 佐藤 有裕美 | T19: 様 | U19: 33 | W19: ・ | X19: ・ | Z19: 0 | AA19: 萠出 きのゑ | AD19: 様
A20: 34 | C20: ・ | D20: ・ | F20: 30 | G20: 佐藤 晴子 | J20: 様 | K20: 35 | M20: ・ | N20: ・ | P20: 28 | Q20: 千葉 スワ | T20: 様 | U20: 36 | W20: ・ | X20: ・ | Z20: 0 | AA20: 萠出 克治 | AD20: 様
... A23: 43 | C23: ・ | D23: ・ | F23: 30 | G23: 久保田 由美 | J23: 様 | K23: 44 | M23: ・ | N23: ・ | P23: 30 | Q23: 吉田 浩 | T23: 様 | U23: 45 | W23: ・ | X23: ・ | Z23: 0 | AA23: 工藤 健壽 | AD23: 様
A24: 46 | C24: ・ | D24: ・ | F24: 30 | G24: 鳥谷部 和子 | J24: 様 | K24: 47 | L24: ・ | N24: ・ | P24: 14 | Q24: 蛯名 湧耶 | T24: 様 | U24: 48 | W24: ・ | X24: ・ | Z24: 0 | AA24: 工藤 富雄 | AD24: 様
A25: 49 | C25: ・ | D25: ・ | F25: 30 | G25: 高田 佐智子 | J25: 様 | K25: 50 | M25: ・ | N25: ・ | P25: 28 | Q25: 波柴 裕香 | T25: 様 | U25: 51 | W25: ・ | X25: ・ | Z25: 0 | AA25: 瀬川 高雄 | AD25: 様
A26: 52 | C26: ・ | D26: ・ | F26: 30 | G26: 北村 謹造 | J26: 様 | K26: 53 | M26: ・ | N26: ・ | P26: 30 | Q26: 大坂 公子 | T26: 様 | U26: 54 | W26: ・ | X26: ・ | Z26: 0 | AA26: 沼端 ミセ | AD26: 様
A27: 55 | C27: ・ | D27: ・ | F27: 30 | G27: 杉山 政枝 | J27: 様 | K27: 56 | M27: ・ | N27: ・ | P27: 30 | Q27: 高橋 幸喜 | T27: 様 | U27: 57 | W27: ・ | X27: ・ | Z27: 0 | AA27: 林 成信 | AD27: 様
A28: 外来患者数 | E28: 新： | F28: =COUNTIF(B9:B27,"・")+COUNTIF(L9:L27,"・")+COUNTIF(V9:V27,"・") -> 1 | H28: 名 | I28: 再： | J28: =COUNTIF(C9:C27,"・")+COUNTIF(M9:M27,"・")+COUNTIF(W9:W27,"・") -> 56 | L28: 名 | M28: 計： | N28: =SUM(F28:K28) -> 57 | Q28: 名 | R28: （ | S28: 精： | T28: =COUNTIF(D9:D27,"・")+COUNTIF(N9:N27,"・")+COUNTIF(X9:X27,"・") -> 57 | W28: 名 | X28: ・ | Y28: 内： | Z28: =COUNTIF(E9:E27,"・")+COUNTIF(O9:O27,"・")+COUNTIF(Y9:Y27,"・") -> 0 | AC28: 名 | AD28: ）
A30: 紹介患者様氏名 | F30: 紹介先 | K30: 逆紹介患者様氏名 | P30: 紹介元 | U30: 処置実施者 | AA30: 処置内容
A31: 西舘 惠子 | E31: 様 | F31: 十和田済誠会病院 | O31: 様 | Z31: 様
A32: 小塚 龍之介 | E32: 様 | F32: 青南病院 | O32: 様 | Z32: 様
A33: 本日の検査 | F33: 検査内容 | K33: 処置実施者 | P33: 処置内容 | Z33: 様
A34: 山口 陽子 | E34: 様 | F34: 血液検査 | O34: 様 | Z34: 様
A35: 森外 鉄雄 | E35: 様 | F35: 血液検査 | O35: 様 | Z35: 様
E36: 様 | O36: 様 | U36: 点検項目
E37: 様 | O37: 様 | U37: 項目 | Z37: 時間 | AC37: 点検者
A38: 発熱 | F38: 下痢 | K38: 風邪薬 | P38: 男性：22 | U38: 医療廃棄物 | Y38: 0.75 | AB38: 柳田 美雪
A39: 0 | F39: 0 | K39: 0 | P39: 女性：35 | U39: 戸締り | Y39: 0.75 | AB39: ='6'!AB38:AD38 -> 中村 恵理子
A41: 備考欄 | C41: （連絡事項・処方変更・その他）
A42: 西舘 惠子 様 | G42: 不安、希死念慮、動悸、考えがまとまらないのを主訴に令和2年１月22日に当院初診。
A43: （精神・再来患者） | G43: 診断名 うつ病 薬物治療をしていた。
G44: 2月12日受診後、希死念慮増悪、食事拒否、拒薬があり、自宅での見守りも困難とのことで
G45: 入院加療の相談のため、本日来院。
G46: 十和田済誠会病院より、本日、受診と入院の受け入れが可能とのことで紹介となった。
...

Sheet 15
B1: クリニック 日 誌 | H1: 令和 | J1: ='6'!J1 -> 2 | K1: 年 | L1: ='3'!L1 -> 2 | M1: 月 | N1: 15 | O1: 日 | Q1: （ | S1: ） | V1: COO | Y1: IOO | AB1: AOM
A3: 勤務者名
A4: ='6'!A4:F4 -> 中村 恵理子 | G4: 日 | I4: 柳田 美雪 | N4: 日 | Q4: 診察室 | W4: 外来担当医 | Z4: 外来介助者
A5: 石原 恵海 | G5: 日 | Q5: 第１診察室 | Z5: 柳田・石原
Q6: 第２診察室
B8: 新 | C8: 再 | D8: 精 | E8: 内 | F8: 処 | G8: 患者様氏名 | L8: 新 | M8: 再 | N8: 精 | O8: 内 | P8: 処 | Q8: 患者様氏名 | V8: 新 | W8: 再 | X8: 精 | Y8: 内 | Z8: 処 | AA8: 患者様氏名
A9: 1 | J9: 様 | K9: 2 | T9: 様 | U9: 3 | AD9: 様
A10: 4 | J10: 様 | K10: 5 | T10: 様 | U10: 6 | AD10: 様
A11: 7 | J11: 様 | K11: 8 | T11: 様 | U11: 9 | AD11: 様
A12: 10 | J12: 様 | K12: 11 | T12: 様 | U12: 12 | AD12: 様
A13: 13 | J13: 様 | K13: 14 | T13: 様 | U13: 15 | AD13: 様
A14: 16 | J14: 様 | K14: 17 | T14: 様 | U14: 18 | AD14: 様
A15: 19 | J15: 様 | K15: 20 | T15: 様 | U15: 21 | AD15: 様
A16: 22 | J16: 様 | K16: 23 | T16: 様 | U16: 24 | AD16: 様
A17: 25 | J17: 様 | K17: 26 | T17: 様 | U17: 27 | AD17: 様
A18: 28 | J18: 様 | K18: 29 | T18: 様 | U18: 30 | AD18: 様
A19: 31 | J19: 様 | K19: 32 | T19: 様 | U19: 33 | AD19: 様
A20: 34 | J20: 様 | K20: 35 | T20: 様 | U20: 36 | AD20: 様
... A33: 73 | J33: 様 | K33: 74 | T33: 様 | U33: 75 | AD33: 様
A34: 外来患者数 | E34: 新： | F34: =COUNTIF(B9:B33,"・")+COUNTIF(L9:L33,"・")+COUNTIF(V9:V33,"・") -> 0 | H34: 名 | I34: 再： | J34: =COUNTIF(C9:C33,"・")+COUNTIF(M9:M33,"・")+COUNTIF(W9:W33,"・") -> 0 | L34: 名 | M34: 計： | N34: =SUM(F34:K34) -> 0 | Q34: 名 | R34: （ | S34: 精： | T34: =COUNTIF(D9:D33,"・")+COUNTIF(N9:N33,"・")+COUNTIF(X9:X33,"・") -> 0 | W34: 名 | X34: ・ | Y34: 内： | Z34: =COUNTIF(E9:E33,"・")+COUNTIF(O9:O33,"・")+COUNTIF(Y9:Y33,"・") -> 0 | AC34: 名 | AD34: ）
A36: 紹介患者様氏名 | F36: 紹介先 | K36: 逆紹介患者様氏名 | P36: 紹介元 | U36: 処置実施者 | AA36: 処置内容
E37: 様 | O37: 様 | Z37: 様
E38: 様 | O38: 様 | Z38: 様
E39: 様 | O39: 様 | Z39: 様
E40: 様 | O40: 様 | Z40: 様
E41: 様 | O41: 様 | Z41: 様
A42: 本日の検査 | F42: 検査内容 | K42: 処置実施者 | P42: 処置内容 | Z42: 様
E43: 様 | O43: 様 | Z43: 様
E44: 様 | O44: 様 | Z44: 様
E45: 様 | O45: 様 | Z45: 様
E46: 様 | O46: 様 | U46: 点検項目
E47: 様 | O47: 様 | U47: 項目 | Z47: 時間 | AC47: 点検者
A48: 発熱 | F48: 下痢 | K48: 風邪薬 | P48: 男性： | U48: 医療廃棄物 | Y48: 0.75
A49: 0 | F49: 0 | K49: 0 | P49: 女性： | U49: 戸締り | Y49: 0.75 | AB49: ='6'!AB38:AD38 -> 中村 恵理子
A51: 備考欄 | C51: （連絡事項・処方変更・その他）

Sheet 16
B1: クリニック 日 誌 | H1: 令和 | J1: ='6'!J1 -> 2 | K1: 年 | L1: ='3'!L1 -> 2 | M1: 月 | N1: 16 | O1: 日 | Q1: （ | S1: ） | V1: COO | Y1: IOO | AB1: AOM
A3: 勤務者名
A4: ='6'!A4:F4 -> 中村 恵理子 | G4: 日 | I4: 柳田 美雪 | N4: 日 | Q4: 診察室 | W4: 外来担当医 | Z4: 外来介助者
A5: 石原 恵海 | G5: 日 | Q5: 第１診察室 | Z5: 柳田・石原
Q6: 第２診察室
B8: 新 | C8: 再 | D8: 精 | E8: 内 | F8: 処 | G8: 患者様氏名 | L8: 新 | M8: 再 | N8: 精 | O8: 内 | P8: 処 | Q8: 患者様氏名 | V8: 新 | W8: 再 | X8: 精 | Y8: 内 | Z8: 処 | AA8: 患者様氏名
A9: 1 | J9: 様 | K9: 2 | T9: 様 | U9: 3 | AD9: 様
A10: 4 | J10: 様 | K10: 5 | T10: 様 | U10: 6 | AD10: 様
A11: 7 | J11: 様 | K11: 8 | T11: 様 | U11: 9 | AD11: 様
A12: 10 | J12: 様 | K12: 11 | T12: 様 | U12: 12 | AD12: 様
A13: 13 | J13: 様 | K13: 14 | T13: 様 | U13: 15 | AD13: 様
A14: 16 | J14: 様 | K14: 17 | T14: 様 | U14: 18 | AD14: 様
A15: 19 | J15: 様 | K15: 20 | T15: 様 | U15: 21 | AD15: 様
A16: 22 | J16: 様 | K16: 23 | T16: 様 | U16: 24 | AD16: 様
A17: 25 | J17: 様 | K17: 26 | T17: 様 | U17: 27 | AD17: 様
A18: 28 | J18: 様 | K18: 29 | T18: 様 | U18: 30 | AD18: 様
A19: 31 | J19: 様 | K19: 32 | T19: 様 | U19: 33 | AD19: 様
A20: 34 | J20: 様 | K20: 35 | T20: 様 | U20: 36 | AD20: 様
... A33: 73 | J33: 様 | K33: 74 | T33: 様 | U33: 75 | AD33: 様
A34: 外来患者数 | E34: 新： | F34: =COUNTIF(B9:B33,"・")+COUNTIF(L9:L33,"・")+COUNTIF(V9:V33,"・") -> 0 | H34: 名 | I34: 再： | J34: =COUNTIF(C9:C33,"・")+COUNTIF(M9:M33,"・")+COUNTIF(W9:W33,"・") -> 0 | L34: 名 | M34: 計： | N34: =SUM(F34:K34) -> 0 | Q34: 名 | R34: （ | S34: 精： | T34: =COUNTIF(D9:D33,"・")+COUNTIF(N9:N33,"・")+COUNTIF(X9:X33,"・") -> 0 | W34: 名 | X34: ・ | Y34: 内： | Z34: =COUNTIF(E9:E33,"・")+COUNTIF(O9:O33,"・")+COUNTIF(Y9:Y33,"・") -> 0 | AC34: 名 | AD34: ）
A36: 紹介患者様氏名 | F36: 紹介先 | K36: 逆紹介患者様氏名 | P36: 紹介元 | U36: 処置実施者 | AA36: 処置内容
E37: 様 | O37: 様 | Z37: 様
E38: 様 | O38: 様 | Z38: 様
E39: 様 | O39: 様 | Z39: 様
E40: 様 | O40: 様 | Z40: 様
E41: 様 | O41: 様 | Z41: 様
A42: 本日の検査 | F42: 検査内容 | K42: 処置実施者 | P42: 処置内容 | Z42: 様
E43: 様 | O43: 様 | Z43: 様
E44: 様 | O44: 様 | Z44: 様
E45: 様 | O45: 様 | Z45: 様
E46: 様 | O46: 様 | U46: 点検項目
E47: 様 | O47: 様 | U47: 項目 | Z47: 時間 | AC47: 点検者
A48: 発熱 | F48: 下痢 | K48: 風邪薬 | P48: 男性： | U48: 医療廃棄物 | Y48: 0.75
A49: 0 | F49: 0 | K49: 0 | P49: 女性： | U49: 戸締り | Y49: 0.75 | AB49: ='6'!AB38:AD38 -> 中村 恵理子
A51: 備考欄 | C51: （連絡事項・処方変更・その他）

Sheet 17
B1: クリニック 日 誌 | H1: 令和 | J1: ='6'!J1 -> 2 | K1: 年 | L1: ='3'!L1 -> 2 | M1: 月 | N1: 17 | O1: 日 | Q1: （ | S1: ） | V1: COO | Y1: IOO | AB1: AOM
A3: 勤務者名
A4: ='6'!A4:F4 -> 中村 恵理子 | G4: 日 | I4: 柳田 美雪 | N4: 日 | Q4: 診察室 | W4: 外来担当医 | Z4: 外来介助者
A5: 石原 恵海 | G5: 日 | Q5: 第１診察室 | Z5: 柳田・石原
Q6: 第２診察室
B8: 新 | C8: 再 | D8: 精 | E8: 内 | F8: 処 | G8: 患者様氏名 | L8: 新 | M8: 再 | N8: 精 | O8: 内 | P8: 処 | Q8: 患者様氏名 | V8: 新 | W8: 再 | X8: 精 | Y8: 内 | Z8: 処 | AA8: 患者様氏名
A9: 1 | J9: 様 | K9: 2 | T9: 様 | U9: 3 | AD9: 様
A10: 4 | J10: 様 | K10: 5 | T10: 様 | U10: 6 | AD10: 様
A11: 7 | J11: 様 | K11: 8 | T11: 様 | U11: 9 | AD11: 様
A12: 10 | J12: 様 | K12: 11 | T12: 様 | U12: 12 | AD12: 様
A13: 13 | J13: 様 | K13: 14 | T13: 様 | U13: 15 | AD13: 様
A14: 16 | J14: 様 | K14: 17 | T14: 様 | U14: 18 | AD14: 様
A15: 19 | J15: 様 | K15: 20 | T15: 様 | U15: 21 | AD15: 様
A16: 22 | J16: 様 | K16: 23 | T16: 様 | U16: 24 | AD16: 様
A17: 25 | J17: 様 | K17: 26 | T17: 様 | U17: 27 | AD17: 様
A18: 28 | J18: 様 | K18: 29 | T18: 様 | U18: 30 | AD18: 様
A19: 31 | J19: 様 | K19: 32 | T19: 様 | U19: 33 | AD19: 様
A20: 34 | J20: 様 | K20: 35 | T20: 様 | U20: 36 | AD20: 様
... A33: 73 | J33: 様 | K33: 74 | T33: 様 | U33: 75 | AD33: 様
A34: 外来患者数 | E34: 新： | F34: =COUNTIF(B9:B33,"・")+COUNTIF(L9:L33,"・")+COUNTIF(V9:V33,"・") -> 0 | H34: 名 | I34: 再： | J34: =COUNTIF(C9:C33,"・")+COUNTIF(M9:M33,"・")+COUNTIF(W9:W33,"・") -> 0 | L34: 名 | M34: 計： | N34: =SUM(F34:K34) -> 0 | Q34: 名 | R34: （ | S34: 精： | T34: =COUNTIF(D9:D33,"・")+COUNTIF(N9:N33,"・")+COUNTIF(X9:X33,"・") -> 0 | W34: 名 | X34: ・ | Y34: 内： | Z34: =COUNTIF(E9:E33,"・")+COUNTIF(O9:O33,"・")+COUNTIF(Y9:Y33,"・") -> 0 | AC34: 名 | AD34: ）
A36: 紹介患者様氏名 | F36: 紹介先 | K36: 逆紹介患者様氏名 | P36: 紹介元 | U36: 処置実施者 | AA36: 処置内容
E37: 様 | O37: 様 | Z37: 様
E38: 様 | O38: 様 | Z38: 様
E39: 様 | O39: 様 | Z39: 様
E40: 様 | O40: 様 | Z40: 様
E41: 様 | O41: 様 | Z41: 様
A42: 本日の検査 | F42: 検査内容 | K42: 処置実施者 | P42: 処置内容 | Z42: 様
E43: 様 | O43: 様 | Z43: 様
E44: 様 | O44: 様 | Z44: 様
E45: 様 | O45: 様 | Z45: 様
E46: 様 | O46: 様 | U46: 点検項目
E47: 様 | O47: 様 | U47: 項目 | Z47: 時間 | AC47: 点検者
A48: 発熱 | F48: 下痢 | K48: 風邪薬 | P48: 男性： | U48: 医療廃棄物 | Y48: 0.75
A49: 0 | F49: 0 | K49: 0 | P49: 女性： | U49: 戸締り | Y49: 0.75 | AB49: ='6'!AB38:AD38 -> 中村 恵理子
A51: 備考欄 | C51: （連絡事項・処方変更・その他）

Sheet 18
B1: クリニック 日 誌 | H1: 令和 | J1: ='6'!J1 -> 2 | K1: 年 | L1: ='3'!L1 -> 2 | M1: 月 | N1: 18 | O1: 日 | Q1: （ | S1: ） | V1: COO | Y1: IOO | AB1: AOM
A3: 勤務者名
A4: ='6'!A4:F4 -> 中村 恵理子 | G4: 日 | I4: 柳田 美雪 | N4: 日 | Q4: 診察室 | W4: 外来担当医 | Z4: 外来介助者
A5: 石原 恵海 | G5: 日 | Q5: 第１診察室 | Z5: 柳田・石原
Q6: 第２診察室
B8: 新 | C8: 再 | D8: 精 | E8: 内 | F8: 処 | G8: 患者様氏名 | L8: 新 | M8: 再 | N8: 精 | O8: 内 | P8: 処 | Q8: 患者様氏名 | V8: 新 | W8: 再 | X8: 精 | Y8: 内 | Z8: 処 | AA8: 患者様氏名
A9: 1 | J9: 様 | K9: 2 | T9: 様 | U9: 3 | AD9: 様
A10: 4 | J10: 様 | K10: 5 | T10: 様 | U10: 6 | AD10: 様
A11: 7 | J11: 様 | K11: 8 | T11: 様 | U11: 9 | AD11: 様
A12: 10 | J12: 様 | K12: 11 | T12: 様 | U12: 12 | AD12: 様
A13: 13 | J13: 様 | K13: 14 | T13: 様 | U13: 15 | AD13: 様
A14: 16 | J14: 様 | K14: 17 | T14: 様 | U14: 18 | AD14: 様
A15: 19 | J15: 様 | K15: 20 | T15: 様 | U15: 21 | AD15: 様
A16: 22 | J16: 様 | K16: 23 | T16: 様 | U16: 24 | AD16: 様
A17: 25 | J17: 様 | K17: 26 | T17: 様 | U17: 27 | AD17: 様
A18: 28 | J18: 様 | K18: 29 | T18: 様 | U18: 30 | AD18: 様
A19: 31 | J19: 様 | K19: 32 | T19: 様 | U19: 33 | AD19: 様
A20: 34 | J20: 様 | K20: 35 | T20: 様 | U20: 36 | AD20: 様
... A33: 73 | J33: 様 | K33: 74 | T33: 様 | U33: 75 | AD33: 様
A34: 外来患者数 | E34: 新： | F34: =COUNTIF(B9:B33,"・")+COUNTIF(L9:L33,"・")+COUNTIF(V9:V33,"・") -> 0 | H34: 名 | I34: 再： | J34: =COUNTIF(C9:C33,"・")+COUNTIF(M9:M33,"・")+COUNTIF(W9:W33,"・") -> 0 | L34: 名 | M34: 計： | N34: =SUM(F34:K34) -> 0 | Q34: 名 | R34: （ | S34: 精： | T34: =COUNTIF(D9:D33,"・")+COUNTIF(N9:N33,"・")+COUNTIF(X9:X33,"・") -> 0 | W34: 名 | X34: ・ | Y34: 内： | Z34: =COUNTIF(E9:E33,"・")+COUNTIF(O9:O33,"・")+COUNTIF(Y9:Y33,"・") -> 0 | AC34: 名 | AD34: ）
A36: 紹介患者様氏名 | F36: 紹介先 | K36: 逆紹介患者様氏名 | P36: 紹介元 | U36: 処置実施者 | AA36: 処置内容
E37: 様 | O37: 様 | Z37: 様
E38: 様 | O38: 様 | Z38: 様
E39: 様 | O39: 様 | Z39: 様
E40: 様 | O40: 様 | Z40: 様
E41: 様 | O41: 様 | Z41: 様
A42: 本日の検査 | F42: 検査内容 | K42: 処置実施者 | P42: 処置内容 | Z42: 様
E43: 様 | O43: 様 | Z43: 様
E44: 様 | O44: 様 | Z44: 様
E45: 様 | O45: 様 | Z45: 様
E46: 様 | O46: 様 | U46: 点検項目
E47: 様 | O47: 様 | U47: 項目 | Z47: 時間 | AC47: 点検者
A48: 発熱 | F48: 下痢 | K48: 風邪薬 | P48: 男性： | U48: 医療廃棄物 | Y48: 0.75
A49: 0 | F49: 0 | K49: 0 | P49: 女性： | U49: 戸締り | Y49: 0.75 | AB49: ='6'!AB38:AD38 -> 中村 恵理子
A51: 備考欄 | C51: （連絡事項・処方変更・その他）

Sheet 19
B1: クリニック 日 誌 | H1: 令和 | J1: ='6'!J1 -> 2 | K1: 年 | L1: ='3'!L1 -> 2 | M1: 月 | N1: 19 | O1: 日 | Q1: （ | S1: ） | V1: COO | Y1: IOO | AB1: AOM
A3: 勤務者名
A4: ='6'!A4:F4 -> 中村 恵理子 | G4: 日 | I4: 柳田 美雪 | N4: 日 | Q4: 診察室 | W4: 外来担当医 | Z4: 外来介助者
A5: 石原 恵海 | G5: 日 | Q5: 第１診察室 | Z5: 柳田・石原
Q6: 第２診察室
B8: 新 | C8: 再 | D8: 精 | E8: 内 | F8: 処 | G8: 患者様氏名 | L8: 新 | M8: 再 | N8: 精 | O8: 内 | P8: 処 | Q8: 患者様氏名 | V8: 新 | W8: 再 | X8: 精 | Y8: 内 | Z8: 処 | AA8: 患者様氏名
A9: 1 | J9: 様 | K9: 2 | T9: 様 | U9: 3 | AD9: 様
A10: 4 | J10: 様 | K10: 5 | T10: 様 | U10: 6 | AD10: 様
A11: 7 | J11: 様 | K11: 8 | T11: 様 | U11: 9 | AD11: 様
A12: 10 | J12: 様 | K12: 11 | T12: 様 | U12: 12 | AD12: 様
A13: 13 | J13: 様 | K13: 14 | T13: 様 | U13: 15 | AD13: 様
A14: 16 | J14: 様 | K14: 17 | T14: 様 | U14: 18 | AD14: 様
A15: 19 | J15: 様 | K15: 20 | T15: 様 | U15: 21 | AD15: 様
A16: 22 | J16: 様 | K16: 23 | T16: 様 | U16: 24 | AD16: 様
A17: 25 | J17: 様 | K17: 26 | T17: 様 | U17: 27 | AD17: 様
A18: 28 | J18: 様 | K18: 29 | T18: 様 | U18: 30 | AD18: 様
