Workbook

Sheet 1
A1: ソーシャルワーカー室 業務日誌 | AH1: C.O.O | AL1: I.O.O | AP1: Ａ.Ｏ.Ｍ
H3: =曜日!B12 -> 令和元年 | M3: =曜日!C12 -> 10月 | P3: 1日 | S3: （ | T3: =曜日!D3 -> 火 | U3: ） | W3: 作成者 | Z3: ： | AA3: 大川 祥子
A5: 労務 状況 | D5: 勤務状況 | K5: 西舘 翔子 | P5: 日勤 | T5: 鷹架 叶未 | Y5: 日勤 | AC5: 大川 祥子 | AH5: 日勤 | AL5: 小屋敷 千瑛 | AP5: 日勤
A7: 入退院 状況 | D7: 入院形態 | K7: 東病棟 | Q7: 西病棟 | W7: 北病棟 | AC7: 南病棟 | AI7: 合計 | AO7: 総数
K8: 男性 | N8: 女性 | Q8: 男性 | T8: 女性 | W8: 男性 | Z8: 女性 | AC8: 男性 | AF8: 女性 | AI8: 男性 | AL8: 女性
D9: 任意入院 | K9: 1 | N9: 6 | Q9: 7 | T9: 9 | W9: 20 | Z9: 13 | AC9: 1 | AF9: 3 | AI9: =K9+Q9+W9+AC9 -> 29 | AL9: =N9+T9+Z9+AF9 -> 31 | AO9: =AI13 -> 179
D10: 医療保護入院 | K10: 25 | N10: 10 | Q10: 14 | T10: 13 | W10: 0 | Z10: 0 | AC10: 26 | AF10: 30 | AI10: =K10+Q10+W10+AC10 -> 65 | AL10: =N10+T10+Z10+AF10 -> 53
D11: 措置入院 | K11: 1 | N11: 0 | Q11: 0 | T11: 0 | W11: 0 | Z11: 0 | AC11: 0 | AF11: 0 | AI11: =K11+Q11+W11+AC11 -> 1 | AL11: =N11+T11+Z11+AF11 -> 0
D12: 合計 | K12: =K9+K10+K11 -> 27 | N12: =N9+N10+N11 -> 16 | Q12: =Q9+Q10+Q11 -> 21 | T12: =SUM(T9:V11) -> 22 | W12: =SUM(W9:Y11) -> 20 | Z12: =SUM(Z9:AB11) -> 13 | AC12: =SUM(AC9:AE11) -> 27 | AF12: =SUM(AF9:AH11) -> 33 | AI12: =SUM(K12+Q12+W12+AC12) -> 95 | AL12: =SUM(N12+T12+Z12+AF12) -> 84 | AO12: 人
K13: =K12+N12 -> 43 | Q13: =Q12+T12 -> 43 | W13: =W12+Z12 -> 33 | AC13: =AC12+AF12 -> 60 | AI13: =AI12+AL12 -> 179
F14: 患者様氏名 | N14: 入院形態 | T14: 担当Dr | Y14: 担当SW | AD14: 病棟 | AJ14: 備考欄
D15: 入院 | L15: 様
L16: 様
L17: 様
L18: 様
L19: 様
D20: 退院 | F20: 成田 真衣 | L20: 様 | N20: 任意入院 | T20: 田名部茂Dr | Y20: 小屋敷 千瑛 | AD20: 西B
L21: 様
L22: 様
L23: 様
L24: 様
D25: 転棟 ･ 入院形態変更 | F25: 神成 信俊 | L25: 様 | N25: 医療保護入院 | T25: 田名部茂Dr | Y25: 西舘 翔子 | AJ25: 東C→南B
L26: 様
L27: 様
L28: 様
L29: 様
A30: 患者様 関連 | D30: 患者様氏名 | K30: 担当Dr | P30: 病棟 | S30: 制限内容 | X30: 制限時間 | AC30: 開始日時 | AO30: 備考
D31: 立花 圭 | I31: 様 | K31: 田名部茂Dr | P31: 東A | S31: 時間隔離 | X31: 時間隔離 | AC31: 令和 | AE31: 1 | AF31: 年 | AG31: 9 | AH31: 月 | AI31: 25 | AJ31: 日 | AL31: ： | AN31: ～
D32: 見付 龍矢 | I32: 様 | K32: 田名部茂Dr | P32: 東A | S32: 終日隔離 | X32: 終日隔離 | AC32: 令和 | AE32: 1 | AF32: 年 | AG32: 9 | AH32: 月 | AI32: 12 | AJ32: 日 | AL32: ： | AN32: ～
D33: 本堂 秀夫 | I33: 様 | K33: 馬渡晃弘Dr | P33: 南B | S33: 身体拘束 | X33: 身体拘束 | AC33: 令和 | AE33: 1 | AF33: 年 | AG33: 10 | AH33: 月 | AI33: 1 | AJ33: 日 | AL33: ： | AN33: ～ | AO33: 開始
I34: 様 | AC34: 令和 | AF34: 年 | AH34: 月 | AJ34: 日 | AL34: ： | AN34: ～
I35: 様 | AC35: 令和 | AF35: 年 | AH35: 月 | AJ35: 日 | AL35: ： | AN35: ～
I36: 様 | AC36: 令和 | AF36: 年 | AH36: 月 | AJ36: 日 | AL36: ： | AN36: ～
I37: 様 | AC37: 令和 | AF37: 年 | AH37: 月 | AJ37: 日 | AL37: ： | AN37: ～
I38: 様 | AC38: 令和 | AF38: 年 | AH38: 月 | AJ38: 日 | AL38: ： | AN38: ～
I39: 様 | AC39: 令和 | AF39: 年 | AH39: 月 | AJ39: 日 | AL39: ： | AN39: ～
I40: 様 | AC40: 令和 | AF40: 年 | AH40: 月 | AJ40: 日 | AL40: ： | AN40: ～
I41: 様 | AC41: 令和 | AF41: 年 | AH41: 月 | AJ41: 日 | AL41: ： | AN41: ～
I42: 様 | AC42: 令和 | AF42: 年 | AH42: 月 | AJ42: 日 | AL42: ： | AN42: ～
I43: 様 | AC43: 令和 | AF43: 年 | AH43: 月 | AJ43: 日 | AL43: ： | AN43: ～
...

Sheet 2
A1: ソーシャルワーカー室 業務日誌 | AH1: C.O.O | AL1: I.O.O | AP1: Ａ.Ｏ.Ｍ
H3: =曜日!B12 -> 令和元年 | M3: =曜日!C12 -> 10月 | P3: 2日 | S3: （ | T3: =曜日!D4 -> 水 | U3: ） | W3: 作成者 | Z3: ： | AA3: 大川 祥子
A5: 労務 状況 | D5: 勤務状況 | K5: 西舘 翔子 | P5: 日勤 | T5: 鷹架 叶未 | Y5: 日勤 | AC5: 大川 祥子 | AH5: 日勤 | AL5: 小屋敷 千瑛 | AP5: 日勤
A7: 入退院 状況 | D7: 入院形態 | K7: 東病棟 | Q7: 西病棟 | W7: 北病棟 | AC7: 南病棟 | AI7: 合計 | AO7: 総数
K8: 男性 | N8: 女性 | Q8: 男性 | T8: 女性 | W8: 男性 | Z8: 女性 | AC8: 男性 | AF8: 女性 | AI8: 男性 | AL8: 女性
D9: 任意入院 | K9: 1 | N9: 5 | Q9: 7 | T9: 10 | W9: 20 | Z9: 13 | AC9: 1 | AF9: 3 | AI9: =K9+Q9+W9+AC9 -> 29 | AL9: =N9+T9+Z9+AF9 -> 31 | AO9: =AI13 -> 179
D10: 医療保護入院 | K10: 25 | N10: 10 | Q10: 14 | T10: 13 | W10: 0 | Z10: 0 | AC10: 26 | AF10: 30 | AI10: =K10+Q10+W10+AC10 -> 65 | AL10: =N10+T10+Z10+AF10 -> 53
D11: 措置入院 | K11: 1 | N11: 0 | Q11: 0 | T11: 0 | W11: 0 | Z11: 0 | AC11: 0 | AF11: 0 | AI11: =K11+Q11+W11+AC11 -> 1 | AL11: =N11+T11+Z11+AF11 -> 0
D12: 合計 | K12: =K9+K10+K11 -> 27 | N12: =N9+N10+N11 -> 15 | Q12: =Q9+Q10+Q11 -> 21 | T12: =SUM(T9:V11) -> 23 | W12: =SUM(W9:Y11) -> 20 | Z12: =SUM(Z9:AB11) -> 13 | AC12: =SUM(AC9:AE11) -> 27 | AF12: =SUM(AF9:AH11) -> 33 | AI12: =SUM(K12+Q12+W12+AC12) -> 95 | AL12: =SUM(N12+T12+Z12+AF12) -> 84 | AO12: 人
K13: =K12+N12 -> 42 | Q13: =Q12+T12 -> 44 | W13: =W12+Z12 -> 33 | AC13: =AC12+AF12 -> 60 | AI13: =AI12+AL12 -> 179
F14: 患者様氏名 | N14: 入院形態 | T14: 担当Dr | Y14: 担当SW | AD14: 病棟 | AJ14: 備考欄
D15: 入院 | L15: 様
L16: 様
L17: 様
L18: 様
L19: 様
D20: 退院 | L20: 様
L21: 様
L22: 様
L23: 様
L24: 様
D25: 転棟 ･ 入院形態変更 | F25: 相馬 富久 | L25: 様 | N25: 任意入院 | T25: 金泰德Dr | Y25: 鷹架 叶未 | AJ25: 東B→西B
L26: 様
L27: 様
L28: 様
L29: 様
A30: 患者様 関連 | D30: 患者様氏名 | K30: 担当Dr | P30: 病棟 | S30: 制限内容 | X30: 制限時間 | AC30: 開始日時 | AO30: 備考
D31: 立花 圭 | I31: 様 | K31: 田名部茂Dr | P31: 東A | S31: 時間隔離 | X31: 時間隔離 | AC31: 令和 | AE31: 1 | AF31: 年 | AG31: 9 | AH31: 月 | AI31: 25 | AJ31: 日 | AL31: ： | AN31: ～
D32: 見付 龍矢 | I32: 様 | K32: 田名部茂Dr | P32: 東A | S32: 終日隔離 | X32: 終日隔離 | AC32: 令和 | AE32: 1 | AF32: 年 | AG32: 9 | AH32: 月 | AI32: 12 | AJ32: 日 | AL32: ： | AN32: ～
D33: 本堂 秀夫 | I33: 様 | K33: 馬渡晃弘Dr | P33: 南B | S33: 身体拘束 | X33: 身体拘束 | AC33: 令和 | AE33: 1 | AF33: 年 | AG33: 10 | AH33: 月 | AI33: 1 | AJ33: 日 | AL33: ： | AN33: ～
I34: 様 | AC34: 令和 | AF34: 年 | AH34: 月 | AJ34: 日 | AL34: ： | AN34: ～
I35: 様 | AC35: 令和 | AF35: 年 | AH35: 月 | AJ35: 日 | AL35: ： | AN35: ～
I36: 様 | AC36: 令和 | AF36: 年 | AH36: 月 | AJ36: 日 | AL36: ： | AN36: ～
I37: 様 | AC37: 令和 | AF37: 年 | AH37: 月 | AJ37: 日 | AL37: ： | AN37: ～
I38: 様 | AC38: 令和 | AF38: 年 | AH38: 月 | AJ38: 日 | AL38: ： | AN38: ～
I39: 様 | AC39: 令和 | AF39: 年 | AH39: 月 | AJ39: 日 | AL39: ： | AN39: ～
I40: 様 | AC40: 令和 | AF40: 年 | AH40: 月 | AJ40: 日 | AL40: ： | AN40: ～
I41: 様 | AC41: 令和 | AF41: 年 | AH41: 月 | AJ41: 日 | AL41: ： | AN41: ～
I42: 様 | AC42: 令和 | AF42: 年 | AH42: 月 | AJ42: 日 | AL42: ： | AN42: ～
I43: 様 | AC43: 令和 | AF43: 年 | AH43: 月 | AJ43: 日 | AL43: ： | AN43: ～
...

Sheet 3
A1: ソーシャルワーカー室 業務日誌 | AH1: C.O.O | AL1: I.O.O | AP1: Ａ.Ｏ.Ｍ
H3: =曜日!B12 -> 令和元年 | M3: =曜日!C12 -> 10月 | P3: 3日 | S3: （ | T3: =曜日!D5 -> 木 | U3: ） | W3: 作成者 | Z3: ： | AA3: 大川 祥子
A5: 労務 状況 | D5: 勤務状況 | K5: 西舘 翔子 | P5: 日勤 | T5: 鷹架 叶未 | Y5: 日勤 | AC5: 大川 祥子 | AH5: 日勤 | AL5: 小屋敷 千瑛
A7: 入退院 状況 | D7: 入院形態 | K7: 東病棟 | Q7: 西病棟 | W7: 北病棟 | AC7: 南病棟 | AI7: 合計 | AO7: 総数
K8: 男性 | N8: 女性 | Q8: 男性 | T8: 女性 | W8: 男性 | Z8: 女性 | AC8: 男性 | AF8: 女性 | AI8: 男性 | AL8: 女性
D9: 任意入院 | K9: 0 | N9: 6 | Q9: 8 | T9: 10 | W9: 20 | Z9: 13 | AC9: 1 | AF9: 3 | AI9: =K9+Q9+W9+AC9 -> 29 | AL9: =N9+T9+Z9+AF9 -> 32 | AO9: =AI13 -> 180
D10: 医療保護入院 | K10: 25 | N10: 10 | Q10: 14 | T10: 13 | W10: 0 | Z10: 0 | AC10: 26 | AF10: 30 | AI10: =K10+Q10+W10+AC10 -> 65 | AL10: =N10+T10+Z10+AF10 -> 53
D11: 措置入院 | K11: 1 | N11: 0 | Q11: 0 | T11: 0 | W11: 0 | Z11: 0 | AC11: 0 | AF11: 0 | AI11: =K11+Q11+W11+AC11 -> 1 | AL11: =N11+T11+Z11+AF11 -> 0
D12: 合計 | K12: =K9+K10+K11 -> 26 | N12: =N9+N10+N11 -> 16 | Q12: =Q9+Q10+Q11 -> 22 | T12: =SUM(T9:V11) -> 23 | W12: =SUM(W9:Y11) -> 20 | Z12: =SUM(Z9:AB11) -> 13 | AC12: =SUM(AC9:AE11) -> 27 | AF12: =SUM(AF9:AH11) -> 33 | AI12: =SUM(K12+Q12+W12+AC12) -> 95 | AL12: =SUM(N12+T12+Z12+AF12) -> 85 | AO12: 人
K13: =K12+N12 -> 42 | Q13: =Q12+T12 -> 45 | W13: =W12+Z12 -> 33 | AC13: =AC12+AF12 -> 60 | AI13: =AI12+AL12 -> 180
F14: 患者様氏名 | N14: 入院形態 | T14: 担当Dr | Y14: 担当SW | AD14: 病棟 | AJ14: 備考欄
D15: 入院 | F15: 小向 静江 | L15: 様 | N15: 任意入院 | T15: 田名部茂Dr | Y15: 鷹架 叶未 | AD15: 東合
L16: 様
L17: 様
L18: 様
L19: 様
D20: 退院 | L20: 様
L21: 様
L22: 様
L23: 様
L24: 様
D25: 転棟 ･ 入院形態変更 | F25: 平館 幸廣 | L25: 様 | N25: 任意入院 | T25: 馬渡晃弘Dr | Y25: 西舘 翔子 | AJ25: 東D→西A
L26: 様
L27: 様
L28: 様
L29: 様
A30: 患者様 関連 | D30: 患者様氏名 | K30: 担当Dr | P30: 病棟 | S30: 制限内容 | X30: 制限時間 | AC30: 開始日時 | AO30: 備考
D31: 立花 圭 | I31: 様 | K31: 田名部茂Dr | P31: 東A | S31: 時間隔離 | X31: 時間隔離 | AC31: 令和 | AE31: 1 | AF31: 年 | AG31: 9 | AH31: 月 | AI31: 25 | AJ31: 日 | AL31: ： | AN31: ～
D32: 見付 龍矢 | I32: 様 | K32: 田名部茂Dr | P32: 東A | S32: 終日隔離 | X32: 終日隔離 | AC32: 令和 | AE32: 1 | AF32: 年 | AG32: 9 | AH32: 月 | AI32: 12 | AJ32: 日 | AL32: ： | AN32: ～
D33: 本堂 秀夫 | I33: 様 | K33: 馬渡晃弘Dr | P33: 南B | S33: 身体拘束 | X33: 身体拘束 | AC33: 令和 | AE33: 1 | AF33: 年 | AG33: 10 | AH33: 月 | AI33: 1 | AJ33: 日 | AL33: ： | AN33: ～
I34: 様 | AC34: 令和 | AF34: 年 | AH34: 月 | AJ34: 日 | AL34: ： | AN34: ～
I35: 様 | AC35: 令和 | AF35: 年 | AH35: 月 | AJ35: 日 | AL35: ： | AN35: ～
I36: 様 | AC36: 令和 | AF36: 年 | AH36: 月 | AJ36: 日 | AL36: ： | AN36: ～
I37: 様 | AC37: 令和 | AF37: 年 | AH37: 月 | AJ37: 日 | AL37: ： | AN37: ～
I38: 様 | AC38: 令和 | AF38: 年 | AH38: 月 | AJ38: 日 | AL38: ： | AN38: ～
I39: 様 | AC39: 令和 | AF39: 年 | AH39: 月 | AJ39: 日 | AL39: ： | AN39: ～
I40: 様 | AC40: 令和 | AF40: 年 | AH40: 月 | AJ40: 日 | AL40: ： | AN40: ～
I41: 様 | AC41: 令和 | AF41: 年 | AH41: 月 | AJ41: 日 | AL41: ： | AN41: ～
I42: 様 | AC42: 令和 | AF42: 年 | AH42: 月 | AJ42: 日 | AL42: ： | AN42: ～
I43: 様 | AC43: 令和 | AF43: 年 | AH43: 月 | AJ43: 日 | AL43: ： | AN43: ～
...

Sheet 4
A1: ソーシャルワーカー室 業務日誌 | AH1: C.O.O | AL1: I.O.O | AP1: Ａ.Ｏ.Ｍ
H3: =曜日!B12 -> 令和元年 | M3: =曜日!C12 -> 10月 | P3: 4日 | S3: （ | T3: =曜日!D6 -> 金 | U3: ） | W3: 作成者 | Z3: ： | AA3: 大川 祥子
A5: 労務 状況 | D5: 勤務状況 | K5: 西舘 翔子 | P5: 日勤 | T5: 鷹架 叶未 | Y5: 日勤 | AC5: 大川 祥子 | AH5: 日勤 | AL5: 小屋敷 千瑛
A7: 入退院 状況 | D7: 入院形態 | K7: 東病棟 | Q7: 西病棟 | W7: 北病棟 | AC7: 南病棟 | AI7: 合計 | AO7: 総数
K8: 男性 | N8: 女性 | Q8: 男性 | T8: 女性 | W8: 男性 | Z8: 女性 | AC8: 男性 | AF8: 女性 | AI8: 男性 | AL8: 女性
D9: 任意入院 | K9: 0 | N9: 6 | Q9: 8 | T9: 10 | W9: 20 | Z9: 13 | AC9: 1 | AF9: 3 | AI9: =K9+Q9+W9+AC9 -> 29 | AL9: =N9+T9+Z9+AF9 -> 32 | AO9: =AI13 -> 181
D10: 医療保護入院 | K10: 26 | N10: 10 | Q10: 14 | T10: 13 | W10: 0 | Z10: 0 | AC10: 26 | AF10: 30 | AI10: =K10+Q10+W10+AC10 -> 66 | AL10: =N10+T10+Z10+AF10 -> 53
D11: 措置入院 | K11: 1 | N11: 0 | Q11: 0 | T11: 0 | W11: 0 | Z11: 0 | AC11: 0 | AF11: 0 | AI11: =K11+Q11+W11+AC11 -> 1 | AL11: =N11+T11+Z11+AF11 -> 0
D12: 合計 | K12: =K9+K10+K11 -> 27 | N12: =N9+N10+N11 -> 16 | Q12: =Q9+Q10+Q11 -> 22 | T12: =SUM(T9:V11) -> 23 | W12: =SUM(W9:Y11) -> 20 | Z12: =SUM(Z9:AB11) -> 13 | AC12: =SUM(AC9:AE11) -> 27 | AF12: =SUM(AF9:AH11) -> 33 | AI12: =SUM(K12+Q12+W12+AC12) -> 96 | AL12: =SUM(N12+T12+Z12+AF12) -> 85 | AO12: 人
K13: =K12+N12 -> 43 | Q13: =Q12+T12 -> 45 | W13: =W12+Z12 -> 33 | AC13: =AC12+AF12 -> 60 | AI13: =AI12+AL12 -> 181
F14: 患者様氏名 | N14: 入院形態 | T14: 担当Dr | Y14: 担当SW | AD14: 病棟 | AJ14: 備考欄
D15: 入院 | F15: 楢山 金藏 | L15: 様 | N15: 医療保護入院 | T15: 馬渡晃弘Dr | Y15: 大川 祥子 | AD15: 東C
L16: 様
L17: 様
L18: 様
L19: 様
D20: 退院 | L20: 様
L21: 様
L22: 様
L23: 様
L24: 様
D25: 転棟 ･ 入院形態変更 | L25: 様
L26: 様
L27: 様
L28: 様
L29: 様
A30: 患者様 関連 | D30: 患者様氏名 | K30: 担当Dr | P30: 病棟 | S30: 制限内容 | X30: 制限時間 | AC30: 開始日時 | AO30: 備考
D31: 立花 圭 | I31: 様 | K31: 田名部茂Dr | P31: 東A | S31: 時間隔離 | X31: 時間隔離 | AC31: 令和 | AE31: 1 | AF31: 年 | AG31: 9 | AH31: 月 | AI31: 25 | AJ31: 日 | AL31: ： | AN31: ～
D32: 見付 龍矢 | I32: 様 | K32: 田名部茂Dr | P32: 東A | S32: 終日隔離 | X32: 終日隔離 | AC32: 令和 | AE32: 1 | AF32: 年 | AG32: 9 | AH32: 月 | AI32: 12 | AJ32: 日 | AL32: ： | AN32: ～
D33: 本堂 秀夫 | I33: 様 | K33: 馬渡晃弘Dr | P33: 南B | S33: 身体拘束 | X33: 身体拘束 | AC33: 令和 | AE33: 1 | AF33: 年 | AG33: 10 | AH33: 月 | AI33: 1 | AJ33: 日 | AL33: ： | AN33: ～
D34: 澤村 彬 | I34: 様 | K34: 田名部茂Dr | P34: 東A | S34: 終日隔離 | X34: 終日隔離 | AC34: 令和 | AE34: 1 | AF34: 年 | AG34: 7 | AH34: 月 | AI34: 15 | AJ34: 日 | AL34: ： | AN34: ～
I35: 様 | AC35: 令和 | AF35: 年 | AH35: 月 | AJ35: 日 | AL35: ： | AN35: ～
I36: 様 | AC36: 令和 | AF36: 年 | AH36: 月 | AJ36: 日 | AL36: ： | AN36: ～
I37: 様 | AC37: 令和 | AF37: 年 | AH37: 月 | AJ37: 日 | AL37: ： | AN37: ～
I38: 様 | AC38: 令和 | AF38: 年 | AH38: 月 | AJ38: 日 | AL38: ： | AN38: ～
I39: 様 | AC39: 令和 | AF39: 年 | AH39: 月 | AJ39: 日 | AL39: ： | AN39: ～
I40: 様 | AC40: 令和 | AF40: 年 | AH40: 月 | AJ40: 日 | AL40: ： | AN40: ～
I41: 様 | AC41: 令和 | AF41: 年 | AH41: 月 | AJ41: 日 | AL41: ： | AN41: ～
I42: 様 | AC42: 令和 | AF42: 年 | AH42: 月 | AJ42: 日 | AL42: ： | AN42: ～
I43: 様 | AC43: 令和 | AF43: 年 | AH43: 月 | AJ43: 日 | AL43: ： | AN43: ～
...

Sheet 5
A1: ソーシャルワーカー室 業務日誌 | AH1: C.O.O | AL1: I.O.O | AP1: Ａ.Ｏ.Ｍ
H3: =曜日!B12 -> 令和元年 | M3: =曜日!C12 -> 10月 | P3: 5日 | S3: （ | T3: =曜日!D7 -> 土 | U3: ） | W3: 作成者 | Z3: ： | AA3: 鷹架 叶未
A5: 労務 状況 | D5: 勤務状況 | K5: 西舘 翔子 | P5: 日勤 | T5: 鷹架 叶未 | Y5: 日勤 | AC5: 大川 祥子 | AH5: 公休 | AL5: 小屋敷 千瑛 | AP5: 日勤
A7: 入退院 状況 | D7: 入院形態 | K7: 東病棟 | Q7: 西病棟 | W7: 北病棟 | AC7: 南病棟 | AI7: 合計 | AO7: 総数
K8: 男性 | N8: 女性 | Q8: 男性 | T8: 女性 | W8: 男性 | Z8: 女性 | AC8: 男性 | AF8: 女性 | AI8: 男性 | AL8: 女性
D9: 任意入院 | K9: 0 | N9: 6 | Q9: 7 | T9: 10 | W9: 21 | Z9: 13 | AC9: 1 | AF9: 3 | AI9: =K9+Q9+W9+AC9 -> 29 | AL9: =N9+T9+Z9+AF9 -> 32 | AO9: =AI13 -> 181
D10: 医療保護入院 | K10: 26 | N10: 10 | Q10: 14 | T10: 13 | W10: 0 | Z10: 0 | AC10: 26 | AF10: 30 | AI10: =K10+Q10+W10+AC10 -> 66 | AL10: =N10+T10+Z10+AF10 -> 53
D11: 措置入院 | K11: 1 | N11: 0 | Q11: 0 | T11: 0 | W11: 0 | Z11: 0 | AC11: 0 | AF11: 0 | AI11: =K11+Q11+W11+AC11 -> 1 | AL11: =N11+T11+Z11+AF11 -> 0
D12: 合計 | K12: =K9+K10+K11 -> 27 | N12: =N9+N10+N11 -> 16 | Q12: =Q9+Q10+Q11 -> 21 | T12: =SUM(T9:V11) -> 23 | W12: =SUM(W9:Y11) -> 21 | Z12: =SUM(Z9:AB11) -> 13 | AC12: =SUM(AC9:AE11) -> 27 | AF12: =SUM(AF9:AH11) -> 33 | AI12: =SUM(K12+Q12+W12+AC12) -> 96 | AL12: =SUM(N12+T12+Z12+AF12) -> 85 | AO12: 人
K13: =K12+N12 -> 43 | Q13: =Q12+T12 -> 44 | W13: =W12+Z12 -> 34 | AC13: =AC12+AF12 -> 60 | AI13: =AI12+AL12 -> 181
F14: 患者様氏名 | N14: 入院形態 | T14: 担当Dr | Y14: 担当SW | AD14: 病棟 | AJ14: 備考欄
D15: 入院 | L15: 様
L16: 様
L17: 様
L18: 様
L19: 様
D20: 退院 | L20: 様
L21: 様
L22: 様
L23: 様
L24: 様
D25: 転棟 ･ 入院形態変更 | F25: 戸賀沢 潔 | L25: 様 | N25: 任意入院 | T25: 馬渡晃弘Dr | Y25: 鷹架 叶未 | AJ25: 西B→北
L26: 様
L27: 様
L28: 様
L29: 様
A30: 患者様 関連 | D30: 患者様氏名 | K30: 担当Dr | P30: 病棟 | S30: 制限内容 | X30: 制限時間 | AC30: 開始日時 | AO30: 備考
D31: 立花 圭 | I31: 様 | K31: 田名部茂Dr | P31: 東A | S31: 時間隔離 | X31: 時間隔離 | AC31: 令和 | AE31: 1 | AF31: 年 | AG31: 9 | AH31: 月 | AI31: 25 | AJ31: 日 | AL31: ： | AN31: ～
D32: 見付 龍矢 | I32: 様 | K32: 田名部茂Dr | P32: 東A | S32: 終日隔離 | X32: 終日隔離 | AC32: 令和 | AE32: 1 | AF32: 年 | AG32: 9 | AH32: 月 | AI32: 12 | AJ32: 日 | AL32: ： | AN32: ～
D33: 本堂 秀夫 | I33: 様 | K33: 馬渡晃弘Dr | P33: 南B | S33: 身体拘束 | X33: 身体拘束 | AC33: 令和 | AE33: 1 | AF33: 年 | AG33: 10 | AH33: 月 | AI33: 1 | AJ33: 日 | AL33: ： | AN33: ～ | AO33: 解除
D34: 澤村 彬 | I34: 様 | K34: 田名部茂Dr | P34: 東A | S34: 終日隔離 | X34: 終日隔離 | AC34: 令和 | AE34: 1 | AF34: 年 | AG34: 7 | AH34: 月 | AI34: 15 | AJ34: 日 | AL34: ： | AN34: ～
I35: 様 | AC35: 令和 | AF35: 年 | AH35: 月 | AJ35: 日 | AL35: ： | AN35: ～
I36: 様 | AC36: 令和 | AF36: 年 | AH36: 月 | AJ36: 日 | AL36: ： | AN36: ～
I37: 様 | AC37: 令和 | AF37: 年 | AH37: 月 | AJ37: 日 | AL37: ： | AN37: ～
I38: 様 | AC38: 令和 | AF38: 年 | AH38: 月 | AJ38: 日 | AL38: ： | AN38: ～
I39: 様 | AC39: 令和 | AF39: 年 | AH39: 月 | AJ39: 日 | AL39: ： | AN39: ～
I40: 様 | AC40: 令和 | AF40: 年 | AH40: 月 | AJ40: 日 | AL40: ： | AN40: ～
I41: 様 | AC41: 令和 | AF41: 年 | AH41: 月 | AJ41: 日 | AL41: ： | AN41: ～
I42: 様 | AC42: 令和 | AF42: 年 | AH42: 月 | AJ42: 日 | AL42: ： | AN42: ～
I43: 様 | AC43: 令和 | AF43: 年 | AH43: 月 | AJ43: 日 | AL43: ： | AN43: ～
...

Sheet 6
A1: ソーシャルワーカー室 業務日誌 | AH1: C.O.O | AL1: I.O.O | AP1: Ａ.Ｏ.Ｍ
H3: =曜日!B12 -> 令和元年 | M3: =曜日!C12 -> 10月 | P3: 6日 | S3: （ | T3: =曜日!D8 -> 日 | U3: ） | W3: 作成者 | Z3: ： | AA3: 大川 祥子
A5: 労務 状況 | D5: 勤務状況 | K5: 西舘 翔子 | P5: 公休 | T5: 鷹架 叶未 | Y5: 公休 | AC5: 大川 祥子 | AH5: 公休 | AL5: 小屋敷 千瑛 | AP5: 公休
A7: 入退院 状況 | D7: 入院形態 | K7: 東病棟 | Q7: 西病棟 | W7: 北病棟 | AC7: 南病棟 | AI7: 合計 | AO7: 総数
K8: 男性 | N8: 女性 | Q8: 男性 | T8: 女性 | W8: 男性 | Z8: 女性 | AC8: 男性 | AF8: 女性 | AI8: 男性 | AL8: 女性
D9: 任意入院 | K9: 0 | N9: 6 | Q9: 7 | T9: 10 | W9: 21 | Z9: 13 | AC9: 1 | AF9: 3 | AI9: =K9+Q9+W9+AC9 -> 29 | AL9: =N9+T9+Z9+AF9 -> 32 | AO9: =AI13 -> 181
D10: 医療保護入院 | K10: 26 | N10: 10 | Q10: 14 | T10: 13 | W10: 0 | Z10: 0 | AC10: 26 | AF10: 30 | AI10: =K10+Q10+W10+AC10 -> 66 | AL10: =N10+T10+Z10+AF10 -> 53
D11: 措置入院 | K11: 1 | N11: 0 | Q11: 0 | T11: 0 | W11: 0 | Z11: 0 | AC11: 0 | AF11: 0 | AI11: =K11+Q11+W11+AC11 -> 1 | AL11: =N11+T11+Z11+AF11 -> 0
D12: 合計 | K12: =K9+K10+K11 -> 27 | N12: =N9+N10+N11 -> 16 | Q12: =Q9+Q10+Q11 -> 21 | T12: =SUM(T9:V11) -> 23 | W12: =SUM(W9:Y11) -> 21 | Z12: =SUM(Z9:AB11) -> 13 | AC12: =SUM(AC9:AE11) -> 27 | AF12: =SUM(AF9:AH11) -> 33 | AI12: =SUM(K12+Q12+W12+AC12) -> 96 | AL12: =SUM(N12+T12+Z12+AF12) -> 85 | AO12: 人
K13: =K12+N12 -> 43 | Q13: =Q12+T12 -> 44 | W13: =W12+Z12 -> 34 | AC13: =AC12+AF12 -> 60 | AI13: =AI12+AL12 -> 181
F14: 患者様氏名 | N14: 入院形態 | T14: 担当Dr | Y14: 担当SW | AD14: 病棟 | AJ14: 備考欄
D15: 入院 | L15: 様
L16: 様
L17: 様
L18: 様
L19: 様
D20: 退院 | L20: 様
L21: 様
L22: 様
L23: 様
L24: 様
D25: 転棟 ･ 入院形態変更 | L25: 様
L26: 様
L27: 様
L28: 様
L29: 様
A30: 患者様 関連 | D30: 患者様氏名 | K30: 担当Dr | P30: 病棟 | S30: 制限内容 | X30: 制限時間 | AC30: 開始日時 | AO30: 備考
D31: 立花 圭 | I31: 様 | K31: 田名部茂Dr | P31: 東A | S31: 時間隔離 | X31: 時間隔離 | AC31: 令和 | AE31: 1 | AF31: 年 | AG31: 9 | AH31: 月 | AI31: 25 | AJ31: 日 | AL31: ： | AN31: ～
D32: 見付 龍矢 | I32: 様 | K32: 田名部茂Dr | P32: 東A | S32: 終日隔離 | X32: 終日隔離 | AC32: 令和 | AE32: 1 | AF32: 年 | AG32: 9 | AH32: 月 | AI32: 12 | AJ32: 日 | AL32: ： | AN32: ～
D33: 澤村 彬 | I33: 様 | K33: 田名部茂Dr | P33: 東A | S33: 終日隔離 | X33: 終日隔離 | AC33: 令和 | AE33: 1 | AF33: 年 | AG33: 7 | AH33: 月 | AI33: 15 | AJ33: 日 | AL33: ： | AN33: ～
I34: 様 | AC34: 令和 | AF34: 年 | AH34: 月 | AJ34: 日 | AL34: ： | AN34: ～
I35: 様 | AC35: 平成 | AF35: 年 | AH35: 月 | AJ35: 日 | AL35: ： | AN35: ～
I36: 様 | AC36: 平成 | AF36: 年 | AH36: 月 | AJ36: 日 | AL36: ： | AN36: ～
I37: 様 | AC37: 平成 | AF37: 年 | AH37: 月 | AJ37: 日 | AL37: ： | AN37: ～
I38: 様 | AC38: 平成 | AF38: 年 | AH38: 月 | AJ38: 日 | AL38: ： | AN38: ～
I39: 様 | AC39: 平成 | AF39: 年 | AH39: 月 | AJ39: 日 | AL39: ： | AN39: ～
I40: 様 | AC40: 平成 | AF40: 年 | AH40: 月 | AJ40: 日 | AL40: ： | AN40: ～
I41: 様 | AC41: 平成 | AF41: 年 | AH41: 月 | AJ41: 日 | AL41: ： | AN41: ～
I42: 様 | AC42: 平成 | AF42: 年 | AH42: 月 | AJ42: 日 | AL42: ： | AN42: ～
I43: 様 | AC43: 平成 | AF43: 年 | AH43: 月 | AJ43: 日 | AL43: ： | AN43: ～
...

Sheet 7
A1: ソーシャルワーカー室 業務日誌 | AH1: C.O.O | AL1: I.O.O | AP1: Ａ.Ｏ.Ｍ
H3: =曜日!B12 -> 令和元年 | M3: =曜日!C12 -> 10月 | P3: 7日 | S3: （ | T3: =曜日!D9 -> 月 | U3: ） | W3: 作成者 | Z3: ： | AA3: 鷹架 叶未
A5: 労務 状況 | D5: 勤務状況 | K5: 西舘 翔子 | P5: 公休 | T5: 鷹架 叶未 | Y5: 日勤 | AC5: 大川 祥子 | AH5: 公休 | AL5: 小屋敷 千瑛 | AP5: 日勤
A7: 入退院 状況 | D7: 入院形態 | K7: 東病棟 | Q7: 西病棟 | W7: 北病棟 | AC7: 南病棟 | AI7: 合計 | AO7: 総数
K8: 男性 | N8: 女性 | Q8: 男性 | T8: 女性 | W8: 男性 | Z8: 女性 | AC8: 男性 | AF8: 女性 | AI8: 男性 | AL8: 女性
D9: 任意入院 | K9: 0 | N9: 8 | Q9: 7 | T9: 9 | W9: 21 | Z9: 11 | AC9: 1 | AF9: 3 | AI9: =K9+Q9+W9+AC9 -> 29 | AL9: =N9+T9+Z9+AF9 -> 31 | AO9: =AI13 -> 179
D10: 医療保護入院 | K10: 26 | N10: 10 | Q10: 14 | T10: 13 | W10: 0 | Z10: 0 | AC10: 26 | AF10: 29 | AI10: =K10+Q10+W10+AC10 -> 66 | AL10: =N10+T10+Z10+AF10 -> 52
D11: 措置入院 | K11: 1 | N11: 0 | Q11: 0 | T11: 0 | W11: 0 | Z11: 0 | AC11: 0 | AF11: 0 | AI11: =K11+Q11+W11+AC11 -> 1 | AL11: =N11+T11+Z11+AF11 -> 0
D12: 合計 | K12: =K9+K10+K11 -> 27 | N12: =N9+N10+N11 -> 18 | Q12: =Q9+Q10+Q11 -> 21 | T12: =SUM(T9:V11) -> 22 | W12: =SUM(W9:Y11) -> 21 | Z12: =SUM(Z9:AB11) -> 11 | AC12: =SUM(AC9:AE11) -> 27 | AF12: =SUM(AF9:AH11) -> 32 | AI12: =SUM(K12+Q12+W12+AC12) -> 96 | AL12: =SUM(N12+T12+Z12+AF12) -> 83 | AO12: 人
K13: =K12+N12 -> 45 | Q13: =Q12+T12 -> 43 | W13: =W12+Z12 -> 32 | AC13: =AC12+AF12 -> 59 | AI13: =AI12+AL12 -> 179
F14: 患者様氏名 | N14: 入院形態 | T14: 担当Dr | Y14: 担当SW | AD14: 病棟 | AJ14: 備考欄
D15: 入院 | L15: 様
L16: 様
L17: 様
L18: 様
L19: 様
D20: 退院 | F20: 北村 サクラ | L20: 様 | N20: 医療保護入院 | T20: 田名部茂Dr | Y20: 大川 祥子 | AD20: 南D
F21: 岩舘 静子 | L21: 様 | N21: 任意入院 | T21: 金泰德Dr | Y21: 西舘 翔子 | AD21: 東D
L22: 様
L23: 様
L24: 様
D25: 転棟 ･ 入院形態変更 | F25: 高田 マキ | L25: 様 | N25: 任意入院 | T25: 田名部茂Dr | Y25: 西舘 翔子 | AD25: 北→東B
F26: 松谷 さと子 | L26: 様 | N26: 任意入院 | T26: 深澤隆Dr | Y26: 鷹架 叶未 | AD26: 北→東A
F27: 若松 澄子 | L27: 様 | N27: 任意入院 | T27: 深澤隆Dr | Y27: 鷹架 叶未 | AD27: 西B→東合
L28: 様
L29: 様
A30: 患者様 関連 | D30: 患者様氏名 | K30: 担当Dr | P30: 病棟 | S30: 制限内容 | X30: 制限時間 | AC30: 開始日時 | AO30: 備考
D31: 立花 圭 | I31: 様 | K31: 田名部茂Dr | P31: 東A | S31: 時間隔離 | X31: 時間隔離 | AC31: 令和 | AE31: 1 | AF31: 年 | AG31: 9 | AH31: 月 | AI31: 25 | AJ31: 日 | AL31: ： | AN31: ～
D32: 見付 龍矢 | I32: 様 | K32: 田名部茂Dr | P32: 東A | S32: 終日隔離 | X32: 終日隔離 | AC32: 令和 | AE32: 1 | AF32: 年 | AG32: 9 | AH32: 月 | AI32: 12 | AJ32: 日 | AL32: ： | AN32: ～
D33: 澤村 彬 | I33: 様 | K33: 田名部茂Dr | P33: 東A | S33: 終日隔離 | X33: 終日隔離 | AC33: 令和 | AE33: 1 | AF33: 年 | AG33: 7 | AH33: 月 | AI33: 15 | AJ33: 日 | AL33: ： | AN33: ～
I34: 様 | AC34: 平成 | AF34: 年 | AH34: 月 | AJ34: 日 | AL34: ： | AN34: ～
I35: 様 | AC35: 平成 | AF35: 年 | AH35: 月 | AJ35: 日 | AL35: ： | AN35: ～
I36: 様 | AC36: 平成 | AF36: 年 | AH36: 月 | AJ36: 日 | AL36: ： | AN36: ～
I37: 様 | AC37: 平成 | AF37: 年 | AH37: 月 | AJ37: 日 | AL37: ： | AN37: ～
I38: 様 | AC38: 平成 | AF38: 年 | AH38: 月 | AJ38: 日 | AL38: ： | AN38: ～
I39: 様 | AC39: 平成 | AF39: 年 | AH39: 月 | AJ39: 日 | AL39: ： | AN39: ～
I40: 様 | AC40: 平成 | AF40: 年 | AH40: 月 | AJ40: 日 | AL40: ： | AN40: ～
I41: 様 | AC41: 平成 | AF41: 年 | AH41: 月 | AJ41: 日 | AL41: ： | AN41: ～
I42: 様 | AC42: 平成 | AF42: 年 | AH42: 月 | AJ42: 日 | AL42: ： | AN42: ～
I43: 様 | AC43: 平成 | AF43: 年 | AH43: 月 | AJ43: 日 | AL43: ： | AN43: ～
...

Sheet 8
A1: ソーシャルワーカー室 業務日誌 | AH1: C.O.O | AL1: I.O.O | AP1: Ａ.Ｏ.Ｍ
H3: =曜日!B12 -> 令和元年 | M3: =曜日!C12 -> 10月 | P3: 8日 | S3: （ | T3: =曜日!D3 -> 火 | U3: ） | W3: 作成者 | Z3: ： | AA3: 鷹架 叶未
A5: 労務 状況 | D5: 勤務状況 | K5: 西舘 翔子 | P5: 日勤 | T5: 鷹架 叶未 | Y5: 日勤 | AC5: 大川 祥子 | AH5: 日勤 | AL5: 小屋敷 千瑛 | AP5: 日勤
A7: 入退院 状況 | D7: 入院形態 | K7: 東病棟 | Q7: 西病棟 | W7: 北病棟 | AC7: 南病棟 | AI7: 合計 | AO7: 総数
K8: 男性 | N8: 女性 | Q8: 男性 | T8: 女性 | W8: 男性 | Z8: 女性 | AC8: 男性 | AF8: 女性 | AI8: 男性 | AL8: 女性
D9: 任意入院 | K9: 0 | N9: 8 | Q9: 7 | T9: 9 | W9: 21 | Z9: 11 | AC9: 1 | AF9: 3 | AI9: =K9+Q9+W9+AC9 -> 29 | AL9: =N9+T9+Z9+AF9 -> 31 | AO9: =AI13 -> 178
D10: 医療保護入院 | K10: 25 | N10: 8 | Q10: 14 | T10: 14 | W10: 0 | Z10: 0 | AC10: 26 | AF10: 30 | AI10: =K10+Q10+W10+AC10 -> 65 | AL10: =N10+T10+Z10+AF10 -> 52
D11: 措置入院 | K11: 1 | N11: 0 | Q11: 0 | T11: 0 | W11: 0 | Z11: 0 | AC11: 0 | AF11: 0 | AI11: =K11+Q11+W11+AC11 -> 1 | AL11: =N11+T11+Z11+AF11 -> 0
D12: 合計 | K12: =K9+K10+K11 -> 26 | N12: =N9+N10+N11 -> 16 | Q12: =Q9+Q10+Q11 -> 21 | T12: =SUM(T9:V11) -> 23 | W12: =SUM(W9:Y11) -> 21 | Z12: =SUM(Z9:AB11) -> 11 | AC12: =SUM(AC9:AE11) -> 27 | AF12: =SUM(AF9:AH11) -> 33 | AI12: =SUM(K12+Q12+W12+AC12) -> 95 | AL12: =SUM(N12+T12+Z12+AF12) -> 83 | AO12: 人
K13: =K12+N12 -> 42 | Q13: =Q12+T12 -> 44 | W13: =W12+Z12 -> 32 | AC13: =AC12+AF12 -> 60 | AI13: =AI12+AL12 -> 178
F14: 患者様氏名 | N14: 入院形態 | T14: 担当Dr | Y14: 担当SW | AD14: 病棟 | AJ14: 備考欄
D15: 入院 | L15: 様
L16: 様
L17: 様
L18: 様
L19: 様
D20: 退院 | F20: 千葉 恒義 | L20: 様 | N20: 医療保護入院 | T20: 深澤隆Dr | Y20: 鷹架 叶未 | AD20: 東合
L21: 様
L22: 様
L23: 様
L24: 様
D25: 転棟 ･ 入院形態変更 | F25: 田村 真紀子 | L25: 様 | N25: 医療保護入院 | T25: 安ヶ平忠也Dr | Y25: 鷹架 叶未 | AD25: 東B→西B
F26: 久喜 つき | L26: 様 | N26: 医療保護入院 | T26: 深澤隆Dr | Y26: 大川 祥子 | AD26: 東C→南D
L27: 様
L28: 様
L29: 様
A30: 患者様 関連 | D30: 患者様氏名 | K30: 担当Dr | P30: 病棟 | S30: 制限内容 | X30: 制限時間 | AC30: 開始日時 | AO30: 備考
D31: 立花 圭 | I31: 様 | K31: 田名部茂Dr | P31: 東A | S31: 時間隔離 | X31: 時間隔離 | AC31: 令和 | AE31: 1 | AF31: 年 | AG31: 9 | AH31: 月 | AI31: 25 | AJ31: 日 | AL31: ： | AN31: ～
D32: 見付 龍矢 | I32: 様 | K32: 田名部茂Dr | P32: 東A | S32: 終日隔離 | X32: 終日隔離 | AC32: 令和 | AE32: 1 | AF32: 年 | AG32: 9 | AH32: 月 | AI32: 12 | AJ32: 日 | AL32: ： | AN32: ～
D33: 澤村 彬 | I33: 様 | K33: 田名部茂Dr | P33: 東A | S33: 終日隔離 | X33: 終日隔離 | AC33: 令和 | AE33: 1 | AF33: 年 | AG33: 7 | AH33: 月 | AI33: 15 | AJ33: 日 | AL33: ： | AN33: ～
I34: 様 | AC34: 平成 | AF34: 年 | AH34: 月 | AJ34: 日 | AL34: ： | AN34: ～
I35: 様 | AC35: 平成 | AF35: 年 | AH35: 月 | AJ35: 日 | AL35: ： | AN35: ～
I36: 様 | AC36: 平成 | AF36: 年 | AH36: 月 | AJ36: 日 | AL36: ： | AN36: ～
I37: 様 | AC37: 平成 | AF37: 年 | AH37: 月 | AJ37: 日 | AL37: ： | AN37: ～
I38: 様 | AC38: 平成 | AF38: 年 | AH38: 月 | AJ38: 日 | AL38: ： | AN38: ～
I39: 様 | AC39: 平成 | AF39: 年 | AH39: 月 | AJ39: 日 | AL39: ： | AN39: ～
I40: 様 | AC40: 平成 | AF40: 年 | AH40: 月 | AJ40: 日 | AL40: ： | AN40: ～
I41: 様 | AC41: 平成 | AF41: 年 | AH41: 月 | AJ41: 日 | AL41: ： | AN41: ～
I42: 様 | AC42: 平成 | AF42: 年 | AH42: 月 | AJ42: 日 | AL42: ： | AN42: ～
I43: 様 | AC43: 平成 | AF43: 年 | AH43: 月 | AJ43: 日 | AL43: ： | AN43: ～
...

Sheet 9
A1: ソーシャルワーカー室 業務日誌 | AH1: C.O.O | AL1: I.O.O | AP1: Ａ.Ｏ.Ｍ
H3: =曜日!B12 -> 令和元年 | M3: =曜日!C12 -> 10月 | P3: 9日 | S3: （ | T3: =曜日!D4 -> 水 | U3: ） | W3: 作成者 | Z3: ： | AA3: 鷹架 叶未
A5: 労務 状況 | D5: 勤務状況 | K5: 西舘 翔子 | P5: 日勤 | T5: 鷹架 叶未 | Y5: 日勤 | AC5: 大川 祥子 | AH5: 日勤 | AL5: 小屋敷 千瑛 | AP5: 日勤
A7: 入退院 状況 | D7: 入院形態 | K7: 東病棟 | Q7: 西病棟 | W7: 北病棟 | AC7: 南病棟 | AI7: 合計 | AO7: 総数
K8: 男性 | N8: 女性 | Q8: 男性 | T8: 女性 | W8: 男性 | Z8: 女性 | AC8: 男性 | AF8: 女性 | AI8: 男性 | AL8: 女性
D9: 任意入院 | K9: 1 | N9: 8 | Q9: 7 | T9: 10 | W9: 21 | Z9: 11 | AC9: 1 | AF9: 3 | AI9: =K9+Q9+W9+AC9 -> 30 | AL9: =N9+T9+Z9+AF9 -> 32 | AO9: =AI13 -> 179
D10: 医療保護入院 | K10: 25 | N10: 8 | Q10: 14 | T10: 13 | W10: 0 | Z10: 0 | AC10: 26 | AF10: 30 | AI10: =K10+Q10+W10+AC10 -> 65 | AL10: =N10+T10+Z10+AF10 -> 51
D11: 措置入院 | K11: 1 | N11: 0 | Q11: 0 | T11: 0 | W11: 0 | Z11: 0 | AC11: 0 | AF11: 0 | AI11: =K11+Q11+W11+AC11 -> 1 | AL11: =N11+T11+Z11+AF11 -> 0
D12: 合計 | K12: =K9+K10+K11 -> 27 | N12: =N9+N10+N11 -> 16 | Q12: =Q9+Q10+Q11 -> 21 | T12: =SUM(T9:V11) -> 23 | W12: =SUM(W9:Y11) -> 21 | Z12: =SUM(Z9:AB11) -> 11 | AC12: =SUM(AC9:AE11) -> 27 | AF12: =SUM(AF9:AH11) -> 33 | AI12: =SUM(K12+Q12+W12+AC12) -> 96 | AL12: =SUM(N12+T12+Z12+AF12) -> 83 | AO12: 人
K13: =K12+N12 -> 43 | Q13: =Q12+T12 -> 44 | W13: =W12+Z12 -> 32 | AC13: =AC12+AF12 -> 60 | AI13: =AI12+AL12 -> 179
F14: 患者様氏名 | N14: 入院形態 | T14: 担当Dr | Y14: 担当SW | AD14: 病棟 | AJ14: 備考欄
D15: 入院 | F15: 角濱 義弘 | L15: 様 | N15: 任意入院 | T15: 金泰德Dr | AD15: 東B
L16: 様
L17: 様
L18: 様
L19: 様
D20: 退院 | L20: 様
L21: 様
L22: 様
L23: 様
L24: 様
D25: 転棟 ･ 入院形態変更 | F25: 坂本 福子 | L25: 様 | N25: 任意入院 | T25: 金泰德Dr | Y25: 鷹架 叶未 | AD25: 西B | AJ25: 医療保護→任意
L26: 様
L27: 様
L28: 様
L29: 様
A30: 患者様 関連 | D30: 患者様氏名 | K30: 担当Dr | P30: 病棟 | S30: 制限内容 | X30: 制限時間 | AC30: 開始日時 | AO30: 備考
D31: 立花 圭 | I31: 様 | K31: 田名部茂Dr | P31: 東A | S31: 時間隔離 | X31: 時間隔離 | AC31: 令和 | AE31: 1 | AF31: 年 | AG31: 9 | AH31: 月 | AI31: 25 | AJ31: 日 | AL31: ： | AN31: ～
D32: 見付 龍矢 | I32: 様 | K32: 田名部茂Dr | P32: 東A | S32: 終日隔離 | X32: 終日隔離 | AC32: 令和 | AE32: 1 | AF32: 年 | AG32: 9 | AH32: 月 | AI32: 12 | AJ32: 日 | AL32: ： | AN32: ～
D33: 澤村 彬 | I33: 様 | K33: 田名部茂Dr | P33: 東A | S33: 終日隔離 | X33: 終日隔離 | AC33: 令和 | AE33: 1 | AF33: 年 | AG33: 7 | AH33: 月 | AI33: 15 | AJ33: 日 | AL33: ： | AN33: ～
I34: 様 | AC34: 平成 | AF34: 年 | AH34: 月 | AJ34: 日 | AL34: ： | AN34: ～
I35: 様 | AC35: 平成 | AF35: 年 | AH35: 月 | AJ35: 日 | AL35: ： | AN35: ～
I36: 様 | AC36: 平成 | AF36: 年 | AH36: 月 | AJ36: 日 | AL36: ： | AN36: ～
I37: 様 | AC37: 平成 | AF37: 年 | AH37: 月 | AJ37: 日 | AL37: ： | AN37: ～
I38: 様 | AC38: 平成 | AF38: 年 | AH38: 月 | AJ38: 日 | AL38: ： | AN38: ～
I39: 様 | AC39: 平成 | AF39: 年 | AH39: 月 | AJ39: 日 | AL39: ： | AN39: ～
I40: 様 | AC40: 平成 | AF40: 年 | AH40: 月 | AJ40: 日 | AL40: ： | AN40: ～
I41: 様 | AC41: 平成 | AF41: 年 | AH41: 月 | AJ41: 日 | AL41: ： | AN41: ～
I42: 様 | AC42: 平成 | AF42: 年 | AH42: 月 | AJ42: 日 | AL42: ： | AN42: ～
I43: 様 | AC43: 平成 | AF43: 年 | AH43: 月 | AJ43: 日 | AL43: ： | AN43: ～
...

Sheet 10
A1: ソーシャルワーカー室 業務日誌 | AH1: C.O.O | AL1: I.O.O | AP1: Ａ.Ｏ.Ｍ
H3: =曜日!B12 -> 令和元年 | M3: =曜日!C12 -> 10月 | P3: 10日 | S3: （ | T3: =曜日!D5 -> 木 | U3: ） | W3: 作成者 | Z3: ： | AA3: 鷹架 叶未
A5: 労務 状況 | D5: 勤務状況 | K5: 西舘 翔子 | P5: 日勤 | T5: 鷹架 叶未 | Y5: 日勤 | AC5: 大川 祥子 | AH5: 日勤 | AL5: 小屋敷 千瑛 | AP5: 公休
A7: 入退院 状況 | D7: 入院形態 | K7: 東病棟 | Q7: 西病棟 | W7: 北病棟 | AC7: 南病棟 | AI7: 合計 | AO7: 総数
K8: 男性 | N8: 女性 | Q8: 男性 | T8: 女性 | W8: 男性 | Z8: 女性 | AC8: 男性 | AF8: 女性 | AI8: 男性 | AL8: 女性
D9: 任意入院 | K9: 1 | N9: 7 | Q9: 7 | T9: 10 | W9: 21 | Z9: 11 | AC9: 1 | AF9: 3 | AI9: =K9+Q9+W9+AC9 -> 30 | AL9: =N9+T9+Z9+AF9 -> 31 | AO9: =AI13 -> 181
D10: 医療保護入院 | K10: 25 | N10: 10 | Q10: 14 | T10: 14 | W10: 0 | Z10: 0 | AC10: 26 | AF10: 30 | AI10: =K10+Q10+W10+AC10 -> 65 | AL10: =N10+T10+Z10+AF10 -> 54
D11: 措置入院 | K11: 1 | N11: 0 | Q11: 0 | T11: 0 | W11: 0 | Z11: 0 | AC11: 0 | AF11: 0 | AI11: =K11+Q11+W11+AC11 -> 1 | AL11: =N11+T11+Z11+AF11 -> 0
D12: 合計 | K12: =K9+K10+K11 -> 27 | N12: =N9+N10+N11 -> 17 | Q12: =Q9+Q10+Q11 -> 21 | T12: =SUM(T9:V11) -> 24 | W12: =SUM(W9:Y11) -> 21 | Z12: =SUM(Z9:AB11) -> 11 | AC12: =SUM(AC9:AE11) -> 27 | AF12: =SUM(AF9:AH11) -> 33 | AI12: =SUM(K12+Q12+W12+AC12) -> 96 | AL12: =SUM(N12+T12+Z12+AF12) -> 85 | AO12: 人
K13: =K12+N12 -> 44 | Q13: =Q12+T12 -> 45 | W13: =W12+Z12 -> 32 | AC13: =AC12+AF12 -> 60 | AI13: =AI12+AL12 -> 181
F14: 患者様氏名 | N14: 入院形態 | T14: 担当Dr | Y14: 担当SW | AD14: 病棟 | AJ14: 備考欄
D15: 入院 | F15: 安是 和子 | L15: 様 | N15: 医療保護入院 | T15: 深澤隆Dr | Y15: 大川 祥子 | AD15: 東C
F16: 助川 節子 | L16: 様 | N16: 医療保護入院 | T16: 安ヶ平忠也Dr | Y16: 鷹架 叶未 | AD16: 東A
L17: 様
L18: 様
L19: 様
D20: 退院 | L20: 様
L21: 様
L22: 様
L23: 様
L24: 様
D25: 転棟 ･ 入院形態変更 | F25: 小澤 和子 | L25: 様 | N25: 医療保護入院 | T25: 田名部茂Dr | Y25: 西舘 翔子 | AD25: 東B | AJ25: 任意入院→医療保護
F26: 澤口 利香 | L26: 様 | N26: 医療保護入院 | T26: 深澤隆Dr | Y26: 西舘 翔子 | AD26: 東B→西B
L27: 様
L28: 様
L29: 様
A30: 患者様 関連 | D30: 患者様氏名 | K30: 担当Dr | P30: 病棟 | S30: 制限内容 | X30: 制限時間 | AC30: 開始日時 | AO30: 備考
D31: 立花 圭 | I31: 様 | K31: 田名部茂Dr | P31: 東A | S31: 時間隔離 | X31: 時間隔離 | AC31: 令和 | AE31: 1 | AF31: 年 | AG31: 9 | AH31: 月 | AI31: 25 | AJ31: 日 | AL31: ： | AN31: ～
D32: 見付 龍矢 | I32: 様 | K32: 田名部茂Dr | P32: 東A | S32: 終日隔離 | X32: 終日隔離 | AC32: 令和 | AE32: 1 | AF32: 年 | AG32: 9 | AH32: 月 | AI32: 12 | AJ32: 日 | AL32: ： | AN32: ～
D33: 澤村 彬 | I33: 様 | K33: 田名部茂Dr | P33: 東A | S33: 終日隔離 | X33: 終日隔離 | AC33: 令和 | AE33: 1 | AF33: 年 | AG33: 7 | AH33: 月 | AI33: 15 | AJ33: 日 | AL33: ： | AN33: ～
I34: 様 | AC34: 平成 | AF34: 年 | AH34: 月 | AJ34: 日 | AL34: ： | AN34: ～
I35: 様 | AC35: 平成 | AF35: 年 | AH35: 月 | AJ35: 日 | AL35: ： | AN35: ～
I36: 様 | AC36: 平成 | AF36: 年 | AH36: 月 | AJ36: 日 | AL36: ： | AN36: ～
I37: 様 | AC37: 平成 | AF37: 年 | AH37: 月 | AJ37: 日 | AL37: ： | AN37: ～
I38: 様 | AC38: 平成 | AF38: 年 | AH38: 月 | AJ38: 日 | AL38: ： | AN38: ～
I39: 様 | AC39: 平成 | AF39: 年 | AH39: 月 | AJ39: 日 | AL39: ： | AN39: ～
I40: 様 | AC40: 平成 | AF40: 年 | AH40: 月 | AJ40: 日 | AL40: ： | AN40: ～
I41: 様 | AC41: 平成 | AF41: 年 | AH41: 月 | AJ41: 日 | AL41: ： | AN41: ～
I42: 様 | AC42: 平成 | AF42: 年 | AH42: 月 | AJ42: 日 | AL42: ： | AN42: ～
I43: 様 | AC43: 平成 | AF43: 年 | AH43: 月 | AJ43: 日 | AL43: ： | AN43: ～
...

Sheet 11
A1: ソーシャルワーカー室 業務日誌 | AH1: C.O.O | AL1: I.O.O | AP1: Ａ.Ｏ.Ｍ
H3: =曜日!B12 -> 令和元年 | M3: =曜日!C12 -> 10月 | P3: 11日 | S3: （ | T3: =曜日!D6 -> 金 | U3: ） | W3: 作成者 | Z3: ： | AA3: 鷹架 叶未
A5: 労務 状況 | D5: 勤務状況 | K5: 西舘 翔子 | P5: 日勤 | T5: 鷹架 叶未 | Y5: 日勤 | AC5: 大川 祥子 | AH5: 公休 | AL5: 小屋敷 千瑛 | AP5: 日勤
A7: 入退院 状況 | D7: 入院形態 | K7: 東病棟 | Q7: 西病棟 | W7: 北病棟 | AC7: 南病棟 | AI7: 合計 | AO7: 総数
K8: 男性 | N8: 女性 | Q8: 男性 | T8: 女性 | W8: 男性 | Z8: 女性 | AC8: 男性 | AF8: 女性 | AI8: 男性 | AL8: 女性
D9: 任意入院 | K9: 1 | N9: 6 | Q9: 7 | T9: 9 | W9: 21 | Z9: 11 | AC9: 0 | AF9: 3 | AI9: =K9+Q9+W9+AC9 -> 29 | AL9: =N9+T9+Z9+AF9 -> 29 | AO9: =AI13 -> 182
D10: 医療保護入院 | K10: 25 | N10: 12 | Q10: 15 | T10: 14 | W10: 0 | Z10: 0 | AC10: 28 | AF10: 29 | AI10: =K10+Q10+W10+AC10 -> 68 | AL10: =N10+T10+Z10+AF10 -> 55
D11: 措置入院 | K11: 1 | N11: 0 | Q11: 0 | T11: 0 | W11: 0 | Z11: 0 | AC11: 0 | AF11: 0 | AI11: =K11+Q11+W11+AC11 -> 1 | AL11: =N11+T11+Z11+AF11 -> 0
D12: 合計 | K12: =K9+K10+K11 -> 27 | N12: =N9+N10+N11 -> 18 | Q12: =Q9+Q10+Q11 -> 22 | T12: =SUM(T9:V11) -> 23 | W12: =SUM(W9:Y11) -> 21 | Z12: =SUM(Z9:AB11) -> 11 | AC12: =SUM(AC9:AE11) -> 28 | AF12: =SUM(AF9:AH11) -> 32 | AI12: =SUM(K12+Q12+W12+AC12) -> 98 | AL12: =SUM(N12+T12+Z12+AF12) -> 84 | AO12: 人
K13: =K12+N12 -> 45 | Q13: =Q12+T12 -> 45 | W13: =W12+Z12 -> 32 | AC13: =AC12+AF12 -> 60 | AI13: =AI12+AL12 -> 182
F14: 患者様氏名 | N14: 入院形態 | T14: 担当Dr | Y14: 担当SW | AD14: 病棟 | AJ14: 備考欄
D15: 入院 | F15: 尾﨑 栄子 | L15: 様 | N15: 医療保護入院 | T15: 深澤隆Dr | Y15: 鷹架 叶未 | AD15: 東合
L16: 様
L17: 様
L18: 様
L19: 様
D20: 退院 | L20: 様
L21: 様
L22: 様
L23: 様
L24: 様
D25: 転棟 ･ 入院形態変更 | L25: 様
L26: 様
L27: 様
L28: 様
L29: 様
A30: 患者様 関連 | D30: 患者様氏名 | K30: 担当Dr | P30: 病棟 | S30: 制限内容 | X30: 制限時間 | AC30: 開始日時 | AO30: 備考
D31: 立花 圭 | I31: 様 | K31: 田名部茂Dr | P31: 東A | S31: 時間隔離 | X31: 時間隔離 | AC31: 令和 | AE31: 1 | AF31: 年 | AG31: 9 | AH31: 月 | AI31: 25 | AJ31: 日 | AL31: ： | AN31: ～
D32: 見付 龍矢 | I32: 様 | K32: 田名部茂Dr | P32: 東A | S32: 終日隔離 | X32: 終日隔離 | AC32: 令和 | AE32: 1 | AF32: 年 | AG32: 9 | AH32: 月 | AI32: 12 | AJ32: 日 | AL32: ： | AN32: ～
D33: 澤村 彬 | I33: 様 | K33: 田名部茂Dr | P33: 東A | S33: 終日隔離 | X33: 終日隔離 | AC33: 令和 | AE33: 1 | AF33: 年 | AG33: 7 | AH33: 月 | AI33: 15 | AJ33: 日 | AL33: ： | AN33: ～
I34: 様 | AC34: 平成 | AF34: 年 | AH34: 月 | AJ34: 日 | AL34: ： | AN34: ～
I35: 様 | AC35: 平成 | AF35: 年 | AH35: 月 | AJ35: 日 | AL35: ： | AN35: ～
I36: 様 | AC36: 平成 | AF36: 年 | AH36: 月 | AJ36: 日 | AL36: ： | AN36: ～
I37: 様 | AC37: 平成 | AF37: 年 | AH37: 月 | AJ37: 日 | AL37: ： | AN37: ～
I38: 様 | AC38: 平成 | AF38: 年 | AH38: 月 | AJ38: 日 | AL38: ： | AN38: ～
I39: 様 | AC39: 平成 | AF39: 年 | AH39: 月 | AJ39: 日 | AL39: ： | AN39: ～
I40: 様 | AC40: 平成 | AF40: 年 | AH40: 月 | AJ40: 日 | AL40: ： | AN40: ～
I41: 様 | AC41: 平成 | AF41: 年 | AH41: 月 | AJ41: 日 | AL41: ： | AN41: ～
I42: 様 | AC42: 平成 | AF42: 年 | AH42: 月 | AJ42: 日 | AL42: ： | AN42: ～
I43: 様 | AC43: 平成 | AF43: 年 | AH43: 月 | AJ43: 日 | AL43: ： | AN43: ～
...

Sheet 12
A1: ソーシャルワーカー室 業務日誌 | AH1: C.O.O | AL1: I.O.O | AP1: Ａ.Ｏ.Ｍ
H3: =曜日!B12 -> 令和元年 | M3: =曜日!C12 -> 10月 | P3: 12日 | S3: （ | T3: =曜日!D7 -> 土 | U3: ） | W3: 作成者 | Z3: ： | AA3: 小屋敷 千瑛
A5: 労務 状況 | D5: 勤務状況 | K5: 西舘 翔子 | P5: 公休 | T5: 鷹架 叶未 | Y5: 公休 | AC5: 大川 祥子 | AH5: 日勤 | AL5: 小屋敷 千瑛 | AP5: 日勤
A7: 入退院 状況 | D7: 入院形態 | K7: 東病棟 | Q7: 西病棟 | W7: 北病棟 | AC7: 南病棟 | AI7: 合計 | AO7: 総数
K8: 男性 | N8: 女性 | Q8: 男性 | T8: 女性 | W8: 男性 | Z8: 女性 | AC8: 男性 | AF8: 女性 | AI8: 男性 | AL8: 女性
D9: 任意入院 | K9: 1 | N9: 5 | Q9: 7 | T9: 9 | W9: 21 | Z9: 11 | AC9: 0 | AF9: 3 | AI9: =K9+Q9+W9+AC9 -> 29 | AL9: =N9+T9+Z9+AF9 -> 28 | AO9: =AI13 -> 181
D10: 医療保護入院 | K10: 25 | N10: 12 | Q10: 15 | T10: 14 | W10: 0 | Z10: 0 | AC10: 28 | AF10: 29 | AI10: =K10+Q10+W10+AC10 -> 68 | AL10: =N10+T10+Z10+AF10 -> 55
D11: 措置入院 | K11: 1 | N11: 0 | Q11: 0 | T11: 0 | W11: 0 | Z11: 0 | AC11: 0 | AF11: 0 | AI11: =K11+Q11+W11+AC11 -> 1 | AL11: =N11+T11+Z11+AF11 -> 0
D12: 合計 | K12: =K9+K10+K11 -> 27 | N12: =N9+N10+N11 -> 17 | Q12: =Q9+Q10+Q11 -> 22 | T12: =SUM(T9:V11) -> 23 | W12: =SUM(W9:Y11) -> 21 | Z12: =SUM(Z9:AB11) -> 11 | AC12: =SUM(AC9:AE11) -> 28 | AF12: =SUM(AF9:AH11) -> 32 | AI12: =SUM(K12+Q12+W12+AC12) -> 98 | AL12: =SUM(N12+T12+Z12+AF12) -> 83 | AO12: 人
K13: =K12+N12 -> 44 | Q13: =Q12+T12 -> 45 | W13: =W12+Z12 -> 32 | AC13: =AC12+AF12 -> 60 | AI13: =AI12+AL12 -> 181
F14: 患者様氏名 | N14: 入院形態 | T14: 担当Dr | Y14: 担当SW | AD14: 病棟 | AJ14: 備考欄
D15: 入院 | L15: 様
L16: 様
L17: 様
L18: 様
L19: 様
D20: 退院 | F20: 繁名 和恵 | L20: 様 | N20: 任意入院 | T20: 田名部茂Dr | Y20: 鷹架 叶未 | AD20: 東D
L21: 様
L22: 様
L23: 様
L24: 様
D25: 転棟 ･ 入院形態変更 | L25: 様
L26: 様
L27: 様
L28: 様
L29: 様
A30: 患者様 関連 | D30: 患者様氏名 | K30: 担当Dr | P30: 病棟 | S30: 制限内容 | X30: 制限時間 | AC30: 開始日時 | AO30: 備考
D31: 立花 圭 | I31: 様 | K31: 田名部茂Dr | P31: 東A | S31: 時間隔離 | X31: 時間隔離 | AC31: 令和 | AE31: 1 | AF31: 年 | AG31: 9 | AH31: 月 | AI31: 25 | AJ31: 日 | AL31: ： | AN31: ～
D32: 見付 龍矢 | I32: 様 | K32: 田名部茂Dr | P32: 東A | S32: 終日隔離 | X32: 終日隔離 | AC32: 令和 | AE32: 1 | AF32: 年 | AG32: 9 | AH32: 月 | AI32: 12 | AJ32: 日 | AL32: ： | AN32: ～
D33: 澤村 彬 | I33: 様 | K33: 田名部茂Dr | P33: 東A | S33: 終日隔離 | X33: 終日隔離 | AC33: 令和 | AE33: 1 | AF33: 年 | AG33: 7 | AH33: 月 | AI33: 15 | AJ33: 日 | AL33: ： | AN33: ～
I34: 様 | AC34: 平成 | AF34: 年 | AH34: 月 | AJ34: 日 | AL34: ： | AN34: ～
I35: 様 | AC35: 平成 | AF35: 年 | AH35: 月 | AJ35: 日 | AL35: ： | AN35: ～
I36: 様 | AC36: 平成 | AF36: 年 | AH36: 月 | AJ36: 日 | AL36: ： | AN36: ～
I37: 様 | AC37: 平成 | AF37: 年 | AH37: 月 | AJ37: 日 | AL37: ： | AN37: ～
I38: 様 | AC38: 平成 | AF38: 年 | AH38: 月 | AJ38: 日 | AL38: ： | AN38: ～
I39: 様 | AC39: 平成 | AF39: 年 | AH39: 月 | AJ39: 日 | AL39: ： | AN39: ～
I40: 様 | AC40: 平成 | AF40: 年 | AH40: 月 | AJ40: 日 | AL40: ： | AN40: ～
I41: 様 | AC41: 平成 | AF41: 年 | AH41: 月 | AJ41: 日 | AL41: ： | AN41: ～
I42: 様 | AC42: 平成 | AF42: 年 | AH42: 月 | AJ42: 日 | AL42: ： | AN42: ～
I43: 様 | AC43: 平成 | AF43: 年 | AH43: 月 | AJ43: 日 | AL43: ： | AN43: ～
...

Sheet 13
A1: ソーシャルワーカー室 業務日誌 | AH1: C.O.O | AL1: I.O.O | AP1: Ａ.Ｏ.Ｍ
H3: =曜日!B12 -> 令和元年 | M3: =曜日!C12 -> 10月 | P3: 13日 | S3: （ | T3: =曜日!D8 -> 日 | U3: ） | W3: 作成者 | Z3: ：
A5: 労務 状況 | D5: 勤務状況 | K5: 西舘 翔子 | P5: 公休 | T5: 鷹架 叶未 | Y5: 公休 | AC5: 大川 祥子 | AH5: 公休 | AL5: 小屋敷 千瑛 | AP5: 公休
A7: 入退院 状況 | D7: 入院形態 | K7: 東病棟 | Q7: 西病棟 | W7: 北病棟 | AC7: 南病棟 | AI7: 合計 | AO7: 総数
K8: 男性 | N8: 女性 | Q8: 男性 | T8: 女性 | W8: 男性 | Z8: 女性 | AC8: 男性 | AF8: 女性 | AI8: 男性 | AL8: 女性
D9: 任意入院 | K9: 1 | N9: 5 | Q9: 7 | T9: 9 | W9: 21 | Z9: 11 | AC9: 0 | AF9: 3 | AI9: =K9+Q9+W9+AC9 -> 29 | AL9: =N9+T9+Z9+AF9 -> 28 | AO9: =AI13 -> 181
D10: 医療保護入院 | K10: 25 | N10: 12 | Q10: 15 | T10: 14 | W10: 0 | Z10: 0 | AC10: 28 | AF10: 29 | AI10: =K10+Q10+W10+AC10 -> 68 | AL10: =N10+T10+Z10+AF10 -> 55
D11: 措置入院 | K11: 1 | N11: 0 | Q11: 0 | T11: 0 | W11: 0 | Z11: 0 | AC11: 0 | AF11: 0 | AI11: =K11+Q11+W11+AC11 -> 1 | AL11: =N11+T11+Z11+AF11 -> 0
D12: 合計 | K12: =K9+K10+K11 -> 27 | N12: =N9+N10+N11 -> 17 | Q12: =Q9+Q10+Q11 -> 22 | T12: =SUM(T9:V11) -> 23 | W12: =SUM(W9:Y11) -> 21 | Z12: =SUM(Z9:AB11) -> 11 | AC12: =SUM(AC9:AE11) -> 28 | AF12: =SUM(AF9:AH11) -> 32 | AI12: =SUM(K12+Q12+W12+AC12) -> 98 | AL12: =SUM(N12+T12+Z12+AF12) -> 83 | AO12: 人
K13: =K12+N12 -> 44 | Q13: =Q12+T12 -> 45 | W13: =W12+Z12 -> 32 | AC13: =AC12+AF12 -> 60 | AI13: =AI12+AL12 -> 181
F14: 患者様氏名 | N14: 入院形態 | T14: 担当Dr | Y14: 担当SW | AD14: 病棟 | AJ14: 備考欄
D15: 入院 | L15: 様
L16: 様
L17: 様
L18: 様
L19: 様
D20: 退院 | L20: 様
L21: 様
L22: 様
L23: 様
L24: 様
D25: 転棟 ･ 入院形態変更 | L25: 様
L26: 様
L27: 様
L28: 様
L29: 様
A30: 患者様 関連 | D30: 患者様氏名 | K30: 担当Dr | P30: 病棟 | S30: 制限内容 | X30: 制限時間 | AC30: 開始日時 | AO30: 備考
D31: 立花 圭 | I31: 様 | K31: 田名部茂Dr | P31: 東A | S31: 時間隔離 | X31: 時間隔離 | AC31: 令和 | AE31: 1 | AF31: 年 | AG31: 9 | AH31: 月 | AI31: 25 | AJ31: 日 | AL31: ： | AN31: ～
D32: 見付 龍矢 | I32: 様 | K32: 田名部茂Dr | P32: 東A | S32: 終日隔離 | X32: 終日隔離 | AC32: 令和 | AE32: 1 | AF32: 年 | AG32: 9 | AH32: 月 | AI32: 12 | AJ32: 日 | AL32: ： | AN32: ～
D33: 澤村 彬 | I33: 様 | K33: 田名部茂Dr | P33: 東A | S33: 終日隔離 | X33: 終日隔離 | AC33: 令和 | AE33: 1 | AF33: 年 | AG33: 7 | AH33: 月 | AI33: 15 | AJ33: 日 | AL33: ： | AN33: ～
I34: 様 | AC34: 平成 | AF34: 年 | AH34: 月 | AJ34: 日 | AL34: ： | AN34: ～
I35: 様 | AC35: 平成 | AF35: 年 | AH35: 月 | AJ35: 日 | AL35: ： | AN35: ～
I36: 様 | AC36: 平成 | AF36: 年 | AH36: 月 | AJ36: 日 | AL36: ： | AN36: ～
I37: 様 | AC37: 平成 | AF37: 年 | AH37: 月 | AJ37: 日 | AL37: ： | AN37: ～
I38: 様 | AC38: 平成 | AF38: 年 | AH38: 月 | AJ38: 日 | AL38: ： | AN38: ～
I39: 様 | AC39: 平成 | AF39: 年 | AH39: 月 | AJ39: 日 | AL39: ： | AN39: ～
I40: 様 | AC40: 平成 | AF40: 年 | AH40: 月 | AJ40: 日 | AL40: ： | AN40: ～
I41: 様 | AC41: 平成 | AF41: 年 | AH41: 月 | AJ41: 日 | AL41: ： | AN41: ～
I42: 様 | AC42: 平成 | AF42: 年 | AH42: 月 | AJ42: 日 | AL42: ： | AN42: ～
I43: 様 | AC43: 平成 | AF43: 年 | AH43: 月 | AJ43: 日 | AL43: ： | AN43: ～
...

Sheet 14
A1: ソーシャルワーカー室 業務日誌 | AH1: C.O.O | AL1: I.O.O | AP1: Ａ.Ｏ.Ｍ
H3: =曜日!B12 -> 令和元年 | M3: =曜日!C12 -> 10月 | P3: 14日 | S3: （ | T3: =曜日!D9 -> 月 | U3: ） | W3: 作成者 | Z3: ： | AA3: 大川 祥子
A5: 労務 状況 | D5: 勤務状況 | K5: 西舘 翔子 | P5: 公休 | T5: 鷹架 叶未 | Y5: 公休 | AC5: 大川 祥子 | AH5: 日勤 | AL5: 小屋敷 千瑛 | AP5: 日勤
A7: 入退院 状況 | D7: 入院形態 | K7: 東病棟 | Q7: 西病棟 | W7: 北病棟 | AC7: 南病棟 | AI7: 合計 | AO7: 総数
K8: 男性 | N8: 女性 | Q8: 男性 | T8: 女性 | W8: 男性 | Z8: 女性 | AC8: 男性 | AF8: 女性 | AI8: 男性 | AL8: 女性
D9: 任意入院 | K9: 1 | N9: 5 | Q9: 7 | T9: 9 | W9: 21 | Z9: 11 | AC9: 0 | AF9: 3 | AI9: =K9+Q9+W9+AC9 -> 29 | AL9: =N9+T9+Z9+AF9 -> 28 | AO9: =AI13 -> 180
D10: 医療保護入院 | K10: 25 | N10: 12 | Q10: 14 | T10: 14 | W10: 0 | Z10: 0 | AC10: 28 | AF10: 29 | AI10: =K10+Q10+W10+AC10 -> 67 | AL10: =N10+T10+Z10+AF10 -> 55
D11: 措置入院 | K11: 1 | N11: 0 | Q11: 0 | T11: 0 | W11: 0 | Z11: 0 | AC11: 0 | AF11: 0 | AI11: =K11+Q11+W11+AC11 -> 1 | AL11: =N11+T11+Z11+AF11 -> 0
D12: 合計 | K12: =K9+K10+K11 -> 27 | N12: =N9+N10+N11 -> 17 | Q12: =Q9+Q10+Q11 -> 21 | T12: =SUM(T9:V11) -> 23 | W12: =SUM(W9:Y11) -> 21 | Z12: =SUM(Z9:AB11) -> 11 | AC12: =SUM(AC9:AE11) -> 28 | AF12: =SUM(AF9:AH11) -> 32 | AI12: =SUM(K12+Q12+W12+AC12) -> 97 | AL12: =SUM(N12+T12+Z12+AF12) -> 83 | AO12: 人
K13: =K12+N12 -> 44 | Q13: =Q12+T12 -> 44 | W13: =W12+Z12 -> 32 | AC13: =AC12+AF12 -> 60 | AI13: =AI12+AL12 -> 180
F14: 患者様氏名 | N14: 入院形態 | T14: 担当Dr | Y14: 担当SW | AD14: 病棟 | AJ14: 備考欄
D15: 入院 | L15: 様
L16: 様
L17: 様
L18: 様
L19: 様
D20: 退院 | F20: 野田 敏治 | L20: 様 | N20: 医療保護入院 | T20: 安ヶ平忠也Dr | AD20: 西B
L21: 様
L22: 様
L23: 様
L24: 様
D25: 転棟 ･ 入院形態変更 | L25: 様
L26: 様
L27: 様
L28: 様
L29: 様
A30: 患者様 関連 | D30: 患者様氏名 | K30: 担当Dr | P30: 病棟 | S30: 制限内容 | X30: 制限時間 | AC30: 開始日時 | AO30: 備考
D31: 立花 圭 | I31: 様 | K31: 田名部茂Dr | P31: 東A | S31: 時間隔離 | X31: 時間隔離 | AC31: 令和 | AE31: 1 | AF31: 年 | AG31: 9 | AH31: 月 | AI31: 25 | AJ31: 日 | AL31: ： | AN31: ～
D32: 見付 龍矢 | I32: 様 | K32: 田名部茂Dr | P32: 東A | S32: 終日隔離 | X32: 終日隔離 | AC32: 令和 | AE32: 1 | AF32: 年 | AG32: 9 | AH32: 月 | AI32: 12 | AJ32: 日 | AL32: ： | AN32: ～
D33: 澤村 彬 | I33: 様 | K33: 田名部茂Dr | P33: 東A | S33: 終日隔離 | X33: 終日隔離 | AC33: 令和 | AE33: 1 | AF33: 年 | AG33: 7 | AH33: 月 | AI33: 15 | AJ33: 日 | AL33: ： | AN33: ～
I34: 様 | AC34: 平成 | AF34: 年 | AH34: 月 | AJ34: 日 | AL34: ： | AN34: ～
I35: 様 | AC35: 平成 | AF35: 年 | AH35: 月 | AJ35: 日 | AL35: ： | AN35: ～
I36: 様 | AC36: 平成 | AF36: 年 | AH36: 月 | AJ36: 日 | AL36: ： | AN36: ～
I37: 様 | AC37: 平成 | AF37: 年 | AH37: 月 | AJ37: 日 | AL37: ： | AN37: ～
I38: 様 | AC38: 平成 | AF38: 年 | AH38: 月 | AJ38: 日 | AL38: ： | AN38: ～
I39: 様 | AC39: 平成 | AF39: 年 | AH39: 月 | AJ39: 日 | AL39: ： | AN39: ～
I40: 様 | AC40: 平成 | AF40: 年 | AH40: 月 | AJ40: 日 | AL40: ： | AN40: ～
I41: 様 | AC41: 平成 | AF41: 年 | AH41: 月 | AJ41: 日 | AL41: ： | AN41: ～
I42: 様 | AC42: 平成 | AF42: 年 | AH42: 月 | AJ42: 日 | AL42: ： | AN42: ～
I43: 様 | AC43: 平成 | AF43: 年 | AH43: 月 | AJ43: 日 | AL43: ： | AN43: ～
...

Sheet 15
A1: ソーシャルワーカー室 業務日誌 | AH1: C.O.O | AL1: I.O.O | AP1: Ａ.Ｏ.Ｍ
H3: =曜日!B12 -> 令和元年 | M3: =曜日!C12 -> 10月 | P3: 15日 | S3: （ | T3: =曜日!D3 -> 火 | U3: ） | W3: 作成者 | Z3: ： | AA3: 西舘 翔子
A5: 労務 状況 | D5: 勤務状況 | K5: 西舘 翔子 | P5: 日勤 | T5: 鷹架 叶未 | Y5: 有給 | AC5: 大川 祥子 | AH5: 日勤 | AL5: 小屋敷 千瑛 | AP5: 日勤
A7: 入退院 状況 | D7: 入院形態 | K7: 東病棟 | Q7: 西病棟 | W7: 北病棟 | AC7: 南病棟 | AI7: 合計 | AO7: 総数
K8: 男性 | N8: 女性 | Q8: 男性 | T8: 女性 | W8: 男性 | Z8: 女性 | AC8: 男性 | AF8: 女性 | AI8: 男性 | AL8: 女性
D9: 任意入院 | K9: 1 | N9: 5 | Q9: 6 | T9: 10 | W9: 22 | Z9: 11 | AC9: 0 | AF9: 3 | AI9: =K9+Q9+W9+AC9 -> 29 | AL9: =N9+T9+Z9+AF9 -> 29 | AO9: =AI13 -> 182
D10: 医療保護入院 | K10: 25 | N10: 13 | Q10: 14 | T10: 14 | W10: 0 | Z10: 0 | AC10: 28 | AF10: 29 | AI10: =K10+Q10+W10+AC10 -> 67 | AL10: =N10+T10+Z10+AF10 -> 56
D11: 措置入院 | K11: 1 | N11: 0 | Q11: 0 | T11: 0 | W11: 0 | Z11: 0 | AC11: 0 | AF11: 0 | AI11: =K11+Q11+W11+AC11 -> 1 | AL11: =N11+T11+Z11+AF11 -> 0
D12: 合計 | K12: =K9+K10+K11 -> 27 | N12: =N9+N10+N11 -> 18 | Q12: =Q9+Q10+Q11 -> 20 | T12: =SUM(T9:V11) -> 24 | W12: =SUM(W9:Y11) -> 22 | Z12: =SUM(Z9:AB11) -> 11 | AC12: =SUM(AC9:AE11) -> 28 | AF12: =SUM(AF9:AH11) -> 32 | AI12: =SUM(K12+Q12+W12+AC12) -> 97 | AL12: =SUM(N12+T12+Z12+AF12) -> 85 | AO12: 人
K13: =K12+N12 -> 45 | Q13: =Q12+T12 -> 44 | W13: =W12+Z12 -> 33 | AC13: =AC12+AF12 -> 60 | AI13: =AI12+AL12 -> 182
F14: 患者様氏名 | N14: 入院形態 | T14: 担当Dr | Y14: 担当SW | AD14: 病棟 | AJ14: 備考欄
D15: 入院 | F15: 山田 睦子 | L15: 様 | N15: 任意入院 | T15: 深澤隆Dr | Y15: 西舘 翔子 | AD15: 東D
F16: 神林 きみゑ | L16: 様 | N16: 医療保護入院 | T16: 馬渡晃弘Dr | Y16: 大川 祥子 | AD16: 東B
L17: 様
L18: 様
L19: 様
D20: 退院 | L20: 様
L21: 様
L22: 様
L23: 様
L24: 様
D25: 転棟 ･ 入院形態変更 | F25: 高田 マキ | L25: 様 | N25: 任意入院 | T25: 田名部茂Dr | Y25: 鷹架 叶未 | AD25: 東B→西B
F26: 髙橋 義明 | L26: 様 | N26: 任意入院 | T26: 田名部茂Dr | Y26: 鷹架 叶未 | AD26: 西B→北
L27: 様
L28: 様
L29: 様
A30: 患者様 関連 | D30: 患者様氏名 | K30: 担当Dr | P30: 病棟 | S30: 制限内容 | X30: 制限時間 | AC30: 開始日時 | AO30: 備考
D31: 立花 圭 | I31: 様 | K31: 田名部茂Dr | P31: 東A | S31: 時間隔離 | X31: 時間隔離 | AC31: 令和 | AE31: 1 | AF31: 年 | AG31: 9 | AH31: 月 | AI31: 25 | AJ31: 日 | AL31: ： | AN31: ～
D32: 見付 龍矢 | I32: 様 | K32: 田名部茂Dr | P32: 東A | S32: 終日隔離 | X32: 終日隔離 | AC32: 令和 | AE32: 1 | AF32: 年 | AG32: 9 | AH32: 月 | AI32: 12 | AJ32: 日 | AL32: ： | AN32: ～
D33: 澤村 彬 | I33: 様 | K33: 田名部茂Dr | P33: 東A | S33: 終日隔離 | X33: 終日隔離 | AC33: 令和 | AE33: 1 | AF33: 年 | AG33: 7 | AH33: 月 | AI33: 15 | AJ33: 日 | AL33: ： | AN33: ～
I34: 様 | AC34: 平成 | AF34: 年 | AH34: 月 | AJ34: 日 | AL34: ： | AN34: ～
I35: 様 | AC35: 平成 | AF35: 年 | AH35: 月 | AJ35: 日 | AL35: ： | AN35: ～
I36: 様 | AC36: 平成 | AF36: 年 | AH36: 月 | AJ36: 日 | AL36: ： | AN36: ～
I37: 様 | AC37: 平成 | AF37: 年 | AH37: 月 | AJ37: 日 | AL37: ： | AN37: ～
I38: 様 | AC38: 平成 | AF38: 年 | AH38: 月 | AJ38: 日 | AL38: ： | AN38: ～
I39: 様 | AC39: 平成 | AF39: 年 | AH39: 月 | AJ39: 日 | AL39: ： | AN39: ～
I40: 様 | AC40: 平成 | AF40: 年 | AH40: 月 | AJ40: 日 | AL40: ： | AN40: ～
I41: 様 | AC41: 平成 | AF41: 年 | AH41: 月 | AJ41: 日 | AL41: ： | AN41: ～
I42: 様 | AC42: 平成 | AF42: 年 | AH42: 月 | AJ42: 日 | AL42: ： | AN42: ～
I43: 様 | AC43: 平成 | AF43: 年 | AH43: 月 | AJ43: 日 | AL43: ： | AN43: ～
...

Sheet 16
A1: ソーシャルワーカー室 業務日誌 | AH1: C.O.O | AL1: I.O.O | AP1: Ａ.Ｏ.Ｍ
H3: =曜日!B12 -> 令和元年 | M3: =曜日!C12 -> 10月 | P3: 16日 | S3: （ | T3: =曜日!D4 -> 水 | U3: ） | W3: 作成者 | Z3: ： | AA3: 西舘 翔子
A5: 労務 状況 | D5: 勤務状況 | K5: 西舘 翔子 | P5: 日勤 | T5: 鷹架 叶未 | Y5: 日勤 | AC5: 大川 祥子 | AH5: 日勤 | AL5: 小屋敷 千瑛 | AP5: 日勤
A7: 入退院 状況 | D7: 入院形態 | K7: 東病棟 | Q7: 西病棟 | W7: 北病棟 | AC7: 南病棟 | AI7: 合計 | AO7: 総数
K8: 男性 | N8: 女性 | Q8: 男性 | T8: 女性 | W8: 男性 | Z8: 女性 | AC8: 男性 | AF8: 女性 | AI8: 男性 | AL8: 女性
D9: 任意入院 | K9: 1 | N9: 5 | Q9: 6 | T9: 10 | W9: 22 | Z9: 11 | AC9: 0 | AF9: 3 | AI9: =K9+Q9+W9+AC9 -> 29 | AL9: =N9+T9+Z9+AF9 -> 29 | AO9: =AI13 -> 183
D10: 医療保護入院 | K10: 26 | N10: 13 | Q10: 14 | T10: 14 | W10: 0 | Z10: 0 | AC10: 28 | AF10: 29 | AI10: =K10+Q10+W10+AC10 -> 68 | AL10: =N10+T10+Z10+AF10 -> 56
D11: 措置入院 | K11: 1 | N11: 0 | Q11: 0 | T11: 0 | W11: 0 | Z11: 0 | AC11: 0 | AF11: 0 | AI11: =K11+Q11+W11+AC11 -> 1 | AL11: =N11+T11+Z11+AF11 -> 0
D12: 合計 | K12: =K9+K10+K11 -> 28 | N12: =N9+N10+N11 -> 18 | Q12: =Q9+Q10+Q11 -> 20 | T12: =SUM(T9:V11) -> 24 | W12: =SUM(W9:Y11) -> 22 | Z12: =SUM(Z9:AB11) -> 11 | AC12: =SUM(AC9:AE11) -> 28 | AF12: =SUM(AF9:AH11) -> 32 | AI12: =SUM(K12+Q12+W12+AC12) -> 98 | AL12: =SUM(N12+T12+Z12+AF12) -> 85 | AO12: 人
K13: =K12+N12 -> 46 | Q13: =Q12+T12 -> 44 | W13: =W12+Z12 -> 33 | AC13: =AC12+AF12 -> 60 | AI13: =AI12+AL12 -> 183
F14: 患者様氏名 | N14: 入院形態 | T14: 担当Dr | Y14: 担当SW | AD14: 病棟 | AJ14: 備考欄
D15: 入院 | F15: 南館 正弘 | L15: 様 | N15: 医療保護入院 | T15: 金泰德Dr | Y15: 大川 祥子 | AD15: 東C
L16: 様
L17: 様
L18: 様
L19: 様
D20: 退院 | L20: 様
L21: 様
L22: 様
L23: 様
L24: 様
D25: 転棟 ･ 入院形態変更 | L25: 様
L26: 様
L27: 様
L28: 様
L29: 様
A30: 患者様 関連 | D30: 患者様氏名 | K30: 担当Dr | P30: 病棟 | S30: 制限内容 | X30: 制限時間 | AC30: 開始日時 | AO30: 備考
D31: 立花 圭 | I31: 様 | K31: 田名部茂Dr | P31: 東A | S31: 時間隔離 | X31: 時間隔離 | AC31: 令和 | AE31: 1 | AF31: 年 | AG31: 9 | AH31: 月 | AI31: 25 | AJ31: 日 | AL31: ： | AN31: ～
D32: 見付 龍矢 | I32: 様 | K32: 田名部茂Dr | P32: 東A | S32: 終日隔離 | X32: 終日隔離 | AC32: 令和 | AE32: 1 | AF32: 年 | AG32: 9 | AH32: 月 | AI32: 12 | AJ32: 日 | AL32: ： | AN32: ～
D33: 澤村 彬 | I33: 様 | K33: 田名部茂Dr | P33: 東A | S33: 終日隔離 | X33: 終日隔離 | AC33: 令和 | AE33: 1 | AF33: 年 | AG33: 7 | AH33: 月 | AI33: 15 | AJ33: 日 | AL33: ： | AN33: ～
I34: 様 | AC34: 平成 | AF34: 年 | AH34: 月 | AJ34: 日 | AL34: ： | AN34: ～
I35: 様 | AC35: 平成 | AF35: 年 | AH35: 月 | AJ35: 日 | AL35: ： | AN35: ～
I36: 様 | AC36: 平成 | AF36: 年 | AH36: 月 | AJ36: 日 | AL36: ： | AN36: ～
I37: 様 | AC37: 平成 | AF37: 年 | AH37: 月 | AJ37: 日 | AL37: ： | AN37: ～
I38: 様 | AC38: 平成 | AF38: 年 | AH38: 月 | AJ38: 日 | AL38: ： | AN38: ～
I39: 様 | AC39: 平成 | AF39: 年 | AH39: 月 | AJ39: 日 | AL39: ： | AN39: ～
I40: 様 | AC40: 平成 | AF40: 年 | AH40: 月 | AJ40: 日 | AL40: ： | AN40: ～
I41: 様 | AC41: 平成 | AF41: 年 | AH41: 月 | AJ41: 日 | AL41: ： | AN41: ～
I42: 様 | AC42: 平成 | AF42: 年 | AH42: 月 | AJ42: 日 | AL42: ： | AN42: ～
I43: 様 | AC43: 平成 | AF43: 年 | AH43: 月 | AJ43: 日 | AL43: ： | AN43: ～
...

Sheet 17
A1: ソーシャルワーカー室 業務日誌 | AH1: C.O.O | AL1: I.O.O | AP1: Ａ.Ｏ.Ｍ
H3: =曜日!B12 -> 令和元年 | M3: =曜日!C12 -> 10月 | P3: 17日 | S3: （ | T3: =曜日!D5 -> 木 | U3: ） | W3: 作成者 | Z3: ：
A5: 労務 状況 | D5: 勤務状況 | K5: 西舘 翔子 | T5: 鷹架 叶未 | AC5: 大川 祥子 | AL5: 北田 友子
A7: 入退院 状況 | D7: 入院形態 | K7: 東病棟 | Q7: 西病棟 | W7: 北病棟 | AC7: 南病棟 | AI7: 合計 | AO7: 総数
K8: 男性 | N8: 女性 | Q8: 男性 | T8: 女性 | W8: 男性 | Z8: 女性 | AC8: 男性 | AF8: 女性 | AI8: 男性 | AL8: 女性
D9: 任意入院 | AI9: =K9+Q9+W9+AC9 -> 0 | AL9: =N9+T9+Z9+AF9 -> 0 | AO9: =AI13 -> 0
D10: 医療保護入院 | AI10: =K10+Q10+W10+AC10 -> 0 | AL10: =N10+T10+Z10+AF10 -> 0
D11: 措置入院 | AI11: =K11+Q11+W11+AC11 -> 0 | AL11: =N11+T11+Z11+AF11 -> 0
D12: 合計 | K12: =K9+K10+K11 -> 0 | N12: =N9+N10+N11 -> 0 | Q12: =Q9+Q10+Q11 -> 0 | T12: =SUM(T9:V11) -> 0 | W12: =SUM(W9:Y11) -> 0 | Z12: =SUM(Z9:AB11) -> 0 | AC12: =SUM(AC9:AE11) -> 0 | AF12: =SUM(AF9:AH11) -> 0 | AI12: =SUM(K12+Q12+W12+AC12) -> 0 | AL12: =SUM(N12+T12+Z12+AF12) -> 0 | AO12: 人
K13: =K12+N12 -> 0 | Q13: =Q12+T12 -> 0 | W13: =W12+Z12 -> 0 | AC13: =AC12+AF12 -> 0 | AI13: =AI12+AL12 -> 0
F14: 患者様氏名 | N14: 入院形態 | T14: 担当Dr | Y14: 担当SW | AD14: 病棟 | AJ14: 備考欄
D15: 入院 | L15: 様
L16: 様
L17: 様
L18: 様
L19: 様
D20: 退院 | L20: 様
L21: 様
L22: 様
L23: 様
L24: 様
D25: 転棟 ･ 入院形態変更 | L25: 様
L26: 様
L27: 様
L28: 様
L29: 様
A30: 患者様 関連 | D30: 患者様氏名 | K30: 担当Dr | P30: 病棟 | S30: 制限内容 | X30: 制限時間 | AC30: 開始日時 | AO30: 備考
I31: 様 | AC31: 平成 | AF31: 年 | AH31: 月 | AJ31: 日 | AL31: ： | AN31: ～
I32: 様 | AC32: 平成 | AF32: 年 | AH32: 月 | AJ32: 日 | AL32: ： | AN32: ～
I33: 様 | AC33: 平成 | AF33: 年 | AH33: 月 | AJ33: 日 | AL33: ： | AN33: ～
I34: 様 | AC34: 平成 | AF34: 年 | AH34: 月 | AJ34: 日 | AL34: ： | AN34: ～
I35: 様 | AC35: 平成 | AF35: 年 | AH35: 月 | AJ35: 日 | AL35: ： | AN35: ～
I36: 様 | AC36: 平成 | AF36: 年 | AH36: 月 | AJ36: 日 | AL36: ： | AN36: ～
I37: 様 | AC37: 平成 | AF37: 年 | AH37: 月 | AJ37: 日 | AL37: ： | AN37: ～
I38: 様 | AC38: 平成 | AF38: 年 | AH38: 月 | AJ38: 日 | AL38: ： | AN38: ～
I39: 様 | AC39: 平成 | AF39: 年 | AH39: 月 | AJ39: 日 | AL39: ： | AN39: ～
I40: 様 | AC40: 平成 | AF40: 年 | AH40: 月 | AJ40: 日 | AL40: ： | AN40: ～
I41: 様 | AC41: 平成 | AF41: 年 | AH41: 月 | AJ41: 日 | AL41: ： | AN41: ～
I42: 様 | AC42: 平成 | AF42: 年 | AH42: 月 | AJ42: 日 | AL42: ： | AN42: ～
... I45: 様 | AC45: 平成 | AF45: 年 | AH45: 月 | AJ45: 日 | AL45: ： | AN45: ～
...

Sheet 18
A1: ソーシャルワーカー室 業務日誌 | AH1: C.O.O | AL1: I.O.O | AP1: Ａ.Ｏ.Ｍ
H3: =曜日!B12 -> 令和元年 | M3: =曜日!C12 -> 10月 | P3: 18日 | S3: （ | T3: =曜日!D6 -> 金 | U3: ） | W3: 作成者 | Z3: ：
A5: 労務 状況 | D5: 勤務状況 | K5: 西舘 翔子 | T5: 鷹架 叶未 | AC5: 大川 祥子 | AL5: 北田 友子
A7: 入退院 状況 | D7: 入院形態 | K7: 東病棟 | Q7: 西病棟 | W7: 北病棟 | AC7: 南病棟 | AI7: 合計 | AO7: 総数
K8: 男性 | N8: 女性 | Q8: 男性 | T8: 女性 | W8: 男性 | Z8: 女性 | AC8: 男性 | AF8: 女性 | AI8: 男性 | AL8: 女性
D9: 任意入院 | AI9: =K9+Q9+W9+AC9 -> 0 | AL9: =N9+T9+Z9+AF9 -> 0 | AO9: =AI13 -> 0
D10: 医療保護入院 | AI10: =K10+Q10+W10+AC10 -> 0 | AL10: =N10+T10+Z10+AF10 -> 0
D11: 措置入院 | AI11: =K11+Q11+W11+AC11 -> 0 | AL11: =N11+T11+Z11+AF11 -> 0
D12: 合計 | K12: =K9+K10+K11 -> 0 | N12: =N9+N10+N11 -> 0 | Q12: =Q9+Q10+Q11 -> 0 | T12: =SUM(T9:V11) -> 0 | W12: =SUM(W9:Y11) -> 0 | Z12: =SUM(Z9:AB11) -> 0 | AC12: =SUM(AC9:AE11) -> 0 | AF12: =SUM(AF9:AH11) -> 0 | AI12: =SUM(K12+Q12+W12+AC12) -> 0 | AL12: =SUM(N12+T12+Z12+AF12) -> 0 | AO12: 人
K13: =K12+N12 -> 0 | Q13: =Q12+T12 -> 0 | W13: =W12+Z12 -> 0 | AC13: =AC12+AF12 -> 0 | AI13: =AI12+AL12 -> 0
F14: 患者様氏名 | N14: 入院形態 | T14: 担当Dr | Y14: 担当SW | AD14: 病棟 | AJ14: 備考欄
D15: 入院 | L15: 様
L16: 様
L17: 様
L18: 様
L19: 様
D20: 退院 | L20: 様
L21: 様
L22: 様
L23: 様
L24: 様
D25: 転棟 ･ 入院形態変更 | L25: 様
L26: 様
L27: 様
L28: 様
L29: 様
A30: 患者様 関連 | D30: 患者様氏名 | K30: 担当Dr | P30: 病棟 | S30: 制限内容 | X30: 制限時間 | AC30: 開始日時 | AO30: 備考
I31: 様 | AC31: 平成 | AF31: 年 | AH31: 月 | AJ31: 日 | AL31: ： | AN31: ～
I32: 様 | AC32: 平成 | AF32: 年 | AH32: 月 | AJ32: 日 | AL32: ： | AN32: ～
I33: 様 | AC33: 平成 | AF33: 年 | AH33: 月 | AJ33: 日 | AL33: ： | AN33: ～
I34: 様 | AC34: 平成 | AF34: 年 | AH34: 月 | AJ34: 日 | AL34: ： | AN34: ～
I35: 様 | AC35: 平成 | AF35: 年 | AH35: 月 | AJ35: 日 | AL35: ： | AN35: ～
I36: 様 | AC36: 平成 | AF36: 年 | AH36: 月 | AJ36: 日 | AL36: ： | AN36: ～
I37: 様 | AC37: 平成 | AF37: 年 | AH37: 月 | AJ37: 日 | AL37: ： | AN37: ～
I38: 様 | AC38: 平成 | AF38: 年 | AH38: 月 | AJ38: 日 | AL38: ： | AN38: ～
I39: 様 | AC39: 平成 | AF39: 年 | AH39: 月 | AJ39: 日 | AL39: ： | AN39: ～
I40: 様 | AC40: 平成 | AF40: 年 | AH40: 月 | AJ40: 日 | AL40: ： | AN40: ～
I41: 様 | AC41: 平成 | AF41: 年 | AH41: 月 | AJ41: 日 | AL41: ： | AN41: ～
I42: 様 | AC42: 平成 | AF42: 年 | AH42: 月 | AJ42: 日 | AL42: ： | AN42: ～
... I45: 様 | AC45: 平成 | AF45: 年 | AH45: 月 | AJ45: 日 | AL45: ： | AN45: ～
...

Sheet 19
A1: ソーシャルワーカー室 業務日誌 | AH1: C.O.O | AL1: I.O.O | AP1: Ａ.Ｏ.Ｍ
H3: =曜日!B12 -> 令和元年 | M3: =曜日!C12 -> 10月 | P3: 19日 | S3: （ | T3: =曜日!D7 -> 土 | U3: ） | W3: 作成者 | Z3: ：
A5: 労務 状況 | D5: 勤務状況 | K5: 西舘 翔子 | T5: 鷹架 叶未 | AC5: 大川 祥子 | AL5: 北田 友子
A7: 入退院 状況 | D7: 入院形態 | K7: 東病棟 | Q7: 西病棟 | W7: 北病棟 | AC7: 南病棟 | AI7: 合計 | AO7: 総数
K8: 男性 | N8: 女性 | Q8: 男性 | T8: 女性 | W8: 男性 | Z8: 女性 | AC8: 男性 | AF8: 女性 | AI8: 男性 | AL8: 女性
D9: 任意入院 | AI9: =K9+Q9+W9+AC9 -> 0 | AL9: =N9+T9+Z9+AF9 -> 0 | AO9: =AI13 -> 0
D10: 医療保護入院 | AI10: =K10+Q10+W10+AC10 -> 0 | AL10: =N10+T10+Z10+AF10 -> 0
D11: 措置入院 | AI11: =K11+Q11+W11+AC11 -> 0 | AL11: =N11+T11+Z11+AF11 -> 0
D12: 合計 | K12: =K9+K10+K11 -> 0 | N12: =N9+N10+N11 -> 0 | Q12: =Q9+Q10+Q11 -> 0 | T12: =SUM(T9:V11) -> 0 | W12: =SUM(W9:Y11) -> 0 | Z12: =SUM(Z9:AB11) -> 0 | AC12: =SUM(AC9:AE11) -> 0 | AF12: =SUM(AF9:AH11) -> 0 | AI12: =SUM(K12+Q12+W12+AC12) -> 0 | AL12: =SUM(N12+T12+Z12+AF12) -> 0 | AO12: 人
K13: =K12+N12 -> 0 | Q13: =Q12+T12 -> 0 | W13: =W12+Z12 -> 0 | AC13: =AC12+AF12 -> 0 | AI13: =AI12+AL12 -> 0
F14: 患者様氏名 | N14: 入院形態 | T14: 担当Dr | Y14: 担当SW | AD14: 病棟 | AJ14: 備考欄
D15: 入院 | L15: 様
L16: 様
L17: 様
L18: 様
L19: 様
D20: 退院 | L20: 様
L21: 様
L22: 様
L23: 様
L24: 様
D25: 転棟 ･ 入院形態変更 | L25: 様
L26: 様
L27: 様
L28: 様
L29: 様
A30: 患者様 関連 | D30: 患者様氏名 | K30: 担当Dr | P30: 病棟 | S30: 制限内容 | X30: 制限時間 | AC30: 開始日時 | AO30: 備考
I31: 様 | AC31: 平成 | AF31: 年 | AH31: 月 | AJ31: 日 | AL31: ： | AN31: ～
I32: 様 | AC32: 平成 | AF32: 年 | AH32: 月 | AJ32: 日 | AL32: ： | AN32: ～
I33: 様 | AC33: 平成 | AF33: 年 | AH33: 月 | AJ33: 日 | AL33: ： | AN33: ～
I34: 様 | AC34: 平成 | AF34: 年 | AH34: 月 | AJ34: 日 | AL34: ： | AN34: ～
I35: 様 | AC35: 平成 | AF35: 年 | AH35: 月 | AJ35: 日 | AL35: ： | AN35: ～
I36: 様 | AC36: 平成 | AF36: 年 | AH36: 月 | AJ36: 日 | AL36: ： | AN36: ～
I37: 様 | AC37: 平成 | AF37: 年 | AH37: 月 | AJ37: 日 | AL37: ： | AN37: ～
I38: 様 | AC38: 平成 | AF38: 年 | AH38: 月 | AJ38: 日 | AL38: ： | AN38: ～
I39: 様 | AC39: 平成 | AF39: 年 | AH39: 月 | AJ39: 日 | AL39: ： | AN39: ～
I40: 様 | AC40: 平成 | AF40: 年 | AH40: 月 | AJ40: 日 | AL40: ： | AN40: ～
I41: 様 | AC41: 平成 | AF41: 年 | AH41: 月 | AJ41: 日 | AL41: ： | AN41: ～
I42: 様 | AC42: 平成 | AF42: 年 | AH42: 月 | AJ42: 日 | AL42: ： | AN42: ～
... I45: 様 | AC45: 平成 | AF45: 年 | AH45: 月 | AJ45: 日 | AL45: ： | AN45: ～
...

Sheet 20
A1: ソーシャルワーカー室 業務日誌 | AH1: C.O.O | AL1: I.O.O | AP1: Ａ.Ｏ.Ｍ
H3: =曜日!B12 -> 令和元年 | M3: =曜日!C12 -> 10月 | P3: 20日 | S3: （ | T3: =曜日!D8 -> 日 | U3: ） | W3: 作成者 | Z3: ：
A5: 労務 状況 | D5: 勤務状況 | K5: 西舘 翔子 | T5: 鷹架 叶未 | AC5: 大川 祥子 | AL5: 北田 友子
A7: 入退院 状況 | D7: 入院形態 | K7: 東病棟 | Q7: 西病棟 | W7: 北病棟 | AC7: 南病棟 | AI7: 合計 | AO7: 総数
K8: 男性 | N8: 女性 | Q8: 男性 | T8: 女性 | W8: 男性 | Z8: 女性 | AC8: 男性 | AF8: 女性 | AI8: 男性 | AL8: 女性
D9: 任意入院 | AI9: =K9+Q9+W9+AC9 -> 0 | AL9: =N9+T9+Z9+AF9 -> 0 | AO9: =AI13 -> 0
D10: 医療保護入院 | AI10: =K10+Q10+W10+AC10 -> 0 | AL10: =N10+T10+Z10+AF10 -> 0
D11: 措置入院 | AI11: =K11+Q11+W11+AC11 -> 0 | AL11: =N11+T11+Z11+AF11 -> 0
D12: 合計 | K12: =K9+K10+K11 -> 0 | N12: =N9+N10+N11 -> 0 | Q12: =Q9+Q10+Q11 -> 0 | T12: =SUM(T9:V11) -> 0 | W12: =SUM(W9:Y11) -> 0 | Z12: =SUM(Z9:AB11) -> 0 | AC12: =SUM(AC9:AE11) -> 0 | AF12: =SUM(AF9:AH11) -> 0 | AI12: =SUM(K12+Q12+W12+AC12) -> 0 | AL12: =SUM(N12+T12+Z12+AF12) -> 0 | AO12: 人
K13: =K12+N12 -> 0 | Q13: =Q12+T12 -> 0 | W13: =W12+Z12 -> 0 | AC13: =AC12+AF12 -> 0 | AI13: =AI12+AL12 -> 0
F14: 患者様氏名 | N14: 入院形態 | T14: 担当Dr | Y14: 担当SW | AD14: 病棟 | AJ14: 備考欄
D15: 入院 | L15: 様
L16: 様
L17: 様
L18: 様
L19: 様
D20: 退院 | L20: 様
L21: 様
L22: 様
L23: 様
L24: 様
D25: 転棟 ･ 入院形態変更 | L25: 様
L26: 様
L27: 様
L28: 様
L29: 様
A30: 患者様 関連 | D30: 患者様氏名 | K30: 担当Dr | P30: 病棟 | S30: 制限内容 | X30: 制限時間 | AC30: 開始日時 | AO30: 備考
I31: 様 | AC31: 平成 | AF31: 年 | AH31: 月 | AJ31: 日 | AL31: ： | AN31: ～
I32: 様 | AC32: 平成 | AF32: 年 | AH32: 月 | AJ32: 日 | AL32: ： | AN32: ～
I33: 様 | AC33: 平成 | AF33: 年 | AH33: 月 | AJ33: 日 | AL33: ： | AN33: ～
I34: 様 | AC34: 平成 | AF34: 年 | AH34: 月 | AJ34: 日 | AL34: ： | AN34: ～
I35: 様 | AC35: 平成 | AF35: 年 | AH35: 月 | AJ35: 日 | AL35: ： | AN35: ～
I36: 様 | AC36: 平成 | AF36: 年 | AH36: 月 | AJ36: 日 | AL36: ： | AN36: ～
I37: 様 | AC37: 平成 | AF37: 年 | AH37: 月 | AJ37: 日 | AL37: ： | AN37: ～
I38: 様 | AC38: 平成 | AF38: 年 | AH38: 月 | AJ38: 日 | AL38: ： | AN38: ～
I39: 様 | AC39: 平成 | AF39: 年 | AH39: 月 | AJ39: 日 | AL39: ： | AN39: ～
I40: 様 | AC40: 平成 | AF40: 年 | AH40: 月 | AJ40: 日 | AL40: ： | AN40: ～
I41: 様 | AC41: 平成 | AF41: 年 | AH41: 月 | AJ41: 日 | AL41: ： | AN41: ～
I42: 様 | AC42: 平成 | AF42: 年 | AH42: 月 | AJ42: 日 | AL42: ： | AN42: ～
... I45: 様 | AC45: 平成 | AF45: 年 | AH45: 月 | AJ45: 日 | AL45: ： | AN45: ～
...

Sheet 21
A1: ソーシャルワーカー室 業務日誌 | AH1: C.O.O | AL1: I.O.O | AP1: Ａ.Ｏ.Ｍ
H3: =曜日!B12 -> 令和元年 | M3: =曜日!C12 -> 10月 | P3: 21日 | S3: （ | T3: =曜日!D9 -> 月 | U3: ） | W3: 作成者 | Z3: ：
A5: 労務 状況 | D5: 勤務状況 | K5: 西舘 翔子 | T5: 鷹架 叶未 | AC5: 大川 祥子 | AL5: 北田 友子
A7: 入退院 状況 | D7: 入院形態 | K7: 東病棟 | Q7: 西病棟 | W7: 北病棟 | AC7: 南病棟 | AI7: 合計 | AO7: 総数
K8: 男性 | N8: 女性 | Q8: 男性 | T8: 女性 | W8: 男性 | Z8: 女性 | AC8: 男性 | AF8: 女性 | AI8: 男性 | AL8: 女性
D9: 任意入院 | AI9: =K9+Q9+W9+AC9 -> 0 | AL9: =N9+T9+Z9+AF9 -> 0 | AO9: =AI13 -> 0
D10: 医療保護入院 | AI10: =K10+Q10+W10+AC10 -> 0 | AL10: =N10+T10+Z10+AF10 -> 0
D11: 措置入院 | AI11: =K11+Q11+W11+AC11 -> 0 | AL11: =N11+T11+Z11+AF11 -> 0
D12: 合計 | K12: =K9+K10+K11 -> 0 | N12: =N9+N10+N11 -> 0 | Q12: =Q9+Q10+Q11 -> 0 | T12: =SUM(T9:V11) -> 0 | W12: =SUM(W9:Y11) -> 0 | Z12: =SUM(Z9:AB11) -> 0 | AC12: =SUM(AC9:AE11) -> 0 | AF12: =SUM(AF9:AH11) -> 0 | AI12: =SUM(K12+Q12+W12+AC12) -> 0 | AL12: =SUM(N12+T12+Z12+AF12) -> 0 | AO12: 人
K13: =K12+N12 -> 0 | Q13: =Q12+T12 -> 0 | W13: =W12+Z12 -> 0 | AC13: =AC12+AF12 -> 0 | AI13: =AI12+AL12 -> 0
F14: 患者様氏名 | N14: 入院形態 | T14: 担当Dr | Y14: 担当SW | AD14: 病棟 | AJ14: 備考欄
D15: 入院 | L15: 様
L16: 様
L17: 様
L18: 様
L19: 様
D20: 退院 | L20: 様
L21: 様
L22: 様
L23: 様
L24: 様
D25: 転棟 ･ 入院形態変更 | L25: 様
L26: 様
L27: 様
L28: 様
L29: 様
A30: 患者様 関連 | D30: 患者様氏名 | K30: 担当Dr | P30: 病棟 | S30: 制限内容 | X30: 制限時間 | AC30: 開始日時 | AO30: 備考
I31: 様 | AC31: 平成 | AF31: 年 | AH31: 月 | AJ31: 日 | AL31: ： | AN31: ～
I32: 様 | AC32: 平成 | AF32: 年 | AH32: 月 | AJ32: 日 | AL32: ： | AN32: ～
I33: 様 | AC33: 平成 | AF33: 年 | AH33: 月 | AJ33: 日 | AL33: ： | AN33: ～
I34: 様 | AC34: 平成 | AF34: 年 | AH34: 月 | AJ34: 日 | AL34: ： | AN34: ～
I35: 様 | AC35: 平成 | AF35: 年 | AH35: 月 | AJ35: 日 | AL35: ： | AN35: ～
I36: 様 | AC36: 平成 | AF36: 年 | AH36: 月 | AJ36: 日 | AL36: ： | AN36: ～
I37: 様 | AC37: 平成 | AF37: 年 | AH37: 月 | AJ37: 日 | AL37: ： | AN37: ～
I38: 様 | AC38: 平成 | AF38: 年 | AH38: 月 | AJ38: 日 | AL38: ： | AN38: ～
I39: 様 | AC39: 平成 | AF39: 年 | AH39: 月 | AJ39: 日 | AL39: ： | AN39: ～
I40: 様 | AC40: 平成 | AF40: 年 | AH40: 月 | AJ40: 日 | AL40: ： | AN40: ～
I41: 様 | AC41: 平成 | AF41: 年 | AH41: 月 | AJ41: 日 | AL41: ： | AN41: ～
I42: 様 | AC42: 平成 | AF42: 年 | AH42: 月 | AJ42: 日 | AL42: ： | AN42: ～
... I45: 様 | AC45: 平成 | AF45: 年 | AH45: 月 | AJ45: 日 | AL45: ： | AN45: ～
...

Sheet 22
A1: ソーシャルワーカー室 業務日誌 | AH1: C.O.O | AL1: I.O.O | AP1: Ａ.Ｏ.Ｍ
H3: =曜日!B12 -> 令和元年 | M3: =曜日!C12 -> 10月 | P3: 22日 | S3: （ | T3: =曜日!D3 -> 火 | U3: ） | W3: 作成者 | Z3: ：
A5: 労務 状況 | D5: 勤務状況 | K5: 西舘 翔子 | T5: 鷹架 叶未 | AC5: 大川 祥子 | AL5: 北田 友子
A7: 入退院 状況 | D7: 入院形態 | K7: 東病棟 | Q7: 西病棟 | W7: 北病棟 | AC7: 南病棟 | AI7: 合計 | AO7: 総数
K8: 男性 | N8: 女性 | Q8: 男性 | T8: 女性 | W8: 男性 | Z8: 女性 | AC8: 男性 | AF8: 女性 | AI8: 男性 | AL8: 女性
D9: 任意入院 | AI9: =K9+Q9+W9+AC9 -> 0 | AL9: =N9+T9+Z9+AF9 -> 0 | AO9: =AI13 -> 0
D10: 医療保護入院 | AI10: =K10+Q10+W10+AC10 -> 0 | AL10: =N10+T10+Z10+AF10 -> 0
D11: 措置入院 | AI11: =K11+Q11+W11+AC11 -> 0 | AL11: =N11+T11+Z11+AF11 -> 0
D12: 合計 | K12: =K9+K10+K11 -> 0 | N12: =N9+N10+N11 -> 0 | Q12: =Q9+Q10+Q11 -> 0 | T12: =SUM(T9:V11) -> 0 | W12: =SUM(W9:Y11) -> 0 | Z12: =SUM(Z9:AB11) -> 0 | AC12: =SUM(AC9:AE11) -> 0 | AF12: =SUM(AF9:AH11) -> 0 | AI12: =SUM(K12+Q12+W12+AC12) -> 0 | AL12: =SUM(N12+T12+Z12+AF12) -> 0 | AO12: 人
K13: =K12+N12 -> 0 | Q13: =Q12+T12 -> 0 | W13: =W12+Z12 -> 0 | AC13: =AC12+AF12 -> 0 | AI13: =AI12+AL12 -> 0
F14: 患者様氏名 | N14: 入院形態 | T14: 担当Dr | Y14: 担当SW | AD14: 病棟 | AJ14: 備考欄
D15: 入院 | L15: 様
L16: 様
L17: 様
L18: 様
L19: 様
D20: 退院 | L20: 様
L21: 様
L22: 様
L23: 様
L24: 様
D25: 転棟 ･ 入院形態変更 | L25: 様
L26: 様
L27: 様
L28: 様
L29: 様
A30: 患者様 関連 | D30: 患者様氏名 | K30: 担当Dr | P30: 病棟 | S30: 制限内容 | X30: 制限時間 | AC30: 開始日時 | AO30: 備考
I31: 様 | AC31: 平成 | AF31: 年 | AH31: 月 | AJ31: 日 | AL31: ： | AN31: ～
I32: 様 | AC32: 平成 | AF32: 年 | AH32: 月 | AJ32: 日 | AL32: ： | AN32: ～
I33: 様 | AC33: 平成 | AF33: 年 | AH33: 月 | AJ33: 日 | AL33: ： | AN33: ～
I34: 様 | AC34: 平成 | AF34: 年 | AH34: 月 | AJ34: 日 | AL34: ： | AN34: ～
