Workbook

Sheet 1
A1: ソーシャルワーカー室 業務日誌 | AH1: C.O.O | AL1: I.O.O | AP1: Ａ.Ｏ.Ｍ
H3: =曜日!B12 -> 令和7年 | M3: =曜日!C12 -> 12月 | P3: 1日 | S3: （ | T3: =曜日!D3 -> 月 | U3: ） | W3: 作成者 | Z3: ：
A5: 労務 状況 | D5: 勤務状況 | K5: 西舘 翔子 | T5: 大川 祥子 | AC5: 宇津木澤 育美 | AL5: 澤里 皓輝
K6: 石鉢 佳代 | T6: 石鉢 佳代
A8: 入退院 状況 | D8: 入院形態 | K8: 東病棟 | Q8: 西病棟 | W8: 北病棟 | AC8: 南病棟 | AI8: 合計 | AO8: 総数
K9: 男性 | N9: 女性 | Q9: 男性 | T9: 女性 | W9: 男性 | Z9: 女性 | AC9: 男性 | AF9: 女性 | AI9: 男性 | AL9: 女性
D10: 任意入院 | K10: 3 | N10: 2 | Q10: 2 | T10: 4 | W10: 19 | Z10: 14 | AC10: 0 | AF10: 0 | AI10: =K10+Q10+W10+AC10 -> 24 | AL10: =N10+T10+Z10+AF10 -> 20 | AO10: =AI14 -> 179
D11: 医療保護入院 | K11: 19 | N11: 18 | Q11: 18 | T11: 20 | W11: 0 | Z11: 0 | AC11: 24 | AF11: 35 | AI11: =K11+Q11+W11+AC11 -> 61 | AL11: =N11+T11+Z11+AF11 -> 73
D12: 措置入院 | K12: 1 | N12: 0 | Q12: 0 | T12: 0 | W12: 0 | Z12: 0 | AC12: 0 | AF12: 0 | AI12: =K12+Q12+W12+AC12 -> 1 | AL12: =N12+T12+Z12+AF12 -> 0
D13: 合計 | K13: =SUM(K10:M12) -> 23 | N13: =SUM(N10:P12) -> 20 | Q13: =SUM(Q10:S12) -> 20 | T13: =SUM(T10:V12) -> 24 | W13: =SUM(W10:Y12) -> 19 | Z13: =SUM(Z10:AB12) -> 14 | AC13: =SUM(AC10:AE12) -> 24 | AF13: =SUM(AF10:AH12) -> 35 | AI13: =SUM(K13+Q13+W13+AC13) -> 86 | AL13: =SUM(N13+T13+Z13+AF13) -> 93 | AO13: 人
K14: =K13+N13 -> 43 | Q14: =Q13+T13 -> 44 | W14: =W13+Z13 -> 33 | AC14: =AC13+AF13 -> 59 | AI14: =AI13+AL13 -> 179
F15: 患者様氏名 | N15: 入院形態 | T15: 担当Dr | Y15: 担当SW | AD15: 病棟 | AJ15: 備考欄
D16: 入院 | F16: 花生 健治郎 | L16: 様 | N16: 医療保護入院 | AD16: 東C
L17: 様
L18: 様
L19: 様
L20: 様
D21: 退院 | F21: 船場 幸子 | L21: 様 | N21: 任意入院 | AD21: 北
F22: 斗沢 定儀 | L22: 様 | N22: 医療保護入院 | AD22: 南D
F23: 鈴木 知子 | L23: 様 | N23: 任意入院 | AD23: 北
L24: 様
L25: 様
D26: 転棟 ･ 入院形態変更 | F26: 木村 正子 | L26: 様 | N26: 任意入院 | AD26: 西B→北
F27: 佐々木 昭三 | L27: 様 | N27: 医療保護入院 | AD27: 東C→南D
L28: 様
L29: 様
L30: 様
A31: 患者様 関連 | D31: 患者様氏名 | K31: 担当Dr | P31: 病棟 | S31: 制限内容 | X31: 制限時間 | AC31: 開始日時 | AO31: 備考
D32: 三浦 華菜 | I32: 様 | K32: 馬渡晃弘Dr | P32: 東A | S32: 通信制限 | X32: 通信制限 | AC32: 令和 | AE32: 7 | AF32: 年 | AG32: 9 | AH32: 月 | AI32: 29 | AJ32: 日 | AL32: ： | AN32: ～
D33: 中村 聡 | I33: 様 | K33: 金泰徳Dr | P33: 東B | S33: 通信制限 | X33: 通信制限 | AC33: 令和 | AE33: 3 | AF33: 年 | AG33: 5 | AH33: 月 | AI33: 31 | AJ33: 日 | AL33: ： | AN33: ～
D34: 風張 久美子 | I34: 様 | K34: 柞木田なつみDr | P34: 西B | S34: 通信制限 | X34: 通信制限 | AC34: 令和 | AE34: 6 | AF34: 年 | AG34: 3 | AH34: 月 | AI34: 4 | AJ34: 日 | AL34: ： | AN34: ～
D35: 庭田 久美子 | I35: 様 | K35: 小栁匡相Dr | P35: 東B | S35: 通信制限 | X35: 通信制限 | AC35: 令和 | AE35: 6 | AF35: 年 | AG35: 12 | AH35: 月 | AI35: 24 | AJ35: 日 | AL35: ： | AN35: ～
D36: 宮崎 宏之 | I36: 様 | K36: 馬渡晃弘Dr | P36: 東A | S36: 終日隔離 | X36: 終日隔離 | AC36: 令和 | AE36: 6 | AF36: 年 | AG36: 9 | AH36: 月 | AI36: 19 | AJ36: 日 | AL36: ： | AN36: ～
D37: 藤井 崇史 | I37: 様 | K37: 深澤隆Dr | P37: 東A | S37: 終日隔離 | X37: 終日隔離 | AC37: 令和 | AE37: 7 | AF37: 年 | AG37: 8 | AH37: 月 | AI37: 4 | AJ37: 日 | AL37: ： | AN37: ～
D38: 長根 瞳 | I38: 様 | K38: 小栁匡相Dr | P38: 東A | S38: 身体拘束 | X38: 身体拘束 | AC38: 令和 | AE38: 7 | AF38: 年 | AG38: 10 | AH38: 月 | AI38: 10 | AJ38: 日 | AL38: ： | AN38: ～
D39: 三浦 華菜 | I39: 様 | K39: 馬渡晃弘Dr | P39: 東A | S39: 身体拘束 | X39: 身体拘束 | AC39: 令和 | AE39: 7 | AF39: 年 | AG39: 11 | AH39: 月 | AI39: 27 | AJ39: 日 | AL39: ： | AN39: ～
I40: 様 | AC40: 令和 | AF40: 年 | AH40: 月 | AJ40: 日 | AL40: ： | AN40: ～
I41: 様 | AC41: 令和 | AF41: 年 | AH41: 月 | AJ41: 日 | AL41: ： | AN41: ～
I42: 様 | AC42: 令和 | AF42: 年 | AH42: 月 | AJ42: 日 | AL42: ： | AN42: ～
I43: 様 | AC43: 令和 | AF43: 年 | AH43: 月 | AJ43: 日 | AL43: ： | AN43: ～
I44: 様 | AC44: 令和 | AF44: 年 | AH44: 月 | AJ44: 日 | AL44: ： | AN44: ～
I45: 様 | AC45: 令和 | AF45: 年 | AH45: 月 | AJ45: 日 | AL45: ： | AN45: ～
I46: 様 | AC46: 令和 | AF46: 年 | AH46: 月 | AJ46: 日 | AL46: ： | AN46: ～
A47: 業務 内容 | D47: 項目 | J47: 患者様氏名 | P47: 担当 | S47: 備考 | Y47: 項目 | AA47: 患者様氏名 | AG47: 内容 | AQ47: 担当
D48: 外 来 患 者 対 応 | F48: 外来患者 対応 | O48: 様 | Y48: 書 類 作 成 完 了 | AF48: 様
O49: 様 | AF49: 様
O50: 様 | AF50: 様
O51: 様 | AF51: 様
O52: 様 | AF52: 様
O53: 様 | AF53: 様
O54: 様 | AF54: 様
D55: 項目 | J55: 患者様氏名 | P55: 担当 | S55: 備考 | AF55: 様
D56: 入 退 院 支 援 | F56: 退院支援 | O56: 様 | AF56: 様
O57: 様 | AF57: 様
O58: 様 | Y58: 項目 | AG58: 件数 | AJ58: 担当 | AM58: 備考
O59: 様 | Y59: 電話対応 | AI59: 件
O60: 様 | Y60: 保健所への届出 | AI60: 件
F61: 退院請求 対応 | O61: 様 | Y61: 項目 | AG61: 内容
O62: 様 | Y62: 通院医療 観察法
F63: 入院患者 対応 | J63: 担当 | M63: 件数 | P63: 備考
O64: 件 | Y64: 認知症疾患 医療ｾﾝﾀｰ
O65: 件
O66: 件 | Y66: 各種会議参加 外部の業務
O67: 件
A68: 安全管理 | D68: 事故 | S68: 物品 購入 | AE68: 連絡 事項
D69: 苦情
D70: 紛失
D71: 他

Sheet 2
A1: ソーシャルワーカー室 業務日誌 | AH1: C.O.O | AL1: I.O.O | AP1: Ａ.Ｏ.Ｍ
H3: =曜日!B12 -> 令和7年 | M3: =曜日!C12 -> 12月 | P3: 2日 | S3: （ | T3: =曜日!D4 -> 火 | U3: ） | W3: 作成者 | Z3: ： | AA3: 大川 祥子
A5: 労務 状況 | D5: 勤務状況 | K5: 西舘 翔子 | P5: 日勤 | T5: 大川 祥子 | Y5: 日勤 | AC5: 宇津木澤 育美 | AH5: 日勤 | AL5: 澤里 皓輝 | AP5: 日勤
K6: 安田 純子 | P6: 日勤 | T6: 石鉢 佳代 | Y6: 日勤
A8: 入退院 状況 | D8: 入院形態 | K8: 東病棟 | Q8: 西病棟 | W8: 北病棟 | AC8: 南病棟 | AI8: 合計 | AO8: 総数
K9: 男性 | N9: 女性 | Q9: 男性 | T9: 女性 | W9: 男性 | Z9: 女性 | AC9: 男性 | AF9: 女性 | AI9: 男性 | AL9: 女性
D10: 任意入院 | K10: 4 | N10: 1 | Q10: 2 | T10: 4 | W10: 19 | Z10: 15 | AC10: 0 | AF10: 0 | AI10: =K10+Q10+W10+AC10 -> 25 | AL10: =N10+T10+Z10+AF10 -> 20 | AO10: =AI14 -> 180
D11: 医療保護入院 | K11: 20 | N11: 15 | Q11: 18 | T11: 21 | W11: 0 | Z11: 0 | AC11: 24 | AF11: 36 | AI11: =K11+Q11+W11+AC11 -> 62 | AL11: =N11+T11+Z11+AF11 -> 72
D12: 措置入院 | K12: 1 | N12: 0 | Q12: 0 | T12: 0 | W12: 0 | Z12: 0 | AC12: 0 | AF12: 0 | AI12: =K12+Q12+W12+AC12 -> 1 | AL12: =N12+T12+Z12+AF12 -> 0
D13: 合計 | K13: =SUM(K10:M12) -> 25 | N13: =SUM(N10:P12) -> 16 | Q13: =SUM(Q10:S12) -> 20 | T13: =SUM(T10:V12) -> 25 | W13: =SUM(W10:Y12) -> 19 | Z13: =SUM(Z10:AB12) -> 15 | AC13: =SUM(AC10:AE12) -> 24 | AF13: =SUM(AF10:AH12) -> 36 | AI13: =SUM(K13+Q13+W13+AC13) -> 88 | AL13: =SUM(N13+T13+Z13+AF13) -> 92 | AO13: 人
K14: =K13+N13 -> 41 | Q14: =Q13+T13 -> 45 | W14: =W13+Z13 -> 34 | AC14: =AC13+AF13 -> 60 | AI14: =AI13+AL13 -> 180
F15: 患者様氏名 | N15: 入院形態 | T15: 担当Dr | Y15: 担当SW | AD15: 病棟 | AJ15: 備考欄
D16: 入院 | F16: 伊藤 誠 | L16: 様 | N16: 任意入院 | T16: 小栁匡相Dr | AD16: 東B
F17: 野田 敏治 | L17: 様 | N17: 医療保護入院 | T17: 小栁匡相Dr | AD17: 東C
L18: 様
L19: 様
L20: 様
D21: 退院 | F21: 遠藤 ひとみ | L21: 様 | N21: 医療保護入院 | T21: 柞木田なつみDr | AD21: 東D
L22: 様
L23: 様
L24: 様
L25: 様
D26: 転棟 ･ 入院形態変更 | F26: 坂本 愛子 | L26: 様 | N26: 医療保護入院 | T26: 馬渡晃弘Dr | AD26: 東C→西B
F27: 上平 キヨ | L27: 様 | N27: 医療保護入院 | T27: 深澤隆Dr | AD27: 東C→南D
F28: 四戸 多美子 | L28: 様 | N28: 任意入院 | T28: 田名部茂Dr | AD28: 東合→北
L29: 様
L30: 様
A31: 患者様 関連 | D31: 患者様氏名 | K31: 担当Dr | P31: 病棟 | S31: 制限内容 | X31: 制限時間 | AC31: 開始日時 | AO31: 備考
D32: 三浦 華菜 | I32: 様 | K32: 馬渡晃弘Dr | P32: 東A | S32: 通信制限 | X32: 通信制限 | AC32: 令和 | AE32: 7 | AF32: 年 | AG32: 9 | AH32: 月 | AI32: 29 | AJ32: 日 | AL32: ： | AN32: ～
D33: 中村 聡 | I33: 様 | K33: 金泰徳Dr | P33: 東B | S33: 通信制限 | X33: 通信制限 | AC33: 令和 | AE33: 3 | AF33: 年 | AG33: 5 | AH33: 月 | AI33: 31 | AJ33: 日 | AL33: ： | AN33: ～
D34: 風張 久美子 | I34: 様 | K34: 柞木田なつみDr | P34: 西B | S34: 通信制限 | X34: 通信制限 | AC34: 令和 | AE34: 6 | AF34: 年 | AG34: 3 | AH34: 月 | AI34: 4 | AJ34: 日 | AL34: ： | AN34: ～
D35: 庭田 久美子 | I35: 様 | K35: 小栁匡相Dr | P35: 東B | S35: 通信制限 | X35: 通信制限 | AC35: 令和 | AE35: 6 | AF35: 年 | AG35: 12 | AH35: 月 | AI35: 24 | AJ35: 日 | AL35: ： | AN35: ～
D36: 宮崎 宏之 | I36: 様 | K36: 馬渡晃弘Dr | P36: 東A | S36: 終日隔離 | X36: 終日隔離 | AC36: 令和 | AE36: 6 | AF36: 年 | AG36: 9 | AH36: 月 | AI36: 19 | AJ36: 日 | AL36: ： | AN36: ～
D37: 藤井 崇史 | I37: 様 | K37: 深澤隆Dr | P37: 東A | S37: 終日隔離 | X37: 終日隔離 | AC37: 令和 | AE37: 7 | AF37: 年 | AG37: 8 | AH37: 月 | AI37: 4 | AJ37: 日 | AL37: ： | AN37: ～
D38: 長根 瞳 | I38: 様 | K38: 小栁匡相Dr | P38: 東A | S38: 身体拘束 | X38: 身体拘束 | AC38: 令和 | AE38: 7 | AF38: 年 | AG38: 10 | AH38: 月 | AI38: 10 | AJ38: 日 | AL38: ： | AN38: ～ | AO38: 解除
D39: 三浦 華菜 | I39: 様 | K39: 馬渡晃弘Dr | P39: 東A | S39: 身体拘束 | X39: 身体拘束 | AC39: 令和 | AE39: 7 | AF39: 年 | AG39: 11 | AH39: 月 | AI39: 27 | AJ39: 日 | AL39: ： | AN39: ～
I40: 様 | AC40: 令和 | AF40: 年 | AH40: 月 | AJ40: 日 | AL40: ： | AN40: ～
I41: 様 | AC41: 令和 | AF41: 年 | AH41: 月 | AJ41: 日 | AL41: ： | AN41: ～
I42: 様 | AC42: 令和 | AF42: 年 | AH42: 月 | AJ42: 日 | AL42: ： | AN42: ～
I43: 様 | AC43: 令和 | AF43: 年 | AH43: 月 | AJ43: 日 | AL43: ： | AN43: ～
I44: 様 | AC44: 令和 | AF44: 年 | AH44: 月 | AJ44: 日 | AL44: ： | AN44: ～
I45: 様 | AC45: 令和 | AF45: 年 | AH45: 月 | AJ45: 日 | AL45: ： | AN45: ～
I46: 様 | AC46: 令和 | AF46: 年 | AH46: 月 | AJ46: 日 | AL46: ： | AN46: ～
A47: 業務 内容 | D47: 項目 | J47: 患者様氏名 | P47: 担当 | S47: 備考 | Y47: 項目 | AA47: 患者様氏名 | AG47: 内容 | AQ47: 担当
D48: 外 来 患 者 対 応 | F48: 外来患者 対応 | O48: 様 | Y48: 書 類 作 成 完 了 | AF48: 様
O49: 様 | AF49: 様
O50: 様 | AF50: 様
O51: 様 | AF51: 様
O52: 様 | AF52: 様
O53: 様 | AF53: 様
O54: 様 | AF54: 様
D55: 項目 | J55: 患者様氏名 | P55: 担当 | S55: 備考 | AF55: 様
D56: 入 退 院 支 援 | F56: 退院支援 | O56: 様 | AF56: 様
O57: 様 | AF57: 様
O58: 様 | Y58: 項目 | AG58: 件数 | AJ58: 担当 | AM58: 備考
O59: 様 | Y59: 電話対応 | AI59: 件
O60: 様 | Y60: 保健所への届出 | AI60: 件
F61: 退院請求 対応 | O61: 様 | Y61: 項目 | AG61: 内容
O62: 様 | Y62: 通院医療 観察法
F63: 入院患者 対応 | J63: 担当 | M63: 件数 | P63: 備考
O64: 件 | Y64: 認知症疾患 医療ｾﾝﾀｰ
O65: 件
O66: 件 | Y66: 各種会議参加 外部の業務
O67: 件
A68: 安全管理 | D68: 事故 | S68: 物品 購入 | AE68: 連絡 事項
D69: 苦情
D70: 紛失
D71: 他

Sheet 3
A1: ソーシャルワーカー室 業務日誌 | AH1: C.O.O | AL1: I.O.O | AP1: Ａ.Ｏ.Ｍ
H3: =曜日!B12 -> 令和7年 | M3: =曜日!C12 -> 12月 | P3: 3日 | S3: （ | T3: =曜日!D5 -> 水 | U3: ） | W3: 作成者 | Z3: ： | AA3: 大川 祥子
A5: 労務 状況 | D5: 勤務状況 | K5: 西舘 翔子 | P5: 日勤 | T5: 大川 祥子 | Y5: 日勤 | AC5: 宇津木澤 育美 | AH5: 日勤 | AL5: 澤里 皓輝 | AP5: 日勤
K6: 安田 純子 | P6: 日勤 | T6: 石鉢 佳代 | Y6: 日勤
A8: 入退院 状況 | D8: 入院形態 | K8: 東病棟 | Q8: 西病棟 | W8: 北病棟 | AC8: 南病棟 | AI8: 合計 | AO8: 総数
K9: 男性 | N9: 女性 | Q9: 男性 | T9: 女性 | W9: 男性 | Z9: 女性 | AC9: 男性 | AF9: 女性 | AI9: 男性 | AL9: 女性
D10: 任意入院 | K10: 4 | N10: 1 | Q10: 2 | T10: 4 | W10: 19 | Z10: 15 | AC10: 0 | AF10: 0 | AI10: =K10+Q10+W10+AC10 -> 25 | AL10: =N10+T10+Z10+AF10 -> 20 | AO10: =AI14 -> 181
D11: 医療保護入院 | K11: 20 | N11: 16 | Q11: 18 | T11: 21 | W11: 0 | Z11: 0 | AC11: 24 | AF11: 36 | AI11: =K11+Q11+W11+AC11 -> 62 | AL11: =N11+T11+Z11+AF11 -> 73
D12: 措置入院 | K12: 1 | N12: 0 | Q12: 0 | T12: 0 | W12: 0 | Z12: 0 | AC12: 0 | AF12: 0 | AI12: =K12+Q12+W12+AC12 -> 1 | AL12: =N12+T12+Z12+AF12 -> 0
D13: 合計 | K13: =SUM(K10:M12) -> 25 | N13: =SUM(N10:P12) -> 17 | Q13: =SUM(Q10:S12) -> 20 | T13: =SUM(T10:V12) -> 25 | W13: =SUM(W10:Y12) -> 19 | Z13: =SUM(Z10:AB12) -> 15 | AC13: =SUM(AC10:AE12) -> 24 | AF13: =SUM(AF10:AH12) -> 36 | AI13: =SUM(K13+Q13+W13+AC13) -> 88 | AL13: =SUM(N13+T13+Z13+AF13) -> 93 | AO13: 人
K14: =K13+N13 -> 42 | Q14: =Q13+T13 -> 45 | W14: =W13+Z13 -> 34 | AC14: =AC13+AF13 -> 60 | AI14: =AI13+AL13 -> 181
F15: 患者様氏名 | N15: 入院形態 | T15: 担当Dr | Y15: 担当SW | AD15: 病棟 | AJ15: 備考欄
D16: 入院 | F16: 坂本 愛子 | L16: 様 | N16: 医療保護入院 | T16: 金泰德Dr | Y16: 大川 祥子 | AD16: 東C
L17: 様
L18: 様
L19: 様
L20: 様
D21: 退院 | L21: 様
L22: 様
L23: 様
L24: 様
L25: 様
D26: 転棟 ･ 入院形態変更 | L26: 様
L27: 様
L28: 様
L29: 様
L30: 様
A31: 患者様 関連 | D31: 患者様氏名 | K31: 担当Dr | P31: 病棟 | S31: 制限内容 | X31: 制限時間 | AC31: 開始日時 | AO31: 備考
D32: 三浦 華菜 | I32: 様 | K32: 馬渡晃弘Dr | P32: 東A | S32: 通信制限 | X32: 通信制限 | AC32: 令和 | AE32: 7 | AF32: 年 | AG32: 9 | AH32: 月 | AI32: 29 | AJ32: 日 | AL32: ： | AN32: ～
D33: 中村 聡 | I33: 様 | K33: 金泰徳Dr | P33: 東B | S33: 通信制限 | X33: 通信制限 | AC33: 令和 | AE33: 3 | AF33: 年 | AG33: 5 | AH33: 月 | AI33: 31 | AJ33: 日 | AL33: ： | AN33: ～
D34: 風張 久美子 | I34: 様 | K34: 柞木田なつみDr | P34: 西B | S34: 通信制限 | X34: 通信制限 | AC34: 令和 | AE34: 6 | AF34: 年 | AG34: 3 | AH34: 月 | AI34: 4 | AJ34: 日 | AL34: ： | AN34: ～
D35: 庭田 久美子 | I35: 様 | K35: 小栁匡相Dr | P35: 東B | S35: 通信制限 | X35: 通信制限 | AC35: 令和 | AE35: 6 | AF35: 年 | AG35: 12 | AH35: 月 | AI35: 24 | AJ35: 日 | AL35: ： | AN35: ～
D36: 宮崎 宏之 | I36: 様 | K36: 馬渡晃弘Dr | P36: 東A | S36: 終日隔離 | X36: 終日隔離 | AC36: 令和 | AE36: 6 | AF36: 年 | AG36: 9 | AH36: 月 | AI36: 19 | AJ36: 日 | AL36: ： | AN36: ～
D37: 藤井 崇史 | I37: 様 | K37: 深澤隆Dr | P37: 東A | S37: 終日隔離 | X37: 終日隔離 | AC37: 令和 | AE37: 7 | AF37: 年 | AG37: 8 | AH37: 月 | AI37: 4 | AJ37: 日 | AL37: ： | AN37: ～
D38: 三浦 華菜 | I38: 様 | K38: 馬渡晃弘Dr | P38: 東A | S38: 身体拘束 | X38: 身体拘束 | AC38: 令和 | AE38: 7 | AF38: 年 | AG38: 11 | AH38: 月 | AI38: 27 | AJ38: 日 | AL38: ： | AN38: ～
I39: 様 | AC39: 令和 | AF39: 年 | AH39: 月 | AJ39: 日 | AL39: ： | AN39: ～
I40: 様 | AC40: 令和 | AF40: 年 | AH40: 月 | AJ40: 日 | AL40: ： | AN40: ～
I41: 様 | AC41: 令和 | AF41: 年 | AH41: 月 | AJ41: 日 | AL41: ： | AN41: ～
I42: 様 | AC42: 令和 | AF42: 年 | AH42: 月 | AJ42: 日 | AL42: ： | AN42: ～
I43: 様 | AC43: 令和 | AF43: 年 | AH43: 月 | AJ43: 日 | AL43: ： | AN43: ～
I44: 様 | AC44: 令和 | AF44: 年 | AH44: 月 | AJ44: 日 | AL44: ： | AN44: ～
I45: 様 | AC45: 令和 | AF45: 年 | AH45: 月 | AJ45: 日 | AL45: ： | AN45: ～
I46: 様 | AC46: 令和 | AF46: 年 | AH46: 月 | AJ46: 日 | AL46: ： | AN46: ～
A47: 業務 内容 | D47: 項目 | J47: 患者様氏名 | P47: 担当 | S47: 備考 | Y47: 項目 | AA47: 患者様氏名 | AG47: 内容 | AQ47: 担当
D48: 外 来 患 者 対 応 | F48: 外来患者 対応 | O48: 様 | Y48: 書 類 作 成 完 了 | AF48: 様
O49: 様 | AF49: 様
O50: 様 | AF50: 様
O51: 様 | AF51: 様
O52: 様 | AF52: 様
O53: 様 | AF53: 様
O54: 様 | AF54: 様
D55: 項目 | J55: 患者様氏名 | P55: 担当 | S55: 備考 | AF55: 様
D56: 入 退 院 支 援 | F56: 退院支援 | O56: 様 | AF56: 様
O57: 様 | AF57: 様
O58: 様 | Y58: 項目 | AG58: 件数 | AJ58: 担当 | AM58: 備考
O59: 様 | Y59: 電話対応 | AI59: 件
O60: 様 | Y60: 保健所への届出 | AI60: 件
F61: 退院請求 対応 | O61: 様 | Y61: 項目 | AG61: 内容
O62: 様 | Y62: 通院医療 観察法
F63: 入院患者 対応 | J63: 担当 | M63: 件数 | P63: 備考
O64: 件 | Y64: 認知症疾患 医療ｾﾝﾀｰ
O65: 件
O66: 件 | Y66: 各種会議参加 外部の業務
O67: 件
A68: 安全管理 | D68: 事故 | S68: 物品 購入 | AE68: 連絡 事項
D69: 苦情
D70: 紛失
D71: 他

Sheet 4
A1: ソーシャルワーカー室 業務日誌 | AH1: C.O.O | AL1: I.O.O | AP1: Ａ.Ｏ.Ｍ
H3: =曜日!B12 -> 令和7年 | M3: =曜日!C12 -> 12月 | P3: 4日 | S3: （ | T3: =曜日!D6 -> 木 | U3: ） | W3: 作成者 | Z3: ： | AA3: 大川 祥子
A5: 労務 状況 | D5: 勤務状況 | K5: 西舘 翔子 | P5: 公休 | T5: 大川 祥子 | Y5: 日勤 | AC5: 宇津木澤 育美 | AH5: 日勤 | AL5: 澤里 皓輝 | AP5: 日勤
K6: 安田 純子 | P6: 日勤 | T6: 石鉢 佳代 | Y6: 公休
A8: 入退院 状況 | D8: 入院形態 | K8: 東病棟 | Q8: 西病棟 | W8: 北病棟 | AC8: 南病棟 | AI8: 合計 | AO8: 総数
K9: 男性 | N9: 女性 | Q9: 男性 | T9: 女性 | W9: 男性 | Z9: 女性 | AC9: 男性 | AF9: 女性 | AI9: 男性 | AL9: 女性
D10: 任意入院 | K10: 5 | N10: 1 | Q10: 2 | T10: 5 | W10: 19 | Z10: 15 | AC10: 0 | AF10: 0 | AI10: =K10+Q10+W10+AC10 -> 26 | AL10: =N10+T10+Z10+AF10 -> 21 | AO10: =AI14 -> 182
D11: 医療保護入院 | K11: 20 | N11: 17 | Q11: 17 | T11: 20 | W11: 0 | Z11: 0 | AC11: 24 | AF11: 36 | AI11: =K11+Q11+W11+AC11 -> 61 | AL11: =N11+T11+Z11+AF11 -> 73
D12: 措置入院 | K12: 1 | N12: 0 | Q12: 0 | T12: 0 | W12: 0 | Z12: 0 | AC12: 0 | AF12: 0 | AI12: =K12+Q12+W12+AC12 -> 1 | AL12: =N12+T12+Z12+AF12 -> 0
D13: 合計 | K13: =SUM(K10:M12) -> 26 | N13: =SUM(N10:P12) -> 18 | Q13: =SUM(Q10:S12) -> 19 | T13: =SUM(T10:V12) -> 25 | W13: =SUM(W10:Y12) -> 19 | Z13: =SUM(Z10:AB12) -> 15 | AC13: =SUM(AC10:AE12) -> 24 | AF13: =SUM(AF10:AH12) -> 36 | AI13: =SUM(K13+Q13+W13+AC13) -> 88 | AL13: =SUM(N13+T13+Z13+AF13) -> 94 | AO13: 人
K14: =K13+N13 -> 44 | Q14: =Q13+T13 -> 44 | W14: =W13+Z13 -> 34 | AC14: =AC13+AF13 -> 60 | AI14: =AI13+AL13 -> 182
F15: 患者様氏名 | N15: 入院形態 | T15: 担当Dr | Y15: 担当SW | AD15: 病棟 | AJ15: 備考欄
D16: 入院 | F16: 蛭子 修 | L16: 様 | N16: 任意入院 | T16: 柞木田なつみDr | AD16: 東D
F17: 坪田 節子 | L17: 様 | N17: 医療保護入院 | T17: 村上祐介Dr | Y17: 大川 祥子 | AD17: 東C
L18: 様
L19: 様
L20: 様
D21: 退院 | F21: 松尾 朱佑 | L21: 様 | N21: 医療保護入院 | T21: 小栁匡相Dr | AD21: 東A
L22: 様
L23: 様
L24: 様
L25: 様
D26: 転棟 ･ 入院形態変更 | F26: 福村 秀吉 | L26: 様 | N26: 医療保護入院 | T26: 馬渡晃弘Dr | AD26: 西B→東A
F27: 曽我 正子 | L27: 様 | AD27: 医保→任意
L28: 様
L29: 様
L30: 様
A31: 患者様 関連 | D31: 患者様氏名 | K31: 担当Dr | P31: 病棟 | S31: 制限内容 | X31: 制限時間 | AC31: 開始日時 | AO31: 備考
D32: 三浦 華菜 | I32: 様 | K32: 馬渡晃弘Dr | P32: 東A | S32: 通信制限 | X32: 通信制限 | AC32: 令和 | AE32: 7 | AF32: 年 | AG32: 9 | AH32: 月 | AI32: 29 | AJ32: 日 | AL32: ： | AN32: ～
D33: 中村 聡 | I33: 様 | K33: 金泰徳Dr | P33: 東B | S33: 通信制限 | X33: 通信制限 | AC33: 令和 | AE33: 3 | AF33: 年 | AG33: 5 | AH33: 月 | AI33: 31 | AJ33: 日 | AL33: ： | AN33: ～
D34: 風張 久美子 | I34: 様 | K34: 柞木田なつみDr | P34: 西B | S34: 通信制限 | X34: 通信制限 | AC34: 令和 | AE34: 6 | AF34: 年 | AG34: 3 | AH34: 月 | AI34: 4 | AJ34: 日 | AL34: ： | AN34: ～
D35: 庭田 久美子 | I35: 様 | K35: 小栁匡相Dr | P35: 東B | S35: 通信制限 | X35: 通信制限 | AC35: 令和 | AE35: 6 | AF35: 年 | AG35: 12 | AH35: 月 | AI35: 24 | AJ35: 日 | AL35: ： | AN35: ～
D36: 宮崎 宏之 | I36: 様 | K36: 馬渡晃弘Dr | P36: 東A | S36: 終日隔離 | X36: 終日隔離 | AC36: 令和 | AE36: 6 | AF36: 年 | AG36: 9 | AH36: 月 | AI36: 19 | AJ36: 日 | AL36: ： | AN36: ～
D37: 藤井 崇史 | I37: 様 | K37: 深澤隆Dr | P37: 東A | S37: 終日隔離 | X37: 終日隔離 | AC37: 令和 | AE37: 7 | AF37: 年 | AG37: 8 | AH37: 月 | AI37: 4 | AJ37: 日 | AL37: ： | AN37: ～
D38: 三浦 華菜 | I38: 様 | K38: 馬渡晃弘Dr | P38: 東A | S38: 身体拘束 | X38: 身体拘束 | AC38: 令和 | AE38: 7 | AF38: 年 | AG38: 11 | AH38: 月 | AI38: 27 | AJ38: 日 | AL38: ： | AN38: ～ | AO38: 解除
I39: 様 | AC39: 令和 | AF39: 年 | AH39: 月 | AJ39: 日 | AL39: ： | AN39: ～
I40: 様 | AC40: 令和 | AF40: 年 | AH40: 月 | AJ40: 日 | AL40: ： | AN40: ～
I41: 様 | AC41: 令和 | AF41: 年 | AH41: 月 | AJ41: 日 | AL41: ： | AN41: ～
I42: 様 | AC42: 令和 | AF42: 年 | AH42: 月 | AJ42: 日 | AL42: ： | AN42: ～
I43: 様 | AC43: 令和 | AF43: 年 | AH43: 月 | AJ43: 日 | AL43: ： | AN43: ～
I44: 様 | AC44: 令和 | AF44: 年 | AH44: 月 | AJ44: 日 | AL44: ： | AN44: ～
I45: 様 | AC45: 令和 | AF45: 年 | AH45: 月 | AJ45: 日 | AL45: ： | AN45: ～
I46: 様 | AC46: 令和 | AF46: 年 | AH46: 月 | AJ46: 日 | AL46: ： | AN46: ～
A47: 業務 内容 | D47: 項目 | J47: 患者様氏名 | P47: 担当 | S47: 備考 | Y47: 項目 | AA47: 患者様氏名 | AG47: 内容 | AQ47: 担当
D48: 外 来 患 者 対 応 | F48: 外来患者 対応 | O48: 様 | Y48: 書 類 作 成 完 了 | AF48: 様
O49: 様 | AF49: 様
O50: 様 | AF50: 様
O51: 様 | AF51: 様
O52: 様 | AF52: 様
O53: 様 | AF53: 様
O54: 様 | AF54: 様
D55: 項目 | J55: 患者様氏名 | P55: 担当 | S55: 備考 | AF55: 様
D56: 入 退 院 支 援 | F56: 退院支援 | O56: 様 | AF56: 様
O57: 様 | AF57: 様
O58: 様 | Y58: 項目 | AG58: 件数 | AJ58: 担当 | AM58: 備考
O59: 様 | Y59: 電話対応 | AI59: 件
O60: 様 | Y60: 保健所への届出 | AI60: 件
F61: 退院請求 対応 | O61: 様 | Y61: 項目 | AG61: 内容
O62: 様 | Y62: 通院医療 観察法
F63: 入院患者 対応 | J63: 担当 | M63: 件数 | P63: 備考
O64: 件 | Y64: 認知症疾患 医療ｾﾝﾀｰ
O65: 件
O66: 件 | Y66: 各種会議参加 外部の業務
O67: 件
A68: 安全管理 | D68: 事故 | S68: 物品 購入 | AE68: 連絡 事項
D69: 苦情
D70: 紛失
D71: 他

Sheet 5
A1: ソーシャルワーカー室 業務日誌 | AH1: C.O.O | AL1: I.O.O | AP1: Ａ.Ｏ.Ｍ
H3: =曜日!B12 -> 令和7年 | M3: =曜日!C12 -> 12月 | P3: 5日 | S3: （ | T3: =曜日!D7 -> 金 | U3: ） | W3: 作成者 | Z3: ： | AA3: 大川 祥子
A5: 労務 状況 | D5: 勤務状況 | K5: 西舘 翔子 | P5: 公休 | T5: 大川 祥子 | Y5: 日勤 | AC5: 宇津木澤 育美 | AH5: 日勤 | AL5: 澤里 皓輝 | AP5: 日勤
K6: 安田 純子 | P6: 日勤 | T6: 石鉢 佳代 | Y6: 日勤
A8: 入退院 状況 | D8: 入院形態 | K8: 東病棟 | Q8: 西病棟 | W8: 北病棟 | AC8: 南病棟 | AI8: 合計 | AO8: 総数
K9: 男性 | N9: 女性 | Q9: 男性 | T9: 女性 | W9: 男性 | Z9: 女性 | AC9: 男性 | AF9: 女性 | AI9: 男性 | AL9: 女性
D10: 任意入院 | K10: 5 | N10: 1 | Q10: 2 | T10: 5 | W10: 19 | Z10: 15 | AC10: 0 | AF10: 0 | AI10: =K10+Q10+W10+AC10 -> 26 | AL10: =N10+T10+Z10+AF10 -> 21 | AO10: =AI14 -> 182
D11: 医療保護入院 | K11: 21 | N11: 17 | Q11: 16 | T11: 20 | W11: 0 | Z11: 0 | AC11: 24 | AF11: 36 | AI11: =K11+Q11+W11+AC11 -> 61 | AL11: =N11+T11+Z11+AF11 -> 73
D12: 措置入院 | K12: 1 | N12: 0 | Q12: 0 | T12: 0 | W12: 0 | Z12: 0 | AC12: 0 | AF12: 0 | AI12: =K12+Q12+W12+AC12 -> 1 | AL12: =N12+T12+Z12+AF12 -> 0
D13: 合計 | K13: =SUM(K10:M12) -> 27 | N13: =SUM(N10:P12) -> 18 | Q13: =SUM(Q10:S12) -> 18 | T13: =SUM(T10:V12) -> 25 | W13: =SUM(W10:Y12) -> 19 | Z13: =SUM(Z10:AB12) -> 15 | AC13: =SUM(AC10:AE12) -> 24 | AF13: =SUM(AF10:AH12) -> 36 | AI13: =SUM(K13+Q13+W13+AC13) -> 88 | AL13: =SUM(N13+T13+Z13+AF13) -> 94 | AO13: 人
K14: =K13+N13 -> 45 | Q14: =Q13+T13 -> 43 | W14: =W13+Z13 -> 34 | AC14: =AC13+AF13 -> 60 | AI14: =AI13+AL13 -> 182
F15: 患者様氏名 | N15: 入院形態 | T15: 担当Dr | Y15: 担当SW | AD15: 病棟 | AJ15: 備考欄
D16: 入院 | L16: 様
L17: 様
L18: 様
L19: 様
L20: 様
D21: 退院 | L21: 様
L22: 様
L23: 様
L24: 様
L25: 様
D26: 転棟 ･ 入院形態変更 | F26: 七戸 康徳 | L26: 様 | N26: 医療保護入院 | AD26: 西A→東D
L27: 様
L28: 様
L29: 様
L30: 様
A31: 患者様 関連 | D31: 患者様氏名 | K31: 担当Dr | P31: 病棟 | S31: 制限内容 | X31: 制限時間 | AC31: 開始日時 | AO31: 備考
D32: 三浦 華菜 | I32: 様 | K32: 馬渡晃弘Dr | P32: 東A | S32: 通信制限 | X32: 通信制限 | AC32: 令和 | AE32: 7 | AF32: 年 | AG32: 9 | AH32: 月 | AI32: 29 | AJ32: 日 | AL32: ： | AN32: ～
D33: 中村 聡 | I33: 様 | K33: 金泰徳Dr | P33: 東B | S33: 通信制限 | X33: 通信制限 | AC33: 令和 | AE33: 3 | AF33: 年 | AG33: 5 | AH33: 月 | AI33: 31 | AJ33: 日 | AL33: ： | AN33: ～
D34: 風張 久美子 | I34: 様 | K34: 柞木田なつみDr | P34: 西B | S34: 通信制限 | X34: 通信制限 | AC34: 令和 | AE34: 6 | AF34: 年 | AG34: 3 | AH34: 月 | AI34: 4 | AJ34: 日 | AL34: ： | AN34: ～
D35: 庭田 久美子 | I35: 様 | K35: 小栁匡相Dr | P35: 東B | S35: 通信制限 | X35: 通信制限 | AC35: 令和 | AE35: 6 | AF35: 年 | AG35: 12 | AH35: 月 | AI35: 24 | AJ35: 日 | AL35: ： | AN35: ～
D36: 宮崎 宏之 | I36: 様 | K36: 馬渡晃弘Dr | P36: 東A | S36: 終日隔離 | X36: 終日隔離 | AC36: 令和 | AE36: 6 | AF36: 年 | AG36: 9 | AH36: 月 | AI36: 19 | AJ36: 日 | AL36: ： | AN36: ～
D37: 藤井 崇史 | I37: 様 | K37: 深澤隆Dr | P37: 東A | S37: 終日隔離 | X37: 終日隔離 | AC37: 令和 | AE37: 7 | AF37: 年 | AG37: 8 | AH37: 月 | AI37: 4 | AJ37: 日 | AL37: ： | AN37: ～
D38: 福村 秀吉 | I38: 様 | K38: 馬渡晃弘Dr | P38: 東A | S38: 終日隔離 | X38: 終日隔離 | AC38: 令和 | AE38: 7 | AF38: 年 | AG38: 12 | AH38: 月 | AI38: 5 | AJ38: 日 | AL38: ： | AN38: ～ | AO38: 開始
D39: 長根 瞳 | I39: 様 | K39: 小栁匡相Dr | P39: 東A | S39: 終日隔離 | X39: 終日隔離 | AC39: 令和 | AE39: 7 | AF39: 年 | AG39: 12 | AH39: 月 | AI39: 5 | AJ39: 日 | AL39: ： | AN39: ～ | AO39: 開始
I40: 様 | AC40: 令和 | AF40: 年 | AH40: 月 | AJ40: 日 | AL40: ： | AN40: ～
I41: 様 | AC41: 令和 | AF41: 年 | AH41: 月 | AJ41: 日 | AL41: ： | AN41: ～
I42: 様 | AC42: 令和 | AF42: 年 | AH42: 月 | AJ42: 日 | AL42: ： | AN42: ～
I43: 様 | AC43: 令和 | AF43: 年 | AH43: 月 | AJ43: 日 | AL43: ： | AN43: ～
I44: 様 | AC44: 令和 | AF44: 年 | AH44: 月 | AJ44: 日 | AL44: ： | AN44: ～
I45: 様 | AC45: 令和 | AF45: 年 | AH45: 月 | AJ45: 日 | AL45: ： | AN45: ～
I46: 様 | AC46: 令和 | AF46: 年 | AH46: 月 | AJ46: 日 | AL46: ： | AN46: ～
A47: 業務 内容 | D47: 項目 | J47: 患者様氏名 | P47: 担当 | S47: 備考 | Y47: 項目 | AA47: 患者様氏名 | AG47: 内容 | AQ47: 担当
D48: 外 来 患 者 対 応 | F48: 外来患者 対応 | O48: 様 | Y48: 書 類 作 成 完 了 | AF48: 様
O49: 様 | AF49: 様
O50: 様 | AF50: 様
O51: 様 | AF51: 様
O52: 様 | AF52: 様
O53: 様 | AF53: 様
O54: 様 | AF54: 様
D55: 項目 | J55: 患者様氏名 | P55: 担当 | S55: 備考 | AF55: 様
D56: 入 退 院 支 援 | F56: 退院支援 | O56: 様 | AF56: 様
O57: 様 | AF57: 様
O58: 様 | Y58: 項目 | AG58: 件数 | AJ58: 担当 | AM58: 備考
O59: 様 | Y59: 電話対応 | AI59: 件
O60: 様 | Y60: 保健所への届出 | AI60: 件
F61: 退院請求 対応 | O61: 様 | Y61: 項目 | AG61: 内容
O62: 様 | Y62: 通院医療 観察法
F63: 入院患者 対応 | J63: 担当 | M63: 件数 | P63: 備考
O64: 件 | Y64: 認知症疾患 医療ｾﾝﾀｰ
O65: 件
O66: 件 | Y66: 各種会議参加 外部の業務
O67: 件
A68: 安全管理 | D68: 事故 | S68: 物品 購入 | AE68: 連絡 事項
D69: 苦情
D70: 紛失
D71: 他

Sheet 6
A1: ソーシャルワーカー室 業務日誌 | AH1: C.O.O | AL1: I.O.O | AP1: Ａ.Ｏ.Ｍ
H3: =曜日!B12 -> 令和7年 | M3: =曜日!C12 -> 12月 | P3: 6日 | S3: （ | T3: =曜日!D8 -> 土 | U3: ） | W3: 作成者 | Z3: ：
A5: 労務 状況 | D5: 勤務状況 | K5: 西舘 翔子 | P5: 日勤 | T5: 大川 祥子 | Y5: 公休 | AC5: 宇津木澤 育美 | AH5: 公休 | AL5: 澤里 皓輝 | AP5: 公休
K6: 安田 純子 | P6: 公休 | T6: 石鉢 佳代 | Y6: 公休
A8: 入退院 状況 | D8: 入院形態 | K8: 東病棟 | Q8: 西病棟 | W8: 北病棟 | AC8: 南病棟 | AI8: 合計 | AO8: 総数
K9: 男性 | N9: 女性 | Q9: 男性 | T9: 女性 | W9: 男性 | Z9: 女性 | AC9: 男性 | AF9: 女性 | AI9: 男性 | AL9: 女性
D10: 任意入院 | K10: 6 | N10: 2 | Q10: 2 | T10: 5 | W10: 18 | Z10: 15 | AC10: 0 | AF10: 0 | AI10: =K10+Q10+W10+AC10 -> 26 | AL10: =N10+T10+Z10+AF10 -> 22 | AO10: =AI14 -> 182
D11: 医療保護入院 | K11: 20 | N11: 17 | Q11: 17 | T11: 20 | W11: 0 | Z11: 0 | AC11: 23 | AF11: 36 | AI11: =K11+Q11+W11+AC11 -> 60 | AL11: =N11+T11+Z11+AF11 -> 73
D12: 措置入院 | K12: 1 | N12: 0 | Q12: 0 | T12: 0 | W12: 0 | Z12: 0 | AC12: 0 | AF12: 0 | AI12: =K12+Q12+W12+AC12 -> 1 | AL12: =N12+T12+Z12+AF12 -> 0
D13: 合計 | K13: =SUM(K10:M12) -> 27 | N13: =SUM(N10:P12) -> 19 | Q13: =SUM(Q10:S12) -> 19 | T13: =SUM(T10:V12) -> 25 | W13: =SUM(W10:Y12) -> 18 | Z13: =SUM(Z10:AB12) -> 15 | AC13: =SUM(AC10:AE12) -> 23 | AF13: =SUM(AF10:AH12) -> 36 | AI13: =SUM(K13+Q13+W13+AC13) -> 87 | AL13: =SUM(N13+T13+Z13+AF13) -> 95 | AO13: 人
K14: =K13+N13 -> 46 | Q14: =Q13+T13 -> 44 | W14: =W13+Z13 -> 33 | AC14: =AC13+AF13 -> 59 | AI14: =AI13+AL13 -> 182
F15: 患者様氏名 | N15: 入院形態 | T15: 担当Dr | Y15: 担当SW | AD15: 病棟 | AJ15: 備考欄
D16: 入院 | F16: 梅田 とよ子 | L16: 様 | N16: 任意入院 | T16: 馬渡晃弘Dr | AD16: 東A
L17: 様
L18: 様
L19: 様
L20: 様
D21: 退院 | F21: 清川 秀見 | L21: 様 | N21: 医療保護入院 | T21: 村上祐介Dr | Y21: 大川 祥子 | AD21: 南B
L22: 様
L23: 様
L24: 様
L25: 様
D26: 転棟 ･ 入院形態変更 | F26: 七戸 康徳 | L26: 様 | N26: 医療保護入院 | T26: 田名部茂Dr | AD26: 東D→西A
F27: 中居 敬悦 | L27: 様 | N27: 任意入院 | T27: 柞木田なつみDr | AD27: 北→東D
L28: 様
L29: 様
L30: 様
A31: 患者様 関連 | D31: 患者様氏名 | K31: 担当Dr | P31: 病棟 | S31: 制限内容 | X31: 制限時間 | AC31: 開始日時 | AO31: 備考
D32: 三浦 華菜 | I32: 様 | K32: 馬渡晃弘Dr | P32: 東A | S32: 通信制限 | X32: 通信制限 | AC32: 令和 | AE32: 7 | AF32: 年 | AG32: 9 | AH32: 月 | AI32: 29 | AJ32: 日 | AL32: ： | AN32: ～
D33: 中村 聡 | I33: 様 | K33: 金泰徳Dr | P33: 東B | S33: 通信制限 | X33: 通信制限 | AC33: 令和 | AE33: 3 | AF33: 年 | AG33: 5 | AH33: 月 | AI33: 31 | AJ33: 日 | AL33: ： | AN33: ～
D34: 風張 久美子 | I34: 様 | K34: 柞木田なつみDr | P34: 西B | S34: 通信制限 | X34: 通信制限 | AC34: 令和 | AE34: 6 | AF34: 年 | AG34: 3 | AH34: 月 | AI34: 4 | AJ34: 日 | AL34: ： | AN34: ～
D35: 庭田 久美子 | I35: 様 | K35: 小栁匡相Dr | P35: 東B | S35: 通信制限 | X35: 通信制限 | AC35: 令和 | AE35: 6 | AF35: 年 | AG35: 12 | AH35: 月 | AI35: 24 | AJ35: 日 | AL35: ： | AN35: ～
D36: 宮崎 宏之 | I36: 様 | K36: 馬渡晃弘Dr | P36: 東A | S36: 終日隔離 | X36: 終日隔離 | AC36: 令和 | AE36: 6 | AF36: 年 | AG36: 9 | AH36: 月 | AI36: 19 | AJ36: 日 | AL36: ： | AN36: ～
D37: 藤井 崇史 | I37: 様 | K37: 深澤隆Dr | P37: 東A | S37: 終日隔離 | X37: 終日隔離 | AC37: 令和 | AE37: 7 | AF37: 年 | AG37: 8 | AH37: 月 | AI37: 4 | AJ37: 日 | AL37: ： | AN37: ～
D38: 福村 秀吉 | I38: 様 | K38: 馬渡晃弘Dr | P38: 東A | S38: 終日隔離 | X38: 終日隔離 | AC38: 令和 | AE38: 7 | AF38: 年 | AG38: 12 | AH38: 月 | AI38: 5 | AJ38: 日 | AL38: ： | AN38: ～
D39: 長根 瞳 | I39: 様 | K39: 小栁匡相Dr | P39: 東A | S39: 終日隔離 | X39: 終日隔離 | AC39: 令和 | AE39: 7 | AF39: 年 | AG39: 12 | AH39: 月 | AI39: 5 | AJ39: 日 | AL39: ： | AN39: ～
I40: 様 | AC40: 令和 | AF40: 年 | AH40: 月 | AJ40: 日 | AL40: ： | AN40: ～
I41: 様 | AC41: 令和 | AF41: 年 | AH41: 月 | AJ41: 日 | AL41: ： | AN41: ～
I42: 様 | AC42: 令和 | AF42: 年 | AH42: 月 | AJ42: 日 | AL42: ： | AN42: ～
I43: 様 | AC43: 令和 | AF43: 年 | AH43: 月 | AJ43: 日 | AL43: ： | AN43: ～
I44: 様 | AC44: 令和 | AF44: 年 | AH44: 月 | AJ44: 日 | AL44: ： | AN44: ～
I45: 様 | AC45: 令和 | AF45: 年 | AH45: 月 | AJ45: 日 | AL45: ： | AN45: ～
I46: 様 | AC46: 令和 | AF46: 年 | AH46: 月 | AJ46: 日 | AL46: ： | AN46: ～
A47: 業務 内容 | D47: 項目 | J47: 患者様氏名 | P47: 担当 | S47: 備考 | Y47: 項目 | AA47: 患者様氏名 | AG47: 内容 | AQ47: 担当
D48: 外 来 患 者 対 応 | F48: 外来患者 対応 | O48: 様 | Y48: 書 類 作 成 完 了 | AF48: 様
O49: 様 | AF49: 様
O50: 様 | AF50: 様
O51: 様 | AF51: 様
O52: 様 | AF52: 様
O53: 様 | AF53: 様
O54: 様 | AF54: 様
D55: 項目 | J55: 患者様氏名 | P55: 担当 | S55: 備考 | AF55: 様
D56: 入 退 院 支 援 | F56: 退院支援 | O56: 様 | AF56: 様
O57: 様 | AF57: 様
O58: 様 | Y58: 項目 | AG58: 件数 | AJ58: 担当 | AM58: 備考
O59: 様 | Y59: 電話対応 | AI59: 件
O60: 様 | Y60: 保健所への届出 | AI60: 件
F61: 退院請求 対応 | O61: 様 | Y61: 項目 | AG61: 内容
O62: 様 | Y62: 通院医療 観察法
F63: 入院患者 対応 | J63: 担当 | M63: 件数 | P63: 備考
O64: 件 | Y64: 認知症疾患 医療ｾﾝﾀｰ
O65: 件
O66: 件 | Y66: 各種会議参加 外部の業務
O67: 件
A68: 安全管理 | D68: 事故 | S68: 物品 購入 | AE68: 連絡 事項
D69: 苦情
D70: 紛失
D71: 他

Sheet 7
A1: ソーシャルワーカー室 業務日誌 | AH1: C.O.O | AL1: I.O.O | AP1: Ａ.Ｏ.Ｍ
H3: =曜日!B12 -> 令和7年 | M3: =曜日!C12 -> 12月 | P3: 7日 | S3: （ | T3: =曜日!D9 -> 日 | U3: ） | W3: 作成者 | Z3: ：
A5: 労務 状況 | D5: 勤務状況 | K5: 西舘 翔子 | P5: 公休 | T5: 大川 祥子 | Y5: 公休 | AC5: 宇津木澤 育美 | AH5: 公休 | AL5: 澤里 皓輝 | AP5: 公休
K6: 安田 純子 | P6: 公休 | T6: 石鉢 佳代 | Y6: 公休
A8: 入退院 状況 | D8: 入院形態 | K8: 東病棟 | Q8: 西病棟 | W8: 北病棟 | AC8: 南病棟 | AI8: 合計 | AO8: 総数
K9: 男性 | N9: 女性 | Q9: 男性 | T9: 女性 | W9: 男性 | Z9: 女性 | AC9: 男性 | AF9: 女性 | AI9: 男性 | AL9: 女性
D10: 任意入院 | K10: 5 | N10: 3 | Q10: 2 | T10: 5 | W10: 19 | Z10: 15 | AC10: 0 | AF10: 0 | AI10: =K10+Q10+W10+AC10 -> 26 | AL10: =N10+T10+Z10+AF10 -> 23 | AO10: =AI14 -> 183
D11: 医療保護入院 | K11: 20 | N11: 17 | Q11: 17 | T11: 20 | W11: 0 | Z11: 0 | AC11: 23 | AF11: 36 | AI11: =K11+Q11+W11+AC11 -> 60 | AL11: =N11+T11+Z11+AF11 -> 73
D12: 措置入院 | K12: 1 | N12: 0 | Q12: 0 | T12: 0 | W12: 0 | Z12: 0 | AC12: 0 | AF12: 0 | AI12: =K12+Q12+W12+AC12 -> 1 | AL12: =N12+T12+Z12+AF12 -> 0
D13: 合計 | K13: =SUM(K10:M12) -> 26 | N13: =SUM(N10:P12) -> 20 | Q13: =SUM(Q10:S12) -> 19 | T13: =SUM(T10:V12) -> 25 | W13: =SUM(W10:Y12) -> 19 | Z13: =SUM(Z10:AB12) -> 15 | AC13: =SUM(AC10:AE12) -> 23 | AF13: =SUM(AF10:AH12) -> 36 | AI13: =SUM(K13+Q13+W13+AC13) -> 87 | AL13: =SUM(N13+T13+Z13+AF13) -> 96 | AO13: 人
K14: =K13+N13 -> 46 | Q14: =Q13+T13 -> 44 | W14: =W13+Z13 -> 34 | AC14: =AC13+AF13 -> 59 | AI14: =AI13+AL13 -> 183
F15: 患者様氏名 | N15: 入院形態 | T15: 担当Dr | Y15: 担当SW | AD15: 病棟 | AJ15: 備考欄
D16: 入院 | F16: 大坂 優佳 | L16: 様 | N16: 任意入院 | T16: 深澤隆Dr | AD16: 東A
L17: 様
L18: 様
L19: 様
L20: 様
D21: 退院 | L21: 様
L22: 様
L23: 様
L24: 様
L25: 様
D26: 転棟 ･ 入院形態変更 | F26: 中居 敬悦 | L26: 様 | N26: 任意入院 | T26: 柞木田なつみDr | AD26: 東D→北
L27: 様
L28: 様
L29: 様
L30: 様
A31: 患者様 関連 | D31: 患者様氏名 | K31: 担当Dr | P31: 病棟 | S31: 制限内容 | X31: 制限時間 | AC31: 開始日時 | AO31: 備考
D32: 三浦 華菜 | I32: 様 | K32: 馬渡晃弘Dr | P32: 東A | S32: 通信制限 | X32: 通信制限 | AC32: 令和 | AF32: 年 | AH32: 月 | AJ32: 日 | AL32: ： | AN32: ～
D33: 中村 聡 | I33: 様 | K33: 金泰徳Dr | P33: 東B | S33: 通信制限 | X33: 通信制限 | AC33: 令和 | AF33: 年 | AH33: 月 | AJ33: 日 | AL33: ： | AN33: ～
D34: 風張 久美子 | I34: 様 | K34: 柞木田なつみDr | P34: 西B | S34: 通信制限 | X34: 通信制限 | AC34: 令和 | AF34: 年 | AH34: 月 | AJ34: 日 | AL34: ： | AN34: ～
D35: 庭田 久美子 | I35: 様 | K35: 小栁匡相Dr | P35: 東B | S35: 通信制限 | X35: 通信制限 | AC35: 令和 | AF35: 年 | AH35: 月 | AJ35: 日 | AL35: ： | AN35: ～
D36: 宮崎 宏之 | I36: 様 | K36: 馬渡晃弘Dr | P36: 東A | S36: 終日隔離 | X36: 終日隔離 | AC36: 令和 | AF36: 年 | AH36: 月 | AJ36: 日 | AL36: ： | AN36: ～
D37: 藤井 崇史 | I37: 様 | K37: 深澤隆Dr | P37: 東A | S37: 終日隔離 | X37: 終日隔離 | AC37: 令和 | AF37: 年 | AH37: 月 | AJ37: 日 | AL37: ： | AN37: ～
D38: 福村 秀吉 | I38: 様 | K38: 馬渡晃弘Dr | P38: 東A | S38: 終日隔離 | X38: 終日隔離 | AC38: 令和 | AF38: 年 | AH38: 月 | AJ38: 日 | AL38: ： | AN38: ～
D39: 長根 瞳 | I39: 様 | K39: 小栁匡相Dr | P39: 東A | S39: 終日隔離 | X39: 終日隔離 | AC39: 令和 | AF39: 年 | AH39: 月 | AJ39: 日 | AL39: ： | AN39: ～
I40: 様 | AC40: 令和 | AF40: 年 | AH40: 月 | AJ40: 日 | AL40: ： | AN40: ～
I41: 様 | AC41: 令和 | AF41: 年 | AH41: 月 | AJ41: 日 | AL41: ： | AN41: ～
I42: 様 | AC42: 令和 | AF42: 年 | AH42: 月 | AJ42: 日 | AL42: ： | AN42: ～
I43: 様 | AC43: 令和 | AF43: 年 | AH43: 月 | AJ43: 日 | AL43: ： | AN43: ～
I44: 様 | AC44: 令和 | AF44: 年 | AH44: 月 | AJ44: 日 | AL44: ： | AN44: ～
I45: 様 | AC45: 令和 | AF45: 年 | AH45: 月 | AJ45: 日 | AL45: ： | AN45: ～
I46: 様 | AC46: 令和 | AF46: 年 | AH46: 月 | AJ46: 日 | AL46: ： | AN46: ～
A47: 業務 内容 | D47: 項目 | J47: 患者様氏名 | P47: 担当 | S47: 備考 | Y47: 項目 | AA47: 患者様氏名 | AG47: 内容 | AQ47: 担当
D48: 外 来 患 者 対 応 | F48: 外来患者 対応 | O48: 様 | Y48: 書 類 作 成 完 了 | AF48: 様
O49: 様 | AF49: 様
O50: 様 | AF50: 様
O51: 様 | AF51: 様
O52: 様 | AF52: 様
O53: 様 | AF53: 様
O54: 様 | AF54: 様
D55: 項目 | J55: 患者様氏名 | P55: 担当 | S55: 備考 | AF55: 様
D56: 入 退 院 支 援 | F56: 退院支援 | O56: 様 | AF56: 様
O57: 様 | AF57: 様
O58: 様 | Y58: 項目 | AG58: 件数 | AJ58: 担当 | AM58: 備考
O59: 様 | Y59: 電話対応 | AI59: 件
O60: 様 | Y60: 保健所への届出 | AI60: 件
F61: 退院請求 対応 | O61: 様 | Y61: 項目 | AG61: 内容
O62: 様 | Y62: 通院医療 観察法
F63: 入院患者 対応 | J63: 担当 | M63: 件数 | P63: 備考
O64: 件 | Y64: 認知症疾患 医療ｾﾝﾀｰ
O65: 件
O66: 件 | Y66: 各種会議参加 外部の業務
O67: 件
A68: 安全管理 | D68: 事故 | S68: 物品 購入 | AE68: 連絡 事項
D69: 苦情
D70: 紛失
D71: 他

Sheet 8
A1: ソーシャルワーカー室 業務日誌 | AH1: C.O.O | AL1: I.O.O | AP1: Ａ.Ｏ.Ｍ
H3: =曜日!B12 -> 令和7年 | M3: =曜日!C12 -> 12月 | P3: 8日 | S3: （ | T3: =曜日!D3 -> 月 | U3: ） | W3: 作成者 | Z3: ： | AA3: 宇津木澤 育美
A5: 労務 状況 | D5: 勤務状況 | K5: 西舘 翔子 | P5: 有給 | T5: 大川 祥子 | Y5: 日勤 | AC5: 宇津木澤 育美 | AH5: 日勤 | AL5: 澤里 皓輝 | AP5: 日勤
K6: 安田 純子 | P6: 日勤 | T6: 石鉢 佳代 | Y6: 日勤
A8: 入退院 状況 | D8: 入院形態 | K8: 東病棟 | Q8: 西病棟 | W8: 北病棟 | AC8: 南病棟 | AI8: 合計 | AO8: 総数
K9: 男性 | N9: 女性 | Q9: 男性 | T9: 女性 | W9: 男性 | Z9: 女性 | AC9: 男性 | AF9: 女性 | AI9: 男性 | AL9: 女性
D10: 任意入院 | K10: 5 | N10: 3 | Q10: 2 | T10: 5 | W10: 19 | Z10: 15 | AC10: 0 | AF10: 0 | AI10: =K10+Q10+W10+AC10 -> 26 | AL10: =N10+T10+Z10+AF10 -> 23 | AO10: =AI14 -> 183
D11: 医療保護入院 | K11: 20 | N11: 17 | Q11: 17 | T11: 20 | W11: 0 | Z11: 0 | AC11: 23 | AF11: 36 | AI11: =K11+Q11+W11+AC11 -> 60 | AL11: =N11+T11+Z11+AF11 -> 73
D12: 措置入院 | K12: 1 | N12: 0 | Q12: 0 | T12: 0 | W12: 0 | Z12: 0 | AC12: 0 | AF12: 0 | AI12: =K12+Q12+W12+AC12 -> 1 | AL12: =N12+T12+Z12+AF12 -> 0
D13: 合計 | K13: =SUM(K10:M12) -> 26 | N13: =SUM(N10:P12) -> 20 | Q13: =SUM(Q10:S12) -> 19 | T13: =SUM(T10:V12) -> 25 | W13: =SUM(W10:Y12) -> 19 | Z13: =SUM(Z10:AB12) -> 15 | AC13: =SUM(AC10:AE12) -> 23 | AF13: =SUM(AF10:AH12) -> 36 | AI13: =SUM(K13+Q13+W13+AC13) -> 87 | AL13: =SUM(N13+T13+Z13+AF13) -> 96 | AO13: 人
K14: =K13+N13 -> 46 | Q14: =Q13+T13 -> 44 | W14: =W13+Z13 -> 34 | AC14: =AC13+AF13 -> 59 | AI14: =AI13+AL13 -> 183
F15: 患者様氏名 | N15: 入院形態 | T15: 担当Dr | Y15: 担当SW | AD15: 病棟 | AJ15: 備考欄
D16: 入院 | F16: 太田 省三 | L16: 様 | N16: 医療保護入院 | T16: 金泰德Dr | Y16: 大川 祥子 | AD16: 東合
L17: 様
L18: 様
L19: 様
L20: 様
D21: 退院 | F21: 宮坂 喜一 | L21: 様 | N21: 医療保護入院 | T21: 深澤隆Dr | Y21: 大川 祥子 | AD21: 南A
L22: 様
L23: 様
L24: 様
L25: 様
D26: 転棟 ･ 入院形態変更 | F26: 玉田 文弘 | L26: 様 | N26: 医療保護入院 | T26: 小栁匡相Dr | AD26: 東C→南C
L27: 様
L28: 様
L29: 様
L30: 様
A31: 患者様 関連 | D31: 患者様氏名 | K31: 担当Dr | P31: 病棟 | S31: 制限内容 | X31: 制限時間 | AC31: 開始日時 | AO31: 備考
D32: 三浦 華菜 | I32: 様 | K32: 馬渡晃弘Dr | P32: 東A | S32: 通信制限 | X32: 通信制限 | AC32: 令和 | AF32: 年 | AH32: 月 | AJ32: 日 | AL32: ： | AN32: ～
D33: 中村 聡 | I33: 様 | K33: 金泰徳Dr | P33: 東B | S33: 通信制限 | X33: 通信制限 | AC33: 令和 | AF33: 年 | AH33: 月 | AJ33: 日 | AL33: ： | AN33: ～
D34: 風張 久美子 | I34: 様 | K34: 柞木田なつみDr | P34: 西B | S34: 通信制限 | X34: 通信制限 | AC34: 令和 | AF34: 年 | AH34: 月 | AJ34: 日 | AL34: ： | AN34: ～
D35: 庭田 久美子 | I35: 様 | K35: 小栁匡相Dr | P35: 東B | S35: 通信制限 | X35: 通信制限 | AC35: 令和 | AF35: 年 | AH35: 月 | AJ35: 日 | AL35: ： | AN35: ～
D36: 宮崎 宏之 | I36: 様 | K36: 馬渡晃弘Dr | P36: 東A | S36: 終日隔離 | X36: 終日隔離 | AC36: 令和 | AF36: 年 | AH36: 月 | AJ36: 日 | AL36: ： | AN36: ～
D37: 藤井 崇史 | I37: 様 | K37: 深澤隆Dr | P37: 東A | S37: 終日隔離 | X37: 終日隔離 | AC37: 令和 | AF37: 年 | AH37: 月 | AJ37: 日 | AL37: ： | AN37: ～
D38: 福村 秀吉 | I38: 様 | K38: 馬渡晃弘Dr | P38: 東A | S38: 終日隔離 | X38: 終日隔離 | AC38: 令和 | AF38: 年 | AH38: 月 | AJ38: 日 | AL38: ： | AN38: ～
D39: 長根 瞳 | I39: 様 | K39: 小栁匡相Dr | P39: 東A | S39: 終日隔離 | X39: 終日隔離 | AC39: 令和 | AF39: 年 | AH39: 月 | AJ39: 日 | AL39: ： | AN39: ～
I40: 様 | AC40: 令和 | AF40: 年 | AH40: 月 | AJ40: 日 | AL40: ： | AN40: ～
I41: 様 | AC41: 令和 | AF41: 年 | AH41: 月 | AJ41: 日 | AL41: ： | AN41: ～
I42: 様 | AC42: 令和 | AF42: 年 | AH42: 月 | AJ42: 日 | AL42: ： | AN42: ～
I43: 様 | AC43: 令和 | AF43: 年 | AH43: 月 | AJ43: 日 | AL43: ： | AN43: ～
I44: 様 | AC44: 令和 | AF44: 年 | AH44: 月 | AJ44: 日 | AL44: ： | AN44: ～
I45: 様 | AC45: 令和 | AF45: 年 | AH45: 月 | AJ45: 日 | AL45: ： | AN45: ～
I46: 様 | AC46: 令和 | AF46: 年 | AH46: 月 | AJ46: 日 | AL46: ： | AN46: ～
A47: 業務 内容 | D47: 項目 | J47: 患者様氏名 | P47: 担当 | S47: 備考 | Y47: 項目 | AA47: 患者様氏名 | AG47: 内容 | AQ47: 担当
D48: 外 来 患 者 対 応 | F48: 外来患者 対応 | O48: 様 | Y48: 書 類 作 成 完 了 | AF48: 様
O49: 様 | AF49: 様
O50: 様 | AF50: 様
O51: 様 | AF51: 様
O52: 様 | AF52: 様
O53: 様 | AF53: 様
O54: 様 | AF54: 様
D55: 項目 | J55: 患者様氏名 | P55: 担当 | S55: 備考 | AF55: 様
D56: 入 退 院 支 援 | F56: 退院支援 | O56: 様 | AF56: 様
O57: 様 | AF57: 様
O58: 様 | Y58: 項目 | AG58: 件数 | AJ58: 担当 | AM58: 備考
O59: 様 | Y59: 電話対応 | AI59: 件
O60: 様 | Y60: 保健所への届出 | AI60: 件
F61: 退院請求 対応 | O61: 様 | Y61: 項目 | AG61: 内容
O62: 様 | Y62: 通院医療 観察法
F63: 入院患者 対応 | J63: 担当 | M63: 件数 | P63: 備考
O64: 件 | Y64: 認知症疾患 医療ｾﾝﾀｰ
O65: 件
O66: 件 | Y66: 各種会議参加 外部の業務
O67: 件
A68: 安全管理 | D68: 事故 | S68: 物品 購入 | AE68: 連絡 事項
D69: 苦情
D70: 紛失
D71: 他

Sheet 9
A1: ソーシャルワーカー室 業務日誌 | AH1: C.O.O | AL1: I.O.O | AP1: Ａ.Ｏ.Ｍ
H3: =曜日!B12 -> 令和7年 | M3: =曜日!C12 -> 12月 | P3: 9日 | S3: （ | T3: =曜日!D4 -> 火 | U3: ） | W3: 作成者 | Z3: ： | AA3: 宇津木澤 育美
A5: 労務 状況 | D5: 勤務状況 | K5: 西舘 翔子 | P5: 日勤 | T5: 大川 祥子 | Y5: 有給 | AC5: 宇津木澤 育美 | AH5: 日勤 | AL5: 澤里 皓輝 | AP5: 日勤
K6: 安田 純子 | P6: 日勤 | T6: 石鉢 佳代 | Y6: 日勤
A8: 入退院 状況 | D8: 入院形態 | K8: 東病棟 | Q8: 西病棟 | W8: 北病棟 | AC8: 南病棟 | AI8: 合計 | AO8: 総数
K9: 男性 | N9: 女性 | Q9: 男性 | T9: 女性 | W9: 男性 | Z9: 女性 | AC9: 男性 | AF9: 女性 | AI9: 男性 | AL9: 女性
D10: 任意入院 | K10: 4 | N10: 4 | Q10: 2 | T10: 5 | W10: 19 | Z10: 15 | AC10: 0 | AF10: 0 | AI10: =K10+Q10+W10+AC10 -> 25 | AL10: =N10+T10+Z10+AF10 -> 24 | AO10: =AI14 -> 183
D11: 医療保護入院 | K11: 21 | N11: 16 | Q11: 17 | T11: 20 | W11: 0 | Z11: 0 | AC11: 23 | AF11: 36 | AI11: =K11+Q11+W11+AC11 -> 61 | AL11: =N11+T11+Z11+AF11 -> 72
D12: 措置入院 | K12: 1 | N12: 0 | Q12: 0 | T12: 0 | W12: 0 | Z12: 0 | AC12: 0 | AF12: 0 | AI12: =K12+Q12+W12+AC12 -> 1 | AL12: =N12+T12+Z12+AF12 -> 0
D13: 合計 | K13: =SUM(K10:M12) -> 26 | N13: =SUM(N10:P12) -> 20 | Q13: =SUM(Q10:S12) -> 19 | T13: =SUM(T10:V12) -> 25 | W13: =SUM(W10:Y12) -> 19 | Z13: =SUM(Z10:AB12) -> 15 | AC13: =SUM(AC10:AE12) -> 23 | AF13: =SUM(AF10:AH12) -> 36 | AI13: =SUM(K13+Q13+W13+AC13) -> 87 | AL13: =SUM(N13+T13+Z13+AF13) -> 96 | AO13: 人
K14: =K13+N13 -> 46 | Q14: =Q13+T13 -> 44 | W14: =W13+Z13 -> 34 | AC14: =AC13+AF13 -> 59 | AI14: =AI13+AL13 -> 183
F15: 患者様氏名 | N15: 入院形態 | T15: 担当Dr | Y15: 担当SW | AD15: 病棟 | AJ15: 備考欄
D16: 入院 | F16: 保土澤 光子 | L16: 様 | N16: 任意入院 | T16: 小栁匡相Dr | Y16: 安田 純子 | AD16: 東B
F17: 井畑 芳則 | L17: 様 | N17: 医療保護入院 | T17: 金泰德Dr | Y17: 西舘 翔子 | AD17: 東A
L18: 様
L19: 様
L20: 様
D21: 退院 | F21: 蛭子 修 | L21: 様 | N21: 任意入院 | T21: 柞木田なつみDr | Y21: 宇津木澤 育美 | AD21: 東D
F22: 川村 和 | L22: 様 | N22: 医療保護入院 | T22: 馬渡晃弘Dr | Y22: 大川 祥子 | AD22: 南B
L23: 様
L24: 様
L25: 様
D26: 転棟 ･ 入院形態変更 | F26: 間澤 ハル | L26: 様 | N26: 医療保護入院 | T26: 馬渡晃弘Dr | AD26: 東C→南B
L27: 様
L28: 様
L29: 様
L30: 様
A31: 患者様 関連 | D31: 患者様氏名 | K31: 担当Dr | P31: 病棟 | S31: 制限内容 | X31: 制限時間 | AC31: 開始日時 | AO31: 備考
D32: 三浦 華菜 | I32: 様 | K32: 馬渡晃弘Dr | P32: 東A | S32: 通信制限 | X32: 通信制限 | AC32: 令和 | AF32: 年 | AH32: 月 | AJ32: 日 | AL32: ： | AN32: ～
D33: 中村 聡 | I33: 様 | K33: 金泰徳Dr | P33: 東B | S33: 通信制限 | X33: 通信制限 | AC33: 令和 | AF33: 年 | AH33: 月 | AJ33: 日 | AL33: ： | AN33: ～
D34: 風張 久美子 | I34: 様 | K34: 柞木田なつみDr | P34: 西B | S34: 通信制限 | X34: 通信制限 | AC34: 令和 | AF34: 年 | AH34: 月 | AJ34: 日 | AL34: ： | AN34: ～
D35: 庭田 久美子 | I35: 様 | K35: 小栁匡相Dr | P35: 東B | S35: 通信制限 | X35: 通信制限 | AC35: 令和 | AF35: 年 | AH35: 月 | AJ35: 日 | AL35: ： | AN35: ～
D36: 宮崎 宏之 | I36: 様 | K36: 馬渡晃弘Dr | P36: 東A | S36: 終日隔離 | X36: 終日隔離 | AC36: 令和 | AF36: 年 | AH36: 月 | AJ36: 日 | AL36: ： | AN36: ～
D37: 藤井 崇史 | I37: 様 | K37: 深澤隆Dr | P37: 東A | S37: 終日隔離 | X37: 終日隔離 | AC37: 令和 | AF37: 年 | AH37: 月 | AJ37: 日 | AL37: ： | AN37: ～
D38: 福村 秀吉 | I38: 様 | K38: 馬渡晃弘Dr | P38: 東A | S38: 終日隔離 | X38: 終日隔離 | AC38: 令和 | AF38: 年 | AH38: 月 | AJ38: 日 | AL38: ： | AN38: ～
D39: 長根 瞳 | I39: 様 | K39: 小栁匡相Dr | P39: 東A | S39: 終日隔離 | X39: 終日隔離 | AC39: 令和 | AF39: 年 | AH39: 月 | AJ39: 日 | AL39: ： | AN39: ～
I40: 様 | AC40: 令和 | AF40: 年 | AH40: 月 | AJ40: 日 | AL40: ： | AN40: ～
I41: 様 | AC41: 令和 | AF41: 年 | AH41: 月 | AJ41: 日 | AL41: ： | AN41: ～
I42: 様 | AC42: 令和 | AF42: 年 | AH42: 月 | AJ42: 日 | AL42: ： | AN42: ～
I43: 様 | AC43: 令和 | AF43: 年 | AH43: 月 | AJ43: 日 | AL43: ： | AN43: ～
I44: 様 | AC44: 令和 | AF44: 年 | AH44: 月 | AJ44: 日 | AL44: ： | AN44: ～
I45: 様 | AC45: 令和 | AF45: 年 | AH45: 月 | AJ45: 日 | AL45: ： | AN45: ～
I46: 様 | AC46: 令和 | AF46: 年 | AH46: 月 | AJ46: 日 | AL46: ： | AN46: ～
A47: 業務 内容 | D47: 項目 | J47: 患者様氏名 | P47: 担当 | S47: 備考 | Y47: 項目 | AA47: 患者様氏名 | AG47: 内容 | AQ47: 担当
D48: 外 来 患 者 対 応 | F48: 外来患者 対応 | O48: 様 | Y48: 書 類 作 成 完 了 | AF48: 様
O49: 様 | AF49: 様
O50: 様 | AF50: 様
O51: 様 | AF51: 様
O52: 様 | AF52: 様
O53: 様 | AF53: 様
O54: 様 | AF54: 様
D55: 項目 | J55: 患者様氏名 | P55: 担当 | S55: 備考 | AF55: 様
D56: 入 退 院 支 援 | F56: 退院支援 | O56: 様 | AF56: 様
O57: 様 | AF57: 様
O58: 様 | Y58: 項目 | AG58: 件数 | AJ58: 担当 | AM58: 備考
O59: 様 | Y59: 電話対応 | AI59: 件
O60: 様 | Y60: 保健所への届出 | AI60: 件
F61: 退院請求 対応 | O61: 様 | Y61: 項目 | AG61: 内容
O62: 様 | Y62: 通院医療 観察法
F63: 入院患者 対応 | J63: 担当 | M63: 件数 | P63: 備考
O64: 件 | Y64: 認知症疾患 医療ｾﾝﾀｰ
O65: 件
O66: 件 | Y66: 各種会議参加 外部の業務
O67: 件
A68: 安全管理 | D68: 事故 | S68: 物品 購入 | AE68: 連絡 事項
D69: 苦情
D70: 紛失
D71: 他

Sheet 10
A1: ソーシャルワーカー室 業務日誌 | AH1: C.O.O | AL1: I.O.O | AP1: Ａ.Ｏ.Ｍ
H3: =曜日!B12 -> 令和7年 | M3: =曜日!C12 -> 12月 | P3: 10日 | S3: （ | T3: =曜日!D5 -> 水 | U3: ） | W3: 作成者 | Z3: ： | AA3: 宇津木澤 育美
A5: 労務 状況 | D5: 勤務状況 | K5: 西舘 翔子 | P5: 日勤 | T5: 大川 祥子 | Y5: 日勤 | AC5: 宇津木澤 育美 | AH5: 日勤 | AL5: 澤里 皓輝 | AP5: 公休
K6: 安田 純子 | P6: 日勤 | T6: 石鉢 佳代 | Y6: 日勤
A8: 入退院 状況 | D8: 入院形態 | K8: 東病棟 | Q8: 西病棟 | W8: 北病棟 | AC8: 南病棟 | AI8: 合計 | AO8: 総数
K9: 男性 | N9: 女性 | Q9: 男性 | T9: 女性 | W9: 男性 | Z9: 女性 | AC9: 男性 | AF9: 女性 | AI9: 男性 | AL9: 女性
D10: 任意入院 | K10: 4 | N10: 4 | Q10: 2 | T10: 5 | W10: 19 | Z10: 15 | AC10: 0 | AF10: 0 | AI10: =K10+Q10+W10+AC10 -> 25 | AL10: =N10+T10+Z10+AF10 -> 24 | AO10: =AI14 -> 183
D11: 医療保護入院 | K11: 20 | N11: 16 | Q11: 17 | T11: 20 | W11: 0 | Z11: 0 | AC11: 23 | AF11: 37 | AI11: =K11+Q11+W11+AC11 -> 60 | AL11: =N11+T11+Z11+AF11 -> 73
D12: 措置入院 | K12: 1 | N12: 0 | Q12: 0 | T12: 0 | W12: 0 | Z12: 0 | AC12: 0 | AF12: 0 | AI12: =K12+Q12+W12+AC12 -> 1 | AL12: =N12+T12+Z12+AF12 -> 0
D13: 合計 | K13: =SUM(K10:M12) -> 25 | N13: =SUM(N10:P12) -> 20 | Q13: =SUM(Q10:S12) -> 19 | T13: =SUM(T10:V12) -> 25 | W13: =SUM(W10:Y12) -> 19 | Z13: =SUM(Z10:AB12) -> 15 | AC13: =SUM(AC10:AE12) -> 23 | AF13: =SUM(AF10:AH12) -> 37 | AI13: =SUM(K13+Q13+W13+AC13) -> 86 | AL13: =SUM(N13+T13+Z13+AF13) -> 97 | AO13: 人
K14: =K13+N13 -> 45 | Q14: =Q13+T13 -> 44 | W14: =W13+Z13 -> 34 | AC14: =AC13+AF13 -> 60 | AI14: =AI13+AL13 -> 183
F15: 患者様氏名 | N15: 入院形態 | T15: 担当Dr | Y15: 担当SW | AD15: 病棟 | AJ15: 備考欄
D16: 入院 | F16: 尾形 アイカ | L16: 様 | N16: 医療保護入院 | T16: 村上祐介Dr | Y16: 西舘 翔子 | AD16: 東B
L17: 様
L18: 様
L19: 様
L20: 様
D21: 退院 | F21: 大澤 朋広 | L21: 様 | N21: 医療保護入院 | T21: 田名部茂Dr | Y21: 宇津木澤 育美 | AD21: 東合
L22: 様
L23: 様
L24: 様
L25: 様
D26: 転棟 ･ 入院形態変更 | F26: 坪田 節子 | L26: 様 | N26: 医療保護入院 | T26: 小栁匡相Dr | AD26: 東C→南C
L27: 様
L28: 様
L29: 様
L30: 様
A31: 患者様 関連 | D31: 患者様氏名 | K31: 担当Dr | P31: 病棟 | S31: 制限内容 | X31: 制限時間 | AC31: 開始日時 | AO31: 備考
D32: 三浦 華菜 | I32: 様 | K32: 馬渡晃弘Dr | P32: 東A | S32: 通信制限 | X32: 通信制限 | AC32: 令和 | AF32: 年 | AH32: 月 | AJ32: 日 | AL32: ： | AN32: ～
D33: 中村 聡 | I33: 様 | K33: 金泰徳Dr | P33: 東B | S33: 通信制限 | X33: 通信制限 | AC33: 令和 | AF33: 年 | AH33: 月 | AJ33: 日 | AL33: ： | AN33: ～
D34: 風張 久美子 | I34: 様 | K34: 柞木田なつみDr | P34: 西B | S34: 通信制限 | X34: 通信制限 | AC34: 令和 | AF34: 年 | AH34: 月 | AJ34: 日 | AL34: ： | AN34: ～
D35: 庭田 久美子 | I35: 様 | K35: 小栁匡相Dr | P35: 東B | S35: 通信制限 | X35: 通信制限 | AC35: 令和 | AF35: 年 | AH35: 月 | AJ35: 日 | AL35: ： | AN35: ～
D36: 宮崎 宏之 | I36: 様 | K36: 馬渡晃弘Dr | P36: 東A | S36: 終日隔離 | X36: 終日隔離 | AC36: 令和 | AF36: 年 | AH36: 月 | AJ36: 日 | AL36: ： | AN36: ～
D37: 藤井 崇史 | I37: 様 | K37: 深澤隆Dr | P37: 東A | S37: 終日隔離 | X37: 終日隔離 | AC37: 令和 | AF37: 年 | AH37: 月 | AJ37: 日 | AL37: ： | AN37: ～
D38: 福村 秀吉 | I38: 様 | K38: 馬渡晃弘Dr | P38: 東A | S38: 終日隔離 | X38: 終日隔離 | AC38: 令和 | AF38: 年 | AH38: 月 | AJ38: 日 | AL38: ： | AN38: ～
D39: 長根 瞳 | I39: 様 | K39: 小栁匡相Dr | P39: 東A | S39: 終日隔離 | X39: 終日隔離 | AC39: 令和 | AF39: 年 | AH39: 月 | AJ39: 日 | AL39: ： | AN39: ～
I40: 様 | AC40: 令和 | AF40: 年 | AH40: 月 | AJ40: 日 | AL40: ： | AN40: ～
I41: 様 | AC41: 令和 | AF41: 年 | AH41: 月 | AJ41: 日 | AL41: ： | AN41: ～
I42: 様 | AC42: 令和 | AF42: 年 | AH42: 月 | AJ42: 日 | AL42: ： | AN42: ～
I43: 様 | AC43: 令和 | AF43: 年 | AH43: 月 | AJ43: 日 | AL43: ： | AN43: ～
I44: 様 | AC44: 令和 | AF44: 年 | AH44: 月 | AJ44: 日 | AL44: ： | AN44: ～
I45: 様 | AC45: 令和 | AF45: 年 | AH45: 月 | AJ45: 日 | AL45: ： | AN45: ～
I46: 様 | AC46: 令和 | AF46: 年 | AH46: 月 | AJ46: 日 | AL46: ： | AN46: ～
A47: 業務 内容 | D47: 項目 | J47: 患者様氏名 | P47: 担当 | S47: 備考 | Y47: 項目 | AA47: 患者様氏名 | AG47: 内容 | AQ47: 担当
D48: 外 来 患 者 対 応 | F48: 外来患者 対応 | O48: 様 | Y48: 書 類 作 成 完 了 | AF48: 様
O49: 様 | AF49: 様
O50: 様 | AF50: 様
O51: 様 | AF51: 様
O52: 様 | AF52: 様
O53: 様 | AF53: 様
O54: 様 | AF54: 様
D55: 項目 | J55: 患者様氏名 | P55: 担当 | S55: 備考 | AF55: 様
D56: 入 退 院 支 援 | F56: 退院支援 | O56: 様 | AF56: 様
O57: 様 | AF57: 様
O58: 様 | Y58: 項目 | AG58: 件数 | AJ58: 担当 | AM58: 備考
O59: 様 | Y59: 電話対応 | AI59: 件
O60: 様 | Y60: 保健所への届出 | AI60: 件
F61: 退院請求 対応 | O61: 様 | Y61: 項目 | AG61: 内容
O62: 様 | Y62: 通院医療 観察法
F63: 入院患者 対応 | J63: 担当 | M63: 件数 | P63: 備考
O64: 件 | Y64: 認知症疾患 医療ｾﾝﾀｰ
O65: 件
O66: 件 | Y66: 各種会議参加 外部の業務
O67: 件
A68: 安全管理 | D68: 事故 | S68: 物品 購入 | AE68: 連絡 事項
D69: 苦情
D70: 紛失
D71: 他

Sheet 11
A1: ソーシャルワーカー室 業務日誌 | AH1: C.O.O | AL1: I.O.O | AP1: Ａ.Ｏ.Ｍ
H3: =曜日!B12 -> 令和7年 | M3: =曜日!C12 -> 12月 | P3: 11日 | S3: （ | T3: =曜日!D6 -> 木 | U3: ） | W3: 作成者 | Z3: ： | AA3: 宇津木澤 育美
A5: 労務 状況 | D5: 勤務状況 | K5: 西舘 翔子 | P5: 日勤 | T5: 大川 祥子 | Y5: 日勤 | AC5: 宇津木澤 育美 | AH5: 日勤 | AL5: 澤里 皓輝 | AP5: 日勤
K6: 安田 純子 | P6: 公休 | T6: 石鉢 佳代 | Y6: 欠勤
A8: 入退院 状況 | D8: 入院形態 | K8: 東病棟 | Q8: 西病棟 | W8: 北病棟 | AC8: 南病棟 | AI8: 合計 | AO8: 総数
K9: 男性 | N9: 女性 | Q9: 男性 | T9: 女性 | W9: 男性 | Z9: 女性 | AC9: 男性 | AF9: 女性 | AI9: 男性 | AL9: 女性
D10: 任意入院 | K10: 3 | N10: 6 | Q10: 2 | T10: 3 | W10: 19 | Z10: 15 | AC10: 0 | AF10: 0 | AI10: =K10+Q10+W10+AC10 -> 24 | AL10: =N10+T10+Z10+AF10 -> 24 | AO10: =AI14 -> 182
D11: 医療保護入院 | K11: 20 | N11: 16 | Q11: 17 | T11: 20 | W11: 0 | Z11: 0 | AC11: 23 | AF11: 37 | AI11: =K11+Q11+W11+AC11 -> 60 | AL11: =N11+T11+Z11+AF11 -> 73
D12: 措置入院 | K12: 1 | N12: 0 | Q12: 0 | T12: 0 | W12: 0 | Z12: 0 | AC12: 0 | AF12: 0 | AI12: =K12+Q12+W12+AC12 -> 1 | AL12: =N12+T12+Z12+AF12 -> 0
D13: 合計 | K13: =SUM(K10:M12) -> 24 | N13: =SUM(N10:P12) -> 22 | Q13: =SUM(Q10:S12) -> 19 | T13: =SUM(T10:V12) -> 23 | W13: =SUM(W10:Y12) -> 19 | Z13: =SUM(Z10:AB12) -> 15 | AC13: =SUM(AC10:AE12) -> 23 | AF13: =SUM(AF10:AH12) -> 37 | AI13: =SUM(K13+Q13+W13+AC13) -> 85 | AL13: =SUM(N13+T13+Z13+AF13) -> 97 | AO13: 人
K14: =K13+N13 -> 46 | Q14: =Q13+T13 -> 42 | W14: =W13+Z13 -> 34 | AC14: =AC13+AF13 -> 60 | AI14: =AI13+AL13 -> 182
F15: 患者様氏名 | N15: 入院形態 | T15: 担当Dr | Y15: 担当SW | AD15: 病棟 | AJ15: 備考欄
D16: 入院 | L16: 様
L17: 様
L18: 様
L19: 様
L20: 様
D21: 退院 | F21: 伊藤 誠 | L21: 様 | N21: 任意入院 | T21: 小栁匡相Dr | Y21: 宇津木澤 育美 | AD21: 東B
L22: 様
L23: 様
L24: 様
L25: 様
D26: 転棟 ･ 入院形態変更 | F26: 坪坂 真由美 | L26: 様 | N26: 任意入院 | T26: 田名部茂Dr | AD26: 西B→東B
L27: 様
L28: 様
L29: 様
L30: 様
A31: 患者様 関連 | D31: 患者様氏名 | K31: 担当Dr | P31: 病棟 | S31: 制限内容 | X31: 制限時間 | AC31: 開始日時 | AO31: 備考
D32: 三浦 華菜 | I32: 様 | K32: 馬渡晃弘Dr | P32: 東A | S32: 通信制限 | X32: 通信制限 | AC32: 令和 | AF32: 年 | AH32: 月 | AJ32: 日 | AL32: ： | AN32: ～
D33: 中村 聡 | I33: 様 | K33: 金泰徳Dr | P33: 東B | S33: 通信制限 | X33: 通信制限 | AC33: 令和 | AF33: 年 | AH33: 月 | AJ33: 日 | AL33: ： | AN33: ～
D34: 風張 久美子 | I34: 様 | K34: 柞木田なつみDr | P34: 西B | S34: 通信制限 | X34: 通信制限 | AC34: 令和 | AF34: 年 | AH34: 月 | AJ34: 日 | AL34: ： | AN34: ～
D35: 庭田 久美子 | I35: 様 | K35: 小栁匡相Dr | P35: 東B | S35: 通信制限 | X35: 通信制限 | AC35: 令和 | AF35: 年 | AH35: 月 | AJ35: 日 | AL35: ： | AN35: ～
D36: 宮崎 宏之 | I36: 様 | K36: 馬渡晃弘Dr | P36: 東A | S36: 終日隔離 | X36: 終日隔離 | AC36: 令和 | AF36: 年 | AH36: 月 | AJ36: 日 | AL36: ： | AN36: ～
D37: 藤井 崇史 | I37: 様 | K37: 深澤隆Dr | P37: 東A | S37: 終日隔離 | X37: 終日隔離 | AC37: 令和 | AF37: 年 | AH37: 月 | AJ37: 日 | AL37: ： | AN37: ～
D38: 福村 秀吉 | I38: 様 | K38: 馬渡晃弘Dr | P38: 東A | S38: 終日隔離 | X38: 終日隔離 | AC38: 令和 | AF38: 年 | AH38: 月 | AJ38: 日 | AL38: ： | AN38: ～
D39: 長根 瞳 | I39: 様 | K39: 小栁匡相Dr | P39: 東A | S39: 終日隔離 | X39: 終日隔離 | AC39: 令和 | AF39: 年 | AH39: 月 | AJ39: 日 | AL39: ： | AN39: ～
I40: 様 | AC40: 令和 | AF40: 年 | AH40: 月 | AJ40: 日 | AL40: ： | AN40: ～
I41: 様 | AC41: 令和 | AF41: 年 | AH41: 月 | AJ41: 日 | AL41: ： | AN41: ～
I42: 様 | AC42: 令和 | AF42: 年 | AH42: 月 | AJ42: 日 | AL42: ： | AN42: ～
I43: 様 | AC43: 令和 | AF43: 年 | AH43: 月 | AJ43: 日 | AL43: ： | AN43: ～
I44: 様 | AC44: 令和 | AF44: 年 | AH44: 月 | AJ44: 日 | AL44: ： | AN44: ～
I45: 様 | AC45: 令和 | AF45: 年 | AH45: 月 | AJ45: 日 | AL45: ： | AN45: ～
I46: 様 | AC46: 令和 | AF46: 年 | AH46: 月 | AJ46: 日 | AL46: ： | AN46: ～
A47: 業務 内容 | D47: 項目 | J47: 患者様氏名 | P47: 担当 | S47: 備考 | Y47: 項目 | AA47: 患者様氏名 | AG47: 内容 | AQ47: 担当
D48: 外 来 患 者 対 応 | F48: 外来患者 対応 | O48: 様 | Y48: 書 類 作 成 完 了 | AF48: 様
O49: 様 | AF49: 様
O50: 様 | AF50: 様
O51: 様 | AF51: 様
O52: 様 | AF52: 様
O53: 様 | AF53: 様
O54: 様 | AF54: 様
D55: 項目 | J55: 患者様氏名 | P55: 担当 | S55: 備考 | AF55: 様
D56: 入 退 院 支 援 | F56: 退院支援 | O56: 様 | AF56: 様
O57: 様 | AF57: 様
O58: 様 | Y58: 項目 | AG58: 件数 | AJ58: 担当 | AM58: 備考
O59: 様 | Y59: 電話対応 | AI59: 件
O60: 様 | Y60: 保健所への届出 | AI60: 件
F61: 退院請求 対応 | O61: 様 | Y61: 項目 | AG61: 内容
O62: 様 | Y62: 通院医療 観察法
F63: 入院患者 対応 | J63: 担当 | M63: 件数 | P63: 備考
O64: 件 | Y64: 認知症疾患 医療ｾﾝﾀｰ
O65: 件
O66: 件 | Y66: 各種会議参加 外部の業務
O67: 件
A68: 安全管理 | D68: 事故 | S68: 物品 購入 | AE68: 連絡 事項
D69: 苦情
D70: 紛失
D71: 他

Sheet 12
A1: ソーシャルワーカー室 業務日誌 | AH1: C.O.O | AL1: I.O.O | AP1: Ａ.Ｏ.Ｍ
H3: =曜日!B12 -> 令和7年 | M3: =曜日!C12 -> 12月 | P3: 12日 | S3: （ | T3: =曜日!D7 -> 金 | U3: ） | W3: 作成者 | Z3: ： | AA3: 宇津木澤 育美
A5: 労務 状況 | D5: 勤務状況 | K5: 西舘 翔子 | P5: 日勤 | T5: 大川 祥子 | Y5: 日勤 | AC5: 宇津木澤 育美 | AH5: 日勤 | AL5: 澤里 皓輝 | AP5: 日勤
K6: 安田 純子 | P6: 日勤 | T6: 石鉢 佳代 | Y6: 日勤
A8: 入退院 状況 | D8: 入院形態 | K8: 東病棟 | Q8: 西病棟 | W8: 北病棟 | AC8: 南病棟 | AI8: 合計 | AO8: 総数
K9: 男性 | N9: 女性 | Q9: 男性 | T9: 女性 | W9: 男性 | Z9: 女性 | AC9: 男性 | AF9: 女性 | AI9: 男性 | AL9: 女性
D10: 任意入院 | K10: 3 | N10: 5 | Q10: 2 | T10: 4 | W10: 19 | Z10: 15 | AC10: 0 | AF10: 0 | AI10: =K10+Q10+W10+AC10 -> 24 | AL10: =N10+T10+Z10+AF10 -> 24 | AO10: =AI14 -> 184
D11: 医療保護入院 | K11: 20 | N11: 17 | Q11: 18 | T11: 20 | W11: 0 | Z11: 0 | AC11: 23 | AF11: 37 | AI11: =K11+Q11+W11+AC11 -> 61 | AL11: =N11+T11+Z11+AF11 -> 74
D12: 措置入院 | K12: 1 | N12: 0 | Q12: 0 | T12: 0 | W12: 0 | Z12: 0 | AC12: 0 | AF12: 0 | AI12: =K12+Q12+W12+AC12 -> 1 | AL12: =N12+T12+Z12+AF12 -> 0
D13: 合計 | K13: =SUM(K10:M12) -> 24 | N13: =SUM(N10:P12) -> 22 | Q13: =SUM(Q10:S12) -> 20 | T13: =SUM(T10:V12) -> 24 | W13: =SUM(W10:Y12) -> 19 | Z13: =SUM(Z10:AB12) -> 15 | AC13: =SUM(AC10:AE12) -> 23 | AF13: =SUM(AF10:AH12) -> 37 | AI13: =SUM(K13+Q13+W13+AC13) -> 86 | AL13: =SUM(N13+T13+Z13+AF13) -> 98 | AO13: 人
K14: =K13+N13 -> 46 | Q14: =Q13+T13 -> 44 | W14: =W13+Z13 -> 34 | AC14: =AC13+AF13 -> 60 | AI14: =AI13+AL13 -> 184
F15: 患者様氏名 | N15: 入院形態 | T15: 担当Dr | Y15: 担当SW | AD15: 病棟 | AJ15: 備考欄
D16: 入院 | F16: 鈴木 新藏 | L16: 様 | N16: 医療保護入院 | T16: 馬渡晃弘Dr | Y16: 大川 祥子 | AD16: 東C
F17: 長浜 厚子 | L17: 様 | N17: 医療保護入院 | T17: 柞木田なつみDr | Y17: 安田 純子 | AD17: 東合
L18: 様
L19: 様
L20: 様
D21: 退院 | L21: 様
L22: 様
L23: 様
L24: 様
L25: 様
D26: 転棟 ･ 入院形態変更 | F26: 大塚 勇人 | L26: 様 | N26: 医療保護入院 | T26: 金泰德Dr | AD26: 東B→西B
L27: 様
L28: 様
L29: 様
L30: 様
A31: 患者様 関連 | D31: 患者様氏名 | K31: 担当Dr | P31: 病棟 | S31: 制限内容 | X31: 制限時間 | AC31: 開始日時 | AO31: 備考
D32: 三浦 華菜 | I32: 様 | K32: 馬渡晃弘Dr | P32: 東A | S32: 通信制限 | X32: 通信制限 | AC32: 令和 | AF32: 年 | AH32: 月 | AJ32: 日 | AL32: ： | AN32: ～
D33: 中村 聡 | I33: 様 | K33: 金泰徳Dr | P33: 東B | S33: 通信制限 | X33: 通信制限 | AC33: 令和 | AF33: 年 | AH33: 月 | AJ33: 日 | AL33: ： | AN33: ～
D34: 風張 久美子 | I34: 様 | K34: 柞木田なつみDr | P34: 西B | S34: 通信制限 | X34: 通信制限 | AC34: 令和 | AF34: 年 | AH34: 月 | AJ34: 日 | AL34: ： | AN34: ～
D35: 庭田 久美子 | I35: 様 | K35: 小栁匡相Dr | P35: 東B | S35: 通信制限 | X35: 通信制限 | AC35: 令和 | AF35: 年 | AH35: 月 | AJ35: 日 | AL35: ： | AN35: ～
D36: 宮崎 宏之 | I36: 様 | K36: 馬渡晃弘Dr | P36: 東A | S36: 終日隔離 | X36: 終日隔離 | AC36: 令和 | AF36: 年 | AH36: 月 | AJ36: 日 | AL36: ： | AN36: ～
D37: 藤井 崇史 | I37: 様 | K37: 深澤隆Dr | P37: 東A | S37: 終日隔離 | X37: 終日隔離 | AC37: 令和 | AF37: 年 | AH37: 月 | AJ37: 日 | AL37: ： | AN37: ～
D38: 福村 秀吉 | I38: 様 | K38: 馬渡晃弘Dr | P38: 東A | S38: 終日隔離 | X38: 終日隔離 | AC38: 令和 | AF38: 年 | AH38: 月 | AJ38: 日 | AL38: ： | AN38: ～
D39: 長根 瞳 | I39: 様 | K39: 小栁匡相Dr | P39: 東A | S39: 終日隔離 | X39: 終日隔離 | AC39: 令和 | AF39: 年 | AH39: 月 | AJ39: 日 | AL39: ： | AN39: ～
I40: 様 | AC40: 令和 | AF40: 年 | AH40: 月 | AJ40: 日 | AL40: ： | AN40: ～
I41: 様 | AC41: 令和 | AF41: 年 | AH41: 月 | AJ41: 日 | AL41: ： | AN41: ～
I42: 様 | AC42: 令和 | AF42: 年 | AH42: 月 | AJ42: 日 | AL42: ： | AN42: ～
I43: 様 | AC43: 令和 | AF43: 年 | AH43: 月 | AJ43: 日 | AL43: ： | AN43: ～
I44: 様 | AC44: 令和 | AF44: 年 | AH44: 月 | AJ44: 日 | AL44: ： | AN44: ～
I45: 様 | AC45: 令和 | AF45: 年 | AH45: 月 | AJ45: 日 | AL45: ： | AN45: ～
I46: 様 | AC46: 令和 | AF46: 年 | AH46: 月 | AJ46: 日 | AL46: ： | AN46: ～
A47: 業務 内容 | D47: 項目 | J47: 患者様氏名 | P47: 担当 | S47: 備考 | Y47: 項目 | AA47: 患者様氏名 | AG47: 内容 | AQ47: 担当
D48: 外 来 患 者 対 応 | F48: 外来患者 対応 | O48: 様 | Y48: 書 類 作 成 完 了 | AF48: 様
O49: 様 | AF49: 様
O50: 様 | AF50: 様
O51: 様 | AF51: 様
O52: 様 | AF52: 様
O53: 様 | AF53: 様
O54: 様 | AF54: 様
D55: 項目 | J55: 患者様氏名 | P55: 担当 | S55: 備考 | AF55: 様
D56: 入 退 院 支 援 | F56: 退院支援 | O56: 様 | AF56: 様
O57: 様 | AF57: 様
O58: 様 | Y58: 項目 | AG58: 件数 | AJ58: 担当 | AM58: 備考
O59: 様 | Y59: 電話対応 | AI59: 件
O60: 様 | Y60: 保健所への届出 | AI60: 件
F61: 退院請求 対応 | O61: 様 | Y61: 項目 | AG61: 内容
O62: 様 | Y62: 通院医療 観察法
F63: 入院患者 対応 | J63: 担当 | M63: 件数 | P63: 備考
O64: 件 | Y64: 認知症疾患 医療ｾﾝﾀｰ
O65: 件
O66: 件 | Y66: 各種会議参加 外部の業務
O67: 件
A68: 安全管理 | D68: 事故 | S68: 物品 購入 | AE68: 連絡 事項
D69: 苦情
D70: 紛失
D71: 他

Sheet 13
A1: ソーシャルワーカー室 業務日誌 | AH1: C.O.O | AL1: I.O.O | AP1: Ａ.Ｏ.Ｍ
H3: =曜日!B12 -> 令和7年 | M3: =曜日!C12 -> 12月 | P3: 13日 | S3: （ | T3: =曜日!D8 -> 土 | U3: ） | W3: 作成者 | Z3: ： | AA3: 宇津木澤 育美
A5: 労務 状況 | D5: 勤務状況 | K5: 西舘 翔子 | P5: 公休 | T5: 大川 祥子 | Y5: 公休 | AC5: 宇津木澤 育美 | AH5: 公休 | AL5: 澤里 皓輝 | AP5: 日勤
K6: 安田 純子 | P6: 日勤 | T6: 石鉢 佳代 | Y6: 公休
A8: 入退院 状況 | D8: 入院形態 | K8: 東病棟 | Q8: 西病棟 | W8: 北病棟 | AC8: 南病棟 | AI8: 合計 | AO8: 総数
K9: 男性 | N9: 女性 | Q9: 男性 | T9: 女性 | W9: 男性 | Z9: 女性 | AC9: 男性 | AF9: 女性 | AI9: 男性 | AL9: 女性
D10: 任意入院 | K10: 4 | N10: 4 | Q10: 2 | T10: 5 | W10: 19 | Z10: 15 | AC10: 0 | AF10: 0 | AI10: =K10+Q10+W10+AC10 -> 25 | AL10: =N10+T10+Z10+AF10 -> 24 | AO10: =AI14 -> 183
D11: 医療保護入院 | K11: 20 | N11: 17 | Q11: 18 | T11: 20 | W11: 0 | Z11: 0 | AC11: 23 | AF11: 35 | AI11: =K11+Q11+W11+AC11 -> 61 | AL11: =N11+T11+Z11+AF11 -> 72
D12: 措置入院 | K12: 1 | N12: 0 | Q12: 0 | T12: 0 | W12: 0 | Z12: 0 | AC12: 0 | AF12: 0 | AI12: =K12+Q12+W12+AC12 -> 1 | AL12: =N12+T12+Z12+AF12 -> 0
D13: 合計 | K13: =SUM(K10:M12) -> 25 | N13: =SUM(N10:P12) -> 21 | Q13: =SUM(Q10:S12) -> 20 | T13: =SUM(T10:V12) -> 25 | W13: =SUM(W10:Y12) -> 19 | Z13: =SUM(Z10:AB12) -> 15 | AC13: =SUM(AC10:AE12) -> 23 | AF13: =SUM(AF10:AH12) -> 35 | AI13: =SUM(K13+Q13+W13+AC13) -> 87 | AL13: =SUM(N13+T13+Z13+AF13) -> 96 | AO13: 人
K14: =K13+N13 -> 46 | Q14: =Q13+T13 -> 45 | W14: =W13+Z13 -> 34 | AC14: =AC13+AF13 -> 58 | AI14: =AI13+AL13 -> 183
F15: 患者様氏名 | N15: 入院形態 | T15: 担当Dr | Y15: 担当SW | AD15: 病棟 | AJ15: 備考欄
D16: 入院 | F16: 田名部 哲史 | L16: 様 | N16: 任意入院 | T16: 柞木田なつみDr | Y16: 安田 純子 | AD16: 東A
L17: 様
L18: 様
L19: 様
L20: 様
D21: 退院 | F21: 白座 カツ | L21: 様 | N21: 医療保護入院 | T21: 田名部茂Dr | Y21: 大川 祥子 | AD21: 南C
F22: 本木 孝子 | L22: 様 | N22: 医療保護入院 | T22: 深澤隆Dr | Y22: 大川 祥子 | AD22: 南C
L23: 様
L24: 様
L25: 様
D26: 転棟 ･ 入院形態変更 | F26: 長谷川 実千代 | L26: 様 | N26: 任意入院 | T26: 柞木田なつみDr | AD26: 東D→西A
L27: 様
L28: 様
L29: 様
L30: 様
A31: 患者様 関連 | D31: 患者様氏名 | K31: 担当Dr | P31: 病棟 | S31: 制限内容 | X31: 制限時間 | AC31: 開始日時 | AO31: 備考
D32: 三浦 華菜 | I32: 様 | K32: 馬渡晃弘Dr | P32: 東A | S32: 通信制限 | X32: 通信制限 | AC32: 令和 | AF32: 年 | AH32: 月 | AJ32: 日 | AL32: ： | AN32: ～
D33: 中村 聡 | I33: 様 | K33: 金泰徳Dr | P33: 東B | S33: 通信制限 | X33: 通信制限 | AC33: 令和 | AF33: 年 | AH33: 月 | AJ33: 日 | AL33: ： | AN33: ～
D34: 風張 久美子 | I34: 様 | K34: 柞木田なつみDr | P34: 西B | S34: 通信制限 | X34: 通信制限 | AC34: 令和 | AF34: 年 | AH34: 月 | AJ34: 日 | AL34: ： | AN34: ～
D35: 庭田 久美子 | I35: 様 | K35: 小栁匡相Dr | P35: 東B | S35: 通信制限 | X35: 通信制限 | AC35: 令和 | AF35: 年 | AH35: 月 | AJ35: 日 | AL35: ： | AN35: ～
D36: 宮崎 宏之 | I36: 様 | K36: 馬渡晃弘Dr | P36: 東A | S36: 終日隔離 | X36: 終日隔離 | AC36: 令和 | AF36: 年 | AH36: 月 | AJ36: 日 | AL36: ： | AN36: ～
D37: 藤井 崇史 | I37: 様 | K37: 深澤隆Dr | P37: 東A | S37: 終日隔離 | X37: 終日隔離 | AC37: 令和 | AF37: 年 | AH37: 月 | AJ37: 日 | AL37: ： | AN37: ～
D38: 福村 秀吉 | I38: 様 | K38: 馬渡晃弘Dr | P38: 東A | S38: 終日隔離 | X38: 終日隔離 | AC38: 令和 | AF38: 年 | AH38: 月 | AJ38: 日 | AL38: ： | AN38: ～
D39: 長根 瞳 | I39: 様 | K39: 小栁匡相Dr | P39: 東A | S39: 終日隔離 | X39: 終日隔離 | AC39: 令和 | AF39: 年 | AH39: 月 | AJ39: 日 | AL39: ： | AN39: ～
I40: 様 | AC40: 令和 | AF40: 年 | AH40: 月 | AJ40: 日 | AL40: ： | AN40: ～
I41: 様 | AC41: 令和 | AF41: 年 | AH41: 月 | AJ41: 日 | AL41: ： | AN41: ～
I42: 様 | AC42: 令和 | AF42: 年 | AH42: 月 | AJ42: 日 | AL42: ： | AN42: ～
I43: 様 | AC43: 令和 | AF43: 年 | AH43: 月 | AJ43: 日 | AL43: ： | AN43: ～
I44: 様 | AC44: 令和 | AF44: 年 | AH44: 月 | AJ44: 日 | AL44: ： | AN44: ～
I45: 様 | AC45: 令和 | AF45: 年 | AH45: 月 | AJ45: 日 | AL45: ： | AN45: ～
I46: 様 | AC46: 令和 | AF46: 年 | AH46: 月 | AJ46: 日 | AL46: ： | AN46: ～
A47: 業務 内容 | D47: 項目 | J47: 患者様氏名 | P47: 担当 | S47: 備考 | Y47: 項目 | AA47: 患者様氏名 | AG47: 内容 | AQ47: 担当
D48: 外 来 患 者 対 応 | F48: 外来患者 対応 | O48: 様 | Y48: 書 類 作 成 完 了 | AF48: 様
O49: 様 | AF49: 様
O50: 様 | AF50: 様
O51: 様 | AF51: 様
O52: 様 | AF52: 様
O53: 様 | AF53: 様
O54: 様 | AF54: 様
D55: 項目 | J55: 患者様氏名 | P55: 担当 | S55: 備考 | AF55: 様
D56: 入 退 院 支 援 | F56: 退院支援 | O56: 様 | AF56: 様
O57: 様 | AF57: 様
O58: 様 | Y58: 項目 | AG58: 件数 | AJ58: 担当 | AM58: 備考
O59: 様 | Y59: 電話対応 | AI59: 件
O60: 様 | Y60: 保健所への届出 | AI60: 件
F61: 退院請求 対応 | O61: 様 | Y61: 項目 | AG61: 内容
O62: 様 | Y62: 通院医療 観察法
F63: 入院患者 対応 | J63: 担当 | M63: 件数 | P63: 備考
O64: 件 | Y64: 認知症疾患 医療ｾﾝﾀｰ
O65: 件
O66: 件 | Y66: 各種会議参加 外部の業務
O67: 件
A68: 安全管理 | D68: 事故 | S68: 物品 購入 | AE68: 連絡 事項
D69: 苦情
D70: 紛失
D71: 他

Sheet 14
A1: ソーシャルワーカー室 業務日誌 | AH1: C.O.O | AL1: I.O.O | AP1: Ａ.Ｏ.Ｍ
H3: =曜日!B12 -> 令和7年 | M3: =曜日!C12 -> 12月 | P3: 14日 | S3: （ | T3: =曜日!D9 -> 日 | U3: ） | W3: 作成者 | Z3: ： | AA3: 宇津木澤 育美
A5: 労務 状況 | D5: 勤務状況 | K5: 西舘 翔子 | P5: 公休 | T5: 大川 祥子 | Y5: 公休 | AC5: 宇津木澤 育美 | AH5: 公休 | AL5: 澤里 皓輝 | AP5: 公休
K6: 安田 純子 | P6: 公休 | T6: 石鉢 佳代 | Y6: 公休
A8: 入退院 状況 | D8: 入院形態 | K8: 東病棟 | Q8: 西病棟 | W8: 北病棟 | AC8: 南病棟 | AI8: 合計 | AO8: 総数
K9: 男性 | N9: 女性 | Q9: 男性 | T9: 女性 | W9: 男性 | Z9: 女性 | AC9: 男性 | AF9: 女性 | AI9: 男性 | AL9: 女性
D10: 任意入院 | K10: 4 | N10: 4 | Q10: 2 | T10: 5 | W10: 19 | Z10: 15 | AC10: 0 | AF10: 0 | AI10: =K10+Q10+W10+AC10 -> 25 | AL10: =N10+T10+Z10+AF10 -> 24 | AO10: =AI14 -> 184
D11: 医療保護入院 | K11: 20 | N11: 17 | Q11: 18 | T11: 20 | W11: 0 | Z11: 0 | AC11: 23 | AF11: 35 | AI11: =K11+Q11+W11+AC11 -> 61 | AL11: =N11+T11+Z11+AF11 -> 72
D12: 措置入院 | K12: 1 | N12: 1 | Q12: 0 | T12: 0 | W12: 0 | Z12: 0 | AC12: 0 | AF12: 0 | AI12: =K12+Q12+W12+AC12 -> 1 | AL12: =N12+T12+Z12+AF12 -> 1
D13: 合計 | K13: =SUM(K10:M12) -> 25 | N13: =SUM(N10:P12) -> 22 | Q13: =SUM(Q10:S12) -> 20 | T13: =SUM(T10:V12) -> 25 | W13: =SUM(W10:Y12) -> 19 | Z13: =SUM(Z10:AB12) -> 15 | AC13: =SUM(AC10:AE12) -> 23 | AF13: =SUM(AF10:AH12) -> 35 | AI13: =SUM(K13+Q13+W13+AC13) -> 87 | AL13: =SUM(N13+T13+Z13+AF13) -> 97 | AO13: 人
K14: =K13+N13 -> 47 | Q14: =Q13+T13 -> 45 | W14: =W13+Z13 -> 34 | AC14: =AC13+AF13 -> 58 | AI14: =AI13+AL13 -> 184
F15: 患者様氏名 | N15: 入院形態 | T15: 担当Dr | Y15: 担当SW | AD15: 病棟 | AJ15: 備考欄
D16: 入院 | F16: 石岡 夢空 | L16: 様 | N16: 措置入院 | T16: 小栁匡相Dr | AD16: 東A
L17: 様
L18: 様
L19: 様
L20: 様
D21: 退院 | L21: 様
L22: 様
L23: 様
L24: 様
L25: 様
D26: 転棟 ･ 入院形態変更 | L26: 様
L27: 様
L28: 様
L29: 様
L30: 様
A31: 患者様 関連 | D31: 患者様氏名 | K31: 担当Dr | P31: 病棟 | S31: 制限内容 | X31: 制限時間 | AC31: 開始日時 | AO31: 備考
D32: 三浦 華菜 | I32: 様 | K32: 馬渡晃弘Dr | P32: 東A | S32: 通信制限 | X32: 通信制限 | AC32: 令和 | AF32: 年 | AH32: 月 | AJ32: 日 | AL32: ： | AN32: ～
D33: 中村 聡 | I33: 様 | K33: 金泰徳Dr | P33: 東B | S33: 通信制限 | X33: 通信制限 | AC33: 令和 | AF33: 年 | AH33: 月 | AJ33: 日 | AL33: ： | AN33: ～
D34: 風張 久美子 | I34: 様 | K34: 柞木田なつみDr | P34: 西B | S34: 通信制限 | X34: 通信制限 | AC34: 令和 | AF34: 年 | AH34: 月 | AJ34: 日 | AL34: ： | AN34: ～
D35: 庭田 久美子 | I35: 様 | K35: 小栁匡相Dr | P35: 東B | S35: 通信制限 | X35: 通信制限 | AC35: 令和 | AF35: 年 | AH35: 月 | AJ35: 日 | AL35: ： | AN35: ～
D36: 宮崎 宏之 | I36: 様 | K36: 馬渡晃弘Dr | P36: 東A | S36: 終日隔離 | X36: 終日隔離 | AC36: 令和 | AF36: 年 | AH36: 月 | AJ36: 日 | AL36: ： | AN36: ～
D37: 藤井 崇史 | I37: 様 | K37: 深澤隆Dr | P37: 東A | S37: 終日隔離 | X37: 終日隔離 | AC37: 令和 | AF37: 年 | AH37: 月 | AJ37: 日 | AL37: ： | AN37: ～
D38: 福村 秀吉 | I38: 様 | K38: 馬渡晃弘Dr | P38: 東A | S38: 終日隔離 | X38: 終日隔離 | AC38: 令和 | AF38: 年 | AH38: 月 | AJ38: 日 | AL38: ： | AN38: ～
D39: 長根 瞳 | I39: 様 | K39: 小栁匡相Dr | P39: 東A | S39: 終日隔離 | X39: 終日隔離 | AC39: 令和 | AF39: 年 | AH39: 月 | AJ39: 日 | AL39: ： | AN39: ～
D40: 石岡 夢空 | I40: 様 | K40: 小栁匡相Dr | P40: 東A | S40: 終日隔離 | X40: 終日隔離 | AC40: 令和 | AE40: 7 | AF40: 年 | AG40: 12 | AH40: 月 | AI40: 14 | AJ40: 日 | AL40: ： | AN40: ～ | AO40: 開始
I41: 様 | AC41: 令和 | AF41: 年 | AH41: 月 | AJ41: 日 | AL41: ： | AN41: ～
I42: 様 | AC42: 令和 | AF42: 年 | AH42: 月 | AJ42: 日 | AL42: ： | AN42: ～
I43: 様 | AC43: 令和 | AF43: 年 | AH43: 月 | AJ43: 日 | AL43: ： | AN43: ～
I44: 様 | AC44: 令和 | AF44: 年 | AH44: 月 | AJ44: 日 | AL44: ： | AN44: ～
I45: 様 | AC45: 令和 | AF45: 年 | AH45: 月 | AJ45: 日 | AL45: ： | AN45: ～
I46: 様 | AC46: 令和 | AF46: 年 | AH46: 月 | AJ46: 日 | AL46: ： | AN46: ～
A47: 業務 内容 | D47: 項目 | J47: 患者様氏名 | P47: 担当 | S47: 備考 | Y47: 項目 | AA47: 患者様氏名 | AG47: 内容 | AQ47: 担当
D48: 外 来 患 者 対 応 | F48: 外来患者 対応 | O48: 様 | Y48: 書 類 作 成 完 了 | AF48: 様
O49: 様 | AF49: 様
O50: 様 | AF50: 様
O51: 様 | AF51: 様
O52: 様 | AF52: 様
O53: 様 | AF53: 様
O54: 様 | AF54: 様
D55: 項目 | J55: 患者様氏名 | P55: 担当 | S55: 備考 | AF55: 様
D56: 入 退 院 支 援 | F56: 退院支援 | O56: 様 | AF56: 様
O57: 様 | AF57: 様
O58: 様 | Y58: 項目 | AG58: 件数 | AJ58: 担当 | AM58: 備考
O59: 様 | Y59: 電話対応 | AI59: 件
O60: 様 | Y60: 保健所への届出 | AI60: 件
F61: 退院請求 対応 | O61: 様 | Y61: 項目 | AG61: 内容
O62: 様 | Y62: 通院医療 観察法
F63: 入院患者 対応 | J63: 担当 | M63: 件数 | P63: 備考
O64: 件 | Y64: 認知症疾患 医療ｾﾝﾀｰ
O65: 件
O66: 件 | Y66: 各種会議参加 外部の業務
O67: 件
A68: 安全管理 | D68: 事故 | S68: 物品 購入 | AE68: 連絡 事項
D69: 苦情
D70: 紛失
D71: 他

Sheet 16
A1: ソーシャルワーカー室 業務日誌 | AH1: C.O.O | AL1: I.O.O | AP1: Ａ.Ｏ.Ｍ
H3: =曜日!B12 -> 令和7年 | M3: =曜日!C12 -> 12月 | P3: 16日 | S3: （ | T3: =曜日!D4 -> 火 | U3: ） | W3: 作成者 | Z3: ： | AA3: 石鉢 佳代
A5: 労務 状況 | D5: 勤務状況 | K5: 西舘 翔子 | P5: 日勤 | T5: 大川 祥子 | Y5: 日勤 | AC5: 宇津木澤 育美 | AH5: 日勤 | AL5: 澤里 皓輝 | AP5: 日勤
K6: 安田 純子 | P6: 日勤 | T6: 石鉢 佳代 | Y6: 日勤
A8: 入退院 状況 | D8: 入院形態 | K8: 東病棟 | Q8: 西病棟 | W8: 北病棟 | AC8: 南病棟 | AI8: 合計 | AO8: 総数
K9: 男性 | N9: 女性 | Q9: 男性 | T9: 女性 | W9: 男性 | Z9: 女性 | AC9: 男性 | AF9: 女性 | AI9: 男性 | AL9: 女性
D10: 任意入院 | K10: 4 | N10: 4 | Q10: 2 | T10: 4 | W10: 19 | Z10: 16 | AC10: 0 | AF10: 0 | AI10: =K10+Q10+W10+AC10 -> 25 | AL10: =N10+T10+Z10+AF10 -> 24 | AO10: =AI14 -> 183
D11: 医療保護入院 | K11: 17 | N11: 17 | Q11: 19 | T11: 20 | W11: 0 | Z11: 0 | AC11: 25 | AF11: 34 | AI11: =K11+Q11+W11+AC11 -> 61 | AL11: =N11+T11+Z11+AF11 -> 71
D12: 措置入院 | K12: 1 | N12: 1 | Q12: 0 | T12: 0 | W12: 0 | Z12: 0 | AC12: 0 | AF12: 0 | AI12: =K12+Q12+W12+AC12 -> 1 | AL12: =N12+T12+Z12+AF12 -> 1
D13: 合計 | K13: =SUM(K10:M12) -> 22 | N13: =SUM(N10:P12) -> 22 | Q13: =SUM(Q10:S12) -> 21 | T13: =SUM(T10:V12) -> 24 | W13: =SUM(W10:Y12) -> 19 | Z13: =SUM(Z10:AB12) -> 16 | AC13: =SUM(AC10:AE12) -> 25 | AF13: =SUM(AF10:AH12) -> 34 | AI13: =SUM(K13+Q13+W13+AC13) -> 87 | AL13: =SUM(N13+T13+Z13+AF13) -> 96 | AO13: 人
K14: =K13+N13 -> 44 | Q14: =Q13+T13 -> 45 | W14: =W13+Z13 -> 35 | AC14: =AC13+AF13 -> 59 | AI14: =AI13+AL13 -> 183
F15: 患者様氏名 | N15: 入院形態 | T15: 担当Dr | Y15: 担当SW | AD15: 病棟 | AJ15: 備考欄
D16: 入院 | F16: 中山 正光 | L16: 様 | N16: 医療保護入院 | T16: 小栁匡相Dr | Y16: 宇津木澤 育美 | AD16: 東C
L17: 様
L18: 様
L19: 様
L20: 様
D21: 退院 | F21: 木村 礼子 | L21: 様 | N21: 医療保護入院 | T21: 深澤隆Dr | Y21: 大川 祥子 | AD21: 南D
F22: 川村 亨 | L22: 様 | N22: 医療保護入院 | T22: 馬渡晃弘Dr | Y22: 大川 祥子 | AD22: 南D
L23: 様
L24: 様
L25: 様
D26: 転棟 ･ 入院形態変更 | F26: 太田 省三 | L26: 様 | N26: 医療保護入院 | T26: 金泰德Dr | AD26: 東合→南D
F27: 花生 健治郎 | L27: 様 | N27: 医療保護入院 | T27: 柞木田なつみDr | AD27: 東C→南D
F28: 中村 聡 | L28: 様 | N28: 医療保護入院 | T28: 金泰德Dr | AD28: 東B→西B
F29: 小向 栄子 | L29: 様 | N29: 医療保護入院 | T29: 金泰德Dr | AD29: 東合→西A
L30: 様
A31: 患者様 関連 | D31: 患者様氏名 | K31: 担当Dr | P31: 病棟 | S31: 制限内容 | X31: 制限時間 | AC31: 開始日時 | AO31: 備考
D32: 三浦 華菜 | I32: 様 | K32: 馬渡晃弘Dr | P32: 東A | S32: 通信制限 | X32: 通信制限 | AC32: 令和 | AF32: 年 | AH32: 月 | AJ32: 日 | AL32: ： | AN32: ～
D33: 中村 聡 | I33: 様 | K33: 金泰徳Dr | P33: 東B | S33: 通信制限 | X33: 通信制限 | AC33: 令和 | AF33: 年 | AH33: 月 | AJ33: 日 | AL33: ： | AN33: ～
D34: 風張 久美子 | I34: 様 | K34: 柞木田なつみDr | P34: 西B | S34: 通信制限 | X34: 通信制限 | AC34: 令和 | AF34: 年 | AH34: 月 | AJ34: 日 | AL34: ： | AN34: ～
D35: 庭田 久美子 | I35: 様 | K35: 小栁匡相Dr | P35: 東B | S35: 通信制限 | X35: 通信制限 | AC35: 令和 | AF35: 年 | AH35: 月 | AJ35: 日 | AL35: ： | AN35: ～
D36: 宮崎 宏之 | I36: 様 | K36: 馬渡晃弘Dr | P36: 東A | S36: 終日隔離 | X36: 終日隔離 | AC36: 令和 | AF36: 年 | AH36: 月 | AJ36: 日 | AL36: ： | AN36: ～
D37: 藤井 崇史 | I37: 様 | K37: 深澤隆Dr | P37: 東A | S37: 終日隔離 | X37: 終日隔離 | AC37: 令和 | AF37: 年 | AH37: 月 | AJ37: 日 | AL37: ： | AN37: ～
D38: 福村 秀吉 | I38: 様 | K38: 馬渡晃弘Dr | P38: 東A | S38: 終日隔離 | X38: 終日隔離 | AC38: 令和 | AF38: 年 | AH38: 月 | AJ38: 日 | AL38: ： | AN38: ～
D39: 長根 瞳 | I39: 様 | K39: 小栁匡相Dr | P39: 東A | S39: 終日隔離 | X39: 終日隔離 | AC39: 令和 | AF39: 年 | AH39: 月 | AJ39: 日 | AL39: ： | AN39: ～
D40: 石岡 夢空 | I40: 様 | K40: 小栁匡相Dr | P40: 東A | S40: 終日隔離 | X40: 終日隔離 | AC40: 令和 | AF40: 年 | AH40: 月 | AJ40: 日 | AL40: ： | AN40: ～ | AO40: 終了
I41: 様 | AC41: 令和 | AF41: 年 | AH41: 月 | AJ41: 日 | AL41: ： | AN41: ～
I42: 様 | AC42: 令和 | AF42: 年 | AH42: 月 | AJ42: 日 | AL42: ： | AN42: ～
I43: 様 | AC43: 令和 | AF43: 年 | AH43: 月 | AJ43: 日 | AL43: ： | AN43: ～
I44: 様 | AC44: 令和 | AF44: 年 | AH44: 月 | AJ44: 日 | AL44: ： | AN44: ～
I45: 様 | AC45: 令和 | AF45: 年 | AH45: 月 | AJ45: 日 | AL45: ： | AN45: ～
I46: 様 | AC46: 令和 | AF46: 年 | AH46: 月 | AJ46: 日 | AL46: ： | AN46: ～
A47: 業務 内容 | D47: 項目 | J47: 患者様氏名 | P47: 担当 | S47: 備考 | Y47: 項目 | AA47: 患者様氏名 | AG47: 内容 | AQ47: 担当
D48: 外 来 患 者 対 応 | F48: 外来患者 対応 | O48: 様 | Y48: 書 類 作 成 完 了 | AF48: 様
O49: 様 | AF49: 様
O50: 様 | AF50: 様
O51: 様 | AF51: 様
O52: 様 | AF52: 様
O53: 様 | AF53: 様
O54: 様 | AF54: 様
D55: 項目 | J55: 患者様氏名 | P55: 担当 | S55: 備考 | AF55: 様
D56: 入 退 院 支 援 | F56: 退院支援 | O56: 様 | AF56: 様
O57: 様 | AF57: 様
O58: 様 | Y58: 項目 | AG58: 件数 | AJ58: 担当 | AM58: 備考
O59: 様 | Y59: 電話対応 | AI59: 件
O60: 様 | Y60: 保健所への届出 | AI60: 件
F61: 退院請求 対応 | O61: 様 | Y61: 項目 | AG61: 内容
O62: 様 | Y62: 通院医療 観察法
F63: 入院患者 対応 | J63: 担当 | M63: 件数 | P63: 備考
O64: 件 | Y64: 認知症疾患 医療ｾﾝﾀｰ
O65: 件
O66: 件 | Y66: 各種会議参加 外部の業務
O67: 件
A68: 安全管理 | D68: 事故 | S68: 物品 購入 | AE68: 連絡 事項
D69: 苦情
D70: 紛失
D71: 他

Sheet 15
A1: ソーシャルワーカー室 業務日誌 | AH1: C.O.O | AL1: I.O.O | AP1: Ａ.Ｏ.Ｍ
H3: =曜日!B12 -> 令和7年 | M3: =曜日!C12 -> 12月 | P3: 15日 | S3: （ | T3: =曜日!D3 -> 月 | U3: ） | W3: 作成者 | Z3: ： | AA3: 石鉢 佳代
A5: 労務 状況 | D5: 勤務状況 | K5: 西舘 翔子 | P5: 日勤 | T5: 大川 祥子 | Y5: 日勤 | AC5: 宇津木澤 育美 | AH5: 日勤 | AL5: 澤里 皓輝 | AP5: 日勤
K6: 安田 純子 | P6: 日勤 | T6: 石鉢 佳代
A8: 入退院 状況 | D8: 入院形態 | K8: 東病棟 | Q8: 西病棟 | W8: 北病棟 | AC8: 南病棟 | AI8: 合計 | AO8: 総数
K9: 男性 | N9: 女性 | Q9: 男性 | T9: 女性 | W9: 男性 | Z9: 女性 | AC9: 男性 | AF9: 女性 | AI9: 男性 | AL9: 女性
D10: 任意入院 | K10: 4 | N10: 4 | Q10: 2 | T10: 4 | W10: 19 | Z10: 16 | AC10: 0 | AF10: 0 | AI10: =K10+Q10+W10+AC10 -> 25 | AL10: =N10+T10+Z10+AF10 -> 24 | AO10: =AI14 -> 184
D11: 医療保護入院 | K11: 19 | N11: 18 | Q11: 18 | T11: 19 | W11: 0 | Z11: 0 | AC11: 24 | AF11: 35 | AI11: =K11+Q11+W11+AC11 -> 61 | AL11: =N11+T11+Z11+AF11 -> 72
D12: 措置入院 | K12: 1 | N12: 1 | Q12: 0 | T12: 0 | W12: 0 | Z12: 0 | AC12: 0 | AF12: 0 | AI12: =K12+Q12+W12+AC12 -> 1 | AL12: =N12+T12+Z12+AF12 -> 1
D13: 合計 | K13: =SUM(K10:M12) -> 24 | N13: =SUM(N10:P12) -> 23 | Q13: =SUM(Q10:S12) -> 20 | T13: =SUM(T10:V12) -> 23 | W13: =SUM(W10:Y12) -> 19 | Z13: =SUM(Z10:AB12) -> 16 | AC13: =SUM(AC10:AE12) -> 24 | AF13: =SUM(AF10:AH12) -> 35 | AI13: =SUM(K13+Q13+W13+AC13) -> 87 | AL13: =SUM(N13+T13+Z13+AF13) -> 97 | AO13: 人
K14: =K13+N13 -> 47 | Q14: =Q13+T13 -> 43 | W14: =W13+Z13 -> 35 | AC14: =AC13+AF13 -> 59 | AI14: =AI13+AL13 -> 184
F15: 患者様氏名 | N15: 入院形態 | T15: 担当Dr | Y15: 担当SW | AD15: 病棟 | AJ15: 備考欄
D16: 入院 | L16: 様
L17: 様
L18: 様
L19: 様
L20: 様
D21: 退院 | L21: 様
L22: 様
L23: 様
L24: 様
L25: 様
D26: 転棟 ･ 入院形態変更 | F26: 佐々木 廣 | L26: 様 | N26: 医療保護入院 | T26: 深澤隆Dr | AD26: 東C→南D
F27: 曽我 正子 | L27: 様 | N27: 任意入院 | T27: 馬渡晃弘Dr | AD27: 西B→北
F28: 小向 栄子 | L28: 様 | N28: 医療保護入院 | T28: 金泰德Dr | AD28: 西A→東合
L29: 様
L30: 様
L31: 様
A32: 患者様 関連 | AC32: 開始日時 | AO32: 備考
D33: 三浦 華菜 | I33: 様 | K33: 馬渡晃弘Dr | P33: 東A | S33: 通信制限 | X33: 通信制限 | AC33: 令和 | AF33: 年 | AH33: 月 | AJ33: 日 | AL33: ： | AN33: ～
D34: 中村 聡 | I34: 様 | K34: 金泰徳Dr | P34: 東B | S34: 通信制限 | X34: 通信制限 | AC34: 令和 | AF34: 年 | AH34: 月 | AJ34: 日 | AL34: ： | AN34: ～
D35: 風張 久美子 | I35: 様 | K35: 柞木田なつみDr | P35: 西B | S35: 通信制限 | X35: 通信制限 | AC35: 令和 | AF35: 年 | AH35: 月 | AJ35: 日 | AL35: ： | AN35: ～
D36: 庭田 久美子 | I36: 様 | K36: 小栁匡相Dr | P36: 東B | S36: 通信制限 | X36: 通信制限 | AC36: 令和 | AF36: 年 | AH36: 月 | AJ36: 日 | AL36: ： | AN36: ～
D37: 宮崎 宏之 | I37: 様 | K37: 馬渡晃弘Dr | P37: 東A | S37: 終日隔離 | X37: 終日隔離 | AC37: 令和 | AF37: 年 | AH37: 月 | AJ37: 日 | AL37: ： | AN37: ～
D38: 藤井 崇史 | I38: 様 | K38: 深澤隆Dr | P38: 東A | S38: 終日隔離 | X38: 終日隔離 | AC38: 令和 | AF38: 年 | AH38: 月 | AJ38: 日 | AL38: ： | AN38: ～
D39: 福村 秀吉 | I39: 様 | K39: 馬渡晃弘Dr | P39: 東A | S39: 終日隔離 | X39: 終日隔離 | AC39: 令和 | AF39: 年 | AH39: 月 | AJ39: 日 | AL39: ： | AN39: ～
D40: 長根 瞳 | I40: 様 | K40: 小栁匡相Dr | P40: 東A | S40: 終日隔離 | X40: 終日隔離 | AC40: 令和 | AF40: 年 | AH40: 月 | AJ40: 日 | AL40: ： | AN40: ～
D41: 石岡 夢空 | I41: 様 | K41: 小栁匡相Dr | P41: 東A | S41: 終日隔離 | X41: 終日隔離 | AC41: 令和 | AF41: 年 | AH41: 月 | AJ41: 日 | AL41: ： | AN41: ～
I42: 様 | AC42: 令和 | AF42: 年 | AH42: 月 | AJ42: 日 | AL42: ： | AN42: ～
I43: 様 | AC43: 令和 | AF43: 年 | AH43: 月 | AJ43: 日 | AL43: ： | AN43: ～
I44: 様 | AC44: 令和 | AF44: 年 | AH44: 月 | AJ44: 日 | AL44: ： | AN44: ～
I45: 様 | AC45: 令和 | AF45: 年 | AH45: 月 | AJ45: 日 | AL45: ： | AN45: ～
I46: 様 | AC46: 令和 | AF46: 年 | AH46: 月 | AJ46: 日 | AL46: ： | AN46: ～
I47: 様 | AC47: 令和 | AF47: 年 | AH47: 月 | AJ47: 日 | AL47: ： | AN47: ～
A48: 業務 内容 | D48: 項目 | J48: 患者様氏名 | P48: 担当 | S48: 備考 | Y48: 項目 | AA48: 患者様氏名 | AG48: 内容 | AQ48: 担当
D49: 外 来 患 者 対 応 | F49: 外来患者 対応 | O49: 様 | Y49: 書 類 作 成 完 了 | AF49: 様
O50: 様 | AF50: 様
O51: 様 | AF51: 様
O52: 様 | AF52: 様
O53: 様 | AF53: 様
O54: 様 | AF54: 様
O55: 様 | AF55: 様
D56: 項目 | J56: 患者様氏名 | P56: 担当 | S56: 備考 | AF56: 様
D57: 入 退 院 支 援 | F57: 退院支援 | O57: 様 | AF57: 様
O58: 様 | AF58: 様
O59: 様 | Y59: 項目 | AG59: 件数 | AJ59: 担当 | AM59: 備考
O60: 様 | Y60: 電話対応 | AI60: 件
O61: 様 | Y61: 保健所への届出 | AI61: 件
F62: 退院請求 対応 | O62: 様 | Y62: 項目 | AG62: 内容
O63: 様 | Y63: 通院医療 観察法
F64: 入院患者 対応 | J64: 担当 | M64: 件数 | P64: 備考
O65: 件 | Y65: 認知症疾患 医療ｾﾝﾀｰ
O66: 件
O67: 件 | Y67: 各種会議参加 外部の業務
O68: 件
A69: 安全管理 | D69: 事故 | S69: 物品 購入 | AE69: 連絡 事項
D70: 苦情
D71: 紛失
D72: 他

Sheet 17
A1: ソーシャルワーカー室 業務日誌 | AH1: C.O.O | AL1: I.O.O | AP1: Ａ.Ｏ.Ｍ
H3: =曜日!B12 -> 令和7年 | M3: =曜日!C12 -> 12月 | P3: 17日 | S3: （ | T3: =曜日!D5 -> 水 | U3: ） | W3: 作成者 | Z3: ： | AA3: 石鉢 佳代
A5: 労務 状況 | D5: 勤務状況 | K5: 西舘 翔子 | P5: 日勤 | T5: 大川 祥子 | Y5: 有給 | AC5: 宇津木澤 育美 | AH5: 日勤 | AL5: 澤里 皓輝 | AP5: 日勤
K6: 安田 純子 | P6: 日勤 | T6: 石鉢 佳代 | Y6: 有給
A8: 入退院 状況 | D8: 入院形態 | K8: 東病棟 | Q8: 西病棟 | W8: 北病棟 | AC8: 南病棟 | AI8: 合計 | AO8: 総数
K9: 男性 | N9: 女性 | Q9: 男性 | T9: 女性 | W9: 男性 | Z9: 女性 | AC9: 男性 | AF9: 女性 | AI9: 男性 | AL9: 女性
D10: 任意入院 | K10: 5 | N10: 4 | Q10: 2 | T10: 4 | W10: 19 | Z10: 16 | AC10: 0 | AF10: 0 | AI10: =K10+Q10+W10+AC10 -> 26 | AL10: =N10+T10+Z10+AF10 -> 24 | AO10: =AI14 -> 185
D11: 医療保護入院 | K11: 17 | N11: 16 | Q11: 19 | T11: 21 | W11: 0 | Z11: 0 | AC11: 25 | AF11: 35 | AI11: =K11+Q11+W11+AC11 -> 61 | AL11: =N11+T11+Z11+AF11 -> 72
D12: 措置入院 | K12: 1 | N12: 1 | Q12: 0 | T12: 0 | W12: 0 | Z12: 0 | AC12: 0 | AF12: 0 | AI12: =K12+Q12+W12+AC12 -> 1 | AL12: =N12+T12+Z12+AF12 -> 1
D13: 合計 | K13: =SUM(K10:M12) -> 23 | N13: =SUM(N10:P12) -> 21 | Q13: =SUM(Q10:S12) -> 21 | T13: =SUM(T10:V12) -> 25 | W13: =SUM(W10:Y12) -> 19 | Z13: =SUM(Z10:AB12) -> 16 | AC13: =SUM(AC10:AE12) -> 25 | AF13: =SUM(AF10:AH12) -> 35 | AI13: =SUM(K13+Q13+W13+AC13) -> 88 | AL13: =SUM(N13+T13+Z13+AF13) -> 97 | AO13: 人
K14: =K13+N13 -> 44 | Q14: =Q13+T13 -> 46 | W14: =W13+Z13 -> 35 | AC14: =AC13+AF13 -> 60 | AI14: =AI13+AL13 -> 185
F15: 患者様氏名 | N15: 入院形態 | T15: 担当Dr | Y15: 担当SW | AD15: 病棟 | AJ15: 備考欄
D16: 入院 | F16: 関 龍二 | L16: 様 | N16: 任意入院 | T16: 深澤隆Dr | Y16: 西舘 翔子 | AD16: 東A
F17: 山本 キリ | L17: 様 | N17: 医療保護入院 | T17: 田名部茂Dr | Y17: 澤里 皓輝 | AD17: 東合
L18: 様
L19: 様
L20: 様
D21: 退院 | L21: 様
L22: 様
L23: 様
L24: 様
L25: 様
D26: 転棟 ･ 入院形態変更 | F26: 坂本 愛子 | L26: 様 | N26: 医療保護入院 | T26: 金泰德Dr | AD26: 東C→南D
F27: 泉 沙耶 | L27: 様 | N27: 医療保護入院 | T27: 田名部茂Dr | AD27: 東合→西B
L28: 様
L29: 様
L30: 様
A31: 患者様 関連 | D31: 患者様氏名 | K31: 担当Dr | P31: 病棟 | S31: 制限内容 | X31: 制限時間 | AC31: 開始日時 | AO31: 備考
D32: 三浦 華菜 | I32: 様 | K32: 馬渡晃弘Dr | P32: 東A | S32: 通信制限 | X32: 通信制限 | AC32: 令和 | AF32: 年 | AH32: 月 | AJ32: 日 | AL32: ： | AN32: ～
D33: 中村 聡 | I33: 様 | K33: 金泰徳Dr | P33: 東B | S33: 通信制限 | X33: 通信制限 | AC33: 令和 | AF33: 年 | AH33: 月 | AJ33: 日 | AL33: ： | AN33: ～
D34: 風張 久美子 | I34: 様 | K34: 柞木田なつみDr | P34: 西B | S34: 通信制限 | X34: 通信制限 | AC34: 令和 | AF34: 年 | AH34: 月 | AJ34: 日 | AL34: ： | AN34: ～
D35: 庭田 久美子 | I35: 様 | K35: 小栁匡相Dr | P35: 東B | S35: 通信制限 | X35: 通信制限 | AC35: 令和 | AF35: 年 | AH35: 月 | AJ35: 日 | AL35: ： | AN35: ～
D36: 宮崎 宏之 | I36: 様 | K36: 馬渡晃弘Dr | P36: 東A | S36: 終日隔離 | X36: 終日隔離 | AC36: 令和 | AF36: 年 | AH36: 月 | AJ36: 日 | AL36: ： | AN36: ～
D37: 藤井 崇史 | I37: 様 | K37: 深澤隆Dr | P37: 東A | S37: 終日隔離 | X37: 終日隔離 | AC37: 令和 | AF37: 年 | AH37: 月 | AJ37: 日 | AL37: ： | AN37: ～
D38: 福村 秀吉 | I38: 様 | K38: 馬渡晃弘Dr | P38: 東A | S38: 終日隔離 | X38: 終日隔離 | AC38: 令和 | AF38: 年 | AH38: 月 | AJ38: 日 | AL38: ： | AN38: ～
D39: 長根 瞳 | I39: 様 | K39: 小栁匡相Dr | P39: 東A | S39: 終日隔離 | X39: 終日隔離 | AC39: 令和 | AF39: 年 | AH39: 月 | AJ39: 日 | AL39: ： | AN39: ～
I40: 様 | AC40: 令和 | AF40: 年 | AH40: 月 | AJ40: 日 | AL40: ： | AN40: ～
I41: 様 | AC41: 令和 | AF41: 年 | AH41: 月 | AJ41: 日 | AL41: ： | AN41: ～
I42: 様 | AC42: 令和 | AF42: 年 | AH42: 月 | AJ42: 日 | AL42: ： | AN42: ～
I43: 様 | AC43: 令和 | AF43: 年 | AH43: 月 | AJ43: 日 | AL43: ： | AN43: ～
I44: 様 | AC44: 令和 | AF44: 年 | AH44: 月 | AJ44: 日 | AL44: ： | AN44: ～
I45: 様 | AC45: 令和 | AF45: 年 | AH45: 月 | AJ45: 日 | AL45: ： | AN45: ～
I46: 様 | AC46: 令和 | AF46: 年 | AH46: 月 | AJ46: 日 | AL46: ： | AN46: ～
A47: 業務 内容 | D47: 項目 | J47: 患者様氏名 | P47: 担当 | S47: 備考 | Y47: 項目 | AA47: 患者様氏名 | AG47: 内容 | AQ47: 担当
D48: 外 来 患 者 対 応 | F48: 外来患者 対応 | O48: 様 | Y48: 書 類 作 成 完 了 | AF48: 様
O49: 様 | AF49: 様
O50: 様 | AF50: 様
O51: 様 | AF51: 様
O52: 様 | AF52: 様
O53: 様 | AF53: 様
O54: 様 | AF54: 様
D55: 項目 | J55: 患者様氏名 | P55: 担当 | S55: 備考 | AF55: 様
D56: 入 退 院 支 援 | F56: 退院支援 | O56: 様 | AF56: 様
O57: 様 | AF57: 様
O58: 様 | Y58: 項目 | AG58: 件数 | AJ58: 担当 | AM58: 備考
O59: 様 | Y59: 電話対応 | AI59: 件
O60: 様 | Y60: 保健所への届出 | AI60: 件
F61: 退院請求 対応 | O61: 様 | Y61: 項目 | AG61: 内容
O62: 様 | Y62: 通院医療 観察法
F63: 入院患者 対応 | J63: 担当 | M63: 件数 | P63: 備考
O64: 件 | Y64: 認知症疾患 医療ｾﾝﾀｰ
O65: 件
O66: 件 | Y66: 各種会議参加 外部の業務
O67: 件
A68: 安全管理 | D68: 事故 | S68: 物品 購入 | AE68: 連絡 事項
D69: 苦情
D70: 紛失
D71: 他

Sheet 18
A1: ソーシャルワーカー室 業務日誌 | AH1: C.O.O | AL1: I.O.O | AP1: Ａ.Ｏ.Ｍ
H3: =曜日!B12 -> 令和7年 | M3: =曜日!C12 -> 12月 | P3: 18日 | S3: （ | T3: =曜日!D6 -> 木 | U3: ） | W3: 作成者 | Z3: ： | AA3: 石鉢 佳代
A5: 労務 状況 | D5: 勤務状況 | K5: 西舘 翔子 | P5: 日勤 | T5: 大川 祥子 | Y5: 日勤 | AC5: 宇津木澤 育美 | AH5: 日勤 | AL5: 澤里 皓輝 | AP5: 日勤
K6: 安田 純子 | P6: 日勤 | T6: 石鉢 佳代 | Y6: 遅刻
A8: 入退院 状況 | D8: 入院形態 | K8: 東病棟 | Q8: 西病棟 | W8: 北病棟 | AC8: 南病棟 | AI8: 合計 | AO8: 総数
K9: 男性 | N9: 女性 | Q9: 男性 | T9: 女性 | W9: 男性 | Z9: 女性 | AC9: 男性 | AF9: 女性 | AI9: 男性 | AL9: 女性
D10: 任意入院 | K10: 6 | N10: 4 | Q10: 2 | T10: 3 | W10: 18 | Z10: 16 | AC10: 0 | AF10: 0 | AI10: =K10+Q10+W10+AC10 -> 26 | AL10: =N10+T10+Z10+AF10 -> 23 | AO10: =AI14 -> 186
D11: 医療保護入院 | K11: 17 | N11: 19 | Q11: 19 | T11: 21 | W11: 0 | Z11: 0 | AC11: 24 | AF11: 35 | AI11: =K11+Q11+W11+AC11 -> 60 | AL11: =N11+T11+Z11+AF11 -> 75
D12: 措置入院 | K12: 1 | N12: 1 | Q12: 0 | T12: 0 | W12: 0 | Z12: 0 | AC12: 0 | AF12: 0 | AI12: =K12+Q12+W12+AC12 -> 1 | AL12: =N12+T12+Z12+AF12 -> 1
D13: 合計 | K13: =SUM(K10:M12) -> 24 | N13: =SUM(N10:P12) -> 24 | Q13: =SUM(Q10:S12) -> 21 | T13: =SUM(T10:V12) -> 24 | W13: =SUM(W10:Y12) -> 18 | Z13: =SUM(Z10:AB12) -> 16 | AC13: =SUM(AC10:AE12) -> 24 | AF13: =SUM(AF10:AH12) -> 35 | AI13: =SUM(K13+Q13+W13+AC13) -> 87 | AL13: =SUM(N13+T13+Z13+AF13) -> 99 | AO13: 人
K14: =K13+N13 -> 48 | Q14: =Q13+T13 -> 45 | W14: =W13+Z13 -> 34 | AC14: =AC13+AF13 -> 59 | AI14: =AI13+AL13 -> 186
F15: 患者様氏名 | N15: 入院形態 | T15: 担当Dr | Y15: 担当SW | AD15: 病棟 | AJ15: 備考欄
D16: 入院 | F16: 神成 理紀之助 | L16: 様 | N16: 医療保護入院 | T16: 柞木田なつみDr | Y16: 宇津木澤 育美 | AD16: 東C
F17: 八幡 敏子 | L17: 様 | N17: 医療保護入院 | T17: 深澤隆Dr | Y17: 西舘 翔子 | AD17: 東合
F18: 田村 洋子 | L18: 様 | N18: 医療保護入院 | T18: 馬渡晃弘Dr | Y18: 澤里 皓輝 | AD18: 東C
L19: 様
L20: 様
D21: 退院 | F21: 袴田 裕國 | L21: 様 | N21: 医療保護入院 | T21: 小栁匡相Dr | Y21: 大川 祥子 | AD21: 南D
F22: 内山 陽大 | L22: 様 | N22: 任意入院 | T22: 田名部茂Dr | Y22: 安田 純子 | AD22: 北
L23: 様
L24: 様
L25: 様
D26: 転棟 ･ 入院形態変更 | L26: 様
L27: 様
L28: 様
L29: 様
L30: 様
A31: 患者様 関連 | D31: 患者様氏名 | K31: 担当Dr | P31: 病棟 | S31: 制限内容 | X31: 制限時間 | AC31: 開始日時 | AO31: 備考
D32: 三浦 華菜 | I32: 様 | K32: 馬渡晃弘Dr | P32: 東A | S32: 通信制限 | X32: 通信制限 | AC32: 令和 | AF32: 年 | AH32: 月 | AJ32: 日 | AL32: ： | AN32: ～
D33: 中村 聡 | I33: 様 | K33: 金泰徳Dr | P33: 東B | S33: 通信制限 | X33: 通信制限 | AC33: 令和 | AF33: 年 | AH33: 月 | AJ33: 日 | AL33: ： | AN33: ～
D34: 風張 久美子 | I34: 様 | K34: 柞木田なつみDr | P34: 西B | S34: 通信制限 | X34: 通信制限 | AC34: 令和 | AF34: 年 | AH34: 月 | AJ34: 日 | AL34: ： | AN34: ～
D35: 庭田 久美子 | I35: 様 | K35: 小栁匡相Dr | P35: 東B | S35: 通信制限 | X35: 通信制限 | AC35: 令和 | AF35: 年 | AH35: 月 | AJ35: 日 | AL35: ： | AN35: ～
D36: 宮崎 宏之 | I36: 様 | K36: 馬渡晃弘Dr | P36: 東A | S36: 終日隔離 | X36: 終日隔離 | AC36: 令和 | AF36: 年 | AH36: 月 | AJ36: 日 | AL36: ： | AN36: ～
D37: 藤井 崇史 | I37: 様 | K37: 深澤隆Dr | P37: 東A | S37: 終日隔離 | X37: 終日隔離 | AC37: 令和 | AF37: 年 | AH37: 月 | AJ37: 日 | AL37: ： | AN37: ～
D38: 福村 秀吉 | I38: 様 | K38: 馬渡晃弘Dr | P38: 東A | S38: 終日隔離 | X38: 終日隔離 | AC38: 令和 | AF38: 年 | AH38: 月 | AJ38: 日 | AL38: ： | AN38: ～
D39: 長根 瞳 | I39: 様 | K39: 小栁匡相Dr | P39: 東A | S39: 終日隔離 | X39: 終日隔離 | AC39: 令和 | AF39: 年 | AH39: 月 | AJ39: 日 | AL39: ： | AN39: ～
I40: 様 | AC40: 令和 | AF40: 年 | AH40: 月 | AJ40: 日 | AL40: ： | AN40: ～
I41: 様 | AC41: 令和 | AF41: 年 | AH41: 月 | AJ41: 日 | AL41: ： | AN41: ～
I42: 様 | AC42: 令和 | AF42: 年 | AH42: 月 | AJ42: 日 | AL42: ： | AN42: ～
I43: 様 | AC43: 令和 | AF43: 年 | AH43: 月 | AJ43: 日 | AL43: ： | AN43: ～
I44: 様 | AC44: 令和 | AF44: 年 | AH44: 月 | AJ44: 日 | AL44: ： | AN44: ～
I45: 様 | AC45: 令和 | AF45: 年 | AH45: 月 | AJ45: 日 | AL45: ： | AN45: ～
I46: 様 | AC46: 令和 | AF46: 年 | AH46: 月 | AJ46: 日 | AL46: ： | AN46: ～
A47: 業務 内容 | D47: 項目 | J47: 患者様氏名 | P47: 担当 | S47: 備考 | Y47: 項目 | AA47: 患者様氏名 | AG47: 内容 | AQ47: 担当
D48: 外 来 患 者 対 応 | F48: 外来患者 対応 | O48: 様 | Y48: 書 類 作 成 完 了 | AF48: 様
O49: 様 | AF49: 様
O50: 様 | AF50: 様
O51: 様 | AF51: 様
O52: 様 | AF52: 様
O53: 様 | AF53: 様
O54: 様 | AF54: 様
D55: 項目 | J55: 患者様氏名 | P55: 担当 | S55: 備考 | AF55: 様
D56: 入 退 院 支 援 | F56: 退院支援 | O56: 様 | AF56: 様
O57: 様 | AF57: 様
O58: 様 | Y58: 項目 | AG58: 件数 | AJ58: 担当 | AM58: 備考
O59: 様 | Y59: 電話対応 | AI59: 件
O60: 様 | Y60: 保健所への届出 | AI60: 件
F61: 退院請求 対応 | O61: 様 | Y61: 項目 | AG61: 内容
O62: 様 | Y62: 通院医療 観察法
F63: 入院患者 対応 | J63: 担当 | M63: 件数 | P63: 備考
O64: 件 | Y64: 認知症疾患 医療ｾﾝﾀｰ
O65: 件
O66: 件 | Y66: 各種会議参加 外部の業務
O67: 件
A68: 安全管理 | D68: 事故 | S68: 物品 購入 | AE68: 連絡 事項
D69: 苦情
D70: 紛失
D71: 他

Sheet 19
A1: ソーシャルワーカー室 業務日誌 | AH1: C.O.O | AL1: I.O.O | AP1: Ａ.Ｏ.Ｍ
H3: =曜日!B12 -> 令和7年 | M3: =曜日!C12 -> 12月 | P3: 19日 | S3: （ | T3: =曜日!D7 -> 金 | U3: ） | W3: 作成者 | Z3: ： | AA3: 石鉢 佳代
A5: 労務 状況 | D5: 勤務状況 | K5: 西舘 翔子 | P5: 日勤 | T5: 大川 祥子 | Y5: 日勤 | AC5: 宇津木澤 育美 | AH5: 日勤 | AL5: 澤里 皓輝 | AP5: 日勤
K6: 安田 純子 | P6: 日勤 | T6: 石鉢 佳代 | Y6: 日勤
A8: 入退院 状況 | D8: 入院形態 | K8: 東病棟 | Q8: 西病棟 | W8: 北病棟 | AC8: 南病棟 | AI8: 合計 | AO8: 総数
K9: 男性 | N9: 女性 | Q9: 男性 | T9: 女性 | W9: 男性 | Z9: 女性 | AC9: 男性 | AF9: 女性 | AI9: 男性 | AL9: 女性
D10: 任意入院 | K10: 5 | N10: 4 | Q10: 2 | T10: 3 | W10: 19 | Z10: 16 | AC10: 0 | AF10: 0 | AI10: =K10+Q10+W10+AC10 -> 26 | AL10: =N10+T10+Z10+AF10 -> 23 | AO10: =AI14 -> 185
D11: 医療保護入院 | K11: 17 | N11: 19 | Q11: 18 | T11: 20 | W11: 0 | Z11: 0 | AC11: 24 | AF11: 36 | AI11: =K11+Q11+W11+AC11 -> 59 | AL11: =N11+T11+Z11+AF11 -> 75
D12: 措置入院 | K12: 1 | N12: 1 | Q12: 0 | T12: 0 | W12: 0 | Z12: 0 | AC12: 0 | AF12: 0 | AI12: =K12+Q12+W12+AC12 -> 1 | AL12: =N12+T12+Z12+AF12 -> 1
D13: 合計 | K13: =SUM(K10:M12) -> 23 | N13: =SUM(N10:P12) -> 24 | Q13: =SUM(Q10:S12) -> 20 | T13: =SUM(T10:V12) -> 23 | W13: =SUM(W10:Y12) -> 19 | Z13: =SUM(Z10:AB12) -> 16 | AC13: =SUM(AC10:AE12) -> 24 | AF13: =SUM(AF10:AH12) -> 36 | AI13: =SUM(K13+Q13+W13+AC13) -> 86 | AL13: =SUM(N13+T13+Z13+AF13) -> 99 | AO13: 人
K14: =K13+N13 -> 47 | Q14: =Q13+T13 -> 43 | W14: =W13+Z13 -> 35 | AC14: =AC13+AF13 -> 60 | AI14: =AI13+AL13 -> 185
F15: 患者様氏名 | N15: 入院形態 | T15: 担当Dr | Y15: 担当SW | AD15: 病棟 | AJ15: 備考欄
D16: 入院 | L16: 様
L17: 様
L18: 様
L19: 様
L20: 様
D21: 退院 | F21: 野坂 翔 | L21: 様 | N21: 医療保護入院 | T21: 田名部茂Dr | Y21: 澤里 皓輝 | AD21: 西B
L22: 様
L23: 様
L24: 様
L25: 様
D26: 転棟 ･ 入院形態変更 | F26: 長谷川 豊 | L26: 様 | N26: 任意入院 | T26: 小栁匡相Dr | AD26: 東B→北
F27: 山本 キリ | L27: 様 | N27: 医療保護入院 | T27: 田名部茂Dr | AD27: 東合→南D
F28: 坂本 愛子 | L28: 様 | N28: 医療保護入院 | T28: 馬渡晃弘Dr | AD28: 西B→東C
L29: 様
L30: 様
A31: 患者様 関連 | D31: 患者様氏名 | K31: 担当Dr | P31: 病棟 | S31: 制限内容 | X31: 制限時間 | AC31: 開始日時 | AO31: 備考
D32: 三浦 華菜 | I32: 様 | K32: 馬渡晃弘Dr | P32: 東A | S32: 通信制限 | X32: 通信制限 | AC32: 令和 | AF32: 年 | AH32: 月 | AJ32: 日 | AL32: ： | AN32: ～
D33: 中村 聡 | I33: 様 | K33: 金泰徳Dr | P33: 東B | S33: 通信制限 | X33: 通信制限 | AC33: 令和 | AF33: 年 | AH33: 月 | AJ33: 日 | AL33: ： | AN33: ～
D34: 風張 久美子 | I34: 様 | K34: 柞木田なつみDr | P34: 西B | S34: 通信制限 | X34: 通信制限 | AC34: 令和 | AF34: 年 | AH34: 月 | AJ34: 日 | AL34: ： | AN34: ～
D35: 庭田 久美子 | I35: 様 | K35: 小栁匡相Dr | P35: 東B | S35: 通信制限 | X35: 通信制限 | AC35: 令和 | AF35: 年 | AH35: 月 | AJ35: 日 | AL35: ： | AN35: ～
D36: 宮崎 宏之 | I36: 様 | K36: 馬渡晃弘Dr | P36: 東A | S36: 終日隔離 | X36: 終日隔離 | AC36: 令和 | AF36: 年 | AH36: 月 | AJ36: 日 | AL36: ： | AN36: ～
D37: 藤井 崇史 | I37: 様 | K37: 深澤隆Dr | P37: 東A | S37: 終日隔離 | X37: 終日隔離 | AC37: 令和 | AF37: 年 | AH37: 月 | AJ37: 日 | AL37: ： | AN37: ～
D38: 福村 秀吉 | I38: 様 | K38: 馬渡晃弘Dr | P38: 東A | S38: 終日隔離 | X38: 終日隔離 | AC38: 令和 | AF38: 年 | AH38: 月 | AJ38: 日 | AL38: ： | AN38: ～
D39: 長根 瞳 | I39: 様 | K39: 小栁匡相Dr | P39: 東A | S39: 終日隔離 | X39: 終日隔離 | AC39: 令和 | AF39: 年 | AH39: 月 | AJ39: 日 | AL39: ： | AN39: ～
I40: 様 | AC40: 令和 | AF40: 年 | AH40: 月 | AJ40: 日 | AL40: ： | AN40: ～
I41: 様 | AC41: 令和 | AF41: 年 | AH41: 月 | AJ41: 日 | AL41: ： | AN41: ～
I42: 様 | AC42: 令和 | AF42: 年 | AH42: 月 | AJ42: 日 | AL42: ： | AN42: ～
I43: 様 | AC43: 令和 | AF43: 年 | AH43: 月 | AJ43: 日 | AL43: ： | AN43: ～
I44: 様 | AC44: 令和 | AF44: 年 | AH44: 月 | AJ44: 日 | AL44: ： | AN44: ～
I45: 様 | AC45: 令和 | AF45: 年 | AH45: 月 | AJ45: 日 | AL45: ： | AN45: ～
I46: 様 | AC46: 令和 | AF46: 年 | AH46: 月 | AJ46: 日 | AL46: ： | AN46: ～
A47: 業務 内容 | D47: 項目 | J47: 患者様氏名 | P47: 担当 | S47: 備考 | Y47: 項目 | AA47: 患者様氏名 | AG47: 内容 | AQ47: 担当
D48: 外 来 患 者 対 応 | F48: 外来患者 対応 | O48: 様 | Y48: 書 類 作 成 完 了 | AF48: 様
O49: 様 | AF49: 様
O50: 様 | AF50: 様
O51: 様 | AF51: 様
O52: 様 | AF52: 様
O53: 様 | AF53: 様
O54: 様 | AF54: 様
D55: 項目 | J55: 患者様氏名 | P55: 担当 | S55: 備考 | AF55: 様
D56: 入 退 院 支 援 | F56: 退院支援 | O56: 様 | AF56: 様
O57: 様 | AF57: 様
O58: 様 | Y58: 項目 | AG58: 件数 | AJ58: 担当 | AM58: 備考
O59: 様 | Y59: 電話対応 | AI59: 件
O60: 様 | Y60: 保健所への届出 | AI60: 件
F61: 退院請求 対応 | O61: 様 | Y61: 項目 | AG61: 内容
O62: 様 | Y62: 通院医療 観察法
F63: 入院患者 対応 | J63: 担当 | M63: 件数 | P63: 備考
O64: 件 | Y64: 認知症疾患 医療ｾﾝﾀｰ
O65: 件
O66: 件 | Y66: 各種会議参加 外部の業務
O67: 件
A68: 安全管理 | D68: 事故 | S68: 物品 購入 | AE68: 連絡 事項
D69: 苦情
D70: 紛失
D71: 他

Sheet 20
A1: ソーシャルワーカー室 業務日誌 | AH1: C.O.O | AL1: I.O.O | AP1: Ａ.Ｏ.Ｍ
H3: =曜日!B12 -> 令和7年 | M3: =曜日!C12 -> 12月 | P3: 20日 | S3: （ | T3: =曜日!D8 -> 土 | U3: ） | W3: 作成者 | Z3: ： | AA3: 石鉢 佳代
A5: 労務 状況 | D5: 勤務状況 | K5: 西舘 翔子 | P5: 公休 | T5: 大川 祥子 | Y5: 日勤 | AC5: 宇津木澤 育美 | AH5: 公休 | AL5: 澤里 皓輝 | AP5: 公休
K6: 安田 純子 | P6: 公休 | T6: 石鉢 佳代 | Y6: 公休
A8: 入退院 状況 | D8: 入院形態 | K8: 東病棟 | Q8: 西病棟 | W8: 北病棟 | AC8: 南病棟 | AI8: 合計 | AO8: 総数
K9: 男性 | N9: 女性 | Q9: 男性 | T9: 女性 | W9: 男性 | Z9: 女性 | AC9: 男性 | AF9: 女性 | AI9: 男性 | AL9: 女性
D10: 任意入院 | K10: 5 | N10: 5 | Q10: 2 | T10: 3 | W10: 19 | Z10: 15 | AC10: 0 | AF10: 0 | AI10: =K10+Q10+W10+AC10 -> 26 | AL10: =N10+T10+Z10+AF10 -> 23 | AO10: =AI14 -> 184
D11: 医療保護入院 | K11: 16 | N11: 17 | Q11: 19 | T11: 21 | W11: 0 | Z11: 0 | AC11: 24 | AF11: 36 | AI11: =K11+Q11+W11+AC11 -> 59 | AL11: =N11+T11+Z11+AF11 -> 74
D12: 措置入院 | K12: 1 | N12: 1 | Q12: 0 | T12: 0 | W12: 0 | Z12: 0 | AC12: 0 | AF12: 0 | AI12: =K12+Q12+W12+AC12 -> 1 | AL12: =N12+T12+Z12+AF12 -> 1
D13: 合計 | K13: =SUM(K10:M12) -> 22 | N13: =SUM(N10:P12) -> 23 | Q13: =SUM(Q10:S12) -> 21 | T13: =SUM(T10:V12) -> 24 | W13: =SUM(W10:Y12) -> 19 | Z13: =SUM(Z10:AB12) -> 15 | AC13: =SUM(AC10:AE12) -> 24 | AF13: =SUM(AF10:AH12) -> 36 | AI13: =SUM(K13+Q13+W13+AC13) -> 86 | AL13: =SUM(N13+T13+Z13+AF13) -> 98 | AO13: 人
K14: =K13+N13 -> 45 | Q14: =Q13+T13 -> 45 | W14: =W13+Z13 -> 34 | AC14: =AC13+AF13 -> 60 | AI14: =AI13+AL13 -> 184
F15: 患者様氏名 | N15: 入院形態 | T15: 担当Dr | Y15: 担当SW | AD15: 病棟 | AJ15: 備考欄
D16: 入院 | L16: 様
L17: 様
L18: 様
L19: 様
L20: 様
D21: 退院 | F21: 中村 雅子 | L21: 様 | N21: 医療保護入院 | T21: 馬渡晃弘Dr | Y21: 宇津木澤 育美 | AD21: 東C
L22: 様
L23: 様
L24: 様
L25: 様
D26: 転棟 ･ 入院形態変更 | F26: 坂本 愛子 | L26: 様 | N26: 医療保護入院 | T26: 馬渡晃弘Dr | AD26: 東C→西B
F27: 四戸 多美子 | L27: 様 | N27: 任意入院 | T27: 田名部茂Dr | AD27: 北→東C
F28: 加藤 周滋 | L28: 様 | N28: 医療保護入院 | T28: 深澤隆Dr | AD28: 東B→西B
L29: 様
L30: 様
A31: 患者様 関連 | D31: 患者様氏名 | K31: 担当Dr | P31: 病棟 | S31: 制限内容 | X31: 制限時間 | AC31: 開始日時 | AO31: 備考
D32: 三浦 華菜 | I32: 様 | K32: 馬渡晃弘Dr | P32: 東A | S32: 通信制限 | X32: 通信制限 | AC32: 令和 | AF32: 年 | AH32: 月 | AJ32: 日 | AL32: ： | AN32: ～
D33: 中村 聡 | I33: 様 | K33: 金泰徳Dr | P33: 東B | S33: 通信制限 | X33: 通信制限 | AC33: 令和 | AF33: 年 | AH33: 月 | AJ33: 日 | AL33: ： | AN33: ～
D34: 風張 久美子 | I34: 様 | K34: 柞木田なつみDr | P34: 西B | S34: 通信制限 | X34: 通信制限 | AC34: 令和 | AF34: 年 | AH34: 月 | AJ34: 日 | AL34: ： | AN34: ～
D35: 庭田 久美子 | I35: 様 | K35: 小栁匡相Dr | P35: 東B | S35: 通信制限 | X35: 通信制限 | AC35: 令和 | AF35: 年 | AH35: 月 | AJ35: 日 | AL35: ： | AN35: ～
D36: 宮崎 宏之 | I36: 様 | K36: 馬渡晃弘Dr | P36: 東A | S36: 終日隔離 | X36: 終日隔離 | AC36: 令和 | AF36: 年 | AH36: 月 | AJ36: 日 | AL36: ： | AN36: ～
D37: 藤井 崇史 | I37: 様 | K37: 深澤隆Dr | P37: 東A | S37: 終日隔離 | X37: 終日隔離 | AC37: 令和 | AF37: 年 | AH37: 月 | AJ37: 日 | AL37: ： | AN37: ～
D38: 福村 秀吉 | I38: 様 | K38: 馬渡晃弘Dr | P38: 東A | S38: 終日隔離 | X38: 終日隔離 | AC38: 令和 | AF38: 年 | AH38: 月 | AJ38: 日 | AL38: ： | AN38: ～
D39: 長根 瞳 | I39: 様 | K39: 小栁匡相Dr | P39: 東A | S39: 終日隔離 | X39: 終日隔離 | AC39: 令和 | AF39: 年 | AH39: 月 | AJ39: 日 | AL39: ： | AN39: ～
I40: 様 | AC40: 令和 | AF40: 年 | AH40: 月 | AJ40: 日 | AL40: ： | AN40: ～
I41: 様 | AC41: 令和 | AF41: 年 | AH41: 月 | AJ41: 日 | AL41: ： | AN41: ～
I42: 様 | AC42: 令和 | AF42: 年 | AH42: 月 | AJ42: 日 | AL42: ： | AN42: ～
I43: 様 | AC43: 令和 | AF43: 年 | AH43: 月 | AJ43: 日 | AL43: ： | AN43: ～
I44: 様 | AC44: 令和 | AF44: 年 | AH44: 月 | AJ44: 日 | AL44: ： | AN44: ～
I45: 様 | AC45: 令和 | AF45: 年 | AH45: 月 | AJ45: 日 | AL45: ： | AN45: ～
I46: 様 | AC46: 令和 | AF46: 年 | AH46: 月 | AJ46: 日 | AL46: ： | AN46: ～
A47: 業務 内容 | D47: 項目 | J47: 患者様氏名 | P47: 担当 | S47: 備考 | Y47: 項目 | AA47: 患者様氏名 | AG47: 内容 | AQ47: 担当
D48: 外 来 患 者 対 応 | F48: 外来患者 対応 | O48: 様 | Y48: 書 類 作 成 完 了 | AF48: 様
O49: 様 | AF49: 様
O50: 様 | AF50: 様
O51: 様 | AF51: 様
O52: 様 | AF52: 様
O53: 様 | AF53: 様
O54: 様 | AF54: 様
D55: 項目 | J55: 患者様氏名 | P55: 担当 | S55: 備考 | AF55: 様
D56: 入 退 院 支 援 | F56: 退院支援 | O56: 様 | AF56: 様
O57: 様 | AF57: 様
O58: 様 | Y58: 項目 | AG58: 件数 | AJ58: 担当 | AM58: 備考
O59: 様 | Y59: 電話対応 | AI59: 件
O60: 様 | Y60: 保健所への届出 | AI60: 件
F61: 退院請求 対応 | O61: 様 | Y61: 項目 | AG61: 内容
O62: 様 | Y62: 通院医療 観察法
F63: 入院患者 対応 | J63: 担当 | M63: 件数 | P63: 備考
O64: 件 | Y64: 認知症疾患 医療ｾﾝﾀｰ
O65: 件
O66: 件 | Y66: 各種会議参加 外部の業務
O67: 件
A68: 安全管理 | D68: 事故 | S68: 物品 購入 | AE68: 連絡 事項
D69: 苦情
D70: 紛失
D71: 他

Sheet 21
A1: ソーシャルワーカー室 業務日誌 | AH1: C.O.O | AL1: I.O.O | AP1: Ａ.Ｏ.Ｍ
H3: =曜日!B12 -> 令和7年 | M3: =曜日!C12 -> 12月 | P3: 21日 | S3: （ | T3: =曜日!D9 -> 日 | U3: ） | W3: 作成者 | Z3: ： | AA3: 石鉢 佳代
A5: 労務 状況 | D5: 勤務状況 | K5: 西舘 翔子 | P5: 公休 | T5: 大川 祥子 | Y5: 公休 | AC5: 宇津木澤 育美 | AH5: 公休 | AL5: 澤里 皓輝 | AP5: 公休
K6: 安田 純子 | P6: 公休 | T6: 石鉢 佳代 | Y6: 公休
A8: 入退院 状況 | D8: 入院形態 | K8: 東病棟 | Q8: 西病棟 | W8: 北病棟 | AC8: 南病棟 | AI8: 合計 | AO8: 総数
K9: 男性 | N9: 女性 | Q9: 男性 | T9: 女性 | W9: 男性 | Z9: 女性 | AC9: 男性 | AF9: 女性 | AI9: 男性 | AL9: 女性
D10: 任意入院 | K10: 5 | N10: 5 | Q10: 2 | T10: 3 | W10: 19 | Z10: 15 | AC10: 0 | AF10: 0 | AI10: =K10+Q10+W10+AC10 -> 26 | AL10: =N10+T10+Z10+AF10 -> 23 | AO10: =AI14 -> 184
D11: 医療保護入院 | K11: 16 | N11: 17 | Q11: 19 | T11: 21 | W11: 0 | Z11: 0 | AC11: 26 | AF11: 34 | AI11: =K11+Q11+W11+AC11 -> 61 | AL11: =N11+T11+Z11+AF11 -> 72
D12: 措置入院 | K12: 1 | N12: 1 | Q12: 0 | T12: 0 | W12: 0 | Z12: 0 | AC12: 0 | AF12: 0 | AI12: =K12+Q12+W12+AC12 -> 1 | AL12: =N12+T12+Z12+AF12 -> 1
D13: 合計 | K13: =SUM(K10:M12) -> 22 | N13: =SUM(N10:P12) -> 23 | Q13: =SUM(Q10:S12) -> 21 | T13: =SUM(T10:V12) -> 24 | W13: =SUM(W10:Y12) -> 19 | Z13: =SUM(Z10:AB12) -> 15 | AC13: =SUM(AC10:AE12) -> 26 | AF13: =SUM(AF10:AH12) -> 34 | AI13: =SUM(K13+Q13+W13+AC13) -> 88 | AL13: =SUM(N13+T13+Z13+AF13) -> 96 | AO13: 人
K14: =K13+N13 -> 45 | Q14: =Q13+T13 -> 45 | W14: =W13+Z13 -> 34 | AC14: =AC13+AF13 -> 60 | AI14: =AI13+AL13 -> 184
F15: 患者様氏名 | N15: 入院形態 | T15: 担当Dr | Y15: 担当SW | AD15: 病棟 | AJ15: 備考欄
D16: 入院 | L16: 様
L17: 様
L18: 様
L19: 様
L20: 様
D21: 退院 | L21: 様
L22: 様
L23: 様
L24: 様
L25: 様
D26: 転棟 ･ 入院形態変更 | L26: 様
L27: 様
L28: 様
L29: 様
L30: 様
A31: 患者様 関連 | D31: 患者様氏名 | K31: 担当Dr | P31: 病棟 | S31: 制限内容 | X31: 制限時間 | AC31: 開始日時 | AO31: 備考
D32: 三浦 華菜 | I32: 様 | K32: 馬渡晃弘Dr | P32: 東A | S32: 通信制限 | X32: 通信制限 | AC32: 令和 | AF32: 年 | AH32: 月 | AJ32: 日 | AL32: ： | AN32: ～
D33: 中村 聡 | I33: 様 | K33: 金泰徳Dr | P33: 東B | S33: 通信制限 | X33: 通信制限 | AC33: 令和 | AF33: 年 | AH33: 月 | AJ33: 日 | AL33: ： | AN33: ～
D34: 風張 久美子 | I34: 様 | K34: 柞木田なつみDr | P34: 西B | S34: 通信制限 | X34: 通信制限 | AC34: 令和 | AF34: 年 | AH34: 月 | AJ34: 日 | AL34: ： | AN34: ～
D35: 庭田 久美子 | I35: 様 | K35: 小栁匡相Dr | P35: 東B | S35: 通信制限 | X35: 通信制限 | AC35: 令和 | AF35: 年 | AH35: 月 | AJ35: 日 | AL35: ： | AN35: ～
D36: 宮崎 宏之 | I36: 様 | K36: 馬渡晃弘Dr | P36: 東A | S36: 終日隔離 | X36: 終日隔離 | AC36: 令和 | AF36: 年 | AH36: 月 | AJ36: 日 | AL36: ： | AN36: ～
D37: 藤井 崇史 | I37: 様 | K37: 深澤隆Dr | P37: 東A | S37: 終日隔離 | X37: 終日隔離 | AC37: 令和 | AF37: 年 | AH37: 月 | AJ37: 日 | AL37: ： | AN37: ～
D38: 福村 秀吉 | I38: 様 | K38: 馬渡晃弘Dr | P38: 東A | S38: 終日隔離 | X38: 終日隔離 | AC38: 令和 | AF38: 年 | AH38: 月 | AJ38: 日 | AL38: ： | AN38: ～
D39: 長根 瞳 | I39: 様 | K39: 小栁匡相Dr | P39: 東A | S39: 終日隔離 | X39: 終日隔離 | AC39: 令和 | AF39: 年 | AH39: 月 | AJ39: 日 | AL39: ： | AN39: ～
I40: 様 | AC40: 令和 | AF40: 年 | AH40: 月 | AJ40: 日 | AL40: ： | AN40: ～
I41: 様 | AC41: 令和 | AF41: 年 | AH41: 月 | AJ41: 日 | AL41: ： | AN41: ～
I42: 様 | AC42: 令和 | AF42: 年 | AH42: 月 | AJ42: 日 | AL42: ： | AN42: ～
I43: 様 | AC43: 令和 | AF43: 年 | AH43: 月 | AJ43: 日 | AL43: ： | AN43: ～
I44: 様 | AC44: 令和 | AF44: 年 | AH44: 月 | AJ44: 日 | AL44: ： | AN44: ～
I45: 様 | AC45: 令和 | AF45: 年 | AH45: 月 | AJ45: 日 | AL45: ： | AN45: ～
I46: 様 | AC46: 令和 | AF46: 年 | AH46: 月 | AJ46: 日 | AL46: ： | AN46: ～
A47: 業務 内容 | D47: 項目 | J47: 患者様氏名 | P47: 担当 | S47: 備考 | Y47: 項目 | AA47: 患者様氏名 | AG47: 内容 | AQ47: 担当
D48: 外 来 患 者 対 応 | F48: 外来患者 対応 | O48: 様 | Y48: 書 類 作 成 完 了 | AF48: 様
O49: 様 | AF49: 様
O50: 様 | AF50: 様
O51: 様 | AF51: 様
O52: 様 | AF52: 様
O53: 様 | AF53: 様
O54: 様 | AF54: 様
D55: 項目 | J55: 患者様氏名 | P55: 担当 | S55: 備考 | AF55: 様
D56: 入 退 院 支 援 | F56: 退院支援 | O56: 様 | AF56: 様
O57: 様 | AF57: 様
O58: 様 | Y58: 項目 | AG58: 件数 | AJ58: 担当 | AM58: 備考
O59: 様 | Y59: 電話対応 | AI59: 件
O60: 様 | Y60: 保健所への届出 | AI60: 件
F61: 退院請求 対応 | O61: 様 | Y61: 項目 | AG61: 内容
O62: 様 | Y62: 通院医療 観察法
F63: 入院患者 対応 | J63: 担当 | M63: 件数 | P63: 備考
O64: 件 | Y64: 認知症疾患 医療ｾﾝﾀｰ
O65: 件
O66: 件 | Y66: 各種会議参加 外部の業務
O67: 件
A68: 安全管理 | D68: 事故 | S68: 物品 購入 | AE68: 連絡 事項
D69: 苦情
D70: 紛失
D71: 他

Sheet 22
A1: ソーシャルワーカー室 業務日誌 | AH1: C.O.O | AL1: I.O.O | AP1: Ａ.Ｏ.Ｍ
H3: =曜日!B12 -> 令和7年 | M3: =曜日!C12 -> 12月 | P3: 22日 | S3: （ | T3: =曜日!D3 -> 月 | U3: ） | W3: 作成者 | Z3: ： | AA3: 安田 純子
A5: 労務 状況 | D5: 勤務状況 | K5: 西舘 翔子 | P5: 日勤 | T5: 大川 祥子 | Y5: 日勤 | AC5: 宇津木澤 育美 | AH5: 日勤 | AL5: 澤里 皓輝 | AP5: 日勤
K6: 安田 純子 | P6: 有給 | T6: 石鉢 佳代 | Y6: 日勤
A8: 入退院 状況 | D8: 入院形態 | K8: 東病棟 | Q8: 西病棟 | W8: 北病棟 | AC8: 南病棟 | AI8: 合計 | AO8: 総数
K9: 男性 | N9: 女性 | Q9: 男性 | T9: 女性 | W9: 男性 | Z9: 女性 | AC9: 男性 | AF9: 女性 | AI9: 男性 | AL9: 女性
D10: 任意入院 | K10: 5 | N10: 3 | Q10: 2 | T10: 3 | W10: 19 | Z10: 16 | AC10: 0 | AF10: 0 | AI10: =K10+Q10+W10+AC10 -> 26 | AL10: =N10+T10+Z10+AF10 -> 22 | AO10: =AI14 -> 185
D11: 医療保護入院 | K11: 19 | N11: 17 | Q11: 19 | T11: 21 | W11: 0 | Z11: 0 | AC11: 25 | AF11: 34 | AI11: =K11+Q11+W11+AC11 -> 63 | AL11: =N11+T11+Z11+AF11 -> 72
D12: 措置入院 | K12: 1 | N12: 1 | Q12: 0 | T12: 0 | W12: 0 | Z12: 0 | AC12: 0 | AF12: 0 | AI12: =K12+Q12+W12+AC12 -> 1 | AL12: =N12+T12+Z12+AF12 -> 1
D13: 合計 | K13: =SUM(K10:M12) -> 25 | N13: =SUM(N10:P12) -> 21 | Q13: =SUM(Q10:S12) -> 21 | T13: =SUM(T10:V12) -> 24 | W13: =SUM(W10:Y12) -> 19 | Z13: =SUM(Z10:AB12) -> 16 | AC13: =SUM(AC10:AE12) -> 25 | AF13: =SUM(AF10:AH12) -> 34 | AI13: =SUM(K13+Q13+W13+AC13) -> 90 | AL13: =SUM(N13+T13+Z13+AF13) -> 95 | AO13: 人
K14: =K13+N13 -> 46 | Q14: =Q13+T13 -> 45 | W14: =W13+Z13 -> 35 | AC14: =AC13+AF13 -> 59 | AI14: =AI13+AL13 -> 185
F15: 患者様氏名 | N15: 入院形態 | T15: 担当Dr | Y15: 担当SW | AD15: 病棟 | AJ15: 備考欄
D16: 入院 | F16: 針田 秀明 | L16: 様 | N16: 医療保護入院 | T16: 柞木田なつみDr | AD16: 東B
F17: 種市 久雄 | L17: 様 | N17: 医療保護入院 | T17: 村上祐介Dr | AD17: 東C
L18: 様
L19: 様
L20: 様
D21: 退院 | F21: 大坂 優佳 | L21: 様 | N21: 任意入院 | T21: 深澤隆Dr | Y21: 西舘 翔子 | AD21: 東B
L22: 様
L23: 様
L24: 様
L25: 様
D26: 転棟 ･ 入院形態変更 | F26: 保土澤 光子 | L26: 様 | N26: 任意入院 | T26: 小栁匡相Dr | Y26: 安田 純子 | AD26: 東合→北
F27: 佐々木 廣 | L27: 様 | N27: 医療保護入院 | T27: 深澤隆Dr | Y27: 宇津木澤 育美 | AD27: 南D→東C
L28: 様
L29: 様
L30: 様
A31: 患者様 関連 | D31: 患者様氏名 | K31: 担当Dr | P31: 病棟 | S31: 制限内容 | X31: 制限時間 | AC31: 開始日時 | AO31: 備考
D32: 三浦 華菜 | I32: 様 | K32: 馬渡晃弘Dr | P32: 東A | S32: 通信制限 | X32: 通信制限 | AC32: 令和 | AF32: 年 | AH32: 月 | AJ32: 日 | AL32: ： | AN32: ～
D33: 中村 聡 | I33: 様 | K33: 金泰徳Dr | P33: 東B | S33: 通信制限 | X33: 通信制限 | AC33: 令和 | AF33: 年 | AH33: 月 | AJ33: 日 | AL33: ： | AN33: ～
D34: 風張 久美子 | I34: 様 | K34: 柞木田なつみDr | P34: 西B | S34: 通信制限 | X34: 通信制限 | AC34: 令和 | AF34: 年 | AH34: 月 | AJ34: 日 | AL34: ： | AN34: ～
D35: 庭田 久美子 | I35: 様 | K35: 小栁匡相Dr | P35: 東B | S35: 通信制限 | X35: 通信制限 | AC35: 令和 | AF35: 年 | AH35: 月 | AJ35: 日 | AL35: ： | AN35: ～
D36: 宮崎 宏之 | I36: 様 | K36: 馬渡晃弘Dr | P36: 東A | S36: 終日隔離 | X36: 終日隔離 | AC36: 令和 | AF36: 年 | AH36: 月 | AJ36: 日 | AL36: ： | AN36: ～
D37: 藤井 崇史 | I37: 様 | K37: 深澤隆Dr | P37: 東A | S37: 終日隔離 | X37: 終日隔離 | AC37: 令和 | AF37: 年 | AH37: 月 | AJ37: 日 | AL37: ： | AN37: ～
D38: 福村 秀吉 | I38: 様 | K38: 馬渡晃弘Dr | P38: 東A | S38: 終日隔離 | X38: 終日隔離 | AC38: 令和 | AF38: 年 | AH38: 月 | AJ38: 日 | AL38: ： | AN38: ～
D39: 長根 瞳 | I39: 様 | K39: 小栁匡相Dr | P39: 東A | S39: 終日隔離 | X39: 終日隔離 | AC39: 令和 | AF39: 年 | AH39: 月 | AJ39: 日 | AL39: ： | AN39: ～
I40: 様 | AC40: 令和 | AF40: 年 | AH40: 月 | AJ40: 日 | AL40: ： | AN40: ～
I41: 様 | AC41: 令和 | AF41: 年 | AH41: 月 | AJ41: 日 | AL41: ： | AN41: ～
I42: 様 | AC42: 令和 | AF42: 年 | AH42: 月 | AJ42: 日 | AL42: ： | AN42: ～
I43: 様 | AC43: 令和 | AF43: 年 | AH43: 月 | AJ43: 日 | AL43: ： | AN43: ～
I44: 様 | AC44: 令和 | AF44: 年 | AH44: 月 | AJ44: 日 | AL44: ： | AN44: ～
I45: 様 | AC45: 令和 | AF45: 年 | AH45: 月 | AJ45: 日 | AL45: ： | AN45: ～
I46: 様 | AC46: 令和 | AF46: 年 | AH46: 月 | AJ46: 日 | AL46: ： | AN46: ～
A47: 業務 内容 | D47: 項目 | J47: 患者様氏名 | P47: 担当 | S47: 備考 | Y47: 項目 | AA47: 患者様氏名 | AG47: 内容 | AQ47: 担当
D48: 外 来 患 者 対 応 | F48: 外来患者 対応 | O48: 様 | Y48: 書 類 作 成 完 了 | AF48: 様
O49: 様 | AF49: 様
O50: 様 | AF50: 様
O51: 様 | AF51: 様
O52: 様 | AF52: 様
O53: 様 | AF53: 様
O54: 様 | AF54: 様
D55: 項目 | J55: 患者様氏名 | P55: 担当 | S55: 備考 | AF55: 様
D56: 入 退 院 支 援 | F56: 退院支援 | O56: 様 | AF56: 様
O57: 様 | AF57: 様
O58: 様 | Y58: 項目 | AG58: 件数 | AJ58: 担当 | AM58: 備考
O59: 様 | Y59: 電話対応 | AI59: 件
O60: 様 | Y60: 保健所への届出 | AI60: 件
F61: 退院請求 対応 | O61: 様 | Y61: 項目 | AG61: 内容
O62: 様 | Y62: 通院医療 観察法
F63: 入院患者 対応 | J63: 担当 | M63: 件数 | P63: 備考
O64: 件 | Y64: 認知症疾患 医療ｾﾝﾀｰ
O65: 件
O66: 件 | Y66: 各種会議参加 外部の業務
O67: 件
A68: 安全管理 | D68: 事故 | S68: 物品 購入 | AE68: 連絡 事項
D69: 苦情
D70: 紛失
D71: 他

Sheet 23
A1: ソーシャルワーカー室 業務日誌 | AH1: C.O.O | AL1: I.O.O | AP1: Ａ.Ｏ.Ｍ
H3: =曜日!B12 -> 令和7年 | M3: =曜日!C12 -> 12月 | P3: 23日 | S3: （ | T3: =曜日!D4 -> 火 | U3: ） | W3: 作成者 | Z3: ： | AA3: 安田 純子
A5: 労務 状況 | D5: 勤務状況 | K5: 西舘 翔子 | T5: 大川 祥子 | AC5: 宇津木澤 育美 | AL5: 澤里 皓輝
K6: 安田 純子 | T6: 石鉢 佳代
A8: 入退院 状況 | D8: 入院形態 | K8: 東病棟 | Q8: 西病棟 | W8: 北病棟 | AC8: 南病棟 | AI8: 合計 | AO8: 総数
K9: 男性 | N9: 女性 | Q9: 男性 | T9: 女性 | W9: 男性 | Z9: 女性 | AC9: 男性 | AF9: 女性 | AI9: 男性 | AL9: 女性
D10: 任意入院 | K10: 6 | N10: 3 | Q10: 2 | T10: 4 | W10: 19 | Z10: 15 | AC10: 0 | AF10: 0 | AI10: =K10+Q10+W10+AC10 -> 27 | AL10: =N10+T10+Z10+AF10 -> 22 | AO10: =AI14 -> 187
D11: 医療保護入院 | K11: 19 | N11: 17 | Q11: 19 | T11: 21 | W11: 0 | Z11: 0 | AC11: 26 | AF11: 34 | AI11: =K11+Q11+W11+AC11 -> 64 | AL11: =N11+T11+Z11+AF11 -> 72
D12: 措置入院 | K12: 1 | N12: 1 | Q12: 0 | T12: 0 | W12: 0 | Z12: 0 | AC12: 0 | AF12: 0 | AI12: =K12+Q12+W12+AC12 -> 1 | AL12: =N12+T12+Z12+AF12 -> 1
D13: 合計 | K13: =SUM(K10:M12) -> 26 | N13: =SUM(N10:P12) -> 21 | Q13: =SUM(Q10:S12) -> 21 | T13: =SUM(T10:V12) -> 25 | W13: =SUM(W10:Y12) -> 19 | Z13: =SUM(Z10:AB12) -> 15 | AC13: =SUM(AC10:AE12) -> 26 | AF13: =SUM(AF10:AH12) -> 34 | AI13: =SUM(K13+Q13+W13+AC13) -> 92 | AL13: =SUM(N13+T13+Z13+AF13) -> 95 | AO13: 人
K14: =K13+N13 -> 47 | Q14: =Q13+T13 -> 46 | W14: =W13+Z13 -> 34 | AC14: =AC13+AF13 -> 60 | AI14: =AI13+AL13 -> 187
F15: 患者様氏名 | N15: 入院形態 | T15: 担当Dr | Y15: 担当SW | AD15: 病棟 | AJ15: 備考欄
D16: 入院 | F16: 田沢 由太郎 | L16: 様 | N16: 医療保護入院 | T16: 小栁匡相Dr | AD16: 東C
F17: 村上 元道 | L17: 様 | N17: 任意入院 | T17: 田名部茂Dr | Y17: 宇津木澤 育美 | AD17: 東B
L18: 様
L19: 様
L20: 様
D21: 退院 | L21: 様
L22: 様
L23: 様
L24: 様
L25: 様
D26: 転棟 ･ 入院形態変更 | F26: 中山 正光 | L26: 様 | N26: 医療保護入院 | T26: 小栁匡相Dr | Y26: 大川 祥子 | AD26: 東C→南D
F27: 曽我 正子 | L27: 様 | N27: 任意入院 | T27: 馬渡晃弘Dr | Y27: 澤里 皓輝 | AD27: 北→西B
L28: 様
L29: 様
L30: 様
A31: 患者様 関連 | D31: 患者様氏名 | K31: 担当Dr | P31: 病棟 | S31: 制限内容 | X31: 制限時間 | AC31: 開始日時 | AO31: 備考
D32: 三浦 華菜 | I32: 様 | K32: 馬渡晃弘Dr | P32: 東A | S32: 通信制限 | X32: 通信制限 | AC32: 令和 | AF32: 年 | AH32: 月 | AJ32: 日 | AL32: ： | AN32: ～
D33: 中村 聡 | I33: 様 | K33: 金泰徳Dr | P33: 東B | S33: 通信制限 | X33: 通信制限 | AC33: 令和 | AF33: 年 | AH33: 月 | AJ33: 日 | AL33: ： | AN33: ～
D34: 風張 久美子 | I34: 様 | K34: 柞木田なつみDr | P34: 西B | S34: 通信制限 | X34: 通信制限 | AC34: 令和 | AF34: 年 | AH34: 月 | AJ34: 日 | AL34: ： | AN34: ～
D35: 庭田 久美子 | I35: 様 | K35: 小栁匡相Dr | P35: 東B | S35: 通信制限 | X35: 通信制限 | AC35: 令和 | AF35: 年 | AH35: 月 | AJ35: 日 | AL35: ： | AN35: ～
D36: 宮崎 宏之 | I36: 様 | K36: 馬渡晃弘Dr | P36: 東A | S36: 終日隔離 | X36: 終日隔離 | AC36: 令和 | AF36: 年 | AH36: 月 | AJ36: 日 | AL36: ： | AN36: ～
D37: 藤井 崇史 | I37: 様 | K37: 深澤隆Dr | P37: 東A | S37: 終日隔離 | X37: 終日隔離 | AC37: 令和 | AF37: 年 | AH37: 月 | AJ37: 日 | AL37: ： | AN37: ～
D38: 福村 秀吉 | I38: 様 | K38: 馬渡晃弘Dr | P38: 東A | S38: 終日隔離 | X38: 終日隔離 | AC38: 令和 | AF38: 年 | AH38: 月 | AJ38: 日 | AL38: ： | AN38: ～
D39: 長根 瞳 | I39: 様 | K39: 小栁匡相Dr | P39: 東A | S39: 終日隔離 | X39: 終日隔離 | AC39: 令和 | AF39: 年 | AH39: 月 | AJ39: 日 | AL39: ： | AN39: ～
I40: 様 | AC40: 令和 | AF40: 年 | AH40: 月 | AJ40: 日 | AL40: ： | AN40: ～
I41: 様 | AC41: 令和 | AF41: 年 | AH41: 月 | AJ41: 日 | AL41: ： | AN41: ～
I42: 様 | AC42: 令和 | AF42: 年 | AH42: 月 | AJ42: 日 | AL42: ： | AN42: ～
I43: 様 | AC43: 令和 | AF43: 年 | AH43: 月 | AJ43: 日 | AL43: ： | AN43: ～
I44: 様 | AC44: 令和 | AF44: 年 | AH44: 月 | AJ44: 日 | AL44: ： | AN44: ～
I45: 様 | AC45: 令和 | AF45: 年 | AH45: 月 | AJ45: 日 | AL45: ： | AN45: ～
I46: 様 | AC46: 令和 | AF46: 年 | AH46: 月 | AJ46: 日 | AL46: ： | AN46: ～
A47: 業務 内容 | D47: 項目 | J47: 患者様氏名 | P47: 担当 | S47: 備考 | Y47: 項目 | AA47: 患者様氏名 | AG47: 内容 | AQ47: 担当
D48: 外 来 患 者 対 応 | F48: 外来患者 対応 | O48: 様 | Y48: 書 類 作 成 完 了 | AF48: 様
O49: 様 | AF49: 様
O50: 様 | AF50: 様
O51: 様 | AF51: 様
O52: 様 | AF52: 様
O53: 様 | AF53: 様
O54: 様 | AF54: 様
D55: 項目 | J55: 患者様氏名 | P55: 担当 | S55: 備考 | AF55: 様
D56: 入 退 院 支 援 | F56: 退院支援 | O56: 様 | AF56: 様
O57: 様 | AF57: 様
O58: 様 | Y58: 項目 | AG58: 件数 | AJ58: 担当 | AM58: 備考
O59: 様 | Y59: 電話対応 | AI59: 件
O60: 様 | Y60: 保健所への届出 | AI60: 件
F61: 退院請求 対応 | O61: 様 | Y61: 項目 | AG61: 内容
O62: 様 | Y62: 通院医療 観察法
F63: 入院患者 対応 | J63: 担当 | M63: 件数 | P63: 備考
O64: 件 | Y64: 認知症疾患 医療ｾﾝﾀｰ
O65: 件
O66: 件 | Y66: 各種会議参加 外部の業務
O67: 件
A68: 安全管理 | D68: 事故 | S68: 物品 購入 | AE68: 連絡 事項
D69: 苦情
D70: 紛失
D71: 他

Sheet 24
A1: ソーシャルワーカー室 業務日誌 | AH1: C.O.O | AL1: I.O.O | AP1: Ａ.Ｏ.Ｍ
H3: =曜日!B12 -> 令和7年 | M3: =曜日!C12 -> 12月 | P3: 24日 | S3: （ | T3: =曜日!D5 -> 水 | U3: ） | W3: 作成者 | Z3: ：
A5: 労務 状況 | D5: 勤務状況 | K5: 西舘 翔子 | T5: 大川 祥子 | AC5: 宇津木澤 育美 | AL5: 澤里 皓輝
K6: 安田 純子 | T6: 石鉢 佳代
A8: 入退院 状況 | D8: 入院形態 | K8: 東病棟 | Q8: 西病棟 | W8: 北病棟 | AC8: 南病棟 | AI8: 合計 | AO8: 総数
K9: 男性 | N9: 女性 | Q9: 男性 | T9: 女性 | W9: 男性 | Z9: 女性 | AC9: 男性 | AF9: 女性 | AI9: 男性 | AL9: 女性
D10: 任意入院 | AI10: =K10+Q10+W10+AC10 -> 0 | AL10: =N10+T10+Z10+AF10 -> 0 | AO10: =AI14 -> 0
D11: 医療保護入院 | AI11: =K11+Q11+W11+AC11 -> 0 | AL11: =N11+T11+Z11+AF11 -> 0
D12: 措置入院 | AI12: =K12+Q12+W12+AC12 -> 0 | AL12: =N12+T12+Z12+AF12 -> 0
D13: 合計 | K13: =SUM(K10:M12) -> 0 | N13: =SUM(N10:P12) -> 0 | Q13: =SUM(Q10:S12) -> 0 | T13: =SUM(T10:V12) -> 0 | W13: =SUM(W10:Y12) -> 0 | Z13: =SUM(Z10:AB12) -> 0 | AC13: =SUM(AC10:AE12) -> 0 | AF13: =SUM(AF10:AH12) -> 0 | AI13: =SUM(K13+Q13+W13+AC13) -> 0 | AL13: =SUM(N13+T13+Z13+AF13) -> 0 | AO13: 人
K14: =K13+N13 -> 0 | Q14: =Q13+T13 -> 0 | W14: =W13+Z13 -> 0 | AC14: =AC13+AF13 -> 0 | AI14: =AI13+AL13 -> 0
F15: 患者様氏名 | N15: 入院形態 | T15: 担当Dr | Y15: 担当SW | AD15: 病棟 | AJ15: 備考欄
D16: 入院 | L16: 様
L17: 様
L18: 様
L19: 様
L20: 様
D21: 退院 | L21: 様
L22: 様
L23: 様
L24: 様
L25: 様
D26: 転棟 ･ 入院形態変更 | L26: 様
L27: 様
L28: 様
L29: 様
L30: 様
A31: 患者様 関連 | D31: 患者様氏名 | K31: 担当Dr | P31: 病棟 | S31: 制限内容 | X31: 制限時間 | AC31: 開始日時 | AO31: 備考
I32: 様 | AC32: 令和 | AF32: 年 | AH32: 月 | AJ32: 日 | AL32: ： | AN32: ～
I33: 様 | AC33: 令和 | AF33: 年 | AH33: 月 | AJ33: 日 | AL33: ： | AN33: ～
I34: 様 | AC34: 令和 | AF34: 年 | AH34: 月 | AJ34: 日 | AL34: ： | AN34: ～
I35: 様 | AC35: 令和 | AF35: 年 | AH35: 月 | AJ35: 日 | AL35: ： | AN35: ～
I36: 様 | AC36: 令和 | AF36: 年 | AH36: 月 | AJ36: 日 | AL36: ： | AN36: ～
I37: 様 | AC37: 令和 | AF37: 年 | AH37: 月 | AJ37: 日 | AL37: ： | AN37: ～
I38: 様 | AC38: 令和 | AF38: 年 | AH38: 月 | AJ38: 日 | AL38: ： | AN38: ～
I39: 様 | AC39: 令和 | AF39: 年 | AH39: 月 | AJ39: 日 | AL39: ： | AN39: ～
I40: 様 | AC40: 令和 | AF40: 年 | AH40: 月 | AJ40: 日 | AL40: ： | AN40: ～
I41: 様 | AC41: 令和 | AF41: 年 | AH41: 月 | AJ41: 日 | AL41: ： | AN41: ～
I42: 様 | AC42: 令和 | AF42: 年 | AH42: 月 | AJ42: 日 | AL42: ： | AN42: ～
I43: 様 | AC43: 令和 | AF43: 年 | AH43: 月 | AJ43: 日 | AL43: ： | AN43: ～
... I46: 様 | AC46: 令和 | AF46: 年 | AH46: 月 | AJ46: 日 | AL46: ： | AN46: ～
A47: 業務 内容 | D47: 項目 | J47: 患者様氏名 | P47: 担当 | S47: 備考 | Y47: 項目 | AA47: 患者様氏名 | AG47: 内容 | AQ47: 担当
D48: 外 来 患 者 対 応 | F48: 外来患者 対応 | O48: 様 | Y48: 書 類 作 成 完 了 | AF48: 様
O49: 様 | AF49: 様
O50: 様 | AF50: 様
O51: 様 | AF51: 様
O52: 様 | AF52: 様
O53: 様 | AF53: 様
O54: 様 | AF54: 様
D55: 項目 | J55: 患者様氏名 | P55: 担当 | S55: 備考 | AF55: 様
D56: 入 退 院 支 援 | F56: 退院支援 | O56: 様 | AF56: 様
O57: 様 | AF57: 様
O58: 様 | Y58: 項目 | AG58: 件数 | AJ58: 担当 | AM58: 備考
O59: 様 | Y59: 電話対応 | AI59: 件
O60: 様 | Y60: 保健所への届出 | AI60: 件
F61: 退院請求 対応 | O61: 様 | Y61: 項目 | AG61: 内容
O62: 様 | Y62: 通院医療 観察法
F63: 入院患者 対応 | J63: 担当 | M63: 件数 | P63: 備考
O64: 件 | Y64: 認知症疾患 医療ｾﾝﾀｰ
O65: 件
O66: 件 | Y66: 各種会議参加 外部の業務
O67: 件
A68: 安全管理 | D68: 事故 | S68: 物品 購入 | AE68: 連絡 事項
D69: 苦情
D70: 紛失
D71: 他

Sheet 25
A1: ソーシャルワーカー室 業務日誌 | AH1: C.O.O | AL1: I.O.O | AP1: Ａ.Ｏ.Ｍ
H3: =曜日!B12 -> 令和7年 | M3: =曜日!C12 -> 12月 | P3: 25日 | S3: （ | T3: =曜日!D6 -> 木 | U3: ） | W3: 作成者 | Z3: ：
A5: 労務 状況 | D5: 勤務状況 | K5: 西舘 翔子 | T5: 大川 祥子 | AC5: 宇津木澤 育美 | AL5: 澤里 皓輝
K6: 安田 純子 | T6: 石鉢 佳代
A8: 入退院 状況 | D8: 入院形態 | K8: 東病棟 | Q8: 西病棟 | W8: 北病棟 | AC8: 南病棟 | AI8: 合計 | AO8: 総数
K9: 男性 | N9: 女性 | Q9: 男性 | T9: 女性 | W9: 男性 | Z9: 女性 | AC9: 男性 | AF9: 女性 | AI9: 男性 | AL9: 女性
D10: 任意入院 | AI10: =K10+Q10+W10+AC10 -> 0 | AL10: =N10+T10+Z10+AF10 -> 0 | AO10: =AI14 -> 0
D11: 医療保護入院 | AI11: =K11+Q11+W11+AC11 -> 0 | AL11: =N11+T11+Z11+AF11 -> 0
D12: 措置入院 | AI12: =K12+Q12+W12+AC12 -> 0 | AL12: =N12+T12+Z12+AF12 -> 0
D13: 合計 | K13: =SUM(K10:M12) -> 0 | N13: =SUM(N10:P12) -> 0 | Q13: =SUM(Q10:S12) -> 0 | T13: =SUM(T10:V12) -> 0 | W13: =SUM(W10:Y12) -> 0 | Z13: =SUM(Z10:AB12) -> 0 | AC13: =SUM(AC10:AE12) -> 0 | AF13: =SUM(AF10:AH12) -> 0 | AI13: =SUM(K13+Q13+W13+AC13) -> 0 | AL13: =SUM(N13+T13+Z13+AF13) -> 0 | AO13: 人
K14: =K13+N13 -> 0 | Q14: =Q13+T13 -> 0 | W14: =W13+Z13 -> 0 | AC14: =AC13+AF13 -> 0 | AI14: =AI13+AL13 -> 0
F15: 患者様氏名 | N15: 入院形態 | T15: 担当Dr | Y15: 担当SW | AD15: 病棟 | AJ15: 備考欄
D16: 入院 | L16: 様
L17: 様
L18: 様
L19: 様
L20: 様
D21: 退院 | L21: 様
L22: 様
L23: 様
L24: 様
L25: 様
D26: 転棟 ･ 入院形態変更 | L26: 様
L27: 様
L28: 様
L29: 様
L30: 様
A31: 患者様 関連 | D31: 患者様氏名 | K31: 担当Dr | P31: 病棟 | S31: 制限内容 | X31: 制限時間 | AC31: 開始日時 | AO31: 備考
I32: 様 | AC32: 令和 | AF32: 年 | AH32: 月 | AJ32: 日 | AL32: ： | AN32: ～
I33: 様 | AC33: 令和 | AF33: 年 | AH33: 月 | AJ33: 日 | AL33: ： | AN33: ～
I34: 様 | AC34: 令和 | AF34: 年 | AH34: 月 | AJ34: 日 | AL34: ： | AN34: ～
I35: 様 | AC35: 令和 | AF35: 年 | AH35: 月 | AJ35: 日 | AL35: ： | AN35: ～
I36: 様 | AC36: 令和 | AF36: 年 | AH36: 月 | AJ36: 日 | AL36: ： | AN36: ～
I37: 様 | AC37: 令和 | AF37: 年 | AH37: 月 | AJ37: 日 | AL37: ： | AN37: ～
I38: 様 | AC38: 令和 | AF38: 年 | AH38: 月 | AJ38: 日 | AL38: ： | AN38: ～
I39: 様 | AC39: 令和 | AF39: 年 | AH39: 月 | AJ39: 日 | AL39: ： | AN39: ～
I40: 様 | AC40: 令和 | AF40: 年 | AH40: 月 | AJ40: 日 | AL40: ： | AN40: ～
I41: 様 | AC41: 令和 | AF41: 年 | AH41: 月 | AJ41: 日 | AL41: ： | AN41: ～
I42: 様 | AC42: 令和 | AF42: 年 | AH42: 月 | AJ42: 日 | AL42: ： | AN42: ～
I43: 様 | AC43: 令和 | AF43: 年 | AH43: 月 | AJ43: 日 | AL43: ： | AN43: ～
... I46: 様 | AC46: 令和 | AF46: 年 | AH46: 月 | AJ46: 日 | AL46: ： | AN46: ～
A47: 業務 内容 | D47: 項目 | J47: 患者様氏名 | P47: 担当 | S47: 備考 | Y47: 項目 | AA47: 患者様氏名 | AG47: 内容 | AQ47: 担当
D48: 外 来 患 者 対 応 | F48: 外来患者 対応 | O48: 様 | Y48: 書 類 作 成 完 了 | AF48: 様
O49: 様 | AF49: 様
O50: 様 | AF50: 様
O51: 様 | AF51: 様
O52: 様 | AF52: 様
O53: 様 | AF53: 様
O54: 様 | AF54: 様
D55: 項目 | J55: 患者様氏名 | P55: 担当 | S55: 備考 | AF55: 様
D56: 入 退 院 支 援 | F56: 退院支援 | O56: 様 | AF56: 様
O57: 様 | AF57: 様
O58: 様 | Y58: 項目 | AG58: 件数 | AJ58: 担当 | AM58: 備考
O59: 様 | Y59: 電話対応 | AI59: 件
O60: 様 | Y60: 保健所への届出 | AI60: 件
F61: 退院請求 対応 | O61: 様 | Y61: 項目 | AG61: 内容
O62: 様 | Y62: 通院医療 観察法
F63: 入院患者 対応 | J63: 担当 | M63: 件数 | P63: 備考
O64: 件 | Y64: 認知症疾患 医療ｾﾝﾀｰ
O65: 件
O66: 件 | Y66: 各種会議参加 外部の業務
O67: 件
A68: 安全管理 | D68: 事故 | S68: 物品 購入 | AE68: 連絡 事項
D69: 苦情
D70: 紛失
D71: 他

Sheet 26
A1: ソーシャルワーカー室 業務日誌 | AH1: C.O.O | AL1: I.O.O | AP1: Ａ.Ｏ.Ｍ
H3: =曜日!B12 -> 令和7年 | M3: =曜日!C12 -> 12月 | P3: 26日 | S3: （ | T3: =曜日!D7 -> 金 | U3: ） | W3: 作成者 | Z3: ：
A5: 労務 状況 | D5: 勤務状況 | K5: 西舘 翔子 | T5: 大川 祥子 | AC5: 宇津木澤 育美 | AL5: 澤里 皓輝
K6: 安田 純子 | T6: 石鉢 佳代
A8: 入退院 状況 | D8: 入院形態 | K8: 東病棟 | Q8: 西病棟 | W8: 北病棟 | AC8: 南病棟 | AI8: 合計 | AO8: 総数
K9: 男性 | N9: 女性 | Q9: 男性 | T9: 女性 | W9: 男性 | Z9: 女性 | AC9: 男性 | AF9: 女性 | AI9: 男性 | AL9: 女性
D10: 任意入院 | AI10: =K10+Q10+W10+AC10 -> 0 | AL10: =N10+T10+Z10+AF10 -> 0 | AO10: =AI14 -> 0
D11: 医療保護入院 | AI11: =K11+Q11+W11+AC11 -> 0 | AL11: =N11+T11+Z11+AF11 -> 0
D12: 措置入院 | AI12: =K12+Q12+W12+AC12 -> 0 | AL12: =N12+T12+Z12+AF12 -> 0
D13: 合計 | K13: =SUM(K10:M12) -> 0 | N13: =SUM(N10:P12) -> 0 | Q13: =SUM(Q10:S12) -> 0 | T13: =SUM(T10:V12) -> 0 | W13: =SUM(W10:Y12) -> 0 | Z13: =SUM(Z10:AB12) -> 0 | AC13: =SUM(AC10:AE12) -> 0 | AF13: =SUM(AF10:AH12) -> 0 | AI13: =SUM(K13+Q13+W13+AC13) -> 0 | AL13: =SUM(N13+T13+Z13+AF13) -> 0 | AO13: 人
K14: =K13+N13 -> 0 | Q14: =Q13+T13 -> 0 | W14: =W13+Z13 -> 0 | AC14: =AC13+AF13 -> 0 | AI14: =AI13+AL13 -> 0
F15: 患者様氏名 | N15: 入院形態 | T15: 担当Dr | Y15: 担当SW | AD15: 病棟 | AJ15: 備考欄
D16: 入院 | L16: 様
L17: 様
L18: 様
L19: 様
L20: 様
D21: 退院 | L21: 様
L22: 様
L23: 様
L24: 様
L25: 様
D26: 転棟 ･ 入院形態変更 | L26: 様
L27: 様
L28: 様
L29: 様
L30: 様
A31: 患者様 関連 | D31: 患者様氏名 | K31: 担当Dr | P31: 病棟 | S31: 制限内容 | X31: 制限時間 | AC31: 開始日時 | AO31: 備考
I32: 様 | AC32: 令和 | AF32: 年 | AH32: 月 | AJ32: 日 | AL32: ： | AN32: ～
I33: 様 | AC33: 令和 | AF33: 年 | AH33: 月 | AJ33: 日 | AL33: ： | AN33: ～
I34: 様 | AC34: 令和 | AF34: 年 | AH34: 月 | AJ34: 日 | AL34: ： | AN34: ～
I35: 様 | AC35: 令和 | AF35: 年 | AH35: 月 | AJ35: 日 | AL35: ： | AN35: ～
I36: 様 | AC36: 令和 | AF36: 年 | AH36: 月 | AJ36: 日 | AL36: ： | AN36: ～
I37: 様 | AC37: 令和 | AF37: 年 | AH37: 月 | AJ37: 日 | AL37: ： | AN37: ～
I38: 様 | AC38: 令和 | AF38: 年 | AH38: 月 | AJ38: 日 | AL38: ： | AN38: ～
I39: 様 | AC39: 令和 | AF39: 年 | AH39: 月 | AJ39: 日 | AL39: ： | AN39: ～
I40: 様 | AC40: 令和 | AF40: 年 | AH40: 月 | AJ40: 日 | AL40: ： | AN40: ～
I41: 様 | AC41: 令和 | AF41: 年 | AH41: 月 | AJ41: 日 | AL41: ： | AN41: ～
I42: 様 | AC42: 令和 | AF42: 年 | AH42: 月 | AJ42: 日 | AL42: ： | AN42: ～
I43: 様 | AC43: 令和 | AF43: 年 | AH43: 月 | AJ43: 日 | AL43: ： | AN43: ～
... I46: 様 | AC46: 令和 | AF46: 年 | AH46: 月 | AJ46: 日 | AL46: ： | AN46: ～
A47: 業務 内容 | D47: 項目 | J47: 患者様氏名 | P47: 担当 | S47: 備考 | Y47: 項目 | AA47: 患者様氏名 | AG47: 内容 | AQ47: 担当
D48: 外 来 患 者 対 応 | F48: 外来患者 対応 | O48: 様 | Y48: 書 類 作 成 完 了 | AF48: 様
O49: 様 | AF49: 様
O50: 様 | AF50: 様
O51: 様 | AF51: 様
O52: 様 | AF52: 様
O53: 様 | AF53: 様
O54: 様 | AF54: 様
D55: 項目 | J55: 患者様氏名 | P55: 担当 | S55: 備考 | AF55: 様
D56: 入 退 院 支 援 | F56: 退院支援 | O56: 様 | AF56: 様
O57: 様 | AF57: 様
O58: 様 | Y58: 項目 | AG58: 件数 | AJ58: 担当 | AM58: 備考
O59: 様 | Y59: 電話対応 | AI59: 件
O60: 様 | Y60: 保健所への届出 | AI60: 件
F61: 退院請求 対応 | O61: 様 | Y61: 項目 | AG61: 内容
O62: 様 | Y62: 通院医療 観察法
F63: 入院患者 対応 | J63: 担当 | M63: 件数 | P63: 備考
O64: 件 | Y64: 認知症疾患 医療ｾﾝﾀｰ
O65: 件
O66: 件 | Y66: 各種会議参加 外部の業務
O67: 件
A68: 安全管理 | D68: 事故 | S68: 物品 購入 | AE68: 連絡 事項
D69: 苦情
D70: 紛失
D71: 他

Sheet 27
A1: ソーシャルワーカー室 業務日誌 | AH1: C.O.O | AL1: I.O.O | AP1: Ａ.Ｏ.Ｍ
H3: =曜日!B12 -> 令和7年 | M3: =曜日!C12 -> 12月 | P3: 27日 | S3: （ | T3: =曜日!D8 -> 土 | U3: ） | W3: 作成者 | Z3: ：
A5: 労務 状況 | D5: 勤務状況 | K5: 西舘 翔子 | T5: 大川 祥子 | AC5: 宇津木澤 育美 | AL5: 澤里 皓輝
K6: 安田 純子 | T6: 石鉢 佳代
A8: 入退院 状況 | D8: 入院形態 | K8: 東病棟 | Q8: 西病棟 | W8: 北病棟 | AC8: 南病棟 | AI8: 合計 | AO8: 総数
K9: 男性 | N9: 女性 | Q9: 男性 | T9: 女性 | W9: 男性 | Z9: 女性 | AC9: 男性 | AF9: 女性 | AI9: 男性 | AL9: 女性
D10: 任意入院 | AI10: =K10+Q10+W10+AC10 -> 0 | AL10: =N10+T10+Z10+AF10 -> 0 | AO10: =AI14 -> 0
D11: 医療保護入院 | AI11: =K11+Q11+W11+AC11 -> 0 | AL11: =N11+T11+Z11+AF11 -> 0
D12: 措置入院 | AI12: =K12+Q12+W12+AC12 -> 0 | AL12: =N12+T12+Z12+AF12 -> 0
D13: 合計 | K13: =SUM(K10:M12) -> 0 | N13: =SUM(N10:P12) -> 0 | Q13: =SUM(Q10:S12) -> 0 | T13: =SUM(T10:V12) -> 0 | W13: =SUM(W10:Y12) -> 0 | Z13: =SUM(Z10:AB12) -> 0 | AC13: =SUM(AC10:AE12) -> 0 | AF13: =SUM(AF10:AH12) -> 0 | AI13: =SUM(K13+Q13+W13+AC13) -> 0 | AL13: =SUM(N13+T13+Z13+AF13) -> 0 | AO13: 人
K14: =K13+N13 -> 0 | Q14: =Q13+T13 -> 0 | W14: =W13+Z13 -> 0 | AC14: =AC13+AF13 -> 0 | AI14: =AI13+AL13 -> 0
F15: 患者様氏名 | N15: 入院形態 | T15: 担当Dr | Y15: 担当SW | AD15: 病棟 | AJ15: 備考欄
D16: 入院 | L16: 様
L17: 様
L18: 様
L19: 様
L20: 様
D21: 退院 | L21: 様
L22: 様
L23: 様
L24: 様
L25: 様
D26: 転棟 ･ 入院形態変更 | L26: 様 | AJ26: 医保→任意
L27: 様
L28: 様
L29: 様
L30: 様
A31: 患者様 関連 | D31: 患者様氏名 | K31: 担当Dr | P31: 病棟 | S31: 制限内容 | X31: 制限時間 | AC31: 開始日時 | AO31: 備考
I32: 様 | AC32: 令和 | AF32: 年 | AH32: 月 | AJ32: 日 | AL32: ： | AN32: ～
I33: 様 | AC33: 令和 | AF33: 年 | AH33: 月 | AJ33: 日 | AL33: ： | AN33: ～
I34: 様 | AC34: 令和 | AF34: 年 | AH34: 月 | AJ34: 日 | AL34: ： | AN34: ～
I35: 様 | AC35: 令和 | AF35: 年 | AH35: 月 | AJ35: 日 | AL35: ： | AN35: ～
I36: 様 | AC36: 令和 | AF36: 年 | AH36: 月 | AJ36: 日 | AL36: ： | AN36: ～
I37: 様 | AC37: 令和 | AF37: 年 | AH37: 月 | AJ37: 日 | AL37: ： | AN37: ～
I38: 様 | AC38: 令和 | AF38: 年 | AH38: 月 | AJ38: 日 | AL38: ： | AN38: ～
I39: 様 | AC39: 令和 | AF39: 年 | AH39: 月 | AJ39: 日 | AL39: ： | AN39: ～
I40: 様 | AC40: 令和 | AF40: 年 | AH40: 月 | AJ40: 日 | AL40: ： | AN40: ～
I41: 様 | AC41: 令和 | AF41: 年 | AH41: 月 | AJ41: 日 | AL41: ： | AN41: ～
I42: 様 | AC42: 令和 | AF42: 年 | AH42: 月 | AJ42: 日 | AL42: ： | AN42: ～
I43: 様 | AC43: 令和 | AF43: 年 | AH43: 月 | AJ43: 日 | AL43: ： | AN43: ～
... I46: 様 | AC46: 令和 | AF46: 年 | AH46: 月 | AJ46: 日 | AL46: ： | AN46: ～
A47: 業務 内容 | D47: 項目 | J47: 患者様氏名 | P47: 担当 | S47: 備考 | Y47: 項目 | AA47: 患者様氏名 | AG47: 内容 | AQ47: 担当
D48: 外 来 患 者 対 応 | F48: 外来患者 対応 | O48: 様 | Y48: 書 類 作 成 完 了 | AF48: 様
O49: 様 | AF49: 様
O50: 様 | AF50: 様
O51: 様 | AF51: 様
O52: 様 | AF52: 様
O53: 様 | AF53: 様
O54: 様 | AF54: 様
D55: 項目 | J55: 患者様氏名 | P55: 担当 | S55: 備考 | AF55: 様
D56: 入 退 院 支 援 | F56: 退院支援 | O56: 様 | AF56: 様
O57: 様 | AF57: 様
O58: 様 | Y58: 項目 | AG58: 件数 | AJ58: 担当 | AM58: 備考
O59: 様 | Y59: 電話対応 | AI59: 件
O60: 様 | Y60: 保健所への届出 | AI60: 件
F61: 退院請求 対応 | O61: 様 | Y61: 項目 | AG61: 内容
O62: 様 | Y62: 通院医療 観察法
F63: 入院患者 対応 | J63: 担当 | M63: 件数 | P63: 備考
O64: 件 | Y64: 認知症疾患 医療ｾﾝﾀｰ
O65: 件
O66: 件 | Y66: 各種会議参加 外部の業務
O67: 件
A68: 安全管理 | D68: 事故 | S68: 物品 購入 | AE68: 連絡 事項
D69: 苦情
D70: 紛失
D71: 他

Sheet 28
A1: ソーシャルワーカー室 業務日誌 | AH1: C.O.O | AL1: I.O.O | AP1: Ａ.Ｏ.Ｍ
H3: =曜日!B12 -> 令和7年 | M3: =曜日!C12 -> 12月 | P3: 28日 | S3: （ | T3: =曜日!D9 -> 日 | U3: ） | W3: 作成者 | Z3: ：
A5: 労務 状況 | D5: 勤務状況 | K5: 西舘 翔子 | T5: 大川 祥子 | AC5: 宇津木澤 育美 | AL5: 澤里 皓輝
K6: 安田 純子 | T6: 石鉢 佳代
A8: 入退院 状況 | D8: 入院形態 | K8: 東病棟 | Q8: 西病棟 | W8: 北病棟 | AC8: 南病棟 | AI8: 合計 | AO8: 総数
K9: 男性 | N9: 女性 | Q9: 男性 | T9: 女性 | W9: 男性 | Z9: 女性 | AC9: 男性 | AF9: 女性 | AI9: 男性 | AL9: 女性
D10: 任意入院 | AI10: =K10+Q10+W10+AC10 -> 0 | AL10: =N10+T10+Z10+AF10 -> 0 | AO10: =AI14 -> 0
D11: 医療保護入院 | AI11: =K11+Q11+W11+AC11 -> 0 | AL11: =N11+T11+Z11+AF11 -> 0
D12: 措置入院 | AI12: =K12+Q12+W12+AC12 -> 0 | AL12: =N12+T12+Z12+AF12 -> 0
D13: 合計 | K13: =SUM(K10:M12) -> 0 | N13: =SUM(N10:P12) -> 0 | Q13: =SUM(Q10:S12) -> 0 | T13: =SUM(T10:V12) -> 0 | W13: =SUM(W10:Y12) -> 0 | Z13: =SUM(Z10:AB12) -> 0 | AC13: =SUM(AC10:AE12) -> 0 | AF13: =SUM(AF10:AH12) -> 0 | AI13: =SUM(K13+Q13+W13+AC13) -> 0 | AL13: =SUM(N13+T13+Z13+AF13) -> 0 | AO13: 人
K14: =K13+N13 -> 0 | Q14: =Q13+T13 -> 0 | W14: =W13+Z13 -> 0 | AC14: =AC13+AF13 -> 0 | AI14: =AI13+AL13 -> 0
F15: 患者様氏名 | N15: 入院形態 | T15: 担当Dr | Y15: 担当SW | AD15: 病棟 | AJ15: 備考欄
D16: 入院 | L16: 様
L17: 様
L18: 様
L19: 様
L20: 様
D21: 退院 | L21: 様
L22: 様
L23: 様
L24: 様
L25: 様
D26: 転棟 ･ 入院形態変更 | L26: 様
L27: 様
L28: 様
L29: 様
L30: 様
A31: 患者様 関連 | D31: 患者様氏名 | K31: 担当Dr | P31: 病棟 | S31: 制限内容 | X31: 制限時間 | AC31: 開始日時 | AO31: 備考
I32: 様 | AC32: 令和 | AF32: 年 | AH32: 月 | AJ32: 日 | AL32: ： | AN32: ～
I33: 様 | AC33: 令和 | AF33: 年 | AH33: 月 | AJ33: 日 | AL33: ： | AN33: ～
I34: 様 | AC34: 令和 | AF34: 年 | AH34: 月 | AJ34: 日 | AL34: ： | AN34: ～
I35: 様 | AC35: 令和 | AF35: 年 | AH35: 月 | AJ35: 日 | AL35: ： | AN35: ～
I36: 様 | AC36: 令和 | AF36: 年 | AH36: 月 | AJ36: 日 | AL36: ： | AN36: ～
I37: 様 | AC37: 令和 | AF37: 年 | AH37: 月 | AJ37: 日 | AL37: ： | AN37: ～
I38: 様 | AC38: 令和 | AF38: 年 | AH38: 月 | AJ38: 日 | AL38: ： | AN38: ～
I39: 様 | AC39: 令和 | AF39: 年 | AH39: 月 | AJ39: 日 | AL39: ： | AN39: ～
I40: 様 | AC40: 令和 | AF40: 年 | AH40: 月 | AJ40: 日 | AL40: ： | AN40: ～
I41: 様 | AC41: 令和 | AF41: 年 | AH41: 月 | AJ41: 日 | AL41: ： | AN41: ～
I42: 様 | AC42: 令和 | AF42: 年 | AH42: 月 | AJ42: 日 | AL42: ： | AN42: ～
I43: 様 | AC43: 令和 | AF43: 年 | AH43: 月 | AJ43: 日 | AL43: ： | AN43: ～
... I46: 様 | AC46: 令和 | AF46: 年 | AH46: 月 | AJ46: 日 | AL46: ： | AN46: ～
A47: 業務 内容 | D47: 項目 | J47: 患者様氏名 | P47: 担当 | S47: 備考 | Y47: 項目 | AA47: 患者様氏名 | AG47: 内容 | AQ47: 担当
D48: 外 来 患 者 対 応 | F48: 外来患者 対応 | O48: 様 | Y48: 書 類 作 成 完 了 | AF48: 様
O49: 様 | AF49: 様
O50: 様 | AF50: 様
O51: 様 | AF51: 様
O52: 様 | AF52: 様
O53: 様 | AF53: 様
O54: 様 | AF54: 様
D55: 項目 | J55: 患者様氏名 | P55: 担当 | S55: 備考 | AF55: 様
D56: 入 退 院 支 援 | F56: 退院支援 | O56: 様 | AF56: 様
O57: 様 | AF57: 様
O58: 様 | Y58: 項目 | AG58: 件数 | AJ58: 担当 | AM58: 備考
O59: 様 | Y59: 電話対応 | AI59: 件
O60: 様 | Y60: 保健所への届出 | AI60: 件
F61: 退院請求 対応 | O61: 様 | Y61: 項目 | AG61: 内容
O62: 様 | Y62: 通院医療 観察法
F63: 入院患者 対応 | J63: 担当 | M63: 件数 | P63: 備考
O64: 件 | Y64: 認知症疾患 医療ｾﾝﾀｰ
O65: 件
O66: 件 | Y66: 各種会議参加 外部の業務
O67: 件
A68: 安全管理 | D68: 事故 | S68: 物品 購入 | AE68: 連絡 事項
D69: 苦情
D70: 紛失
D71: 他

Sheet 29
A1: ソーシャルワーカー室 業務日誌 | AH1: C.O.O | AL1: I.O.O | AP1: Ａ.Ｏ.Ｍ
H3: =曜日!B12 -> 令和7年 | M3: =曜日!C12 -> 12月 | P3: 29日 | S3: （ | T3: =曜日!D3 -> 月 | U3: ） | W3: 作成者 | Z3: ：
A5: 労務 状況 | D5: 勤務状況 | K5: 西舘 翔子 | T5: 大川 祥子 | AC5: 宇津木澤 育美 | AL5: 澤里 皓輝
K6: 安田 純子 | T6: 石鉢 佳代
A8: 入退院 状況 | D8: 入院形態 | K8: 東病棟 | Q8: 西病棟 | W8: 北病棟 | AC8: 南病棟 | AI8: 合計 | AO8: 総数
K9: 男性 | N9: 女性 | Q9: 男性 | T9: 女性 | W9: 男性 | Z9: 女性 | AC9: 男性 | AF9: 女性 | AI9: 男性 | AL9: 女性
D10: 任意入院 | AI10: =K10+Q10+W10+AC10 -> 0 | AL10: =N10+T10+Z10+AF10 -> 0 | AO10: =AI14 -> 0
D11: 医療保護入院 | AI11: =K11+Q11+W11+AC11 -> 0 | AL11: =N11+T11+Z11+AF11 -> 0
D12: 措置入院 | AI12: =K12+Q12+W12+AC12 -> 0 | AL12: =N12+T12+Z12+AF12 -> 0
D13: 合計 | K13: =SUM(K10:M12) -> 0 | N13: =SUM(N10:P12) -> 0 | Q13: =SUM(Q10:S12) -> 0 | T13: =SUM(T10:V12) -> 0 | W13: =SUM(W10:Y12) -> 0 | Z13: =SUM(Z10:AB12) -> 0 | AC13: =SUM(AC10:AE12) -> 0 | AF13: =SUM(AF10:AH12) -> 0 | AI13: =SUM(K13+Q13+W13+AC13) -> 0 | AL13: =SUM(N13+T13+Z13+AF13) -> 0 | AO13: 人
K14: =K13+N13 -> 0 | Q14: =Q13+T13 -> 0 | W14: =W13+Z13 -> 0 | AC14: =AC13+AF13 -> 0 | AI14: =AI13+AL13 -> 0
F15: 患者様氏名 | N15: 入院形態 | T15: 担当Dr | Y15: 担当SW | AD15: 病棟 | AJ15: 備考欄
D16: 入院 | L16: 様
L17: 様
L18: 様
L19: 様
L20: 様
D21: 退院 | L21: 様
L22: 様
L23: 様
L24: 様
L25: 様
D26: 転棟 ･ 入院形態変更 | L26: 様
L27: 様
L28: 様
L29: 様
L30: 様
A31: 患者様 関連 | D31: 患者様氏名 | K31: 担当Dr | P31: 病棟 | S31: 制限内容 | X31: 制限時間 | AC31: 開始日時 | AO31: 備考
I32: 様 | AC32: 令和 | AF32: 年 | AH32: 月 | AJ32: 日 | AL32: ： | AN32: ～
I33: 様 | AC33: 令和 | AF33: 年 | AH33: 月 | AJ33: 日 | AL33: ： | AN33: ～
I34: 様 | AC34: 令和 | AF34: 年 | AH34: 月 | AJ34: 日 | AL34: ： | AN34: ～
I35: 様 | AC35: 令和 | AF35: 年 | AH35: 月 | AJ35: 日 | AL35: ： | AN35: ～
I36: 様 | AC36: 令和 | AF36: 年 | AH36: 月 | AJ36: 日 | AL36: ： | AN36: ～
I37: 様 | AC37: 令和 | AF37: 年 | AH37: 月 | AJ37: 日 | AL37: ： | AN37: ～
I38: 様 | AC38: 令和 | AF38: 年 | AH38: 月 | AJ38: 日 | AL38: ： | AN38: ～
I39: 様 | AC39: 令和 | AF39: 年 | AH39: 月 | AJ39: 日 | AL39: ： | AN39: ～
I40: 様 | AC40: 令和 | AF40: 年 | AH40: 月 | AJ40: 日 | AL40: ： | AN40: ～
I41: 様 | AC41: 令和 | AF41: 年 | AH41: 月 | AJ41: 日 | AL41: ： | AN41: ～
I42: 様 | AC42: 令和 | AF42: 年 | AH42: 月 | AJ42: 日 | AL42: ： | AN42: ～
I43: 様 | AC43: 令和 | AF43: 年 | AH43: 月 | AJ43: 日 | AL43: ： | AN43: ～
... I46: 様 | AC46: 令和 | AF46: 年 | AH46: 月 | AJ46: 日 | AL46: ： | AN46: ～
A47: 業務 内容 | D47: 項目 | J47: 患者様氏名 | P47: 担当 | S47: 備考 | Y47: 項目 | AA47: 患者様氏名 | AG47: 内容 | AQ47: 担当
D48: 外 来 患 者 対 応 | F48: 外来患者 対応 | O48: 様 | Y48: 書 類 作 成 完 了 | AF48: 様
O49: 様 | AF49: 様
O50: 様 | AF50: 様
O51: 様 | AF51: 様
O52: 様 | AF52: 様
O53: 様 | AF53: 様
O54: 様 | AF54: 様
D55: 項目 | J55: 患者様氏名 | P55: 担当 | S55: 備考 | AF55: 様
D56: 入 退 院 支 援 | F56: 退院支援 | O56: 様 | AF56: 様
O57: 様 | AF57: 様
O58: 様 | Y58: 項目 | AG58: 件数 | AJ58: 担当 | AM58: 備考
O59: 様 | Y59: 電話対応 | AI59: 件
O60: 様 | Y60: 保健所への届出 | AI60: 件
F61: 退院請求 対応 | O61: 様 | Y61: 項目 | AG61: 内容
O62: 様 | Y62: 通院医療 観察法
F63: 入院患者 対応 | J63: 担当 | M63: 件数 | P63: 備考
O64: 件 | Y64: 認知症疾患 医療ｾﾝﾀｰ
O65: 件
O66: 件 | Y66: 各種会議参加 外部の業務
O67: 件
A68: 安全管理 | D68: 事故 | S68: 物品 購入 | AE68: 連絡 事項
D69: 苦情
D70: 紛失
D71: 他

Sheet 30
A1: ソーシャルワーカー室 業務日誌 | AH1: C.O.O | AL1: I.O.O | AP1: Ａ.Ｏ.Ｍ
H3: =曜日!B12 -> 令和7年 | M3: =曜日!C12 -> 12月 | P3: 30日 | S3: （ | T3: =曜日!D4 -> 火 | U3: ） | W3: 作成者 | Z3: ：
A5: 労務 状況 | D5: 勤務状況 | K5: 西舘 翔子 | T5: 大川 祥子 | AC5: 宇津木澤 育美 | AL5: 澤里 皓輝
K6: 安田 純子 | T6: 石鉢 佳代
A8: 入退院 状況 | D8: 入院形態 | K8: 東病棟 | Q8: 西病棟 | W8: 北病棟 | AC8: 南病棟 | AI8: 合計 | AO8: 総数
K9: 男性 | N9: 女性 | Q9: 男性 | T9: 女性 | W9: 男性 | Z9: 女性 | AC9: 男性 | AF9: 女性 | AI9: 男性 | AL9: 女性
D10: 任意入院 | AI10: =K10+Q10+W10+AC10 -> 0 | AL10: =N10+T10+Z10+AF10 -> 0 | AO10: =AI14 -> 0
D11: 医療保護入院 | AI11: =K11+Q11+W11+AC11 -> 0 | AL11: =N11+T11+Z11+AF11 -> 0
D12: 措置入院 | AI12: =K12+Q12+W12+AC12 -> 0 | AL12: =N12+T12+Z12+AF12 -> 0
D13: 合計 | K13: =SUM(K10:M12) -> 0 | N13: =SUM(N10:P12) -> 0 | Q13: =SUM(Q10:S12) -> 0 | T13: =SUM(T10:V12) -> 0 | W13: =SUM(W10:Y12) -> 0 | Z13: =SUM(Z10:AB12) -> 0 | AC13: =SUM(AC10:AE12) -> 0 | AF13: =SUM(AF10:AH12) -> 0 | AI13: =SUM(K13+Q13+W13+AC13) -> 0 | AL13: =SUM(N13+T13+Z13+AF13) -> 0 | AO13: 人
K14: =K13+N13 -> 0 | Q14: =Q13+T13 -> 0 | W14: =W13+Z13 -> 0 | AC14: =AC13+AF13 -> 0 | AI14: =AI13+AL13 -> 0
F15: 患者様氏名 | N15: 入院形態 | T15: 担当Dr | Y15: 担当SW | AD15: 病棟 | AJ15: 備考欄
D16: 入院 | L16: 様
L17: 様
L18: 様
L19: 様
L20: 様
D21: 退院 | L21: 様
L22: 様
L23: 様
L24: 様
L25: 様
D26: 転棟 ･ 入院形態変更 | L26: 様
L27: 様
L28: 様
L29: 様
L30: 様
A31: 患者様 関連 | D31: 患者様氏名 | K31: 担当Dr | P31: 病棟 | S31: 制限内容 | X31: 制限時間 | AC31: 開始日時 | AO31: 備考
I32: 様 | AC32: 令和 | AF32: 年 | AH32: 月 | AJ32: 日 | AL32: ： | AN32: ～
I33: 様 | AC33: 令和 | AF33: 年 | AH33: 月 | AJ33: 日 | AL33: ： | AN33: ～
I34: 様 | AC34: 令和 | AF34: 年 | AH34: 月 | AJ34: 日 | AL34: ： | AN34: ～
I35: 様 | AC35: 令和 | AF35: 年 | AH35: 月 | AJ35: 日 | AL35: ： | AN35: ～
I36: 様 | AC36: 令和 | AF36: 年 | AH36: 月 | AJ36: 日 | AL36: ： | AN36: ～
I37: 様 | AC37: 令和 | AF37: 年 | AH37: 月 | AJ37: 日 | AL37: ： | AN37: ～
I38: 様 | AC38: 令和 | AF38: 年 | AH38: 月 | AJ38: 日 | AL38: ： | AN38: ～
I39: 様 | AC39: 令和 | AF39: 年 | AH39: 月 | AJ39: 日 | AL39: ： | AN39: ～
I40: 様 | AC40: 令和 | AF40: 年 | AH40: 月 | AJ40: 日 | AL40: ： | AN40: ～
I41: 様 | AC41: 令和 | AF41: 年 | AH41: 月 | AJ41: 日 | AL41: ： | AN41: ～
I42: 様 | AC42: 令和 | AF42: 年 | AH42: 月 | AJ42: 日 | AL42: ： | AN42: ～
I43: 様 | AC43: 令和 | AF43: 年 | AH43: 月 | AJ43: 日 | AL43: ： | AN43: ～
... I46: 様 | AC46: 令和 | AF46: 年 | AH46: 月 | AJ46: 日 | AL46: ： | AN46: ～
A47: 業務 内容 | D47: 項目 | J47: 患者様氏名 | P47: 担当 | S47: 備考 | Y47: 項目 | AA47: 患者様氏名 | AG47: 内容 | AQ47: 担当
D48: 外 来 患 者 対 応 | F48: 外来患者 対応 | O48: 様 | Y48: 書 類 作 成 完 了 | AF48: 様
O49: 様 | AF49: 様
O50: 様 | AF50: 様
O51: 様 | AF51: 様
O52: 様 | AF52: 様
O53: 様 | AF53: 様
O54: 様 | AF54: 様
D55: 項目 | J55: 患者様氏名 | P55: 担当 | S55: 備考 | AF55: 様
D56: 入 退 院 支 援 | F56: 退院支援 | O56: 様 | AF56: 様
O57: 様 | AF57: 様
O58: 様 | Y58: 項目 | AG58: 件数 | AJ58: 担当 | AM58: 備考
O59: 様 | Y59: 電話対応 | AI59: 件
O60: 様 | Y60: 保健所への届出 | AI60: 件
F61: 退院請求 対応 | O61: 様 | Y61: 項目 | AG61: 内容
O62: 様 | Y62: 通院医療 観察法
F63: 入院患者 対応 | J63: 担当 | M63: 件数 | P63: 備考
O64: 件 | Y64: 認知症疾患 医療ｾﾝﾀｰ
O65: 件
O66: 件 | Y66: 各種会議参加 外部の業務
O67: 件
A68: 安全管理 | D68: 事故 | S68: 物品 購入 | AE68: 連絡 事項
D69: 苦情
D70: 紛失
D71: 他

Sheet 31
A1: ソーシャルワーカー室 業務日誌 | AH1: C.O.O | AL1: I.O.O | AP1: Ａ.Ｏ.Ｍ
H3: =曜日!B12 -> 令和7年 | M3: =曜日!C12 -> 12月 | P3: 31日 | S3: （ | T3: =曜日!D5 -> 水 | U3: ） | W3: 作成者 | Z3: ：
A5: 労務 状況 | D5: 勤務状況 | K5: 西舘 翔子 | T5: 大川 祥子 | AC5: 宇津木澤 育美 | AL5: 澤里 皓輝
K6: 安田 純子 | T6: 石鉢 佳代
A8: 入退院 状況 | D8: 入院形態 | K8: 東病棟 | Q8: 西病棟 | W8: 北病棟 | AC8: 南病棟 | AI8: 合計 | AO8: 総数
K9: 男性 | N9: 女性 | Q9: 男性 | T9: 女性 | W9: 男性 | Z9: 女性 | AC9: 男性 | AF9: 女性 | AI9: 男性 | AL9: 女性
D10: 任意入院 | AI10: =K10+Q10+W10+AC10 -> 0 | AL10: =N10+T10+Z10+AF10 -> 0 | AO10: =AI14 -> 0
D11: 医療保護入院 | AI11: =K11+Q11+W11+AC11 -> 0 | AL11: =N11+T11+Z11+AF11 -> 0
D12: 措置入院 | AI12: =K12+Q12+W12+AC12 -> 0 | AL12: =N12+T12+Z12+AF12 -> 0
D13: 合計 | K13: =SUM(K10:M12) -> 0 | N13: =SUM(N10:P12) -> 0 | Q13: =SUM(Q10:S12) -> 0 | T13: =SUM(T10:V12) -> 0 | W13: =SUM(W10:Y12) -> 0 | Z13: =SUM(Z10:AB12) -> 0 | AC13: =SUM(AC10:AE12) -> 0 | AF13: =SUM(AF10:AH12) -> 0 | AI13: =SUM(K13+Q13+W13+AC13) -> 0 | AL13: =SUM(N13+T13+Z13+AF13) -> 0 | AO13: 人
K14: =K13+N13 -> 0 | Q14: =Q13+T13 -> 0 | W14: =W13+Z13 -> 0 | AC14: =AC13+AF13 -> 0 | AI14: =AI13+AL13 -> 0
F15: 患者様氏名 | N15: 入院形態 | T15: 担当Dr | Y15: 担当SW | AD15: 病棟 | AJ15: 備考欄
D16: 入院 | L16: 様
L17: 様
L18: 様
L19: 様
L20: 様
D21: 退院 | L21: 様
L22: 様
L23: 様
L24: 様
L25: 様
D26: 転棟 ･ 入院形態変更 | L26: 様
L27: 様
L28: 様
L29: 様
L30: 様
A31: 患者様 関連 | D31: 患者様氏名 | K31: 担当Dr | P31: 病棟 | S31: 制限内容 | X31: 制限時間 | AC31: 開始日時 | AO31: 備考
I32: 様 | AC32: 令和 | AF32: 年 | AH32: 月 | AJ32: 日 | AL32: ： | AN32: ～
I33: 様 | AC33: 令和 | AF33: 年 | AH33: 月 | AJ33: 日 | AL33: ： | AN33: ～
I34: 様 | AC34: 令和 | AF34: 年 | AH34: 月 | AJ34: 日 | AL34: ： | AN34: ～
I35: 様 | AC35: 令和 | AF35: 年 | AH35: 月 | AJ35: 日 | AL35: ： | AN35: ～
I36: 様 | AC36: 令和 | AF36: 年 | AH36: 月 | AJ36: 日 | AL36: ： | AN36: ～
I37: 様 | AC37: 令和 | AF37: 年 | AH37: 月 | AJ37: 日 | AL37: ： | AN37: ～
I38: 様 | AC38: 令和 | AF38: 年 | AH38: 月 | AJ38: 日 | AL38: ： | AN38: ～
I39: 様 | AC39: 令和 | AF39: 年 | AH39: 月 | AJ39: 日 | AL39: ： | AN39: ～
I40: 様 | AC40: 令和 | AF40: 年 | AH40: 月 | AJ40: 日 | AL40: ： | AN40: ～
I41: 様 | AC41: 令和 | AF41: 年 | AH41: 月 | AJ41: 日 | AL41: ： | AN41: ～
I42: 様 | AC42: 令和 | AF42: 年 | AH42: 月 | AJ42: 日 | AL42: ： | AN42: ～
I43: 様 | AC43: 令和 | AF43: 年 | AH43: 月 | AJ43: 日 | AL43: ： | AN43: ～
... I46: 様 | AC46: 令和 | AF46: 年 | AH46: 月 | AJ46: 日 | AL46: ： | AN46: ～
A47: 業務 内容 | D47: 項目 | J47: 患者様氏名 | P47: 担当 | S47: 備考 | Y47: 項目 | AA47: 患者様氏名 | AG47: 内容 | AQ47: 担当
D48: 外 来 患 者 対 応 | F48: 外来患者 対応 | O48: 様 | Y48: 書 類 作 成 完 了 | AF48: 様
O49: 様 | AF49: 様
O50: 様 | AF50: 様
O51: 様 | AF51: 様
O52: 様 | AF52: 様
O53: 様 | AF53: 様
O54: 様 | AF54: 様
D55: 項目 | J55: 患者様氏名 | P55: 担当 | S55: 備考 | AF55: 様
D56: 入 退 院 支 援 | F56: 退院支援 | O56: 様 | AF56: 様
O57: 様 | AF57: 様
O58: 様 | Y58: 項目 | AG58: 件数 | AJ58: 担当 | AM58: 備考
O59: 様 | Y59: 電話対応 | AI59: 件
O60: 様 | Y60: 保健所への届出 | AI60: 件
F61: 退院請求 対応 | O61: 様 | Y61: 項目 | AG61: 内容
O62: 様 | Y62: 通院医療 観察法
F63: 入院患者 対応 | J63: 担当 | M63: 件数 | P63: 備考
O64: 件 | Y64: 認知症疾患 医療ｾﾝﾀｰ
O65: 件
O66: 件 | Y66: 各種会議参加 外部の業務
O67: 件
A68: 安全管理 | D68: 事故 | S68: 物品 購入 | AE68: 連絡 事項
D69: 苦情
D70: 紛失
D71: 他

Sheet 曜日
B2: 曜 日 | F2: 説明書 その月の１日～７日までの曜日を黄色のセルに記入してください。 （例：１日が水曜日の月なら…… １日＝水 ２日＝木 ： ７日＝火
B3: 1日 | C3: = | D3: 月
B4: 2日 | C4: = | D4: 火 | E4: ←
B5: 3日 | C5: = | D5: 水 | AL5: 澤里 皓輝
B6: 4日 | C6: = | D6: 木
B7: 5日 | C7: = | D7: 金
B8: 6日 | C8: = | D8: 土
B9: 7日 | C9: = | D9: 日
B11: 年 月 | F11: 説明書 年・月を入れてください。
B12: 令和7年 | C12: 12月

Sheet Sheet1
AL5: 澤里 皓輝

Sheet Sheet2
AL5: 澤里 皓輝
