Workbook

Sheet 1
A1: ソーシャルワーカー室 業務日誌 | AH1: C.O.O | AL1: I.O.O | AP1: Ａ.Ｏ.Ｍ
H3: =曜日!B12 -> 令和7年 | M3: =曜日!C12 -> 7月 | P3: 1日 | S3: （ | T3: =曜日!D3 -> 火 | U3: ） | W3: 作成者 | Z3: ： | AA3: 宇津木澤 育美
A5: 労務 状況 | D5: 勤務状況 | K5: 西舘 翔子 | P5: 日勤 | T5: 大川 祥子 | Y5: 日勤 | AC5: 宇津木澤 育美 | AH5: 日勤 | AL5: 澤里 皓輝 | AP5: 日勤
K6: 安田 純子 | P6: 日勤 | T6: 石鉢 佳代 | Y6: 有給
A8: 入退院 状況 | D8: 入院形態 | K8: 東病棟 | Q8: 西病棟 | W8: 北病棟 | AC8: 南病棟 | AI8: 合計 | AO8: 総数
K9: 男性 | N9: 女性 | Q9: 男性 | T9: 女性 | W9: 男性 | Z9: 女性 | AC9: 男性 | AF9: 女性 | AI9: 男性 | AL9: 女性
D10: 任意入院 | K10: 4 | N10: 7 | Q10: 1 | T10: 2 | W10: 17 | Z10: 10 | AC10: 0 | AF10: 1 | AI10: =K10+Q10+W10+AC10 -> 22 | AL10: =N10+T10+Z10+AF10 -> 20 | AO10: =AI14 -> 184
D11: 医療保護入院 | K11: 24 | N11: 17 | Q11: 17 | T11: 25 | W11: 0 | Z11: 1 | AC11: 20 | AF11: 37 | AI11: =K11+Q11+W11+AC11 -> 61 | AL11: =N11+T11+Z11+AF11 -> 80
D12: 措置入院 | K12: 1 | N12: 0 | Q12: 0 | T12: 0 | W12: 0 | Z12: 0 | AC12: 0 | AF12: 0 | AI12: =K12+Q12+W12+AC12 -> 1 | AL12: =N12+T12+Z12+AF12 -> 0
D13: 合計 | K13: =SUM(K10:M12) -> 29 | N13: =SUM(N10:P12) -> 24 | Q13: =SUM(Q10:S12) -> 18 | T13: =SUM(T10:V12) -> 27 | W13: =SUM(W10:Y12) -> 17 | Z13: =SUM(Z10:AB12) -> 11 | AC13: =SUM(AC10:AE12) -> 20 | AF13: =SUM(AF10:AH12) -> 38 | AI13: =SUM(K13+Q13+W13+AC13) -> 84 | AL13: =SUM(N13+T13+Z13+AF13) -> 100 | AO13: 人
K14: =K13+N13 -> 53 | Q14: =Q13+T13 -> 45 | W14: =W13+Z13 -> 28 | AC14: =AC13+AF13 -> 58 | AI14: =AI13+AL13 -> 184
F15: 患者様氏名 | N15: 入院形態 | T15: 担当Dr | Y15: 担当SW | AD15: 病棟 | AJ15: 備考欄
D16: 入院 | F16: 髙橋 京子 | L16: 様 | N16: 任意入院 | T16: 小栁匡相Dr | Y16: 宇津木澤 育美 | AD16: 東B
F17: 黒澤 まゆみ | L17: 様 | N17: 任意入院 | T17: 馬渡晃弘Dr | Y17: 西舘 翔子 | AD17: 東D
F18: 馬場 雄弘 | L18: 様 | N18: 医療保護入院 | T18: 田名部茂Dr | AD18: 南A | AJ18: 主治医は村上Dr
L19: 様
L20: 様
D21: 退院 | F21: 市川 義勝 | L21: 様 | N21: 医療保護入院 | T21: 村上祐介Dr | AD21: 南A
F22: 古里 セキ | L22: 様 | N22: 医療保護入院 | T22: 金泰德Dr | AD22: 南C
L23: 様
L24: 様
L25: 様
D26: 転棟 ･ 入院形態変更 | F26: 川村 貞子 | L26: 様 | N26: 医療保護入院 | T26: 小栁匡相Dr | AD26: 西A→東D
F27: 兼田 順子 | L27: 様 | N27: 医療保護入院 | T27: 柞木田なつみDr | AD27: 東B→西B
L28: 様
L29: 様
L30: 様
A31: 患者様 関連 | D31: 患者様氏名 | K31: 担当Dr | P31: 病棟 | S31: 制限内容 | X31: 制限時間 | AC31: 開始日時 | AO31: 備考
D32: 中村 聡 | I32: 様 | K32: 金泰徳Dr | P32: 東B | S32: 通信制限 | X32: 通信制限 | AC32: 令和 | AE32: 3 | AF32: 年 | AG32: 5 | AH32: 月 | AI32: 31 | AJ32: 日 | AL32: ： | AN32: ～
D33: 沼山 真紀子 | I33: 様 | K33: 金泰徳Dr | P33: 西B | S33: 通信制限 | X33: 通信制限 | AC33: 令和 | AE33: 5 | AF33: 年 | AG33: 2 | AH33: 月 | AI33: 16 | AJ33: 日 | AL33: ： | AN33: ～
D34: 風張 久美子 | I34: 様 | K34: 柞木田なつみDr | P34: 西B | S34: 通信制限 | X34: 通信制限 | AC34: 令和 | AE34: 6 | AF34: 年 | AG34: 3 | AH34: 月 | AI34: 4 | AJ34: 日 | AL34: ： | AN34: ～
D35: 庭田 久美子 | I35: 様 | K35: 小栁匡相Dr | P35: 東B | S35: 通信制限 | X35: 通信制限 | AC35: 令和 | AE35: 6 | AF35: 年 | AG35: 12 | AH35: 月 | AI35: 24 | AJ35: 日 | AL35: ： | AN35: ～
D36: 宮崎 博之 | I36: 様 | K36: 馬渡晃弘Dr | P36: 東A | S36: 終日隔離 | X36: 終日隔離 | AC36: 令和 | AE36: 6 | AF36: 年 | AG36: 9 | AH36: 月 | AI36: 19 | AJ36: 日 | AL36: ： | AN36: ～
D37: 袴田 将志 | I37: 様 | K37: 田名部茂Dr | P37: 東A | S37: 終日隔離 | X37: 終日隔離 | AC37: 令和 | AE37: 7 | AF37: 年 | AG37: 4 | AH37: 月 | AI37: 16 | AJ37: 日 | AL37: ： | AN37: ～
D38: 小栗 健太郎 | I38: 様 | K38: 田名部茂Dr | P38: 東A | S38: 終日隔離 | X38: 終日隔離 | AC38: 令和 | AE38: 7 | AF38: 年 | AG38: 5 | AH38: 月 | AI38: 14 | AJ38: 日 | AL38: ： | AN38: ～
D39: 長根 瞳 | I39: 様 | K39: 小栁匡相Dr | P39: 東A | S39: 終日隔離 | X39: 終日隔離 | AC39: 令和 | AE39: 7 | AF39: 年 | AG39: 6 | AH39: 月 | AI39: 15 | AJ39: 日 | AL39: ： | AN39: ～
D40: 佐藤 朋代 | I40: 様 | K40: 柞木田なつみDr | P40: 東合 | S40: 身体拘束 | X40: 身体拘束 | AC40: 令和 | AE40: 7 | AF40: 年 | AG40: 6 | AH40: 月 | AI40: 20 | AJ40: 日 | AL40: ： | AN40: ～
D41: 田端 操 | I41: 様 | K41: 小栁匡相Dr | P41: 東A | S41: 終日隔離 | X41: 終日隔離 | AC41: 令和 | AE41: 7 | AF41: 年 | AG41: 6 | AH41: 月 | AI41: 30 | AJ41: 日 | AL41: ： | AN41: ～ | AO41: 終了
I42: 様 | AC42: 令和 | AF42: 年 | AH42: 月 | AJ42: 日 | AL42: ： | AN42: ～
I43: 様 | AC43: 令和 | AF43: 年 | AH43: 月 | AJ43: 日 | AL43: ： | AN43: ～
I44: 様 | AC44: 令和 | AF44: 年 | AH44: 月 | AJ44: 日 | AL44: ： | AN44: ～
I45: 様 | AC45: 令和 | AF45: 年 | AH45: 月 | AJ45: 日 | AL45: ： | AN45: ～
I46: 様 | AC46: 令和 | AF46: 年 | AH46: 月 | AJ46: 日 | AL46: ： | AN46: ～
A47: 業務 内容 | D47: 項目 | J47: 患者様氏名 | P47: 担当 | S47: 備考 | Y47: 項目 | AA47: 患者様氏名 | AG47: 内容 | AQ47: 担当
D48: 外 来 患 者 対 応 | F48: 外来患者 対応 | O48: 様 | Y48: 書 類 作 成 完 了 | AF48: 様
O49: 様 | AF49: 様
O50: 様 | AF50: 様
O51: 様 | AF51: 様
O52: 様 | AF52: 様
O53: 様 | AF53: 様
O54: 様 | AF54: 様
D55: 項目 | J55: 患者様氏名 | P55: 担当 | S55: 備考 | AF55: 様
D56: 入 退 院 支 援 | F56: 退院支援 | O56: 様 | AF56: 様
O57: 様 | AF57: 様
O58: 様 | Y58: 項目 | AG58: 件数 | AJ58: 担当 | AM58: 備考
O59: 様 | Y59: 電話対応 | AI59: 件
O60: 様 | Y60: 保健所への届出 | AI60: 件
F61: 退院請求 対応 | O61: 様 | Y61: 項目 | AG61: 内容
O62: 様 | Y62: 通院医療 観察法
F63: 入院患者 対応 | J63: 担当 | M63: 件数 | P63: 備考
O64: 件 | Y64: 認知症疾患 医療ｾﾝﾀｰ
O65: 件
O66: 件 | Y66: 各種会議参加 外部の業務
O67: 件
A68: 安全管理 | D68: 事故 | S68: 物品 購入 | AE68: 連絡 事項
D69: 苦情
D70: 紛失
D71: 他

Sheet 2
A1: ソーシャルワーカー室 業務日誌 | AH1: C.O.O | AL1: I.O.O | AP1: Ａ.Ｏ.Ｍ
H3: =曜日!B12 -> 令和7年 | M3: =曜日!C12 -> 7月 | P3: 2日 | S3: （ | T3: =曜日!D4 -> 水 | U3: ） | W3: 作成者 | Z3: ： | AA3: 石鉢 佳代
A5: 労務 状況 | D5: 勤務状況 | K5: 西舘 翔子 | P5: 日勤 | T5: 大川 祥子 | Y5: 日勤 | AC5: 宇津木澤 育美 | AH5: 日勤 | AL5: 澤里 皓輝 | AP5: 公休
K6: 安田 純子 | P6: 日勤 | T6: 石鉢 佳代 | Y6: 日勤
A8: 入退院 状況 | D8: 入院形態 | K8: 東病棟 | Q8: 西病棟 | W8: 北病棟 | AC8: 南病棟 | AI8: 合計 | AO8: 総数
K9: 男性 | N9: 女性 | Q9: 男性 | T9: 女性 | W9: 男性 | Z9: 女性 | AC9: 男性 | AF9: 女性 | AI9: 男性 | AL9: 女性
D10: 任意入院 | K10: 4 | N10: 6 | Q10: 0 | T10: 2 | W10: 18 | Z10: 11 | AC10: 0 | AF10: 1 | AI10: =K10+Q10+W10+AC10 -> 22 | AL10: =N10+T10+Z10+AF10 -> 20 | AO10: =AI14 -> 184
D11: 医療保護入院 | K11: 23 | N11: 15 | Q11: 18 | T11: 27 | W11: 0 | Z11: 1 | AC11: 20 | AF11: 37 | AI11: =K11+Q11+W11+AC11 -> 61 | AL11: =N11+T11+Z11+AF11 -> 80
D12: 措置入院 | K12: 1 | N12: 0 | Q12: 0 | T12: 0 | W12: 0 | Z12: 0 | AC12: 0 | AF12: 0 | AI12: =K12+Q12+W12+AC12 -> 1 | AL12: =N12+T12+Z12+AF12 -> 0
D13: 合計 | K13: =SUM(K10:M12) -> 28 | N13: =SUM(N10:P12) -> 21 | Q13: =SUM(Q10:S12) -> 18 | T13: =SUM(T10:V12) -> 29 | W13: =SUM(W10:Y12) -> 18 | Z13: =SUM(Z10:AB12) -> 12 | AC13: =SUM(AC10:AE12) -> 20 | AF13: =SUM(AF10:AH12) -> 38 | AI13: =SUM(K13+Q13+W13+AC13) -> 84 | AL13: =SUM(N13+T13+Z13+AF13) -> 100 | AO13: 人
K14: =K13+N13 -> 49 | Q14: =Q13+T13 -> 47 | W14: =W13+Z13 -> 30 | AC14: =AC13+AF13 -> 58 | AI14: =AI13+AL13 -> 184
F15: 患者様氏名 | N15: 入院形態 | T15: 担当Dr | Y15: 担当SW | AD15: 病棟 | AJ15: 備考欄
D16: 入院 | L16: 様
L17: 様
L18: 様
L19: 様
L20: 様
D21: 退院 | L21: 様
L22: 様
L23: 様
L24: 様
L25: 様
D26: 転棟 ･ 入院形態変更 | F26: 北川 ミドリ | L26: 様 | N26: 医療保護入院 | T26: 小栁匡相Dr | AD26: 東B→南C
F27: 井上 哲也 | L27: 様 | N27: 任意入院 | T27: 田名部茂Dr | AD27: 西B→北
F28: 川村 貞子 | L28: 様 | N28: 医療保護入院 | T28: 小栁匡相Dr | AD28: 東D→西A
F29: 谷地 寿梨 | L29: 様 | N29: 任意入院 | T29: 田名部茂Dr | AD29: 東D→北
F30: 佐藤 友子 | L30: 様 | N30: 医療保護入院 | T30: 深澤隆Dr | AD30: 東D→西B
F31: 出町 京子 | L31: 様 | N31: 医療保護入院 | T31: 金泰德Dr | AD31: 南A→西A
F32: 藪 真由美 | L32: 様 | N32: 医療保護入院 | T32: 金泰德Dr | AD32: 西B→東D
F33: 内山 陽大 | L33: 様 | N33: 医療保護入院 | T33: 田名部茂Dr | AD33: 東B→西B
A34: 患者様 関連 | D34: 患者様氏名 | K34: 担当Dr | P34: 病棟 | S34: 制限内容 | X34: 制限時間 | AC34: 開始日時 | AO34: 備考
D35: 中村 聡 | I35: 様 | K35: 金泰徳Dr | P35: 東B | S35: 通信制限 | X35: 通信制限 | AC35: 令和 | AE35: 3 | AF35: 年 | AG35: 5 | AH35: 月 | AI35: 31 | AJ35: 日 | AL35: ： | AN35: ～
D36: 沼山 真紀子 | I36: 様 | K36: 金泰徳Dr | P36: 西B | S36: 通信制限 | X36: 通信制限 | AC36: 令和 | AE36: 5 | AF36: 年 | AG36: 2 | AH36: 月 | AI36: 16 | AJ36: 日 | AL36: ： | AN36: ～
D37: 風張 久美子 | I37: 様 | K37: 柞木田なつみDr | P37: 西B | S37: 通信制限 | X37: 通信制限 | AC37: 令和 | AE37: 6 | AF37: 年 | AG37: 3 | AH37: 月 | AI37: 4 | AJ37: 日 | AL37: ： | AN37: ～
D38: 庭田 久美子 | I38: 様 | K38: 小栁匡相Dr | P38: 東B | S38: 通信制限 | X38: 通信制限 | AC38: 令和 | AE38: 6 | AF38: 年 | AG38: 12 | AH38: 月 | AI38: 24 | AJ38: 日 | AL38: ： | AN38: ～
D39: 宮崎 博之 | I39: 様 | K39: 馬渡晃弘Dr | P39: 東A | S39: 終日隔離 | X39: 終日隔離 | AC39: 令和 | AE39: 6 | AF39: 年 | AG39: 9 | AH39: 月 | AI39: 19 | AJ39: 日 | AL39: ： | AN39: ～
D40: 袴田 将志 | I40: 様 | K40: 田名部茂Dr | P40: 東A | S40: 終日隔離 | X40: 終日隔離 | AC40: 令和 | AE40: 7 | AF40: 年 | AG40: 4 | AH40: 月 | AI40: 16 | AJ40: 日 | AL40: ： | AN40: ～
D41: 小栗 健太郎 | I41: 様 | K41: 田名部茂Dr | P41: 東A | S41: 終日隔離 | X41: 終日隔離 | AC41: 令和 | AE41: 7 | AF41: 年 | AG41: 5 | AH41: 月 | AI41: 14 | AJ41: 日 | AL41: ： | AN41: ～
D42: 長根 瞳 | I42: 様 | K42: 小栁匡相Dr | P42: 東A | S42: 終日隔離 | X42: 終日隔離 | AC42: 令和 | AE42: 7 | AF42: 年 | AG42: 6 | AH42: 月 | AI42: 15 | AJ42: 日 | AL42: ： | AN42: ～ | AO42: 終了
D43: 佐藤 朋代 | I43: 様 | K43: 柞木田なつみDr | P43: 東合 | S43: 身体拘束 | X43: 身体拘束 | AC43: 令和 | AE43: 7 | AF43: 年 | AG43: 6 | AH43: 月 | AI43: 20 | AJ43: 日 | AL43: ： | AN43: ～
I44: 様 | AC44: 令和 | AF44: 年 | AH44: 月 | AJ44: 日 | AL44: ： | AN44: ～
I45: 様 | AC45: 令和 | AF45: 年 | AH45: 月 | AJ45: 日 | AL45: ： | AN45: ～
I46: 様 | AC46: 令和 | AF46: 年 | AH46: 月 | AJ46: 日 | AL46: ： | AN46: ～
I47: 様 | AC47: 令和 | AF47: 年 | AH47: 月 | AJ47: 日 | AL47: ： | AN47: ～
I48: 様 | AC48: 令和 | AF48: 年 | AH48: 月 | AJ48: 日 | AL48: ： | AN48: ～
I49: 様 | AC49: 令和 | AF49: 年 | AH49: 月 | AJ49: 日 | AL49: ： | AN49: ～
A50: 業務 内容 | D50: 項目 | J50: 患者様氏名 | P50: 担当 | S50: 備考 | Y50: 項目 | AA50: 患者様氏名 | AG50: 内容 | AQ50: 担当
D51: 外 来 患 者 対 応 | F51: 外来患者 対応 | O51: 様 | Y51: 書 類 作 成 完 了 | AF51: 様
O52: 様 | AF52: 様
O53: 様 | AF53: 様
O54: 様 | AF54: 様
O55: 様 | AF55: 様
O56: 様 | AF56: 様
O57: 様 | AF57: 様
D58: 項目 | J58: 患者様氏名 | P58: 担当 | S58: 備考 | AF58: 様
D59: 入 退 院 支 援 | F59: 退院支援 | O59: 様 | AF59: 様
O60: 様 | AF60: 様
O61: 様 | Y61: 項目 | AG61: 件数 | AJ61: 担当 | AM61: 備考
O62: 様 | Y62: 電話対応 | AI62: 件
O63: 様 | Y63: 保健所への届出 | AI63: 件
F64: 退院請求 対応 | O64: 様 | Y64: 項目 | AG64: 内容
O65: 様 | Y65: 通院医療 観察法
F66: 入院患者 対応 | J66: 担当 | M66: 件数 | P66: 備考
O67: 件 | Y67: 認知症疾患 医療ｾﾝﾀｰ
O68: 件
O69: 件 | Y69: 各種会議参加 外部の業務
O70: 件
A71: 安全管理 | D71: 事故 | S71: 物品 購入 | AE71: 連絡 事項
D72: 苦情
D73: 紛失
D74: 他

Sheet 3
A1: ソーシャルワーカー室 業務日誌 | AH1: C.O.O | AL1: I.O.O | AP1: Ａ.Ｏ.Ｍ
H3: =曜日!B12 -> 令和7年 | M3: =曜日!C12 -> 7月 | P3: 3日 | S3: （ | T3: =曜日!D5 -> 木 | U3: ） | W3: 作成者 | Z3: ：
A5: 労務 状況 | D5: 勤務状況 | K5: 西舘 翔子 | T5: 大川 祥子 | AC5: 宇津木澤 育美 | AL5: 澤里 皓輝
K6: 安田 純子 | T6: 石鉢 佳代
A8: 入退院 状況 | D8: 入院形態 | K8: 東病棟 | Q8: 西病棟 | W8: 北病棟 | AC8: 南病棟 | AI8: 合計 | AO8: 総数
K9: 男性 | N9: 女性 | Q9: 男性 | T9: 女性 | W9: 男性 | Z9: 女性 | AC9: 男性 | AF9: 女性 | AI9: 男性 | AL9: 女性
D10: 任意入院 | AI10: =K10+Q10+W10+AC10 -> 0 | AL10: =N10+T10+Z10+AF10 -> 0 | AO10: =AI14 -> 0
D11: 医療保護入院 | AI11: =K11+Q11+W11+AC11 -> 0 | AL11: =N11+T11+Z11+AF11 -> 0
D12: 措置入院 | AI12: =K12+Q12+W12+AC12 -> 0 | AL12: =N12+T12+Z12+AF12 -> 0
D13: 合計 | K13: =SUM(K10:M12) -> 0 | N13: =SUM(N10:P12) -> 0 | Q13: =SUM(Q10:S12) -> 0 | T13: =SUM(T10:V12) -> 0 | W13: =SUM(W10:Y12) -> 0 | Z13: =SUM(Z10:AB12) -> 0 | AC13: =SUM(AC10:AE12) -> 0 | AF13: =SUM(AF10:AH12) -> 0 | AI13: =SUM(K13+Q13+W13+AC13) -> 0 | AL13: =SUM(N13+T13+Z13+AF13) -> 0 | AO13: 人
K14: =K13+N13 -> 0 | Q14: =Q13+T13 -> 0 | W14: =W13+Z13 -> 0 | AC14: =AC13+AF13 -> 0 | AI14: =AI13+AL13 -> 0
F15: 患者様氏名 | N15: 入院形態 | T15: 担当Dr | Y15: 担当SW | AD15: 病棟 | AJ15: 備考欄
D16: 入院 | L16: 様
L17: 様
L18: 様
L19: 様
L20: 様
D21: 退院 | L21: 様
L22: 様
L23: 様
L24: 様
L25: 様
D26: 転棟 ･ 入院形態変更 | L26: 様
L27: 様
L28: 様
L29: 様
L30: 様
A31: 患者様 関連 | D31: 患者様氏名 | K31: 担当Dr | P31: 病棟 | S31: 制限内容 | X31: 制限時間 | AC31: 開始日時 | AO31: 備考
I32: 様 | AC32: 令和 | AF32: 年 | AH32: 月 | AJ32: 日 | AL32: ： | AN32: ～
I33: 様 | AC33: 令和 | AF33: 年 | AH33: 月 | AJ33: 日 | AL33: ： | AN33: ～
I34: 様 | AC34: 令和 | AF34: 年 | AH34: 月 | AJ34: 日 | AL34: ： | AN34: ～
I35: 様 | AC35: 令和 | AF35: 年 | AH35: 月 | AJ35: 日 | AL35: ： | AN35: ～
I36: 様 | AC36: 令和 | AF36: 年 | AH36: 月 | AJ36: 日 | AL36: ： | AN36: ～
I37: 様 | AC37: 令和 | AF37: 年 | AH37: 月 | AJ37: 日 | AL37: ： | AN37: ～
I38: 様 | AC38: 令和 | AF38: 年 | AH38: 月 | AJ38: 日 | AL38: ： | AN38: ～
I39: 様 | AC39: 令和 | AF39: 年 | AH39: 月 | AJ39: 日 | AL39: ： | AN39: ～
I40: 様 | AC40: 令和 | AF40: 年 | AH40: 月 | AJ40: 日 | AL40: ： | AN40: ～
I41: 様 | AC41: 令和 | AF41: 年 | AH41: 月 | AJ41: 日 | AL41: ： | AN41: ～
I42: 様 | AC42: 令和 | AF42: 年 | AH42: 月 | AJ42: 日 | AL42: ： | AN42: ～
I43: 様 | AC43: 令和 | AF43: 年 | AH43: 月 | AJ43: 日 | AL43: ： | AN43: ～
... I46: 様 | AC46: 令和 | AF46: 年 | AH46: 月 | AJ46: 日 | AL46: ： | AN46: ～
A47: 業務 内容 | D47: 項目 | J47: 患者様氏名 | P47: 担当 | S47: 備考 | Y47: 項目 | AA47: 患者様氏名 | AG47: 内容 | AQ47: 担当
D48: 外 来 患 者 対 応 | F48: 外来患者 対応 | O48: 様 | Y48: 書 類 作 成 完 了 | AF48: 様
O49: 様 | AF49: 様
O50: 様 | AF50: 様
O51: 様 | AF51: 様
O52: 様 | AF52: 様
O53: 様 | AF53: 様
O54: 様 | AF54: 様
D55: 項目 | J55: 患者様氏名 | P55: 担当 | S55: 備考 | AF55: 様
D56: 入 退 院 支 援 | F56: 退院支援 | O56: 様 | AF56: 様
O57: 様 | AF57: 様
O58: 様 | Y58: 項目 | AG58: 件数 | AJ58: 担当 | AM58: 備考
O59: 様 | Y59: 電話対応 | AI59: 件
O60: 様 | Y60: 保健所への届出 | AI60: 件
F61: 退院請求 対応 | O61: 様 | Y61: 項目 | AG61: 内容
O62: 様 | Y62: 通院医療 観察法
F63: 入院患者 対応 | J63: 担当 | M63: 件数 | P63: 備考
O64: 件 | Y64: 認知症疾患 医療ｾﾝﾀｰ
O65: 件
O66: 件 | Y66: 各種会議参加 外部の業務
O67: 件
A68: 安全管理 | D68: 事故 | S68: 物品 購入 | AE68: 連絡 事項
D69: 苦情
D70: 紛失
D71: 他

Sheet 4
A1: ソーシャルワーカー室 業務日誌 | AH1: C.O.O | AL1: I.O.O | AP1: Ａ.Ｏ.Ｍ
H3: =曜日!B12 -> 令和7年 | M3: =曜日!C12 -> 7月 | P3: 4日 | S3: （ | T3: =曜日!D6 -> 金 | U3: ） | W3: 作成者 | Z3: ：
A5: 労務 状況 | D5: 勤務状況 | K5: 西舘 翔子 | T5: 大川 祥子 | AC5: 宇津木澤 育美 | AL5: 澤里 皓輝
K6: 安田 純子 | T6: 石鉢 佳代
A8: 入退院 状況 | D8: 入院形態 | K8: 東病棟 | Q8: 西病棟 | W8: 北病棟 | AC8: 南病棟 | AI8: 合計 | AO8: 総数
K9: 男性 | N9: 女性 | Q9: 男性 | T9: 女性 | W9: 男性 | Z9: 女性 | AC9: 男性 | AF9: 女性 | AI9: 男性 | AL9: 女性
D10: 任意入院 | AI10: =K10+Q10+W10+AC10 -> 0 | AL10: =N10+T10+Z10+AF10 -> 0 | AO10: =AI14 -> 0
D11: 医療保護入院 | AI11: =K11+Q11+W11+AC11 -> 0 | AL11: =N11+T11+Z11+AF11 -> 0
D12: 措置入院 | AI12: =K12+Q12+W12+AC12 -> 0 | AL12: =N12+T12+Z12+AF12 -> 0
D13: 合計 | K13: =SUM(K10:M12) -> 0 | N13: =SUM(N10:P12) -> 0 | Q13: =SUM(Q10:S12) -> 0 | T13: =SUM(T10:V12) -> 0 | W13: =SUM(W10:Y12) -> 0 | Z13: =SUM(Z10:AB12) -> 0 | AC13: =SUM(AC10:AE12) -> 0 | AF13: =SUM(AF10:AH12) -> 0 | AI13: =SUM(K13+Q13+W13+AC13) -> 0 | AL13: =SUM(N13+T13+Z13+AF13) -> 0 | AO13: 人
K14: =K13+N13 -> 0 | Q14: =Q13+T13 -> 0 | W14: =W13+Z13 -> 0 | AC14: =AC13+AF13 -> 0 | AI14: =AI13+AL13 -> 0
F15: 患者様氏名 | N15: 入院形態 | T15: 担当Dr | Y15: 担当SW | AD15: 病棟 | AJ15: 備考欄
D16: 入院 | L16: 様
L17: 様
L18: 様
L19: 様
L20: 様
D21: 退院 | L21: 様
L22: 様
L23: 様
L24: 様
L25: 様
D26: 転棟 ･ 入院形態変更 | L26: 様
L27: 様
L28: 様
L29: 様
L30: 様
A31: 患者様 関連 | D31: 患者様氏名 | K31: 担当Dr | P31: 病棟 | S31: 制限内容 | X31: 制限時間 | AC31: 開始日時 | AO31: 備考
I32: 様 | AC32: 令和 | AF32: 年 | AH32: 月 | AJ32: 日 | AL32: ： | AN32: ～
I33: 様 | AC33: 令和 | AF33: 年 | AH33: 月 | AJ33: 日 | AL33: ： | AN33: ～
I34: 様 | AC34: 令和 | AF34: 年 | AH34: 月 | AJ34: 日 | AL34: ： | AN34: ～
I35: 様 | AC35: 令和 | AF35: 年 | AH35: 月 | AJ35: 日 | AL35: ： | AN35: ～
I36: 様 | AC36: 令和 | AF36: 年 | AH36: 月 | AJ36: 日 | AL36: ： | AN36: ～
I37: 様 | AC37: 令和 | AF37: 年 | AH37: 月 | AJ37: 日 | AL37: ： | AN37: ～
I38: 様 | AC38: 令和 | AF38: 年 | AH38: 月 | AJ38: 日 | AL38: ： | AN38: ～
I39: 様 | AC39: 令和 | AF39: 年 | AH39: 月 | AJ39: 日 | AL39: ： | AN39: ～
I40: 様 | AC40: 令和 | AF40: 年 | AH40: 月 | AJ40: 日 | AL40: ： | AN40: ～
I41: 様 | AC41: 令和 | AF41: 年 | AH41: 月 | AJ41: 日 | AL41: ： | AN41: ～
I42: 様 | AC42: 令和 | AF42: 年 | AH42: 月 | AJ42: 日 | AL42: ： | AN42: ～
I43: 様 | AC43: 令和 | AF43: 年 | AH43: 月 | AJ43: 日 | AL43: ： | AN43: ～
... I46: 様 | AC46: 令和 | AF46: 年 | AH46: 月 | AJ46: 日 | AL46: ： | AN46: ～
A47: 業務 内容 | D47: 項目 | J47: 患者様氏名 | P47: 担当 | S47: 備考 | Y47: 項目 | AA47: 患者様氏名 | AG47: 内容 | AQ47: 担当
D48: 外 来 患 者 対 応 | F48: 外来患者 対応 | O48: 様 | Y48: 書 類 作 成 完 了 | AF48: 様
O49: 様 | AF49: 様
O50: 様 | AF50: 様
O51: 様 | AF51: 様
O52: 様 | AF52: 様
O53: 様 | AF53: 様
O54: 様 | AF54: 様
D55: 項目 | J55: 患者様氏名 | P55: 担当 | S55: 備考 | AF55: 様
D56: 入 退 院 支 援 | F56: 退院支援 | O56: 様 | AF56: 様
O57: 様 | AF57: 様
O58: 様 | Y58: 項目 | AG58: 件数 | AJ58: 担当 | AM58: 備考
O59: 様 | Y59: 電話対応 | AI59: 件
O60: 様 | Y60: 保健所への届出 | AI60: 件
F61: 退院請求 対応 | O61: 様 | Y61: 項目 | AG61: 内容
O62: 様 | Y62: 通院医療 観察法
F63: 入院患者 対応 | J63: 担当 | M63: 件数 | P63: 備考
O64: 件 | Y64: 認知症疾患 医療ｾﾝﾀｰ
O65: 件
O66: 件 | Y66: 各種会議参加 外部の業務
O67: 件
A68: 安全管理 | D68: 事故 | S68: 物品 購入 | AE68: 連絡 事項
D69: 苦情
D70: 紛失
D71: 他

Sheet 5
A1: ソーシャルワーカー室 業務日誌 | AH1: C.O.O | AL1: I.O.O | AP1: Ａ.Ｏ.Ｍ
H3: =曜日!B12 -> 令和7年 | M3: =曜日!C12 -> 7月 | P3: 5日 | S3: （ | T3: =曜日!D7 -> 土 | U3: ） | W3: 作成者 | Z3: ：
A5: 労務 状況 | D5: 勤務状況 | K5: 西舘 翔子 | T5: 大川 祥子 | AC5: 宇津木澤 育美 | AL5: 澤里 皓輝
K6: 安田 純子 | T6: 石鉢 佳代
A8: 入退院 状況 | D8: 入院形態 | K8: 東病棟 | Q8: 西病棟 | W8: 北病棟 | AC8: 南病棟 | AI8: 合計 | AO8: 総数
K9: 男性 | N9: 女性 | Q9: 男性 | T9: 女性 | W9: 男性 | Z9: 女性 | AC9: 男性 | AF9: 女性 | AI9: 男性 | AL9: 女性
D10: 任意入院 | AI10: =K10+Q10+W10+AC10 -> 0 | AL10: =N10+T10+Z10+AF10 -> 0 | AO10: =AI14 -> 0
D11: 医療保護入院 | AI11: =K11+Q11+W11+AC11 -> 0 | AL11: =N11+T11+Z11+AF11 -> 0
D12: 措置入院 | AI12: =K12+Q12+W12+AC12 -> 0 | AL12: =N12+T12+Z12+AF12 -> 0
D13: 合計 | K13: =SUM(K10:M12) -> 0 | N13: =SUM(N10:P12) -> 0 | Q13: =SUM(Q10:S12) -> 0 | T13: =SUM(T10:V12) -> 0 | W13: =SUM(W10:Y12) -> 0 | Z13: =SUM(Z10:AB12) -> 0 | AC13: =SUM(AC10:AE12) -> 0 | AF13: =SUM(AF10:AH12) -> 0 | AI13: =SUM(K13+Q13+W13+AC13) -> 0 | AL13: =SUM(N13+T13+Z13+AF13) -> 0 | AO13: 人
K14: =K13+N13 -> 0 | Q14: =Q13+T13 -> 0 | W14: =W13+Z13 -> 0 | AC14: =AC13+AF13 -> 0 | AI14: =AI13+AL13 -> 0
F15: 患者様氏名 | N15: 入院形態 | T15: 担当Dr | Y15: 担当SW | AD15: 病棟 | AJ15: 備考欄
D16: 入院 | L16: 様
L17: 様
L18: 様
L19: 様
L20: 様
D21: 退院 | L21: 様
L22: 様
L23: 様
L24: 様
L25: 様
D26: 転棟 ･ 入院形態変更 | L26: 様
L27: 様
L28: 様
L29: 様
L30: 様
A31: 患者様 関連 | D31: 患者様氏名 | K31: 担当Dr | P31: 病棟 | S31: 制限内容 | X31: 制限時間 | AC31: 開始日時 | AO31: 備考
I32: 様 | AC32: 令和 | AF32: 年 | AH32: 月 | AJ32: 日 | AL32: ： | AN32: ～
I33: 様 | AC33: 令和 | AF33: 年 | AH33: 月 | AJ33: 日 | AL33: ： | AN33: ～
I34: 様 | AC34: 令和 | AF34: 年 | AH34: 月 | AJ34: 日 | AL34: ： | AN34: ～
I35: 様 | AC35: 令和 | AF35: 年 | AH35: 月 | AJ35: 日 | AL35: ： | AN35: ～
I36: 様 | AC36: 令和 | AF36: 年 | AH36: 月 | AJ36: 日 | AL36: ： | AN36: ～
I37: 様 | AC37: 令和 | AF37: 年 | AH37: 月 | AJ37: 日 | AL37: ： | AN37: ～
I38: 様 | AC38: 令和 | AF38: 年 | AH38: 月 | AJ38: 日 | AL38: ： | AN38: ～
I39: 様 | AC39: 令和 | AF39: 年 | AH39: 月 | AJ39: 日 | AL39: ： | AN39: ～
I40: 様 | AC40: 令和 | AF40: 年 | AH40: 月 | AJ40: 日 | AL40: ： | AN40: ～
I41: 様 | AC41: 令和 | AF41: 年 | AH41: 月 | AJ41: 日 | AL41: ： | AN41: ～
I42: 様 | AC42: 令和 | AF42: 年 | AH42: 月 | AJ42: 日 | AL42: ： | AN42: ～
I43: 様 | AC43: 令和 | AF43: 年 | AH43: 月 | AJ43: 日 | AL43: ： | AN43: ～
... I46: 様 | AC46: 令和 | AF46: 年 | AH46: 月 | AJ46: 日 | AL46: ： | AN46: ～
A47: 業務 内容 | D47: 項目 | J47: 患者様氏名 | P47: 担当 | S47: 備考 | Y47: 項目 | AA47: 患者様氏名 | AG47: 内容 | AQ47: 担当
D48: 外 来 患 者 対 応 | F48: 外来患者 対応 | O48: 様 | Y48: 書 類 作 成 完 了 | AF48: 様
O49: 様 | AF49: 様
O50: 様 | AF50: 様
O51: 様 | AF51: 様
O52: 様 | AF52: 様
O53: 様 | AF53: 様
O54: 様 | AF54: 様
D55: 項目 | J55: 患者様氏名 | P55: 担当 | S55: 備考 | AF55: 様
D56: 入 退 院 支 援 | F56: 退院支援 | O56: 様 | AF56: 様
O57: 様 | AF57: 様
O58: 様 | Y58: 項目 | AG58: 件数 | AJ58: 担当 | AM58: 備考
O59: 様 | Y59: 電話対応 | AI59: 件
O60: 様 | Y60: 保健所への届出 | AI60: 件
F61: 退院請求 対応 | O61: 様 | Y61: 項目 | AG61: 内容
O62: 様 | Y62: 通院医療 観察法
F63: 入院患者 対応 | J63: 担当 | M63: 件数 | P63: 備考
O64: 件 | Y64: 認知症疾患 医療ｾﾝﾀｰ
O65: 件
O66: 件 | Y66: 各種会議参加 外部の業務
O67: 件
A68: 安全管理 | D68: 事故 | S68: 物品 購入 | AE68: 連絡 事項
D69: 苦情
D70: 紛失
D71: 他

Sheet 6
A1: ソーシャルワーカー室 業務日誌 | AH1: C.O.O | AL1: I.O.O | AP1: Ａ.Ｏ.Ｍ
H3: =曜日!B12 -> 令和7年 | M3: =曜日!C12 -> 7月 | P3: 6日 | S3: （ | T3: =曜日!D8 -> 日 | U3: ） | W3: 作成者 | Z3: ：
A5: 労務 状況 | D5: 勤務状況 | K5: 西舘 翔子 | T5: 大川 祥子 | AC5: 宇津木澤 育美 | AL5: 澤里 皓輝
K6: 安田 純子 | T6: 石鉢 佳代
A8: 入退院 状況 | D8: 入院形態 | K8: 東病棟 | Q8: 西病棟 | W8: 北病棟 | AC8: 南病棟 | AI8: 合計 | AO8: 総数
K9: 男性 | N9: 女性 | Q9: 男性 | T9: 女性 | W9: 男性 | Z9: 女性 | AC9: 男性 | AF9: 女性 | AI9: 男性 | AL9: 女性
D10: 任意入院 | AI10: =K10+Q10+W10+AC10 -> 0 | AL10: =N10+T10+Z10+AF10 -> 0 | AO10: =AI14 -> 0
D11: 医療保護入院 | AI11: =K11+Q11+W11+AC11 -> 0 | AL11: =N11+T11+Z11+AF11 -> 0
D12: 措置入院 | AI12: =K12+Q12+W12+AC12 -> 0 | AL12: =N12+T12+Z12+AF12 -> 0
D13: 合計 | K13: =SUM(K10:M12) -> 0 | N13: =SUM(N10:P12) -> 0 | Q13: =SUM(Q10:S12) -> 0 | T13: =SUM(T10:V12) -> 0 | W13: =SUM(W10:Y12) -> 0 | Z13: =SUM(Z10:AB12) -> 0 | AC13: =SUM(AC10:AE12) -> 0 | AF13: =SUM(AF10:AH12) -> 0 | AI13: =SUM(K13+Q13+W13+AC13) -> 0 | AL13: =SUM(N13+T13+Z13+AF13) -> 0 | AO13: 人
K14: =K13+N13 -> 0 | Q14: =Q13+T13 -> 0 | W14: =W13+Z13 -> 0 | AC14: =AC13+AF13 -> 0 | AI14: =AI13+AL13 -> 0
F15: 患者様氏名 | N15: 入院形態 | T15: 担当Dr | Y15: 担当SW | AD15: 病棟 | AJ15: 備考欄
D16: 入院 | L16: 様
L17: 様
L18: 様
L19: 様
L20: 様
D21: 退院 | L21: 様
L22: 様
L23: 様
L24: 様
L25: 様
D26: 転棟 ･ 入院形態変更 | L26: 様
L27: 様
L28: 様
L29: 様
L30: 様
A31: 患者様 関連 | D31: 患者様氏名 | K31: 担当Dr | P31: 病棟 | S31: 制限内容 | X31: 制限時間 | AC31: 開始日時 | AO31: 備考
I32: 様 | AC32: 令和 | AF32: 年 | AH32: 月 | AJ32: 日 | AL32: ： | AN32: ～
I33: 様 | AC33: 令和 | AF33: 年 | AH33: 月 | AJ33: 日 | AL33: ： | AN33: ～
I34: 様 | AC34: 令和 | AF34: 年 | AH34: 月 | AJ34: 日 | AL34: ： | AN34: ～
I35: 様 | AC35: 令和 | AF35: 年 | AH35: 月 | AJ35: 日 | AL35: ： | AN35: ～
I36: 様 | AC36: 令和 | AF36: 年 | AH36: 月 | AJ36: 日 | AL36: ： | AN36: ～
I37: 様 | AC37: 令和 | AF37: 年 | AH37: 月 | AJ37: 日 | AL37: ： | AN37: ～
I38: 様 | AC38: 令和 | AF38: 年 | AH38: 月 | AJ38: 日 | AL38: ： | AN38: ～
I39: 様 | AC39: 令和 | AF39: 年 | AH39: 月 | AJ39: 日 | AL39: ： | AN39: ～
I40: 様 | AC40: 令和 | AF40: 年 | AH40: 月 | AJ40: 日 | AL40: ： | AN40: ～
I41: 様 | AC41: 令和 | AF41: 年 | AH41: 月 | AJ41: 日 | AL41: ： | AN41: ～
I42: 様 | AC42: 令和 | AF42: 年 | AH42: 月 | AJ42: 日 | AL42: ： | AN42: ～
I43: 様 | AC43: 令和 | AF43: 年 | AH43: 月 | AJ43: 日 | AL43: ： | AN43: ～
... I46: 様 | AC46: 令和 | AF46: 年 | AH46: 月 | AJ46: 日 | AL46: ： | AN46: ～
A47: 業務 内容 | D47: 項目 | J47: 患者様氏名 | P47: 担当 | S47: 備考 | Y47: 項目 | AA47: 患者様氏名 | AG47: 内容 | AQ47: 担当
D48: 外 来 患 者 対 応 | F48: 外来患者 対応 | O48: 様 | Y48: 書 類 作 成 完 了 | AF48: 様
O49: 様 | AF49: 様
O50: 様 | AF50: 様
O51: 様 | AF51: 様
O52: 様 | AF52: 様
O53: 様 | AF53: 様
O54: 様 | AF54: 様
D55: 項目 | J55: 患者様氏名 | P55: 担当 | S55: 備考 | AF55: 様
D56: 入 退 院 支 援 | F56: 退院支援 | O56: 様 | AF56: 様
O57: 様 | AF57: 様
O58: 様 | Y58: 項目 | AG58: 件数 | AJ58: 担当 | AM58: 備考
O59: 様 | Y59: 電話対応 | AI59: 件
O60: 様 | Y60: 保健所への届出 | AI60: 件
F61: 退院請求 対応 | O61: 様 | Y61: 項目 | AG61: 内容
O62: 様 | Y62: 通院医療 観察法
F63: 入院患者 対応 | J63: 担当 | M63: 件数 | P63: 備考
O64: 件 | Y64: 認知症疾患 医療ｾﾝﾀｰ
O65: 件
O66: 件 | Y66: 各種会議参加 外部の業務
O67: 件
A68: 安全管理 | D68: 事故 | S68: 物品 購入 | AE68: 連絡 事項
D69: 苦情
D70: 紛失
D71: 他

Sheet 7
A1: ソーシャルワーカー室 業務日誌 | AH1: C.O.O | AL1: I.O.O | AP1: Ａ.Ｏ.Ｍ
H3: =曜日!B12 -> 令和7年 | M3: =曜日!C12 -> 7月 | P3: 7日 | S3: （ | T3: =曜日!D9 -> 月 | U3: ） | W3: 作成者 | Z3: ：
A5: 労務 状況 | D5: 勤務状況 | K5: 西舘 翔子 | T5: 大川 祥子 | AC5: 宇津木澤 育美 | AL5: 澤里 皓輝
K6: 安田 純子 | T6: 石鉢 佳代
A8: 入退院 状況 | D8: 入院形態 | K8: 東病棟 | Q8: 西病棟 | W8: 北病棟 | AC8: 南病棟 | AI8: 合計 | AO8: 総数
K9: 男性 | N9: 女性 | Q9: 男性 | T9: 女性 | W9: 男性 | Z9: 女性 | AC9: 男性 | AF9: 女性 | AI9: 男性 | AL9: 女性
D10: 任意入院 | AI10: =K10+Q10+W10+AC10 -> 0 | AL10: =N10+T10+Z10+AF10 -> 0 | AO10: =AI14 -> 0
D11: 医療保護入院 | AI11: =K11+Q11+W11+AC11 -> 0 | AL11: =N11+T11+Z11+AF11 -> 0
D12: 措置入院 | AI12: =K12+Q12+W12+AC12 -> 0 | AL12: =N12+T12+Z12+AF12 -> 0
D13: 合計 | K13: =SUM(K10:M12) -> 0 | N13: =SUM(N10:P12) -> 0 | Q13: =SUM(Q10:S12) -> 0 | T13: =SUM(T10:V12) -> 0 | W13: =SUM(W10:Y12) -> 0 | Z13: =SUM(Z10:AB12) -> 0 | AC13: =SUM(AC10:AE12) -> 0 | AF13: =SUM(AF10:AH12) -> 0 | AI13: =SUM(K13+Q13+W13+AC13) -> 0 | AL13: =SUM(N13+T13+Z13+AF13) -> 0 | AO13: 人
K14: =K13+N13 -> 0 | Q14: =Q13+T13 -> 0 | W14: =W13+Z13 -> 0 | AC14: =AC13+AF13 -> 0 | AI14: =AI13+AL13 -> 0
F15: 患者様氏名 | N15: 入院形態 | T15: 担当Dr | Y15: 担当SW | AD15: 病棟 | AJ15: 備考欄
D16: 入院 | L16: 様
L17: 様
L18: 様
L19: 様
L20: 様
D21: 退院 | L21: 様
L22: 様
L23: 様
L24: 様
L25: 様
D26: 転棟 ･ 入院形態変更 | L26: 様
L27: 様
L28: 様
L29: 様
L30: 様
A31: 患者様 関連 | D31: 患者様氏名 | K31: 担当Dr | P31: 病棟 | S31: 制限内容 | X31: 制限時間 | AC31: 開始日時 | AO31: 備考
I32: 様 | AC32: 令和 | AF32: 年 | AH32: 月 | AJ32: 日 | AL32: ： | AN32: ～
I33: 様 | AC33: 令和 | AF33: 年 | AH33: 月 | AJ33: 日 | AL33: ： | AN33: ～
I34: 様 | AC34: 令和 | AF34: 年 | AH34: 月 | AJ34: 日 | AL34: ： | AN34: ～
I35: 様 | AC35: 令和 | AF35: 年 | AH35: 月 | AJ35: 日 | AL35: ： | AN35: ～
I36: 様 | AC36: 令和 | AF36: 年 | AH36: 月 | AJ36: 日 | AL36: ： | AN36: ～
I37: 様 | AC37: 令和 | AF37: 年 | AH37: 月 | AJ37: 日 | AL37: ： | AN37: ～
I38: 様 | AC38: 令和 | AF38: 年 | AH38: 月 | AJ38: 日 | AL38: ： | AN38: ～
I39: 様 | AC39: 令和 | AF39: 年 | AH39: 月 | AJ39: 日 | AL39: ： | AN39: ～
I40: 様 | AC40: 令和 | AF40: 年 | AH40: 月 | AJ40: 日 | AL40: ： | AN40: ～
I41: 様 | AC41: 令和 | AF41: 年 | AH41: 月 | AJ41: 日 | AL41: ： | AN41: ～
I42: 様 | AC42: 令和 | AF42: 年 | AH42: 月 | AJ42: 日 | AL42: ： | AN42: ～
I43: 様 | AC43: 令和 | AF43: 年 | AH43: 月 | AJ43: 日 | AL43: ： | AN43: ～
... I46: 様 | AC46: 令和 | AF46: 年 | AH46: 月 | AJ46: 日 | AL46: ： | AN46: ～
A47: 業務 内容 | D47: 項目 | J47: 患者様氏名 | P47: 担当 | S47: 備考 | Y47: 項目 | AA47: 患者様氏名 | AG47: 内容 | AQ47: 担当
D48: 外 来 患 者 対 応 | F48: 外来患者 対応 | O48: 様 | Y48: 書 類 作 成 完 了 | AF48: 様
O49: 様 | AF49: 様
O50: 様 | AF50: 様
O51: 様 | AF51: 様
O52: 様 | AF52: 様
O53: 様 | AF53: 様
O54: 様 | AF54: 様
D55: 項目 | J55: 患者様氏名 | P55: 担当 | S55: 備考 | AF55: 様
D56: 入 退 院 支 援 | F56: 退院支援 | O56: 様 | AF56: 様
O57: 様 | AF57: 様
O58: 様 | Y58: 項目 | AG58: 件数 | AJ58: 担当 | AM58: 備考
O59: 様 | Y59: 電話対応 | AI59: 件
O60: 様 | Y60: 保健所への届出 | AI60: 件
F61: 退院請求 対応 | O61: 様 | Y61: 項目 | AG61: 内容
O62: 様 | Y62: 通院医療 観察法
F63: 入院患者 対応 | J63: 担当 | M63: 件数 | P63: 備考
O64: 件 | Y64: 認知症疾患 医療ｾﾝﾀｰ
O65: 件
O66: 件 | Y66: 各種会議参加 外部の業務
O67: 件
A68: 安全管理 | D68: 事故 | S68: 物品 購入 | AE68: 連絡 事項
D69: 苦情
D70: 紛失
D71: 他

Sheet 8
A1: ソーシャルワーカー室 業務日誌 | AH1: C.O.O | AL1: I.O.O | AP1: Ａ.Ｏ.Ｍ
H3: =曜日!B12 -> 令和7年 | M3: =曜日!C12 -> 7月 | P3: 8日 | S3: （ | T3: =曜日!D3 -> 火 | U3: ） | W3: 作成者 | Z3: ：
A5: 労務 状況 | D5: 勤務状況 | K5: 西舘 翔子 | T5: 大川 祥子 | AC5: 宇津木澤 育美 | AL5: 澤里 皓輝
K6: 安田 純子 | T6: 石鉢 佳代
A8: 入退院 状況 | D8: 入院形態 | K8: 東病棟 | Q8: 西病棟 | W8: 北病棟 | AC8: 南病棟 | AI8: 合計 | AO8: 総数
K9: 男性 | N9: 女性 | Q9: 男性 | T9: 女性 | W9: 男性 | Z9: 女性 | AC9: 男性 | AF9: 女性 | AI9: 男性 | AL9: 女性
D10: 任意入院 | AI10: =K10+Q10+W10+AC10 -> 0 | AL10: =N10+T10+Z10+AF10 -> 0 | AO10: =AI14 -> 0
D11: 医療保護入院 | AI11: =K11+Q11+W11+AC11 -> 0 | AL11: =N11+T11+Z11+AF11 -> 0
D12: 措置入院 | AI12: =K12+Q12+W12+AC12 -> 0 | AL12: =N12+T12+Z12+AF12 -> 0
D13: 合計 | K13: =SUM(K10:M12) -> 0 | N13: =SUM(N10:P12) -> 0 | Q13: =SUM(Q10:S12) -> 0 | T13: =SUM(T10:V12) -> 0 | W13: =SUM(W10:Y12) -> 0 | Z13: =SUM(Z10:AB12) -> 0 | AC13: =SUM(AC10:AE12) -> 0 | AF13: =SUM(AF10:AH12) -> 0 | AI13: =SUM(K13+Q13+W13+AC13) -> 0 | AL13: =SUM(N13+T13+Z13+AF13) -> 0 | AO13: 人
K14: =K13+N13 -> 0 | Q14: =Q13+T13 -> 0 | W14: =W13+Z13 -> 0 | AC14: =AC13+AF13 -> 0 | AI14: =AI13+AL13 -> 0
F15: 患者様氏名 | N15: 入院形態 | T15: 担当Dr | Y15: 担当SW | AD15: 病棟 | AJ15: 備考欄
D16: 入院 | L16: 様
L17: 様
L18: 様
L19: 様
L20: 様
D21: 退院 | L21: 様
L22: 様
L23: 様
L24: 様
L25: 様
D26: 転棟 ･ 入院形態変更 | L26: 様
L27: 様
L28: 様
L29: 様
L30: 様
A31: 患者様 関連 | D31: 患者様氏名 | K31: 担当Dr | P31: 病棟 | S31: 制限内容 | X31: 制限時間 | AC31: 開始日時 | AO31: 備考
I32: 様 | AC32: 令和 | AF32: 年 | AH32: 月 | AJ32: 日 | AL32: ： | AN32: ～
I33: 様 | AC33: 令和 | AF33: 年 | AH33: 月 | AJ33: 日 | AL33: ： | AN33: ～ | AO33: 解除(退院)
I34: 様 | AC34: 令和 | AF34: 年 | AH34: 月 | AJ34: 日 | AL34: ： | AN34: ～
I35: 様 | AC35: 令和 | AF35: 年 | AH35: 月 | AJ35: 日 | AL35: ： | AN35: ～
I36: 様 | AC36: 令和 | AF36: 年 | AH36: 月 | AJ36: 日 | AL36: ： | AN36: ～
I37: 様 | AC37: 令和 | AF37: 年 | AH37: 月 | AJ37: 日 | AL37: ： | AN37: ～
I38: 様 | AC38: 令和 | AF38: 年 | AH38: 月 | AJ38: 日 | AL38: ： | AN38: ～
I39: 様 | AC39: 令和 | AF39: 年 | AH39: 月 | AJ39: 日 | AL39: ： | AN39: ～
I40: 様 | AC40: 令和 | AF40: 年 | AH40: 月 | AJ40: 日 | AL40: ： | AN40: ～
I41: 様 | AC41: 令和 | AF41: 年 | AH41: 月 | AJ41: 日 | AL41: ： | AN41: ～
I42: 様 | AC42: 令和 | AF42: 年 | AH42: 月 | AJ42: 日 | AL42: ： | AN42: ～
I43: 様 | AC43: 令和 | AF43: 年 | AH43: 月 | AJ43: 日 | AL43: ： | AN43: ～
I44: 様 | AC44: 令和 | AF44: 年 | AH44: 月 | AJ44: 日 | AL44: ： | AN44: ～
I45: 様 | AC45: 令和 | AF45: 年 | AH45: 月 | AJ45: 日 | AL45: ： | AN45: ～
I46: 様 | AC46: 令和 | AF46: 年 | AH46: 月 | AJ46: 日 | AL46: ： | AN46: ～
A47: 業務 内容 | D47: 項目 | J47: 患者様氏名 | P47: 担当 | S47: 備考 | Y47: 項目 | AA47: 患者様氏名 | AG47: 内容 | AQ47: 担当
D48: 外 来 患 者 対 応 | F48: 外来患者 対応 | O48: 様 | Y48: 書 類 作 成 完 了 | AF48: 様
O49: 様 | AF49: 様
O50: 様 | AF50: 様
O51: 様 | AF51: 様
O52: 様 | AF52: 様
O53: 様 | AF53: 様
O54: 様 | AF54: 様
D55: 項目 | J55: 患者様氏名 | P55: 担当 | S55: 備考 | AF55: 様
D56: 入 退 院 支 援 | F56: 退院支援 | O56: 様 | AF56: 様
O57: 様 | AF57: 様
O58: 様 | Y58: 項目 | AG58: 件数 | AJ58: 担当 | AM58: 備考
O59: 様 | Y59: 電話対応 | AI59: 件
O60: 様 | Y60: 保健所への届出 | AI60: 件
F61: 退院請求 対応 | O61: 様 | Y61: 項目 | AG61: 内容
O62: 様 | Y62: 通院医療 観察法
F63: 入院患者 対応 | J63: 担当 | M63: 件数 | P63: 備考
O64: 件 | Y64: 認知症疾患 医療ｾﾝﾀｰ
O65: 件
O66: 件 | Y66: 各種会議参加 外部の業務
O67: 件
A68: 安全管理 | D68: 事故 | S68: 物品 購入 | AE68: 連絡 事項
D69: 苦情
D70: 紛失
D71: 他

Sheet 9
A1: ソーシャルワーカー室 業務日誌 | AH1: C.O.O | AL1: I.O.O | AP1: Ａ.Ｏ.Ｍ
H3: =曜日!B12 -> 令和7年 | M3: =曜日!C12 -> 7月 | P3: 9日 | S3: （ | T3: =曜日!D4 -> 水 | U3: ） | W3: 作成者 | Z3: ：
A5: 労務 状況 | D5: 勤務状況 | K5: 西舘 翔子 | T5: 大川 祥子 | AC5: 宇津木澤 育美 | AL5: 澤里 皓輝
K6: 安田 純子 | T6: 石鉢 佳代
A8: 入退院 状況 | D8: 入院形態 | K8: 東病棟 | Q8: 西病棟 | W8: 北病棟 | AC8: 南病棟 | AI8: 合計 | AO8: 総数
K9: 男性 | N9: 女性 | Q9: 男性 | T9: 女性 | W9: 男性 | Z9: 女性 | AC9: 男性 | AF9: 女性 | AI9: 男性 | AL9: 女性
D10: 任意入院 | AI10: =K10+Q10+W10+AC10 -> 0 | AL10: =N10+T10+Z10+AF10 -> 0 | AO10: =AI14 -> 0
D11: 医療保護入院 | AI11: =K11+Q11+W11+AC11 -> 0 | AL11: =N11+T11+Z11+AF11 -> 0
D12: 措置入院 | AI12: =K12+Q12+W12+AC12 -> 0 | AL12: =N12+T12+Z12+AF12 -> 0
D13: 合計 | K13: =SUM(K10:M12) -> 0 | N13: =SUM(N10:P12) -> 0 | Q13: =SUM(Q10:S12) -> 0 | T13: =SUM(T10:V12) -> 0 | W13: =SUM(W10:Y12) -> 0 | Z13: =SUM(Z10:AB12) -> 0 | AC13: =SUM(AC10:AE12) -> 0 | AF13: =SUM(AF10:AH12) -> 0 | AI13: =SUM(K13+Q13+W13+AC13) -> 0 | AL13: =SUM(N13+T13+Z13+AF13) -> 0 | AO13: 人
K14: =K13+N13 -> 0 | Q14: =Q13+T13 -> 0 | W14: =W13+Z13 -> 0 | AC14: =AC13+AF13 -> 0 | AI14: =AI13+AL13 -> 0
F15: 患者様氏名 | N15: 入院形態 | T15: 担当Dr | Y15: 担当SW | AD15: 病棟 | AJ15: 備考欄
D16: 入院 | L16: 様
L17: 様
L18: 様
L19: 様
L20: 様
D21: 退院 | L21: 様
L22: 様
L23: 様
L24: 様
L25: 様
D26: 転棟 ･ 入院形態変更 | L26: 様
L27: 様
L28: 様
L29: 様
L30: 様
A31: 患者様 関連 | D31: 患者様氏名 | K31: 担当Dr | P31: 病棟 | S31: 制限内容 | X31: 制限時間 | AC31: 開始日時 | AO31: 備考
I32: 様 | AC32: 令和 | AF32: 年 | AH32: 月 | AJ32: 日 | AL32: ： | AN32: ～
I33: 様 | AC33: 令和 | AF33: 年 | AH33: 月 | AJ33: 日 | AL33: ： | AN33: ～
I34: 様 | AC34: 令和 | AF34: 年 | AH34: 月 | AJ34: 日 | AL34: ： | AN34: ～
I35: 様 | AC35: 令和 | AF35: 年 | AH35: 月 | AJ35: 日 | AL35: ： | AN35: ～
I36: 様 | AC36: 令和 | AF36: 年 | AH36: 月 | AJ36: 日 | AL36: ： | AN36: ～
I37: 様 | AC37: 令和 | AF37: 年 | AH37: 月 | AJ37: 日 | AL37: ： | AN37: ～
I38: 様 | AC38: 令和 | AF38: 年 | AH38: 月 | AJ38: 日 | AL38: ： | AN38: ～
I39: 様 | AC39: 令和 | AF39: 年 | AH39: 月 | AJ39: 日 | AL39: ： | AN39: ～
I40: 様 | AC40: 令和 | AF40: 年 | AH40: 月 | AJ40: 日 | AL40: ： | AN40: ～
I41: 様 | AC41: 令和 | AF41: 年 | AH41: 月 | AJ41: 日 | AL41: ： | AN41: ～
I42: 様 | AC42: 令和 | AF42: 年 | AH42: 月 | AJ42: 日 | AL42: ： | AN42: ～
I43: 様 | AC43: 令和 | AF43: 年 | AH43: 月 | AJ43: 日 | AL43: ： | AN43: ～
... I46: 様 | AC46: 令和 | AF46: 年 | AH46: 月 | AJ46: 日 | AL46: ： | AN46: ～
A47: 業務 内容 | D47: 項目 | J47: 患者様氏名 | P47: 担当 | S47: 備考 | Y47: 項目 | AA47: 患者様氏名 | AG47: 内容 | AQ47: 担当
D48: 外 来 患 者 対 応 | F48: 外来患者 対応 | O48: 様 | Y48: 書 類 作 成 完 了 | AF48: 様
O49: 様 | AF49: 様
O50: 様 | AF50: 様
O51: 様 | AF51: 様
O52: 様 | AF52: 様
O53: 様 | AF53: 様
O54: 様 | AF54: 様
D55: 項目 | J55: 患者様氏名 | P55: 担当 | S55: 備考 | AF55: 様
D56: 入 退 院 支 援 | F56: 退院支援 | O56: 様 | AF56: 様
O57: 様 | AF57: 様
O58: 様 | Y58: 項目 | AG58: 件数 | AJ58: 担当 | AM58: 備考
O59: 様 | Y59: 電話対応 | AI59: 件
O60: 様 | Y60: 保健所への届出 | AI60: 件
F61: 退院請求 対応 | O61: 様 | Y61: 項目 | AG61: 内容
O62: 様 | Y62: 通院医療 観察法
F63: 入院患者 対応 | J63: 担当 | M63: 件数 | P63: 備考
O64: 件 | Y64: 認知症疾患 医療ｾﾝﾀｰ
O65: 件
O66: 件 | Y66: 各種会議参加 外部の業務
O67: 件
A68: 安全管理 | D68: 事故 | S68: 物品 購入 | AE68: 連絡 事項
D69: 苦情
D70: 紛失
D71: 他

Sheet 10
A1: ソーシャルワーカー室 業務日誌 | AH1: C.O.O | AL1: I.O.O | AP1: Ａ.Ｏ.Ｍ
H3: =曜日!B12 -> 令和7年 | M3: =曜日!C12 -> 7月 | P3: 10日 | S3: （ | T3: =曜日!D5 -> 木 | U3: ） | W3: 作成者 | Z3: ：
A5: 労務 状況 | D5: 勤務状況 | K5: 西舘 翔子 | T5: 大川 祥子 | AC5: 宇津木澤 育美 | AL5: 澤里 皓輝
K6: 安田 純子 | T6: 石鉢 佳代
A8: 入退院 状況 | D8: 入院形態 | K8: 東病棟 | Q8: 西病棟 | W8: 北病棟 | AC8: 南病棟 | AI8: 合計 | AO8: 総数
K9: 男性 | N9: 女性 | Q9: 男性 | T9: 女性 | W9: 男性 | Z9: 女性 | AC9: 男性 | AF9: 女性 | AI9: 男性 | AL9: 女性
D10: 任意入院 | AI10: =K10+Q10+W10+AC10 -> 0 | AL10: =N10+T10+Z10+AF10 -> 0 | AO10: =AI14 -> 0
D11: 医療保護入院 | AI11: =K11+Q11+W11+AC11 -> 0 | AL11: =N11+T11+Z11+AF11 -> 0
D12: 措置入院 | AI12: =K12+Q12+W12+AC12 -> 0 | AL12: =N12+T12+Z12+AF12 -> 0
D13: 合計 | K13: =SUM(K10:M12) -> 0 | N13: =SUM(N10:P12) -> 0 | Q13: =SUM(Q10:S12) -> 0 | T13: =SUM(T10:V12) -> 0 | W13: =SUM(W10:Y12) -> 0 | Z13: =SUM(Z10:AB12) -> 0 | AC13: =SUM(AC10:AE12) -> 0 | AF13: =SUM(AF10:AH12) -> 0 | AI13: =SUM(K13+Q13+W13+AC13) -> 0 | AL13: =SUM(N13+T13+Z13+AF13) -> 0 | AO13: 人
K14: =K13+N13 -> 0 | Q14: =Q13+T13 -> 0 | W14: =W13+Z13 -> 0 | AC14: =AC13+AF13 -> 0 | AI14: =AI13+AL13 -> 0
F15: 患者様氏名 | N15: 入院形態 | T15: 担当Dr | Y15: 担当SW | AD15: 病棟 | AJ15: 備考欄
D16: 入院 | L16: 様
L17: 様
L18: 様
L19: 様
L20: 様
D21: 退院 | L21: 様
L22: 様
L23: 様
L24: 様
L25: 様
D26: 転棟 ･ 入院形態変更 | L26: 様
L27: 様
L28: 様
L29: 様
L30: 様
A31: 患者様 関連 | D31: 患者様氏名 | K31: 担当Dr | P31: 病棟 | S31: 制限内容 | X31: 制限時間 | AC31: 開始日時 | AO31: 備考
I32: 様 | AC32: 令和 | AF32: 年 | AH32: 月 | AJ32: 日 | AL32: ： | AN32: ～
I33: 様 | AC33: 令和 | AF33: 年 | AH33: 月 | AJ33: 日 | AL33: ： | AN33: ～
I34: 様 | AC34: 令和 | AF34: 年 | AH34: 月 | AJ34: 日 | AL34: ： | AN34: ～
I35: 様 | AC35: 令和 | AF35: 年 | AH35: 月 | AJ35: 日 | AL35: ： | AN35: ～
I36: 様 | AC36: 令和 | AF36: 年 | AH36: 月 | AJ36: 日 | AL36: ： | AN36: ～
I37: 様 | AC37: 令和 | AF37: 年 | AH37: 月 | AJ37: 日 | AL37: ： | AN37: ～
I38: 様 | AC38: 令和 | AF38: 年 | AH38: 月 | AJ38: 日 | AL38: ： | AN38: ～
I39: 様 | AC39: 令和 | AF39: 年 | AH39: 月 | AJ39: 日 | AL39: ： | AN39: ～
I40: 様 | AC40: 令和 | AF40: 年 | AH40: 月 | AJ40: 日 | AL40: ： | AN40: ～
I41: 様 | AC41: 令和 | AF41: 年 | AH41: 月 | AJ41: 日 | AL41: ： | AN41: ～
I42: 様 | AC42: 令和 | AF42: 年 | AH42: 月 | AJ42: 日 | AL42: ： | AN42: ～
I43: 様 | AC43: 令和 | AF43: 年 | AH43: 月 | AJ43: 日 | AL43: ： | AN43: ～
... I46: 様 | AC46: 令和 | AF46: 年 | AH46: 月 | AJ46: 日 | AL46: ： | AN46: ～
A47: 業務 内容 | D47: 項目 | J47: 患者様氏名 | P47: 担当 | S47: 備考 | Y47: 項目 | AA47: 患者様氏名 | AG47: 内容 | AQ47: 担当
D48: 外 来 患 者 対 応 | F48: 外来患者 対応 | O48: 様 | Y48: 書 類 作 成 完 了 | AF48: 様
O49: 様 | AF49: 様
O50: 様 | AF50: 様
O51: 様 | AF51: 様
O52: 様 | AF52: 様
O53: 様 | AF53: 様
O54: 様 | AF54: 様
D55: 項目 | J55: 患者様氏名 | P55: 担当 | S55: 備考 | AF55: 様
D56: 入 退 院 支 援 | F56: 退院支援 | O56: 様 | AF56: 様
O57: 様 | AF57: 様
O58: 様 | Y58: 項目 | AG58: 件数 | AJ58: 担当 | AM58: 備考
O59: 様 | Y59: 電話対応 | AI59: 件
O60: 様 | Y60: 保健所への届出 | AI60: 件
F61: 退院請求 対応 | O61: 様 | Y61: 項目 | AG61: 内容
O62: 様 | Y62: 通院医療 観察法
F63: 入院患者 対応 | J63: 担当 | M63: 件数 | P63: 備考
O64: 件 | Y64: 認知症疾患 医療ｾﾝﾀｰ
O65: 件
O66: 件 | Y66: 各種会議参加 外部の業務
O67: 件
A68: 安全管理 | D68: 事故 | S68: 物品 購入 | AE68: 連絡 事項
D69: 苦情
D70: 紛失
D71: 他

Sheet 11
A1: ソーシャルワーカー室 業務日誌 | AH1: C.O.O | AL1: I.O.O | AP1: Ａ.Ｏ.Ｍ
H3: =曜日!B12 -> 令和7年 | M3: =曜日!C12 -> 7月 | P3: 11日 | S3: （ | T3: =曜日!D6 -> 金 | U3: ） | W3: 作成者 | Z3: ：
A5: 労務 状況 | D5: 勤務状況 | K5: 西舘 翔子 | T5: 大川 祥子 | AC5: 宇津木澤 育美 | AL5: 澤里 皓輝
K6: 安田 純子 | T6: 石鉢 佳代
A8: 入退院 状況 | D8: 入院形態 | K8: 東病棟 | Q8: 西病棟 | W8: 北病棟 | AC8: 南病棟 | AI8: 合計 | AO8: 総数
K9: 男性 | N9: 女性 | Q9: 男性 | T9: 女性 | W9: 男性 | Z9: 女性 | AC9: 男性 | AF9: 女性 | AI9: 男性 | AL9: 女性
D10: 任意入院 | AI10: =K10+Q10+W10+AC10 -> 0 | AL10: =N10+T10+Z10+AF10 -> 0 | AO10: =AI14 -> 0
D11: 医療保護入院 | AI11: =K11+Q11+W11+AC11 -> 0 | AL11: =N11+T11+Z11+AF11 -> 0
D12: 措置入院 | AI12: =K12+Q12+W12+AC12 -> 0 | AL12: =N12+T12+Z12+AF12 -> 0
D13: 合計 | K13: =SUM(K10:M12) -> 0 | N13: =SUM(N10:P12) -> 0 | Q13: =SUM(Q10:S12) -> 0 | T13: =SUM(T10:V12) -> 0 | W13: =SUM(W10:Y12) -> 0 | Z13: =SUM(Z10:AB12) -> 0 | AC13: =SUM(AC10:AE12) -> 0 | AF13: =SUM(AF10:AH12) -> 0 | AI13: =SUM(K13+Q13+W13+AC13) -> 0 | AL13: =SUM(N13+T13+Z13+AF13) -> 0 | AO13: 人
K14: =K13+N13 -> 0 | Q14: =Q13+T13 -> 0 | W14: =W13+Z13 -> 0 | AC14: =AC13+AF13 -> 0 | AI14: =AI13+AL13 -> 0
F15: 患者様氏名 | N15: 入院形態 | T15: 担当Dr | Y15: 担当SW | AD15: 病棟 | AJ15: 備考欄
D16: 入院 | L16: 様
L17: 様
L18: 様
L19: 様
L20: 様
D21: 退院 | L21: 様
L22: 様
L23: 様
L24: 様
L25: 様
D26: 転棟 ･ 入院形態変更 | L26: 様
L27: 様
L28: 様
L29: 様
L30: 様
A31: 患者様 関連 | D31: 患者様氏名 | K31: 担当Dr | P31: 病棟 | S31: 制限内容 | X31: 制限時間 | AC31: 開始日時 | AO31: 備考
I32: 様 | AC32: 令和 | AF32: 年 | AH32: 月 | AJ32: 日 | AL32: ： | AN32: ～
I33: 様 | AC33: 令和 | AF33: 年 | AH33: 月 | AJ33: 日 | AL33: ： | AN33: ～
I34: 様 | AC34: 令和 | AF34: 年 | AH34: 月 | AJ34: 日 | AL34: ： | AN34: ～
I35: 様 | AC35: 令和 | AF35: 年 | AH35: 月 | AJ35: 日 | AL35: ： | AN35: ～
I36: 様 | AC36: 令和 | AF36: 年 | AH36: 月 | AJ36: 日 | AL36: ： | AN36: ～
I37: 様 | AC37: 令和 | AF37: 年 | AH37: 月 | AJ37: 日 | AL37: ： | AN37: ～
I38: 様 | AC38: 令和 | AF38: 年 | AH38: 月 | AJ38: 日 | AL38: ： | AN38: ～
I39: 様 | AC39: 令和 | AF39: 年 | AH39: 月 | AJ39: 日 | AL39: ： | AN39: ～
I40: 様 | AC40: 令和 | AF40: 年 | AH40: 月 | AJ40: 日 | AL40: ： | AN40: ～
I41: 様 | AC41: 令和 | AF41: 年 | AH41: 月 | AJ41: 日 | AL41: ： | AN41: ～
I42: 様 | AC42: 令和 | AF42: 年 | AH42: 月 | AJ42: 日 | AL42: ： | AN42: ～
I43: 様 | AC43: 令和 | AF43: 年 | AH43: 月 | AJ43: 日 | AL43: ： | AN43: ～
... I46: 様 | AC46: 令和 | AF46: 年 | AH46: 月 | AJ46: 日 | AL46: ： | AN46: ～
A47: 業務 内容 | D47: 項目 | J47: 患者様氏名 | P47: 担当 | S47: 備考 | Y47: 項目 | AA47: 患者様氏名 | AG47: 内容 | AQ47: 担当
D48: 外 来 患 者 対 応 | F48: 外来患者 対応 | O48: 様 | Y48: 書 類 作 成 完 了 | AF48: 様
O49: 様 | AF49: 様
O50: 様 | AF50: 様
O51: 様 | AF51: 様
O52: 様 | AF52: 様
O53: 様 | AF53: 様
O54: 様 | AF54: 様
D55: 項目 | J55: 患者様氏名 | P55: 担当 | S55: 備考 | AF55: 様
D56: 入 退 院 支 援 | F56: 退院支援 | O56: 様 | AF56: 様
O57: 様 | AF57: 様
O58: 様 | Y58: 項目 | AG58: 件数 | AJ58: 担当 | AM58: 備考
O59: 様 | Y59: 電話対応 | AI59: 件
O60: 様 | Y60: 保健所への届出 | AI60: 件
F61: 退院請求 対応 | O61: 様 | Y61: 項目 | AG61: 内容
O62: 様 | Y62: 通院医療 観察法
F63: 入院患者 対応 | J63: 担当 | M63: 件数 | P63: 備考
O64: 件 | Y64: 認知症疾患 医療ｾﾝﾀｰ
O65: 件
O66: 件 | Y66: 各種会議参加 外部の業務
O67: 件
A68: 安全管理 | D68: 事故 | S68: 物品 購入 | AE68: 連絡 事項
D69: 苦情
D70: 紛失
D71: 他

Sheet 12
A1: ソーシャルワーカー室 業務日誌 | AH1: C.O.O | AL1: I.O.O | AP1: Ａ.Ｏ.Ｍ
H3: =曜日!B12 -> 令和7年 | M3: =曜日!C12 -> 7月 | P3: 12日 | S3: （ | T3: =曜日!D7 -> 土 | U3: ） | W3: 作成者 | Z3: ：
A5: 労務 状況 | D5: 勤務状況 | K5: 西舘 翔子 | T5: 大川 祥子 | AC5: 宇津木澤 育美 | AL5: 澤里 皓輝
K6: 安田 純子 | T6: 石鉢 佳代
A8: 入退院 状況 | D8: 入院形態 | K8: 東病棟 | Q8: 西病棟 | W8: 北病棟 | AC8: 南病棟 | AI8: 合計 | AO8: 総数
K9: 男性 | N9: 女性 | Q9: 男性 | T9: 女性 | W9: 男性 | Z9: 女性 | AC9: 男性 | AF9: 女性 | AI9: 男性 | AL9: 女性
D10: 任意入院 | AI10: =K10+Q10+W10+AC10 -> 0 | AL10: =N10+T10+Z10+AF10 -> 0 | AO10: =AI14 -> 0
D11: 医療保護入院 | AI11: =K11+Q11+W11+AC11 -> 0 | AL11: =N11+T11+Z11+AF11 -> 0
D12: 措置入院 | AI12: =K12+Q12+W12+AC12 -> 0 | AL12: =N12+T12+Z12+AF12 -> 0
D13: 合計 | K13: =SUM(K10:M12) -> 0 | N13: =SUM(N10:P12) -> 0 | Q13: =SUM(Q10:S12) -> 0 | T13: =SUM(T10:V12) -> 0 | W13: =SUM(W10:Y12) -> 0 | Z13: =SUM(Z10:AB12) -> 0 | AC13: =SUM(AC10:AE12) -> 0 | AF13: =SUM(AF10:AH12) -> 0 | AI13: =SUM(K13+Q13+W13+AC13) -> 0 | AL13: =SUM(N13+T13+Z13+AF13) -> 0 | AO13: 人
K14: =K13+N13 -> 0 | Q14: =Q13+T13 -> 0 | W14: =W13+Z13 -> 0 | AC14: =AC13+AF13 -> 0 | AI14: =AI13+AL13 -> 0
F15: 患者様氏名 | N15: 入院形態 | T15: 担当Dr | Y15: 担当SW | AD15: 病棟 | AJ15: 備考欄
D16: 入院 | L16: 様
L17: 様
L18: 様
L19: 様
L20: 様
D21: 退院 | L21: 様
L22: 様
L23: 様
L24: 様
L25: 様
D26: 転棟 ･ 入院形態変更 | L26: 様
L27: 様
L28: 様
L29: 様
L30: 様
A31: 患者様 関連 | D31: 患者様氏名 | K31: 担当Dr | P31: 病棟 | S31: 制限内容 | X31: 制限時間 | AC31: 開始日時 | AO31: 備考
I32: 様 | AC32: 令和 | AF32: 年 | AH32: 月 | AJ32: 日 | AL32: ： | AN32: ～
I33: 様 | AC33: 令和 | AF33: 年 | AH33: 月 | AJ33: 日 | AL33: ： | AN33: ～
I34: 様 | AC34: 令和 | AF34: 年 | AH34: 月 | AJ34: 日 | AL34: ： | AN34: ～
I35: 様 | AC35: 令和 | AF35: 年 | AH35: 月 | AJ35: 日 | AL35: ： | AN35: ～
I36: 様 | AC36: 令和 | AF36: 年 | AH36: 月 | AJ36: 日 | AL36: ： | AN36: ～
I37: 様 | AC37: 令和 | AF37: 年 | AH37: 月 | AJ37: 日 | AL37: ： | AN37: ～
I38: 様 | AC38: 令和 | AF38: 年 | AH38: 月 | AJ38: 日 | AL38: ： | AN38: ～
I39: 様 | AC39: 令和 | AF39: 年 | AH39: 月 | AJ39: 日 | AL39: ： | AN39: ～
I40: 様 | AC40: 令和 | AF40: 年 | AH40: 月 | AJ40: 日 | AL40: ： | AN40: ～
I41: 様 | AC41: 令和 | AF41: 年 | AH41: 月 | AJ41: 日 | AL41: ： | AN41: ～
I42: 様 | AC42: 令和 | AF42: 年 | AH42: 月 | AJ42: 日 | AL42: ： | AN42: ～
I43: 様 | AC43: 令和 | AF43: 年 | AH43: 月 | AJ43: 日 | AL43: ： | AN43: ～
... I46: 様 | AC46: 令和 | AF46: 年 | AH46: 月 | AJ46: 日 | AL46: ： | AN46: ～
A47: 業務 内容 | D47: 項目 | J47: 患者様氏名 | P47: 担当 | S47: 備考 | Y47: 項目 | AA47: 患者様氏名 | AG47: 内容 | AQ47: 担当
D48: 外 来 患 者 対 応 | F48: 外来患者 対応 | O48: 様 | Y48: 書 類 作 成 完 了 | AF48: 様
O49: 様 | AF49: 様
O50: 様 | AF50: 様
O51: 様 | AF51: 様
O52: 様 | AF52: 様
O53: 様 | AF53: 様
O54: 様 | AF54: 様
D55: 項目 | J55: 患者様氏名 | P55: 担当 | S55: 備考 | AF55: 様
D56: 入 退 院 支 援 | F56: 退院支援 | O56: 様 | AF56: 様
O57: 様 | AF57: 様
O58: 様 | Y58: 項目 | AG58: 件数 | AJ58: 担当 | AM58: 備考
O59: 様 | Y59: 電話対応 | AI59: 件
O60: 様 | Y60: 保健所への届出 | AI60: 件
F61: 退院請求 対応 | O61: 様 | Y61: 項目 | AG61: 内容
O62: 様 | Y62: 通院医療 観察法
F63: 入院患者 対応 | J63: 担当 | M63: 件数 | P63: 備考
O64: 件 | Y64: 認知症疾患 医療ｾﾝﾀｰ
O65: 件
O66: 件 | Y66: 各種会議参加 外部の業務
O67: 件
A68: 安全管理 | D68: 事故 | S68: 物品 購入 | AE68: 連絡 事項
D69: 苦情
D70: 紛失
D71: 他

Sheet 13
A1: ソーシャルワーカー室 業務日誌 | AH1: C.O.O | AL1: I.O.O | AP1: Ａ.Ｏ.Ｍ
H3: =曜日!B12 -> 令和7年 | M3: =曜日!C12 -> 7月 | P3: 13日 | S3: （ | T3: =曜日!D8 -> 日 | U3: ） | W3: 作成者 | Z3: ：
A5: 労務 状況 | D5: 勤務状況 | K5: 西舘 翔子 | T5: 大川 祥子 | AC5: 宇津木澤 育美 | AL5: 澤里 皓輝
K6: 安田 純子 | T6: 石鉢 佳代
A8: 入退院 状況 | D8: 入院形態 | K8: 東病棟 | Q8: 西病棟 | W8: 北病棟 | AC8: 南病棟 | AI8: 合計 | AO8: 総数
K9: 男性 | N9: 女性 | Q9: 男性 | T9: 女性 | W9: 男性 | Z9: 女性 | AC9: 男性 | AF9: 女性 | AI9: 男性 | AL9: 女性
D10: 任意入院 | AI10: =K10+Q10+W10+AC10 -> 0 | AL10: =N10+T10+Z10+AF10 -> 0 | AO10: =AI14 -> 0
D11: 医療保護入院 | AI11: =K11+Q11+W11+AC11 -> 0 | AL11: =N11+T11+Z11+AF11 -> 0
D12: 措置入院 | AI12: =K12+Q12+W12+AC12 -> 0 | AL12: =N12+T12+Z12+AF12 -> 0
D13: 合計 | K13: =SUM(K10:M12) -> 0 | N13: =SUM(N10:P12) -> 0 | Q13: =SUM(Q10:S12) -> 0 | T13: =SUM(T10:V12) -> 0 | W13: =SUM(W10:Y12) -> 0 | Z13: =SUM(Z10:AB12) -> 0 | AC13: =SUM(AC10:AE12) -> 0 | AF13: =SUM(AF10:AH12) -> 0 | AI13: =SUM(K13+Q13+W13+AC13) -> 0 | AL13: =SUM(N13+T13+Z13+AF13) -> 0 | AO13: 人
K14: =K13+N13 -> 0 | Q14: =Q13+T13 -> 0 | W14: =W13+Z13 -> 0 | AC14: =AC13+AF13 -> 0 | AI14: =AI13+AL13 -> 0
F15: 患者様氏名 | N15: 入院形態 | T15: 担当Dr | Y15: 担当SW | AD15: 病棟 | AJ15: 備考欄
D16: 入院 | L16: 様
L17: 様
L18: 様
L19: 様
L20: 様
D21: 退院 | L21: 様
L22: 様
L23: 様
L24: 様
L25: 様
D26: 転棟 ･ 入院形態変更 | L26: 様
L27: 様
L28: 様
L29: 様
L30: 様
A31: 患者様 関連 | D31: 患者様氏名 | K31: 担当Dr | P31: 病棟 | S31: 制限内容 | X31: 制限時間 | AC31: 開始日時 | AO31: 備考
I32: 様 | AC32: 令和 | AF32: 年 | AH32: 月 | AJ32: 日 | AL32: ： | AN32: ～
I33: 様 | AC33: 令和 | AF33: 年 | AH33: 月 | AJ33: 日 | AL33: ： | AN33: ～
I34: 様 | AC34: 令和 | AF34: 年 | AH34: 月 | AJ34: 日 | AL34: ： | AN34: ～
I35: 様 | AC35: 令和 | AF35: 年 | AH35: 月 | AJ35: 日 | AL35: ： | AN35: ～
I36: 様 | AC36: 令和 | AF36: 年 | AH36: 月 | AJ36: 日 | AL36: ： | AN36: ～
I37: 様 | AC37: 令和 | AF37: 年 | AH37: 月 | AJ37: 日 | AL37: ： | AN37: ～
I38: 様 | AC38: 令和 | AF38: 年 | AH38: 月 | AJ38: 日 | AL38: ： | AN38: ～
I39: 様 | AC39: 令和 | AF39: 年 | AH39: 月 | AJ39: 日 | AL39: ： | AN39: ～
I40: 様 | AC40: 令和 | AF40: 年 | AH40: 月 | AJ40: 日 | AL40: ： | AN40: ～
I41: 様 | AC41: 令和 | AF41: 年 | AH41: 月 | AJ41: 日 | AL41: ： | AN41: ～
I42: 様 | AC42: 令和 | AF42: 年 | AH42: 月 | AJ42: 日 | AL42: ： | AN42: ～
I43: 様 | AC43: 令和 | AF43: 年 | AH43: 月 | AJ43: 日 | AL43: ： | AN43: ～
... I46: 様 | AC46: 令和 | AF46: 年 | AH46: 月 | AJ46: 日 | AL46: ： | AN46: ～
A47: 業務 内容 | D47: 項目 | J47: 患者様氏名 | P47: 担当 | S47: 備考 | Y47: 項目 | AA47: 患者様氏名 | AG47: 内容 | AQ47: 担当
D48: 外 来 患 者 対 応 | F48: 外来患者 対応 | O48: 様 | Y48: 書 類 作 成 完 了 | AF48: 様
O49: 様 | AF49: 様
O50: 様 | AF50: 様
O51: 様 | AF51: 様
O52: 様 | AF52: 様
O53: 様 | AF53: 様
O54: 様 | AF54: 様
D55: 項目 | J55: 患者様氏名 | P55: 担当 | S55: 備考 | AF55: 様
D56: 入 退 院 支 援 | F56: 退院支援 | O56: 様 | AF56: 様
O57: 様 | AF57: 様
O58: 様 | Y58: 項目 | AG58: 件数 | AJ58: 担当 | AM58: 備考
O59: 様 | Y59: 電話対応 | AI59: 件
O60: 様 | Y60: 保健所への届出 | AI60: 件
F61: 退院請求 対応 | O61: 様 | Y61: 項目 | AG61: 内容
O62: 様 | Y62: 通院医療 観察法
F63: 入院患者 対応 | J63: 担当 | M63: 件数 | P63: 備考
O64: 件 | Y64: 認知症疾患 医療ｾﾝﾀｰ
O65: 件
O66: 件 | Y66: 各種会議参加 外部の業務
O67: 件
A68: 安全管理 | D68: 事故 | S68: 物品 購入 | AE68: 連絡 事項
D69: 苦情
D70: 紛失
D71: 他

Sheet 14
A1: ソーシャルワーカー室 業務日誌 | AH1: C.O.O | AL1: I.O.O | AP1: Ａ.Ｏ.Ｍ
H3: =曜日!B12 -> 令和7年 | M3: =曜日!C12 -> 7月 | P3: 14日 | S3: （ | T3: =曜日!D9 -> 月 | U3: ） | W3: 作成者 | Z3: ：
A5: 労務 状況 | D5: 勤務状況 | K5: 西舘 翔子 | T5: 大川 祥子 | AC5: 宇津木澤 育美 | AL5: 澤里 皓輝
K6: 安田 純子 | T6: 石鉢 佳代
A8: 入退院 状況 | D8: 入院形態 | K8: 東病棟 | Q8: 西病棟 | W8: 北病棟 | AC8: 南病棟 | AI8: 合計 | AO8: 総数
K9: 男性 | N9: 女性 | Q9: 男性 | T9: 女性 | W9: 男性 | Z9: 女性 | AC9: 男性 | AF9: 女性 | AI9: 男性 | AL9: 女性
D10: 任意入院 | AI10: =K10+Q10+W10+AC10 -> 0 | AL10: =N10+T10+Z10+AF10 -> 0 | AO10: =AI14 -> 0
D11: 医療保護入院 | AI11: =K11+Q11+W11+AC11 -> 0 | AL11: =N11+T11+Z11+AF11 -> 0
D12: 措置入院 | AI12: =K12+Q12+W12+AC12 -> 0 | AL12: =N12+T12+Z12+AF12 -> 0
D13: 合計 | K13: =SUM(K10:M12) -> 0 | N13: =SUM(N10:P12) -> 0 | Q13: =SUM(Q10:S12) -> 0 | T13: =SUM(T10:V12) -> 0 | W13: =SUM(W10:Y12) -> 0 | Z13: =SUM(Z10:AB12) -> 0 | AC13: =SUM(AC10:AE12) -> 0 | AF13: =SUM(AF10:AH12) -> 0 | AI13: =SUM(K13+Q13+W13+AC13) -> 0 | AL13: =SUM(N13+T13+Z13+AF13) -> 0 | AO13: 人
K14: =K13+N13 -> 0 | Q14: =Q13+T13 -> 0 | W14: =W13+Z13 -> 0 | AC14: =AC13+AF13 -> 0 | AI14: =AI13+AL13 -> 0
F15: 患者様氏名 | N15: 入院形態 | T15: 担当Dr | Y15: 担当SW | AD15: 病棟 | AJ15: 備考欄
D16: 入院 | L16: 様
L17: 様
L18: 様
L19: 様
L20: 様
D21: 退院 | L21: 様
L22: 様
L23: 様
L24: 様
L25: 様
D26: 転棟 ･ 入院形態変更 | L26: 様
L27: 様
L28: 様
L29: 様
L30: 様
A31: 患者様 関連 | D31: 患者様氏名 | K31: 担当Dr | P31: 病棟 | S31: 制限内容 | X31: 制限時間 | AC31: 開始日時 | AO31: 備考
I32: 様 | AC32: 令和 | AF32: 年 | AH32: 月 | AJ32: 日 | AL32: ： | AN32: ～
I33: 様 | AC33: 令和 | AF33: 年 | AH33: 月 | AJ33: 日 | AL33: ： | AN33: ～
I34: 様 | AC34: 令和 | AF34: 年 | AH34: 月 | AJ34: 日 | AL34: ： | AN34: ～
I35: 様 | AC35: 令和 | AF35: 年 | AH35: 月 | AJ35: 日 | AL35: ： | AN35: ～
I36: 様 | AC36: 令和 | AF36: 年 | AH36: 月 | AJ36: 日 | AL36: ： | AN36: ～
I37: 様 | AC37: 令和 | AF37: 年 | AH37: 月 | AJ37: 日 | AL37: ： | AN37: ～
I38: 様 | AC38: 令和 | AF38: 年 | AH38: 月 | AJ38: 日 | AL38: ： | AN38: ～
I39: 様 | AC39: 令和 | AF39: 年 | AH39: 月 | AJ39: 日 | AL39: ： | AN39: ～
I40: 様 | AC40: 令和 | AF40: 年 | AH40: 月 | AJ40: 日 | AL40: ： | AN40: ～
I41: 様 | AC41: 令和 | AF41: 年 | AH41: 月 | AJ41: 日 | AL41: ： | AN41: ～
I42: 様 | AC42: 令和 | AF42: 年 | AH42: 月 | AJ42: 日 | AL42: ： | AN42: ～
I43: 様 | AC43: 令和 | AF43: 年 | AH43: 月 | AJ43: 日 | AL43: ： | AN43: ～
... I46: 様 | AC46: 令和 | AF46: 年 | AH46: 月 | AJ46: 日 | AL46: ： | AN46: ～
A47: 業務 内容 | D47: 項目 | J47: 患者様氏名 | P47: 担当 | S47: 備考 | Y47: 項目 | AA47: 患者様氏名 | AG47: 内容 | AQ47: 担当
D48: 外 来 患 者 対 応 | F48: 外来患者 対応 | O48: 様 | Y48: 書 類 作 成 完 了 | AF48: 様
O49: 様 | AF49: 様
O50: 様 | AF50: 様
O51: 様 | AF51: 様
O52: 様 | AF52: 様
O53: 様 | AF53: 様
O54: 様 | AF54: 様
D55: 項目 | J55: 患者様氏名 | P55: 担当 | S55: 備考 | AF55: 様
D56: 入 退 院 支 援 | F56: 退院支援 | O56: 様 | AF56: 様
O57: 様 | AF57: 様
O58: 様 | Y58: 項目 | AG58: 件数 | AJ58: 担当 | AM58: 備考
O59: 様 | Y59: 電話対応 | AI59: 件
O60: 様 | Y60: 保健所への届出 | AI60: 件
F61: 退院請求 対応 | O61: 様 | Y61: 項目 | AG61: 内容
O62: 様 | Y62: 通院医療 観察法
F63: 入院患者 対応 | J63: 担当 | M63: 件数 | P63: 備考
O64: 件 | Y64: 認知症疾患 医療ｾﾝﾀｰ
O65: 件
O66: 件 | Y66: 各種会議参加 外部の業務
O67: 件
A68: 安全管理 | D68: 事故 | S68: 物品 購入 | AE68: 連絡 事項
D69: 苦情
D70: 紛失
D71: 他

Sheet 15
A1: ソーシャルワーカー室 業務日誌 | AH1: C.O.O | AL1: I.O.O | AP1: Ａ.Ｏ.Ｍ
H3: =曜日!B12 -> 令和7年 | M3: =曜日!C12 -> 7月 | P3: 15日 | S3: （ | T3: =曜日!D3 -> 火 | U3: ） | W3: 作成者 | Z3: ：
A5: 労務 状況 | D5: 勤務状況 | K5: 西舘 翔子 | T5: 大川 祥子 | AC5: 宇津木澤 育美 | AL5: 澤里 皓輝
K6: 安田 純子 | T6: 石鉢 佳代
A8: 入退院 状況 | D8: 入院形態 | K8: 東病棟 | Q8: 西病棟 | W8: 北病棟 | AC8: 南病棟 | AI8: 合計 | AO8: 総数
K9: 男性 | N9: 女性 | Q9: 男性 | T9: 女性 | W9: 男性 | Z9: 女性 | AC9: 男性 | AF9: 女性 | AI9: 男性 | AL9: 女性
D10: 任意入院 | AI10: =K10+Q10+W10+AC10 -> 0 | AL10: =N10+T10+Z10+AF10 -> 0 | AO10: =AI14 -> 0
D11: 医療保護入院 | AI11: =K11+Q11+W11+AC11 -> 0 | AL11: =N11+T11+Z11+AF11 -> 0
D12: 措置入院 | AI12: =K12+Q12+W12+AC12 -> 0 | AL12: =N12+T12+Z12+AF12 -> 0
D13: 合計 | K13: =SUM(K10:M12) -> 0 | N13: =SUM(N10:P12) -> 0 | Q13: =SUM(Q10:S12) -> 0 | T13: =SUM(T10:V12) -> 0 | W13: =SUM(W10:Y12) -> 0 | Z13: =SUM(Z10:AB12) -> 0 | AC13: =SUM(AC10:AE12) -> 0 | AF13: =SUM(AF10:AH12) -> 0 | AI13: =SUM(K13+Q13+W13+AC13) -> 0 | AL13: =SUM(N13+T13+Z13+AF13) -> 0 | AO13: 人
K14: =K13+N13 -> 0 | Q14: =Q13+T13 -> 0 | W14: =W13+Z13 -> 0 | AC14: =AC13+AF13 -> 0 | AI14: =AI13+AL13 -> 0
F15: 患者様氏名 | N15: 入院形態 | T15: 担当Dr | Y15: 担当SW | AD15: 病棟 | AJ15: 備考欄
D16: 入院 | L16: 様
L17: 様
L18: 様
L19: 様
L20: 様
D21: 退院 | L21: 様
L22: 様
L23: 様
L24: 様
L25: 様
D26: 転棟 ･ 入院形態変更 | L26: 様
L27: 様
L28: 様
L29: 様
L30: 様
L31: 様
A32: 患者様 関連 | AC32: 開始日時 | AO32: 備考
I33: 様 | AC33: 令和 | AF33: 年 | AH33: 月 | AJ33: 日 | AL33: ： | AN33: ～
I34: 様 | AC34: 令和 | AF34: 年 | AH34: 月 | AJ34: 日 | AL34: ： | AN34: ～
I35: 様 | AC35: 令和 | AF35: 年 | AH35: 月 | AJ35: 日 | AL35: ： | AN35: ～
I36: 様 | AC36: 令和 | AF36: 年 | AH36: 月 | AJ36: 日 | AL36: ： | AN36: ～
I37: 様 | AC37: 令和 | AF37: 年 | AH37: 月 | AJ37: 日 | AL37: ： | AN37: ～
I38: 様 | AC38: 令和 | AF38: 年 | AH38: 月 | AJ38: 日 | AL38: ： | AN38: ～
I39: 様 | AC39: 令和 | AF39: 年 | AH39: 月 | AJ39: 日 | AL39: ： | AN39: ～
I40: 様 | AC40: 令和 | AF40: 年 | AH40: 月 | AJ40: 日 | AL40: ： | AN40: ～
I41: 様 | AC41: 令和 | AF41: 年 | AH41: 月 | AJ41: 日 | AL41: ： | AN41: ～
I42: 様 | AC42: 令和 | AF42: 年 | AH42: 月 | AJ42: 日 | AL42: ： | AN42: ～
I43: 様 | AC43: 令和 | AF43: 年 | AH43: 月 | AJ43: 日 | AL43: ： | AN43: ～
I44: 様 | AC44: 令和 | AF44: 年 | AH44: 月 | AJ44: 日 | AL44: ： | AN44: ～
... I47: 様 | AC47: 令和 | AF47: 年 | AH47: 月 | AJ47: 日 | AL47: ： | AN47: ～
A48: 業務 内容 | D48: 項目 | J48: 患者様氏名 | P48: 担当 | S48: 備考 | Y48: 項目 | AA48: 患者様氏名 | AG48: 内容 | AQ48: 担当
D49: 外 来 患 者 対 応 | F49: 外来患者 対応 | O49: 様 | Y49: 書 類 作 成 完 了 | AF49: 様
O50: 様 | AF50: 様
O51: 様 | AF51: 様
O52: 様 | AF52: 様
O53: 様 | AF53: 様
O54: 様 | AF54: 様
O55: 様 | AF55: 様
D56: 項目 | J56: 患者様氏名 | P56: 担当 | S56: 備考 | AF56: 様
D57: 入 退 院 支 援 | F57: 退院支援 | O57: 様 | AF57: 様
O58: 様 | AF58: 様
O59: 様 | Y59: 項目 | AG59: 件数 | AJ59: 担当 | AM59: 備考
O60: 様 | Y60: 電話対応 | AI60: 件
O61: 様 | Y61: 保健所への届出 | AI61: 件
F62: 退院請求 対応 | O62: 様 | Y62: 項目 | AG62: 内容
O63: 様 | Y63: 通院医療 観察法
F64: 入院患者 対応 | J64: 担当 | M64: 件数 | P64: 備考
O65: 件 | Y65: 認知症疾患 医療ｾﾝﾀｰ
O66: 件
O67: 件 | Y67: 各種会議参加 外部の業務
O68: 件
A69: 安全管理 | D69: 事故 | S69: 物品 購入 | AE69: 連絡 事項
D70: 苦情
D71: 紛失
D72: 他

Sheet 16
A1: ソーシャルワーカー室 業務日誌 | AH1: C.O.O | AL1: I.O.O | AP1: Ａ.Ｏ.Ｍ
H3: =曜日!B12 -> 令和7年 | M3: =曜日!C12 -> 7月 | P3: 16日 | S3: （ | T3: =曜日!D4 -> 水 | U3: ） | W3: 作成者 | Z3: ：
A5: 労務 状況 | D5: 勤務状況 | K5: 西舘 翔子 | T5: 大川 祥子 | AC5: 宇津木澤 育美 | AL5: 澤里 皓輝
K6: 安田 純子 | T6: 石鉢 佳代
A8: 入退院 状況 | D8: 入院形態 | K8: 東病棟 | Q8: 西病棟 | W8: 北病棟 | AC8: 南病棟 | AI8: 合計 | AO8: 総数
K9: 男性 | N9: 女性 | Q9: 男性 | T9: 女性 | W9: 男性 | Z9: 女性 | AC9: 男性 | AF9: 女性 | AI9: 男性 | AL9: 女性
D10: 任意入院 | AI10: =K10+Q10+W10+AC10 -> 0 | AL10: =N10+T10+Z10+AF10 -> 0 | AO10: =AI14 -> 0
D11: 医療保護入院 | AI11: =K11+Q11+W11+AC11 -> 0 | AL11: =N11+T11+Z11+AF11 -> 0
D12: 措置入院 | AI12: =K12+Q12+W12+AC12 -> 0 | AL12: =N12+T12+Z12+AF12 -> 0
D13: 合計 | K13: =SUM(K10:M12) -> 0 | N13: =SUM(N10:P12) -> 0 | Q13: =SUM(Q10:S12) -> 0 | T13: =SUM(T10:V12) -> 0 | W13: =SUM(W10:Y12) -> 0 | Z13: =SUM(Z10:AB12) -> 0 | AC13: =SUM(AC10:AE12) -> 0 | AF13: =SUM(AF10:AH12) -> 0 | AI13: =SUM(K13+Q13+W13+AC13) -> 0 | AL13: =SUM(N13+T13+Z13+AF13) -> 0 | AO13: 人
K14: =K13+N13 -> 0 | Q14: =Q13+T13 -> 0 | W14: =W13+Z13 -> 0 | AC14: =AC13+AF13 -> 0 | AI14: =AI13+AL13 -> 0
F15: 患者様氏名 | N15: 入院形態 | T15: 担当Dr | Y15: 担当SW | AD15: 病棟 | AJ15: 備考欄
D16: 入院 | L16: 様
L17: 様
L18: 様
L19: 様
L20: 様
D21: 退院 | L21: 様
L22: 様
L23: 様
L24: 様
L25: 様
D26: 転棟 ･ 入院形態変更 | L26: 様
L27: 様
L28: 様
L29: 様
L30: 様
A31: 患者様 関連 | D31: 患者様氏名 | K31: 担当Dr | P31: 病棟 | S31: 制限内容 | X31: 制限時間 | AC31: 開始日時 | AO31: 備考
I32: 様 | AC32: 令和 | AF32: 年 | AH32: 月 | AJ32: 日 | AL32: ： | AN32: ～
I33: 様 | AC33: 令和 | AF33: 年 | AH33: 月 | AJ33: 日 | AL33: ： | AN33: ～
I34: 様 | AC34: 令和 | AF34: 年 | AH34: 月 | AJ34: 日 | AL34: ： | AN34: ～
I35: 様 | AC35: 令和 | AF35: 年 | AH35: 月 | AJ35: 日 | AL35: ： | AN35: ～
I36: 様 | AC36: 令和 | AF36: 年 | AH36: 月 | AJ36: 日 | AL36: ： | AN36: ～
I37: 様 | AC37: 令和 | AF37: 年 | AH37: 月 | AJ37: 日 | AL37: ： | AN37: ～
I38: 様 | AC38: 令和 | AF38: 年 | AH38: 月 | AJ38: 日 | AL38: ： | AN38: ～
I39: 様 | AC39: 令和 | AF39: 年 | AH39: 月 | AJ39: 日 | AL39: ： | AN39: ～
I40: 様 | AC40: 令和 | AF40: 年 | AH40: 月 | AJ40: 日 | AL40: ： | AN40: ～
I41: 様 | AC41: 令和 | AF41: 年 | AH41: 月 | AJ41: 日 | AL41: ： | AN41: ～
I42: 様 | AC42: 令和 | AF42: 年 | AH42: 月 | AJ42: 日 | AL42: ： | AN42: ～
I43: 様 | AC43: 令和 | AF43: 年 | AH43: 月 | AJ43: 日 | AL43: ： | AN43: ～
... I46: 様 | AC46: 令和 | AF46: 年 | AH46: 月 | AJ46: 日 | AL46: ： | AN46: ～
A47: 業務 内容 | D47: 項目 | J47: 患者様氏名 | P47: 担当 | S47: 備考 | Y47: 項目 | AA47: 患者様氏名 | AG47: 内容 | AQ47: 担当
D48: 外 来 患 者 対 応 | F48: 外来患者 対応 | O48: 様 | Y48: 書 類 作 成 完 了 | AF48: 様
O49: 様 | AF49: 様
O50: 様 | AF50: 様
O51: 様 | AF51: 様
O52: 様 | AF52: 様
O53: 様 | AF53: 様
O54: 様 | AF54: 様
D55: 項目 | J55: 患者様氏名 | P55: 担当 | S55: 備考 | AF55: 様
D56: 入 退 院 支 援 | F56: 退院支援 | O56: 様 | AF56: 様
O57: 様 | AF57: 様
O58: 様 | Y58: 項目 | AG58: 件数 | AJ58: 担当 | AM58: 備考
O59: 様 | Y59: 電話対応 | AI59: 件
O60: 様 | Y60: 保健所への届出 | AI60: 件
F61: 退院請求 対応 | O61: 様 | Y61: 項目 | AG61: 内容
O62: 様 | Y62: 通院医療 観察法
F63: 入院患者 対応 | J63: 担当 | M63: 件数 | P63: 備考
O64: 件 | Y64: 認知症疾患 医療ｾﾝﾀｰ
O65: 件
O66: 件 | Y66: 各種会議参加 外部の業務
O67: 件
A68: 安全管理 | D68: 事故 | S68: 物品 購入 | AE68: 連絡 事項
D69: 苦情
D70: 紛失
D71: 他

Sheet 17
A1: ソーシャルワーカー室 業務日誌 | AH1: C.O.O | AL1: I.O.O | AP1: Ａ.Ｏ.Ｍ
H3: =曜日!B12 -> 令和7年 | M3: =曜日!C12 -> 7月 | P3: 17日 | S3: （ | T3: =曜日!D5 -> 木 | U3: ） | W3: 作成者 | Z3: ：
A5: 労務 状況 | D5: 勤務状況 | K5: 西舘 翔子 | T5: 大川 祥子 | AC5: 宇津木澤 育美 | AL5: 澤里 皓輝
K6: 安田 純子 | T6: 石鉢 佳代
A8: 入退院 状況 | D8: 入院形態 | K8: 東病棟 | Q8: 西病棟 | W8: 北病棟 | AC8: 南病棟 | AI8: 合計 | AO8: 総数
K9: 男性 | N9: 女性 | Q9: 男性 | T9: 女性 | W9: 男性 | Z9: 女性 | AC9: 男性 | AF9: 女性 | AI9: 男性 | AL9: 女性
D10: 任意入院 | AI10: =K10+Q10+W10+AC10 -> 0 | AL10: =N10+T10+Z10+AF10 -> 0 | AO10: =AI14 -> 0
D11: 医療保護入院 | AI11: =K11+Q11+W11+AC11 -> 0 | AL11: =N11+T11+Z11+AF11 -> 0
D12: 措置入院 | AI12: =K12+Q12+W12+AC12 -> 0 | AL12: =N12+T12+Z12+AF12 -> 0
D13: 合計 | K13: =SUM(K10:M12) -> 0 | N13: =SUM(N10:P12) -> 0 | Q13: =SUM(Q10:S12) -> 0 | T13: =SUM(T10:V12) -> 0 | W13: =SUM(W10:Y12) -> 0 | Z13: =SUM(Z10:AB12) -> 0 | AC13: =SUM(AC10:AE12) -> 0 | AF13: =SUM(AF10:AH12) -> 0 | AI13: =SUM(K13+Q13+W13+AC13) -> 0 | AL13: =SUM(N13+T13+Z13+AF13) -> 0 | AO13: 人
K14: =K13+N13 -> 0 | Q14: =Q13+T13 -> 0 | W14: =W13+Z13 -> 0 | AC14: =AC13+AF13 -> 0 | AI14: =AI13+AL13 -> 0
F15: 患者様氏名 | N15: 入院形態 | T15: 担当Dr | Y15: 担当SW | AD15: 病棟 | AJ15: 備考欄
D16: 入院 | L16: 様
L17: 様
L18: 様
L19: 様
L20: 様
D21: 退院 | L21: 様
L22: 様
L23: 様
L24: 様
L25: 様
D26: 転棟 ･ 入院形態変更 | L26: 様
L27: 様
L28: 様
L29: 様
L30: 様
A31: 患者様 関連 | D31: 患者様氏名 | K31: 担当Dr | P31: 病棟 | S31: 制限内容 | X31: 制限時間 | AC31: 開始日時 | AO31: 備考
I32: 様 | AC32: 令和 | AF32: 年 | AH32: 月 | AJ32: 日 | AL32: ： | AN32: ～
I33: 様 | AC33: 令和 | AF33: 年 | AH33: 月 | AJ33: 日 | AL33: ： | AN33: ～
I34: 様 | AC34: 令和 | AF34: 年 | AH34: 月 | AJ34: 日 | AL34: ： | AN34: ～
I35: 様 | AC35: 令和 | AF35: 年 | AH35: 月 | AJ35: 日 | AL35: ： | AN35: ～
I36: 様 | AC36: 令和 | AF36: 年 | AH36: 月 | AJ36: 日 | AL36: ： | AN36: ～
I37: 様 | AC37: 令和 | AF37: 年 | AH37: 月 | AJ37: 日 | AL37: ： | AN37: ～
I38: 様 | AC38: 令和 | AF38: 年 | AH38: 月 | AJ38: 日 | AL38: ： | AN38: ～
I39: 様 | AC39: 令和 | AF39: 年 | AH39: 月 | AJ39: 日 | AL39: ： | AN39: ～
I40: 様 | AC40: 令和 | AF40: 年 | AH40: 月 | AJ40: 日 | AL40: ： | AN40: ～
I41: 様 | AC41: 令和 | AF41: 年 | AH41: 月 | AJ41: 日 | AL41: ： | AN41: ～
I42: 様 | AC42: 令和 | AF42: 年 | AH42: 月 | AJ42: 日 | AL42: ： | AN42: ～
I43: 様 | AC43: 令和 | AF43: 年 | AH43: 月 | AJ43: 日 | AL43: ： | AN43: ～
... I46: 様 | AC46: 令和 | AF46: 年 | AH46: 月 | AJ46: 日 | AL46: ： | AN46: ～
A47: 業務 内容 | D47: 項目 | J47: 患者様氏名 | P47: 担当 | S47: 備考 | Y47: 項目 | AA47: 患者様氏名 | AG47: 内容 | AQ47: 担当
D48: 外 来 患 者 対 応 | F48: 外来患者 対応 | O48: 様 | Y48: 書 類 作 成 完 了 | AF48: 様
O49: 様 | AF49: 様
O50: 様 | AF50: 様
O51: 様 | AF51: 様
O52: 様 | AF52: 様
O53: 様 | AF53: 様
O54: 様 | AF54: 様
D55: 項目 | J55: 患者様氏名 | P55: 担当 | S55: 備考 | AF55: 様
D56: 入 退 院 支 援 | F56: 退院支援 | O56: 様 | AF56: 様
O57: 様 | AF57: 様
O58: 様 | Y58: 項目 | AG58: 件数 | AJ58: 担当 | AM58: 備考
O59: 様 | Y59: 電話対応 | AI59: 件
O60: 様 | Y60: 保健所への届出 | AI60: 件
F61: 退院請求 対応 | O61: 様 | Y61: 項目 | AG61: 内容
O62: 様 | Y62: 通院医療 観察法
F63: 入院患者 対応 | J63: 担当 | M63: 件数 | P63: 備考
O64: 件 | Y64: 認知症疾患 医療ｾﾝﾀｰ
O65: 件
O66: 件 | Y66: 各種会議参加 外部の業務
O67: 件
A68: 安全管理 | D68: 事故 | S68: 物品 購入 | AE68: 連絡 事項
D69: 苦情
D70: 紛失
D71: 他

Sheet 18
A1: ソーシャルワーカー室 業務日誌 | AH1: C.O.O | AL1: I.O.O | AP1: Ａ.Ｏ.Ｍ
H3: =曜日!B12 -> 令和7年 | M3: =曜日!C12 -> 7月 | P3: 18日 | S3: （ | T3: =曜日!D6 -> 金 | U3: ） | W3: 作成者 | Z3: ：
A5: 労務 状況 | D5: 勤務状況 | K5: 西舘 翔子 | T5: 大川 祥子 | AC5: 宇津木澤 育美 | AL5: 澤里 皓輝
K6: 安田 純子 | T6: 石鉢 佳代
A8: 入退院 状況 | D8: 入院形態 | K8: 東病棟 | Q8: 西病棟 | W8: 北病棟 | AC8: 南病棟 | AI8: 合計 | AO8: 総数
K9: 男性 | N9: 女性 | Q9: 男性 | T9: 女性 | W9: 男性 | Z9: 女性 | AC9: 男性 | AF9: 女性 | AI9: 男性 | AL9: 女性
D10: 任意入院 | AI10: =K10+Q10+W10+AC10 -> 0 | AL10: =N10+T10+Z10+AF10 -> 0 | AO10: =AI14 -> 0
D11: 医療保護入院 | AI11: =K11+Q11+W11+AC11 -> 0 | AL11: =N11+T11+Z11+AF11 -> 0
D12: 措置入院 | AI12: =K12+Q12+W12+AC12 -> 0 | AL12: =N12+T12+Z12+AF12 -> 0
D13: 合計 | K13: =SUM(K10:M12) -> 0 | N13: =SUM(N10:P12) -> 0 | Q13: =SUM(Q10:S12) -> 0 | T13: =SUM(T10:V12) -> 0 | W13: =SUM(W10:Y12) -> 0 | Z13: =SUM(Z10:AB12) -> 0 | AC13: =SUM(AC10:AE12) -> 0 | AF13: =SUM(AF10:AH12) -> 0 | AI13: =SUM(K13+Q13+W13+AC13) -> 0 | AL13: =SUM(N13+T13+Z13+AF13) -> 0 | AO13: 人
K14: =K13+N13 -> 0 | Q14: =Q13+T13 -> 0 | W14: =W13+Z13 -> 0 | AC14: =AC13+AF13 -> 0 | AI14: =AI13+AL13 -> 0
F15: 患者様氏名 | N15: 入院形態 | T15: 担当Dr | Y15: 担当SW | AD15: 病棟 | AJ15: 備考欄
D16: 入院 | L16: 様
L17: 様
L18: 様
L19: 様
L20: 様
D21: 退院 | L21: 様
L22: 様
L23: 様
L24: 様
L25: 様
D26: 転棟 ･ 入院形態変更 | L26: 様
L27: 様
L28: 様
L29: 様
L30: 様
A31: 患者様 関連 | D31: 患者様氏名 | K31: 担当Dr | P31: 病棟 | S31: 制限内容 | X31: 制限時間 | AC31: 開始日時 | AO31: 備考
I32: 様 | AC32: 令和 | AF32: 年 | AH32: 月 | AJ32: 日 | AL32: ： | AN32: ～
I33: 様 | AC33: 令和 | AF33: 年 | AH33: 月 | AJ33: 日 | AL33: ： | AN33: ～
I34: 様 | AC34: 令和 | AF34: 年 | AH34: 月 | AJ34: 日 | AL34: ： | AN34: ～
I35: 様 | AC35: 令和 | AF35: 年 | AH35: 月 | AJ35: 日 | AL35: ： | AN35: ～
I36: 様 | AC36: 令和 | AF36: 年 | AH36: 月 | AJ36: 日 | AL36: ： | AN36: ～
I37: 様 | AC37: 令和 | AF37: 年 | AH37: 月 | AJ37: 日 | AL37: ： | AN37: ～
I38: 様 | AC38: 令和 | AF38: 年 | AH38: 月 | AJ38: 日 | AL38: ： | AN38: ～
I39: 様 | AC39: 令和 | AF39: 年 | AH39: 月 | AJ39: 日 | AL39: ： | AN39: ～
I40: 様 | AC40: 令和 | AF40: 年 | AH40: 月 | AJ40: 日 | AL40: ： | AN40: ～
I41: 様 | AC41: 令和 | AF41: 年 | AH41: 月 | AJ41: 日 | AL41: ： | AN41: ～
I42: 様 | AC42: 令和 | AF42: 年 | AH42: 月 | AJ42: 日 | AL42: ： | AN42: ～
I43: 様 | AC43: 令和 | AF43: 年 | AH43: 月 | AJ43: 日 | AL43: ： | AN43: ～
... I46: 様 | AC46: 令和 | AF46: 年 | AH46: 月 | AJ46: 日 | AL46: ： | AN46: ～
A47: 業務 内容 | D47: 項目 | J47: 患者様氏名 | P47: 担当 | S47: 備考 | Y47: 項目 | AA47: 患者様氏名 | AG47: 内容 | AQ47: 担当
D48: 外 来 患 者 対 応 | F48: 外来患者 対応 | O48: 様 | Y48: 書 類 作 成 完 了 | AF48: 様
O49: 様 | AF49: 様
O50: 様 | AF50: 様
O51: 様 | AF51: 様
O52: 様 | AF52: 様
O53: 様 | AF53: 様
O54: 様 | AF54: 様
D55: 項目 | J55: 患者様氏名 | P55: 担当 | S55: 備考 | AF55: 様
D56: 入 退 院 支 援 | F56: 退院支援 | O56: 様 | AF56: 様
O57: 様 | AF57: 様
O58: 様 | Y58: 項目 | AG58: 件数 | AJ58: 担当 | AM58: 備考
O59: 様 | Y59: 電話対応 | AI59: 件
O60: 様 | Y60: 保健所への届出 | AI60: 件
F61: 退院請求 対応 | O61: 様 | Y61: 項目 | AG61: 内容
O62: 様 | Y62: 通院医療 観察法
F63: 入院患者 対応 | J63: 担当 | M63: 件数 | P63: 備考
O64: 件 | Y64: 認知症疾患 医療ｾﾝﾀｰ
O65: 件
O66: 件 | Y66: 各種会議参加 外部の業務
O67: 件
A68: 安全管理 | D68: 事故 | S68: 物品 購入 | AE68: 連絡 事項
D69: 苦情
D70: 紛失
D71: 他

Sheet 19
A1: ソーシャルワーカー室 業務日誌 | AH1: C.O.O | AL1: I.O.O | AP1: Ａ.Ｏ.Ｍ
H3: =曜日!B12 -> 令和7年 | M3: =曜日!C12 -> 7月 | P3: 19日 | S3: （ | T3: =曜日!D7 -> 土 | U3: ） | W3: 作成者 | Z3: ：
A5: 労務 状況 | D5: 勤務状況 | K5: 西舘 翔子 | T5: 大川 祥子 | AC5: 宇津木澤 育美 | AL5: 澤里 皓輝
K6: 安田 純子 | T6: 石鉢 佳代
A8: 入退院 状況 | D8: 入院形態 | K8: 東病棟 | Q8: 西病棟 | W8: 北病棟 | AC8: 南病棟 | AI8: 合計 | AO8: 総数
K9: 男性 | N9: 女性 | Q9: 男性 | T9: 女性 | W9: 男性 | Z9: 女性 | AC9: 男性 | AF9: 女性 | AI9: 男性 | AL9: 女性
D10: 任意入院 | AI10: =K10+Q10+W10+AC10 -> 0 | AL10: =N10+T10+Z10+AF10 -> 0 | AO10: =AI14 -> 0
D11: 医療保護入院 | AI11: =K11+Q11+W11+AC11 -> 0 | AL11: =N11+T11+Z11+AF11 -> 0
D12: 措置入院 | AI12: =K12+Q12+W12+AC12 -> 0 | AL12: =N12+T12+Z12+AF12 -> 0
D13: 合計 | K13: =SUM(K10:M12) -> 0 | N13: =SUM(N10:P12) -> 0 | Q13: =SUM(Q10:S12) -> 0 | T13: =SUM(T10:V12) -> 0 | W13: =SUM(W10:Y12) -> 0 | Z13: =SUM(Z10:AB12) -> 0 | AC13: =SUM(AC10:AE12) -> 0 | AF13: =SUM(AF10:AH12) -> 0 | AI13: =SUM(K13+Q13+W13+AC13) -> 0 | AL13: =SUM(N13+T13+Z13+AF13) -> 0 | AO13: 人
K14: =K13+N13 -> 0 | Q14: =Q13+T13 -> 0 | W14: =W13+Z13 -> 0 | AC14: =AC13+AF13 -> 0 | AI14: =AI13+AL13 -> 0
F15: 患者様氏名 | N15: 入院形態 | T15: 担当Dr | Y15: 担当SW | AD15: 病棟 | AJ15: 備考欄
D16: 入院 | L16: 様
L17: 様
L18: 様
L19: 様
L20: 様
D21: 退院 | L21: 様
L22: 様
L23: 様
L24: 様
L25: 様
D26: 転棟 ･ 入院形態変更 | L26: 様
L27: 様
L28: 様
L29: 様
L30: 様
A31: 患者様 関連 | D31: 患者様氏名 | K31: 担当Dr | P31: 病棟 | S31: 制限内容 | X31: 制限時間 | AC31: 開始日時 | AO31: 備考
I32: 様 | AC32: 令和 | AF32: 年 | AH32: 月 | AJ32: 日 | AL32: ： | AN32: ～
I33: 様 | AC33: 令和 | AF33: 年 | AH33: 月 | AJ33: 日 | AL33: ： | AN33: ～
I34: 様 | AC34: 令和 | AF34: 年 | AH34: 月 | AJ34: 日 | AL34: ： | AN34: ～
I35: 様 | AC35: 令和 | AF35: 年 | AH35: 月 | AJ35: 日 | AL35: ： | AN35: ～
I36: 様 | AC36: 令和 | AF36: 年 | AH36: 月 | AJ36: 日 | AL36: ： | AN36: ～
I37: 様 | AC37: 令和 | AF37: 年 | AH37: 月 | AJ37: 日 | AL37: ： | AN37: ～
I38: 様 | AC38: 令和 | AF38: 年 | AH38: 月 | AJ38: 日 | AL38: ： | AN38: ～
I39: 様 | AC39: 令和 | AF39: 年 | AH39: 月 | AJ39: 日 | AL39: ： | AN39: ～
I40: 様 | AC40: 令和 | AF40: 年 | AH40: 月 | AJ40: 日 | AL40: ： | AN40: ～
I41: 様 | AC41: 令和 | AF41: 年 | AH41: 月 | AJ41: 日 | AL41: ： | AN41: ～
I42: 様 | AC42: 令和 | AF42: 年 | AH42: 月 | AJ42: 日 | AL42: ： | AN42: ～
I43: 様 | AC43: 令和 | AF43: 年 | AH43: 月 | AJ43: 日 | AL43: ： | AN43: ～
... I46: 様 | AC46: 令和 | AF46: 年 | AH46: 月 | AJ46: 日 | AL46: ： | AN46: ～
A47: 業務 内容 | D47: 項目 | J47: 患者様氏名 | P47: 担当 | S47: 備考 | Y47: 項目 | AA47: 患者様氏名 | AG47: 内容 | AQ47: 担当
D48: 外 来 患 者 対 応 | F48: 外来患者 対応 | O48: 様 | Y48: 書 類 作 成 完 了 | AF48: 様
O49: 様 | AF49: 様
O50: 様 | AF50: 様
O51: 様 | AF51: 様
O52: 様 | AF52: 様
O53: 様 | AF53: 様
O54: 様 | AF54: 様
D55: 項目 | J55: 患者様氏名 | P55: 担当 | S55: 備考 | AF55: 様
D56: 入 退 院 支 援 | F56: 退院支援 | O56: 様 | AF56: 様
O57: 様 | AF57: 様
O58: 様 | Y58: 項目 | AG58: 件数 | AJ58: 担当 | AM58: 備考
O59: 様 | Y59: 電話対応 | AI59: 件
O60: 様 | Y60: 保健所への届出 | AI60: 件
F61: 退院請求 対応 | O61: 様 | Y61: 項目 | AG61: 内容
O62: 様 | Y62: 通院医療 観察法
F63: 入院患者 対応 | J63: 担当 | M63: 件数 | P63: 備考
O64: 件 | Y64: 認知症疾患 医療ｾﾝﾀｰ
O65: 件
O66: 件 | Y66: 各種会議参加 外部の業務
O67: 件
A68: 安全管理 | D68: 事故 | S68: 物品 購入 | AE68: 連絡 事項
D69: 苦情
D70: 紛失
D71: 他

Sheet 20
A1: ソーシャルワーカー室 業務日誌 | AH1: C.O.O | AL1: I.O.O | AP1: Ａ.Ｏ.Ｍ
H3: =曜日!B12 -> 令和7年 | M3: =曜日!C12 -> 7月 | P3: 20日 | S3: （ | T3: =曜日!D8 -> 日 | U3: ） | W3: 作成者 | Z3: ：
A5: 労務 状況 | D5: 勤務状況 | K5: 西舘 翔子 | T5: 大川 祥子 | AC5: 宇津木澤 育美 | AL5: 澤里 皓輝
K6: 安田 純子 | T6: 石鉢 佳代
A8: 入退院 状況 | D8: 入院形態 | K8: 東病棟 | Q8: 西病棟 | W8: 北病棟 | AC8: 南病棟 | AI8: 合計 | AO8: 総数
K9: 男性 | N9: 女性 | Q9: 男性 | T9: 女性 | W9: 男性 | Z9: 女性 | AC9: 男性 | AF9: 女性 | AI9: 男性 | AL9: 女性
D10: 任意入院 | AI10: =K10+Q10+W10+AC10 -> 0 | AL10: =N10+T10+Z10+AF10 -> 0 | AO10: =AI14 -> 0
D11: 医療保護入院 | AI11: =K11+Q11+W11+AC11 -> 0 | AL11: =N11+T11+Z11+AF11 -> 0
D12: 措置入院 | AI12: =K12+Q12+W12+AC12 -> 0 | AL12: =N12+T12+Z12+AF12 -> 0
D13: 合計 | K13: =SUM(K10:M12) -> 0 | N13: =SUM(N10:P12) -> 0 | Q13: =SUM(Q10:S12) -> 0 | T13: =SUM(T10:V12) -> 0 | W13: =SUM(W10:Y12) -> 0 | Z13: =SUM(Z10:AB12) -> 0 | AC13: =SUM(AC10:AE12) -> 0 | AF13: =SUM(AF10:AH12) -> 0 | AI13: =SUM(K13+Q13+W13+AC13) -> 0 | AL13: =SUM(N13+T13+Z13+AF13) -> 0 | AO13: 人
K14: =K13+N13 -> 0 | Q14: =Q13+T13 -> 0 | W14: =W13+Z13 -> 0 | AC14: =AC13+AF13 -> 0 | AI14: =AI13+AL13 -> 0
F15: 患者様氏名 | N15: 入院形態 | T15: 担当Dr | Y15: 担当SW | AD15: 病棟 | AJ15: 備考欄
D16: 入院 | L16: 様
L17: 様
L18: 様
L19: 様
L20: 様
D21: 退院 | L21: 様
L22: 様
L23: 様
L24: 様
L25: 様
D26: 転棟 ･ 入院形態変更 | L26: 様
L27: 様
L28: 様
L29: 様
L30: 様
A31: 患者様 関連 | D31: 患者様氏名 | K31: 担当Dr | P31: 病棟 | S31: 制限内容 | X31: 制限時間 | AC31: 開始日時 | AO31: 備考
I32: 様 | AC32: 令和 | AF32: 年 | AH32: 月 | AJ32: 日 | AL32: ： | AN32: ～
I33: 様 | AC33: 令和 | AF33: 年 | AH33: 月 | AJ33: 日 | AL33: ： | AN33: ～
I34: 様 | AC34: 令和 | AF34: 年 | AH34: 月 | AJ34: 日 | AL34: ： | AN34: ～
I35: 様 | AC35: 令和 | AF35: 年 | AH35: 月 | AJ35: 日 | AL35: ： | AN35: ～
I36: 様 | AC36: 令和 | AF36: 年 | AH36: 月 | AJ36: 日 | AL36: ： | AN36: ～
I37: 様 | AC37: 令和 | AF37: 年 | AH37: 月 | AJ37: 日 | AL37: ： | AN37: ～
I38: 様 | AC38: 令和 | AF38: 年 | AH38: 月 | AJ38: 日 | AL38: ： | AN38: ～
I39: 様 | AC39: 令和 | AF39: 年 | AH39: 月 | AJ39: 日 | AL39: ： | AN39: ～
I40: 様 | AC40: 令和 | AF40: 年 | AH40: 月 | AJ40: 日 | AL40: ： | AN40: ～
I41: 様 | AC41: 令和 | AF41: 年 | AH41: 月 | AJ41: 日 | AL41: ： | AN41: ～
I42: 様 | AC42: 令和 | AF42: 年 | AH42: 月 | AJ42: 日 | AL42: ： | AN42: ～
I43: 様 | AC43: 令和 | AF43: 年 | AH43: 月 | AJ43: 日 | AL43: ： | AN43: ～
... I46: 様 | AC46: 令和 | AF46: 年 | AH46: 月 | AJ46: 日 | AL46: ： | AN46: ～
A47: 業務 内容 | D47: 項目 | J47: 患者様氏名 | P47: 担当 | S47: 備考 | Y47: 項目 | AA47: 患者様氏名 | AG47: 内容 | AQ47: 担当
D48: 外 来 患 者 対 応 | F48: 外来患者 対応 | O48: 様 | Y48: 書 類 作 成 完 了 | AF48: 様
O49: 様 | AF49: 様
O50: 様 | AF50: 様
O51: 様 | AF51: 様
O52: 様 | AF52: 様
O53: 様 | AF53: 様
O54: 様 | AF54: 様
D55: 項目 | J55: 患者様氏名 | P55: 担当 | S55: 備考 | AF55: 様
D56: 入 退 院 支 援 | F56: 退院支援 | O56: 様 | AF56: 様
O57: 様 | AF57: 様
O58: 様 | Y58: 項目 | AG58: 件数 | AJ58: 担当 | AM58: 備考
O59: 様 | Y59: 電話対応 | AI59: 件
O60: 様 | Y60: 保健所への届出 | AI60: 件
F61: 退院請求 対応 | O61: 様 | Y61: 項目 | AG61: 内容
O62: 様 | Y62: 通院医療 観察法
F63: 入院患者 対応 | J63: 担当 | M63: 件数 | P63: 備考
O64: 件 | Y64: 認知症疾患 医療ｾﾝﾀｰ
O65: 件
O66: 件 | Y66: 各種会議参加 外部の業務
O67: 件
A68: 安全管理 | D68: 事故 | S68: 物品 購入 | AE68: 連絡 事項
D69: 苦情
D70: 紛失
D71: 他

Sheet 21
A1: ソーシャルワーカー室 業務日誌 | AH1: C.O.O | AL1: I.O.O | AP1: Ａ.Ｏ.Ｍ
H3: =曜日!B12 -> 令和7年 | M3: =曜日!C12 -> 7月 | P3: 21日 | S3: （ | T3: =曜日!D9 -> 月 | U3: ） | W3: 作成者 | Z3: ：
A5: 労務 状況 | D5: 勤務状況 | K5: 西舘 翔子 | T5: 大川 祥子 | AC5: 宇津木澤 育美 | AL5: 澤里 皓輝
K6: 安田 純子 | T6: 石鉢 佳代
A8: 入退院 状況 | D8: 入院形態 | K8: 東病棟 | Q8: 西病棟 | W8: 北病棟 | AC8: 南病棟 | AI8: 合計 | AO8: 総数
K9: 男性 | N9: 女性 | Q9: 男性 | T9: 女性 | W9: 男性 | Z9: 女性 | AC9: 男性 | AF9: 女性 | AI9: 男性 | AL9: 女性
D10: 任意入院 | AI10: =K10+Q10+W10+AC10 -> 0 | AL10: =N10+T10+Z10+AF10 -> 0 | AO10: =AI14 -> 0
D11: 医療保護入院 | AI11: =K11+Q11+W11+AC11 -> 0 | AL11: =N11+T11+Z11+AF11 -> 0
D12: 措置入院 | AI12: =K12+Q12+W12+AC12 -> 0 | AL12: =N12+T12+Z12+AF12 -> 0
D13: 合計 | K13: =SUM(K10:M12) -> 0 | N13: =SUM(N10:P12) -> 0 | Q13: =SUM(Q10:S12) -> 0 | T13: =SUM(T10:V12) -> 0 | W13: =SUM(W10:Y12) -> 0 | Z13: =SUM(Z10:AB12) -> 0 | AC13: =SUM(AC10:AE12) -> 0 | AF13: =SUM(AF10:AH12) -> 0 | AI13: =SUM(K13+Q13+W13+AC13) -> 0 | AL13: =SUM(N13+T13+Z13+AF13) -> 0 | AO13: 人
K14: =K13+N13 -> 0 | Q14: =Q13+T13 -> 0 | W14: =W13+Z13 -> 0 | AC14: =AC13+AF13 -> 0 | AI14: =AI13+AL13 -> 0
F15: 患者様氏名 | N15: 入院形態 | T15: 担当Dr | Y15: 担当SW | AD15: 病棟 | AJ15: 備考欄
D16: 入院 | L16: 様
L17: 様
L18: 様
L19: 様
L20: 様
D21: 退院 | L21: 様
L22: 様
L23: 様
L24: 様
L25: 様
D26: 転棟 ･ 入院形態変更 | L26: 様
L27: 様
L28: 様
L29: 様
L30: 様
A31: 患者様 関連 | D31: 患者様氏名 | K31: 担当Dr | P31: 病棟 | S31: 制限内容 | X31: 制限時間 | AC31: 開始日時 | AO31: 備考
I32: 様 | AC32: 令和 | AF32: 年 | AH32: 月 | AJ32: 日 | AL32: ： | AN32: ～
I33: 様 | AC33: 令和 | AF33: 年 | AH33: 月 | AJ33: 日 | AL33: ： | AN33: ～
I34: 様 | AC34: 令和 | AF34: 年 | AH34: 月 | AJ34: 日 | AL34: ： | AN34: ～
I35: 様 | AC35: 令和 | AF35: 年 | AH35: 月 | AJ35: 日 | AL35: ： | AN35: ～
I36: 様 | AC36: 令和 | AF36: 年 | AH36: 月 | AJ36: 日 | AL36: ： | AN36: ～
I37: 様 | AC37: 令和 | AF37: 年 | AH37: 月 | AJ37: 日 | AL37: ： | AN37: ～
I38: 様 | AC38: 令和 | AF38: 年 | AH38: 月 | AJ38: 日 | AL38: ： | AN38: ～
I39: 様 | AC39: 令和 | AF39: 年 | AH39: 月 | AJ39: 日 | AL39: ： | AN39: ～
I40: 様 | AC40: 令和 | AF40: 年 | AH40: 月 | AJ40: 日 | AL40: ： | AN40: ～
I41: 様 | AC41: 令和 | AF41: 年 | AH41: 月 | AJ41: 日 | AL41: ： | AN41: ～
I42: 様 | AC42: 令和 | AF42: 年 | AH42: 月 | AJ42: 日 | AL42: ： | AN42: ～
I43: 様 | AC43: 令和 | AF43: 年 | AH43: 月 | AJ43: 日 | AL43: ： | AN43: ～
... I46: 様 | AC46: 令和 | AF46: 年 | AH46: 月 | AJ46: 日 | AL46: ： | AN46: ～
A47: 業務 内容 | D47: 項目 | J47: 患者様氏名 | P47: 担当 | S47: 備考 | Y47: 項目 | AA47: 患者様氏名 | AG47: 内容 | AQ47: 担当
D48: 外 来 患 者 対 応 | F48: 外来患者 対応 | O48: 様 | Y48: 書 類 作 成 完 了 | AF48: 様
O49: 様 | AF49: 様
O50: 様 | AF50: 様
O51: 様 | AF51: 様
O52: 様 | AF52: 様
O53: 様 | AF53: 様
O54: 様 | AF54: 様
D55: 項目 | J55: 患者様氏名 | P55: 担当 | S55: 備考 | AF55: 様
D56: 入 退 院 支 援 | F56: 退院支援 | O56: 様 | AF56: 様
O57: 様 | AF57: 様
O58: 様 | Y58: 項目 | AG58: 件数 | AJ58: 担当 | AM58: 備考
O59: 様 | Y59: 電話対応 | AI59: 件
O60: 様 | Y60: 保健所への届出 | AI60: 件
F61: 退院請求 対応 | O61: 様 | Y61: 項目 | AG61: 内容
O62: 様 | Y62: 通院医療 観察法
F63: 入院患者 対応 | J63: 担当 | M63: 件数 | P63: 備考
O64: 件 | Y64: 認知症疾患 医療ｾﾝﾀｰ
O65: 件
O66: 件 | Y66: 各種会議参加 外部の業務
O67: 件
A68: 安全管理 | D68: 事故 | S68: 物品 購入 | AE68: 連絡 事項
D69: 苦情
D70: 紛失
D71: 他

Sheet 22
A1: ソーシャルワーカー室 業務日誌 | AH1: C.O.O | AL1: I.O.O | AP1: Ａ.Ｏ.Ｍ
H3: =曜日!B12 -> 令和7年 | M3: =曜日!C12 -> 7月 | P3: 22日 | S3: （ | T3: =曜日!D3 -> 火 | U3: ） | W3: 作成者 | Z3: ：
A5: 労務 状況 | D5: 勤務状況 | K5: 西舘 翔子 | T5: 大川 祥子 | AC5: 宇津木澤 育美 | AL5: 澤里 皓輝
K6: 安田 純子 | T6: 石鉢 佳代
A8: 入退院 状況 | D8: 入院形態 | K8: 東病棟 | Q8: 西病棟 | W8: 北病棟 | AC8: 南病棟 | AI8: 合計 | AO8: 総数
K9: 男性 | N9: 女性 | Q9: 男性 | T9: 女性 | W9: 男性 | Z9: 女性 | AC9: 男性 | AF9: 女性 | AI9: 男性 | AL9: 女性
D10: 任意入院 | AI10: =K10+Q10+W10+AC10 -> 0 | AL10: =N10+T10+Z10+AF10 -> 0 | AO10: =AI14 -> 0
D11: 医療保護入院 | AI11: =K11+Q11+W11+AC11 -> 0 | AL11: =N11+T11+Z11+AF11 -> 0
D12: 措置入院 | AI12: =K12+Q12+W12+AC12 -> 0 | AL12: =N12+T12+Z12+AF12 -> 0
D13: 合計 | K13: =SUM(K10:M12) -> 0 | N13: =SUM(N10:P12) -> 0 | Q13: =SUM(Q10:S12) -> 0 | T13: =SUM(T10:V12) -> 0 | W13: =SUM(W10:Y12) -> 0 | Z13: =SUM(Z10:AB12) -> 0 | AC13: =SUM(AC10:AE12) -> 0 | AF13: =SUM(AF10:AH12) -> 0 | AI13: =SUM(K13+Q13+W13+AC13) -> 0 | AL13: =SUM(N13+T13+Z13+AF13) -> 0 | AO13: 人
K14: =K13+N13 -> 0 | Q14: =Q13+T13 -> 0 | W14: =W13+Z13 -> 0 | AC14: =AC13+AF13 -> 0 | AI14: =AI13+AL13 -> 0
F15: 患者様氏名 | N15: 入院形態 | T15: 担当Dr | Y15: 担当SW | AD15: 病棟 | AJ15: 備考欄
D16: 入院 | L16: 様
L17: 様
L18: 様
L19: 様
L20: 様
D21: 退院 | L21: 様
L22: 様
L23: 様
L24: 様
L25: 様
D26: 転棟 ･ 入院形態変更 | L26: 様
L27: 様
L28: 様
L29: 様
L30: 様
A31: 患者様 関連 | D31: 患者様氏名 | K31: 担当Dr | P31: 病棟 | S31: 制限内容 | X31: 制限時間 | AC31: 開始日時 | AO31: 備考
I32: 様 | AC32: 令和 | AF32: 年 | AH32: 月 | AJ32: 日 | AL32: ： | AN32: ～
I33: 様 | AC33: 令和 | AF33: 年 | AH33: 月 | AJ33: 日 | AL33: ： | AN33: ～
I34: 様 | AC34: 令和 | AF34: 年 | AH34: 月 | AJ34: 日 | AL34: ： | AN34: ～
I35: 様 | AC35: 令和 | AF35: 年 | AH35: 月 | AJ35: 日 | AL35: ： | AN35: ～
I36: 様 | AC36: 令和 | AF36: 年 | AH36: 月 | AJ36: 日 | AL36: ： | AN36: ～
I37: 様 | AC37: 令和 | AF37: 年 | AH37: 月 | AJ37: 日 | AL37: ： | AN37: ～
I38: 様 | AC38: 令和 | AF38: 年 | AH38: 月 | AJ38: 日 | AL38: ： | AN38: ～
I39: 様 | AC39: 令和 | AF39: 年 | AH39: 月 | AJ39: 日 | AL39: ： | AN39: ～
I40: 様 | AC40: 令和 | AF40: 年 | AH40: 月 | AJ40: 日 | AL40: ： | AN40: ～
I41: 様 | AC41: 令和 | AF41: 年 | AH41: 月 | AJ41: 日 | AL41: ： | AN41: ～
I42: 様 | AC42: 令和 | AF42: 年 | AH42: 月 | AJ42: 日 | AL42: ： | AN42: ～
I43: 様 | AC43: 令和 | AF43: 年 | AH43: 月 | AJ43: 日 | AL43: ： | AN43: ～
... I46: 様 | AC46: 令和 | AF46: 年 | AH46: 月 | AJ46: 日 | AL46: ： | AN46: ～
A47: 業務 内容 | D47: 項目 | J47: 患者様氏名 | P47: 担当 | S47: 備考 | Y47: 項目 | AA47: 患者様氏名 | AG47: 内容 | AQ47: 担当
D48: 外 来 患 者 対 応 | F48: 外来患者 対応 | O48: 様 | Y48: 書 類 作 成 完 了 | AF48: 様
O49: 様 | AF49: 様
O50: 様 | AF50: 様
O51: 様 | AF51: 様
O52: 様 | AF52: 様
O53: 様 | AF53: 様
O54: 様 | AF54: 様
D55: 項目 | J55: 患者様氏名 | P55: 担当 | S55: 備考 | AF55: 様
D56: 入 退 院 支 援 | F56: 退院支援 | O56: 様 | AF56: 様
O57: 様 | AF57: 様
O58: 様 | Y58: 項目 | AG58: 件数 | AJ58: 担当 | AM58: 備考
O59: 様 | Y59: 電話対応 | AI59: 件
O60: 様 | Y60: 保健所への届出 | AI60: 件
F61: 退院請求 対応 | O61: 様 | Y61: 項目 | AG61: 内容
O62: 様 | Y62: 通院医療 観察法
F63: 入院患者 対応 | J63: 担当 | M63: 件数 | P63: 備考
O64: 件 | Y64: 認知症疾患 医療ｾﾝﾀｰ
O65: 件
O66: 件 | Y66: 各種会議参加 外部の業務
O67: 件
A68: 安全管理 | D68: 事故 | S68: 物品 購入 | AE68: 連絡 事項
D69: 苦情
D70: 紛失
D71: 他

Sheet 23
A1: ソーシャルワーカー室 業務日誌 | AH1: C.O.O | AL1: I.O.O | AP1: Ａ.Ｏ.Ｍ
H3: =曜日!B12 -> 令和7年 | M3: =曜日!C12 -> 7月 | P3: 23日 | S3: （ | T3: =曜日!D4 -> 水 | U3: ） | W3: 作成者 | Z3: ：
A5: 労務 状況 | D5: 勤務状況 | K5: 西舘 翔子 | T5: 大川 祥子 | AC5: 宇津木澤 育美 | AL5: 澤里 皓輝
K6: 安田 純子 | T6: 石鉢 佳代
A8: 入退院 状況 | D8: 入院形態 | K8: 東病棟 | Q8: 西病棟 | W8: 北病棟 | AC8: 南病棟 | AI8: 合計 | AO8: 総数
K9: 男性 | N9: 女性 | Q9: 男性 | T9: 女性 | W9: 男性 | Z9: 女性 | AC9: 男性 | AF9: 女性 | AI9: 男性 | AL9: 女性
D10: 任意入院 | AI10: =K10+Q10+W10+AC10 -> 0 | AL10: =N10+T10+Z10+AF10 -> 0 | AO10: =AI14 -> 0
D11: 医療保護入院 | AI11: =K11+Q11+W11+AC11 -> 0 | AL11: =N11+T11+Z11+AF11 -> 0
D12: 措置入院 | AI12: =K12+Q12+W12+AC12 -> 0 | AL12: =N12+T12+Z12+AF12 -> 0
D13: 合計 | K13: =SUM(K10:M12) -> 0 | N13: =SUM(N10:P12) -> 0 | Q13: =SUM(Q10:S12) -> 0 | T13: =SUM(T10:V12) -> 0 | W13: =SUM(W10:Y12) -> 0 | Z13: =SUM(Z10:AB12) -> 0 | AC13: =SUM(AC10:AE12) -> 0 | AF13: =SUM(AF10:AH12) -> 0 | AI13: =SUM(K13+Q13+W13+AC13) -> 0 | AL13: =SUM(N13+T13+Z13+AF13) -> 0 | AO13: 人
K14: =K13+N13 -> 0 | Q14: =Q13+T13 -> 0 | W14: =W13+Z13 -> 0 | AC14: =AC13+AF13 -> 0 | AI14: =AI13+AL13 -> 0
F15: 患者様氏名 | N15: 入院形態 | T15: 担当Dr | Y15: 担当SW | AD15: 病棟 | AJ15: 備考欄
D16: 入院 | L16: 様
L17: 様
L18: 様
L19: 様
L20: 様
D21: 退院 | L21: 様
L22: 様
L23: 様
L24: 様
L25: 様
D26: 転棟 ･ 入院形態変更 | L26: 様
L27: 様
L28: 様
L29: 様
L30: 様
A31: 患者様 関連 | D31: 患者様氏名 | K31: 担当Dr | P31: 病棟 | S31: 制限内容 | X31: 制限時間 | AC31: 開始日時 | AO31: 備考
I32: 様 | AC32: 令和 | AF32: 年 | AH32: 月 | AJ32: 日 | AL32: ： | AN32: ～
I33: 様 | AC33: 令和 | AF33: 年 | AH33: 月 | AJ33: 日 | AL33: ： | AN33: ～
I34: 様 | AC34: 令和 | AF34: 年 | AH34: 月 | AJ34: 日 | AL34: ： | AN34: ～
I35: 様 | AC35: 令和 | AF35: 年 | AH35: 月 | AJ35: 日 | AL35: ： | AN35: ～
I36: 様 | AC36: 令和 | AF36: 年 | AH36: 月 | AJ36: 日 | AL36: ： | AN36: ～
I37: 様 | AC37: 令和 | AF37: 年 | AH37: 月 | AJ37: 日 | AL37: ： | AN37: ～
I38: 様 | AC38: 令和 | AF38: 年 | AH38: 月 | AJ38: 日 | AL38: ： | AN38: ～
I39: 様 | AC39: 令和 | AF39: 年 | AH39: 月 | AJ39: 日 | AL39: ： | AN39: ～
I40: 様 | AC40: 令和 | AF40: 年 | AH40: 月 | AJ40: 日 | AL40: ： | AN40: ～
I41: 様 | AC41: 令和 | AF41: 年 | AH41: 月 | AJ41: 日 | AL41: ： | AN41: ～
I42: 様 | AC42: 令和 | AF42: 年 | AH42: 月 | AJ42: 日 | AL42: ： | AN42: ～
I43: 様 | AC43: 令和 | AF43: 年 | AH43: 月 | AJ43: 日 | AL43: ： | AN43: ～
... I46: 様 | AC46: 令和 | AF46: 年 | AH46: 月 | AJ46: 日 | AL46: ： | AN46: ～
A47: 業務 内容 | D47: 項目 | J47: 患者様氏名 | P47: 担当 | S47: 備考 | Y47: 項目 | AA47: 患者様氏名 | AG47: 内容 | AQ47: 担当
D48: 外 来 患 者 対 応 | F48: 外来患者 対応 | O48: 様 | Y48: 書 類 作 成 完 了 | AF48: 様
O49: 様 | AF49: 様
O50: 様 | AF50: 様
O51: 様 | AF51: 様
O52: 様 | AF52: 様
O53: 様 | AF53: 様
O54: 様 | AF54: 様
D55: 項目 | J55: 患者様氏名 | P55: 担当 | S55: 備考 | AF55: 様
D56: 入 退 院 支 援 | F56: 退院支援 | O56: 様 | AF56: 様
O57: 様 | AF57: 様
O58: 様 | Y58: 項目 | AG58: 件数 | AJ58: 担当 | AM58: 備考
O59: 様 | Y59: 電話対応 | AI59: 件
O60: 様 | Y60: 保健所への届出 | AI60: 件
F61: 退院請求 対応 | O61: 様 | Y61: 項目 | AG61: 内容
O62: 様 | Y62: 通院医療 観察法
F63: 入院患者 対応 | J63: 担当 | M63: 件数 | P63: 備考
O64: 件 | Y64: 認知症疾患 医療ｾﾝﾀｰ
O65: 件
O66: 件 | Y66: 各種会議参加 外部の業務
O67: 件
A68: 安全管理 | D68: 事故 | S68: 物品 購入 | AE68: 連絡 事項
D69: 苦情
D70: 紛失
D71: 他

Sheet 24
A1: ソーシャルワーカー室 業務日誌 | AH1: C.O.O | AL1: I.O.O | AP1: Ａ.Ｏ.Ｍ
H3: =曜日!B12 -> 令和7年 | M3: =曜日!C12 -> 7月 | P3: 24日 | S3: （ | T3: =曜日!D5 -> 木 | U3: ） | W3: 作成者 | Z3: ：
A5: 労務 状況 | D5: 勤務状況 | K5: 西舘 翔子 | T5: 大川 祥子 | AC5: 宇津木澤 育美 | AL5: 澤里 皓輝
K6: 安田 純子 | T6: 石鉢 佳代
A8: 入退院 状況 | D8: 入院形態 | K8: 東病棟 | Q8: 西病棟 | W8: 北病棟 | AC8: 南病棟 | AI8: 合計 | AO8: 総数
K9: 男性 | N9: 女性 | Q9: 男性 | T9: 女性 | W9: 男性 | Z9: 女性 | AC9: 男性 | AF9: 女性 | AI9: 男性 | AL9: 女性
D10: 任意入院 | AI10: =K10+Q10+W10+AC10 -> 0 | AL10: =N10+T10+Z10+AF10 -> 0 | AO10: =AI14 -> 0
D11: 医療保護入院 | AI11: =K11+Q11+W11+AC11 -> 0 | AL11: =N11+T11+Z11+AF11 -> 0
D12: 措置入院 | AI12: =K12+Q12+W12+AC12 -> 0 | AL12: =N12+T12+Z12+AF12 -> 0
D13: 合計 | K13: =SUM(K10:M12) -> 0 | N13: =SUM(N10:P12) -> 0 | Q13: =SUM(Q10:S12) -> 0 | T13: =SUM(T10:V12) -> 0 | W13: =SUM(W10:Y12) -> 0 | Z13: =SUM(Z10:AB12) -> 0 | AC13: =SUM(AC10:AE12) -> 0 | AF13: =SUM(AF10:AH12) -> 0 | AI13: =SUM(K13+Q13+W13+AC13) -> 0 | AL13: =SUM(N13+T13+Z13+AF13) -> 0 | AO13: 人
K14: =K13+N13 -> 0 | Q14: =Q13+T13 -> 0 | W14: =W13+Z13 -> 0 | AC14: =AC13+AF13 -> 0 | AI14: =AI13+AL13 -> 0
F15: 患者様氏名 | N15: 入院形態 | T15: 担当Dr | Y15: 担当SW | AD15: 病棟 | AJ15: 備考欄
D16: 入院 | L16: 様
L17: 様
L18: 様
L19: 様
L20: 様
D21: 退院 | L21: 様
L22: 様
L23: 様
L24: 様
L25: 様
D26: 転棟 ･ 入院形態変更 | L26: 様
L27: 様
L28: 様
L29: 様
L30: 様
A31: 患者様 関連 | D31: 患者様氏名 | K31: 担当Dr | P31: 病棟 | S31: 制限内容 | X31: 制限時間 | AC31: 開始日時 | AO31: 備考
I32: 様 | AC32: 令和 | AF32: 年 | AH32: 月 | AJ32: 日 | AL32: ： | AN32: ～
I33: 様 | AC33: 令和 | AF33: 年 | AH33: 月 | AJ33: 日 | AL33: ： | AN33: ～
I34: 様 | AC34: 令和 | AF34: 年 | AH34: 月 | AJ34: 日 | AL34: ： | AN34: ～
I35: 様 | AC35: 令和 | AF35: 年 | AH35: 月 | AJ35: 日 | AL35: ： | AN35: ～
I36: 様 | AC36: 令和 | AF36: 年 | AH36: 月 | AJ36: 日 | AL36: ： | AN36: ～
I37: 様 | AC37: 令和 | AF37: 年 | AH37: 月 | AJ37: 日 | AL37: ： | AN37: ～
I38: 様 | AC38: 令和 | AF38: 年 | AH38: 月 | AJ38: 日 | AL38: ： | AN38: ～
I39: 様 | AC39: 令和 | AF39: 年 | AH39: 月 | AJ39: 日 | AL39: ： | AN39: ～
I40: 様 | AC40: 令和 | AF40: 年 | AH40: 月 | AJ40: 日 | AL40: ： | AN40: ～
I41: 様 | AC41: 令和 | AF41: 年 | AH41: 月 | AJ41: 日 | AL41: ： | AN41: ～
I42: 様 | AC42: 令和 | AF42: 年 | AH42: 月 | AJ42: 日 | AL42: ： | AN42: ～
I43: 様 | AC43: 令和 | AF43: 年 | AH43: 月 | AJ43: 日 | AL43: ： | AN43: ～
... I46: 様 | AC46: 令和 | AF46: 年 | AH46: 月 | AJ46: 日 | AL46: ： | AN46: ～
A47: 業務 内容 | D47: 項目 | J47: 患者様氏名 | P47: 担当 | S47: 備考 | Y47: 項目 | AA47: 患者様氏名 | AG47: 内容 | AQ47: 担当
D48: 外 来 患 者 対 応 | F48: 外来患者 対応 | O48: 様 | Y48: 書 類 作 成 完 了 | AF48: 様
O49: 様 | AF49: 様
O50: 様 | AF50: 様
O51: 様 | AF51: 様
O52: 様 | AF52: 様
O53: 様 | AF53: 様
O54: 様 | AF54: 様
D55: 項目 | J55: 患者様氏名 | P55: 担当 | S55: 備考 | AF55: 様
D56: 入 退 院 支 援 | F56: 退院支援 | O56: 様 | AF56: 様
O57: 様 | AF57: 様
O58: 様 | Y58: 項目 | AG58: 件数 | AJ58: 担当 | AM58: 備考
O59: 様 | Y59: 電話対応 | AI59: 件
O60: 様 | Y60: 保健所への届出 | AI60: 件
F61: 退院請求 対応 | O61: 様 | Y61: 項目 | AG61: 内容
O62: 様 | Y62: 通院医療 観察法
F63: 入院患者 対応 | J63: 担当 | M63: 件数 | P63: 備考
O64: 件 | Y64: 認知症疾患 医療ｾﾝﾀｰ
O65: 件
O66: 件 | Y66: 各種会議参加 外部の業務
O67: 件
A68: 安全管理 | D68: 事故 | S68: 物品 購入 | AE68: 連絡 事項
D69: 苦情
D70: 紛失
D71: 他

Sheet 25
A1: ソーシャルワーカー室 業務日誌 | AH1: C.O.O | AL1: I.O.O | AP1: Ａ.Ｏ.Ｍ
H3: =曜日!B12 -> 令和7年 | M3: =曜日!C12 -> 7月 | P3: 25日 | S3: （ | T3: =曜日!D6 -> 金 | U3: ） | W3: 作成者 | Z3: ：
A5: 労務 状況 | D5: 勤務状況 | K5: 西舘 翔子 | T5: 大川 祥子 | AC5: 宇津木澤 育美 | AL5: 澤里 皓輝
K6: 安田 純子 | T6: 石鉢 佳代
A8: 入退院 状況 | D8: 入院形態 | K8: 東病棟 | Q8: 西病棟 | W8: 北病棟 | AC8: 南病棟 | AI8: 合計 | AO8: 総数
K9: 男性 | N9: 女性 | Q9: 男性 | T9: 女性 | W9: 男性 | Z9: 女性 | AC9: 男性 | AF9: 女性 | AI9: 男性 | AL9: 女性
D10: 任意入院 | AI10: =K10+Q10+W10+AC10 -> 0 | AL10: =N10+T10+Z10+AF10 -> 0 | AO10: =AI14 -> 0
D11: 医療保護入院 | AI11: =K11+Q11+W11+AC11 -> 0 | AL11: =N11+T11+Z11+AF11 -> 0
D12: 措置入院 | AI12: =K12+Q12+W12+AC12 -> 0 | AL12: =N12+T12+Z12+AF12 -> 0
D13: 合計 | K13: =SUM(K10:M12) -> 0 | N13: =SUM(N10:P12) -> 0 | Q13: =SUM(Q10:S12) -> 0 | T13: =SUM(T10:V12) -> 0 | W13: =SUM(W10:Y12) -> 0 | Z13: =SUM(Z10:AB12) -> 0 | AC13: =SUM(AC10:AE12) -> 0 | AF13: =SUM(AF10:AH12) -> 0 | AI13: =SUM(K13+Q13+W13+AC13) -> 0 | AL13: =SUM(N13+T13+Z13+AF13) -> 0 | AO13: 人
K14: =K13+N13 -> 0 | Q14: =Q13+T13 -> 0 | W14: =W13+Z13 -> 0 | AC14: =AC13+AF13 -> 0 | AI14: =AI13+AL13 -> 0
F15: 患者様氏名 | N15: 入院形態 | T15: 担当Dr | Y15: 担当SW | AD15: 病棟 | AJ15: 備考欄
D16: 入院 | L16: 様
L17: 様
L18: 様
L19: 様
L20: 様
D21: 退院 | L21: 様
L22: 様
L23: 様
L24: 様
L25: 様
D26: 転棟 ･ 入院形態変更 | L26: 様
L27: 様
L28: 様
L29: 様
L30: 様
A31: 患者様 関連 | D31: 患者様氏名 | K31: 担当Dr | P31: 病棟 | S31: 制限内容 | X31: 制限時間 | AC31: 開始日時 | AO31: 備考
I32: 様 | AC32: 令和 | AF32: 年 | AH32: 月 | AJ32: 日 | AL32: ： | AN32: ～
I33: 様 | AC33: 令和 | AF33: 年 | AH33: 月 | AJ33: 日 | AL33: ： | AN33: ～
I34: 様 | AC34: 令和 | AF34: 年 | AH34: 月 | AJ34: 日 | AL34: ： | AN34: ～
I35: 様 | AC35: 令和 | AF35: 年 | AH35: 月 | AJ35: 日 | AL35: ： | AN35: ～
I36: 様 | AC36: 令和 | AF36: 年 | AH36: 月 | AJ36: 日 | AL36: ： | AN36: ～
I37: 様 | AC37: 令和 | AF37: 年 | AH37: 月 | AJ37: 日 | AL37: ： | AN37: ～
I38: 様 | AC38: 令和 | AF38: 年 | AH38: 月 | AJ38: 日 | AL38: ： | AN38: ～
I39: 様 | AC39: 令和 | AF39: 年 | AH39: 月 | AJ39: 日 | AL39: ： | AN39: ～
I40: 様 | AC40: 令和 | AF40: 年 | AH40: 月 | AJ40: 日 | AL40: ： | AN40: ～
I41: 様 | AC41: 令和 | AF41: 年 | AH41: 月 | AJ41: 日 | AL41: ： | AN41: ～
I42: 様 | AC42: 令和 | AF42: 年 | AH42: 月 | AJ42: 日 | AL42: ： | AN42: ～
I43: 様 | AC43: 令和 | AF43: 年 | AH43: 月 | AJ43: 日 | AL43: ： | AN43: ～
... I46: 様 | AC46: 令和 | AF46: 年 | AH46: 月 | AJ46: 日 | AL46: ： | AN46: ～
A47: 業務 内容 | D47: 項目 | J47: 患者様氏名 | P47: 担当 | S47: 備考 | Y47: 項目 | AA47: 患者様氏名 | AG47: 内容 | AQ47: 担当
D48: 外 来 患 者 対 応 | F48: 外来患者 対応 | O48: 様 | Y48: 書 類 作 成 完 了 | AF48: 様
O49: 様 | AF49: 様
O50: 様 | AF50: 様
O51: 様 | AF51: 様
O52: 様 | AF52: 様
O53: 様 | AF53: 様
O54: 様 | AF54: 様
D55: 項目 | J55: 患者様氏名 | P55: 担当 | S55: 備考 | AF55: 様
D56: 入 退 院 支 援 | F56: 退院支援 | O56: 様 | AF56: 様
O57: 様 | AF57: 様
O58: 様 | Y58: 項目 | AG58: 件数 | AJ58: 担当 | AM58: 備考
O59: 様 | Y59: 電話対応 | AI59: 件
O60: 様 | Y60: 保健所への届出 | AI60: 件
F61: 退院請求 対応 | O61: 様 | Y61: 項目 | AG61: 内容
O62: 様 | Y62: 通院医療 観察法
F63: 入院患者 対応 | J63: 担当 | M63: 件数 | P63: 備考
O64: 件 | Y64: 認知症疾患 医療ｾﾝﾀｰ
O65: 件
O66: 件 | Y66: 各種会議参加 外部の業務
O67: 件
A68: 安全管理 | D68: 事故 | S68: 物品 購入 | AE68: 連絡 事項
D69: 苦情
D70: 紛失
D71: 他

Sheet 26
A1: ソーシャルワーカー室 業務日誌 | AH1: C.O.O | AL1: I.O.O | AP1: Ａ.Ｏ.Ｍ
H3: =曜日!B12 -> 令和7年 | M3: =曜日!C12 -> 7月 | P3: 26日 | S3: （ | T3: =曜日!D7 -> 土 | U3: ） | W3: 作成者 | Z3: ：
A5: 労務 状況 | D5: 勤務状況 | K5: 西舘 翔子 | T5: 大川 祥子 | AC5: 宇津木澤 育美 | AL5: 澤里 皓輝
K6: 安田 純子 | T6: 石鉢 佳代
A8: 入退院 状況 | D8: 入院形態 | K8: 東病棟 | Q8: 西病棟 | W8: 北病棟 | AC8: 南病棟 | AI8: 合計 | AO8: 総数
K9: 男性 | N9: 女性 | Q9: 男性 | T9: 女性 | W9: 男性 | Z9: 女性 | AC9: 男性 | AF9: 女性 | AI9: 男性 | AL9: 女性
D10: 任意入院 | AI10: =K10+Q10+W10+AC10 -> 0 | AL10: =N10+T10+Z10+AF10 -> 0 | AO10: =AI14 -> 0
D11: 医療保護入院 | AI11: =K11+Q11+W11+AC11 -> 0 | AL11: =N11+T11+Z11+AF11 -> 0
D12: 措置入院 | AI12: =K12+Q12+W12+AC12 -> 0 | AL12: =N12+T12+Z12+AF12 -> 0
D13: 合計 | K13: =SUM(K10:M12) -> 0 | N13: =SUM(N10:P12) -> 0 | Q13: =SUM(Q10:S12) -> 0 | T13: =SUM(T10:V12) -> 0 | W13: =SUM(W10:Y12) -> 0 | Z13: =SUM(Z10:AB12) -> 0 | AC13: =SUM(AC10:AE12) -> 0 | AF13: =SUM(AF10:AH12) -> 0 | AI13: =SUM(K13+Q13+W13+AC13) -> 0 | AL13: =SUM(N13+T13+Z13+AF13) -> 0 | AO13: 人
K14: =K13+N13 -> 0 | Q14: =Q13+T13 -> 0 | W14: =W13+Z13 -> 0 | AC14: =AC13+AF13 -> 0 | AI14: =AI13+AL13 -> 0
F15: 患者様氏名 | N15: 入院形態 | T15: 担当Dr | Y15: 担当SW | AD15: 病棟 | AJ15: 備考欄
D16: 入院 | L16: 様
L17: 様
L18: 様
L19: 様
L20: 様
D21: 退院 | L21: 様
L22: 様
L23: 様
L24: 様
L25: 様
D26: 転棟 ･ 入院形態変更 | L26: 様
L27: 様
L28: 様
L29: 様
L30: 様
A31: 患者様 関連 | D31: 患者様氏名 | K31: 担当Dr | P31: 病棟 | S31: 制限内容 | X31: 制限時間 | AC31: 開始日時 | AO31: 備考
I32: 様 | AC32: 令和 | AF32: 年 | AH32: 月 | AJ32: 日 | AL32: ： | AN32: ～
I33: 様 | AC33: 令和 | AF33: 年 | AH33: 月 | AJ33: 日 | AL33: ： | AN33: ～
I34: 様 | AC34: 令和 | AF34: 年 | AH34: 月 | AJ34: 日 | AL34: ： | AN34: ～
I35: 様 | AC35: 令和 | AF35: 年 | AH35: 月 | AJ35: 日 | AL35: ： | AN35: ～
I36: 様 | AC36: 令和 | AF36: 年 | AH36: 月 | AJ36: 日 | AL36: ： | AN36: ～
I37: 様 | AC37: 令和 | AF37: 年 | AH37: 月 | AJ37: 日 | AL37: ： | AN37: ～
I38: 様 | AC38: 令和 | AF38: 年 | AH38: 月 | AJ38: 日 | AL38: ： | AN38: ～
I39: 様 | AC39: 令和 | AF39: 年 | AH39: 月 | AJ39: 日 | AL39: ： | AN39: ～
I40: 様 | AC40: 令和 | AF40: 年 | AH40: 月 | AJ40: 日 | AL40: ： | AN40: ～
I41: 様 | AC41: 令和 | AF41: 年 | AH41: 月 | AJ41: 日 | AL41: ： | AN41: ～
I42: 様 | AC42: 令和 | AF42: 年 | AH42: 月 | AJ42: 日 | AL42: ： | AN42: ～
I43: 様 | AC43: 令和 | AF43: 年 | AH43: 月 | AJ43: 日 | AL43: ： | AN43: ～
... I46: 様 | AC46: 令和 | AF46: 年 | AH46: 月 | AJ46: 日 | AL46: ： | AN46: ～
A47: 業務 内容 | D47: 項目 | J47: 患者様氏名 | P47: 担当 | S47: 備考 | Y47: 項目 | AA47: 患者様氏名 | AG47: 内容 | AQ47: 担当
D48: 外 来 患 者 対 応 | F48: 外来患者 対応 | O48: 様 | Y48: 書 類 作 成 完 了 | AF48: 様
O49: 様 | AF49: 様
O50: 様 | AF50: 様
O51: 様 | AF51: 様
O52: 様 | AF52: 様
O53: 様 | AF53: 様
O54: 様 | AF54: 様
D55: 項目 | J55: 患者様氏名 | P55: 担当 | S55: 備考 | AF55: 様
D56: 入 退 院 支 援 | F56: 退院支援 | O56: 様 | AF56: 様
O57: 様 | AF57: 様
O58: 様 | Y58: 項目 | AG58: 件数 | AJ58: 担当 | AM58: 備考
O59: 様 | Y59: 電話対応 | AI59: 件
O60: 様 | Y60: 保健所への届出 | AI60: 件
F61: 退院請求 対応 | O61: 様 | Y61: 項目 | AG61: 内容
O62: 様 | Y62: 通院医療 観察法
F63: 入院患者 対応 | J63: 担当 | M63: 件数 | P63: 備考
O64: 件 | Y64: 認知症疾患 医療ｾﾝﾀｰ
O65: 件
O66: 件 | Y66: 各種会議参加 外部の業務
O67: 件
A68: 安全管理 | D68: 事故 | S68: 物品 購入 | AE68: 連絡 事項
D69: 苦情
D70: 紛失
D71: 他

Sheet 27
A1: ソーシャルワーカー室 業務日誌 | AH1: C.O.O | AL1: I.O.O | AP1: Ａ.Ｏ.Ｍ
H3: =曜日!B12 -> 令和7年 | M3: =曜日!C12 -> 7月 | P3: 27日 | S3: （ | T3: =曜日!D8 -> 日 | U3: ） | W3: 作成者 | Z3: ：
A5: 労務 状況 | D5: 勤務状況 | K5: 西舘 翔子 | T5: 大川 祥子 | AC5: 宇津木澤 育美 | AL5: 澤里 皓輝
K6: 安田 純子 | T6: 石鉢 佳代
A8: 入退院 状況 | D8: 入院形態 | K8: 東病棟 | Q8: 西病棟 | W8: 北病棟 | AC8: 南病棟 | AI8: 合計 | AO8: 総数
K9: 男性 | N9: 女性 | Q9: 男性 | T9: 女性 | W9: 男性 | Z9: 女性 | AC9: 男性 | AF9: 女性 | AI9: 男性 | AL9: 女性
D10: 任意入院 | AI10: =K10+Q10+W10+AC10 -> 0 | AL10: =N10+T10+Z10+AF10 -> 0 | AO10: =AI14 -> 0
D11: 医療保護入院 | AI11: =K11+Q11+W11+AC11 -> 0 | AL11: =N11+T11+Z11+AF11 -> 0
D12: 措置入院 | AI12: =K12+Q12+W12+AC12 -> 0 | AL12: =N12+T12+Z12+AF12 -> 0
D13: 合計 | K13: =SUM(K10:M12) -> 0 | N13: =SUM(N10:P12) -> 0 | Q13: =SUM(Q10:S12) -> 0 | T13: =SUM(T10:V12) -> 0 | W13: =SUM(W10:Y12) -> 0 | Z13: =SUM(Z10:AB12) -> 0 | AC13: =SUM(AC10:AE12) -> 0 | AF13: =SUM(AF10:AH12) -> 0 | AI13: =SUM(K13+Q13+W13+AC13) -> 0 | AL13: =SUM(N13+T13+Z13+AF13) -> 0 | AO13: 人
K14: =K13+N13 -> 0 | Q14: =Q13+T13 -> 0 | W14: =W13+Z13 -> 0 | AC14: =AC13+AF13 -> 0 | AI14: =AI13+AL13 -> 0
F15: 患者様氏名 | N15: 入院形態 | T15: 担当Dr | Y15: 担当SW | AD15: 病棟 | AJ15: 備考欄
D16: 入院 | L16: 様
L17: 様
L18: 様
L19: 様
L20: 様
D21: 退院 | L21: 様
L22: 様
L23: 様
L24: 様
L25: 様
D26: 転棟 ･ 入院形態変更 | L26: 様 | AJ26: 医保→任意
L27: 様
L28: 様
L29: 様
L30: 様
A31: 患者様 関連 | D31: 患者様氏名 | K31: 担当Dr | P31: 病棟 | S31: 制限内容 | X31: 制限時間 | AC31: 開始日時 | AO31: 備考
I32: 様 | AC32: 令和 | AF32: 年 | AH32: 月 | AJ32: 日 | AL32: ： | AN32: ～
I33: 様 | AC33: 令和 | AF33: 年 | AH33: 月 | AJ33: 日 | AL33: ： | AN33: ～
I34: 様 | AC34: 令和 | AF34: 年 | AH34: 月 | AJ34: 日 | AL34: ： | AN34: ～
I35: 様 | AC35: 令和 | AF35: 年 | AH35: 月 | AJ35: 日 | AL35: ： | AN35: ～
I36: 様 | AC36: 令和 | AF36: 年 | AH36: 月 | AJ36: 日 | AL36: ： | AN36: ～
I37: 様 | AC37: 令和 | AF37: 年 | AH37: 月 | AJ37: 日 | AL37: ： | AN37: ～
I38: 様 | AC38: 令和 | AF38: 年 | AH38: 月 | AJ38: 日 | AL38: ： | AN38: ～
I39: 様 | AC39: 令和 | AF39: 年 | AH39: 月 | AJ39: 日 | AL39: ： | AN39: ～
I40: 様 | AC40: 令和 | AF40: 年 | AH40: 月 | AJ40: 日 | AL40: ： | AN40: ～
I41: 様 | AC41: 令和 | AF41: 年 | AH41: 月 | AJ41: 日 | AL41: ： | AN41: ～
I42: 様 | AC42: 令和 | AF42: 年 | AH42: 月 | AJ42: 日 | AL42: ： | AN42: ～
I43: 様 | AC43: 令和 | AF43: 年 | AH43: 月 | AJ43: 日 | AL43: ： | AN43: ～
... I46: 様 | AC46: 令和 | AF46: 年 | AH46: 月 | AJ46: 日 | AL46: ： | AN46: ～
A47: 業務 内容 | D47: 項目 | J47: 患者様氏名 | P47: 担当 | S47: 備考 | Y47: 項目 | AA47: 患者様氏名 | AG47: 内容 | AQ47: 担当
D48: 外 来 患 者 対 応 | F48: 外来患者 対応 | O48: 様 | Y48: 書 類 作 成 完 了 | AF48: 様
O49: 様 | AF49: 様
O50: 様 | AF50: 様
O51: 様 | AF51: 様
O52: 様 | AF52: 様
O53: 様 | AF53: 様
O54: 様 | AF54: 様
D55: 項目 | J55: 患者様氏名 | P55: 担当 | S55: 備考 | AF55: 様
D56: 入 退 院 支 援 | F56: 退院支援 | O56: 様 | AF56: 様
O57: 様 | AF57: 様
O58: 様 | Y58: 項目 | AG58: 件数 | AJ58: 担当 | AM58: 備考
O59: 様 | Y59: 電話対応 | AI59: 件
O60: 様 | Y60: 保健所への届出 | AI60: 件
F61: 退院請求 対応 | O61: 様 | Y61: 項目 | AG61: 内容
O62: 様 | Y62: 通院医療 観察法
F63: 入院患者 対応 | J63: 担当 | M63: 件数 | P63: 備考
O64: 件 | Y64: 認知症疾患 医療ｾﾝﾀｰ
O65: 件
O66: 件 | Y66: 各種会議参加 外部の業務
O67: 件
A68: 安全管理 | D68: 事故 | S68: 物品 購入 | AE68: 連絡 事項
D69: 苦情
D70: 紛失
D71: 他

Sheet 28
A1: ソーシャルワーカー室 業務日誌 | AH1: C.O.O | AL1: I.O.O | AP1: Ａ.Ｏ.Ｍ
H3: =曜日!B12 -> 令和7年 | M3: =曜日!C12 -> 7月 | P3: 28日 | S3: （ | T3: =曜日!D9 -> 月 | U3: ） | W3: 作成者 | Z3: ：
A5: 労務 状況 | D5: 勤務状況 | K5: 西舘 翔子 | T5: 大川 祥子 | AC5: 宇津木澤 育美 | AL5: 澤里 皓輝
K6: 安田 純子 | T6: 石鉢 佳代
A8: 入退院 状況 | D8: 入院形態 | K8: 東病棟 | Q8: 西病棟 | W8: 北病棟 | AC8: 南病棟 | AI8: 合計 | AO8: 総数
K9: 男性 | N9: 女性 | Q9: 男性 | T9: 女性 | W9: 男性 | Z9: 女性 | AC9: 男性 | AF9: 女性 | AI9: 男性 | AL9: 女性
D10: 任意入院 | AI10: =K10+Q10+W10+AC10 -> 0 | AL10: =N10+T10+Z10+AF10 -> 0 | AO10: =AI14 -> 0
D11: 医療保護入院 | AI11: =K11+Q11+W11+AC11 -> 0 | AL11: =N11+T11+Z11+AF11 -> 0
D12: 措置入院 | AI12: =K12+Q12+W12+AC12 -> 0 | AL12: =N12+T12+Z12+AF12 -> 0
D13: 合計 | K13: =SUM(K10:M12) -> 0 | N13: =SUM(N10:P12) -> 0 | Q13: =SUM(Q10:S12) -> 0 | T13: =SUM(T10:V12) -> 0 | W13: =SUM(W10:Y12) -> 0 | Z13: =SUM(Z10:AB12) -> 0 | AC13: =SUM(AC10:AE12) -> 0 | AF13: =SUM(AF10:AH12) -> 0 | AI13: =SUM(K13+Q13+W13+AC13) -> 0 | AL13: =SUM(N13+T13+Z13+AF13) -> 0 | AO13: 人
K14: =K13+N13 -> 0 | Q14: =Q13+T13 -> 0 | W14: =W13+Z13 -> 0 | AC14: =AC13+AF13 -> 0 | AI14: =AI13+AL13 -> 0
F15: 患者様氏名 | N15: 入院形態 | T15: 担当Dr | Y15: 担当SW | AD15: 病棟 | AJ15: 備考欄
D16: 入院 | L16: 様
L17: 様
L18: 様
L19: 様
L20: 様
D21: 退院 | L21: 様
L22: 様
L23: 様
L24: 様
L25: 様
D26: 転棟 ･ 入院形態変更 | L26: 様
L27: 様
L28: 様
L29: 様
L30: 様
A31: 患者様 関連 | D31: 患者様氏名 | K31: 担当Dr | P31: 病棟 | S31: 制限内容 | X31: 制限時間 | AC31: 開始日時 | AO31: 備考
I32: 様 | AC32: 令和 | AF32: 年 | AH32: 月 | AJ32: 日 | AL32: ： | AN32: ～
I33: 様 | AC33: 令和 | AF33: 年 | AH33: 月 | AJ33: 日 | AL33: ： | AN33: ～
I34: 様 | AC34: 令和 | AF34: 年 | AH34: 月 | AJ34: 日 | AL34: ： | AN34: ～
I35: 様 | AC35: 令和 | AF35: 年 | AH35: 月 | AJ35: 日 | AL35: ： | AN35: ～
I36: 様 | AC36: 令和 | AF36: 年 | AH36: 月 | AJ36: 日 | AL36: ： | AN36: ～
I37: 様 | AC37: 令和 | AF37: 年 | AH37: 月 | AJ37: 日 | AL37: ： | AN37: ～
I38: 様 | AC38: 令和 | AF38: 年 | AH38: 月 | AJ38: 日 | AL38: ： | AN38: ～
I39: 様 | AC39: 令和 | AF39: 年 | AH39: 月 | AJ39: 日 | AL39: ： | AN39: ～
I40: 様 | AC40: 令和 | AF40: 年 | AH40: 月 | AJ40: 日 | AL40: ： | AN40: ～
I41: 様 | AC41: 令和 | AF41: 年 | AH41: 月 | AJ41: 日 | AL41: ： | AN41: ～
I42: 様 | AC42: 令和 | AF42: 年 | AH42: 月 | AJ42: 日 | AL42: ： | AN42: ～
I43: 様 | AC43: 令和 | AF43: 年 | AH43: 月 | AJ43: 日 | AL43: ： | AN43: ～
... I46: 様 | AC46: 令和 | AF46: 年 | AH46: 月 | AJ46: 日 | AL46: ： | AN46: ～
A47: 業務 内容 | D47: 項目 | J47: 患者様氏名 | P47: 担当 | S47: 備考 | Y47: 項目 | AA47: 患者様氏名 | AG47: 内容 | AQ47: 担当
D48: 外 来 患 者 対 応 | F48: 外来患者 対応 | O48: 様 | Y48: 書 類 作 成 完 了 | AF48: 様
O49: 様 | AF49: 様
O50: 様 | AF50: 様
O51: 様 | AF51: 様
O52: 様 | AF52: 様
O53: 様 | AF53: 様
O54: 様 | AF54: 様
D55: 項目 | J55: 患者様氏名 | P55: 担当 | S55: 備考 | AF55: 様
D56: 入 退 院 支 援 | F56: 退院支援 | O56: 様 | AF56: 様
O57: 様 | AF57: 様
O58: 様 | Y58: 項目 | AG58: 件数 | AJ58: 担当 | AM58: 備考
O59: 様 | Y59: 電話対応 | AI59: 件
O60: 様 | Y60: 保健所への届出 | AI60: 件
F61: 退院請求 対応 | O61: 様 | Y61: 項目 | AG61: 内容
O62: 様 | Y62: 通院医療 観察法
F63: 入院患者 対応 | J63: 担当 | M63: 件数 | P63: 備考
O64: 件 | Y64: 認知症疾患 医療ｾﾝﾀｰ
O65: 件
O66: 件 | Y66: 各種会議参加 外部の業務
O67: 件
A68: 安全管理 | D68: 事故 | S68: 物品 購入 | AE68: 連絡 事項
D69: 苦情
D70: 紛失
D71: 他

Sheet 29
A1: ソーシャルワーカー室 業務日誌 | AH1: C.O.O | AL1: I.O.O | AP1: Ａ.Ｏ.Ｍ
H3: =曜日!B12 -> 令和7年 | M3: =曜日!C12 -> 7月 | P3: 29日 | S3: （ | T3: =曜日!D3 -> 火 | U3: ） | W3: 作成者 | Z3: ：
A5: 労務 状況 | D5: 勤務状況 | K5: 西舘 翔子 | T5: 大川 祥子 | AC5: 宇津木澤 育美 | AL5: 澤里 皓輝
K6: 安田 純子 | T6: 石鉢 佳代
A8: 入退院 状況 | D8: 入院形態 | K8: 東病棟 | Q8: 西病棟 | W8: 北病棟 | AC8: 南病棟 | AI8: 合計 | AO8: 総数
K9: 男性 | N9: 女性 | Q9: 男性 | T9: 女性 | W9: 男性 | Z9: 女性 | AC9: 男性 | AF9: 女性 | AI9: 男性 | AL9: 女性
D10: 任意入院 | AI10: =K10+Q10+W10+AC10 -> 0 | AL10: =N10+T10+Z10+AF10 -> 0 | AO10: =AI14 -> 0
D11: 医療保護入院 | AI11: =K11+Q11+W11+AC11 -> 0 | AL11: =N11+T11+Z11+AF11 -> 0
D12: 措置入院 | AI12: =K12+Q12+W12+AC12 -> 0 | AL12: =N12+T12+Z12+AF12 -> 0
D13: 合計 | K13: =SUM(K10:M12) -> 0 | N13: =SUM(N10:P12) -> 0 | Q13: =SUM(Q10:S12) -> 0 | T13: =SUM(T10:V12) -> 0 | W13: =SUM(W10:Y12) -> 0 | Z13: =SUM(Z10:AB12) -> 0 | AC13: =SUM(AC10:AE12) -> 0 | AF13: =SUM(AF10:AH12) -> 0 | AI13: =SUM(K13+Q13+W13+AC13) -> 0 | AL13: =SUM(N13+T13+Z13+AF13) -> 0 | AO13: 人
K14: =K13+N13 -> 0 | Q14: =Q13+T13 -> 0 | W14: =W13+Z13 -> 0 | AC14: =AC13+AF13 -> 0 | AI14: =AI13+AL13 -> 0
F15: 患者様氏名 | N15: 入院形態 | T15: 担当Dr | Y15: 担当SW | AD15: 病棟 | AJ15: 備考欄
D16: 入院 | L16: 様
L17: 様
L18: 様
L19: 様
L20: 様
D21: 退院 | L21: 様
L22: 様
L23: 様
L24: 様
L25: 様
D26: 転棟 ･ 入院形態変更 | L26: 様
L27: 様
L28: 様
L29: 様
L30: 様
A31: 患者様 関連 | D31: 患者様氏名 | K31: 担当Dr | P31: 病棟 | S31: 制限内容 | X31: 制限時間 | AC31: 開始日時 | AO31: 備考
I32: 様 | AC32: 令和 | AF32: 年 | AH32: 月 | AJ32: 日 | AL32: ： | AN32: ～
I33: 様 | AC33: 令和 | AF33: 年 | AH33: 月 | AJ33: 日 | AL33: ： | AN33: ～
I34: 様 | AC34: 令和 | AF34: 年 | AH34: 月 | AJ34: 日 | AL34: ： | AN34: ～
I35: 様 | AC35: 令和 | AF35: 年 | AH35: 月 | AJ35: 日 | AL35: ： | AN35: ～
I36: 様 | AC36: 令和 | AF36: 年 | AH36: 月 | AJ36: 日 | AL36: ： | AN36: ～
I37: 様 | AC37: 令和 | AF37: 年 | AH37: 月 | AJ37: 日 | AL37: ： | AN37: ～
I38: 様 | AC38: 令和 | AF38: 年 | AH38: 月 | AJ38: 日 | AL38: ： | AN38: ～
I39: 様 | AC39: 令和 | AF39: 年 | AH39: 月 | AJ39: 日 | AL39: ： | AN39: ～
I40: 様 | AC40: 令和 | AF40: 年 | AH40: 月 | AJ40: 日 | AL40: ： | AN40: ～
I41: 様 | AC41: 令和 | AF41: 年 | AH41: 月 | AJ41: 日 | AL41: ： | AN41: ～
I42: 様 | AC42: 令和 | AF42: 年 | AH42: 月 | AJ42: 日 | AL42: ： | AN42: ～
I43: 様 | AC43: 令和 | AF43: 年 | AH43: 月 | AJ43: 日 | AL43: ： | AN43: ～
... I46: 様 | AC46: 令和 | AF46: 年 | AH46: 月 | AJ46: 日 | AL46: ： | AN46: ～
A47: 業務 内容 | D47: 項目 | J47: 患者様氏名 | P47: 担当 | S47: 備考 | Y47: 項目 | AA47: 患者様氏名 | AG47: 内容 | AQ47: 担当
D48: 外 来 患 者 対 応 | F48: 外来患者 対応 | O48: 様 | Y48: 書 類 作 成 完 了 | AF48: 様
O49: 様 | AF49: 様
O50: 様 | AF50: 様
O51: 様 | AF51: 様
O52: 様 | AF52: 様
O53: 様 | AF53: 様
O54: 様 | AF54: 様
D55: 項目 | J55: 患者様氏名 | P55: 担当 | S55: 備考 | AF55: 様
D56: 入 退 院 支 援 | F56: 退院支援 | O56: 様 | AF56: 様
O57: 様 | AF57: 様
O58: 様 | Y58: 項目 | AG58: 件数 | AJ58: 担当 | AM58: 備考
O59: 様 | Y59: 電話対応 | AI59: 件
O60: 様 | Y60: 保健所への届出 | AI60: 件
F61: 退院請求 対応 | O61: 様 | Y61: 項目 | AG61: 内容
O62: 様 | Y62: 通院医療 観察法
F63: 入院患者 対応 | J63: 担当 | M63: 件数 | P63: 備考
O64: 件 | Y64: 認知症疾患 医療ｾﾝﾀｰ
O65: 件
O66: 件 | Y66: 各種会議参加 外部の業務
O67: 件
A68: 安全管理 | D68: 事故 | S68: 物品 購入 | AE68: 連絡 事項
D69: 苦情
D70: 紛失
D71: 他

Sheet 30
A1: ソーシャルワーカー室 業務日誌 | AH1: C.O.O | AL1: I.O.O | AP1: Ａ.Ｏ.Ｍ
H3: =曜日!B12 -> 令和7年 | M3: =曜日!C12 -> 7月 | P3: 30日 | S3: （ | T3: =曜日!D4 -> 水 | U3: ） | W3: 作成者 | Z3: ：
A5: 労務 状況 | D5: 勤務状況 | K5: 西舘 翔子 | T5: 大川 祥子 | AC5: 宇津木澤 育美 | AL5: 澤里 皓輝
K6: 安田 純子 | T6: 石鉢 佳代
A8: 入退院 状況 | D8: 入院形態 | K8: 東病棟 | Q8: 西病棟 | W8: 北病棟 | AC8: 南病棟 | AI8: 合計 | AO8: 総数
K9: 男性 | N9: 女性 | Q9: 男性 | T9: 女性 | W9: 男性 | Z9: 女性 | AC9: 男性 | AF9: 女性 | AI9: 男性 | AL9: 女性
D10: 任意入院 | AI10: =K10+Q10+W10+AC10 -> 0 | AL10: =N10+T10+Z10+AF10 -> 0 | AO10: =AI14 -> 0
D11: 医療保護入院 | AI11: =K11+Q11+W11+AC11 -> 0 | AL11: =N11+T11+Z11+AF11 -> 0
D12: 措置入院 | AI12: =K12+Q12+W12+AC12 -> 0 | AL12: =N12+T12+Z12+AF12 -> 0
D13: 合計 | K13: =SUM(K10:M12) -> 0 | N13: =SUM(N10:P12) -> 0 | Q13: =SUM(Q10:S12) -> 0 | T13: =SUM(T10:V12) -> 0 | W13: =SUM(W10:Y12) -> 0 | Z13: =SUM(Z10:AB12) -> 0 | AC13: =SUM(AC10:AE12) -> 0 | AF13: =SUM(AF10:AH12) -> 0 | AI13: =SUM(K13+Q13+W13+AC13) -> 0 | AL13: =SUM(N13+T13+Z13+AF13) -> 0 | AO13: 人
K14: =K13+N13 -> 0 | Q14: =Q13+T13 -> 0 | W14: =W13+Z13 -> 0 | AC14: =AC13+AF13 -> 0 | AI14: =AI13+AL13 -> 0
F15: 患者様氏名 | N15: 入院形態 | T15: 担当Dr | Y15: 担当SW | AD15: 病棟 | AJ15: 備考欄
D16: 入院 | L16: 様
L17: 様
L18: 様
L19: 様
L20: 様
D21: 退院 | L21: 様
L22: 様
L23: 様
L24: 様
L25: 様
D26: 転棟 ･ 入院形態変更 | L26: 様
L27: 様
L28: 様
L29: 様
L30: 様
A31: 患者様 関連 | D31: 患者様氏名 | K31: 担当Dr | P31: 病棟 | S31: 制限内容 | X31: 制限時間 | AC31: 開始日時 | AO31: 備考
I32: 様 | AC32: 令和 | AF32: 年 | AH32: 月 | AJ32: 日 | AL32: ： | AN32: ～
I33: 様 | AC33: 令和 | AF33: 年 | AH33: 月 | AJ33: 日 | AL33: ： | AN33: ～
I34: 様 | AC34: 令和 | AF34: 年 | AH34: 月 | AJ34: 日 | AL34: ： | AN34: ～
I35: 様 | AC35: 令和 | AF35: 年 | AH35: 月 | AJ35: 日 | AL35: ： | AN35: ～
I36: 様 | AC36: 令和 | AF36: 年 | AH36: 月 | AJ36: 日 | AL36: ： | AN36: ～
I37: 様 | AC37: 令和 | AF37: 年 | AH37: 月 | AJ37: 日 | AL37: ： | AN37: ～
I38: 様 | AC38: 令和 | AF38: 年 | AH38: 月 | AJ38: 日 | AL38: ： | AN38: ～
I39: 様 | AC39: 令和 | AF39: 年 | AH39: 月 | AJ39: 日 | AL39: ： | AN39: ～
I40: 様 | AC40: 令和 | AF40: 年 | AH40: 月 | AJ40: 日 | AL40: ： | AN40: ～
I41: 様 | AC41: 令和 | AF41: 年 | AH41: 月 | AJ41: 日 | AL41: ： | AN41: ～
I42: 様 | AC42: 令和 | AF42: 年 | AH42: 月 | AJ42: 日 | AL42: ： | AN42: ～
I43: 様 | AC43: 令和 | AF43: 年 | AH43: 月 | AJ43: 日 | AL43: ： | AN43: ～
... I46: 様 | AC46: 令和 | AF46: 年 | AH46: 月 | AJ46: 日 | AL46: ： | AN46: ～
A47: 業務 内容 | D47: 項目 | J47: 患者様氏名 | P47: 担当 | S47: 備考 | Y47: 項目 | AA47: 患者様氏名 | AG47: 内容 | AQ47: 担当
D48: 外 来 患 者 対 応 | F48: 外来患者 対応 | O48: 様 | Y48: 書 類 作 成 完 了 | AF48: 様
O49: 様 | AF49: 様
O50: 様 | AF50: 様
O51: 様 | AF51: 様
O52: 様 | AF52: 様
O53: 様 | AF53: 様
O54: 様 | AF54: 様
D55: 項目 | J55: 患者様氏名 | P55: 担当 | S55: 備考 | AF55: 様
D56: 入 退 院 支 援 | F56: 退院支援 | O56: 様 | AF56: 様
O57: 様 | AF57: 様
O58: 様 | Y58: 項目 | AG58: 件数 | AJ58: 担当 | AM58: 備考
O59: 様 | Y59: 電話対応 | AI59: 件
O60: 様 | Y60: 保健所への届出 | AI60: 件
F61: 退院請求 対応 | O61: 様 | Y61: 項目 | AG61: 内容
O62: 様 | Y62: 通院医療 観察法
F63: 入院患者 対応 | J63: 担当 | M63: 件数 | P63: 備考
O64: 件 | Y64: 認知症疾患 医療ｾﾝﾀｰ
O65: 件
O66: 件 | Y66: 各種会議参加 外部の業務
O67: 件
A68: 安全管理 | D68: 事故 | S68: 物品 購入 | AE68: 連絡 事項
D69: 苦情
D70: 紛失
D71: 他

Sheet 31
A1: ソーシャルワーカー室 業務日誌 | AH1: C.O.O | AL1: I.O.O | AP1: Ａ.Ｏ.Ｍ
H3: =曜日!B12 -> 令和7年 | M3: =曜日!C12 -> 7月 | P3: 31日 | S3: （ | T3: =曜日!D5 -> 木 | U3: ） | W3: 作成者 | Z3: ：
A5: 労務 状況 | D5: 勤務状況 | K5: 西舘 翔子 | T5: 大川 祥子 | AC5: 宇津木澤 育美 | AL5: 澤里 皓輝
K6: 安田 純子 | T6: 石鉢 佳代
A8: 入退院 状況 | D8: 入院形態 | K8: 東病棟 | Q8: 西病棟 | W8: 北病棟 | AC8: 南病棟 | AI8: 合計 | AO8: 総数
K9: 男性 | N9: 女性 | Q9: 男性 | T9: 女性 | W9: 男性 | Z9: 女性 | AC9: 男性 | AF9: 女性 | AI9: 男性 | AL9: 女性
D10: 任意入院 | AI10: =K10+Q10+W10+AC10 -> 0 | AL10: =N10+T10+Z10+AF10 -> 0 | AO10: =AI14 -> 0
D11: 医療保護入院 | AI11: =K11+Q11+W11+AC11 -> 0 | AL11: =N11+T11+Z11+AF11 -> 0
D12: 措置入院 | AI12: =K12+Q12+W12+AC12 -> 0 | AL12: =N12+T12+Z12+AF12 -> 0
D13: 合計 | K13: =SUM(K10:M12) -> 0 | N13: =SUM(N10:P12) -> 0 | Q13: =SUM(Q10:S12) -> 0 | T13: =SUM(T10:V12) -> 0 | W13: =SUM(W10:Y12) -> 0 | Z13: =SUM(Z10:AB12) -> 0 | AC13: =SUM(AC10:AE12) -> 0 | AF13: =SUM(AF10:AH12) -> 0 | AI13: =SUM(K13+Q13+W13+AC13) -> 0 | AL13: =SUM(N13+T13+Z13+AF13) -> 0 | AO13: 人
K14: =K13+N13 -> 0 | Q14: =Q13+T13 -> 0 | W14: =W13+Z13 -> 0 | AC14: =AC13+AF13 -> 0 | AI14: =AI13+AL13 -> 0
F15: 患者様氏名 | N15: 入院形態 | T15: 担当Dr | Y15: 担当SW | AD15: 病棟 | AJ15: 備考欄
D16: 入院 | L16: 様
L17: 様
L18: 様
L19: 様
L20: 様
D21: 退院 | L21: 様
L22: 様
L23: 様
L24: 様
L25: 様
D26: 転棟 ･ 入院形態変更 | L26: 様
L27: 様
L28: 様
L29: 様
L30: 様
A31: 患者様 関連 | D31: 患者様氏名 | K31: 担当Dr | P31: 病棟 | S31: 制限内容 | X31: 制限時間 | AC31: 開始日時 | AO31: 備考
I32: 様 | AC32: 令和 | AF32: 年 | AH32: 月 | AJ32: 日 | AL32: ： | AN32: ～
I33: 様 | AC33: 令和 | AF33: 年 | AH33: 月 | AJ33: 日 | AL33: ： | AN33: ～
I34: 様 | AC34: 令和 | AF34: 年 | AH34: 月 | AJ34: 日 | AL34: ： | AN34: ～
I35: 様 | AC35: 令和 | AF35: 年 | AH35: 月 | AJ35: 日 | AL35: ： | AN35: ～
I36: 様 | AC36: 令和 | AF36: 年 | AH36: 月 | AJ36: 日 | AL36: ： | AN36: ～
I37: 様 | AC37: 令和 | AF37: 年 | AH37: 月 | AJ37: 日 | AL37: ： | AN37: ～
I38: 様 | AC38: 令和 | AF38: 年 | AH38: 月 | AJ38: 日 | AL38: ： | AN38: ～
I39: 様 | AC39: 令和 | AF39: 年 | AH39: 月 | AJ39: 日 | AL39: ： | AN39: ～
I40: 様 | AC40: 令和 | AF40: 年 | AH40: 月 | AJ40: 日 | AL40: ： | AN40: ～
I41: 様 | AC41: 令和 | AF41: 年 | AH41: 月 | AJ41: 日 | AL41: ： | AN41: ～
I42: 様 | AC42: 令和 | AF42: 年 | AH42: 月 | AJ42: 日 | AL42: ： | AN42: ～
I43: 様 | AC43: 令和 | AF43: 年 | AH43: 月 | AJ43: 日 | AL43: ： | AN43: ～
... I46: 様 | AC46: 令和 | AF46: 年 | AH46: 月 | AJ46: 日 | AL46: ： | AN46: ～
A47: 業務 内容 | D47: 項目 | J47: 患者様氏名 | P47: 担当 | S47: 備考 | Y47: 項目 | AA47: 患者様氏名 | AG47: 内容 | AQ47: 担当
D48: 外 来 患 者 対 応 | F48: 外来患者 対応 | O48: 様 | Y48: 書 類 作 成 完 了 | AF48: 様
O49: 様 | AF49: 様
O50: 様 | AF50: 様
O51: 様 | AF51: 様
O52: 様 | AF52: 様
O53: 様 | AF53: 様
O54: 様 | AF54: 様
D55: 項目 | J55: 患者様氏名 | P55: 担当 | S55: 備考 | AF55: 様
D56: 入 退 院 支 援 | F56: 退院支援 | O56: 様 | AF56: 様
O57: 様 | AF57: 様
O58: 様 | Y58: 項目 | AG58: 件数 | AJ58: 担当 | AM58: 備考
O59: 様 | Y59: 電話対応 | AI59: 件
O60: 様 | Y60: 保健所への届出 | AI60: 件
F61: 退院請求 対応 | O61: 様 | Y61: 項目 | AG61: 内容
O62: 様 | Y62: 通院医療 観察法
F63: 入院患者 対応 | J63: 担当 | M63: 件数 | P63: 備考
O64: 件 | Y64: 認知症疾患 医療ｾﾝﾀｰ
O65: 件
O66: 件 | Y66: 各種会議参加 外部の業務
O67: 件
A68: 安全管理 | D68: 事故 | S68: 物品 購入 | AE68: 連絡 事項
D69: 苦情
D70: 紛失
D71: 他

Sheet 曜日
B2: 曜 日 | F2: 説明書 その月の１日～７日までの曜日を黄色のセルに記入してください。 （例：１日が水曜日の月なら…… １日＝水 ２日＝木 ： ７日＝火
B3: 1日 | C3: = | D3: 火
B4: 2日 | C4: = | D4: 水 | E4: ←
B5: 3日 | C5: = | D5: 木 | AL5: 澤里 皓輝
B6: 4日 | C6: = | D6: 金
B7: 5日 | C7: = | D7: 土
B8: 6日 | C8: = | D8: 日
B9: 7日 | C9: = | D9: 月
B11: 年 月 | F11: 説明書 年・月を入れてください。
B12: 令和7年 | C12: 7月

Sheet Sheet1
AL5: 澤里 皓輝

Sheet Sheet2
AL5: 澤里 皓輝
