Workbook

Sheet 1
A1: ソーシャルワーカー室 業務日誌 | AH1: C.O.O | AL1: I.O.O | AP1: Ａ.Ｏ.Ｍ
H3: =曜日!B12 -> 令和6年 | M3: =曜日!C12 -> 11月 | P3: 1日 | S3: （ | T3: =曜日!D3 -> 金 | U3: ） | W3: 作成者 | Z3: ： | AA3: 安田 純子
A5: 労務 状況 | D5: 勤務状況 | K5: 西舘 翔子 | P5: 日勤 | T5: 大川 祥子 | Y5: 日勤 | AC5: 宇津木澤 育美 | AH5: 日勤 | AL5: 澤里 皓輝 | AP5: 日勤
K6: 石鉢 佳代 | P6: 日勤 | T6: 石鉢 佳代 | Y6: 日勤
A8: 入退院 状況 | D8: 入院形態 | K8: 東病棟 | Q8: 西病棟 | W8: 北病棟 | AC8: 南病棟 | AI8: 合計 | AO8: 総数
K9: 男性 | N9: 女性 | Q9: 男性 | T9: 女性 | W9: 男性 | Z9: 女性 | AC9: 男性 | AF9: 女性 | AI9: 男性 | AL9: 女性
D10: 任意入院 | K10: 5 | N10: 3 | Q10: 2 | T10: 4 | W10: 20 | Z10: 11 | AC10: 1 | AF10: 0 | AI10: =K10+Q10+W10+AC10 -> 28 | AL10: =N10+T10+Z10+AF10 -> 18 | AO10: =AI14 -> 181
D11: 医療保護入院 | K11: 14 | N11: 19 | Q11: 11 | T11: 29 | W11: 0 | Z11: 1 | AC11: 22 | AF11: 36 | AI11: =K11+Q11+W11+AC11 -> 47 | AL11: =N11+T11+Z11+AF11 -> 85
D12: 措置入院 | K12: 3 | N12: 0 | Q12: 0 | T12: 0 | W12: 0 | Z12: 0 | AC12: 0 | AF12: 0 | AI12: =K12+Q12+W12+AC12 -> 3 | AL12: =N12+T12+Z12+AF12 -> 0
D13: 合計 | K13: =SUM(K10:M12) -> 22 | N13: =SUM(N10:P12) -> 22 | Q13: =SUM(Q10:S12) -> 13 | T13: =SUM(T10:V12) -> 33 | W13: =SUM(W10:Y12) -> 20 | Z13: =SUM(Z10:AB12) -> 12 | AC13: =SUM(AC10:AE12) -> 23 | AF13: =SUM(AF10:AH12) -> 36 | AI13: =SUM(K13+Q13+W13+AC13) -> 78 | AL13: =SUM(N13+T13+Z13+AF13) -> 103 | AO13: 人
K14: =K13+N13 -> 44 | Q14: =Q13+T13 -> 46 | W14: =W13+Z13 -> 32 | AC14: =AC13+AF13 -> 59 | AI14: =AI13+AL13 -> 181
F15: 患者様氏名 | N15: 入院形態 | T15: 担当Dr | Y15: 担当SW | AD15: 病棟 | AJ15: 備考欄
D16: 入院 | F16: 内山 陽台 | L16: 様 | N16: 任意入院 | T16: 田名部茂Dr | Y16: 西舘 翔子 | AD16: 東A
F17: 田端 ハツエ | L17: 様 | N17: 医療保護入院 | T17: 柞木田なつみDr | Y17: 大川 祥子 | AD17: 東C
F18: 古比類巻 昇 | L18: 様 | N18: 措置入院 | T18: 深澤隆Dr | Y18: 澤里 皓輝 | AD18: 東A
L19: 様
L20: 様
D21: 退院 | F21: 片岡 キミ | L21: 様 | N21: 医療保護入院 | T21: 金泰德Dr | Y21: 大川 祥子 | AD21: 南B
F22: 松尾 陸奥彦 | L22: 様 | N22: 任意入院 | T22: 田名部茂Dr | Y22: 西舘 翔子 | AD22: 東D
L23: 様
L24: 様
L25: 様
D26: 転棟 ･ 入院形態変更 | F26: 豊田 享司 | L26: 様 | N26: 医療保護入院 | T26: 村上祐介Dr | Y26: 宇津木澤 育美 | AD26: 東C→南D
L27: 様
L28: 様
L29: 様
L30: 様
A31: 患者様 関連 | D31: 患者様氏名 | K31: 担当Dr | P31: 病棟 | S31: 制限内容 | X31: 制限時間 | AC31: 開始日時 | AO31: 備考
D32: 中村 聡 | I32: 様 | K32: 金泰徳Dr | P32: 東B | S32: 通信制限 | X32: 通信制限 | AC32: 令和 | AE32: 3 | AF32: 年 | AG32: 5 | AH32: 月 | AI32: 31 | AJ32: 日 | AL32: ： | AN32: ～
D33: 沼山 真紀子 | I33: 様 | K33: 金泰徳Dr | P33: 東A | S33: 通信制限 | X33: 通信制限 | AC33: 令和 | AE33: 5 | AF33: 年 | AG33: 2 | AH33: 月 | AI33: 16 | AJ33: 日 | AL33: ： | AN33: ～
D34: 風張 久美子 | I34: 様 | K34: 柞木田なつみDr | P34: 東A | S34: 通信制限 | X34: 通信制限 | AC34: 令和 | AE34: 6 | AF34: 年 | AG34: 3 | AH34: 月 | AI34: 4 | AJ34: 日 | AL34: ： | AN34: ～
D35: 袴田 将志 | I35: 様 | K35: 田名部茂Dr | P35: 東A | S35: 終日隔離 | X35: 終日隔離 | AC35: 令和 | AE35: 6 | AF35: 年 | AG35: 8 | AH35: 月 | AI35: 30 | AJ35: 日 | AL35: ： | AN35: ～
D36: 宮崎 宏之 | I36: 様 | K36: 馬渡晃弘Dr | P36: 東A | S36: 終日隔離 | X36: 終日隔離 | AC36: 令和 | AE36: 6 | AF36: 年 | AG36: 9 | AH36: 月 | AI36: 19 | AJ36: 日 | AL36: ： | AN36: ～
D37: 小栗 健太郎 | I37: 様 | K37: 田名部茂Dr | P37: 東A | S37: 終日隔離 | X37: 終日隔離 | AC37: 令和 | AE37: 6 | AF37: 年 | AG37: 10 | AH37: 月 | AI37: 24 | AJ37: 日 | AL37: ： | AN37: ～
I38: 様 | AC38: 令和 | AF38: 年 | AH38: 月 | AJ38: 日 | AL38: ： | AN38: ～
I39: 様 | AC39: 令和 | AF39: 年 | AH39: 月 | AJ39: 日 | AL39: ： | AN39: ～
I40: 様 | AC40: 令和 | AF40: 年 | AH40: 月 | AJ40: 日 | AL40: ： | AN40: ～
I41: 様 | AC41: 令和 | AF41: 年 | AH41: 月 | AJ41: 日 | AL41: ： | AN41: ～
I42: 様 | AC42: 令和 | AF42: 年 | AH42: 月 | AJ42: 日 | AL42: ： | AN42: ～
I43: 様 | AC43: 令和 | AF43: 年 | AH43: 月 | AJ43: 日 | AL43: ： | AN43: ～
I44: 様 | AC44: 令和 | AF44: 年 | AH44: 月 | AJ44: 日 | AL44: ： | AN44: ～
I45: 様 | AC45: 令和 | AF45: 年 | AH45: 月 | AJ45: 日 | AL45: ： | AN45: ～
I46: 様 | AC46: 令和 | AF46: 年 | AH46: 月 | AJ46: 日 | AL46: ： | AN46: ～
A47: 業務 内容 | D47: 項目 | J47: 患者様氏名 | P47: 担当 | S47: 備考 | Y47: 項目 | AA47: 患者様氏名 | AG47: 内容 | AQ47: 担当
D48: 外 来 患 者 対 応 | F48: 外来患者 対応 | O48: 様 | Y48: 書 類 作 成 完 了 | AF48: 様
O49: 様 | AF49: 様
O50: 様 | AF50: 様
O51: 様 | AF51: 様
O52: 様 | AF52: 様
O53: 様 | AF53: 様
O54: 様 | AF54: 様
D55: 項目 | J55: 患者様氏名 | P55: 担当 | S55: 備考 | AF55: 様
D56: 入 退 院 支 援 | F56: 退院支援 | O56: 様 | AF56: 様
O57: 様 | AF57: 様
O58: 様 | Y58: 項目 | AG58: 件数 | AJ58: 担当 | AM58: 備考
O59: 様 | Y59: 電話対応 | AI59: 件
O60: 様 | Y60: 保健所への届出 | AI60: 件
F61: 退院請求 対応 | O61: 様 | Y61: 項目 | AG61: 内容
O62: 様 | Y62: 通院医療 観察法
F63: 入院患者 対応 | J63: 担当 | M63: 件数 | P63: 備考
O64: 件 | Y64: 認知症疾患 医療ｾﾝﾀｰ
O65: 件
O66: 件 | Y66: 各種会議参加 外部の業務
O67: 件
A68: 安全管理 | D68: 事故 | S68: 物品 購入 | AE68: 連絡 事項
D69: 苦情
D70: 紛失
D71: 他

Sheet 2
A1: ソーシャルワーカー室 業務日誌 | AH1: C.O.O | AL1: I.O.O | AP1: Ａ.Ｏ.Ｍ
H3: =曜日!B12 -> 令和6年 | M3: =曜日!C12 -> 11月 | P3: 2日 | S3: （ | T3: =曜日!D4 -> 土 | U3: ） | W3: 作成者 | Z3: ： | AA3: 安田 純子
A5: 労務 状況 | D5: 勤務状況 | K5: 西舘 翔子 | P5: 日勤 | T5: 大川 祥子 | Y5: 公休 | AC5: 宇津木澤 育美 | AH5: 公休 | AL5: 澤里 皓輝 | AP5: 公休
K6: 安田 純子 | P6: 公休 | T6: 石鉢 佳代 | Y6: 公休
A8: 入退院 状況 | D8: 入院形態 | K8: 東病棟 | Q8: 西病棟 | W8: 北病棟 | AC8: 南病棟 | AI8: 合計 | AO8: 総数
K9: 男性 | N9: 女性 | Q9: 男性 | T9: 女性 | W9: 男性 | Z9: 女性 | AC9: 男性 | AF9: 女性 | AI9: 男性 | AL9: 女性
D10: 任意入院 | K10: 5 | N10: 3 | Q10: 1 | T10: 3 | W10: 20 | Z10: 11 | AC10: 1 | AF10: 0 | AI10: =K10+Q10+W10+AC10 -> 27 | AL10: =N10+T10+Z10+AF10 -> 17 | AO10: =AI14 -> 178
D11: 医療保護入院 | K11: 14 | N11: 18 | Q11: 11 | T11: 29 | W11: 0 | Z11: 1 | AC11: 22 | AF11: 36 | AI11: =K11+Q11+W11+AC11 -> 47 | AL11: =N11+T11+Z11+AF11 -> 84
D12: 措置入院 | K12: 3 | N12: 0 | Q12: 0 | T12: 0 | W12: 0 | Z12: 0 | AC12: 0 | AF12: 0 | AI12: =K12+Q12+W12+AC12 -> 3 | AL12: =N12+T12+Z12+AF12 -> 0
D13: 合計 | K13: =SUM(K10:M12) -> 22 | N13: =SUM(N10:P12) -> 21 | Q13: =SUM(Q10:S12) -> 12 | T13: =SUM(T10:V12) -> 32 | W13: =SUM(W10:Y12) -> 20 | Z13: =SUM(Z10:AB12) -> 12 | AC13: =SUM(AC10:AE12) -> 23 | AF13: =SUM(AF10:AH12) -> 36 | AI13: =SUM(K13+Q13+W13+AC13) -> 77 | AL13: =SUM(N13+T13+Z13+AF13) -> 101 | AO13: 人
K14: =K13+N13 -> 43 | Q14: =Q13+T13 -> 44 | W14: =W13+Z13 -> 32 | AC14: =AC13+AF13 -> 59 | AI14: =AI13+AL13 -> 178
F15: 患者様氏名 | N15: 入院形態 | T15: 担当Dr | Y15: 担当SW | AD15: 病棟 | AJ15: 備考欄
D16: 入院 | L16: 様
L17: 様
L18: 様
L19: 様
L20: 様
D21: 退院 | F21: 船越 勝 | L21: 様 | N21: 任意入院 | T21: 馬渡晃弘Dr | Y21: 西舘 翔子 | AD21: 西A
F22: 坂下 ミナ | L22: 様 | N22: 任意入院 | T22: 村上祐介Dr | Y22: 西舘 翔子 | AD22: 西A
F23: 中森 フミ | L23: 様 | N23: 医療保護入院 | T23: 村上祐介Dr | Y23: 大川 祥子 | AD23: 南A
L24: 様
L25: 様
D26: 転棟 ･ 入院形態変更 | F26: 大崎 キク | L26: 様 | N26: 医療保護入院 | T26: 深澤隆Dr | Y26: 宇津木澤 育美 | AD26: 東C→南A
L27: 様
L28: 様
L29: 様
L30: 様
A31: 患者様 関連 | D31: 患者様氏名 | K31: 担当Dr | P31: 病棟 | S31: 制限内容 | X31: 制限時間 | AC31: 開始日時 | AO31: 備考
D32: 中村 聡 | I32: 様 | K32: 金泰徳Dr | P32: 東B | S32: 通信制限 | X32: 通信制限 | AC32: 令和 | AE32: 3 | AF32: 年 | AG32: 5 | AH32: 月 | AI32: 31 | AJ32: 日 | AL32: ： | AN32: ～
D33: 沼山 真紀子 | I33: 様 | K33: 金泰徳Dr | P33: 東A | S33: 通信制限 | X33: 通信制限 | AC33: 令和 | AE33: 5 | AF33: 年 | AG33: 2 | AH33: 月 | AI33: 16 | AJ33: 日 | AL33: ： | AN33: ～
D34: 風張 久美子 | I34: 様 | K34: 柞木田なつみDr | P34: 東A | S34: 通信制限 | X34: 通信制限 | AC34: 令和 | AE34: 6 | AF34: 年 | AG34: 3 | AH34: 月 | AI34: 4 | AJ34: 日 | AL34: ： | AN34: ～
D35: 袴田 将志 | I35: 様 | K35: 田名部茂Dr | P35: 東A | S35: 終日隔離 | X35: 終日隔離 | AC35: 令和 | AE35: 6 | AF35: 年 | AG35: 8 | AH35: 月 | AI35: 30 | AJ35: 日 | AL35: ： | AN35: ～
D36: 宮崎 宏之 | I36: 様 | K36: 馬渡晃弘Dr | P36: 東A | S36: 終日隔離 | X36: 終日隔離 | AC36: 令和 | AE36: 6 | AF36: 年 | AG36: 9 | AH36: 月 | AI36: 19 | AJ36: 日 | AL36: ： | AN36: ～
D37: 小栗 健太郎 | I37: 様 | K37: 田名部茂Dr | P37: 東A | S37: 終日隔離 | X37: 終日隔離 | AC37: 令和 | AE37: 6 | AF37: 年 | AG37: 10 | AH37: 月 | AI37: 24 | AJ37: 日 | AL37: ： | AN37: ～
I38: 様 | AC38: 令和 | AF38: 年 | AH38: 月 | AJ38: 日 | AL38: ： | AN38: ～
I39: 様 | AC39: 令和 | AF39: 年 | AH39: 月 | AJ39: 日 | AL39: ： | AN39: ～
I40: 様 | AC40: 令和 | AF40: 年 | AH40: 月 | AJ40: 日 | AL40: ： | AN40: ～
I41: 様 | AC41: 令和 | AF41: 年 | AH41: 月 | AJ41: 日 | AL41: ： | AN41: ～
I42: 様 | AC42: 令和 | AF42: 年 | AH42: 月 | AJ42: 日 | AL42: ： | AN42: ～
I43: 様 | AC43: 令和 | AF43: 年 | AH43: 月 | AJ43: 日 | AL43: ： | AN43: ～
I44: 様 | AC44: 令和 | AF44: 年 | AH44: 月 | AJ44: 日 | AL44: ： | AN44: ～
I45: 様 | AC45: 令和 | AF45: 年 | AH45: 月 | AJ45: 日 | AL45: ： | AN45: ～
I46: 様 | AC46: 令和 | AF46: 年 | AH46: 月 | AJ46: 日 | AL46: ： | AN46: ～
A47: 業務 内容 | D47: 項目 | J47: 患者様氏名 | P47: 担当 | S47: 備考 | Y47: 項目 | AA47: 患者様氏名 | AG47: 内容 | AQ47: 担当
D48: 外 来 患 者 対 応 | F48: 外来患者 対応 | O48: 様 | Y48: 書 類 作 成 完 了 | AF48: 様
O49: 様 | AF49: 様
O50: 様 | AF50: 様
O51: 様 | AF51: 様
O52: 様 | AF52: 様
O53: 様 | AF53: 様
O54: 様 | AF54: 様
D55: 項目 | J55: 患者様氏名 | P55: 担当 | S55: 備考 | AF55: 様
D56: 入 退 院 支 援 | F56: 退院支援 | O56: 様 | AF56: 様
O57: 様 | AF57: 様
O58: 様 | Y58: 項目 | AG58: 件数 | AJ58: 担当 | AM58: 備考
O59: 様 | Y59: 電話対応 | AI59: 件
O60: 様 | Y60: 保健所への届出 | AI60: 件
F61: 退院請求 対応 | O61: 様 | Y61: 項目 | AG61: 内容
O62: 様 | Y62: 通院医療 観察法
F63: 入院患者 対応 | J63: 担当 | M63: 件数 | P63: 備考
O64: 件 | Y64: 認知症疾患 医療ｾﾝﾀｰ
O65: 件
O66: 件 | Y66: 各種会議参加 外部の業務
O67: 件
A68: 安全管理 | D68: 事故 | S68: 物品 購入 | AE68: 連絡 事項
D69: 苦情
D70: 紛失
D71: 他

Sheet 3
A1: ソーシャルワーカー室 業務日誌 | AH1: C.O.O | AL1: I.O.O | AP1: Ａ.Ｏ.Ｍ
H3: =曜日!B12 -> 令和6年 | M3: =曜日!C12 -> 11月 | P3: 3日 | S3: （ | T3: =曜日!D5 -> 日 | U3: ） | W3: 作成者 | Z3: ： | AA3: 西舘 翔子
A5: 労務 状況 | D5: 勤務状況 | K5: 西舘 翔子 | P5: 日勤 | T5: 大川 祥子 | Y5: 日勤 | AC5: 宇津木澤 育美 | AH5: 日勤 | AL5: 澤里 皓輝 | AP5: 日勤
K6: 安田 純子 | P6: 日勤 | T6: 石鉢 佳代 | Y6: 日勤
A8: 入退院 状況 | D8: 入院形態 | K8: 東病棟 | Q8: 西病棟 | W8: 北病棟 | AC8: 南病棟 | AI8: 合計 | AO8: 総数
K9: 男性 | N9: 女性 | Q9: 男性 | T9: 女性 | W9: 男性 | Z9: 女性 | AC9: 男性 | AF9: 女性 | AI9: 男性 | AL9: 女性
D10: 任意入院 | K10: 5 | N10: 3 | Q10: 1 | T10: 3 | W10: 20 | Z10: 11 | AC10: 1 | AF10: 0 | AI10: =K10+Q10+W10+AC10 -> 27 | AL10: =N10+T10+Z10+AF10 -> 17 | AO10: =AI14 -> 178
D11: 医療保護入院 | K11: 14 | N11: 18 | Q11: 11 | T11: 29 | W11: 0 | Z11: 1 | AC11: 22 | AF11: 36 | AI11: =K11+Q11+W11+AC11 -> 47 | AL11: =N11+T11+Z11+AF11 -> 84
D12: 措置入院 | K12: 3 | N12: 0 | Q12: 0 | T12: 0 | W12: 0 | Z12: 0 | AC12: 0 | AF12: 0 | AI12: =K12+Q12+W12+AC12 -> 3 | AL12: =N12+T12+Z12+AF12 -> 0
D13: 合計 | K13: =SUM(K10:M12) -> 22 | N13: =SUM(N10:P12) -> 21 | Q13: =SUM(Q10:S12) -> 12 | T13: =SUM(T10:V12) -> 32 | W13: =SUM(W10:Y12) -> 20 | Z13: =SUM(Z10:AB12) -> 12 | AC13: =SUM(AC10:AE12) -> 23 | AF13: =SUM(AF10:AH12) -> 36 | AI13: =SUM(K13+Q13+W13+AC13) -> 77 | AL13: =SUM(N13+T13+Z13+AF13) -> 101 | AO13: 人
K14: =K13+N13 -> 43 | Q14: =Q13+T13 -> 44 | W14: =W13+Z13 -> 32 | AC14: =AC13+AF13 -> 59 | AI14: =AI13+AL13 -> 178
F15: 患者様氏名 | N15: 入院形態 | T15: 担当Dr | Y15: 担当SW | AD15: 病棟 | AJ15: 備考欄
D16: 入院 | L16: 様
L17: 様
L18: 様
L19: 様
L20: 様
D21: 退院 | L21: 様
L22: 様
L23: 様
L24: 様
L25: 様
D26: 転棟 ･ 入院形態変更 | L26: 様
L27: 様
L28: 様
L29: 様
L30: 様
A31: 患者様 関連 | D31: 患者様氏名 | K31: 担当Dr | P31: 病棟 | S31: 制限内容 | X31: 制限時間 | AC31: 開始日時 | AO31: 備考
D32: 中村 聡 | I32: 様 | K32: 金泰徳Dr | P32: 東B | S32: 通信制限 | X32: 通信制限 | AC32: 令和 | AE32: 3 | AF32: 年 | AG32: 5 | AH32: 月 | AI32: 31 | AJ32: 日 | AL32: ： | AN32: ～
D33: 沼山 真紀子 | I33: 様 | K33: 金泰徳Dr | P33: 東A | S33: 通信制限 | X33: 通信制限 | AC33: 令和 | AE33: 5 | AF33: 年 | AG33: 2 | AH33: 月 | AI33: 16 | AJ33: 日 | AL33: ： | AN33: ～
D34: 風張 久美子 | I34: 様 | K34: 柞木田なつみDr | P34: 東A | S34: 通信制限 | X34: 通信制限 | AC34: 令和 | AE34: 6 | AF34: 年 | AG34: 3 | AH34: 月 | AI34: 4 | AJ34: 日 | AL34: ： | AN34: ～
D35: 袴田 将志 | I35: 様 | K35: 田名部茂Dr | P35: 東A | S35: 終日隔離 | X35: 終日隔離 | AC35: 令和 | AE35: 6 | AF35: 年 | AG35: 8 | AH35: 月 | AI35: 30 | AJ35: 日 | AL35: ： | AN35: ～
D36: 宮崎 宏之 | I36: 様 | K36: 馬渡晃弘Dr | P36: 東A | S36: 終日隔離 | X36: 終日隔離 | AC36: 令和 | AE36: 6 | AF36: 年 | AG36: 9 | AH36: 月 | AI36: 19 | AJ36: 日 | AL36: ： | AN36: ～
D37: 小栗 健太郎 | I37: 様 | K37: 田名部茂Dr | P37: 東A | S37: 終日隔離 | X37: 終日隔離 | AC37: 令和 | AE37: 6 | AF37: 年 | AG37: 10 | AH37: 月 | AI37: 24 | AJ37: 日 | AL37: ： | AN37: ～
I38: 様 | AC38: 令和 | AF38: 年 | AH38: 月 | AJ38: 日 | AL38: ： | AN38: ～
I39: 様 | AC39: 令和 | AF39: 年 | AH39: 月 | AJ39: 日 | AL39: ： | AN39: ～
I40: 様 | AC40: 令和 | AF40: 年 | AH40: 月 | AJ40: 日 | AL40: ： | AN40: ～
I41: 様 | AC41: 令和 | AF41: 年 | AH41: 月 | AJ41: 日 | AL41: ： | AN41: ～
I42: 様 | AC42: 令和 | AF42: 年 | AH42: 月 | AJ42: 日 | AL42: ： | AN42: ～
I43: 様 | AC43: 令和 | AF43: 年 | AH43: 月 | AJ43: 日 | AL43: ： | AN43: ～
I44: 様 | AC44: 令和 | AF44: 年 | AH44: 月 | AJ44: 日 | AL44: ： | AN44: ～
I45: 様 | AC45: 令和 | AF45: 年 | AH45: 月 | AJ45: 日 | AL45: ： | AN45: ～
I46: 様 | AC46: 令和 | AF46: 年 | AH46: 月 | AJ46: 日 | AL46: ： | AN46: ～
A47: 業務 内容 | D47: 項目 | J47: 患者様氏名 | P47: 担当 | S47: 備考 | Y47: 項目 | AA47: 患者様氏名 | AG47: 内容 | AQ47: 担当
D48: 外 来 患 者 対 応 | F48: 外来患者 対応 | O48: 様 | Y48: 書 類 作 成 完 了 | AF48: 様
O49: 様 | AF49: 様
O50: 様 | AF50: 様
O51: 様 | AF51: 様
O52: 様 | AF52: 様
O53: 様 | AF53: 様
O54: 様 | AF54: 様
D55: 項目 | J55: 患者様氏名 | P55: 担当 | S55: 備考 | AF55: 様
D56: 入 退 院 支 援 | F56: 退院支援 | O56: 様 | AF56: 様
O57: 様 | AF57: 様
O58: 様 | Y58: 項目 | AG58: 件数 | AJ58: 担当 | AM58: 備考
O59: 様 | Y59: 電話対応 | AI59: 件
O60: 様 | Y60: 保健所への届出 | AI60: 件
F61: 退院請求 対応 | O61: 様 | Y61: 項目 | AG61: 内容
O62: 様 | Y62: 通院医療 観察法
F63: 入院患者 対応 | J63: 担当 | M63: 件数 | P63: 備考
O64: 件 | Y64: 認知症疾患 医療ｾﾝﾀｰ
O65: 件
O66: 件 | Y66: 各種会議参加 外部の業務
O67: 件
A68: 安全管理 | D68: 事故 | S68: 物品 購入 | AE68: 連絡 事項
D69: 苦情
D70: 紛失
D71: 他

Sheet 4
A1: ソーシャルワーカー室 業務日誌 | AH1: C.O.O | AL1: I.O.O | AP1: Ａ.Ｏ.Ｍ
H3: =曜日!B12 -> 令和6年 | M3: =曜日!C12 -> 11月 | P3: 4日 | S3: （ | T3: =曜日!D6 -> 月 | U3: ） | W3: 作成者 | Z3: ： | AA3: 西舘 翔子
A5: 労務 状況 | D5: 勤務状況 | K5: 西舘 翔子 | P5: 公休 | T5: 大川 祥子 | Y5: 日勤 | AC5: 宇津木澤 育美 | AH5: 有給 | AL5: 澤里 皓輝 | AP5: 日勤
K6: 安田 純子 | P6: 日勤 | T6: 石鉢 佳代 | Y6: 日勤
A8: 入退院 状況 | D8: 入院形態 | K8: 東病棟 | Q8: 西病棟 | W8: 北病棟 | AC8: 南病棟 | AI8: 合計 | AO8: 総数
K9: 男性 | N9: 女性 | Q9: 男性 | T9: 女性 | W9: 男性 | Z9: 女性 | AC9: 男性 | AF9: 女性 | AI9: 男性 | AL9: 女性
D10: 任意入院 | K10: 5 | N10: 3 | Q10: 1 | T10: 3 | W10: 20 | Z10: 12 | AC10: 1 | AF10: 0 | AI10: =K10+Q10+W10+AC10 -> 27 | AL10: =N10+T10+Z10+AF10 -> 18 | AO10: =AI14 -> 180
D11: 医療保護入院 | K11: 15 | N11: 17 | Q11: 11 | T11: 29 | W11: 0 | Z11: 1 | AC11: 22 | AF11: 37 | AI11: =K11+Q11+W11+AC11 -> 48 | AL11: =N11+T11+Z11+AF11 -> 84
D12: 措置入院 | K12: 3 | N12: 0 | Q12: 0 | T12: 0 | W12: 0 | Z12: 0 | AC12: 0 | AF12: 0 | AI12: =K12+Q12+W12+AC12 -> 3 | AL12: =N12+T12+Z12+AF12 -> 0
D13: 合計 | K13: =SUM(K10:M12) -> 23 | N13: =SUM(N10:P12) -> 20 | Q13: =SUM(Q10:S12) -> 12 | T13: =SUM(T10:V12) -> 32 | W13: =SUM(W10:Y12) -> 20 | Z13: =SUM(Z10:AB12) -> 13 | AC13: =SUM(AC10:AE12) -> 23 | AF13: =SUM(AF10:AH12) -> 37 | AI13: =SUM(K13+Q13+W13+AC13) -> 78 | AL13: =SUM(N13+T13+Z13+AF13) -> 102 | AO13: 人
K14: =K13+N13 -> 43 | Q14: =Q13+T13 -> 44 | W14: =W13+Z13 -> 33 | AC14: =AC13+AF13 -> 60 | AI14: =AI13+AL13 -> 180
F15: 患者様氏名 | N15: 入院形態 | T15: 担当Dr | Y15: 担当SW | AD15: 病棟 | AJ15: 備考欄
D16: 入院 | F16: 本田 未来 | L16: 様 | N16: 任意入院 | T16: 金泰德Dr | Y16: 宇津木澤 育美 | AD16: 東D
F17: 石亀 猛 | L17: 様 | N17: 医療保護入院 | T17: 村上祐介Dr | Y17: 宇津木澤 育美 | AD17: 東A
L18: 様
L19: 様
L20: 様
D21: 退院 | L21: 様
L22: 様
L23: 様
L24: 様
L25: 様
D26: 転棟 ･ 入院形態変更 | F26: 片山 京子 | L26: 様 | N26: 医療保護入院 | T26: 小栁匡相Dr | Y26: 大川 祥子 | AD26: 東C→南A
F27: 山下 幸子 | L27: 様 | N27: 任意入院 | T27: 深澤隆Dr | Y27: 安田 純子 | AD27: 東A→北
L28: 様
L29: 様
L30: 様
A31: 患者様 関連 | D31: 患者様氏名 | K31: 担当Dr | P31: 病棟 | S31: 制限内容 | X31: 制限時間 | AC31: 開始日時 | AO31: 備考
D32: 中村 聡 | I32: 様 | K32: 金泰徳Dr | P32: 東B | S32: 通信制限 | X32: 通信制限 | AC32: 令和 | AE32: 3 | AF32: 年 | AG32: 5 | AH32: 月 | AI32: 31 | AJ32: 日 | AL32: ： | AN32: ～
D33: 沼山 真紀子 | I33: 様 | K33: 金泰徳Dr | P33: 東A | S33: 通信制限 | X33: 通信制限 | AC33: 令和 | AE33: 5 | AF33: 年 | AG33: 2 | AH33: 月 | AI33: 16 | AJ33: 日 | AL33: ： | AN33: ～
D34: 風張 久美子 | I34: 様 | K34: 柞木田なつみDr | P34: 東A | S34: 通信制限 | X34: 通信制限 | AC34: 令和 | AE34: 6 | AF34: 年 | AG34: 3 | AH34: 月 | AI34: 4 | AJ34: 日 | AL34: ： | AN34: ～
D35: 袴田 将志 | I35: 様 | K35: 田名部茂Dr | P35: 東A | S35: 終日隔離 | X35: 終日隔離 | AC35: 令和 | AE35: 6 | AF35: 年 | AG35: 8 | AH35: 月 | AI35: 30 | AJ35: 日 | AL35: ： | AN35: ～
D36: 宮崎 宏之 | I36: 様 | K36: 馬渡晃弘Dr | P36: 東A | S36: 終日隔離 | X36: 終日隔離 | AC36: 令和 | AE36: 6 | AF36: 年 | AG36: 9 | AH36: 月 | AI36: 19 | AJ36: 日 | AL36: ： | AN36: ～
D37: 小栗 健太郎 | I37: 様 | K37: 田名部茂Dr | P37: 東A | S37: 終日隔離 | X37: 終日隔離 | AC37: 令和 | AE37: 6 | AF37: 年 | AG37: 10 | AH37: 月 | AI37: 24 | AJ37: 日 | AL37: ： | AN37: ～
I38: 様 | AC38: 令和 | AF38: 年 | AH38: 月 | AJ38: 日 | AL38: ： | AN38: ～
I39: 様 | AC39: 令和 | AF39: 年 | AH39: 月 | AJ39: 日 | AL39: ： | AN39: ～
I40: 様 | AC40: 令和 | AF40: 年 | AH40: 月 | AJ40: 日 | AL40: ： | AN40: ～
I41: 様 | AC41: 令和 | AF41: 年 | AH41: 月 | AJ41: 日 | AL41: ： | AN41: ～
I42: 様 | AC42: 令和 | AF42: 年 | AH42: 月 | AJ42: 日 | AL42: ： | AN42: ～
I43: 様 | AC43: 令和 | AF43: 年 | AH43: 月 | AJ43: 日 | AL43: ： | AN43: ～
I44: 様 | AC44: 令和 | AF44: 年 | AH44: 月 | AJ44: 日 | AL44: ： | AN44: ～
I45: 様 | AC45: 令和 | AF45: 年 | AH45: 月 | AJ45: 日 | AL45: ： | AN45: ～
I46: 様 | AC46: 令和 | AF46: 年 | AH46: 月 | AJ46: 日 | AL46: ： | AN46: ～
A47: 業務 内容 | D47: 項目 | J47: 患者様氏名 | P47: 担当 | S47: 備考 | Y47: 項目 | AA47: 患者様氏名 | AG47: 内容 | AQ47: 担当
D48: 外 来 患 者 対 応 | F48: 外来患者 対応 | O48: 様 | Y48: 書 類 作 成 完 了 | AF48: 様
O49: 様 | AF49: 様
O50: 様 | AF50: 様
O51: 様 | AF51: 様
O52: 様 | AF52: 様
O53: 様 | AF53: 様
O54: 様 | AF54: 様
D55: 項目 | J55: 患者様氏名 | P55: 担当 | S55: 備考 | AF55: 様
D56: 入 退 院 支 援 | F56: 退院支援 | O56: 様 | AF56: 様
O57: 様 | AF57: 様
O58: 様 | Y58: 項目 | AG58: 件数 | AJ58: 担当 | AM58: 備考
O59: 様 | Y59: 電話対応 | AI59: 件
O60: 様 | Y60: 保健所への届出 | AI60: 件
F61: 退院請求 対応 | O61: 様 | Y61: 項目 | AG61: 内容
O62: 様 | Y62: 通院医療 観察法
F63: 入院患者 対応 | J63: 担当 | M63: 件数 | P63: 備考
O64: 件 | Y64: 認知症疾患 医療ｾﾝﾀｰ
O65: 件
O66: 件 | Y66: 各種会議参加 外部の業務
O67: 件
A68: 安全管理 | D68: 事故 | S68: 物品 購入 | AE68: 連絡 事項
D69: 苦情
D70: 紛失
D71: 他

Sheet 5
A1: ソーシャルワーカー室 業務日誌 | AH1: C.O.O | AL1: I.O.O | AP1: Ａ.Ｏ.Ｍ
H3: =曜日!B12 -> 令和6年 | M3: =曜日!C12 -> 11月 | P3: 5日 | S3: （ | T3: =曜日!D7 -> 火 | U3: ） | W3: 作成者 | Z3: ： | AA3: 西舘 翔子
A5: 労務 状況 | D5: 勤務状況 | K5: 西舘 翔子 | P5: 日勤 | T5: 大川 祥子 | Y5: 早退 | AC5: 宇津木澤 育美 | AH5: 日勤 | AL5: 澤里 皓輝 | AP5: 日勤
K6: 安田 純子 | P6: 公休 | T6: 石鉢 佳代 | Y6: 日勤
A8: 入退院 状況 | D8: 入院形態 | K8: 東病棟 | Q8: 西病棟 | W8: 北病棟 | AC8: 南病棟 | AI8: 合計 | AO8: 総数
K9: 男性 | N9: 女性 | Q9: 男性 | T9: 女性 | W9: 男性 | Z9: 女性 | AC9: 男性 | AF9: 女性 | AI9: 男性 | AL9: 女性
D10: 任意入院 | K10: 5 | N10: 3 | Q10: 1 | T10: 3 | W10: 20 | Z10: 12 | AC10: 1 | AF10: 0 | AI10: =K10+Q10+W10+AC10 -> 27 | AL10: =N10+T10+Z10+AF10 -> 18 | AO10: =AI14 -> 181
D11: 医療保護入院 | K11: 15 | N11: 18 | Q11: 11 | T11: 29 | W11: 0 | Z11: 1 | AC11: 22 | AF11: 36 | AI11: =K11+Q11+W11+AC11 -> 48 | AL11: =N11+T11+Z11+AF11 -> 84
D12: 措置入院 | K12: 4 | N12: 0 | Q12: 0 | T12: 0 | W12: 0 | Z12: 0 | AC12: 0 | AF12: 0 | AI12: =K12+Q12+W12+AC12 -> 4 | AL12: =N12+T12+Z12+AF12 -> 0
D13: 合計 | K13: =SUM(K10:M12) -> 24 | N13: =SUM(N10:P12) -> 21 | Q13: =SUM(Q10:S12) -> 12 | T13: =SUM(T10:V12) -> 32 | W13: =SUM(W10:Y12) -> 20 | Z13: =SUM(Z10:AB12) -> 13 | AC13: =SUM(AC10:AE12) -> 23 | AF13: =SUM(AF10:AH12) -> 36 | AI13: =SUM(K13+Q13+W13+AC13) -> 79 | AL13: =SUM(N13+T13+Z13+AF13) -> 102 | AO13: 人
K14: =K13+N13 -> 45 | Q14: =Q13+T13 -> 44 | W14: =W13+Z13 -> 33 | AC14: =AC13+AF13 -> 59 | AI14: =AI13+AL13 -> 181
F15: 患者様氏名 | N15: 入院形態 | T15: 担当Dr | Y15: 担当SW | AD15: 病棟 | AJ15: 備考欄
D16: 入院 | F16: 松原 義寿 | L16: 様 | N16: 措置入院 | T16: 田名部茂Dr | Y16: 宇津木澤 育美 | AD16: 東A
F17: 東山 加壽子 | L17: 様 | N17: 医療保護入院 | T17: 小栁匡相Dr | Y17: 宇津木澤 育美 | AD17: 東C
F18: 簗田 桜 | L18: 様 | N18: 医療保護入院 | T18: 馬渡晃弘Dr | Y18: 宇津木澤 育美 | AD18: 東A
L19: 様
L20: 様
D21: 退院 | F21: 大久保 すい | L21: 様 | N21: 医療保護入院 | T21: 小栁匡相Dr | Y21: 宇津木澤 育美 | AD21: 東合
F22: 越後 光枝 | L22: 様 | N22: 医療保護入院 | T22: 金泰德Dr | Y22: 大川 祥子 | AD22: 南B
L23: 様
L24: 様
L25: 様
D26: 転棟 ･ 入院形態変更 | L26: 様
L27: 様
L28: 様
L29: 様
L30: 様
A31: 患者様 関連 | D31: 患者様氏名 | K31: 担当Dr | P31: 病棟 | S31: 制限内容 | X31: 制限時間 | AC31: 開始日時 | AO31: 備考
D32: 中村 聡 | I32: 様 | K32: 金泰徳Dr | P32: 東B | S32: 通信制限 | X32: 通信制限 | AC32: 令和 | AE32: 3 | AF32: 年 | AG32: 5 | AH32: 月 | AI32: 31 | AJ32: 日 | AL32: ： | AN32: ～
D33: 沼山 真紀子 | I33: 様 | K33: 金泰徳Dr | P33: 東A | S33: 通信制限 | X33: 通信制限 | AC33: 令和 | AE33: 5 | AF33: 年 | AG33: 2 | AH33: 月 | AI33: 16 | AJ33: 日 | AL33: ： | AN33: ～
D34: 風張 久美子 | I34: 様 | K34: 柞木田なつみDr | P34: 東A | S34: 通信制限 | X34: 通信制限 | AC34: 令和 | AE34: 6 | AF34: 年 | AG34: 3 | AH34: 月 | AI34: 4 | AJ34: 日 | AL34: ： | AN34: ～
D35: 袴田 将志 | I35: 様 | K35: 田名部茂Dr | P35: 東A | S35: 終日隔離 | X35: 終日隔離 | AC35: 令和 | AE35: 6 | AF35: 年 | AG35: 8 | AH35: 月 | AI35: 30 | AJ35: 日 | AL35: ： | AN35: ～
D36: 宮崎 宏之 | I36: 様 | K36: 馬渡晃弘Dr | P36: 東A | S36: 終日隔離 | X36: 終日隔離 | AC36: 令和 | AE36: 6 | AF36: 年 | AG36: 9 | AH36: 月 | AI36: 19 | AJ36: 日 | AL36: ： | AN36: ～
D37: 小栗 健太郎 | I37: 様 | K37: 田名部茂Dr | P37: 東A | S37: 終日隔離 | X37: 終日隔離 | AC37: 令和 | AE37: 6 | AF37: 年 | AG37: 10 | AH37: 月 | AI37: 24 | AJ37: 日 | AL37: ： | AN37: ～
D38: 梁田 桜 | I38: 様 | K38: 馬渡晃弘Dr | P38: 東A | S38: 身体拘束 | X38: 身体拘束 | AC38: 令和 | AE38: 6 | AF38: 年 | AG38: 11 | AH38: 月 | AI38: 6 | AJ38: 日 | AL38: ： | AN38: ～ | AO38: 開始
I39: 様 | AC39: 令和 | AF39: 年 | AH39: 月 | AJ39: 日 | AL39: ： | AN39: ～
I40: 様 | AC40: 令和 | AF40: 年 | AH40: 月 | AJ40: 日 | AL40: ： | AN40: ～
I41: 様 | AC41: 令和 | AF41: 年 | AH41: 月 | AJ41: 日 | AL41: ： | AN41: ～
I42: 様 | AC42: 令和 | AF42: 年 | AH42: 月 | AJ42: 日 | AL42: ： | AN42: ～
I43: 様 | AC43: 令和 | AF43: 年 | AH43: 月 | AJ43: 日 | AL43: ： | AN43: ～
I44: 様 | AC44: 令和 | AF44: 年 | AH44: 月 | AJ44: 日 | AL44: ： | AN44: ～
I45: 様 | AC45: 令和 | AF45: 年 | AH45: 月 | AJ45: 日 | AL45: ： | AN45: ～
I46: 様 | AC46: 令和 | AF46: 年 | AH46: 月 | AJ46: 日 | AL46: ： | AN46: ～
A47: 業務 内容 | D47: 項目 | J47: 患者様氏名 | P47: 担当 | S47: 備考 | Y47: 項目 | AA47: 患者様氏名 | AG47: 内容 | AQ47: 担当
D48: 外 来 患 者 対 応 | F48: 外来患者 対応 | O48: 様 | Y48: 書 類 作 成 完 了 | AF48: 様
O49: 様 | AF49: 様
O50: 様 | AF50: 様
O51: 様 | AF51: 様
O52: 様 | AF52: 様
O53: 様 | AF53: 様
O54: 様 | AF54: 様
D55: 項目 | J55: 患者様氏名 | P55: 担当 | S55: 備考 | AF55: 様
D56: 入 退 院 支 援 | F56: 退院支援 | O56: 様 | AF56: 様
O57: 様 | AF57: 様
O58: 様 | Y58: 項目 | AG58: 件数 | AJ58: 担当 | AM58: 備考
O59: 様 | Y59: 電話対応 | AI59: 件
O60: 様 | Y60: 保健所への届出 | AI60: 件
F61: 退院請求 対応 | O61: 様 | Y61: 項目 | AG61: 内容
O62: 様 | Y62: 通院医療 観察法
F63: 入院患者 対応 | J63: 担当 | M63: 件数 | P63: 備考
O64: 件 | Y64: 認知症疾患 医療ｾﾝﾀｰ
O65: 件
O66: 件 | Y66: 各種会議参加 外部の業務
O67: 件
A68: 安全管理 | D68: 事故 | S68: 物品 購入 | AE68: 連絡 事項
D69: 苦情
D70: 紛失
D71: 他

Sheet 6
A1: ソーシャルワーカー室 業務日誌 | AH1: C.O.O | AL1: I.O.O | AP1: Ａ.Ｏ.Ｍ
H3: =曜日!B12 -> 令和6年 | M3: =曜日!C12 -> 11月 | P3: 6日 | S3: （ | T3: =曜日!D8 -> 水 | U3: ） | W3: 作成者 | Z3: ： | AA3: 西舘 翔子
A5: 労務 状況 | D5: 勤務状況 | K5: 西舘 翔子 | P5: 日勤 | T5: 大川 祥子 | Y5: 遅刻 | AC5: 宇津木澤 育美 | AH5: 公休 | AL5: 澤里 皓輝 | AP5: 日勤
K6: 安田 純子 | P6: 日勤 | T6: 石鉢 佳代 | Y6: 公休
A8: 入退院 状況 | D8: 入院形態 | K8: 東病棟 | Q8: 西病棟 | W8: 北病棟 | AC8: 南病棟 | AI8: 合計 | AO8: 総数
K9: 男性 | N9: 女性 | Q9: 男性 | T9: 女性 | W9: 男性 | Z9: 女性 | AC9: 男性 | AF9: 女性 | AI9: 男性 | AL9: 女性
D10: 任意入院 | K10: 5 | N10: 3 | Q10: 1 | T10: 3 | W10: 20 | Z10: 12 | AC10: 1 | AF10: 0 | AI10: =K10+Q10+W10+AC10 -> 27 | AL10: =N10+T10+Z10+AF10 -> 18 | AO10: =AI14 -> 180
D11: 医療保護入院 | K11: 15 | N11: 18 | Q11: 11 | T11: 29 | W11: 0 | Z11: 1 | AC11: 20 | AF11: 37 | AI11: =K11+Q11+W11+AC11 -> 46 | AL11: =N11+T11+Z11+AF11 -> 85
D12: 措置入院 | K12: 4 | N12: 0 | Q12: 0 | T12: 0 | W12: 0 | Z12: 0 | AC12: 0 | AF12: 0 | AI12: =K12+Q12+W12+AC12 -> 4 | AL12: =N12+T12+Z12+AF12 -> 0
D13: 合計 | K13: =SUM(K10:M12) -> 24 | N13: =SUM(N10:P12) -> 21 | Q13: =SUM(Q10:S12) -> 12 | T13: =SUM(T10:V12) -> 32 | W13: =SUM(W10:Y12) -> 20 | Z13: =SUM(Z10:AB12) -> 13 | AC13: =SUM(AC10:AE12) -> 21 | AF13: =SUM(AF10:AH12) -> 37 | AI13: =SUM(K13+Q13+W13+AC13) -> 77 | AL13: =SUM(N13+T13+Z13+AF13) -> 103 | AO13: 人
K14: =K13+N13 -> 45 | Q14: =Q13+T13 -> 44 | W14: =W13+Z13 -> 33 | AC14: =AC13+AF13 -> 58 | AI14: =AI13+AL13 -> 180
F15: 患者様氏名 | N15: 入院形態 | T15: 担当Dr | Y15: 担当SW | AD15: 病棟 | AJ15: 備考欄
D16: 入院 | F16: 小林 ヨシ | L16: 様 | N16: 医療保護入院 | T16: 小栁匡相Dr | Y16: 宇津木澤 育美 | AD16: 東C
L17: 様
L18: 様
L19: 様
L20: 様
D21: 退院 | F21: 城前 実 | L21: 様 | N21: 医療保護入院 | T21: 小栁匡相Dr | Y21: 大川 祥子 | AD21: 南C
F22: 高屋敷 正規 | L22: 様 | N22: 医療保護入院 | T22: 深澤隆Dr | Y22: 大川 祥子 | AD22: 南B
L23: 様
L24: 様
L25: 様
D26: 転棟 ･ 入院形態変更 | F26: 田端 ハツエ | L26: 様 | N26: 医療保護入院 | T26: 柞木田なつみDr | Y26: 大川 祥子 | AD26: 東C→南D
L27: 様
L28: 様
L29: 様
L30: 様
A31: 患者様 関連 | D31: 患者様氏名 | K31: 担当Dr | P31: 病棟 | S31: 制限内容 | X31: 制限時間 | AC31: 開始日時 | AO31: 備考
D32: 中村 聡 | I32: 様 | K32: 金泰徳Dr | P32: 東B | S32: 通信制限 | X32: 通信制限 | AC32: 令和 | AE32: 3 | AF32: 年 | AG32: 5 | AH32: 月 | AI32: 31 | AJ32: 日 | AL32: ： | AN32: ～
D33: 沼山 真紀子 | I33: 様 | K33: 金泰徳Dr | P33: 東A | S33: 通信制限 | X33: 通信制限 | AC33: 令和 | AE33: 5 | AF33: 年 | AG33: 2 | AH33: 月 | AI33: 16 | AJ33: 日 | AL33: ： | AN33: ～
D34: 風張 久美子 | I34: 様 | K34: 柞木田なつみDr | P34: 東A | S34: 通信制限 | X34: 通信制限 | AC34: 令和 | AE34: 6 | AF34: 年 | AG34: 3 | AH34: 月 | AI34: 4 | AJ34: 日 | AL34: ： | AN34: ～
D35: 袴田 将志 | I35: 様 | K35: 田名部茂Dr | P35: 東A | S35: 終日隔離 | X35: 終日隔離 | AC35: 令和 | AE35: 6 | AF35: 年 | AG35: 8 | AH35: 月 | AI35: 30 | AJ35: 日 | AL35: ： | AN35: ～
D36: 宮崎 宏之 | I36: 様 | K36: 馬渡晃弘Dr | P36: 東A | S36: 終日隔離 | X36: 終日隔離 | AC36: 令和 | AE36: 6 | AF36: 年 | AG36: 9 | AH36: 月 | AI36: 19 | AJ36: 日 | AL36: ： | AN36: ～
D37: 小栗 健太郎 | I37: 様 | K37: 田名部茂Dr | P37: 東A | S37: 終日隔離 | X37: 終日隔離 | AC37: 令和 | AE37: 6 | AF37: 年 | AG37: 10 | AH37: 月 | AI37: 24 | AJ37: 日 | AL37: ： | AN37: ～
D38: 梁田 桜 | I38: 様 | K38: 馬渡晃弘Dr | P38: 東A | S38: 身体拘束 | X38: 身体拘束 | AC38: 令和 | AE38: 6 | AF38: 年 | AG38: 11 | AH38: 月 | AI38: 6 | AJ38: 日 | AL38: ： | AN38: ～
I39: 様 | AC39: 令和 | AF39: 年 | AH39: 月 | AJ39: 日 | AL39: ： | AN39: ～
I40: 様 | AC40: 令和 | AF40: 年 | AH40: 月 | AJ40: 日 | AL40: ： | AN40: ～
I41: 様 | AC41: 令和 | AF41: 年 | AH41: 月 | AJ41: 日 | AL41: ： | AN41: ～
I42: 様 | AC42: 令和 | AF42: 年 | AH42: 月 | AJ42: 日 | AL42: ： | AN42: ～
I43: 様 | AC43: 令和 | AF43: 年 | AH43: 月 | AJ43: 日 | AL43: ： | AN43: ～
I44: 様 | AC44: 令和 | AF44: 年 | AH44: 月 | AJ44: 日 | AL44: ： | AN44: ～
I45: 様 | AC45: 令和 | AF45: 年 | AH45: 月 | AJ45: 日 | AL45: ： | AN45: ～
I46: 様 | AC46: 令和 | AF46: 年 | AH46: 月 | AJ46: 日 | AL46: ： | AN46: ～
A47: 業務 内容 | D47: 項目 | J47: 患者様氏名 | P47: 担当 | S47: 備考 | Y47: 項目 | AA47: 患者様氏名 | AG47: 内容 | AQ47: 担当
D48: 外 来 患 者 対 応 | F48: 外来患者 対応 | O48: 様 | Y48: 書 類 作 成 完 了 | AF48: 様
O49: 様 | AF49: 様
O50: 様 | AF50: 様
O51: 様 | AF51: 様
O52: 様 | AF52: 様
O53: 様 | AF53: 様
O54: 様 | AF54: 様
D55: 項目 | J55: 患者様氏名 | P55: 担当 | S55: 備考 | AF55: 様
D56: 入 退 院 支 援 | F56: 退院支援 | O56: 様 | AF56: 様
O57: 様 | AF57: 様
O58: 様 | Y58: 項目 | AG58: 件数 | AJ58: 担当 | AM58: 備考
O59: 様 | Y59: 電話対応 | AI59: 件
O60: 様 | Y60: 保健所への届出 | AI60: 件
F61: 退院請求 対応 | O61: 様 | Y61: 項目 | AG61: 内容
O62: 様 | Y62: 通院医療 観察法
F63: 入院患者 対応 | J63: 担当 | M63: 件数 | P63: 備考
O64: 件 | Y64: 認知症疾患 医療ｾﾝﾀｰ
O65: 件
O66: 件 | Y66: 各種会議参加 外部の業務
O67: 件
A68: 安全管理 | D68: 事故 | S68: 物品 購入 | AE68: 連絡 事項
D69: 苦情
D70: 紛失
D71: 他

Sheet 7
A1: ソーシャルワーカー室 業務日誌 | AH1: C.O.O | AL1: I.O.O | AP1: Ａ.Ｏ.Ｍ
H3: =曜日!B12 -> 令和6年 | M3: =曜日!C12 -> 11月 | P3: 7日 | S3: （ | T3: =曜日!D9 -> 木 | U3: ） | W3: 作成者 | Z3: ： | AA3: 西舘 翔子
A5: 労務 状況 | D5: 勤務状況 | K5: 西舘 翔子 | P5: 日勤 | T5: 大川 祥子 | Y5: 公休 | AC5: 宇津木澤 育美 | AH5: 日勤 | AL5: 澤里 皓輝 | AP5: 日勤
K6: 安田 純子 | P6: 日勤 | T6: 石鉢 佳代 | Y6: 日勤
A8: 入退院 状況 | D8: 入院形態 | K8: 東病棟 | Q8: 西病棟 | W8: 北病棟 | AC8: 南病棟 | AI8: 合計 | AO8: 総数
K9: 男性 | N9: 女性 | Q9: 男性 | T9: 女性 | W9: 男性 | Z9: 女性 | AC9: 男性 | AF9: 女性 | AI9: 男性 | AL9: 女性
D10: 任意入院 | K10: 3 | N10: 3 | Q10: 1 | T10: 3 | W10: 20 | Z10: 12 | AC10: 1 | AF10: 0 | AI10: =K10+Q10+W10+AC10 -> 25 | AL10: =N10+T10+Z10+AF10 -> 18 | AO10: =AI14 -> 178
D11: 医療保護入院 | K11: 15 | N11: 16 | Q11: 11 | T11: 29 | W11: 0 | Z11: 1 | AC11: 20 | AF11: 39 | AI11: =K11+Q11+W11+AC11 -> 46 | AL11: =N11+T11+Z11+AF11 -> 85
D12: 措置入院 | K12: 4 | N12: 0 | Q12: 0 | T12: 0 | W12: 0 | Z12: 0 | AC12: 0 | AF12: 0 | AI12: =K12+Q12+W12+AC12 -> 4 | AL12: =N12+T12+Z12+AF12 -> 0
D13: 合計 | K13: =SUM(K10:M12) -> 22 | N13: =SUM(N10:P12) -> 19 | Q13: =SUM(Q10:S12) -> 12 | T13: =SUM(T10:V12) -> 32 | W13: =SUM(W10:Y12) -> 20 | Z13: =SUM(Z10:AB12) -> 13 | AC13: =SUM(AC10:AE12) -> 21 | AF13: =SUM(AF10:AH12) -> 39 | AI13: =SUM(K13+Q13+W13+AC13) -> 75 | AL13: =SUM(N13+T13+Z13+AF13) -> 103 | AO13: 人
K14: =K13+N13 -> 41 | Q14: =Q13+T13 -> 44 | W14: =W13+Z13 -> 33 | AC14: =AC13+AF13 -> 60 | AI14: =AI13+AL13 -> 178
F15: 患者様氏名 | N15: 入院形態 | T15: 担当Dr | Y15: 担当SW | AD15: 病棟 | AJ15: 備考欄
D16: 入院 | F16: 高橋 三男 | L16: 様 | N16: 医療保護入院 | T16: 小栁匡相Dr | Y16: 宇津木澤 育美 | AD16: 東C
L17: 様
L18: 様
L19: 様
L20: 様
D21: 退院 | F21: 内田 勇三 | L21: 様 | N21: 医療保護入院 | T21: 深澤隆Dr | Y21: 宇津木澤 育美 | AD21: 東合
F22: 十日市 利喜 | L22: 様 | N22: 任意入院 | T22: 村上祐介Dr | Y22: 安田 純子 | AD22: 北
F23: 伊藤 誠 | L23: 様 | N23: 任意入院 | T23: 小栁匡相Dr | Y23: 宇津木澤 育美 | AD23: 東B
L24: 様
L25: 様
D26: 転棟 ･ 入院形態変更 | F26: 照井 紀子 | L26: 様 | N26: 医療保護入院 | Y26: 大川 祥子 | AD26: 東C→南B
F27: 押野見 とし子 | L27: 様 | N27: 医療保護入院 | Y27: 大川 祥子 | AD27: 東C→南C
F28: 赤石 陽介 | L28: 様 | N28: 任意入院 | T28: 田名部茂Dr | Y28: 安田 純子 | AD28: 東D→北
L29: 様
L30: 様
A31: 患者様 関連 | D31: 患者様氏名 | K31: 担当Dr | P31: 病棟 | S31: 制限内容 | X31: 制限時間 | AC31: 開始日時 | AO31: 備考
D32: 中村 聡 | I32: 様 | K32: 金泰徳Dr | P32: 東B | S32: 通信制限 | X32: 通信制限 | AC32: 令和 | AE32: 3 | AF32: 年 | AG32: 5 | AH32: 月 | AI32: 31 | AJ32: 日 | AL32: ： | AN32: ～
D33: 沼山 真紀子 | I33: 様 | K33: 金泰徳Dr | P33: 東A | S33: 通信制限 | X33: 通信制限 | AC33: 令和 | AE33: 5 | AF33: 年 | AG33: 2 | AH33: 月 | AI33: 16 | AJ33: 日 | AL33: ： | AN33: ～
D34: 風張 久美子 | I34: 様 | K34: 柞木田なつみDr | P34: 東A | S34: 通信制限 | X34: 通信制限 | AC34: 令和 | AE34: 6 | AF34: 年 | AG34: 3 | AH34: 月 | AI34: 4 | AJ34: 日 | AL34: ： | AN34: ～
D35: 袴田 将志 | I35: 様 | K35: 田名部茂Dr | P35: 東A | S35: 終日隔離 | X35: 終日隔離 | AC35: 令和 | AE35: 6 | AF35: 年 | AG35: 8 | AH35: 月 | AI35: 30 | AJ35: 日 | AL35: ： | AN35: ～
D36: 宮崎 宏之 | I36: 様 | K36: 馬渡晃弘Dr | P36: 東A | S36: 終日隔離 | X36: 終日隔離 | AC36: 令和 | AE36: 6 | AF36: 年 | AG36: 9 | AH36: 月 | AI36: 19 | AJ36: 日 | AL36: ： | AN36: ～
D37: 小栗 健太郎 | I37: 様 | K37: 田名部茂Dr | P37: 東A | S37: 終日隔離 | X37: 終日隔離 | AC37: 令和 | AE37: 6 | AF37: 年 | AG37: 10 | AH37: 月 | AI37: 24 | AJ37: 日 | AL37: ： | AN37: ～
D38: 梁田 桜 | I38: 様 | K38: 馬渡晃弘Dr | P38: 東A | S38: 身体拘束 | X38: 身体拘束 | AC38: 令和 | AE38: 6 | AF38: 年 | AG38: 11 | AH38: 月 | AI38: 6 | AJ38: 日 | AL38: ： | AN38: ～
D39: 金沢 友昌 | I39: 様 | K39: 柞木田なつみDr | P39: 東合 | S39: 身体拘束 | X39: 身体拘束 | AC39: 令和 | AE39: 6 | AF39: 年 | AG39: 11 | AH39: 月 | AI39: 7 | AJ39: 日 | AL39: ： | AN39: ～ | AO39: 開始
I40: 様 | AC40: 令和 | AF40: 年 | AH40: 月 | AJ40: 日 | AL40: ： | AN40: ～
I41: 様 | AC41: 令和 | AF41: 年 | AH41: 月 | AJ41: 日 | AL41: ： | AN41: ～
I42: 様 | AC42: 令和 | AF42: 年 | AH42: 月 | AJ42: 日 | AL42: ： | AN42: ～
I43: 様 | AC43: 令和 | AF43: 年 | AH43: 月 | AJ43: 日 | AL43: ： | AN43: ～
I44: 様 | AC44: 令和 | AF44: 年 | AH44: 月 | AJ44: 日 | AL44: ： | AN44: ～
I45: 様 | AC45: 令和 | AF45: 年 | AH45: 月 | AJ45: 日 | AL45: ： | AN45: ～
I46: 様 | AC46: 令和 | AF46: 年 | AH46: 月 | AJ46: 日 | AL46: ： | AN46: ～
A47: 業務 内容 | D47: 項目 | J47: 患者様氏名 | P47: 担当 | S47: 備考 | Y47: 項目 | AA47: 患者様氏名 | AG47: 内容 | AQ47: 担当
D48: 外 来 患 者 対 応 | F48: 外来患者 対応 | O48: 様 | Y48: 書 類 作 成 完 了 | AF48: 様
O49: 様 | AF49: 様
O50: 様 | AF50: 様
O51: 様 | AF51: 様
O52: 様 | AF52: 様
O53: 様 | AF53: 様
O54: 様 | AF54: 様
D55: 項目 | J55: 患者様氏名 | P55: 担当 | S55: 備考 | AF55: 様
D56: 入 退 院 支 援 | F56: 退院支援 | O56: 様 | AF56: 様
O57: 様 | AF57: 様
O58: 様 | Y58: 項目 | AG58: 件数 | AJ58: 担当 | AM58: 備考
O59: 様 | Y59: 電話対応 | AI59: 件
O60: 様 | Y60: 保健所への届出 | AI60: 件
F61: 退院請求 対応 | O61: 様 | Y61: 項目 | AG61: 内容
O62: 様 | Y62: 通院医療 観察法
F63: 入院患者 対応 | J63: 担当 | M63: 件数 | P63: 備考
O64: 件 | Y64: 認知症疾患 医療ｾﾝﾀｰ
O65: 件
O66: 件 | Y66: 各種会議参加 外部の業務
O67: 件
A68: 安全管理 | D68: 事故 | S68: 物品 購入 | AE68: 連絡 事項
D69: 苦情
D70: 紛失
D71: 他

Sheet 8
A1: ソーシャルワーカー室 業務日誌 | AH1: C.O.O | AL1: I.O.O | AP1: Ａ.Ｏ.Ｍ
H3: =曜日!B12 -> 令和6年 | M3: =曜日!C12 -> 11月 | P3: 8日 | S3: （ | T3: =曜日!D3 -> 金 | U3: ） | W3: 作成者 | Z3: ： | AA3: 西舘 翔子
A5: 労務 状況 | D5: 勤務状況 | K5: 西舘 翔子 | P5: 日勤 | T5: 大川 祥子 | Y5: 日勤 | AC5: 宇津木澤 育美 | AH5: 日勤 | AL5: 澤里 皓輝 | AP5: 公休
K6: 安田 純子 | P6: 日勤 | T6: 石鉢 佳代 | Y6: 日勤
A8: 入退院 状況 | D8: 入院形態 | K8: 東病棟 | Q8: 西病棟 | W8: 北病棟 | AC8: 南病棟 | AI8: 合計 | AO8: 総数
K9: 男性 | N9: 女性 | Q9: 男性 | T9: 女性 | W9: 男性 | Z9: 女性 | AC9: 男性 | AF9: 女性 | AI9: 男性 | AL9: 女性
D10: 任意入院 | K10: 3 | N10: 3 | Q10: 1 | T10: 3 | W10: 20 | Z10: 12 | AC10: 1 | AF10: 0 | AI10: =K10+Q10+W10+AC10 -> 25 | AL10: =N10+T10+Z10+AF10 -> 18 | AO10: =AI14 -> 179
D11: 医療保護入院 | K11: 16 | N11: 17 | Q11: 11 | T11: 28 | W11: 0 | Z11: 1 | AC11: 20 | AF11: 39 | AI11: =K11+Q11+W11+AC11 -> 47 | AL11: =N11+T11+Z11+AF11 -> 85
D12: 措置入院 | K12: 4 | N12: 0 | Q12: 0 | T12: 0 | W12: 0 | Z12: 0 | AC12: 0 | AF12: 0 | AI12: =K12+Q12+W12+AC12 -> 4 | AL12: =N12+T12+Z12+AF12 -> 0
D13: 合計 | K13: =SUM(K10:M12) -> 23 | N13: =SUM(N10:P12) -> 20 | Q13: =SUM(Q10:S12) -> 12 | T13: =SUM(T10:V12) -> 31 | W13: =SUM(W10:Y12) -> 20 | Z13: =SUM(Z10:AB12) -> 13 | AC13: =SUM(AC10:AE12) -> 21 | AF13: =SUM(AF10:AH12) -> 39 | AI13: =SUM(K13+Q13+W13+AC13) -> 76 | AL13: =SUM(N13+T13+Z13+AF13) -> 103 | AO13: 人
K14: =K13+N13 -> 43 | Q14: =Q13+T13 -> 43 | W14: =W13+Z13 -> 33 | AC14: =AC13+AF13 -> 60 | AI14: =AI13+AL13 -> 179
F15: 患者様氏名 | N15: 入院形態 | T15: 担当Dr | Y15: 担当SW | AD15: 病棟 | AJ15: 備考欄
D16: 入院 | F16: 庭田 昇二 | L16: 様 | N16: 医療保護入院 | T16: 馬渡晃弘Dr | Y16: 宇津木澤 育美 | AD16: 東C
F17: 梅津 美帆 | L17: 様 | N17: 医療保護入院 | T17: 柞木田なつみDr | Y17: 宇津木澤 育美 | AD17: 東D
L18: 様
L19: 様
L20: 様
D21: 退院 | F21: 二部 奈乃華 | L21: 様 | N21: 医療保護入院 | T21: 小栁匡相Dr | Y21: 澤里 皓輝 | AD21: 西B
L22: 様
L23: 様
L24: 様
L25: 様
D26: 転棟 ･ 入院形態変更 | L26: 様
L27: 様
L28: 様
L29: 様
L30: 様
A31: 患者様 関連 | D31: 患者様氏名 | K31: 担当Dr | P31: 病棟 | S31: 制限内容 | X31: 制限時間 | AC31: 開始日時 | AO31: 備考
D32: 中村 聡 | I32: 様 | K32: 金泰徳Dr | P32: 東B | S32: 通信制限 | X32: 通信制限 | AC32: 令和 | AE32: 3 | AF32: 年 | AG32: 5 | AH32: 月 | AI32: 31 | AJ32: 日 | AL32: ： | AN32: ～
D33: 沼山 真紀子 | I33: 様 | K33: 金泰徳Dr | P33: 東A | S33: 通信制限 | X33: 通信制限 | AC33: 令和 | AE33: 5 | AF33: 年 | AG33: 2 | AH33: 月 | AI33: 16 | AJ33: 日 | AL33: ： | AN33: ～
D34: 風張 久美子 | I34: 様 | K34: 柞木田なつみDr | P34: 東A | S34: 通信制限 | X34: 通信制限 | AC34: 令和 | AE34: 6 | AF34: 年 | AG34: 3 | AH34: 月 | AI34: 4 | AJ34: 日 | AL34: ： | AN34: ～
D35: 袴田 将志 | I35: 様 | K35: 田名部茂Dr | P35: 東A | S35: 終日隔離 | X35: 終日隔離 | AC35: 令和 | AE35: 6 | AF35: 年 | AG35: 8 | AH35: 月 | AI35: 30 | AJ35: 日 | AL35: ： | AN35: ～
D36: 宮崎 宏之 | I36: 様 | K36: 馬渡晃弘Dr | P36: 東A | S36: 終日隔離 | X36: 終日隔離 | AC36: 令和 | AE36: 6 | AF36: 年 | AG36: 9 | AH36: 月 | AI36: 19 | AJ36: 日 | AL36: ： | AN36: ～
D37: 小栗 健太郎 | I37: 様 | K37: 田名部茂Dr | P37: 東A | S37: 終日隔離 | X37: 終日隔離 | AC37: 令和 | AE37: 6 | AF37: 年 | AG37: 10 | AH37: 月 | AI37: 24 | AJ37: 日 | AL37: ： | AN37: ～
D38: 梁田 桜 | I38: 様 | K38: 馬渡晃弘Dr | P38: 東A | S38: 身体拘束 | X38: 身体拘束 | AC38: 令和 | AE38: 6 | AF38: 年 | AG38: 11 | AH38: 月 | AI38: 6 | AJ38: 日 | AL38: ： | AN38: ～
D39: 金沢 友昌 | I39: 様 | K39: 柞木田なつみDr | P39: 東合 | S39: 身体拘束 | X39: 身体拘束 | AC39: 令和 | AE39: 6 | AF39: 年 | AG39: 11 | AH39: 月 | AI39: 7 | AJ39: 日 | AL39: ： | AN39: ～
I40: 様 | AC40: 令和 | AF40: 年 | AH40: 月 | AJ40: 日 | AL40: ： | AN40: ～
I41: 様 | AC41: 令和 | AF41: 年 | AH41: 月 | AJ41: 日 | AL41: ： | AN41: ～
I42: 様 | AC42: 令和 | AF42: 年 | AH42: 月 | AJ42: 日 | AL42: ： | AN42: ～
I43: 様 | AC43: 令和 | AF43: 年 | AH43: 月 | AJ43: 日 | AL43: ： | AN43: ～
I44: 様 | AC44: 令和 | AF44: 年 | AH44: 月 | AJ44: 日 | AL44: ： | AN44: ～
I45: 様 | AC45: 令和 | AF45: 年 | AH45: 月 | AJ45: 日 | AL45: ： | AN45: ～
I46: 様 | AC46: 令和 | AF46: 年 | AH46: 月 | AJ46: 日 | AL46: ： | AN46: ～
A47: 業務 内容 | D47: 項目 | J47: 患者様氏名 | P47: 担当 | S47: 備考 | Y47: 項目 | AA47: 患者様氏名 | AG47: 内容 | AQ47: 担当
D48: 外 来 患 者 対 応 | F48: 外来患者 対応 | O48: 様 | Y48: 書 類 作 成 完 了 | AF48: 様
O49: 様 | AF49: 様
O50: 様 | AF50: 様
O51: 様 | AF51: 様
O52: 様 | AF52: 様
O53: 様 | AF53: 様
O54: 様 | AF54: 様
D55: 項目 | J55: 患者様氏名 | P55: 担当 | S55: 備考 | AF55: 様
D56: 入 退 院 支 援 | F56: 退院支援 | O56: 様 | AF56: 様
O57: 様 | AF57: 様
O58: 様 | Y58: 項目 | AG58: 件数 | AJ58: 担当 | AM58: 備考
O59: 様 | Y59: 電話対応 | AI59: 件
O60: 様 | Y60: 保健所への届出 | AI60: 件
F61: 退院請求 対応 | O61: 様 | Y61: 項目 | AG61: 内容
O62: 様 | Y62: 通院医療 観察法
F63: 入院患者 対応 | J63: 担当 | M63: 件数 | P63: 備考
O64: 件 | Y64: 認知症疾患 医療ｾﾝﾀｰ
O65: 件
O66: 件 | Y66: 各種会議参加 外部の業務
O67: 件
A68: 安全管理 | D68: 事故 | S68: 物品 購入 | AE68: 連絡 事項
D69: 苦情
D70: 紛失
D71: 他

Sheet 9
A1: ソーシャルワーカー室 業務日誌 | AH1: C.O.O | AL1: I.O.O | AP1: Ａ.Ｏ.Ｍ
H3: =曜日!B12 -> 令和6年 | M3: =曜日!C12 -> 11月 | P3: 9日 | S3: （ | T3: =曜日!D4 -> 土 | U3: ） | W3: 作成者 | Z3: ：
A5: 労務 状況 | D5: 勤務状況 | K5: 西舘 翔子 | T5: 大川 祥子 | AC5: 宇津木澤 育美 | AL5: 澤里 皓輝
K6: 安田 純子 | T6: 石鉢 佳代
A8: 入退院 状況 | D8: 入院形態 | K8: 東病棟 | Q8: 西病棟 | W8: 北病棟 | AC8: 南病棟 | AI8: 合計 | AO8: 総数
K9: 男性 | N9: 女性 | Q9: 男性 | T9: 女性 | W9: 男性 | Z9: 女性 | AC9: 男性 | AF9: 女性 | AI9: 男性 | AL9: 女性
D10: 任意入院 | AI10: =K10+Q10+W10+AC10 -> 0 | AL10: =N10+T10+Z10+AF10 -> 0 | AO10: =AI14 -> 0
D11: 医療保護入院 | AI11: =K11+Q11+W11+AC11 -> 0 | AL11: =N11+T11+Z11+AF11 -> 0
D12: 措置入院 | AI12: =K12+Q12+W12+AC12 -> 0 | AL12: =N12+T12+Z12+AF12 -> 0
D13: 合計 | K13: =SUM(K10:M12) -> 0 | N13: =SUM(N10:P12) -> 0 | Q13: =SUM(Q10:S12) -> 0 | T13: =SUM(T10:V12) -> 0 | W13: =SUM(W10:Y12) -> 0 | Z13: =SUM(Z10:AB12) -> 0 | AC13: =SUM(AC10:AE12) -> 0 | AF13: =SUM(AF10:AH12) -> 0 | AI13: =SUM(K13+Q13+W13+AC13) -> 0 | AL13: =SUM(N13+T13+Z13+AF13) -> 0 | AO13: 人
K14: =K13+N13 -> 0 | Q14: =Q13+T13 -> 0 | W14: =W13+Z13 -> 0 | AC14: =AC13+AF13 -> 0 | AI14: =AI13+AL13 -> 0
F15: 患者様氏名 | N15: 入院形態 | T15: 担当Dr | Y15: 担当SW | AD15: 病棟 | AJ15: 備考欄
D16: 入院 | L16: 様
L17: 様
L18: 様
L19: 様
L20: 様
D21: 退院 | L21: 様
L22: 様
L23: 様
L24: 様
L25: 様
D26: 転棟 ･ 入院形態変更 | L26: 様
L27: 様
L28: 様
L29: 様
L30: 様
A31: 患者様 関連 | D31: 患者様氏名 | K31: 担当Dr | P31: 病棟 | S31: 制限内容 | X31: 制限時間 | AC31: 開始日時 | AO31: 備考
I32: 様 | AC32: 令和 | AF32: 年 | AH32: 月 | AJ32: 日 | AL32: ： | AN32: ～
I33: 様 | AC33: 令和 | AF33: 年 | AH33: 月 | AJ33: 日 | AL33: ： | AN33: ～
I34: 様 | AC34: 令和 | AF34: 年 | AH34: 月 | AJ34: 日 | AL34: ： | AN34: ～
I35: 様 | AC35: 令和 | AF35: 年 | AH35: 月 | AJ35: 日 | AL35: ： | AN35: ～
I36: 様 | AC36: 令和 | AF36: 年 | AH36: 月 | AJ36: 日 | AL36: ： | AN36: ～
I37: 様 | AC37: 令和 | AF37: 年 | AH37: 月 | AJ37: 日 | AL37: ： | AN37: ～
I38: 様 | AC38: 令和 | AF38: 年 | AH38: 月 | AJ38: 日 | AL38: ： | AN38: ～
I39: 様 | AC39: 令和 | AF39: 年 | AH39: 月 | AJ39: 日 | AL39: ： | AN39: ～
I40: 様 | AC40: 令和 | AF40: 年 | AH40: 月 | AJ40: 日 | AL40: ： | AN40: ～
I41: 様 | AC41: 令和 | AF41: 年 | AH41: 月 | AJ41: 日 | AL41: ： | AN41: ～
I42: 様 | AC42: 令和 | AF42: 年 | AH42: 月 | AJ42: 日 | AL42: ： | AN42: ～
I43: 様 | AC43: 令和 | AF43: 年 | AH43: 月 | AJ43: 日 | AL43: ： | AN43: ～
... I46: 様 | AC46: 令和 | AF46: 年 | AH46: 月 | AJ46: 日 | AL46: ： | AN46: ～
A47: 業務 内容 | D47: 項目 | J47: 患者様氏名 | P47: 担当 | S47: 備考 | Y47: 項目 | AA47: 患者様氏名 | AG47: 内容 | AQ47: 担当
D48: 外 来 患 者 対 応 | F48: 外来患者 対応 | O48: 様 | Y48: 書 類 作 成 完 了 | AF48: 様
O49: 様 | AF49: 様
O50: 様 | AF50: 様
O51: 様 | AF51: 様
O52: 様 | AF52: 様
O53: 様 | AF53: 様
O54: 様 | AF54: 様
D55: 項目 | J55: 患者様氏名 | P55: 担当 | S55: 備考 | AF55: 様
D56: 入 退 院 支 援 | F56: 退院支援 | O56: 様 | AF56: 様
O57: 様 | AF57: 様
O58: 様 | Y58: 項目 | AG58: 件数 | AJ58: 担当 | AM58: 備考
O59: 様 | Y59: 電話対応 | AI59: 件
O60: 様 | Y60: 保健所への届出 | AI60: 件
F61: 退院請求 対応 | O61: 様 | Y61: 項目 | AG61: 内容
O62: 様 | Y62: 通院医療 観察法
F63: 入院患者 対応 | J63: 担当 | M63: 件数 | P63: 備考
O64: 件 | Y64: 認知症疾患 医療ｾﾝﾀｰ
O65: 件
O66: 件 | Y66: 各種会議参加 外部の業務
O67: 件
A68: 安全管理 | D68: 事故 | S68: 物品 購入 | AE68: 連絡 事項
D69: 苦情
D70: 紛失
D71: 他

Sheet 7 (2)
A1: ソーシャルワーカー室 業務日誌 | AH1: C.O.O | AL1: I.O.O | AP1: Ａ.Ｏ.Ｍ
H3: =曜日!B12 -> 令和6年 | M3: =曜日!C12 -> 11月 | P3: 7日 | S3: （ | T3: =曜日!D9 -> 木 | U3: ） | W3: 作成者 | Z3: ： | AA3: 西舘 翔子
A5: 労務 状況 | D5: 勤務状況 | K5: 西舘 翔子 | P5: 日勤 | T5: 大川 祥子 | Y5: 公休 | AC5: 宇津木澤 育美 | AH5: 日勤 | AL5: 澤里 皓輝 | AP5: 日勤
K6: 安田 純子 | P6: 日勤 | T6: 石鉢 佳代 | Y6: 日勤
A8: 入退院 状況 | D8: 入院形態 | K8: 東病棟 | Q8: 西病棟 | W8: 北病棟 | AC8: 南病棟 | AI8: 合計 | AO8: 総数
K9: 男性 | N9: 女性 | Q9: 男性 | T9: 女性 | W9: 男性 | Z9: 女性 | AC9: 男性 | AF9: 女性 | AI9: 男性 | AL9: 女性
D10: 任意入院 | K10: 5→4 | N10: 3 | Q10: 1 | T10: 3→1 | W10: 20 | Z10: 12 | AC10: 1→0 | AF10: 0 | AI10: =K10+Q10+W10+AC10 -> #VALUE! | AL10: =N10+T10+Z10+AF10 -> #VALUE! | AO10: =AI14 -> 171
D11: 医療保護入院 | K11: 15 | N11: 18 | Q11: 11 | T11: 29 | W11: 0 | Z11: 1 | AC11: 20 | AF11: 37 | AI11: =K11+Q11+W11+AC11 -> 46 | AL11: =N11+T11+Z11+AF11 -> 85
D12: 措置入院 | K12: 4 | N12: 0 | Q12: 0 | T12: 0 | W12: 0 | Z12: 0 | AC12: 0 | AF12: 0 | AI12: =K12+Q12+W12+AC12 -> 4 | AL12: =N12+T12+Z12+AF12 -> 0
D13: 合計 | K13: =SUM(K10:M12) -> 19 | N13: =SUM(N10:P12) -> 21 | Q13: =SUM(Q10:S12) -> 12 | T13: =SUM(T10:V12) -> 29 | W13: =SUM(W10:Y12) -> 20 | Z13: =SUM(Z10:AB12) -> 13 | AC13: =SUM(AC10:AE12) -> 20 | AF13: =SUM(AF10:AH12) -> 37 | AI13: =SUM(K13+Q13+W13+AC13) -> 71 | AL13: =SUM(N13+T13+Z13+AF13) -> 100 | AO13: 人
K14: =K13+N13 -> 40 | Q14: =Q13+T13 -> 41 | W14: =W13+Z13 -> 33 | AC14: =AC13+AF13 -> 57 | AI14: =AI13+AL13 -> 171
F15: 患者様氏名 | N15: 入院形態 | T15: 担当Dr | Y15: 担当SW | AD15: 病棟 | AJ15: 備考欄
D16: 入院 | L16: 様
L17: 様
L18: 様
L19: 様
L20: 様
D21: 退院 | F21: 内田 勇三 | L21: 様 | N21: 医療保護入院 | T21: 深澤隆Dr | Y21: 宇津木澤 育美 | AD21: 東合
L22: 様
L23: 様
L24: 様
L25: 様
D26: 転棟 ･ 入院形態変更 | L26: 様
L27: 様
L28: 様
L29: 様
L30: 様
A31: 患者様 関連 | D31: 患者様氏名 | K31: 担当Dr | P31: 病棟 | S31: 制限内容 | X31: 制限時間 | AC31: 開始日時 | AO31: 備考
I32: 様 | AC32: 令和 | AF32: 年 | AH32: 月 | AJ32: 日 | AL32: ： | AN32: ～
I33: 様 | AC33: 令和 | AF33: 年 | AH33: 月 | AJ33: 日 | AL33: ： | AN33: ～
I34: 様 | AC34: 令和 | AF34: 年 | AH34: 月 | AJ34: 日 | AL34: ： | AN34: ～
I35: 様 | AC35: 令和 | AF35: 年 | AH35: 月 | AJ35: 日 | AL35: ： | AN35: ～
I36: 様 | AC36: 令和 | AF36: 年 | AH36: 月 | AJ36: 日 | AL36: ： | AN36: ～
I37: 様 | AC37: 令和 | AF37: 年 | AH37: 月 | AJ37: 日 | AL37: ： | AN37: ～
I38: 様 | AC38: 令和 | AF38: 年 | AH38: 月 | AJ38: 日 | AL38: ： | AN38: ～
I39: 様 | AC39: 令和 | AF39: 年 | AH39: 月 | AJ39: 日 | AL39: ： | AN39: ～
I40: 様 | AC40: 令和 | AF40: 年 | AH40: 月 | AJ40: 日 | AL40: ： | AN40: ～
I41: 様 | AC41: 令和 | AF41: 年 | AH41: 月 | AJ41: 日 | AL41: ： | AN41: ～
I42: 様 | AC42: 令和 | AF42: 年 | AH42: 月 | AJ42: 日 | AL42: ： | AN42: ～
I43: 様 | AC43: 令和 | AF43: 年 | AH43: 月 | AJ43: 日 | AL43: ： | AN43: ～
... I46: 様 | AC46: 令和 | AF46: 年 | AH46: 月 | AJ46: 日 | AL46: ： | AN46: ～
A47: 業務 内容 | D47: 項目 | J47: 患者様氏名 | P47: 担当 | S47: 備考 | Y47: 項目 | AA47: 患者様氏名 | AG47: 内容 | AQ47: 担当
D48: 外 来 患 者 対 応 | F48: 外来患者 対応 | O48: 様 | Y48: 書 類 作 成 完 了 | AF48: 様
O49: 様 | AF49: 様
O50: 様 | AF50: 様
O51: 様 | AF51: 様
O52: 様 | AF52: 様
O53: 様 | AF53: 様
O54: 様 | AF54: 様
D55: 項目 | J55: 患者様氏名 | P55: 担当 | S55: 備考 | AF55: 様
D56: 入 退 院 支 援 | F56: 退院支援 | O56: 様 | AF56: 様
O57: 様 | AF57: 様
O58: 様 | Y58: 項目 | AG58: 件数 | AJ58: 担当 | AM58: 備考
O59: 様 | Y59: 電話対応 | AI59: 件
O60: 様 | Y60: 保健所への届出 | AI60: 件
F61: 退院請求 対応 | O61: 様 | Y61: 項目 | AG61: 内容
O62: 様 | Y62: 通院医療 観察法
F63: 入院患者 対応 | J63: 担当 | M63: 件数 | P63: 備考
O64: 件 | Y64: 認知症疾患 医療ｾﾝﾀｰ
O65: 件
O66: 件 | Y66: 各種会議参加 外部の業務
O67: 件
A68: 安全管理 | D68: 事故 | S68: 物品 購入 | AE68: 連絡 事項
D69: 苦情
D70: 紛失
D71: 他

Sheet 10
A1: ソーシャルワーカー室 業務日誌 | AH1: C.O.O | AL1: I.O.O | AP1: Ａ.Ｏ.Ｍ
H3: =曜日!B12 -> 令和6年 | M3: =曜日!C12 -> 11月 | P3: 10日 | S3: （ | T3: =曜日!D5 -> 日 | U3: ） | W3: 作成者 | Z3: ：
A5: 労務 状況 | D5: 勤務状況 | K5: 西舘 翔子 | T5: 大川 祥子 | AC5: 宇津木澤 育美 | AL5: 澤里 皓輝
K6: 安田 純子 | T6: 石鉢 佳代
A8: 入退院 状況 | D8: 入院形態 | K8: 東病棟 | Q8: 西病棟 | W8: 北病棟 | AC8: 南病棟 | AI8: 合計 | AO8: 総数
K9: 男性 | N9: 女性 | Q9: 男性 | T9: 女性 | W9: 男性 | Z9: 女性 | AC9: 男性 | AF9: 女性 | AI9: 男性 | AL9: 女性
D10: 任意入院 | AI10: =K10+Q10+W10+AC10 -> 0 | AL10: =N10+T10+Z10+AF10 -> 0 | AO10: =AI14 -> 0
D11: 医療保護入院 | AI11: =K11+Q11+W11+AC11 -> 0 | AL11: =N11+T11+Z11+AF11 -> 0
D12: 措置入院 | AI12: =K12+Q12+W12+AC12 -> 0 | AL12: =N12+T12+Z12+AF12 -> 0
D13: 合計 | K13: =SUM(K10:M12) -> 0 | N13: =SUM(N10:P12) -> 0 | Q13: =SUM(Q10:S12) -> 0 | T13: =SUM(T10:V12) -> 0 | W13: =SUM(W10:Y12) -> 0 | Z13: =SUM(Z10:AB12) -> 0 | AC13: =SUM(AC10:AE12) -> 0 | AF13: =SUM(AF10:AH12) -> 0 | AI13: =SUM(K13+Q13+W13+AC13) -> 0 | AL13: =SUM(N13+T13+Z13+AF13) -> 0 | AO13: 人
K14: =K13+N13 -> 0 | Q14: =Q13+T13 -> 0 | W14: =W13+Z13 -> 0 | AC14: =AC13+AF13 -> 0 | AI14: =AI13+AL13 -> 0
F15: 患者様氏名 | N15: 入院形態 | T15: 担当Dr | Y15: 担当SW | AD15: 病棟 | AJ15: 備考欄
D16: 入院 | L16: 様
L17: 様
L18: 様
L19: 様
L20: 様
D21: 退院 | L21: 様
L22: 様
L23: 様
L24: 様
L25: 様
D26: 転棟 ･ 入院形態変更 | L26: 様
L27: 様
L28: 様
L29: 様
L30: 様
A31: 患者様 関連 | D31: 患者様氏名 | K31: 担当Dr | P31: 病棟 | S31: 制限内容 | X31: 制限時間 | AC31: 開始日時 | AO31: 備考
I32: 様 | AC32: 令和 | AF32: 年 | AH32: 月 | AJ32: 日 | AL32: ： | AN32: ～
I33: 様 | AC33: 令和 | AF33: 年 | AH33: 月 | AJ33: 日 | AL33: ： | AN33: ～
I34: 様 | AC34: 令和 | AF34: 年 | AH34: 月 | AJ34: 日 | AL34: ： | AN34: ～
I35: 様 | AC35: 令和 | AF35: 年 | AH35: 月 | AJ35: 日 | AL35: ： | AN35: ～
I36: 様 | AC36: 令和 | AF36: 年 | AH36: 月 | AJ36: 日 | AL36: ： | AN36: ～
I37: 様 | AC37: 令和 | AF37: 年 | AH37: 月 | AJ37: 日 | AL37: ： | AN37: ～
I38: 様 | AC38: 令和 | AF38: 年 | AH38: 月 | AJ38: 日 | AL38: ： | AN38: ～
I39: 様 | AC39: 令和 | AF39: 年 | AH39: 月 | AJ39: 日 | AL39: ： | AN39: ～
I40: 様 | AC40: 令和 | AF40: 年 | AH40: 月 | AJ40: 日 | AL40: ： | AN40: ～
I41: 様 | AC41: 令和 | AF41: 年 | AH41: 月 | AJ41: 日 | AL41: ： | AN41: ～
I42: 様 | AC42: 令和 | AF42: 年 | AH42: 月 | AJ42: 日 | AL42: ： | AN42: ～
I43: 様 | AC43: 令和 | AF43: 年 | AH43: 月 | AJ43: 日 | AL43: ： | AN43: ～
... I46: 様 | AC46: 令和 | AF46: 年 | AH46: 月 | AJ46: 日 | AL46: ： | AN46: ～
A47: 業務 内容 | D47: 項目 | J47: 患者様氏名 | P47: 担当 | S47: 備考 | Y47: 項目 | AA47: 患者様氏名 | AG47: 内容 | AQ47: 担当
D48: 外 来 患 者 対 応 | F48: 外来患者 対応 | O48: 様 | Y48: 書 類 作 成 完 了 | AF48: 様
O49: 様 | AF49: 様
O50: 様 | AF50: 様
O51: 様 | AF51: 様
O52: 様 | AF52: 様
O53: 様 | AF53: 様
O54: 様 | AF54: 様
D55: 項目 | J55: 患者様氏名 | P55: 担当 | S55: 備考 | AF55: 様
D56: 入 退 院 支 援 | F56: 退院支援 | O56: 様 | AF56: 様
O57: 様 | AF57: 様
O58: 様 | Y58: 項目 | AG58: 件数 | AJ58: 担当 | AM58: 備考
O59: 様 | Y59: 電話対応 | AI59: 件
O60: 様 | Y60: 保健所への届出 | AI60: 件
F61: 退院請求 対応 | O61: 様 | Y61: 項目 | AG61: 内容
O62: 様 | Y62: 通院医療 観察法
F63: 入院患者 対応 | J63: 担当 | M63: 件数 | P63: 備考
O64: 件 | Y64: 認知症疾患 医療ｾﾝﾀｰ
O65: 件
O66: 件 | Y66: 各種会議参加 外部の業務
O67: 件
A68: 安全管理 | D68: 事故 | S68: 物品 購入 | AE68: 連絡 事項
D69: 苦情
D70: 紛失
D71: 他

Sheet 11
A1: ソーシャルワーカー室 業務日誌 | AH1: C.O.O | AL1: I.O.O | AP1: Ａ.Ｏ.Ｍ
H3: =曜日!B12 -> 令和6年 | M3: =曜日!C12 -> 11月 | P3: 11日 | S3: （ | T3: =曜日!D6 -> 月 | U3: ） | W3: 作成者 | Z3: ：
A5: 労務 状況 | D5: 勤務状況 | K5: 西舘 翔子 | T5: 大川 祥子 | AC5: 宇津木澤 育美 | AL5: 澤里 皓輝
K6: 安田 純子 | T6: 石鉢 佳代
A8: 入退院 状況 | D8: 入院形態 | K8: 東病棟 | Q8: 西病棟 | W8: 北病棟 | AC8: 南病棟 | AI8: 合計 | AO8: 総数
K9: 男性 | N9: 女性 | Q9: 男性 | T9: 女性 | W9: 男性 | Z9: 女性 | AC9: 男性 | AF9: 女性 | AI9: 男性 | AL9: 女性
D10: 任意入院 | AI10: =K10+Q10+W10+AC10 -> 0 | AL10: =N10+T10+Z10+AF10 -> 0 | AO10: =AI14 -> 0
D11: 医療保護入院 | AI11: =K11+Q11+W11+AC11 -> 0 | AL11: =N11+T11+Z11+AF11 -> 0
D12: 措置入院 | AI12: =K12+Q12+W12+AC12 -> 0 | AL12: =N12+T12+Z12+AF12 -> 0
D13: 合計 | K13: =SUM(K10:M12) -> 0 | N13: =SUM(N10:P12) -> 0 | Q13: =SUM(Q10:S12) -> 0 | T13: =SUM(T10:V12) -> 0 | W13: =SUM(W10:Y12) -> 0 | Z13: =SUM(Z10:AB12) -> 0 | AC13: =SUM(AC10:AE12) -> 0 | AF13: =SUM(AF10:AH12) -> 0 | AI13: =SUM(K13+Q13+W13+AC13) -> 0 | AL13: =SUM(N13+T13+Z13+AF13) -> 0 | AO13: 人
K14: =K13+N13 -> 0 | Q14: =Q13+T13 -> 0 | W14: =W13+Z13 -> 0 | AC14: =AC13+AF13 -> 0 | AI14: =AI13+AL13 -> 0
F15: 患者様氏名 | N15: 入院形態 | T15: 担当Dr | Y15: 担当SW | AD15: 病棟 | AJ15: 備考欄
D16: 入院 | L16: 様
L17: 様
L18: 様
L19: 様
L20: 様
D21: 退院 | L21: 様
L22: 様
L23: 様
L24: 様
L25: 様
D26: 転棟 ･ 入院形態変更 | L26: 様
L27: 様
L28: 様
L29: 様
L30: 様
A31: 患者様 関連 | D31: 患者様氏名 | K31: 担当Dr | P31: 病棟 | S31: 制限内容 | X31: 制限時間 | AC31: 開始日時 | AO31: 備考
I32: 様 | AC32: 令和 | AF32: 年 | AH32: 月 | AJ32: 日 | AL32: ： | AN32: ～
I33: 様 | AC33: 令和 | AF33: 年 | AH33: 月 | AJ33: 日 | AL33: ： | AN33: ～
I34: 様 | AC34: 令和 | AF34: 年 | AH34: 月 | AJ34: 日 | AL34: ： | AN34: ～
I35: 様 | AC35: 令和 | AF35: 年 | AH35: 月 | AJ35: 日 | AL35: ： | AN35: ～
I36: 様 | AC36: 令和 | AF36: 年 | AH36: 月 | AJ36: 日 | AL36: ： | AN36: ～
I37: 様 | AC37: 令和 | AF37: 年 | AH37: 月 | AJ37: 日 | AL37: ： | AN37: ～
I38: 様 | AC38: 令和 | AF38: 年 | AH38: 月 | AJ38: 日 | AL38: ： | AN38: ～
I39: 様 | AC39: 令和 | AF39: 年 | AH39: 月 | AJ39: 日 | AL39: ： | AN39: ～
I40: 様 | AC40: 令和 | AF40: 年 | AH40: 月 | AJ40: 日 | AL40: ： | AN40: ～
I41: 様 | AC41: 令和 | AF41: 年 | AH41: 月 | AJ41: 日 | AL41: ： | AN41: ～
I42: 様 | AC42: 令和 | AF42: 年 | AH42: 月 | AJ42: 日 | AL42: ： | AN42: ～
I43: 様 | AC43: 令和 | AF43: 年 | AH43: 月 | AJ43: 日 | AL43: ： | AN43: ～
... I46: 様 | AC46: 令和 | AF46: 年 | AH46: 月 | AJ46: 日 | AL46: ： | AN46: ～
A47: 業務 内容 | D47: 項目 | J47: 患者様氏名 | P47: 担当 | S47: 備考 | Y47: 項目 | AA47: 患者様氏名 | AG47: 内容 | AQ47: 担当
D48: 外 来 患 者 対 応 | F48: 外来患者 対応 | O48: 様 | Y48: 書 類 作 成 完 了 | AF48: 様
O49: 様 | AF49: 様
O50: 様 | AF50: 様
O51: 様 | AF51: 様
O52: 様 | AF52: 様
O53: 様 | AF53: 様
O54: 様 | AF54: 様
D55: 項目 | J55: 患者様氏名 | P55: 担当 | S55: 備考 | AF55: 様
D56: 入 退 院 支 援 | F56: 退院支援 | O56: 様 | AF56: 様
O57: 様 | AF57: 様
O58: 様 | Y58: 項目 | AG58: 件数 | AJ58: 担当 | AM58: 備考
O59: 様 | Y59: 電話対応 | AI59: 件
O60: 様 | Y60: 保健所への届出 | AI60: 件
F61: 退院請求 対応 | O61: 様 | Y61: 項目 | AG61: 内容
O62: 様 | Y62: 通院医療 観察法
F63: 入院患者 対応 | J63: 担当 | M63: 件数 | P63: 備考
O64: 件 | Y64: 認知症疾患 医療ｾﾝﾀｰ
O65: 件
O66: 件 | Y66: 各種会議参加 外部の業務
O67: 件
A68: 安全管理 | D68: 事故 | S68: 物品 購入 | AE68: 連絡 事項
D69: 苦情
D70: 紛失
D71: 他

Sheet 12
A1: ソーシャルワーカー室 業務日誌 | AH1: C.O.O | AL1: I.O.O | AP1: Ａ.Ｏ.Ｍ
H3: =曜日!B12 -> 令和6年 | M3: =曜日!C12 -> 11月 | P3: 12日 | S3: （ | T3: =曜日!D7 -> 火 | U3: ） | W3: 作成者 | Z3: ：
A5: 労務 状況 | D5: 勤務状況 | K5: 西舘 翔子 | T5: 大川 祥子 | AC5: 宇津木澤 育美 | AL5: 澤里 皓輝
K6: 安田 純子 | T6: 石鉢 佳代
A8: 入退院 状況 | D8: 入院形態 | K8: 東病棟 | Q8: 西病棟 | W8: 北病棟 | AC8: 南病棟 | AI8: 合計 | AO8: 総数
K9: 男性 | N9: 女性 | Q9: 男性 | T9: 女性 | W9: 男性 | Z9: 女性 | AC9: 男性 | AF9: 女性 | AI9: 男性 | AL9: 女性
D10: 任意入院 | AI10: =K10+Q10+W10+AC10 -> 0 | AL10: =N10+T10+Z10+AF10 -> 0 | AO10: =AI14 -> 0
D11: 医療保護入院 | AI11: =K11+Q11+W11+AC11 -> 0 | AL11: =N11+T11+Z11+AF11 -> 0
D12: 措置入院 | AI12: =K12+Q12+W12+AC12 -> 0 | AL12: =N12+T12+Z12+AF12 -> 0
D13: 合計 | K13: =SUM(K10:M12) -> 0 | N13: =SUM(N10:P12) -> 0 | Q13: =SUM(Q10:S12) -> 0 | T13: =SUM(T10:V12) -> 0 | W13: =SUM(W10:Y12) -> 0 | Z13: =SUM(Z10:AB12) -> 0 | AC13: =SUM(AC10:AE12) -> 0 | AF13: =SUM(AF10:AH12) -> 0 | AI13: =SUM(K13+Q13+W13+AC13) -> 0 | AL13: =SUM(N13+T13+Z13+AF13) -> 0 | AO13: 人
K14: =K13+N13 -> 0 | Q14: =Q13+T13 -> 0 | W14: =W13+Z13 -> 0 | AC14: =AC13+AF13 -> 0 | AI14: =AI13+AL13 -> 0
F15: 患者様氏名 | N15: 入院形態 | T15: 担当Dr | Y15: 担当SW | AD15: 病棟 | AJ15: 備考欄
D16: 入院 | L16: 様
L17: 様
L18: 様
L19: 様
L20: 様
D21: 退院 | L21: 様
L22: 様
L23: 様
L24: 様
L25: 様
D26: 転棟 ･ 入院形態変更 | L26: 様
L27: 様
L28: 様
L29: 様
L30: 様
A31: 患者様 関連 | D31: 患者様氏名 | K31: 担当Dr | P31: 病棟 | S31: 制限内容 | X31: 制限時間 | AC31: 開始日時 | AO31: 備考
I32: 様 | AC32: 令和 | AF32: 年 | AH32: 月 | AJ32: 日 | AL32: ： | AN32: ～
I33: 様 | AC33: 令和 | AF33: 年 | AH33: 月 | AJ33: 日 | AL33: ： | AN33: ～
I34: 様 | AC34: 令和 | AF34: 年 | AH34: 月 | AJ34: 日 | AL34: ： | AN34: ～
I35: 様 | AC35: 令和 | AF35: 年 | AH35: 月 | AJ35: 日 | AL35: ： | AN35: ～
I36: 様 | AC36: 令和 | AF36: 年 | AH36: 月 | AJ36: 日 | AL36: ： | AN36: ～
I37: 様 | AC37: 令和 | AF37: 年 | AH37: 月 | AJ37: 日 | AL37: ： | AN37: ～
I38: 様 | AC38: 令和 | AF38: 年 | AH38: 月 | AJ38: 日 | AL38: ： | AN38: ～
I39: 様 | AC39: 令和 | AF39: 年 | AH39: 月 | AJ39: 日 | AL39: ： | AN39: ～
I40: 様 | AC40: 令和 | AF40: 年 | AH40: 月 | AJ40: 日 | AL40: ： | AN40: ～
I41: 様 | AC41: 令和 | AF41: 年 | AH41: 月 | AJ41: 日 | AL41: ： | AN41: ～
I42: 様 | AC42: 令和 | AF42: 年 | AH42: 月 | AJ42: 日 | AL42: ： | AN42: ～
I43: 様 | AC43: 令和 | AF43: 年 | AH43: 月 | AJ43: 日 | AL43: ： | AN43: ～
... I46: 様 | AC46: 令和 | AF46: 年 | AH46: 月 | AJ46: 日 | AL46: ： | AN46: ～
A47: 業務 内容 | D47: 項目 | J47: 患者様氏名 | P47: 担当 | S47: 備考 | Y47: 項目 | AA47: 患者様氏名 | AG47: 内容 | AQ47: 担当
D48: 外 来 患 者 対 応 | F48: 外来患者 対応 | O48: 様 | Y48: 書 類 作 成 完 了 | AF48: 様
O49: 様 | AF49: 様
O50: 様 | AF50: 様
O51: 様 | AF51: 様
O52: 様 | AF52: 様
O53: 様 | AF53: 様
O54: 様 | AF54: 様
D55: 項目 | J55: 患者様氏名 | P55: 担当 | S55: 備考 | AF55: 様
D56: 入 退 院 支 援 | F56: 退院支援 | O56: 様 | AF56: 様
O57: 様 | AF57: 様
O58: 様 | Y58: 項目 | AG58: 件数 | AJ58: 担当 | AM58: 備考
O59: 様 | Y59: 電話対応 | AI59: 件
O60: 様 | Y60: 保健所への届出 | AI60: 件
F61: 退院請求 対応 | O61: 様 | Y61: 項目 | AG61: 内容
O62: 様 | Y62: 通院医療 観察法
F63: 入院患者 対応 | J63: 担当 | M63: 件数 | P63: 備考
O64: 件 | Y64: 認知症疾患 医療ｾﾝﾀｰ
O65: 件
O66: 件 | Y66: 各種会議参加 外部の業務
O67: 件
A68: 安全管理 | D68: 事故 | S68: 物品 購入 | AE68: 連絡 事項
D69: 苦情
D70: 紛失
D71: 他

Sheet 13
A1: ソーシャルワーカー室 業務日誌 | AH1: C.O.O | AL1: I.O.O | AP1: Ａ.Ｏ.Ｍ
H3: =曜日!B12 -> 令和6年 | M3: =曜日!C12 -> 11月 | P3: 13日 | S3: （ | T3: =曜日!D8 -> 水 | U3: ） | W3: 作成者 | Z3: ：
A5: 労務 状況 | D5: 勤務状況 | K5: 西舘 翔子 | T5: 大川 祥子 | AC5: 宇津木澤 育美 | AL5: 澤里 皓輝
K6: 安田 純子 | T6: 石鉢 佳代
A8: 入退院 状況 | D8: 入院形態 | K8: 東病棟 | Q8: 西病棟 | W8: 北病棟 | AC8: 南病棟 | AI8: 合計 | AO8: 総数
K9: 男性 | N9: 女性 | Q9: 男性 | T9: 女性 | W9: 男性 | Z9: 女性 | AC9: 男性 | AF9: 女性 | AI9: 男性 | AL9: 女性
D10: 任意入院 | AI10: =K10+Q10+W10+AC10 -> 0 | AL10: =N10+T10+Z10+AF10 -> 0 | AO10: =AI14 -> 0
D11: 医療保護入院 | AI11: =K11+Q11+W11+AC11 -> 0 | AL11: =N11+T11+Z11+AF11 -> 0
D12: 措置入院 | AI12: =K12+Q12+W12+AC12 -> 0 | AL12: =N12+T12+Z12+AF12 -> 0
D13: 合計 | K13: =SUM(K10:M12) -> 0 | N13: =SUM(N10:P12) -> 0 | Q13: =SUM(Q10:S12) -> 0 | T13: =SUM(T10:V12) -> 0 | W13: =SUM(W10:Y12) -> 0 | Z13: =SUM(Z10:AB12) -> 0 | AC13: =SUM(AC10:AE12) -> 0 | AF13: =SUM(AF10:AH12) -> 0 | AI13: =SUM(K13+Q13+W13+AC13) -> 0 | AL13: =SUM(N13+T13+Z13+AF13) -> 0 | AO13: 人
K14: =K13+N13 -> 0 | Q14: =Q13+T13 -> 0 | W14: =W13+Z13 -> 0 | AC14: =AC13+AF13 -> 0 | AI14: =AI13+AL13 -> 0
F15: 患者様氏名 | N15: 入院形態 | T15: 担当Dr | Y15: 担当SW | AD15: 病棟 | AJ15: 備考欄
D16: 入院 | L16: 様
L17: 様
L18: 様
L19: 様
L20: 様
D21: 退院 | L21: 様
L22: 様
L23: 様
L24: 様
L25: 様
D26: 転棟 ･ 入院形態変更 | L26: 様
L27: 様
L28: 様
L29: 様
L30: 様
A31: 患者様 関連 | D31: 患者様氏名 | K31: 担当Dr | P31: 病棟 | S31: 制限内容 | X31: 制限時間 | AC31: 開始日時 | AO31: 備考
I32: 様 | AC32: 令和 | AF32: 年 | AH32: 月 | AJ32: 日 | AL32: ： | AN32: ～
I33: 様 | AC33: 令和 | AF33: 年 | AH33: 月 | AJ33: 日 | AL33: ： | AN33: ～
I34: 様 | AC34: 令和 | AF34: 年 | AH34: 月 | AJ34: 日 | AL34: ： | AN34: ～
I35: 様 | AC35: 令和 | AF35: 年 | AH35: 月 | AJ35: 日 | AL35: ： | AN35: ～
I36: 様 | AC36: 令和 | AF36: 年 | AH36: 月 | AJ36: 日 | AL36: ： | AN36: ～
I37: 様 | AC37: 令和 | AF37: 年 | AH37: 月 | AJ37: 日 | AL37: ： | AN37: ～
I38: 様 | AC38: 令和 | AF38: 年 | AH38: 月 | AJ38: 日 | AL38: ： | AN38: ～
I39: 様 | AC39: 令和 | AF39: 年 | AH39: 月 | AJ39: 日 | AL39: ： | AN39: ～
I40: 様 | AC40: 令和 | AF40: 年 | AH40: 月 | AJ40: 日 | AL40: ： | AN40: ～
I41: 様 | AC41: 令和 | AF41: 年 | AH41: 月 | AJ41: 日 | AL41: ： | AN41: ～
I42: 様 | AC42: 令和 | AF42: 年 | AH42: 月 | AJ42: 日 | AL42: ： | AN42: ～
I43: 様 | AC43: 令和 | AF43: 年 | AH43: 月 | AJ43: 日 | AL43: ： | AN43: ～
... I46: 様 | AC46: 令和 | AF46: 年 | AH46: 月 | AJ46: 日 | AL46: ： | AN46: ～
A47: 業務 内容 | D47: 項目 | J47: 患者様氏名 | P47: 担当 | S47: 備考 | Y47: 項目 | AA47: 患者様氏名 | AG47: 内容 | AQ47: 担当
D48: 外 来 患 者 対 応 | F48: 外来患者 対応 | O48: 様 | Y48: 書 類 作 成 完 了 | AF48: 様
O49: 様 | AF49: 様
O50: 様 | AF50: 様
O51: 様 | AF51: 様
O52: 様 | AF52: 様
O53: 様 | AF53: 様
O54: 様 | AF54: 様
D55: 項目 | J55: 患者様氏名 | P55: 担当 | S55: 備考 | AF55: 様
D56: 入 退 院 支 援 | F56: 退院支援 | O56: 様 | AF56: 様
O57: 様 | AF57: 様
O58: 様 | Y58: 項目 | AG58: 件数 | AJ58: 担当 | AM58: 備考
O59: 様 | Y59: 電話対応 | AI59: 件
O60: 様 | Y60: 保健所への届出 | AI60: 件
F61: 退院請求 対応 | O61: 様 | Y61: 項目 | AG61: 内容
O62: 様 | Y62: 通院医療 観察法
F63: 入院患者 対応 | J63: 担当 | M63: 件数 | P63: 備考
O64: 件 | Y64: 認知症疾患 医療ｾﾝﾀｰ
O65: 件
O66: 件 | Y66: 各種会議参加 外部の業務
O67: 件
A68: 安全管理 | D68: 事故 | S68: 物品 購入 | AE68: 連絡 事項
D69: 苦情
D70: 紛失
D71: 他

Sheet 14
A1: ソーシャルワーカー室 業務日誌 | AH1: C.O.O | AL1: I.O.O | AP1: Ａ.Ｏ.Ｍ
H3: =曜日!B12 -> 令和6年 | M3: =曜日!C12 -> 11月 | P3: 14日 | S3: （ | T3: =曜日!D9 -> 木 | U3: ） | W3: 作成者 | Z3: ：
A5: 労務 状況 | D5: 勤務状況 | K5: 西舘 翔子 | T5: 大川 祥子 | AC5: 宇津木澤 育美 | AL5: 澤里 皓輝
K6: 安田 純子 | T6: 石鉢 佳代
A8: 入退院 状況 | D8: 入院形態 | K8: 東病棟 | Q8: 西病棟 | W8: 北病棟 | AC8: 南病棟 | AI8: 合計 | AO8: 総数
K9: 男性 | N9: 女性 | Q9: 男性 | T9: 女性 | W9: 男性 | Z9: 女性 | AC9: 男性 | AF9: 女性 | AI9: 男性 | AL9: 女性
D10: 任意入院 | AI10: =K10+Q10+W10+AC10 -> 0 | AL10: =N10+T10+Z10+AF10 -> 0 | AO10: =AI14 -> 0
D11: 医療保護入院 | AI11: =K11+Q11+W11+AC11 -> 0 | AL11: =N11+T11+Z11+AF11 -> 0
D12: 措置入院 | AI12: =K12+Q12+W12+AC12 -> 0 | AL12: =N12+T12+Z12+AF12 -> 0
D13: 合計 | K13: =SUM(K10:M12) -> 0 | N13: =SUM(N10:P12) -> 0 | Q13: =SUM(Q10:S12) -> 0 | T13: =SUM(T10:V12) -> 0 | W13: =SUM(W10:Y12) -> 0 | Z13: =SUM(Z10:AB12) -> 0 | AC13: =SUM(AC10:AE12) -> 0 | AF13: =SUM(AF10:AH12) -> 0 | AI13: =SUM(K13+Q13+W13+AC13) -> 0 | AL13: =SUM(N13+T13+Z13+AF13) -> 0 | AO13: 人
K14: =K13+N13 -> 0 | Q14: =Q13+T13 -> 0 | W14: =W13+Z13 -> 0 | AC14: =AC13+AF13 -> 0 | AI14: =AI13+AL13 -> 0
F15: 患者様氏名 | N15: 入院形態 | T15: 担当Dr | Y15: 担当SW | AD15: 病棟 | AJ15: 備考欄
D16: 入院 | L16: 様
L17: 様
L18: 様
L19: 様
L20: 様
D21: 退院 | L21: 様
L22: 様
L23: 様
L24: 様
L25: 様
D26: 転棟 ･ 入院形態変更 | L26: 様
L27: 様
L28: 様
L29: 様
L30: 様
A31: 患者様 関連 | D31: 患者様氏名 | K31: 担当Dr | P31: 病棟 | S31: 制限内容 | X31: 制限時間 | AC31: 開始日時 | AO31: 備考
I32: 様 | AC32: 令和 | AF32: 年 | AH32: 月 | AJ32: 日 | AL32: ： | AN32: ～
I33: 様 | AC33: 令和 | AF33: 年 | AH33: 月 | AJ33: 日 | AL33: ： | AN33: ～
I34: 様 | AC34: 令和 | AF34: 年 | AH34: 月 | AJ34: 日 | AL34: ： | AN34: ～
I35: 様 | AC35: 令和 | AF35: 年 | AH35: 月 | AJ35: 日 | AL35: ： | AN35: ～
I36: 様 | AC36: 令和 | AF36: 年 | AH36: 月 | AJ36: 日 | AL36: ： | AN36: ～
I37: 様 | AC37: 令和 | AF37: 年 | AH37: 月 | AJ37: 日 | AL37: ： | AN37: ～
I38: 様 | AC38: 令和 | AF38: 年 | AH38: 月 | AJ38: 日 | AL38: ： | AN38: ～
I39: 様 | AC39: 令和 | AF39: 年 | AH39: 月 | AJ39: 日 | AL39: ： | AN39: ～
I40: 様 | AC40: 令和 | AF40: 年 | AH40: 月 | AJ40: 日 | AL40: ： | AN40: ～
I41: 様 | AC41: 令和 | AF41: 年 | AH41: 月 | AJ41: 日 | AL41: ： | AN41: ～
I42: 様 | AC42: 令和 | AF42: 年 | AH42: 月 | AJ42: 日 | AL42: ： | AN42: ～
I43: 様 | AC43: 令和 | AF43: 年 | AH43: 月 | AJ43: 日 | AL43: ： | AN43: ～
... I46: 様 | AC46: 令和 | AF46: 年 | AH46: 月 | AJ46: 日 | AL46: ： | AN46: ～
A47: 業務 内容 | D47: 項目 | J47: 患者様氏名 | P47: 担当 | S47: 備考 | Y47: 項目 | AA47: 患者様氏名 | AG47: 内容 | AQ47: 担当
D48: 外 来 患 者 対 応 | F48: 外来患者 対応 | O48: 様 | Y48: 書 類 作 成 完 了 | AF48: 様
O49: 様 | AF49: 様
O50: 様 | AF50: 様
O51: 様 | AF51: 様
O52: 様 | AF52: 様
O53: 様 | AF53: 様
O54: 様 | AF54: 様
D55: 項目 | J55: 患者様氏名 | P55: 担当 | S55: 備考 | AF55: 様
D56: 入 退 院 支 援 | F56: 退院支援 | O56: 様 | AF56: 様
O57: 様 | AF57: 様
O58: 様 | Y58: 項目 | AG58: 件数 | AJ58: 担当 | AM58: 備考
O59: 様 | Y59: 電話対応 | AI59: 件
O60: 様 | Y60: 保健所への届出 | AI60: 件
F61: 退院請求 対応 | O61: 様 | Y61: 項目 | AG61: 内容
O62: 様 | Y62: 通院医療 観察法
F63: 入院患者 対応 | J63: 担当 | M63: 件数 | P63: 備考
O64: 件 | Y64: 認知症疾患 医療ｾﾝﾀｰ
O65: 件
O66: 件 | Y66: 各種会議参加 外部の業務
O67: 件
A68: 安全管理 | D68: 事故 | S68: 物品 購入 | AE68: 連絡 事項
D69: 苦情
D70: 紛失
D71: 他

Sheet 15
A1: ソーシャルワーカー室 業務日誌 | AH1: C.O.O | AL1: I.O.O | AP1: Ａ.Ｏ.Ｍ
H3: =曜日!B12 -> 令和6年 | M3: =曜日!C12 -> 11月 | P3: 15日 | S3: （ | T3: =曜日!D3 -> 金 | U3: ） | W3: 作成者 | Z3: ：
A5: 労務 状況 | D5: 勤務状況 | K5: 西舘 翔子 | T5: 大川 祥子 | AC5: 宇津木澤 育美 | AL5: 澤里 皓輝
K6: 安田 純子 | T6: 石鉢 佳代
A8: 入退院 状況 | D8: 入院形態 | K8: 東病棟 | Q8: 西病棟 | W8: 北病棟 | AC8: 南病棟 | AI8: 合計 | AO8: 総数
K9: 男性 | N9: 女性 | Q9: 男性 | T9: 女性 | W9: 男性 | Z9: 女性 | AC9: 男性 | AF9: 女性 | AI9: 男性 | AL9: 女性
D10: 任意入院 | AI10: =K10+Q10+W10+AC10 -> 0 | AL10: =N10+T10+Z10+AF10 -> 0 | AO10: =AI14 -> 0
D11: 医療保護入院 | AI11: =K11+Q11+W11+AC11 -> 0 | AL11: =N11+T11+Z11+AF11 -> 0
D12: 措置入院 | AI12: =K12+Q12+W12+AC12 -> 0 | AL12: =N12+T12+Z12+AF12 -> 0
D13: 合計 | K13: =SUM(K10:M12) -> 0 | N13: =SUM(N10:P12) -> 0 | Q13: =SUM(Q10:S12) -> 0 | T13: =SUM(T10:V12) -> 0 | W13: =SUM(W10:Y12) -> 0 | Z13: =SUM(Z10:AB12) -> 0 | AC13: =SUM(AC10:AE12) -> 0 | AF13: =SUM(AF10:AH12) -> 0 | AI13: =SUM(K13+Q13+W13+AC13) -> 0 | AL13: =SUM(N13+T13+Z13+AF13) -> 0 | AO13: 人
K14: =K13+N13 -> 0 | Q14: =Q13+T13 -> 0 | W14: =W13+Z13 -> 0 | AC14: =AC13+AF13 -> 0 | AI14: =AI13+AL13 -> 0
F15: 患者様氏名 | N15: 入院形態 | T15: 担当Dr | Y15: 担当SW | AD15: 病棟 | AJ15: 備考欄
D16: 入院 | L16: 様
L17: 様
L18: 様
L19: 様
L20: 様
D21: 退院 | L21: 様
L22: 様
L23: 様
L24: 様
L25: 様
D26: 転棟 ･ 入院形態変更 | L26: 様
L27: 様
L28: 様
L29: 様
L30: 様
L31: 様
A32: 患者様 関連 | AC32: 開始日時 | AO32: 備考
I33: 様 | AC33: 令和 | AF33: 年 | AH33: 月 | AJ33: 日 | AL33: ： | AN33: ～
I34: 様 | AC34: 令和 | AF34: 年 | AH34: 月 | AJ34: 日 | AL34: ： | AN34: ～
I35: 様 | AC35: 令和 | AF35: 年 | AH35: 月 | AJ35: 日 | AL35: ： | AN35: ～
I36: 様 | AC36: 令和 | AF36: 年 | AH36: 月 | AJ36: 日 | AL36: ： | AN36: ～
I37: 様 | AC37: 令和 | AF37: 年 | AH37: 月 | AJ37: 日 | AL37: ： | AN37: ～
I38: 様 | AC38: 令和 | AF38: 年 | AH38: 月 | AJ38: 日 | AL38: ： | AN38: ～
I39: 様 | AC39: 令和 | AF39: 年 | AH39: 月 | AJ39: 日 | AL39: ： | AN39: ～
I40: 様 | AC40: 令和 | AF40: 年 | AH40: 月 | AJ40: 日 | AL40: ： | AN40: ～
I41: 様 | AC41: 令和 | AF41: 年 | AH41: 月 | AJ41: 日 | AL41: ： | AN41: ～
I42: 様 | AC42: 令和 | AF42: 年 | AH42: 月 | AJ42: 日 | AL42: ： | AN42: ～
I43: 様 | AC43: 令和 | AF43: 年 | AH43: 月 | AJ43: 日 | AL43: ： | AN43: ～
I44: 様 | AC44: 令和 | AF44: 年 | AH44: 月 | AJ44: 日 | AL44: ： | AN44: ～
... I47: 様 | AC47: 令和 | AF47: 年 | AH47: 月 | AJ47: 日 | AL47: ： | AN47: ～
A48: 業務 内容 | D48: 項目 | J48: 患者様氏名 | P48: 担当 | S48: 備考 | Y48: 項目 | AA48: 患者様氏名 | AG48: 内容 | AQ48: 担当
D49: 外 来 患 者 対 応 | F49: 外来患者 対応 | O49: 様 | Y49: 書 類 作 成 完 了 | AF49: 様
O50: 様 | AF50: 様
O51: 様 | AF51: 様
O52: 様 | AF52: 様
O53: 様 | AF53: 様
O54: 様 | AF54: 様
O55: 様 | AF55: 様
D56: 項目 | J56: 患者様氏名 | P56: 担当 | S56: 備考 | AF56: 様
D57: 入 退 院 支 援 | F57: 退院支援 | O57: 様 | AF57: 様
O58: 様 | AF58: 様
O59: 様 | Y59: 項目 | AG59: 件数 | AJ59: 担当 | AM59: 備考
O60: 様 | Y60: 電話対応 | AI60: 件
O61: 様 | Y61: 保健所への届出 | AI61: 件
F62: 退院請求 対応 | O62: 様 | Y62: 項目 | AG62: 内容
O63: 様 | Y63: 通院医療 観察法
F64: 入院患者 対応 | J64: 担当 | M64: 件数 | P64: 備考
O65: 件 | Y65: 認知症疾患 医療ｾﾝﾀｰ
O66: 件
O67: 件 | Y67: 各種会議参加 外部の業務
O68: 件
A69: 安全管理 | D69: 事故 | S69: 物品 購入 | AE69: 連絡 事項
D70: 苦情
D71: 紛失
D72: 他

Sheet 16
A1: ソーシャルワーカー室 業務日誌 | AH1: C.O.O | AL1: I.O.O | AP1: Ａ.Ｏ.Ｍ
H3: =曜日!B12 -> 令和6年 | M3: =曜日!C12 -> 11月 | P3: 16日 | S3: （ | T3: =曜日!D4 -> 土 | U3: ） | W3: 作成者 | Z3: ：
A5: 労務 状況 | D5: 勤務状況 | K5: 西舘 翔子 | T5: 大川 祥子 | AC5: 宇津木澤 育美 | AL5: 澤里 皓輝
K6: 安田 純子 | T6: 石鉢 佳代
A8: 入退院 状況 | D8: 入院形態 | K8: 東病棟 | Q8: 西病棟 | W8: 北病棟 | AC8: 南病棟 | AI8: 合計 | AO8: 総数
K9: 男性 | N9: 女性 | Q9: 男性 | T9: 女性 | W9: 男性 | Z9: 女性 | AC9: 男性 | AF9: 女性 | AI9: 男性 | AL9: 女性
D10: 任意入院 | AI10: =K10+Q10+W10+AC10 -> 0 | AL10: =N10+T10+Z10+AF10 -> 0 | AO10: =AI14 -> 0
D11: 医療保護入院 | AI11: =K11+Q11+W11+AC11 -> 0 | AL11: =N11+T11+Z11+AF11 -> 0
D12: 措置入院 | AI12: =K12+Q12+W12+AC12 -> 0 | AL12: =N12+T12+Z12+AF12 -> 0
D13: 合計 | K13: =SUM(K10:M12) -> 0 | N13: =SUM(N10:P12) -> 0 | Q13: =SUM(Q10:S12) -> 0 | T13: =SUM(T10:V12) -> 0 | W13: =SUM(W10:Y12) -> 0 | Z13: =SUM(Z10:AB12) -> 0 | AC13: =SUM(AC10:AE12) -> 0 | AF13: =SUM(AF10:AH12) -> 0 | AI13: =SUM(K13+Q13+W13+AC13) -> 0 | AL13: =SUM(N13+T13+Z13+AF13) -> 0 | AO13: 人
K14: =K13+N13 -> 0 | Q14: =Q13+T13 -> 0 | W14: =W13+Z13 -> 0 | AC14: =AC13+AF13 -> 0 | AI14: =AI13+AL13 -> 0
F15: 患者様氏名 | N15: 入院形態 | T15: 担当Dr | Y15: 担当SW | AD15: 病棟 | AJ15: 備考欄
D16: 入院 | L16: 様
L17: 様
L18: 様
L19: 様
L20: 様
D21: 退院 | L21: 様
L22: 様
L23: 様
L24: 様
L25: 様
D26: 転棟 ･ 入院形態変更 | L26: 様
L27: 様
L28: 様
L29: 様
L30: 様
A31: 患者様 関連 | D31: 患者様氏名 | K31: 担当Dr | P31: 病棟 | S31: 制限内容 | X31: 制限時間 | AC31: 開始日時 | AO31: 備考
I32: 様 | AC32: 令和 | AF32: 年 | AH32: 月 | AJ32: 日 | AL32: ： | AN32: ～
I33: 様 | AC33: 令和 | AF33: 年 | AH33: 月 | AJ33: 日 | AL33: ： | AN33: ～
I34: 様 | AC34: 令和 | AF34: 年 | AH34: 月 | AJ34: 日 | AL34: ： | AN34: ～
I35: 様 | AC35: 令和 | AF35: 年 | AH35: 月 | AJ35: 日 | AL35: ： | AN35: ～
I36: 様 | AC36: 令和 | AF36: 年 | AH36: 月 | AJ36: 日 | AL36: ： | AN36: ～
I37: 様 | AC37: 令和 | AF37: 年 | AH37: 月 | AJ37: 日 | AL37: ： | AN37: ～
I38: 様 | AC38: 令和 | AF38: 年 | AH38: 月 | AJ38: 日 | AL38: ： | AN38: ～
I39: 様 | AC39: 令和 | AF39: 年 | AH39: 月 | AJ39: 日 | AL39: ： | AN39: ～
I40: 様 | AC40: 令和 | AF40: 年 | AH40: 月 | AJ40: 日 | AL40: ： | AN40: ～
I41: 様 | AC41: 令和 | AF41: 年 | AH41: 月 | AJ41: 日 | AL41: ： | AN41: ～
I42: 様 | AC42: 令和 | AF42: 年 | AH42: 月 | AJ42: 日 | AL42: ： | AN42: ～
I43: 様 | AC43: 令和 | AF43: 年 | AH43: 月 | AJ43: 日 | AL43: ： | AN43: ～
... I46: 様 | AC46: 令和 | AF46: 年 | AH46: 月 | AJ46: 日 | AL46: ： | AN46: ～
A47: 業務 内容 | D47: 項目 | J47: 患者様氏名 | P47: 担当 | S47: 備考 | Y47: 項目 | AA47: 患者様氏名 | AG47: 内容 | AQ47: 担当
D48: 外 来 患 者 対 応 | F48: 外来患者 対応 | O48: 様 | Y48: 書 類 作 成 完 了 | AF48: 様
O49: 様 | AF49: 様
O50: 様 | AF50: 様
O51: 様 | AF51: 様
O52: 様 | AF52: 様
O53: 様 | AF53: 様
O54: 様 | AF54: 様
D55: 項目 | J55: 患者様氏名 | P55: 担当 | S55: 備考 | AF55: 様
D56: 入 退 院 支 援 | F56: 退院支援 | O56: 様 | AF56: 様
O57: 様 | AF57: 様
O58: 様 | Y58: 項目 | AG58: 件数 | AJ58: 担当 | AM58: 備考
O59: 様 | Y59: 電話対応 | AI59: 件
O60: 様 | Y60: 保健所への届出 | AI60: 件
F61: 退院請求 対応 | O61: 様 | Y61: 項目 | AG61: 内容
O62: 様 | Y62: 通院医療 観察法
F63: 入院患者 対応 | J63: 担当 | M63: 件数 | P63: 備考
O64: 件 | Y64: 認知症疾患 医療ｾﾝﾀｰ
O65: 件
O66: 件 | Y66: 各種会議参加 外部の業務
O67: 件
A68: 安全管理 | D68: 事故 | S68: 物品 購入 | AE68: 連絡 事項
D69: 苦情
D70: 紛失
D71: 他

Sheet 17
A1: ソーシャルワーカー室 業務日誌 | AH1: C.O.O | AL1: I.O.O | AP1: Ａ.Ｏ.Ｍ
H3: =曜日!B12 -> 令和6年 | M3: =曜日!C12 -> 11月 | P3: 17日 | S3: （ | T3: =曜日!D5 -> 日 | U3: ） | W3: 作成者 | Z3: ：
A5: 労務 状況 | D5: 勤務状況 | K5: 西舘 翔子 | T5: 大川 祥子 | AC5: 宇津木澤 育美 | AL5: 澤里 皓輝
K6: 安田 純子 | T6: 石鉢 佳代
A8: 入退院 状況 | D8: 入院形態 | K8: 東病棟 | Q8: 西病棟 | W8: 北病棟 | AC8: 南病棟 | AI8: 合計 | AO8: 総数
K9: 男性 | N9: 女性 | Q9: 男性 | T9: 女性 | W9: 男性 | Z9: 女性 | AC9: 男性 | AF9: 女性 | AI9: 男性 | AL9: 女性
D10: 任意入院 | AI10: =K10+Q10+W10+AC10 -> 0 | AL10: =N10+T10+Z10+AF10 -> 0 | AO10: =AI14 -> 0
D11: 医療保護入院 | AI11: =K11+Q11+W11+AC11 -> 0 | AL11: =N11+T11+Z11+AF11 -> 0
D12: 措置入院 | AI12: =K12+Q12+W12+AC12 -> 0 | AL12: =N12+T12+Z12+AF12 -> 0
D13: 合計 | K13: =SUM(K10:M12) -> 0 | N13: =SUM(N10:P12) -> 0 | Q13: =SUM(Q10:S12) -> 0 | T13: =SUM(T10:V12) -> 0 | W13: =SUM(W10:Y12) -> 0 | Z13: =SUM(Z10:AB12) -> 0 | AC13: =SUM(AC10:AE12) -> 0 | AF13: =SUM(AF10:AH12) -> 0 | AI13: =SUM(K13+Q13+W13+AC13) -> 0 | AL13: =SUM(N13+T13+Z13+AF13) -> 0 | AO13: 人
K14: =K13+N13 -> 0 | Q14: =Q13+T13 -> 0 | W14: =W13+Z13 -> 0 | AC14: =AC13+AF13 -> 0 | AI14: =AI13+AL13 -> 0
F15: 患者様氏名 | N15: 入院形態 | T15: 担当Dr | Y15: 担当SW | AD15: 病棟 | AJ15: 備考欄
D16: 入院 | L16: 様
L17: 様
L18: 様
L19: 様
L20: 様
D21: 退院 | L21: 様
L22: 様
L23: 様
L24: 様
L25: 様
D26: 転棟 ･ 入院形態変更 | L26: 様
L27: 様
L28: 様
L29: 様
L30: 様
A31: 患者様 関連 | D31: 患者様氏名 | K31: 担当Dr | P31: 病棟 | S31: 制限内容 | X31: 制限時間 | AC31: 開始日時 | AO31: 備考
I32: 様 | AC32: 令和 | AF32: 年 | AH32: 月 | AJ32: 日 | AL32: ： | AN32: ～
I33: 様 | AC33: 令和 | AF33: 年 | AH33: 月 | AJ33: 日 | AL33: ： | AN33: ～
I34: 様 | AC34: 令和 | AF34: 年 | AH34: 月 | AJ34: 日 | AL34: ： | AN34: ～
I35: 様 | AC35: 令和 | AF35: 年 | AH35: 月 | AJ35: 日 | AL35: ： | AN35: ～
I36: 様 | AC36: 令和 | AF36: 年 | AH36: 月 | AJ36: 日 | AL36: ： | AN36: ～
I37: 様 | AC37: 令和 | AF37: 年 | AH37: 月 | AJ37: 日 | AL37: ： | AN37: ～
I38: 様 | AC38: 令和 | AF38: 年 | AH38: 月 | AJ38: 日 | AL38: ： | AN38: ～
I39: 様 | AC39: 令和 | AF39: 年 | AH39: 月 | AJ39: 日 | AL39: ： | AN39: ～
I40: 様 | AC40: 令和 | AF40: 年 | AH40: 月 | AJ40: 日 | AL40: ： | AN40: ～
I41: 様 | AC41: 令和 | AF41: 年 | AH41: 月 | AJ41: 日 | AL41: ： | AN41: ～
I42: 様 | AC42: 令和 | AF42: 年 | AH42: 月 | AJ42: 日 | AL42: ： | AN42: ～
I43: 様 | AC43: 令和 | AF43: 年 | AH43: 月 | AJ43: 日 | AL43: ： | AN43: ～
... I46: 様 | AC46: 令和 | AF46: 年 | AH46: 月 | AJ46: 日 | AL46: ： | AN46: ～
A47: 業務 内容 | D47: 項目 | J47: 患者様氏名 | P47: 担当 | S47: 備考 | Y47: 項目 | AA47: 患者様氏名 | AG47: 内容 | AQ47: 担当
D48: 外 来 患 者 対 応 | F48: 外来患者 対応 | O48: 様 | Y48: 書 類 作 成 完 了 | AF48: 様
O49: 様 | AF49: 様
O50: 様 | AF50: 様
O51: 様 | AF51: 様
O52: 様 | AF52: 様
O53: 様 | AF53: 様
O54: 様 | AF54: 様
D55: 項目 | J55: 患者様氏名 | P55: 担当 | S55: 備考 | AF55: 様
D56: 入 退 院 支 援 | F56: 退院支援 | O56: 様 | AF56: 様
O57: 様 | AF57: 様
O58: 様 | Y58: 項目 | AG58: 件数 | AJ58: 担当 | AM58: 備考
O59: 様 | Y59: 電話対応 | AI59: 件
O60: 様 | Y60: 保健所への届出 | AI60: 件
F61: 退院請求 対応 | O61: 様 | Y61: 項目 | AG61: 内容
O62: 様 | Y62: 通院医療 観察法
F63: 入院患者 対応 | J63: 担当 | M63: 件数 | P63: 備考
O64: 件 | Y64: 認知症疾患 医療ｾﾝﾀｰ
O65: 件
O66: 件 | Y66: 各種会議参加 外部の業務
O67: 件
A68: 安全管理 | D68: 事故 | S68: 物品 購入 | AE68: 連絡 事項
D69: 苦情
D70: 紛失
D71: 他

Sheet 18
A1: ソーシャルワーカー室 業務日誌 | AH1: C.O.O | AL1: I.O.O | AP1: Ａ.Ｏ.Ｍ
H3: =曜日!B12 -> 令和6年 | M3: =曜日!C12 -> 11月 | P3: 18日 | S3: （ | T3: =曜日!D6 -> 月 | U3: ） | W3: 作成者 | Z3: ：
A5: 労務 状況 | D5: 勤務状況 | K5: 西舘 翔子 | T5: 大川 祥子 | AC5: 宇津木澤 育美 | AL5: 澤里 皓輝
K6: 安田 純子 | T6: 石鉢 佳代
A8: 入退院 状況 | D8: 入院形態 | K8: 東病棟 | Q8: 西病棟 | W8: 北病棟 | AC8: 南病棟 | AI8: 合計 | AO8: 総数
K9: 男性 | N9: 女性 | Q9: 男性 | T9: 女性 | W9: 男性 | Z9: 女性 | AC9: 男性 | AF9: 女性 | AI9: 男性 | AL9: 女性
D10: 任意入院 | AI10: =K10+Q10+W10+AC10 -> 0 | AL10: =N10+T10+Z10+AF10 -> 0 | AO10: =AI14 -> 0
D11: 医療保護入院 | AI11: =K11+Q11+W11+AC11 -> 0 | AL11: =N11+T11+Z11+AF11 -> 0
D12: 措置入院 | AI12: =K12+Q12+W12+AC12 -> 0 | AL12: =N12+T12+Z12+AF12 -> 0
D13: 合計 | K13: =SUM(K10:M12) -> 0 | N13: =SUM(N10:P12) -> 0 | Q13: =SUM(Q10:S12) -> 0 | T13: =SUM(T10:V12) -> 0 | W13: =SUM(W10:Y12) -> 0 | Z13: =SUM(Z10:AB12) -> 0 | AC13: =SUM(AC10:AE12) -> 0 | AF13: =SUM(AF10:AH12) -> 0 | AI13: =SUM(K13+Q13+W13+AC13) -> 0 | AL13: =SUM(N13+T13+Z13+AF13) -> 0 | AO13: 人
K14: =K13+N13 -> 0 | Q14: =Q13+T13 -> 0 | W14: =W13+Z13 -> 0 | AC14: =AC13+AF13 -> 0 | AI14: =AI13+AL13 -> 0
F15: 患者様氏名 | N15: 入院形態 | T15: 担当Dr | Y15: 担当SW | AD15: 病棟 | AJ15: 備考欄
D16: 入院 | L16: 様
L17: 様
L18: 様
L19: 様
L20: 様
D21: 退院 | L21: 様
L22: 様
L23: 様
L24: 様
L25: 様
D26: 転棟 ･ 入院形態変更 | L26: 様
L27: 様
L28: 様
L29: 様
L30: 様
A31: 患者様 関連 | D31: 患者様氏名 | K31: 担当Dr | P31: 病棟 | S31: 制限内容 | X31: 制限時間 | AC31: 開始日時 | AO31: 備考
I32: 様 | AC32: 令和 | AF32: 年 | AH32: 月 | AJ32: 日 | AL32: ： | AN32: ～
I33: 様 | AC33: 令和 | AF33: 年 | AH33: 月 | AJ33: 日 | AL33: ： | AN33: ～
I34: 様 | AC34: 令和 | AF34: 年 | AH34: 月 | AJ34: 日 | AL34: ： | AN34: ～
I35: 様 | AC35: 令和 | AF35: 年 | AH35: 月 | AJ35: 日 | AL35: ： | AN35: ～
I36: 様 | AC36: 令和 | AF36: 年 | AH36: 月 | AJ36: 日 | AL36: ： | AN36: ～
I37: 様 | AC37: 令和 | AF37: 年 | AH37: 月 | AJ37: 日 | AL37: ： | AN37: ～
I38: 様 | AC38: 令和 | AF38: 年 | AH38: 月 | AJ38: 日 | AL38: ： | AN38: ～
I39: 様 | AC39: 令和 | AF39: 年 | AH39: 月 | AJ39: 日 | AL39: ： | AN39: ～
I40: 様 | AC40: 令和 | AF40: 年 | AH40: 月 | AJ40: 日 | AL40: ： | AN40: ～
I41: 様 | AC41: 令和 | AF41: 年 | AH41: 月 | AJ41: 日 | AL41: ： | AN41: ～
I42: 様 | AC42: 令和 | AF42: 年 | AH42: 月 | AJ42: 日 | AL42: ： | AN42: ～
I43: 様 | AC43: 令和 | AF43: 年 | AH43: 月 | AJ43: 日 | AL43: ： | AN43: ～
... I46: 様 | AC46: 令和 | AF46: 年 | AH46: 月 | AJ46: 日 | AL46: ： | AN46: ～
A47: 業務 内容 | D47: 項目 | J47: 患者様氏名 | P47: 担当 | S47: 備考 | Y47: 項目 | AA47: 患者様氏名 | AG47: 内容 | AQ47: 担当
D48: 外 来 患 者 対 応 | F48: 外来患者 対応 | O48: 様 | Y48: 書 類 作 成 完 了 | AF48: 様
O49: 様 | AF49: 様
O50: 様 | AF50: 様
O51: 様 | AF51: 様
O52: 様 | AF52: 様
O53: 様 | AF53: 様
O54: 様 | AF54: 様
D55: 項目 | J55: 患者様氏名 | P55: 担当 | S55: 備考 | AF55: 様
D56: 入 退 院 支 援 | F56: 退院支援 | O56: 様 | AF56: 様
O57: 様 | AF57: 様
O58: 様 | Y58: 項目 | AG58: 件数 | AJ58: 担当 | AM58: 備考
O59: 様 | Y59: 電話対応 | AI59: 件
O60: 様 | Y60: 保健所への届出 | AI60: 件
F61: 退院請求 対応 | O61: 様 | Y61: 項目 | AG61: 内容
O62: 様 | Y62: 通院医療 観察法
F63: 入院患者 対応 | J63: 担当 | M63: 件数 | P63: 備考
O64: 件 | Y64: 認知症疾患 医療ｾﾝﾀｰ
O65: 件
O66: 件 | Y66: 各種会議参加 外部の業務
O67: 件
A68: 安全管理 | D68: 事故 | S68: 物品 購入 | AE68: 連絡 事項
D69: 苦情
D70: 紛失
D71: 他

Sheet 19
A1: ソーシャルワーカー室 業務日誌 | AH1: C.O.O | AL1: I.O.O | AP1: Ａ.Ｏ.Ｍ
H3: =曜日!B12 -> 令和6年 | M3: =曜日!C12 -> 11月 | P3: 19日 | S3: （ | T3: =曜日!D7 -> 火 | U3: ） | W3: 作成者 | Z3: ：
A5: 労務 状況 | D5: 勤務状況 | K5: 西舘 翔子 | T5: 大川 祥子 | AC5: 宇津木澤 育美 | AL5: 澤里 皓輝
K6: 安田 純子 | T6: 石鉢 佳代
A8: 入退院 状況 | D8: 入院形態 | K8: 東病棟 | Q8: 西病棟 | W8: 北病棟 | AC8: 南病棟 | AI8: 合計 | AO8: 総数
K9: 男性 | N9: 女性 | Q9: 男性 | T9: 女性 | W9: 男性 | Z9: 女性 | AC9: 男性 | AF9: 女性 | AI9: 男性 | AL9: 女性
D10: 任意入院 | AI10: =K10+Q10+W10+AC10 -> 0 | AL10: =N10+T10+Z10+AF10 -> 0 | AO10: =AI14 -> 0
D11: 医療保護入院 | AI11: =K11+Q11+W11+AC11 -> 0 | AL11: =N11+T11+Z11+AF11 -> 0
D12: 措置入院 | AI12: =K12+Q12+W12+AC12 -> 0 | AL12: =N12+T12+Z12+AF12 -> 0
D13: 合計 | K13: =SUM(K10:M12) -> 0 | N13: =SUM(N10:P12) -> 0 | Q13: =SUM(Q10:S12) -> 0 | T13: =SUM(T10:V12) -> 0 | W13: =SUM(W10:Y12) -> 0 | Z13: =SUM(Z10:AB12) -> 0 | AC13: =SUM(AC10:AE12) -> 0 | AF13: =SUM(AF10:AH12) -> 0 | AI13: =SUM(K13+Q13+W13+AC13) -> 0 | AL13: =SUM(N13+T13+Z13+AF13) -> 0 | AO13: 人
K14: =K13+N13 -> 0 | Q14: =Q13+T13 -> 0 | W14: =W13+Z13 -> 0 | AC14: =AC13+AF13 -> 0 | AI14: =AI13+AL13 -> 0
F15: 患者様氏名 | N15: 入院形態 | T15: 担当Dr | Y15: 担当SW | AD15: 病棟 | AJ15: 備考欄
D16: 入院 | L16: 様
L17: 様
L18: 様
L19: 様
L20: 様
D21: 退院 | L21: 様
L22: 様
L23: 様
L24: 様
L25: 様
D26: 転棟 ･ 入院形態変更 | L26: 様
L27: 様
L28: 様
L29: 様
L30: 様
A31: 患者様 関連 | D31: 患者様氏名 | K31: 担当Dr | P31: 病棟 | S31: 制限内容 | X31: 制限時間 | AC31: 開始日時 | AO31: 備考
I32: 様 | AC32: 令和 | AF32: 年 | AH32: 月 | AJ32: 日 | AL32: ： | AN32: ～
I33: 様 | AC33: 令和 | AF33: 年 | AH33: 月 | AJ33: 日 | AL33: ： | AN33: ～
I34: 様 | AC34: 令和 | AF34: 年 | AH34: 月 | AJ34: 日 | AL34: ： | AN34: ～
I35: 様 | AC35: 令和 | AF35: 年 | AH35: 月 | AJ35: 日 | AL35: ： | AN35: ～
I36: 様 | AC36: 令和 | AF36: 年 | AH36: 月 | AJ36: 日 | AL36: ： | AN36: ～
I37: 様 | AC37: 令和 | AF37: 年 | AH37: 月 | AJ37: 日 | AL37: ： | AN37: ～
I38: 様 | AC38: 令和 | AF38: 年 | AH38: 月 | AJ38: 日 | AL38: ： | AN38: ～
I39: 様 | AC39: 令和 | AF39: 年 | AH39: 月 | AJ39: 日 | AL39: ： | AN39: ～
I40: 様 | AC40: 令和 | AF40: 年 | AH40: 月 | AJ40: 日 | AL40: ： | AN40: ～
I41: 様 | AC41: 令和 | AF41: 年 | AH41: 月 | AJ41: 日 | AL41: ： | AN41: ～
I42: 様 | AC42: 令和 | AF42: 年 | AH42: 月 | AJ42: 日 | AL42: ： | AN42: ～
I43: 様 | AC43: 令和 | AF43: 年 | AH43: 月 | AJ43: 日 | AL43: ： | AN43: ～
... I46: 様 | AC46: 令和 | AF46: 年 | AH46: 月 | AJ46: 日 | AL46: ： | AN46: ～
A47: 業務 内容 | D47: 項目 | J47: 患者様氏名 | P47: 担当 | S47: 備考 | Y47: 項目 | AA47: 患者様氏名 | AG47: 内容 | AQ47: 担当
D48: 外 来 患 者 対 応 | F48: 外来患者 対応 | O48: 様 | Y48: 書 類 作 成 完 了 | AF48: 様
O49: 様 | AF49: 様
O50: 様 | AF50: 様
O51: 様 | AF51: 様
O52: 様 | AF52: 様
O53: 様 | AF53: 様
O54: 様 | AF54: 様
D55: 項目 | J55: 患者様氏名 | P55: 担当 | S55: 備考 | AF55: 様
D56: 入 退 院 支 援 | F56: 退院支援 | O56: 様 | AF56: 様
O57: 様 | AF57: 様
O58: 様 | Y58: 項目 | AG58: 件数 | AJ58: 担当 | AM58: 備考
O59: 様 | Y59: 電話対応 | AI59: 件
O60: 様 | Y60: 保健所への届出 | AI60: 件
F61: 退院請求 対応 | O61: 様 | Y61: 項目 | AG61: 内容
O62: 様 | Y62: 通院医療 観察法
F63: 入院患者 対応 | J63: 担当 | M63: 件数 | P63: 備考
O64: 件 | Y64: 認知症疾患 医療ｾﾝﾀｰ
O65: 件
O66: 件 | Y66: 各種会議参加 外部の業務
O67: 件
A68: 安全管理 | D68: 事故 | S68: 物品 購入 | AE68: 連絡 事項
D69: 苦情
D70: 紛失
D71: 他

Sheet 20
A1: ソーシャルワーカー室 業務日誌 | AH1: C.O.O | AL1: I.O.O | AP1: Ａ.Ｏ.Ｍ
H3: =曜日!B12 -> 令和6年 | M3: =曜日!C12 -> 11月 | P3: 20日 | S3: （ | T3: =曜日!D8 -> 水 | U3: ） | W3: 作成者 | Z3: ：
A5: 労務 状況 | D5: 勤務状況 | K5: 西舘 翔子 | T5: 大川 祥子 | AC5: 宇津木澤 育美 | AL5: 澤里 皓輝
K6: 安田 純子 | T6: 石鉢 佳代
A8: 入退院 状況 | D8: 入院形態 | K8: 東病棟 | Q8: 西病棟 | W8: 北病棟 | AC8: 南病棟 | AI8: 合計 | AO8: 総数
K9: 男性 | N9: 女性 | Q9: 男性 | T9: 女性 | W9: 男性 | Z9: 女性 | AC9: 男性 | AF9: 女性 | AI9: 男性 | AL9: 女性
D10: 任意入院 | AI10: =K10+Q10+W10+AC10 -> 0 | AL10: =N10+T10+Z10+AF10 -> 0 | AO10: =AI14 -> 0
D11: 医療保護入院 | AI11: =K11+Q11+W11+AC11 -> 0 | AL11: =N11+T11+Z11+AF11 -> 0
D12: 措置入院 | AI12: =K12+Q12+W12+AC12 -> 0 | AL12: =N12+T12+Z12+AF12 -> 0
D13: 合計 | K13: =SUM(K10:M12) -> 0 | N13: =SUM(N10:P12) -> 0 | Q13: =SUM(Q10:S12) -> 0 | T13: =SUM(T10:V12) -> 0 | W13: =SUM(W10:Y12) -> 0 | Z13: =SUM(Z10:AB12) -> 0 | AC13: =SUM(AC10:AE12) -> 0 | AF13: =SUM(AF10:AH12) -> 0 | AI13: =SUM(K13+Q13+W13+AC13) -> 0 | AL13: =SUM(N13+T13+Z13+AF13) -> 0 | AO13: 人
K14: =K13+N13 -> 0 | Q14: =Q13+T13 -> 0 | W14: =W13+Z13 -> 0 | AC14: =AC13+AF13 -> 0 | AI14: =AI13+AL13 -> 0
F15: 患者様氏名 | N15: 入院形態 | T15: 担当Dr | Y15: 担当SW | AD15: 病棟 | AJ15: 備考欄
D16: 入院 | L16: 様
L17: 様
L18: 様
L19: 様
L20: 様
D21: 退院 | L21: 様
L22: 様
L23: 様
L24: 様
L25: 様
D26: 転棟 ･ 入院形態変更 | L26: 様
L27: 様
L28: 様
L29: 様
L30: 様
A31: 患者様 関連 | D31: 患者様氏名 | K31: 担当Dr | P31: 病棟 | S31: 制限内容 | X31: 制限時間 | AC31: 開始日時 | AO31: 備考
I32: 様 | AC32: 令和 | AF32: 年 | AH32: 月 | AJ32: 日 | AL32: ： | AN32: ～
I33: 様 | AC33: 令和 | AF33: 年 | AH33: 月 | AJ33: 日 | AL33: ： | AN33: ～
I34: 様 | AC34: 令和 | AF34: 年 | AH34: 月 | AJ34: 日 | AL34: ： | AN34: ～
I35: 様 | AC35: 令和 | AF35: 年 | AH35: 月 | AJ35: 日 | AL35: ： | AN35: ～
I36: 様 | AC36: 令和 | AF36: 年 | AH36: 月 | AJ36: 日 | AL36: ： | AN36: ～
I37: 様 | AC37: 令和 | AF37: 年 | AH37: 月 | AJ37: 日 | AL37: ： | AN37: ～
I38: 様 | AC38: 令和 | AF38: 年 | AH38: 月 | AJ38: 日 | AL38: ： | AN38: ～
I39: 様 | AC39: 令和 | AF39: 年 | AH39: 月 | AJ39: 日 | AL39: ： | AN39: ～
I40: 様 | AC40: 令和 | AF40: 年 | AH40: 月 | AJ40: 日 | AL40: ： | AN40: ～
I41: 様 | AC41: 令和 | AF41: 年 | AH41: 月 | AJ41: 日 | AL41: ： | AN41: ～
I42: 様 | AC42: 令和 | AF42: 年 | AH42: 月 | AJ42: 日 | AL42: ： | AN42: ～
I43: 様 | AC43: 令和 | AF43: 年 | AH43: 月 | AJ43: 日 | AL43: ： | AN43: ～
... I46: 様 | AC46: 令和 | AF46: 年 | AH46: 月 | AJ46: 日 | AL46: ： | AN46: ～
A47: 業務 内容 | D47: 項目 | J47: 患者様氏名 | P47: 担当 | S47: 備考 | Y47: 項目 | AA47: 患者様氏名 | AG47: 内容 | AQ47: 担当
D48: 外 来 患 者 対 応 | F48: 外来患者 対応 | O48: 様 | Y48: 書 類 作 成 完 了 | AF48: 様
O49: 様 | AF49: 様
O50: 様 | AF50: 様
O51: 様 | AF51: 様
O52: 様 | AF52: 様
O53: 様 | AF53: 様
O54: 様 | AF54: 様
D55: 項目 | J55: 患者様氏名 | P55: 担当 | S55: 備考 | AF55: 様
D56: 入 退 院 支 援 | F56: 退院支援 | O56: 様 | AF56: 様
O57: 様 | AF57: 様
O58: 様 | Y58: 項目 | AG58: 件数 | AJ58: 担当 | AM58: 備考
O59: 様 | Y59: 電話対応 | AI59: 件
O60: 様 | Y60: 保健所への届出 | AI60: 件
F61: 退院請求 対応 | O61: 様 | Y61: 項目 | AG61: 内容
O62: 様 | Y62: 通院医療 観察法
F63: 入院患者 対応 | J63: 担当 | M63: 件数 | P63: 備考
O64: 件 | Y64: 認知症疾患 医療ｾﾝﾀｰ
O65: 件
O66: 件 | Y66: 各種会議参加 外部の業務
O67: 件
A68: 安全管理 | D68: 事故 | S68: 物品 購入 | AE68: 連絡 事項
D69: 苦情
D70: 紛失
D71: 他

Sheet 21
A1: ソーシャルワーカー室 業務日誌 | AH1: C.O.O | AL1: I.O.O | AP1: Ａ.Ｏ.Ｍ
H3: =曜日!B12 -> 令和6年 | M3: =曜日!C12 -> 11月 | P3: 21日 | S3: （ | T3: =曜日!D9 -> 木 | U3: ） | W3: 作成者 | Z3: ：
A5: 労務 状況 | D5: 勤務状況 | K5: 西舘 翔子 | T5: 大川 祥子 | AC5: 宇津木澤 育美 | AL5: 澤里 皓輝
K6: 安田 純子 | T6: 石鉢 佳代
A8: 入退院 状況 | D8: 入院形態 | K8: 東病棟 | Q8: 西病棟 | W8: 北病棟 | AC8: 南病棟 | AI8: 合計 | AO8: 総数
K9: 男性 | N9: 女性 | Q9: 男性 | T9: 女性 | W9: 男性 | Z9: 女性 | AC9: 男性 | AF9: 女性 | AI9: 男性 | AL9: 女性
D10: 任意入院 | AI10: =K10+Q10+W10+AC10 -> 0 | AL10: =N10+T10+Z10+AF10 -> 0 | AO10: =AI14 -> 0
D11: 医療保護入院 | AI11: =K11+Q11+W11+AC11 -> 0 | AL11: =N11+T11+Z11+AF11 -> 0
D12: 措置入院 | AI12: =K12+Q12+W12+AC12 -> 0 | AL12: =N12+T12+Z12+AF12 -> 0
D13: 合計 | K13: =SUM(K10:M12) -> 0 | N13: =SUM(N10:P12) -> 0 | Q13: =SUM(Q10:S12) -> 0 | T13: =SUM(T10:V12) -> 0 | W13: =SUM(W10:Y12) -> 0 | Z13: =SUM(Z10:AB12) -> 0 | AC13: =SUM(AC10:AE12) -> 0 | AF13: =SUM(AF10:AH12) -> 0 | AI13: =SUM(K13+Q13+W13+AC13) -> 0 | AL13: =SUM(N13+T13+Z13+AF13) -> 0 | AO13: 人
K14: =K13+N13 -> 0 | Q14: =Q13+T13 -> 0 | W14: =W13+Z13 -> 0 | AC14: =AC13+AF13 -> 0 | AI14: =AI13+AL13 -> 0
F15: 患者様氏名 | N15: 入院形態 | T15: 担当Dr | Y15: 担当SW | AD15: 病棟 | AJ15: 備考欄
D16: 入院 | L16: 様
L17: 様
L18: 様
L19: 様
L20: 様
D21: 退院 | L21: 様
L22: 様
L23: 様
L24: 様
L25: 様
D26: 転棟 ･ 入院形態変更 | L26: 様
L27: 様
L28: 様
L29: 様
L30: 様
A31: 患者様 関連 | D31: 患者様氏名 | K31: 担当Dr | P31: 病棟 | S31: 制限内容 | X31: 制限時間 | AC31: 開始日時 | AO31: 備考
I32: 様 | AC32: 令和 | AF32: 年 | AH32: 月 | AJ32: 日 | AL32: ： | AN32: ～
I33: 様 | AC33: 令和 | AF33: 年 | AH33: 月 | AJ33: 日 | AL33: ： | AN33: ～
I34: 様 | AC34: 令和 | AF34: 年 | AH34: 月 | AJ34: 日 | AL34: ： | AN34: ～
I35: 様 | AC35: 令和 | AF35: 年 | AH35: 月 | AJ35: 日 | AL35: ： | AN35: ～
I36: 様 | AC36: 令和 | AF36: 年 | AH36: 月 | AJ36: 日 | AL36: ： | AN36: ～
I37: 様 | AC37: 令和 | AF37: 年 | AH37: 月 | AJ37: 日 | AL37: ： | AN37: ～
I38: 様 | AC38: 令和 | AF38: 年 | AH38: 月 | AJ38: 日 | AL38: ： | AN38: ～
I39: 様 | AC39: 令和 | AF39: 年 | AH39: 月 | AJ39: 日 | AL39: ： | AN39: ～
I40: 様 | AC40: 令和 | AF40: 年 | AH40: 月 | AJ40: 日 | AL40: ： | AN40: ～
I41: 様 | AC41: 令和 | AF41: 年 | AH41: 月 | AJ41: 日 | AL41: ： | AN41: ～
I42: 様 | AC42: 令和 | AF42: 年 | AH42: 月 | AJ42: 日 | AL42: ： | AN42: ～
I43: 様 | AC43: 令和 | AF43: 年 | AH43: 月 | AJ43: 日 | AL43: ： | AN43: ～
... I46: 様 | AC46: 令和 | AF46: 年 | AH46: 月 | AJ46: 日 | AL46: ： | AN46: ～
A47: 業務 内容 | D47: 項目 | J47: 患者様氏名 | P47: 担当 | S47: 備考 | Y47: 項目 | AA47: 患者様氏名 | AG47: 内容 | AQ47: 担当
D48: 外 来 患 者 対 応 | F48: 外来患者 対応 | O48: 様 | Y48: 書 類 作 成 完 了 | AF48: 様
O49: 様 | AF49: 様
O50: 様 | AF50: 様
O51: 様 | AF51: 様
O52: 様 | AF52: 様
O53: 様 | AF53: 様
O54: 様 | AF54: 様
D55: 項目 | J55: 患者様氏名 | P55: 担当 | S55: 備考 | AF55: 様
D56: 入 退 院 支 援 | F56: 退院支援 | O56: 様 | AF56: 様
O57: 様 | AF57: 様
O58: 様 | Y58: 項目 | AG58: 件数 | AJ58: 担当 | AM58: 備考
O59: 様 | Y59: 電話対応 | AI59: 件
O60: 様 | Y60: 保健所への届出 | AI60: 件
F61: 退院請求 対応 | O61: 様 | Y61: 項目 | AG61: 内容
O62: 様 | Y62: 通院医療 観察法
F63: 入院患者 対応 | J63: 担当 | M63: 件数 | P63: 備考
O64: 件 | Y64: 認知症疾患 医療ｾﾝﾀｰ
O65: 件
O66: 件 | Y66: 各種会議参加 外部の業務
O67: 件
A68: 安全管理 | D68: 事故 | S68: 物品 購入 | AE68: 連絡 事項
D69: 苦情
D70: 紛失
D71: 他

Sheet 22
A1: ソーシャルワーカー室 業務日誌 | AH1: C.O.O | AL1: I.O.O | AP1: Ａ.Ｏ.Ｍ
H3: =曜日!B12 -> 令和6年 | M3: =曜日!C12 -> 11月 | P3: 22日 | S3: （ | T3: =曜日!D3 -> 金 | U3: ） | W3: 作成者 | Z3: ：
A5: 労務 状況 | D5: 勤務状況 | K5: 西舘 翔子 | T5: 大川 祥子 | AC5: 宇津木澤 育美 | AL5: 澤里 皓輝
K6: 安田 純子 | T6: 石鉢 佳代
A8: 入退院 状況 | D8: 入院形態 | K8: 東病棟 | Q8: 西病棟 | W8: 北病棟 | AC8: 南病棟 | AI8: 合計 | AO8: 総数
K9: 男性 | N9: 女性 | Q9: 男性 | T9: 女性 | W9: 男性 | Z9: 女性 | AC9: 男性 | AF9: 女性 | AI9: 男性 | AL9: 女性
D10: 任意入院 | AI10: =K10+Q10+W10+AC10 -> 0 | AL10: =N10+T10+Z10+AF10 -> 0 | AO10: =AI14 -> 0
D11: 医療保護入院 | AI11: =K11+Q11+W11+AC11 -> 0 | AL11: =N11+T11+Z11+AF11 -> 0
D12: 措置入院 | AI12: =K12+Q12+W12+AC12 -> 0 | AL12: =N12+T12+Z12+AF12 -> 0
D13: 合計 | K13: =SUM(K10:M12) -> 0 | N13: =SUM(N10:P12) -> 0 | Q13: =SUM(Q10:S12) -> 0 | T13: =SUM(T10:V12) -> 0 | W13: =SUM(W10:Y12) -> 0 | Z13: =SUM(Z10:AB12) -> 0 | AC13: =SUM(AC10:AE12) -> 0 | AF13: =SUM(AF10:AH12) -> 0 | AI13: =SUM(K13+Q13+W13+AC13) -> 0 | AL13: =SUM(N13+T13+Z13+AF13) -> 0 | AO13: 人
K14: =K13+N13 -> 0 | Q14: =Q13+T13 -> 0 | W14: =W13+Z13 -> 0 | AC14: =AC13+AF13 -> 0 | AI14: =AI13+AL13 -> 0
F15: 患者様氏名 | N15: 入院形態 | T15: 担当Dr | Y15: 担当SW | AD15: 病棟 | AJ15: 備考欄
D16: 入院 | L16: 様
L17: 様
L18: 様
L19: 様
L20: 様
D21: 退院 | L21: 様
L22: 様
L23: 様
L24: 様
L25: 様
D26: 転棟 ･ 入院形態変更 | L26: 様
L27: 様
L28: 様
L29: 様
L30: 様
A31: 患者様 関連 | D31: 患者様氏名 | K31: 担当Dr | P31: 病棟 | S31: 制限内容 | X31: 制限時間 | AC31: 開始日時 | AO31: 備考
I32: 様 | AC32: 令和 | AF32: 年 | AH32: 月 | AJ32: 日 | AL32: ： | AN32: ～
I33: 様 | AC33: 令和 | AF33: 年 | AH33: 月 | AJ33: 日 | AL33: ： | AN33: ～
I34: 様 | AC34: 令和 | AF34: 年 | AH34: 月 | AJ34: 日 | AL34: ： | AN34: ～
I35: 様 | AC35: 令和 | AF35: 年 | AH35: 月 | AJ35: 日 | AL35: ： | AN35: ～
I36: 様 | AC36: 令和 | AF36: 年 | AH36: 月 | AJ36: 日 | AL36: ： | AN36: ～
I37: 様 | AC37: 令和 | AF37: 年 | AH37: 月 | AJ37: 日 | AL37: ： | AN37: ～
I38: 様 | AC38: 令和 | AF38: 年 | AH38: 月 | AJ38: 日 | AL38: ： | AN38: ～
I39: 様 | AC39: 令和 | AF39: 年 | AH39: 月 | AJ39: 日 | AL39: ： | AN39: ～
I40: 様 | AC40: 令和 | AF40: 年 | AH40: 月 | AJ40: 日 | AL40: ： | AN40: ～
I41: 様 | AC41: 令和 | AF41: 年 | AH41: 月 | AJ41: 日 | AL41: ： | AN41: ～
I42: 様 | AC42: 令和 | AF42: 年 | AH42: 月 | AJ42: 日 | AL42: ： | AN42: ～
I43: 様 | AC43: 令和 | AF43: 年 | AH43: 月 | AJ43: 日 | AL43: ： | AN43: ～
... I46: 様 | AC46: 令和 | AF46: 年 | AH46: 月 | AJ46: 日 | AL46: ： | AN46: ～
A47: 業務 内容 | D47: 項目 | J47: 患者様氏名 | P47: 担当 | S47: 備考 | Y47: 項目 | AA47: 患者様氏名 | AG47: 内容 | AQ47: 担当
D48: 外 来 患 者 対 応 | F48: 外来患者 対応 | O48: 様 | Y48: 書 類 作 成 完 了 | AF48: 様
O49: 様 | AF49: 様
O50: 様 | AF50: 様
O51: 様 | AF51: 様
O52: 様 | AF52: 様
O53: 様 | AF53: 様
O54: 様 | AF54: 様
D55: 項目 | J55: 患者様氏名 | P55: 担当 | S55: 備考 | AF55: 様
D56: 入 退 院 支 援 | F56: 退院支援 | O56: 様 | AF56: 様
O57: 様 | AF57: 様
O58: 様 | Y58: 項目 | AG58: 件数 | AJ58: 担当 | AM58: 備考
O59: 様 | Y59: 電話対応 | AI59: 件
O60: 様 | Y60: 保健所への届出 | AI60: 件
F61: 退院請求 対応 | O61: 様 | Y61: 項目 | AG61: 内容
O62: 様 | Y62: 通院医療 観察法
F63: 入院患者 対応 | J63: 担当 | M63: 件数 | P63: 備考
O64: 件 | Y64: 認知症疾患 医療ｾﾝﾀｰ
O65: 件
O66: 件 | Y66: 各種会議参加 外部の業務
O67: 件
A68: 安全管理 | D68: 事故 | S68: 物品 購入 | AE68: 連絡 事項
D69: 苦情
D70: 紛失
D71: 他

Sheet 23
A1: ソーシャルワーカー室 業務日誌 | AH1: C.O.O | AL1: I.O.O | AP1: Ａ.Ｏ.Ｍ
H3: =曜日!B12 -> 令和6年 | M3: =曜日!C12 -> 11月 | P3: 23日 | S3: （ | T3: =曜日!D4 -> 土 | U3: ） | W3: 作成者 | Z3: ：
A5: 労務 状況 | D5: 勤務状況 | K5: 西舘 翔子 | T5: 大川 祥子 | AC5: 宇津木澤 育美 | AL5: 澤里 皓輝
K6: 安田 純子 | T6: 石鉢 佳代
A8: 入退院 状況 | D8: 入院形態 | K8: 東病棟 | Q8: 西病棟 | W8: 北病棟 | AC8: 南病棟 | AI8: 合計 | AO8: 総数
K9: 男性 | N9: 女性 | Q9: 男性 | T9: 女性 | W9: 男性 | Z9: 女性 | AC9: 男性 | AF9: 女性 | AI9: 男性 | AL9: 女性
D10: 任意入院 | AI10: =K10+Q10+W10+AC10 -> 0 | AL10: =N10+T10+Z10+AF10 -> 0 | AO10: =AI14 -> 0
D11: 医療保護入院 | AI11: =K11+Q11+W11+AC11 -> 0 | AL11: =N11+T11+Z11+AF11 -> 0
D12: 措置入院 | AI12: =K12+Q12+W12+AC12 -> 0 | AL12: =N12+T12+Z12+AF12 -> 0
D13: 合計 | K13: =SUM(K10:M12) -> 0 | N13: =SUM(N10:P12) -> 0 | Q13: =SUM(Q10:S12) -> 0 | T13: =SUM(T10:V12) -> 0 | W13: =SUM(W10:Y12) -> 0 | Z13: =SUM(Z10:AB12) -> 0 | AC13: =SUM(AC10:AE12) -> 0 | AF13: =SUM(AF10:AH12) -> 0 | AI13: =SUM(K13+Q13+W13+AC13) -> 0 | AL13: =SUM(N13+T13+Z13+AF13) -> 0 | AO13: 人
K14: =K13+N13 -> 0 | Q14: =Q13+T13 -> 0 | W14: =W13+Z13 -> 0 | AC14: =AC13+AF13 -> 0 | AI14: =AI13+AL13 -> 0
F15: 患者様氏名 | N15: 入院形態 | T15: 担当Dr | Y15: 担当SW | AD15: 病棟 | AJ15: 備考欄
D16: 入院 | L16: 様
L17: 様
L18: 様
L19: 様
L20: 様
D21: 退院 | L21: 様
L22: 様
L23: 様
L24: 様
L25: 様
D26: 転棟 ･ 入院形態変更 | L26: 様
L27: 様
L28: 様
L29: 様
L30: 様
A31: 患者様 関連 | D31: 患者様氏名 | K31: 担当Dr | P31: 病棟 | S31: 制限内容 | X31: 制限時間 | AC31: 開始日時 | AO31: 備考
I32: 様 | AC32: 令和 | AF32: 年 | AH32: 月 | AJ32: 日 | AL32: ： | AN32: ～
I33: 様 | AC33: 令和 | AF33: 年 | AH33: 月 | AJ33: 日 | AL33: ： | AN33: ～
I34: 様 | AC34: 令和 | AF34: 年 | AH34: 月 | AJ34: 日 | AL34: ： | AN34: ～
I35: 様 | AC35: 令和 | AF35: 年 | AH35: 月 | AJ35: 日 | AL35: ： | AN35: ～
I36: 様 | AC36: 令和 | AF36: 年 | AH36: 月 | AJ36: 日 | AL36: ： | AN36: ～
I37: 様 | AC37: 令和 | AF37: 年 | AH37: 月 | AJ37: 日 | AL37: ： | AN37: ～
I38: 様 | AC38: 令和 | AF38: 年 | AH38: 月 | AJ38: 日 | AL38: ： | AN38: ～
I39: 様 | AC39: 令和 | AF39: 年 | AH39: 月 | AJ39: 日 | AL39: ： | AN39: ～
I40: 様 | AC40: 令和 | AF40: 年 | AH40: 月 | AJ40: 日 | AL40: ： | AN40: ～
I41: 様 | AC41: 令和 | AF41: 年 | AH41: 月 | AJ41: 日 | AL41: ： | AN41: ～
I42: 様 | AC42: 令和 | AF42: 年 | AH42: 月 | AJ42: 日 | AL42: ： | AN42: ～
I43: 様 | AC43: 令和 | AF43: 年 | AH43: 月 | AJ43: 日 | AL43: ： | AN43: ～
... I46: 様 | AC46: 令和 | AF46: 年 | AH46: 月 | AJ46: 日 | AL46: ： | AN46: ～
A47: 業務 内容 | D47: 項目 | J47: 患者様氏名 | P47: 担当 | S47: 備考 | Y47: 項目 | AA47: 患者様氏名 | AG47: 内容 | AQ47: 担当
D48: 外 来 患 者 対 応 | F48: 外来患者 対応 | O48: 様 | Y48: 書 類 作 成 完 了 | AF48: 様
O49: 様 | AF49: 様
O50: 様 | AF50: 様
O51: 様 | AF51: 様
O52: 様 | AF52: 様
O53: 様 | AF53: 様
O54: 様 | AF54: 様
D55: 項目 | J55: 患者様氏名 | P55: 担当 | S55: 備考 | AF55: 様
D56: 入 退 院 支 援 | F56: 退院支援 | O56: 様 | AF56: 様
O57: 様 | AF57: 様
O58: 様 | Y58: 項目 | AG58: 件数 | AJ58: 担当 | AM58: 備考
O59: 様 | Y59: 電話対応 | AI59: 件
O60: 様 | Y60: 保健所への届出 | AI60: 件
F61: 退院請求 対応 | O61: 様 | Y61: 項目 | AG61: 内容
O62: 様 | Y62: 通院医療 観察法
F63: 入院患者 対応 | J63: 担当 | M63: 件数 | P63: 備考
O64: 件 | Y64: 認知症疾患 医療ｾﾝﾀｰ
O65: 件
O66: 件 | Y66: 各種会議参加 外部の業務
O67: 件
A68: 安全管理 | D68: 事故 | S68: 物品 購入 | AE68: 連絡 事項
D69: 苦情
D70: 紛失
D71: 他

Sheet 24
A1: ソーシャルワーカー室 業務日誌 | AH1: C.O.O | AL1: I.O.O | AP1: Ａ.Ｏ.Ｍ
H3: =曜日!B12 -> 令和6年 | M3: =曜日!C12 -> 11月 | P3: 24日 | S3: （ | T3: =曜日!D5 -> 日 | U3: ） | W3: 作成者 | Z3: ：
A5: 労務 状況 | D5: 勤務状況 | K5: 西舘 翔子 | T5: 大川 祥子 | AC5: 宇津木澤 育美 | AL5: 澤里 皓輝
K6: 安田 純子 | T6: 石鉢 佳代
A8: 入退院 状況 | D8: 入院形態 | K8: 東病棟 | Q8: 西病棟 | W8: 北病棟 | AC8: 南病棟 | AI8: 合計 | AO8: 総数
K9: 男性 | N9: 女性 | Q9: 男性 | T9: 女性 | W9: 男性 | Z9: 女性 | AC9: 男性 | AF9: 女性 | AI9: 男性 | AL9: 女性
D10: 任意入院 | AI10: =K10+Q10+W10+AC10 -> 0 | AL10: =N10+T10+Z10+AF10 -> 0 | AO10: =AI14 -> 0
D11: 医療保護入院 | AI11: =K11+Q11+W11+AC11 -> 0 | AL11: =N11+T11+Z11+AF11 -> 0
D12: 措置入院 | AI12: =K12+Q12+W12+AC12 -> 0 | AL12: =N12+T12+Z12+AF12 -> 0
D13: 合計 | K13: =SUM(K10:M12) -> 0 | N13: =SUM(N10:P12) -> 0 | Q13: =SUM(Q10:S12) -> 0 | T13: =SUM(T10:V12) -> 0 | W13: =SUM(W10:Y12) -> 0 | Z13: =SUM(Z10:AB12) -> 0 | AC13: =SUM(AC10:AE12) -> 0 | AF13: =SUM(AF10:AH12) -> 0 | AI13: =SUM(K13+Q13+W13+AC13) -> 0 | AL13: =SUM(N13+T13+Z13+AF13) -> 0 | AO13: 人
K14: =K13+N13 -> 0 | Q14: =Q13+T13 -> 0 | W14: =W13+Z13 -> 0 | AC14: =AC13+AF13 -> 0 | AI14: =AI13+AL13 -> 0
F15: 患者様氏名 | N15: 入院形態 | T15: 担当Dr | Y15: 担当SW | AD15: 病棟 | AJ15: 備考欄
D16: 入院 | L16: 様
L17: 様
L18: 様
L19: 様
L20: 様
D21: 退院 | L21: 様
L22: 様
L23: 様
L24: 様
L25: 様
D26: 転棟 ･ 入院形態変更 | L26: 様
L27: 様
L28: 様
L29: 様
L30: 様
A31: 患者様 関連 | D31: 患者様氏名 | K31: 担当Dr | P31: 病棟 | S31: 制限内容 | X31: 制限時間 | AC31: 開始日時 | AO31: 備考
I32: 様 | AC32: 令和 | AF32: 年 | AH32: 月 | AJ32: 日 | AL32: ： | AN32: ～
I33: 様 | AC33: 令和 | AF33: 年 | AH33: 月 | AJ33: 日 | AL33: ： | AN33: ～
I34: 様 | AC34: 令和 | AF34: 年 | AH34: 月 | AJ34: 日 | AL34: ： | AN34: ～
I35: 様 | AC35: 令和 | AF35: 年 | AH35: 月 | AJ35: 日 | AL35: ： | AN35: ～
I36: 様 | AC36: 令和 | AF36: 年 | AH36: 月 | AJ36: 日 | AL36: ： | AN36: ～
I37: 様 | AC37: 令和 | AF37: 年 | AH37: 月 | AJ37: 日 | AL37: ： | AN37: ～
I38: 様 | AC38: 令和 | AF38: 年 | AH38: 月 | AJ38: 日 | AL38: ： | AN38: ～
I39: 様 | AC39: 令和 | AF39: 年 | AH39: 月 | AJ39: 日 | AL39: ： | AN39: ～
I40: 様 | AC40: 令和 | AF40: 年 | AH40: 月 | AJ40: 日 | AL40: ： | AN40: ～
I41: 様 | AC41: 令和 | AF41: 年 | AH41: 月 | AJ41: 日 | AL41: ： | AN41: ～
I42: 様 | AC42: 令和 | AF42: 年 | AH42: 月 | AJ42: 日 | AL42: ： | AN42: ～
I43: 様 | AC43: 令和 | AF43: 年 | AH43: 月 | AJ43: 日 | AL43: ： | AN43: ～
... I46: 様 | AC46: 令和 | AF46: 年 | AH46: 月 | AJ46: 日 | AL46: ： | AN46: ～
A47: 業務 内容 | D47: 項目 | J47: 患者様氏名 | P47: 担当 | S47: 備考 | Y47: 項目 | AA47: 患者様氏名 | AG47: 内容 | AQ47: 担当
D48: 外 来 患 者 対 応 | F48: 外来患者 対応 | O48: 様 | Y48: 書 類 作 成 完 了 | AF48: 様
O49: 様 | AF49: 様
O50: 様 | AF50: 様
O51: 様 | AF51: 様
O52: 様 | AF52: 様
O53: 様 | AF53: 様
O54: 様 | AF54: 様
D55: 項目 | J55: 患者様氏名 | P55: 担当 | S55: 備考 | AF55: 様
D56: 入 退 院 支 援 | F56: 退院支援 | O56: 様 | AF56: 様
O57: 様 | AF57: 様
O58: 様 | Y58: 項目 | AG58: 件数 | AJ58: 担当 | AM58: 備考
O59: 様 | Y59: 電話対応 | AI59: 件
O60: 様 | Y60: 保健所への届出 | AI60: 件
F61: 退院請求 対応 | O61: 様 | Y61: 項目 | AG61: 内容
O62: 様 | Y62: 通院医療 観察法
F63: 入院患者 対応 | J63: 担当 | M63: 件数 | P63: 備考
O64: 件 | Y64: 認知症疾患 医療ｾﾝﾀｰ
O65: 件
O66: 件 | Y66: 各種会議参加 外部の業務
O67: 件
A68: 安全管理 | D68: 事故 | S68: 物品 購入 | AE68: 連絡 事項
D69: 苦情
D70: 紛失
D71: 他

Sheet 25
A1: ソーシャルワーカー室 業務日誌 | AH1: C.O.O | AL1: I.O.O | AP1: Ａ.Ｏ.Ｍ
H3: =曜日!B12 -> 令和6年 | M3: =曜日!C12 -> 11月 | P3: 25日 | S3: （ | T3: =曜日!D6 -> 月 | U3: ） | W3: 作成者 | Z3: ：
A5: 労務 状況 | D5: 勤務状況 | K5: 西舘 翔子 | T5: 大川 祥子 | AC5: 宇津木澤 育美 | AL5: 澤里 皓輝
K6: 安田 純子 | T6: 石鉢 佳代
A8: 入退院 状況 | D8: 入院形態 | K8: 東病棟 | Q8: 西病棟 | W8: 北病棟 | AC8: 南病棟 | AI8: 合計 | AO8: 総数
K9: 男性 | N9: 女性 | Q9: 男性 | T9: 女性 | W9: 男性 | Z9: 女性 | AC9: 男性 | AF9: 女性 | AI9: 男性 | AL9: 女性
D10: 任意入院 | AI10: =K10+Q10+W10+AC10 -> 0 | AL10: =N10+T10+Z10+AF10 -> 0 | AO10: =AI14 -> 0
D11: 医療保護入院 | AI11: =K11+Q11+W11+AC11 -> 0 | AL11: =N11+T11+Z11+AF11 -> 0
D12: 措置入院 | AI12: =K12+Q12+W12+AC12 -> 0 | AL12: =N12+T12+Z12+AF12 -> 0
D13: 合計 | K13: =SUM(K10:M12) -> 0 | N13: =SUM(N10:P12) -> 0 | Q13: =SUM(Q10:S12) -> 0 | T13: =SUM(T10:V12) -> 0 | W13: =SUM(W10:Y12) -> 0 | Z13: =SUM(Z10:AB12) -> 0 | AC13: =SUM(AC10:AE12) -> 0 | AF13: =SUM(AF10:AH12) -> 0 | AI13: =SUM(K13+Q13+W13+AC13) -> 0 | AL13: =SUM(N13+T13+Z13+AF13) -> 0 | AO13: 人
K14: =K13+N13 -> 0 | Q14: =Q13+T13 -> 0 | W14: =W13+Z13 -> 0 | AC14: =AC13+AF13 -> 0 | AI14: =AI13+AL13 -> 0
F15: 患者様氏名 | N15: 入院形態 | T15: 担当Dr | Y15: 担当SW | AD15: 病棟 | AJ15: 備考欄
D16: 入院 | L16: 様
L17: 様
L18: 様
L19: 様
L20: 様
D21: 退院 | L21: 様
L22: 様
L23: 様
L24: 様
L25: 様
D26: 転棟 ･ 入院形態変更 | L26: 様
L27: 様
L28: 様
L29: 様
L30: 様
A31: 患者様 関連 | D31: 患者様氏名 | K31: 担当Dr | P31: 病棟 | S31: 制限内容 | X31: 制限時間 | AC31: 開始日時 | AO31: 備考
I32: 様 | AC32: 令和 | AF32: 年 | AH32: 月 | AJ32: 日 | AL32: ： | AN32: ～
I33: 様 | AC33: 令和 | AF33: 年 | AH33: 月 | AJ33: 日 | AL33: ： | AN33: ～
I34: 様 | AC34: 令和 | AF34: 年 | AH34: 月 | AJ34: 日 | AL34: ： | AN34: ～
I35: 様 | AC35: 令和 | AF35: 年 | AH35: 月 | AJ35: 日 | AL35: ： | AN35: ～
I36: 様 | AC36: 令和 | AF36: 年 | AH36: 月 | AJ36: 日 | AL36: ： | AN36: ～
I37: 様 | AC37: 令和 | AF37: 年 | AH37: 月 | AJ37: 日 | AL37: ： | AN37: ～
I38: 様 | AC38: 令和 | AF38: 年 | AH38: 月 | AJ38: 日 | AL38: ： | AN38: ～
I39: 様 | AC39: 令和 | AF39: 年 | AH39: 月 | AJ39: 日 | AL39: ： | AN39: ～
I40: 様 | AC40: 令和 | AF40: 年 | AH40: 月 | AJ40: 日 | AL40: ： | AN40: ～
I41: 様 | AC41: 令和 | AF41: 年 | AH41: 月 | AJ41: 日 | AL41: ： | AN41: ～
I42: 様 | AC42: 令和 | AF42: 年 | AH42: 月 | AJ42: 日 | AL42: ： | AN42: ～
I43: 様 | AC43: 令和 | AF43: 年 | AH43: 月 | AJ43: 日 | AL43: ： | AN43: ～
... I46: 様 | AC46: 令和 | AF46: 年 | AH46: 月 | AJ46: 日 | AL46: ： | AN46: ～
A47: 業務 内容 | D47: 項目 | J47: 患者様氏名 | P47: 担当 | S47: 備考 | Y47: 項目 | AA47: 患者様氏名 | AG47: 内容 | AQ47: 担当
D48: 外 来 患 者 対 応 | F48: 外来患者 対応 | O48: 様 | Y48: 書 類 作 成 完 了 | AF48: 様
O49: 様 | AF49: 様
O50: 様 | AF50: 様
O51: 様 | AF51: 様
O52: 様 | AF52: 様
O53: 様 | AF53: 様
O54: 様 | AF54: 様
D55: 項目 | J55: 患者様氏名 | P55: 担当 | S55: 備考 | AF55: 様
D56: 入 退 院 支 援 | F56: 退院支援 | O56: 様 | AF56: 様
O57: 様 | AF57: 様
O58: 様 | Y58: 項目 | AG58: 件数 | AJ58: 担当 | AM58: 備考
O59: 様 | Y59: 電話対応 | AI59: 件
O60: 様 | Y60: 保健所への届出 | AI60: 件
F61: 退院請求 対応 | O61: 様 | Y61: 項目 | AG61: 内容
O62: 様 | Y62: 通院医療 観察法
F63: 入院患者 対応 | J63: 担当 | M63: 件数 | P63: 備考
O64: 件 | Y64: 認知症疾患 医療ｾﾝﾀｰ
O65: 件
O66: 件 | Y66: 各種会議参加 外部の業務
O67: 件
A68: 安全管理 | D68: 事故 | S68: 物品 購入 | AE68: 連絡 事項
D69: 苦情
D70: 紛失
D71: 他

Sheet 26
A1: ソーシャルワーカー室 業務日誌 | AH1: C.O.O | AL1: I.O.O | AP1: Ａ.Ｏ.Ｍ
H3: =曜日!B12 -> 令和6年 | M3: =曜日!C12 -> 11月 | P3: 26日 | S3: （ | T3: =曜日!D7 -> 火 | U3: ） | W3: 作成者 | Z3: ：
A5: 労務 状況 | D5: 勤務状況 | K5: 西舘 翔子 | T5: 大川 祥子 | AC5: 宇津木澤 育美 | AL5: 澤里 皓輝
K6: 安田 純子 | T6: 石鉢 佳代
A8: 入退院 状況 | D8: 入院形態 | K8: 東病棟 | Q8: 西病棟 | W8: 北病棟 | AC8: 南病棟 | AI8: 合計 | AO8: 総数
K9: 男性 | N9: 女性 | Q9: 男性 | T9: 女性 | W9: 男性 | Z9: 女性 | AC9: 男性 | AF9: 女性 | AI9: 男性 | AL9: 女性
D10: 任意入院 | AI10: =K10+Q10+W10+AC10 -> 0 | AL10: =N10+T10+Z10+AF10 -> 0 | AO10: =AI14 -> 0
D11: 医療保護入院 | AI11: =K11+Q11+W11+AC11 -> 0 | AL11: =N11+T11+Z11+AF11 -> 0
D12: 措置入院 | AI12: =K12+Q12+W12+AC12 -> 0 | AL12: =N12+T12+Z12+AF12 -> 0
D13: 合計 | K13: =SUM(K10:M12) -> 0 | N13: =SUM(N10:P12) -> 0 | Q13: =SUM(Q10:S12) -> 0 | T13: =SUM(T10:V12) -> 0 | W13: =SUM(W10:Y12) -> 0 | Z13: =SUM(Z10:AB12) -> 0 | AC13: =SUM(AC10:AE12) -> 0 | AF13: =SUM(AF10:AH12) -> 0 | AI13: =SUM(K13+Q13+W13+AC13) -> 0 | AL13: =SUM(N13+T13+Z13+AF13) -> 0 | AO13: 人
K14: =K13+N13 -> 0 | Q14: =Q13+T13 -> 0 | W14: =W13+Z13 -> 0 | AC14: =AC13+AF13 -> 0 | AI14: =AI13+AL13 -> 0
F15: 患者様氏名 | N15: 入院形態 | T15: 担当Dr | Y15: 担当SW | AD15: 病棟 | AJ15: 備考欄
D16: 入院 | L16: 様
L17: 様
L18: 様
L19: 様
L20: 様
D21: 退院 | L21: 様
L22: 様
L23: 様
L24: 様
L25: 様
D26: 転棟 ･ 入院形態変更 | L26: 様
L27: 様
L28: 様
L29: 様
L30: 様
A31: 患者様 関連 | D31: 患者様氏名 | K31: 担当Dr | P31: 病棟 | S31: 制限内容 | X31: 制限時間 | AC31: 開始日時 | AO31: 備考
I32: 様 | AC32: 令和 | AF32: 年 | AH32: 月 | AJ32: 日 | AL32: ： | AN32: ～
I33: 様 | AC33: 令和 | AF33: 年 | AH33: 月 | AJ33: 日 | AL33: ： | AN33: ～
I34: 様 | AC34: 令和 | AF34: 年 | AH34: 月 | AJ34: 日 | AL34: ： | AN34: ～
I35: 様 | AC35: 令和 | AF35: 年 | AH35: 月 | AJ35: 日 | AL35: ： | AN35: ～
I36: 様 | AC36: 令和 | AF36: 年 | AH36: 月 | AJ36: 日 | AL36: ： | AN36: ～
I37: 様 | AC37: 令和 | AF37: 年 | AH37: 月 | AJ37: 日 | AL37: ： | AN37: ～
I38: 様 | AC38: 令和 | AF38: 年 | AH38: 月 | AJ38: 日 | AL38: ： | AN38: ～
I39: 様 | AC39: 令和 | AF39: 年 | AH39: 月 | AJ39: 日 | AL39: ： | AN39: ～
I40: 様 | AC40: 令和 | AF40: 年 | AH40: 月 | AJ40: 日 | AL40: ： | AN40: ～
I41: 様 | AC41: 令和 | AF41: 年 | AH41: 月 | AJ41: 日 | AL41: ： | AN41: ～
I42: 様 | AC42: 令和 | AF42: 年 | AH42: 月 | AJ42: 日 | AL42: ： | AN42: ～
I43: 様 | AC43: 令和 | AF43: 年 | AH43: 月 | AJ43: 日 | AL43: ： | AN43: ～
... I46: 様 | AC46: 令和 | AF46: 年 | AH46: 月 | AJ46: 日 | AL46: ： | AN46: ～
A47: 業務 内容 | D47: 項目 | J47: 患者様氏名 | P47: 担当 | S47: 備考 | Y47: 項目 | AA47: 患者様氏名 | AG47: 内容 | AQ47: 担当
D48: 外 来 患 者 対 応 | F48: 外来患者 対応 | O48: 様 | Y48: 書 類 作 成 完 了 | AF48: 様
O49: 様 | AF49: 様
O50: 様 | AF50: 様
O51: 様 | AF51: 様
O52: 様 | AF52: 様
O53: 様 | AF53: 様
O54: 様 | AF54: 様
D55: 項目 | J55: 患者様氏名 | P55: 担当 | S55: 備考 | AF55: 様
D56: 入 退 院 支 援 | F56: 退院支援 | O56: 様 | AF56: 様
O57: 様 | AF57: 様
O58: 様 | Y58: 項目 | AG58: 件数 | AJ58: 担当 | AM58: 備考
O59: 様 | Y59: 電話対応 | AI59: 件
O60: 様 | Y60: 保健所への届出 | AI60: 件
F61: 退院請求 対応 | O61: 様 | Y61: 項目 | AG61: 内容
O62: 様 | Y62: 通院医療 観察法
F63: 入院患者 対応 | J63: 担当 | M63: 件数 | P63: 備考
O64: 件 | Y64: 認知症疾患 医療ｾﾝﾀｰ
O65: 件
O66: 件 | Y66: 各種会議参加 外部の業務
O67: 件
A68: 安全管理 | D68: 事故 | S68: 物品 購入 | AE68: 連絡 事項
D69: 苦情
D70: 紛失
D71: 他

Sheet 27
A1: ソーシャルワーカー室 業務日誌 | AH1: C.O.O | AL1: I.O.O | AP1: Ａ.Ｏ.Ｍ
H3: =曜日!B12 -> 令和6年 | M3: =曜日!C12 -> 11月 | P3: 27日 | S3: （ | T3: =曜日!D8 -> 水 | U3: ） | W3: 作成者 | Z3: ：
A5: 労務 状況 | D5: 勤務状況 | K5: 西舘 翔子 | T5: 大川 祥子 | AC5: 宇津木澤 育美 | AL5: 澤里 皓輝
K6: 安田 純子 | T6: 石鉢 佳代
A8: 入退院 状況 | D8: 入院形態 | K8: 東病棟 | Q8: 西病棟 | W8: 北病棟 | AC8: 南病棟 | AI8: 合計 | AO8: 総数
K9: 男性 | N9: 女性 | Q9: 男性 | T9: 女性 | W9: 男性 | Z9: 女性 | AC9: 男性 | AF9: 女性 | AI9: 男性 | AL9: 女性
D10: 任意入院 | AI10: =K10+Q10+W10+AC10 -> 0 | AL10: =N10+T10+Z10+AF10 -> 0 | AO10: =AI14 -> 0
D11: 医療保護入院 | AI11: =K11+Q11+W11+AC11 -> 0 | AL11: =N11+T11+Z11+AF11 -> 0
D12: 措置入院 | AI12: =K12+Q12+W12+AC12 -> 0 | AL12: =N12+T12+Z12+AF12 -> 0
D13: 合計 | K13: =SUM(K10:M12) -> 0 | N13: =SUM(N10:P12) -> 0 | Q13: =SUM(Q10:S12) -> 0 | T13: =SUM(T10:V12) -> 0 | W13: =SUM(W10:Y12) -> 0 | Z13: =SUM(Z10:AB12) -> 0 | AC13: =SUM(AC10:AE12) -> 0 | AF13: =SUM(AF10:AH12) -> 0 | AI13: =SUM(K13+Q13+W13+AC13) -> 0 | AL13: =SUM(N13+T13+Z13+AF13) -> 0 | AO13: 人
K14: =K13+N13 -> 0 | Q14: =Q13+T13 -> 0 | W14: =W13+Z13 -> 0 | AC14: =AC13+AF13 -> 0 | AI14: =AI13+AL13 -> 0
F15: 患者様氏名 | N15: 入院形態 | T15: 担当Dr | Y15: 担当SW | AD15: 病棟 | AJ15: 備考欄
D16: 入院 | L16: 様
L17: 様
L18: 様
L19: 様
L20: 様
D21: 退院 | L21: 様
L22: 様
L23: 様
L24: 様
L25: 様
D26: 転棟 ･ 入院形態変更 | L26: 様 | AJ26: 医保→任意
L27: 様
L28: 様
L29: 様
L30: 様
A31: 患者様 関連 | D31: 患者様氏名 | K31: 担当Dr | P31: 病棟 | S31: 制限内容 | X31: 制限時間 | AC31: 開始日時 | AO31: 備考
I32: 様 | AC32: 令和 | AF32: 年 | AH32: 月 | AJ32: 日 | AL32: ： | AN32: ～
I33: 様 | AC33: 令和 | AF33: 年 | AH33: 月 | AJ33: 日 | AL33: ： | AN33: ～
I34: 様 | AC34: 令和 | AF34: 年 | AH34: 月 | AJ34: 日 | AL34: ： | AN34: ～
I35: 様 | AC35: 令和 | AF35: 年 | AH35: 月 | AJ35: 日 | AL35: ： | AN35: ～
I36: 様 | AC36: 令和 | AF36: 年 | AH36: 月 | AJ36: 日 | AL36: ： | AN36: ～
I37: 様 | AC37: 令和 | AF37: 年 | AH37: 月 | AJ37: 日 | AL37: ： | AN37: ～
I38: 様 | AC38: 令和 | AF38: 年 | AH38: 月 | AJ38: 日 | AL38: ： | AN38: ～
I39: 様 | AC39: 令和 | AF39: 年 | AH39: 月 | AJ39: 日 | AL39: ： | AN39: ～
I40: 様 | AC40: 令和 | AF40: 年 | AH40: 月 | AJ40: 日 | AL40: ： | AN40: ～
I41: 様 | AC41: 令和 | AF41: 年 | AH41: 月 | AJ41: 日 | AL41: ： | AN41: ～
I42: 様 | AC42: 令和 | AF42: 年 | AH42: 月 | AJ42: 日 | AL42: ： | AN42: ～
I43: 様 | AC43: 令和 | AF43: 年 | AH43: 月 | AJ43: 日 | AL43: ： | AN43: ～
... I46: 様 | AC46: 令和 | AF46: 年 | AH46: 月 | AJ46: 日 | AL46: ： | AN46: ～
A47: 業務 内容 | D47: 項目 | J47: 患者様氏名 | P47: 担当 | S47: 備考 | Y47: 項目 | AA47: 患者様氏名 | AG47: 内容 | AQ47: 担当
D48: 外 来 患 者 対 応 | F48: 外来患者 対応 | O48: 様 | Y48: 書 類 作 成 完 了 | AF48: 様
O49: 様 | AF49: 様
O50: 様 | AF50: 様
O51: 様 | AF51: 様
O52: 様 | AF52: 様
O53: 様 | AF53: 様
O54: 様 | AF54: 様
D55: 項目 | J55: 患者様氏名 | P55: 担当 | S55: 備考 | AF55: 様
D56: 入 退 院 支 援 | F56: 退院支援 | O56: 様 | AF56: 様
O57: 様 | AF57: 様
O58: 様 | Y58: 項目 | AG58: 件数 | AJ58: 担当 | AM58: 備考
O59: 様 | Y59: 電話対応 | AI59: 件
O60: 様 | Y60: 保健所への届出 | AI60: 件
F61: 退院請求 対応 | O61: 様 | Y61: 項目 | AG61: 内容
O62: 様 | Y62: 通院医療 観察法
F63: 入院患者 対応 | J63: 担当 | M63: 件数 | P63: 備考
O64: 件 | Y64: 認知症疾患 医療ｾﾝﾀｰ
O65: 件
O66: 件 | Y66: 各種会議参加 外部の業務
O67: 件
A68: 安全管理 | D68: 事故 | S68: 物品 購入 | AE68: 連絡 事項
D69: 苦情
D70: 紛失
D71: 他

Sheet 28
A1: ソーシャルワーカー室 業務日誌 | AH1: C.O.O | AL1: I.O.O | AP1: Ａ.Ｏ.Ｍ
H3: =曜日!B12 -> 令和6年 | M3: =曜日!C12 -> 11月 | P3: 28日 | S3: （ | T3: =曜日!D9 -> 木 | U3: ） | W3: 作成者 | Z3: ：
A5: 労務 状況 | D5: 勤務状況 | K5: 西舘 翔子 | T5: 大川 祥子 | AC5: 宇津木澤 育美 | AL5: 澤里 皓輝
K6: 安田 純子 | T6: 石鉢 佳代
A8: 入退院 状況 | D8: 入院形態 | K8: 東病棟 | Q8: 西病棟 | W8: 北病棟 | AC8: 南病棟 | AI8: 合計 | AO8: 総数
K9: 男性 | N9: 女性 | Q9: 男性 | T9: 女性 | W9: 男性 | Z9: 女性 | AC9: 男性 | AF9: 女性 | AI9: 男性 | AL9: 女性
D10: 任意入院 | AI10: =K10+Q10+W10+AC10 -> 0 | AL10: =N10+T10+Z10+AF10 -> 0 | AO10: =AI14 -> 0
D11: 医療保護入院 | AI11: =K11+Q11+W11+AC11 -> 0 | AL11: =N11+T11+Z11+AF11 -> 0
D12: 措置入院 | AI12: =K12+Q12+W12+AC12 -> 0 | AL12: =N12+T12+Z12+AF12 -> 0
D13: 合計 | K13: =SUM(K10:M12) -> 0 | N13: =SUM(N10:P12) -> 0 | Q13: =SUM(Q10:S12) -> 0 | T13: =SUM(T10:V12) -> 0 | W13: =SUM(W10:Y12) -> 0 | Z13: =SUM(Z10:AB12) -> 0 | AC13: =SUM(AC10:AE12) -> 0 | AF13: =SUM(AF10:AH12) -> 0 | AI13: =SUM(K13+Q13+W13+AC13) -> 0 | AL13: =SUM(N13+T13+Z13+AF13) -> 0 | AO13: 人
K14: =K13+N13 -> 0 | Q14: =Q13+T13 -> 0 | W14: =W13+Z13 -> 0 | AC14: =AC13+AF13 -> 0 | AI14: =AI13+AL13 -> 0
F15: 患者様氏名 | N15: 入院形態 | T15: 担当Dr | Y15: 担当SW | AD15: 病棟 | AJ15: 備考欄
D16: 入院 | L16: 様
L17: 様
L18: 様
L19: 様
L20: 様
D21: 退院 | L21: 様
L22: 様
L23: 様
L24: 様
L25: 様
D26: 転棟 ･ 入院形態変更 | L26: 様
L27: 様
L28: 様
L29: 様
L30: 様
A31: 患者様 関連 | D31: 患者様氏名 | K31: 担当Dr | P31: 病棟 | S31: 制限内容 | X31: 制限時間 | AC31: 開始日時 | AO31: 備考
I32: 様 | AC32: 令和 | AF32: 年 | AH32: 月 | AJ32: 日 | AL32: ： | AN32: ～
I33: 様 | AC33: 令和 | AF33: 年 | AH33: 月 | AJ33: 日 | AL33: ： | AN33: ～
I34: 様 | AC34: 令和 | AF34: 年 | AH34: 月 | AJ34: 日 | AL34: ： | AN34: ～
I35: 様 | AC35: 令和 | AF35: 年 | AH35: 月 | AJ35: 日 | AL35: ： | AN35: ～
I36: 様 | AC36: 令和 | AF36: 年 | AH36: 月 | AJ36: 日 | AL36: ： | AN36: ～
I37: 様 | AC37: 令和 | AF37: 年 | AH37: 月 | AJ37: 日 | AL37: ： | AN37: ～
I38: 様 | AC38: 令和 | AF38: 年 | AH38: 月 | AJ38: 日 | AL38: ： | AN38: ～
I39: 様 | AC39: 令和 | AF39: 年 | AH39: 月 | AJ39: 日 | AL39: ： | AN39: ～
I40: 様 | AC40: 令和 | AF40: 年 | AH40: 月 | AJ40: 日 | AL40: ： | AN40: ～
I41: 様 | AC41: 令和 | AF41: 年 | AH41: 月 | AJ41: 日 | AL41: ： | AN41: ～
I42: 様 | AC42: 令和 | AF42: 年 | AH42: 月 | AJ42: 日 | AL42: ： | AN42: ～
I43: 様 | AC43: 令和 | AF43: 年 | AH43: 月 | AJ43: 日 | AL43: ： | AN43: ～
... I46: 様 | AC46: 令和 | AF46: 年 | AH46: 月 | AJ46: 日 | AL46: ： | AN46: ～
A47: 業務 内容 | D47: 項目 | J47: 患者様氏名 | P47: 担当 | S47: 備考 | Y47: 項目 | AA47: 患者様氏名 | AG47: 内容 | AQ47: 担当
D48: 外 来 患 者 対 応 | F48: 外来患者 対応 | O48: 様 | Y48: 書 類 作 成 完 了 | AF48: 様
O49: 様 | AF49: 様
O50: 様 | AF50: 様
O51: 様 | AF51: 様
O52: 様 | AF52: 様
O53: 様 | AF53: 様
O54: 様 | AF54: 様
D55: 項目 | J55: 患者様氏名 | P55: 担当 | S55: 備考 | AF55: 様
D56: 入 退 院 支 援 | F56: 退院支援 | O56: 様 | AF56: 様
O57: 様 | AF57: 様
O58: 様 | Y58: 項目 | AG58: 件数 | AJ58: 担当 | AM58: 備考
O59: 様 | Y59: 電話対応 | AI59: 件
O60: 様 | Y60: 保健所への届出 | AI60: 件
F61: 退院請求 対応 | O61: 様 | Y61: 項目 | AG61: 内容
O62: 様 | Y62: 通院医療 観察法
F63: 入院患者 対応 | J63: 担当 | M63: 件数 | P63: 備考
O64: 件 | Y64: 認知症疾患 医療ｾﾝﾀｰ
O65: 件
O66: 件 | Y66: 各種会議参加 外部の業務
O67: 件
A68: 安全管理 | D68: 事故 | S68: 物品 購入 | AE68: 連絡 事項
D69: 苦情
D70: 紛失
D71: 他

Sheet 29
A1: ソーシャルワーカー室 業務日誌 | AH1: C.O.O | AL1: I.O.O | AP1: Ａ.Ｏ.Ｍ
H3: =曜日!B12 -> 令和6年 | M3: =曜日!C12 -> 11月 | P3: 29日 | S3: （ | T3: =曜日!D3 -> 金 | U3: ） | W3: 作成者 | Z3: ：
A5: 労務 状況 | D5: 勤務状況 | K5: 西舘 翔子 | T5: 大川 祥子 | AC5: 宇津木澤 育美 | AL5: 澤里 皓輝
K6: 安田 純子 | T6: 石鉢 佳代
A8: 入退院 状況 | D8: 入院形態 | K8: 東病棟 | Q8: 西病棟 | W8: 北病棟 | AC8: 南病棟 | AI8: 合計 | AO8: 総数
K9: 男性 | N9: 女性 | Q9: 男性 | T9: 女性 | W9: 男性 | Z9: 女性 | AC9: 男性 | AF9: 女性 | AI9: 男性 | AL9: 女性
D10: 任意入院 | AI10: =K10+Q10+W10+AC10 -> 0 | AL10: =N10+T10+Z10+AF10 -> 0 | AO10: =AI14 -> 0
D11: 医療保護入院 | AI11: =K11+Q11+W11+AC11 -> 0 | AL11: =N11+T11+Z11+AF11 -> 0
D12: 措置入院 | AI12: =K12+Q12+W12+AC12 -> 0 | AL12: =N12+T12+Z12+AF12 -> 0
D13: 合計 | K13: =SUM(K10:M12) -> 0 | N13: =SUM(N10:P12) -> 0 | Q13: =SUM(Q10:S12) -> 0 | T13: =SUM(T10:V12) -> 0 | W13: =SUM(W10:Y12) -> 0 | Z13: =SUM(Z10:AB12) -> 0 | AC13: =SUM(AC10:AE12) -> 0 | AF13: =SUM(AF10:AH12) -> 0 | AI13: =SUM(K13+Q13+W13+AC13) -> 0 | AL13: =SUM(N13+T13+Z13+AF13) -> 0 | AO13: 人
K14: =K13+N13 -> 0 | Q14: =Q13+T13 -> 0 | W14: =W13+Z13 -> 0 | AC14: =AC13+AF13 -> 0 | AI14: =AI13+AL13 -> 0
F15: 患者様氏名 | N15: 入院形態 | T15: 担当Dr | Y15: 担当SW | AD15: 病棟 | AJ15: 備考欄
D16: 入院 | L16: 様
L17: 様
L18: 様
L19: 様
L20: 様
D21: 退院 | L21: 様
L22: 様
L23: 様
L24: 様
L25: 様
D26: 転棟 ･ 入院形態変更 | L26: 様
L27: 様
L28: 様
L29: 様
L30: 様
A31: 患者様 関連 | D31: 患者様氏名 | K31: 担当Dr | P31: 病棟 | S31: 制限内容 | X31: 制限時間 | AC31: 開始日時 | AO31: 備考
I32: 様 | AC32: 令和 | AF32: 年 | AH32: 月 | AJ32: 日 | AL32: ： | AN32: ～
I33: 様 | AC33: 令和 | AF33: 年 | AH33: 月 | AJ33: 日 | AL33: ： | AN33: ～
I34: 様 | AC34: 令和 | AF34: 年 | AH34: 月 | AJ34: 日 | AL34: ： | AN34: ～
I35: 様 | AC35: 令和 | AF35: 年 | AH35: 月 | AJ35: 日 | AL35: ： | AN35: ～
I36: 様 | AC36: 令和 | AF36: 年 | AH36: 月 | AJ36: 日 | AL36: ： | AN36: ～
I37: 様 | AC37: 令和 | AF37: 年 | AH37: 月 | AJ37: 日 | AL37: ： | AN37: ～
I38: 様 | AC38: 令和 | AF38: 年 | AH38: 月 | AJ38: 日 | AL38: ： | AN38: ～
I39: 様 | AC39: 令和 | AF39: 年 | AH39: 月 | AJ39: 日 | AL39: ： | AN39: ～
I40: 様 | AC40: 令和 | AF40: 年 | AH40: 月 | AJ40: 日 | AL40: ： | AN40: ～
I41: 様 | AC41: 令和 | AF41: 年 | AH41: 月 | AJ41: 日 | AL41: ： | AN41: ～
I42: 様 | AC42: 令和 | AF42: 年 | AH42: 月 | AJ42: 日 | AL42: ： | AN42: ～
I43: 様 | AC43: 令和 | AF43: 年 | AH43: 月 | AJ43: 日 | AL43: ： | AN43: ～
... I46: 様 | AC46: 令和 | AF46: 年 | AH46: 月 | AJ46: 日 | AL46: ： | AN46: ～
A47: 業務 内容 | D47: 項目 | J47: 患者様氏名 | P47: 担当 | S47: 備考 | Y47: 項目 | AA47: 患者様氏名 | AG47: 内容 | AQ47: 担当
D48: 外 来 患 者 対 応 | F48: 外来患者 対応 | O48: 様 | Y48: 書 類 作 成 完 了 | AF48: 様
O49: 様 | AF49: 様
O50: 様 | AF50: 様
O51: 様 | AF51: 様
O52: 様 | AF52: 様
O53: 様 | AF53: 様
O54: 様 | AF54: 様
D55: 項目 | J55: 患者様氏名 | P55: 担当 | S55: 備考 | AF55: 様
D56: 入 退 院 支 援 | F56: 退院支援 | O56: 様 | AF56: 様
O57: 様 | AF57: 様
O58: 様 | Y58: 項目 | AG58: 件数 | AJ58: 担当 | AM58: 備考
O59: 様 | Y59: 電話対応 | AI59: 件
O60: 様 | Y60: 保健所への届出 | AI60: 件
F61: 退院請求 対応 | O61: 様 | Y61: 項目 | AG61: 内容
O62: 様 | Y62: 通院医療 観察法
F63: 入院患者 対応 | J63: 担当 | M63: 件数 | P63: 備考
O64: 件 | Y64: 認知症疾患 医療ｾﾝﾀｰ
O65: 件
O66: 件 | Y66: 各種会議参加 外部の業務
O67: 件
A68: 安全管理 | D68: 事故 | S68: 物品 購入 | AE68: 連絡 事項
D69: 苦情
D70: 紛失
D71: 他

Sheet 30
A1: ソーシャルワーカー室 業務日誌 | AH1: C.O.O | AL1: I.O.O | AP1: Ａ.Ｏ.Ｍ
H3: =曜日!B12 -> 令和6年 | M3: =曜日!C12 -> 11月 | P3: 30日 | S3: （ | T3: =曜日!D4 -> 土 | U3: ） | W3: 作成者 | Z3: ：
A5: 労務 状況 | D5: 勤務状況 | K5: 西舘 翔子 | T5: 大川 祥子 | AC5: 宇津木澤 育美 | AL5: 澤里 皓輝
K6: 安田 純子 | T6: 石鉢 佳代
A8: 入退院 状況 | D8: 入院形態 | K8: 東病棟 | Q8: 西病棟 | W8: 北病棟 | AC8: 南病棟 | AI8: 合計 | AO8: 総数
K9: 男性 | N9: 女性 | Q9: 男性 | T9: 女性 | W9: 男性 | Z9: 女性 | AC9: 男性 | AF9: 女性 | AI9: 男性 | AL9: 女性
D10: 任意入院 | AI10: =K10+Q10+W10+AC10 -> 0 | AL10: =N10+T10+Z10+AF10 -> 0 | AO10: =AI14 -> 0
D11: 医療保護入院 | AI11: =K11+Q11+W11+AC11 -> 0 | AL11: =N11+T11+Z11+AF11 -> 0
D12: 措置入院 | AI12: =K12+Q12+W12+AC12 -> 0 | AL12: =N12+T12+Z12+AF12 -> 0
D13: 合計 | K13: =SUM(K10:M12) -> 0 | N13: =SUM(N10:P12) -> 0 | Q13: =SUM(Q10:S12) -> 0 | T13: =SUM(T10:V12) -> 0 | W13: =SUM(W10:Y12) -> 0 | Z13: =SUM(Z10:AB12) -> 0 | AC13: =SUM(AC10:AE12) -> 0 | AF13: =SUM(AF10:AH12) -> 0 | AI13: =SUM(K13+Q13+W13+AC13) -> 0 | AL13: =SUM(N13+T13+Z13+AF13) -> 0 | AO13: 人
K14: =K13+N13 -> 0 | Q14: =Q13+T13 -> 0 | W14: =W13+Z13 -> 0 | AC14: =AC13+AF13 -> 0 | AI14: =AI13+AL13 -> 0
F15: 患者様氏名 | N15: 入院形態 | T15: 担当Dr | Y15: 担当SW | AD15: 病棟 | AJ15: 備考欄
D16: 入院 | L16: 様
L17: 様
L18: 様
L19: 様
L20: 様
D21: 退院 | L21: 様
L22: 様
L23: 様
L24: 様
L25: 様
D26: 転棟 ･ 入院形態変更 | L26: 様
L27: 様
L28: 様
L29: 様
L30: 様
A31: 患者様 関連 | D31: 患者様氏名 | K31: 担当Dr | P31: 病棟 | S31: 制限内容 | X31: 制限時間 | AC31: 開始日時 | AO31: 備考
I32: 様 | AC32: 令和 | AF32: 年 | AH32: 月 | AJ32: 日 | AL32: ： | AN32: ～
I33: 様 | AC33: 令和 | AF33: 年 | AH33: 月 | AJ33: 日 | AL33: ： | AN33: ～
I34: 様 | AC34: 令和 | AF34: 年 | AH34: 月 | AJ34: 日 | AL34: ： | AN34: ～
I35: 様 | AC35: 令和 | AF35: 年 | AH35: 月 | AJ35: 日 | AL35: ： | AN35: ～
I36: 様 | AC36: 令和 | AF36: 年 | AH36: 月 | AJ36: 日 | AL36: ： | AN36: ～
I37: 様 | AC37: 令和 | AF37: 年 | AH37: 月 | AJ37: 日 | AL37: ： | AN37: ～
I38: 様 | AC38: 令和 | AF38: 年 | AH38: 月 | AJ38: 日 | AL38: ： | AN38: ～
I39: 様 | AC39: 令和 | AF39: 年 | AH39: 月 | AJ39: 日 | AL39: ： | AN39: ～
I40: 様 | AC40: 令和 | AF40: 年 | AH40: 月 | AJ40: 日 | AL40: ： | AN40: ～
I41: 様 | AC41: 令和 | AF41: 年 | AH41: 月 | AJ41: 日 | AL41: ： | AN41: ～
I42: 様 | AC42: 令和 | AF42: 年 | AH42: 月 | AJ42: 日 | AL42: ： | AN42: ～
I43: 様 | AC43: 令和 | AF43: 年 | AH43: 月 | AJ43: 日 | AL43: ： | AN43: ～
... I46: 様 | AC46: 令和 | AF46: 年 | AH46: 月 | AJ46: 日 | AL46: ： | AN46: ～
A47: 業務 内容 | D47: 項目 | J47: 患者様氏名 | P47: 担当 | S47: 備考 | Y47: 項目 | AA47: 患者様氏名 | AG47: 内容 | AQ47: 担当
D48: 外 来 患 者 対 応 | F48: 外来患者 対応 | O48: 様 | Y48: 書 類 作 成 完 了 | AF48: 様
O49: 様 | AF49: 様
O50: 様 | AF50: 様
O51: 様 | AF51: 様
O52: 様 | AF52: 様
O53: 様 | AF53: 様
O54: 様 | AF54: 様
D55: 項目 | J55: 患者様氏名 | P55: 担当 | S55: 備考 | AF55: 様
D56: 入 退 院 支 援 | F56: 退院支援 | O56: 様 | AF56: 様
O57: 様 | AF57: 様
O58: 様 | Y58: 項目 | AG58: 件数 | AJ58: 担当 | AM58: 備考
O59: 様 | Y59: 電話対応 | AI59: 件
O60: 様 | Y60: 保健所への届出 | AI60: 件
F61: 退院請求 対応 | O61: 様 | Y61: 項目 | AG61: 内容
O62: 様 | Y62: 通院医療 観察法
F63: 入院患者 対応 | J63: 担当 | M63: 件数 | P63: 備考
O64: 件 | Y64: 認知症疾患 医療ｾﾝﾀｰ
O65: 件
O66: 件 | Y66: 各種会議参加 外部の業務
O67: 件
A68: 安全管理 | D68: 事故 | S68: 物品 購入 | AE68: 連絡 事項
D69: 苦情
D70: 紛失
D71: 他

Sheet 31
A1: ソーシャルワーカー室 業務日誌 | AH1: C.O.O | AL1: I.O.O | AP1: Ａ.Ｏ.Ｍ
H3: =曜日!B12 -> 令和6年 | M3: =曜日!C12 -> 11月 | P3: 31日 | S3: （ | T3: =曜日!D5 -> 日 | U3: ） | W3: 作成者 | Z3: ：
A5: 労務 状況 | D5: 勤務状況 | K5: 西舘 翔子 | T5: 大川 祥子 | AC5: 宇津木澤 育美 | AL5: 澤里 皓輝
K6: 安田 純子 | T6: 石鉢 佳代
A8: 入退院 状況 | D8: 入院形態 | K8: 東病棟 | Q8: 西病棟 | W8: 北病棟 | AC8: 南病棟 | AI8: 合計 | AO8: 総数
K9: 男性 | N9: 女性 | Q9: 男性 | T9: 女性 | W9: 男性 | Z9: 女性 | AC9: 男性 | AF9: 女性 | AI9: 男性 | AL9: 女性
D10: 任意入院 | AI10: =K10+Q10+W10+AC10 -> 0 | AL10: =N10+T10+Z10+AF10 -> 0 | AO10: =AI14 -> 0
D11: 医療保護入院 | AI11: =K11+Q11+W11+AC11 -> 0 | AL11: =N11+T11+Z11+AF11 -> 0
D12: 措置入院 | AI12: =K12+Q12+W12+AC12 -> 0 | AL12: =N12+T12+Z12+AF12 -> 0
D13: 合計 | K13: =SUM(K10:M12) -> 0 | N13: =SUM(N10:P12) -> 0 | Q13: =SUM(Q10:S12) -> 0 | T13: =SUM(T10:V12) -> 0 | W13: =SUM(W10:Y12) -> 0 | Z13: =SUM(Z10:AB12) -> 0 | AC13: =SUM(AC10:AE12) -> 0 | AF13: =SUM(AF10:AH12) -> 0 | AI13: =SUM(K13+Q13+W13+AC13) -> 0 | AL13: =SUM(N13+T13+Z13+AF13) -> 0 | AO13: 人
K14: =K13+N13 -> 0 | Q14: =Q13+T13 -> 0 | W14: =W13+Z13 -> 0 | AC14: =AC13+AF13 -> 0 | AI14: =AI13+AL13 -> 0
F15: 患者様氏名 | N15: 入院形態 | T15: 担当Dr | Y15: 担当SW | AD15: 病棟 | AJ15: 備考欄
D16: 入院 | L16: 様
L17: 様
L18: 様
L19: 様
L20: 様
D21: 退院 | L21: 様
L22: 様
L23: 様
L24: 様
L25: 様
D26: 転棟 ･ 入院形態変更 | L26: 様
L27: 様
L28: 様
L29: 様
L30: 様
A31: 患者様 関連 | D31: 患者様氏名 | K31: 担当Dr | P31: 病棟 | S31: 制限内容 | X31: 制限時間 | AC31: 開始日時 | AO31: 備考
I32: 様 | AC32: 令和 | AF32: 年 | AH32: 月 | AJ32: 日 | AL32: ： | AN32: ～
I33: 様 | AC33: 令和 | AF33: 年 | AH33: 月 | AJ33: 日 | AL33: ： | AN33: ～
I34: 様 | AC34: 令和 | AF34: 年 | AH34: 月 | AJ34: 日 | AL34: ： | AN34: ～
I35: 様 | AC35: 令和 | AF35: 年 | AH35: 月 | AJ35: 日 | AL35: ： | AN35: ～
I36: 様 | AC36: 令和 | AF36: 年 | AH36: 月 | AJ36: 日 | AL36: ： | AN36: ～
I37: 様 | AC37: 令和 | AF37: 年 | AH37: 月 | AJ37: 日 | AL37: ： | AN37: ～
I38: 様 | AC38: 令和 | AF38: 年 | AH38: 月 | AJ38: 日 | AL38: ： | AN38: ～
I39: 様 | AC39: 令和 | AF39: 年 | AH39: 月 | AJ39: 日 | AL39: ： | AN39: ～
I40: 様 | AC40: 令和 | AF40: 年 | AH40: 月 | AJ40: 日 | AL40: ： | AN40: ～
I41: 様 | AC41: 令和 | AF41: 年 | AH41: 月 | AJ41: 日 | AL41: ： | AN41: ～
I42: 様 | AC42: 令和 | AF42: 年 | AH42: 月 | AJ42: 日 | AL42: ： | AN42: ～
I43: 様 | AC43: 令和 | AF43: 年 | AH43: 月 | AJ43: 日 | AL43: ： | AN43: ～
... I46: 様 | AC46: 令和 | AF46: 年 | AH46: 月 | AJ46: 日 | AL46: ： | AN46: ～
A47: 業務 内容 | D47: 項目 | J47: 患者様氏名 | P47: 担当 | S47: 備考 | Y47: 項目 | AA47: 患者様氏名 | AG47: 内容 | AQ47: 担当
D48: 外 来 患 者 対 応 | F48: 外来患者 対応 | O48: 様 | Y48: 書 類 作 成 完 了 | AF48: 様
O49: 様 | AF49: 様
O50: 様 | AF50: 様
O51: 様 | AF51: 様
O52: 様 | AF52: 様
O53: 様 | AF53: 様
O54: 様 | AF54: 様
D55: 項目 | J55: 患者様氏名 | P55: 担当 | S55: 備考 | AF55: 様
D56: 入 退 院 支 援 | F56: 退院支援 | O56: 様 | AF56: 様
O57: 様 | AF57: 様
O58: 様 | Y58: 項目 | AG58: 件数 | AJ58: 担当 | AM58: 備考
O59: 様 | Y59: 電話対応 | AI59: 件
O60: 様 | Y60: 保健所への届出 | AI60: 件
F61: 退院請求 対応 | O61: 様 | Y61: 項目 | AG61: 内容
O62: 様 | Y62: 通院医療 観察法
F63: 入院患者 対応 | J63: 担当 | M63: 件数 | P63: 備考
O64: 件 | Y64: 認知症疾患 医療ｾﾝﾀｰ
O65: 件
O66: 件 | Y66: 各種会議参加 外部の業務
O67: 件
A68: 安全管理 | D68: 事故 | S68: 物品 購入 | AE68: 連絡 事項
D69: 苦情
D70: 紛失
D71: 他

Sheet 曜日
B2: 曜 日 | F2: 説明書 その月の１日～７日までの曜日を黄色のセルに記入してください。 （例：１日が水曜日の月なら…… １日＝水 ２日＝木 ： ７日＝火
B3: 1日 | C3: = | D3: 金
B4: 2日 | C4: = | D4: 土 | E4: ←
B5: 3日 | C5: = | D5: 日 | AL5: 澤里 皓輝
B6: 4日 | C6: = | D6: 月
B7: 5日 | C7: = | D7: 火
B8: 6日 | C8: = | D8: 水
B9: 7日 | C9: = | D9: 木
B11: 年 月 | F11: 説明書 年・月を入れてください。
B12: 令和6年 | C12: 11月

Sheet Sheet1
AL5: 澤里 皓輝

Sheet Sheet2
AL5: 澤里 皓輝
