Workbook

Sheet 1
A1: ソーシャルワーカー室 業務日誌 | AH1: C.O.O | AL1: I.O.O | AP1: Ａ.Ｏ.Ｍ
H3: =曜日!B12 -> 令和6年 | M3: =曜日!C12 -> 2月 | P3: 1日 | S3: （ | T3: =曜日!D3 -> 木 | U3: ） | W3: 作成者 | Z3: ： | AA3: 早狩 風花
A5: 労務 状況 | D5: 勤務状況 | K5: 西舘 翔子 | P5: 公休 | T5: 大川 祥子 | Y5: 日勤 | AC5: 宇津木澤 育美 | AH5: 日勤 | AL5: 早狩 風花 | AP5: 日勤
K6: 澤里 皓輝 | P6: 日勤 | T6: 安田 純子 | Y6: 日勤 | AC6: 石鉢 佳代 | AH6: 日勤
A8: 入退院 状況 | D8: 入院形態 | K8: 東病棟 | Q8: 西病棟 | W8: 北病棟 | AC8: 南病棟 | AI8: 合計 | AO8: 総数
K9: 男性 | N9: 女性 | Q9: 男性 | T9: 女性 | W9: 男性 | Z9: 女性 | AC9: 男性 | AF9: 女性 | AI9: 男性 | AL9: 女性
D10: 任意入院 | K10: 5 | N10: 5 | Q10: 3 | T10: 8 | W10: 24 | Z10: 10 | AC10: 0 | AF10: 1 | AI10: =K10+Q10+W10+AC10 -> 32 | AL10: =N10+T10+Z10+AF10 -> 24 | AO10: =AI14 -> 188
D11: 医療保護入院 | K11: 19 | N11: 18 | Q11: 14 | T11: 21 | W11: 0 | Z11: 1 | AC11: 16 | AF11: 41 | AI11: =K11+Q11+W11+AC11 -> 49 | AL11: =N11+T11+Z11+AF11 -> 81
D12: 措置入院 | K12: 2 | N12: 0 | Q12: 0 | T12: 0 | W12: 0 | Z12: 0 | AC12: 0 | AF12: 0 | AI12: =K12+Q12+W12+AC12 -> 2 | AL12: =N12+T12+Z12+AF12 -> 0
D13: 合計 | K13: =SUM(K10:M12) -> 26 | N13: =SUM(N10:P12) -> 23 | Q13: =SUM(Q10:S12) -> 17 | T13: =SUM(T10:V12) -> 29 | W13: =SUM(W10:Y12) -> 24 | Z13: =SUM(Z10:AB12) -> 11 | AC13: =SUM(AC10:AE12) -> 16 | AF13: =SUM(AF10:AH12) -> 42 | AI13: =SUM(K13+Q13+W13+AC13) -> 83 | AL13: =SUM(N13+T13+Z13+AF13) -> 105 | AO13: 人
K14: =K13+N13 -> 49 | Q14: =Q13+T13 -> 46 | W14: =W13+Z13 -> 35 | AC14: =AC13+AF13 -> 58 | AI14: =AI13+AL13 -> 188
F15: 患者様氏名 | N15: 入院形態 | T15: 担当Dr | Y15: 担当SW | AD15: 病棟 | AJ15: 備考欄
D16: 入院 | F16: 豊川 とき | L16: 様 | N16: 医療保護入院 | T16: 村上祐介Dr | AD16: 東C
F17: 越後 久次郎 | L17: 様 | N17: 医療保護入院 | T17: 小栁匡相Dr | AD17: 東C
F18: 森田 清助 | L18: 様 | N18: 任意入院 | T18: 田名部茂Dr | AD18: 東B
L19: 様
L20: 様
D21: 退院 | L21: 様
L22: 様
L23: 様
L24: 様
L25: 様
D26: 転棟 ･ 入院形態変更 | F26: 江刺家 惠子 | L26: 様 | N26: 医療保護入院 | T26: 小栁匡相Dr | AD26: 東B→南A
L27: 様
L28: 様
L29: 様
L30: 様
A31: 患者様 関連 | D31: 患者様氏名 | K31: 担当Dr | P31: 病棟 | S31: 制限内容 | X31: 制限時間 | AC31: 開始日時 | AO31: 備考
D32: 中村 聡 | I32: 様 | K32: 金泰徳Dr | P32: 東B | S32: 通信制限 | X32: 通信制限 | AC32: 令和 | AE32: 3 | AF32: 年 | AG32: 5 | AH32: 月 | AI32: 31 | AJ32: 日 | AL32: ： | AN32: ～
D33: 松谷 さと子 | I33: 様 | K33: 深澤隆Dr | P33: 東A | S33: 通信制限 | X33: 通信制限 | AC33: 令和 | AE33: 4 | AF33: 年 | AG33: 6 | AH33: 月 | AI33: 6 | AJ33: 日 | AL33: ： | AN33: ～
D34: 宮﨑 宏之 | I34: 様 | K34: 馬渡晃弘Dr | P34: 東A | S34: 終日隔離 | X34: 終日隔離 | AC34: 令和 | AE34: 4 | AF34: 年 | AG34: 9 | AH34: 月 | AI34: 30 | AJ34: 日 | AL34: ： | AN34: ～
D35: 沼山 真紀子 | I35: 様 | K35: 金泰徳Dr | P35: 東A | S35: 通信制限 | X35: 通信制限 | AC35: 令和 | AE35: 5 | AF35: 年 | AG35: 2 | AH35: 月 | AI35: 16 | AJ35: 日 | AL35: ： | AN35: ～
D36: 澤口 利香 | I36: 様 | K36: 深澤隆Dr | P36: 東A | S36: 終日隔離 | X36: 終日隔離 | AC36: 令和 | AE36: 5 | AF36: 年 | AG36: 11 | AH36: 月 | AI36: 25 | AJ36: 日 | AL36: ： | AN36: ～
I37: 様 | AC37: 令和 | AF37: 年 | AH37: 月 | AJ37: 日 | AL37: ： | AN37: ～
I38: 様 | AC38: 令和 | AF38: 年 | AH38: 月 | AJ38: 日 | AL38: ： | AN38: ～
I39: 様 | AC39: 令和 | AF39: 年 | AH39: 月 | AJ39: 日 | AL39: ： | AN39: ～
I40: 様 | AC40: 令和 | AF40: 年 | AH40: 月 | AJ40: 日 | AL40: ： | AN40: ～
I41: 様 | AC41: 令和 | AF41: 年 | AH41: 月 | AJ41: 日 | AL41: ： | AN41: ～
I42: 様 | AC42: 令和 | AF42: 年 | AH42: 月 | AJ42: 日 | AL42: ： | AN42: ～
I43: 様 | AC43: 令和 | AF43: 年 | AH43: 月 | AJ43: 日 | AL43: ： | AN43: ～
...

Sheet 2
A1: ソーシャルワーカー室 業務日誌 | AH1: C.O.O | AL1: I.O.O | AP1: Ａ.Ｏ.Ｍ
H3: =曜日!B12 -> 令和6年 | M3: =曜日!C12 -> 2月 | P3: 2日 | S3: （ | T3: =曜日!D4 -> 金 | U3: ） | W3: 作成者 | Z3: ： | AA3: 早狩 風花
A5: 労務 状況 | D5: 勤務状況 | K5: 西舘 翔子 | P5: 日勤 | T5: 大川 祥子 | Y5: 日勤 | AC5: 宇津木澤 育美 | AH5: 日勤 | AL5: 早狩 風花 | AP5: 日勤
K6: 澤里 皓輝 | P6: 日勤 | T6: 安田 純子 | Y6: 日勤 | AC6: 石鉢 佳代 | AH6: 日勤
A8: 入退院 状況 | D8: 入院形態 | K8: 東病棟 | Q8: 西病棟 | W8: 北病棟 | AC8: 南病棟 | AI8: 合計 | AO8: 総数
K9: 男性 | N9: 女性 | Q9: 男性 | T9: 女性 | W9: 男性 | Z9: 女性 | AC9: 男性 | AF9: 女性 | AI9: 男性 | AL9: 女性
D10: 任意入院 | K10: 6 | N10: 5 | Q10: 3 | T10: 8 | W10: 23 | Z10: 10 | AC10: 0 | AF10: 1 | AI10: =K10+Q10+W10+AC10 -> 32 | AL10: =N10+T10+Z10+AF10 -> 24 | AO10: =AI14 -> 189
D11: 医療保護入院 | K11: 18 | N11: 18 | Q11: 15 | T11: 21 | W11: 0 | Z11: 1 | AC11: 16 | AF11: 42 | AI11: =K11+Q11+W11+AC11 -> 49 | AL11: =N11+T11+Z11+AF11 -> 82
D12: 措置入院 | K12: 2 | N12: 0 | Q12: 0 | T12: 0 | W12: 0 | Z12: 0 | AC12: 0 | AF12: 0 | AI12: =K12+Q12+W12+AC12 -> 2 | AL12: =N12+T12+Z12+AF12 -> 0
D13: 合計 | K13: =SUM(K10:M12) -> 26 | N13: =SUM(N10:P12) -> 23 | Q13: =SUM(Q10:S12) -> 18 | T13: =SUM(T10:V12) -> 29 | W13: =SUM(W10:Y12) -> 23 | Z13: =SUM(Z10:AB12) -> 11 | AC13: =SUM(AC10:AE12) -> 16 | AF13: =SUM(AF10:AH12) -> 43 | AI13: =SUM(K13+Q13+W13+AC13) -> 83 | AL13: =SUM(N13+T13+Z13+AF13) -> 106 | AO13: 人
K14: =K13+N13 -> 49 | Q14: =Q13+T13 -> 47 | W14: =W13+Z13 -> 34 | AC14: =AC13+AF13 -> 59 | AI14: =AI13+AL13 -> 189
F15: 患者様氏名 | N15: 入院形態 | T15: 担当Dr | Y15: 担当SW | AD15: 病棟 | AJ15: 備考欄
D16: 入院 | F16: 橘 きみ | L16: 様 | N16: 医療保護入院 | T16: 馬渡晃弘Dr | AD16: 東D
L17: 様
L18: 様
L19: 様
L20: 様
D21: 退院 | L21: 様
L22: 様
L23: 様
L24: 様
L25: 様
D26: 転棟 ･ 入院形態変更 | F26: 小野寺 和子 | L26: 様 | N26: 医療保護入院 | T26: 深澤隆Dr | AD26: 東C→南A
F27: 和田 昌 | L27: 様 | N27: 医療保護入院 | T27: 柞木田なつみDr | AD27: 東B→西B
F28: 冨田 幸生 | L28: 様 | N28: 任意入院 | T28: 馬渡晃弘Dr | AD28: 北→東B
L29: 様
L30: 様
A31: 患者様 関連 | D31: 患者様氏名 | K31: 担当Dr | P31: 病棟 | S31: 制限内容 | X31: 制限時間 | AC31: 開始日時 | AO31: 備考
D32: 中村 聡 | I32: 様 | K32: 金泰徳Dr | P32: 東B | S32: 通信制限 | X32: 通信制限 | AC32: 令和 | AE32: 3 | AF32: 年 | AG32: 5 | AH32: 月 | AI32: 31 | AJ32: 日 | AL32: ： | AN32: ～
D33: 松谷 さと子 | I33: 様 | K33: 深澤隆Dr | P33: 東A | S33: 通信制限 | X33: 通信制限 | AC33: 令和 | AE33: 4 | AF33: 年 | AG33: 6 | AH33: 月 | AI33: 6 | AJ33: 日 | AL33: ： | AN33: ～
D34: 宮﨑 宏之 | I34: 様 | K34: 馬渡晃弘Dr | P34: 東A | S34: 終日隔離 | X34: 終日隔離 | AC34: 令和 | AE34: 4 | AF34: 年 | AG34: 9 | AH34: 月 | AI34: 30 | AJ34: 日 | AL34: ： | AN34: ～
D35: 沼山 真紀子 | I35: 様 | K35: 金泰徳Dr | P35: 東A | S35: 通信制限 | X35: 通信制限 | AC35: 令和 | AE35: 5 | AF35: 年 | AG35: 2 | AH35: 月 | AI35: 16 | AJ35: 日 | AL35: ： | AN35: ～
D36: 澤口 利香 | I36: 様 | K36: 深澤隆Dr | P36: 東A | S36: 終日隔離 | X36: 終日隔離 | AC36: 令和 | AE36: 5 | AF36: 年 | AG36: 11 | AH36: 月 | AI36: 25 | AJ36: 日 | AL36: ： | AN36: ～
I37: 様 | AC37: 令和 | AF37: 年 | AH37: 月 | AJ37: 日 | AL37: ： | AN37: ～
I38: 様 | AC38: 令和 | AF38: 年 | AH38: 月 | AJ38: 日 | AL38: ： | AN38: ～
I39: 様 | AC39: 令和 | AF39: 年 | AH39: 月 | AJ39: 日 | AL39: ： | AN39: ～
I40: 様 | AC40: 令和 | AF40: 年 | AH40: 月 | AJ40: 日 | AL40: ： | AN40: ～
I41: 様 | AC41: 令和 | AF41: 年 | AH41: 月 | AJ41: 日 | AL41: ： | AN41: ～
I42: 様 | AC42: 令和 | AF42: 年 | AH42: 月 | AJ42: 日 | AL42: ： | AN42: ～
I43: 様 | AC43: 令和 | AF43: 年 | AH43: 月 | AJ43: 日 | AL43: ： | AN43: ～
...

Sheet 3
A1: ソーシャルワーカー室 業務日誌 | AH1: C.O.O | AL1: I.O.O | AP1: Ａ.Ｏ.Ｍ
H3: =曜日!B12 -> 令和6年 | M3: =曜日!C12 -> 2月 | P3: 3日 | S3: （ | T3: =曜日!D5 -> 土 | U3: ） | W3: 作成者 | Z3: ： | AA3: 早狩 風花
A5: 労務 状況 | D5: 勤務状況 | K5: 西舘 翔子 | P5: 日勤 | T5: 大川 祥子 | Y5: 日勤 | AC5: 宇津木澤 育美 | AH5: 公休 | AL5: 早狩 風花 | AP5: 公休
K6: 澤里 皓輝 | P6: 公休 | T6: 安田 純子 | Y6: 公休 | AC6: 石鉢 佳代 | AH6: 公休
A8: 入退院 状況 | D8: 入院形態 | K8: 東病棟 | Q8: 西病棟 | W8: 北病棟 | AC8: 南病棟 | AI8: 合計 | AO8: 総数
K9: 男性 | N9: 女性 | Q9: 男性 | T9: 女性 | W9: 男性 | Z9: 女性 | AC9: 男性 | AF9: 女性 | AI9: 男性 | AL9: 女性
D10: 任意入院 | K10: 5 | N10: 5 | Q10: 3 | T10: 8 | W10: 24 | Z10: 10 | AC10: 0 | AF10: 1 | AI10: =K10+Q10+W10+AC10 -> 32 | AL10: =N10+T10+Z10+AF10 -> 24 | AO10: =AI14 -> 188
D11: 医療保護入院 | K11: 18 | N11: 17 | Q11: 15 | T11: 21 | W11: 0 | Z11: 1 | AC11: 16 | AF11: 42 | AI11: =K11+Q11+W11+AC11 -> 49 | AL11: =N11+T11+Z11+AF11 -> 81
D12: 措置入院 | K12: 2 | N12: 0 | Q12: 0 | T12: 0 | W12: 0 | Z12: 0 | AC12: 0 | AF12: 0 | AI12: =K12+Q12+W12+AC12 -> 2 | AL12: =N12+T12+Z12+AF12 -> 0
D13: 合計 | K13: =SUM(K10:M12) -> 25 | N13: =SUM(N10:P12) -> 22 | Q13: =SUM(Q10:S12) -> 18 | T13: =SUM(T10:V12) -> 29 | W13: =SUM(W10:Y12) -> 24 | Z13: =SUM(Z10:AB12) -> 11 | AC13: =SUM(AC10:AE12) -> 16 | AF13: =SUM(AF10:AH12) -> 43 | AI13: =SUM(K13+Q13+W13+AC13) -> 83 | AL13: =SUM(N13+T13+Z13+AF13) -> 105 | AO13: 人
K14: =K13+N13 -> 47 | Q14: =Q13+T13 -> 47 | W14: =W13+Z13 -> 35 | AC14: =AC13+AF13 -> 59 | AI14: =AI13+AL13 -> 188
F15: 患者様氏名 | N15: 入院形態 | T15: 担当Dr | Y15: 担当SW | AD15: 病棟 | AJ15: 備考欄
D16: 入院 | L16: 様
L17: 様
L18: 様
L19: 様
L20: 様
D21: 退院 | F21: 西野 はや | L21: 様 | N21: 医療保護入院 | T21: 村上祐介Dr | AD21: 東C
L22: 様
L23: 様
L24: 様
L25: 様
D26: 転棟 ･ 入院形態変更 | F26: 冨田 幸生 | L26: 様 | N26: 任意入院 | T26: 馬渡晃弘Dr | AD26: 東B→北
L27: 様
L28: 様
L29: 様
L30: 様
A31: 患者様 関連 | D31: 患者様氏名 | K31: 担当Dr | P31: 病棟 | S31: 制限内容 | X31: 制限時間 | AC31: 開始日時 | AO31: 備考
D32: 中村 聡 | I32: 様 | K32: 金泰徳Dr | P32: 東B | S32: 通信制限 | X32: 通信制限 | AC32: 令和 | AE32: 3 | AF32: 年 | AG32: 5 | AH32: 月 | AI32: 31 | AJ32: 日 | AL32: ： | AN32: ～
D33: 松谷 さと子 | I33: 様 | K33: 深澤隆Dr | P33: 東A | S33: 通信制限 | X33: 通信制限 | AC33: 令和 | AE33: 4 | AF33: 年 | AG33: 6 | AH33: 月 | AI33: 6 | AJ33: 日 | AL33: ： | AN33: ～
D34: 宮﨑 宏之 | I34: 様 | K34: 馬渡晃弘Dr | P34: 東A | S34: 終日隔離 | X34: 終日隔離 | AC34: 令和 | AE34: 4 | AF34: 年 | AG34: 9 | AH34: 月 | AI34: 30 | AJ34: 日 | AL34: ： | AN34: ～
D35: 沼山 真紀子 | I35: 様 | K35: 金泰徳Dr | P35: 東A | S35: 通信制限 | X35: 通信制限 | AC35: 令和 | AE35: 5 | AF35: 年 | AG35: 2 | AH35: 月 | AI35: 16 | AJ35: 日 | AL35: ： | AN35: ～
D36: 澤口 利香 | I36: 様 | K36: 深澤隆Dr | P36: 東A | S36: 終日隔離 | X36: 終日隔離 | AC36: 令和 | AE36: 5 | AF36: 年 | AG36: 11 | AH36: 月 | AI36: 25 | AJ36: 日 | AL36: ： | AN36: ～
I37: 様 | AC37: 令和 | AF37: 年 | AH37: 月 | AJ37: 日 | AL37: ： | AN37: ～
I38: 様 | AC38: 令和 | AF38: 年 | AH38: 月 | AJ38: 日 | AL38: ： | AN38: ～
I39: 様 | AC39: 令和 | AF39: 年 | AH39: 月 | AJ39: 日 | AL39: ： | AN39: ～
I40: 様 | AC40: 令和 | AF40: 年 | AH40: 月 | AJ40: 日 | AL40: ： | AN40: ～
I41: 様 | AC41: 令和 | AF41: 年 | AH41: 月 | AJ41: 日 | AL41: ： | AN41: ～
I42: 様 | AC42: 令和 | AF42: 年 | AH42: 月 | AJ42: 日 | AL42: ： | AN42: ～
I43: 様 | AC43: 令和 | AF43: 年 | AH43: 月 | AJ43: 日 | AL43: ： | AN43: ～
...

Sheet 4
A1: ソーシャルワーカー室 業務日誌 | AH1: C.O.O | AL1: I.O.O | AP1: Ａ.Ｏ.Ｍ
H3: =曜日!B12 -> 令和6年 | M3: =曜日!C12 -> 2月 | P3: 4日 | S3: （ | T3: =曜日!D6 -> 日 | U3: ） | W3: 作成者 | Z3: ： | AA3: 早狩 風花
A5: 労務 状況 | D5: 勤務状況 | K5: 西舘 翔子 | P5: 公休 | T5: 大川 祥子 | Y5: 公休 | AC5: 宇津木澤 育美 | AH5: 公休 | AL5: 早狩 風花 | AP5: 公休
K6: 澤里 皓輝 | P6: 公休 | T6: 安田 純子 | Y6: 公休 | AC6: 石鉢 佳代 | AH6: 公休
A8: 入退院 状況 | D8: 入院形態 | K8: 東病棟 | Q8: 西病棟 | W8: 北病棟 | AC8: 南病棟 | AI8: 合計 | AO8: 総数
K9: 男性 | N9: 女性 | Q9: 男性 | T9: 女性 | W9: 男性 | Z9: 女性 | AC9: 男性 | AF9: 女性 | AI9: 男性 | AL9: 女性
D10: 任意入院 | K10: 5 | N10: 5 | Q10: 3 | T10: 8 | W10: 24 | Z10: 10 | AC10: 0 | AF10: 1 | AI10: =K10+Q10+W10+AC10 -> 32 | AL10: =N10+T10+Z10+AF10 -> 24 | AO10: =AI14 -> 188
D11: 医療保護入院 | K11: 18 | N11: 17 | Q11: 15 | T11: 21 | W11: 0 | Z11: 1 | AC11: 16 | AF11: 42 | AI11: =K11+Q11+W11+AC11 -> 49 | AL11: =N11+T11+Z11+AF11 -> 81
D12: 措置入院 | K12: 2 | N12: 0 | Q12: 0 | T12: 0 | W12: 0 | Z12: 0 | AC12: 0 | AF12: 0 | AI12: =K12+Q12+W12+AC12 -> 2 | AL12: =N12+T12+Z12+AF12 -> 0
D13: 合計 | K13: =SUM(K10:M12) -> 25 | N13: =SUM(N10:P12) -> 22 | Q13: =SUM(Q10:S12) -> 18 | T13: =SUM(T10:V12) -> 29 | W13: =SUM(W10:Y12) -> 24 | Z13: =SUM(Z10:AB12) -> 11 | AC13: =SUM(AC10:AE12) -> 16 | AF13: =SUM(AF10:AH12) -> 43 | AI13: =SUM(K13+Q13+W13+AC13) -> 83 | AL13: =SUM(N13+T13+Z13+AF13) -> 105 | AO13: 人
K14: =K13+N13 -> 47 | Q14: =Q13+T13 -> 47 | W14: =W13+Z13 -> 35 | AC14: =AC13+AF13 -> 59 | AI14: =AI13+AL13 -> 188
F15: 患者様氏名 | N15: 入院形態 | T15: 担当Dr | Y15: 担当SW | AD15: 病棟 | AJ15: 備考欄
D16: 入院 | L16: 様
L17: 様
L18: 様
L19: 様
L20: 様
D21: 退院 | L21: 様
L22: 様
L23: 様
L24: 様
L25: 様
D26: 転棟 ･ 入院形態変更 | L26: 様
L27: 様
L28: 様
L29: 様
L30: 様
A31: 患者様 関連 | D31: 患者様氏名 | K31: 担当Dr | P31: 病棟 | S31: 制限内容 | X31: 制限時間 | AC31: 開始日時 | AO31: 備考
D32: 中村 聡 | I32: 様 | K32: 金泰徳Dr | P32: 東B | S32: 通信制限 | X32: 通信制限 | AC32: 令和 | AE32: 3 | AF32: 年 | AG32: 5 | AH32: 月 | AI32: 31 | AJ32: 日 | AL32: ： | AN32: ～
D33: 松谷 さと子 | I33: 様 | K33: 深澤隆Dr | P33: 東A | S33: 通信制限 | X33: 通信制限 | AC33: 令和 | AE33: 4 | AF33: 年 | AG33: 6 | AH33: 月 | AI33: 6 | AJ33: 日 | AL33: ： | AN33: ～
D34: 宮﨑 宏之 | I34: 様 | K34: 馬渡晃弘Dr | P34: 東A | S34: 終日隔離 | X34: 終日隔離 | AC34: 令和 | AE34: 4 | AF34: 年 | AG34: 9 | AH34: 月 | AI34: 30 | AJ34: 日 | AL34: ： | AN34: ～
D35: 沼山 真紀子 | I35: 様 | K35: 金泰徳Dr | P35: 東A | S35: 通信制限 | X35: 通信制限 | AC35: 令和 | AE35: 5 | AF35: 年 | AG35: 2 | AH35: 月 | AI35: 16 | AJ35: 日 | AL35: ： | AN35: ～
D36: 澤口 利香 | I36: 様 | K36: 深澤隆Dr | P36: 東A | S36: 終日隔離 | X36: 終日隔離 | AC36: 令和 | AE36: 5 | AF36: 年 | AG36: 11 | AH36: 月 | AI36: 25 | AJ36: 日 | AL36: ： | AN36: ～
I37: 様 | AC37: 令和 | AF37: 年 | AH37: 月 | AJ37: 日 | AL37: ： | AN37: ～
I38: 様 | AC38: 令和 | AF38: 年 | AH38: 月 | AJ38: 日 | AL38: ： | AN38: ～
I39: 様 | AC39: 令和 | AF39: 年 | AH39: 月 | AJ39: 日 | AL39: ： | AN39: ～
I40: 様 | AC40: 令和 | AF40: 年 | AH40: 月 | AJ40: 日 | AL40: ： | AN40: ～
I41: 様 | AC41: 令和 | AF41: 年 | AH41: 月 | AJ41: 日 | AL41: ： | AN41: ～
I42: 様 | AC42: 令和 | AF42: 年 | AH42: 月 | AJ42: 日 | AL42: ： | AN42: ～
I43: 様 | AC43: 令和 | AF43: 年 | AH43: 月 | AJ43: 日 | AL43: ： | AN43: ～
...

Sheet 5
A1: ソーシャルワーカー室 業務日誌 | AH1: C.O.O | AL1: I.O.O | AP1: Ａ.Ｏ.Ｍ
H3: =曜日!B12 -> 令和6年 | M3: =曜日!C12 -> 2月 | P3: 5日 | S3: （ | T3: =曜日!D7 -> 月 | U3: ） | W3: 作成者 | Z3: ： | AA3: 大川 祥子
A5: 労務 状況 | D5: 勤務状況 | K5: 西舘 翔子 | P5: 日勤 | T5: 大川 祥子 | Y5: 公休 | AC5: 宇津木澤 育美 | AH5: 日勤 | AL5: 早狩 風花 | AP5: 欠勤
K6: 澤里 皓輝 | P6: 日勤 | T6: 安田 純子 | Y6: 日勤 | AC6: 石鉢 佳代 | AH6: 日勤
A8: 入退院 状況 | D8: 入院形態 | K8: 東病棟 | Q8: 西病棟 | W8: 北病棟 | AC8: 南病棟 | AI8: 合計 | AO8: 総数
K9: 男性 | N9: 女性 | Q9: 男性 | T9: 女性 | W9: 男性 | Z9: 女性 | AC9: 男性 | AF9: 女性 | AI9: 男性 | AL9: 女性
D10: 任意入院 | K10: 5 | N10: 5 | Q10: 3 | T10: 8 | W10: 24 | Z10: 10 | AC10: 0 | AF10: 1 | AI10: =K10+Q10+W10+AC10 -> 32 | AL10: =N10+T10+Z10+AF10 -> 24 | AO10: =AI14 -> 188
D11: 医療保護入院 | K11: 18 | N11: 17 | Q11: 15 | T11: 21 | W11: 0 | Z11: 1 | AC11: 16 | AF11: 42 | AI11: =K11+Q11+W11+AC11 -> 49 | AL11: =N11+T11+Z11+AF11 -> 81
D12: 措置入院 | K12: 2 | N12: 0 | Q12: 0 | T12: 0 | W12: 0 | Z12: 0 | AC12: 0 | AF12: 0 | AI12: =K12+Q12+W12+AC12 -> 2 | AL12: =N12+T12+Z12+AF12 -> 0
D13: 合計 | K13: =SUM(K10:M12) -> 25 | N13: =SUM(N10:P12) -> 22 | Q13: =SUM(Q10:S12) -> 18 | T13: =SUM(T10:V12) -> 29 | W13: =SUM(W10:Y12) -> 24 | Z13: =SUM(Z10:AB12) -> 11 | AC13: =SUM(AC10:AE12) -> 16 | AF13: =SUM(AF10:AH12) -> 43 | AI13: =SUM(K13+Q13+W13+AC13) -> 83 | AL13: =SUM(N13+T13+Z13+AF13) -> 105 | AO13: 人
K14: =K13+N13 -> 47 | Q14: =Q13+T13 -> 47 | W14: =W13+Z13 -> 35 | AC14: =AC13+AF13 -> 59 | AI14: =AI13+AL13 -> 188
F15: 患者様氏名 | N15: 入院形態 | T15: 担当Dr | Y15: 担当SW | AD15: 病棟 | AJ15: 備考欄
D16: 入院 | L16: 様
L17: 様
L18: 様
L19: 様
L20: 様
D21: 退院 | L21: 様
L22: 様
L23: 様
L24: 様
L25: 様
D26: 転棟 ･ 入院形態変更 | L26: 様
L27: 様
L28: 様
L29: 様
L30: 様
A31: 患者様 関連 | D31: 患者様氏名 | K31: 担当Dr | P31: 病棟 | S31: 制限内容 | X31: 制限時間 | AC31: 開始日時 | AO31: 備考
D32: 中村 聡 | I32: 様 | K32: 金泰徳Dr | P32: 東B | S32: 通信制限 | X32: 通信制限 | AC32: 令和 | AE32: 3 | AF32: 年 | AG32: 5 | AH32: 月 | AI32: 31 | AJ32: 日 | AL32: ： | AN32: ～
D33: 松谷 さと子 | I33: 様 | K33: 深澤隆Dr | P33: 東A | S33: 通信制限 | X33: 通信制限 | AC33: 令和 | AE33: 4 | AF33: 年 | AG33: 6 | AH33: 月 | AI33: 6 | AJ33: 日 | AL33: ： | AN33: ～
D34: 宮﨑 宏之 | I34: 様 | K34: 馬渡晃弘Dr | P34: 東A | S34: 終日隔離 | X34: 終日隔離 | AC34: 令和 | AE34: 4 | AF34: 年 | AG34: 9 | AH34: 月 | AI34: 30 | AJ34: 日 | AL34: ： | AN34: ～
D35: 沼山 真紀子 | I35: 様 | K35: 金泰徳Dr | P35: 東A | S35: 通信制限 | X35: 通信制限 | AC35: 令和 | AE35: 5 | AF35: 年 | AG35: 2 | AH35: 月 | AI35: 16 | AJ35: 日 | AL35: ： | AN35: ～
D36: 澤口 利香 | I36: 様 | K36: 深澤隆Dr | P36: 東A | S36: 終日隔離 | X36: 終日隔離 | AC36: 令和 | AE36: 5 | AF36: 年 | AG36: 11 | AH36: 月 | AI36: 25 | AJ36: 日 | AL36: ： | AN36: ～
I37: 様 | AC37: 令和 | AF37: 年 | AH37: 月 | AJ37: 日 | AL37: ： | AN37: ～
I38: 様 | AC38: 令和 | AF38: 年 | AH38: 月 | AJ38: 日 | AL38: ： | AN38: ～
I39: 様 | AC39: 令和 | AF39: 年 | AH39: 月 | AJ39: 日 | AL39: ： | AN39: ～
I40: 様 | AC40: 令和 | AF40: 年 | AH40: 月 | AJ40: 日 | AL40: ： | AN40: ～
I41: 様 | AC41: 令和 | AF41: 年 | AH41: 月 | AJ41: 日 | AL41: ： | AN41: ～
I42: 様 | AC42: 令和 | AF42: 年 | AH42: 月 | AJ42: 日 | AL42: ： | AN42: ～
I43: 様 | AC43: 令和 | AF43: 年 | AH43: 月 | AJ43: 日 | AL43: ： | AN43: ～
...

Sheet 6
A1: ソーシャルワーカー室 業務日誌 | AH1: C.O.O | AL1: I.O.O | AP1: Ａ.Ｏ.Ｍ
H3: =曜日!B12 -> 令和6年 | M3: =曜日!C12 -> 2月 | P3: 6日 | S3: （ | T3: =曜日!D8 -> 火 | U3: ） | W3: 作成者 | Z3: ： | AA3: 大川 祥子
A5: 労務 状況 | D5: 勤務状況 | K5: 西舘 翔子 | P5: 日勤 | T5: 大川 祥子 | Y5: 日勤 | AC5: 宇津木澤 育美 | AH5: 日勤 | AL5: 早狩 風花 | AP5: 日勤
K6: 澤里 皓輝 | P6: 日勤 | T6: 安田 純子 | Y6: 日勤 | AC6: 石鉢 佳代 | AH6: 日勤
A8: 入退院 状況 | D8: 入院形態 | K8: 東病棟 | Q8: 西病棟 | W8: 北病棟 | AC8: 南病棟 | AI8: 合計 | AO8: 総数
K9: 男性 | N9: 女性 | Q9: 男性 | T9: 女性 | W9: 男性 | Z9: 女性 | AC9: 男性 | AF9: 女性 | AI9: 男性 | AL9: 女性
D10: 任意入院 | K10: 5 | N10: 5 | Q10: 3 | T10: 8 | W10: 24 | Z10: 10 | AC10: 0 | AF10: 1 | AI10: =K10+Q10+W10+AC10 -> 32 | AL10: =N10+T10+Z10+AF10 -> 24 | AO10: =AI14 -> 191
D11: 医療保護入院 | K11: 20 | N11: 18 | Q11: 15 | T11: 21 | W11: 0 | Z11: 1 | AC11: 16 | AF11: 42 | AI11: =K11+Q11+W11+AC11 -> 51 | AL11: =N11+T11+Z11+AF11 -> 82
D12: 措置入院 | K12: 2 | N12: 0 | Q12: 0 | T12: 0 | W12: 0 | Z12: 0 | AC12: 0 | AF12: 0 | AI12: =K12+Q12+W12+AC12 -> 2 | AL12: =N12+T12+Z12+AF12 -> 0
D13: 合計 | K13: =SUM(K10:M12) -> 27 | N13: =SUM(N10:P12) -> 23 | Q13: =SUM(Q10:S12) -> 18 | T13: =SUM(T10:V12) -> 29 | W13: =SUM(W10:Y12) -> 24 | Z13: =SUM(Z10:AB12) -> 11 | AC13: =SUM(AC10:AE12) -> 16 | AF13: =SUM(AF10:AH12) -> 43 | AI13: =SUM(K13+Q13+W13+AC13) -> 85 | AL13: =SUM(N13+T13+Z13+AF13) -> 106 | AO13: 人
K14: =K13+N13 -> 50 | Q14: =Q13+T13 -> 47 | W14: =W13+Z13 -> 35 | AC14: =AC13+AF13 -> 59 | AI14: =AI13+AL13 -> 191
F15: 患者様氏名 | N15: 入院形態 | T15: 担当Dr | Y15: 担当SW | AD15: 病棟 | AJ15: 備考欄
D16: 入院 | F16: 向谷地 善朗 | L16: 様 | N16: 医療保護入院 | T16: 小栁匡相Dr | Y16: 大川 祥子 | AD16: 東A
F17: 袴田 裕國 | L17: 様 | N17: 医療保護入院 | T17: 小栁匡相Dr | Y17: 西舘 翔子 | AD17: 東A
F18: 糸山 タケ | L18: 様 | N18: 医療保護入院 | T18: 金泰德Dr | Y18: 澤里 皓輝 | AD18: 東合
L19: 様
L20: 様
D21: 退院 | L21: 様
L22: 様
L23: 様
L24: 様
L25: 様
D26: 転棟 ･ 入院形態変更 | L26: 様
L27: 様
L28: 様
L29: 様
L30: 様
A31: 患者様 関連 | D31: 患者様氏名 | K31: 担当Dr | P31: 病棟 | S31: 制限内容 | X31: 制限時間 | AC31: 開始日時 | AO31: 備考
D32: 中村 聡 | I32: 様 | K32: 金泰徳Dr | P32: 東B | S32: 通信制限 | X32: 通信制限 | AC32: 令和 | AE32: 3 | AF32: 年 | AG32: 5 | AH32: 月 | AI32: 31 | AJ32: 日 | AL32: ： | AN32: ～
D33: 松谷 さと子 | I33: 様 | K33: 深澤隆Dr | P33: 東A | S33: 通信制限 | X33: 通信制限 | AC33: 令和 | AE33: 4 | AF33: 年 | AG33: 6 | AH33: 月 | AI33: 6 | AJ33: 日 | AL33: ： | AN33: ～
D34: 宮﨑 宏之 | I34: 様 | K34: 馬渡晃弘Dr | P34: 東A | S34: 終日隔離 | X34: 終日隔離 | AC34: 令和 | AE34: 4 | AF34: 年 | AG34: 9 | AH34: 月 | AI34: 30 | AJ34: 日 | AL34: ： | AN34: ～
D35: 沼山 真紀子 | I35: 様 | K35: 金泰徳Dr | P35: 東A | S35: 通信制限 | X35: 通信制限 | AC35: 令和 | AE35: 5 | AF35: 年 | AG35: 2 | AH35: 月 | AI35: 16 | AJ35: 日 | AL35: ： | AN35: ～
D36: 澤口 利香 | I36: 様 | K36: 深澤隆Dr | P36: 東A | S36: 終日隔離 | X36: 終日隔離 | AC36: 令和 | AE36: 5 | AF36: 年 | AG36: 11 | AH36: 月 | AI36: 25 | AJ36: 日 | AL36: ： | AN36: ～
I37: 様 | AC37: 令和 | AF37: 年 | AH37: 月 | AJ37: 日 | AL37: ： | AN37: ～
I38: 様 | AC38: 令和 | AF38: 年 | AH38: 月 | AJ38: 日 | AL38: ： | AN38: ～
I39: 様 | AC39: 令和 | AF39: 年 | AH39: 月 | AJ39: 日 | AL39: ： | AN39: ～
I40: 様 | AC40: 令和 | AF40: 年 | AH40: 月 | AJ40: 日 | AL40: ： | AN40: ～
I41: 様 | AC41: 令和 | AF41: 年 | AH41: 月 | AJ41: 日 | AL41: ： | AN41: ～
I42: 様 | AC42: 令和 | AF42: 年 | AH42: 月 | AJ42: 日 | AL42: ： | AN42: ～
I43: 様 | AC43: 令和 | AF43: 年 | AH43: 月 | AJ43: 日 | AL43: ： | AN43: ～
...

Sheet 7
A1: ソーシャルワーカー室 業務日誌 | AH1: C.O.O | AL1: I.O.O | AP1: Ａ.Ｏ.Ｍ
H3: =曜日!B12 -> 令和6年 | M3: =曜日!C12 -> 2月 | P3: 7日 | S3: （ | T3: =曜日!D9 -> 水 | U3: ） | W3: 作成者 | Z3: ： | AA3: 大川 祥子
A5: 労務 状況 | D5: 勤務状況 | K5: 西舘 翔子 | P5: 日勤 | T5: 大川 祥子 | Y5: 日勤 | AC5: 宇津木澤 育美 | AH5: 日勤 | AL5: 早狩 風花 | AP5: 日勤
K6: 澤里 皓輝 | P6: 日勤 | T6: 安田 純子 | Y6: 日勤 | AC6: 石鉢 佳代 | AH6: 日勤
A8: 入退院 状況 | D8: 入院形態 | K8: 東病棟 | Q8: 西病棟 | W8: 北病棟 | AC8: 南病棟 | AI8: 合計 | AO8: 総数
K9: 男性 | N9: 女性 | Q9: 男性 | T9: 女性 | W9: 男性 | Z9: 女性 | AC9: 男性 | AF9: 女性 | AI9: 男性 | AL9: 女性
D10: 任意入院 | K10: 5 | N10: 5 | Q10: 3 | T10: 8 | W10: 24 | Z10: 10 | AC10: 0 | AF10: 1 | AI10: =K10+Q10+W10+AC10 -> 32 | AL10: =N10+T10+Z10+AF10 -> 24 | AO10: =AI14 -> 191
D11: 医療保護入院 | K11: 20 | N11: 18 | Q11: 15 | T11: 21 | W11: 0 | Z11: 1 | AC11: 16 | AF11: 42 | AI11: =K11+Q11+W11+AC11 -> 51 | AL11: =N11+T11+Z11+AF11 -> 82
D12: 措置入院 | K12: 2 | N12: 0 | Q12: 0 | T12: 0 | W12: 0 | Z12: 0 | AC12: 0 | AF12: 0 | AI12: =K12+Q12+W12+AC12 -> 2 | AL12: =N12+T12+Z12+AF12 -> 0
D13: 合計 | K13: =SUM(K10:M12) -> 27 | N13: =SUM(N10:P12) -> 23 | Q13: =SUM(Q10:S12) -> 18 | T13: =SUM(T10:V12) -> 29 | W13: =SUM(W10:Y12) -> 24 | Z13: =SUM(Z10:AB12) -> 11 | AC13: =SUM(AC10:AE12) -> 16 | AF13: =SUM(AF10:AH12) -> 43 | AI13: =SUM(K13+Q13+W13+AC13) -> 85 | AL13: =SUM(N13+T13+Z13+AF13) -> 106 | AO13: 人
K14: =K13+N13 -> 50 | Q14: =Q13+T13 -> 47 | W14: =W13+Z13 -> 35 | AC14: =AC13+AF13 -> 59 | AI14: =AI13+AL13 -> 191
F15: 患者様氏名 | N15: 入院形態 | T15: 担当Dr | Y15: 担当SW | AD15: 病棟 | AJ15: 備考欄
D16: 入院 | L16: 様
L17: 様
L18: 様
L19: 様
L20: 様
D21: 退院 | L21: 様
L22: 様
L23: 様
L24: 様
L25: 様
D26: 転棟 ･ 入院形態変更 | F26: 今田 克博 | L26: 様 | AJ26: 措置→医保
L27: 様
L28: 様
L29: 様
L30: 様
A31: 患者様 関連 | D31: 患者様氏名 | K31: 担当Dr | P31: 病棟 | S31: 制限内容 | X31: 制限時間 | AC31: 開始日時 | AO31: 備考
D32: 中村 聡 | I32: 様 | K32: 金泰徳Dr | P32: 東B | S32: 通信制限 | X32: 通信制限 | AC32: 令和 | AE32: 3 | AF32: 年 | AG32: 5 | AH32: 月 | AI32: 31 | AJ32: 日 | AL32: ： | AN32: ～
D33: 松谷 さと子 | I33: 様 | K33: 深澤隆Dr | P33: 東A | S33: 通信制限 | X33: 通信制限 | AC33: 令和 | AE33: 4 | AF33: 年 | AG33: 6 | AH33: 月 | AI33: 6 | AJ33: 日 | AL33: ： | AN33: ～
D34: 宮﨑 宏之 | I34: 様 | K34: 馬渡晃弘Dr | P34: 東A | S34: 終日隔離 | X34: 終日隔離 | AC34: 令和 | AE34: 4 | AF34: 年 | AG34: 9 | AH34: 月 | AI34: 30 | AJ34: 日 | AL34: ： | AN34: ～
D35: 沼山 真紀子 | I35: 様 | K35: 金泰徳Dr | P35: 東A | S35: 通信制限 | X35: 通信制限 | AC35: 令和 | AE35: 5 | AF35: 年 | AG35: 2 | AH35: 月 | AI35: 16 | AJ35: 日 | AL35: ： | AN35: ～
D36: 澤口 利香 | I36: 様 | K36: 深澤隆Dr | P36: 東A | S36: 終日隔離 | X36: 終日隔離 | AC36: 令和 | AE36: 5 | AF36: 年 | AG36: 11 | AH36: 月 | AI36: 25 | AJ36: 日 | AL36: ： | AN36: ～
I37: 様 | AC37: 令和 | AF37: 年 | AH37: 月 | AJ37: 日 | AL37: ： | AN37: ～
I38: 様 | AC38: 令和 | AF38: 年 | AH38: 月 | AJ38: 日 | AL38: ： | AN38: ～
I39: 様 | AC39: 令和 | AF39: 年 | AH39: 月 | AJ39: 日 | AL39: ： | AN39: ～
I40: 様 | AC40: 令和 | AF40: 年 | AH40: 月 | AJ40: 日 | AL40: ： | AN40: ～
I41: 様 | AC41: 令和 | AF41: 年 | AH41: 月 | AJ41: 日 | AL41: ： | AN41: ～
I42: 様 | AC42: 令和 | AF42: 年 | AH42: 月 | AJ42: 日 | AL42: ： | AN42: ～
I43: 様 | AC43: 令和 | AF43: 年 | AH43: 月 | AJ43: 日 | AL43: ： | AN43: ～
...

Sheet 8
A1: ソーシャルワーカー室 業務日誌 | AH1: C.O.O | AL1: I.O.O | AP1: Ａ.Ｏ.Ｍ
H3: =曜日!B12 -> 令和6年 | M3: =曜日!C12 -> 2月 | P3: 8日 | S3: （ | T3: =曜日!D3 -> 木 | U3: ） | W3: 作成者 | Z3: ： | AA3: 大川 祥子
A5: 労務 状況 | D5: 勤務状況 | K5: 西舘 翔子 | P5: 日勤 | T5: 大川 祥子 | Y5: 欠勤 | AC5: 宇津木澤 育美 | AH5: 日勤 | AL5: 早狩 風花 | AP5: 日勤
K6: 澤里 皓輝 | P6: 日勤 | T6: 安田 純子 | Y6: 日勤 | AC6: 石鉢 佳代 | AH6: 日勤
A8: 入退院 状況 | D8: 入院形態 | K8: 東病棟 | Q8: 西病棟 | W8: 北病棟 | AC8: 南病棟 | AI8: 合計 | AO8: 総数
K9: 男性 | N9: 女性 | Q9: 男性 | T9: 女性 | W9: 男性 | Z9: 女性 | AC9: 男性 | AF9: 女性 | AI9: 男性 | AL9: 女性
D10: 任意入院 | K10: 5 | N10: 5 | Q10: 3 | T10: 8 | W10: 24 | Z10: 10 | AC10: 0 | AF10: 1 | AI10: =K10+Q10+W10+AC10 -> 32 | AL10: =N10+T10+Z10+AF10 -> 24 | AO10: =AI14 -> 190
D11: 医療保護入院 | K11: 20 | N11: 18 | Q11: 15 | T11: 21 | W11: 0 | Z11: 1 | AC11: 16 | AF11: 41 | AI11: =K11+Q11+W11+AC11 -> 51 | AL11: =N11+T11+Z11+AF11 -> 81
D12: 措置入院 | K12: 2 | N12: 0 | Q12: 0 | T12: 0 | W12: 0 | Z12: 0 | AC12: 0 | AF12: 0 | AI12: =K12+Q12+W12+AC12 -> 2 | AL12: =N12+T12+Z12+AF12 -> 0
D13: 合計 | K13: =SUM(K10:M12) -> 27 | N13: =SUM(N10:P12) -> 23 | Q13: =SUM(Q10:S12) -> 18 | T13: =SUM(T10:V12) -> 29 | W13: =SUM(W10:Y12) -> 24 | Z13: =SUM(Z10:AB12) -> 11 | AC13: =SUM(AC10:AE12) -> 16 | AF13: =SUM(AF10:AH12) -> 42 | AI13: =SUM(K13+Q13+W13+AC13) -> 85 | AL13: =SUM(N13+T13+Z13+AF13) -> 105 | AO13: 人
K14: =K13+N13 -> 50 | Q14: =Q13+T13 -> 47 | W14: =W13+Z13 -> 35 | AC14: =AC13+AF13 -> 58 | AI14: =AI13+AL13 -> 190
F15: 患者様氏名 | N15: 入院形態 | T15: 担当Dr | Y15: 担当SW | AD15: 病棟 | AJ15: 備考欄
D16: 入院 | F16: 上平 和義 | L16: 様 | N16: 医療保護入院 | T16: 小栁匡相Dr | AD16: 東B
L17: 様
L18: 様
L19: 様
L20: 様
D21: 退院 | F21: 野見山 キヱ | L21: 様 | N21: 医療保護入院 | T21: 村上祐介Dr | AD21: 南A
F22: 河津 繁吉 | L22: 様 | N22: 医療保護入院 | T22: 馬渡晃弘Dr | AD22: 東合
L23: 様
L24: 様
L25: 様
D26: 転棟 ･ 入院形態変更 | L26: 様
L27: 様
L28: 様
L29: 様
L30: 様
A31: 患者様 関連 | D31: 患者様氏名 | K31: 担当Dr | P31: 病棟 | S31: 制限内容 | X31: 制限時間 | AC31: 開始日時 | AO31: 備考
D32: 中村 聡 | I32: 様 | K32: 金泰徳Dr | P32: 東B | S32: 通信制限 | X32: 通信制限 | AC32: 令和 | AE32: 3 | AF32: 年 | AG32: 5 | AH32: 月 | AI32: 31 | AJ32: 日 | AL32: ： | AN32: ～
D33: 松谷 さと子 | I33: 様 | K33: 深澤隆Dr | P33: 東A | S33: 通信制限 | X33: 通信制限 | AC33: 令和 | AE33: 4 | AF33: 年 | AG33: 6 | AH33: 月 | AI33: 6 | AJ33: 日 | AL33: ： | AN33: ～
D34: 宮﨑 宏之 | I34: 様 | K34: 馬渡晃弘Dr | P34: 東A | S34: 終日隔離 | X34: 終日隔離 | AC34: 令和 | AE34: 4 | AF34: 年 | AG34: 9 | AH34: 月 | AI34: 30 | AJ34: 日 | AL34: ： | AN34: ～
D35: 沼山 真紀子 | I35: 様 | K35: 金泰徳Dr | P35: 東A | S35: 通信制限 | X35: 通信制限 | AC35: 令和 | AE35: 5 | AF35: 年 | AG35: 2 | AH35: 月 | AI35: 16 | AJ35: 日 | AL35: ： | AN35: ～
D36: 澤口 利香 | I36: 様 | K36: 深澤隆Dr | P36: 東A | S36: 終日隔離 | X36: 終日隔離 | AC36: 令和 | AE36: 5 | AF36: 年 | AG36: 11 | AH36: 月 | AI36: 25 | AJ36: 日 | AL36: ： | AN36: ～
I37: 様 | AC37: 令和 | AF37: 年 | AH37: 月 | AJ37: 日 | AL37: ： | AN37: ～
I38: 様 | AC38: 令和 | AF38: 年 | AH38: 月 | AJ38: 日 | AL38: ： | AN38: ～
I39: 様 | AC39: 令和 | AF39: 年 | AH39: 月 | AJ39: 日 | AL39: ： | AN39: ～
I40: 様 | AC40: 令和 | AF40: 年 | AH40: 月 | AJ40: 日 | AL40: ： | AN40: ～
I41: 様 | AC41: 令和 | AF41: 年 | AH41: 月 | AJ41: 日 | AL41: ： | AN41: ～
I42: 様 | AC42: 令和 | AF42: 年 | AH42: 月 | AJ42: 日 | AL42: ： | AN42: ～
I43: 様 | AC43: 令和 | AF43: 年 | AH43: 月 | AJ43: 日 | AL43: ： | AN43: ～
...

Sheet 9
A1: ソーシャルワーカー室 業務日誌 | AH1: C.O.O | AL1: I.O.O | AP1: Ａ.Ｏ.Ｍ
H3: =曜日!B12 -> 令和6年 | M3: =曜日!C12 -> 2月 | P3: 9日 | S3: （ | T3: =曜日!D4 -> 金 | U3: ） | W3: 作成者 | Z3: ： | AA3: 大川 祥子
A5: 労務 状況 | D5: 勤務状況 | K5: 西舘 翔子 | P5: 日勤 | T5: 大川 祥子 | Y5: 遅刻 | AC5: 宇津木澤 育美 | AH5: 日勤 | AL5: 早狩 風花 | AP5: 日勤
K6: 澤里 皓輝 | P6: 日勤 | T6: 安田 純子 | Y6: 日勤 | AC6: 石鉢 佳代 | AH6: 日勤
A8: 入退院 状況 | D8: 入院形態 | K8: 東病棟 | Q8: 西病棟 | W8: 北病棟 | AC8: 南病棟 | AI8: 合計 | AO8: 総数
K9: 男性 | N9: 女性 | Q9: 男性 | T9: 女性 | W9: 男性 | Z9: 女性 | AC9: 男性 | AF9: 女性 | AI9: 男性 | AL9: 女性
D10: 任意入院 | K10: 5 | N10: 5 | Q10: 3 | T10: 8 | W10: 24 | Z10: 10 | AC10: 0 | AF10: 1 | AI10: =K10+Q10+W10+AC10 -> 32 | AL10: =N10+T10+Z10+AF10 -> 24 | AO10: =AI14 -> 190
D11: 医療保護入院 | K11: 21 | N11: 18 | Q11: 15 | T11: 21 | W11: 0 | Z11: 1 | AC11: 15 | AF11: 41 | AI11: =K11+Q11+W11+AC11 -> 51 | AL11: =N11+T11+Z11+AF11 -> 81
D12: 措置入院 | K12: 2 | N12: 0 | Q12: 0 | T12: 0 | W12: 0 | Z12: 0 | AC12: 0 | AF12: 0 | AI12: =K12+Q12+W12+AC12 -> 2 | AL12: =N12+T12+Z12+AF12 -> 0
D13: 合計 | K13: =SUM(K10:M12) -> 28 | N13: =SUM(N10:P12) -> 23 | Q13: =SUM(Q10:S12) -> 18 | T13: =SUM(T10:V12) -> 29 | W13: =SUM(W10:Y12) -> 24 | Z13: =SUM(Z10:AB12) -> 11 | AC13: =SUM(AC10:AE12) -> 15 | AF13: =SUM(AF10:AH12) -> 42 | AI13: =SUM(K13+Q13+W13+AC13) -> 85 | AL13: =SUM(N13+T13+Z13+AF13) -> 105 | AO13: 人
K14: =K13+N13 -> 51 | Q14: =Q13+T13 -> 47 | W14: =W13+Z13 -> 35 | AC14: =AC13+AF13 -> 57 | AI14: =AI13+AL13 -> 190
F15: 患者様氏名 | N15: 入院形態 | T15: 担当Dr | Y15: 担当SW | AD15: 病棟 | AJ15: 備考欄
D16: 入院 | F16: 楢舘 悠登 | L16: 様 | N16: 任意入院 | T16: 馬渡晃弘Dr | AD16: 東D
L17: 様
L18: 様
L19: 様
L20: 様
D21: 退院 | F21: 見附 栄 | L21: 様 | N21: 医療保護入院 | T21: 馬渡晃弘Dr | AD21: 南C
L22: 様
L23: 様
L24: 様
L25: 様
D26: 転棟 ･ 入院形態変更 | L26: 様
L27: 様
L28: 様
L29: 様
L30: 様
A31: 患者様 関連 | D31: 患者様氏名 | K31: 担当Dr | P31: 病棟 | S31: 制限内容 | X31: 制限時間 | AC31: 開始日時 | AO31: 備考
D32: 中村 聡 | I32: 様 | K32: 金泰徳Dr | P32: 東B | S32: 通信制限 | X32: 通信制限 | AC32: 令和 | AE32: 3 | AF32: 年 | AG32: 5 | AH32: 月 | AI32: 31 | AJ32: 日 | AL32: ： | AN32: ～
D33: 松谷 さと子 | I33: 様 | K33: 深澤隆Dr | P33: 東A | S33: 通信制限 | X33: 通信制限 | AC33: 令和 | AE33: 4 | AF33: 年 | AG33: 6 | AH33: 月 | AI33: 6 | AJ33: 日 | AL33: ： | AN33: ～
D34: 宮﨑 宏之 | I34: 様 | K34: 馬渡晃弘Dr | P34: 東A | S34: 終日隔離 | X34: 終日隔離 | AC34: 令和 | AE34: 4 | AF34: 年 | AG34: 9 | AH34: 月 | AI34: 30 | AJ34: 日 | AL34: ： | AN34: ～
D35: 沼山 真紀子 | I35: 様 | K35: 金泰徳Dr | P35: 東A | S35: 通信制限 | X35: 通信制限 | AC35: 令和 | AE35: 5 | AF35: 年 | AG35: 2 | AH35: 月 | AI35: 16 | AJ35: 日 | AL35: ： | AN35: ～
D36: 澤口 利香 | I36: 様 | K36: 深澤隆Dr | P36: 東A | S36: 終日隔離 | X36: 終日隔離 | AC36: 令和 | AE36: 5 | AF36: 年 | AG36: 11 | AH36: 月 | AI36: 25 | AJ36: 日 | AL36: ： | AN36: ～
I37: 様 | AC37: 令和 | AF37: 年 | AH37: 月 | AJ37: 日 | AL37: ： | AN37: ～
I38: 様 | AC38: 令和 | AF38: 年 | AH38: 月 | AJ38: 日 | AL38: ： | AN38: ～
I39: 様 | AC39: 令和 | AF39: 年 | AH39: 月 | AJ39: 日 | AL39: ： | AN39: ～
I40: 様 | AC40: 令和 | AF40: 年 | AH40: 月 | AJ40: 日 | AL40: ： | AN40: ～
I41: 様 | AC41: 令和 | AF41: 年 | AH41: 月 | AJ41: 日 | AL41: ： | AN41: ～
I42: 様 | AC42: 令和 | AF42: 年 | AH42: 月 | AJ42: 日 | AL42: ： | AN42: ～
I43: 様 | AC43: 令和 | AF43: 年 | AH43: 月 | AJ43: 日 | AL43: ： | AN43: ～
...

Sheet 10
A1: ソーシャルワーカー室 業務日誌 | AH1: C.O.O | AL1: I.O.O | AP1: Ａ.Ｏ.Ｍ
H3: =曜日!B12 -> 令和6年 | M3: =曜日!C12 -> 2月 | P3: 10日 | S3: （ | T3: =曜日!D5 -> 土 | U3: ） | W3: 作成者 | Z3: ： | AA3: 大川 祥子
A5: 労務 状況 | D5: 勤務状況 | K5: 西舘 翔子 | P5: 公休 | T5: 大川 祥子 | Y5: 日勤 | AC5: 宇津木澤 育美 | AH5: 公休 | AL5: 早狩 風花 | AP5: 公休
K6: 澤里 皓輝 | P6: 日勤 | T6: 安田 純子 | Y6: 公休 | AC6: 石鉢 佳代 | AH6: 公休
A8: 入退院 状況 | D8: 入院形態 | K8: 東病棟 | Q8: 西病棟 | W8: 北病棟 | AC8: 南病棟 | AI8: 合計 | AO8: 総数
K9: 男性 | N9: 女性 | Q9: 男性 | T9: 女性 | W9: 男性 | Z9: 女性 | AC9: 男性 | AF9: 女性 | AI9: 男性 | AL9: 女性
D10: 任意入院 | K10: 4 | N10: 5 | Q10: 3 | T10: 8 | W10: 25 | Z10: 9 | AC10: 0 | AF10: 1 | AI10: =K10+Q10+W10+AC10 -> 32 | AL10: =N10+T10+Z10+AF10 -> 23 | AO10: =AI14 -> 188
D11: 医療保護入院 | K11: 21 | N11: 18 | Q11: 15 | T11: 21 | W11: 0 | Z11: 1 | AC11: 15 | AF11: 40 | AI11: =K11+Q11+W11+AC11 -> 51 | AL11: =N11+T11+Z11+AF11 -> 80
D12: 措置入院 | K12: 2 | N12: 0 | Q12: 0 | T12: 0 | W12: 0 | Z12: 0 | AC12: 0 | AF12: 0 | AI12: =K12+Q12+W12+AC12 -> 2 | AL12: =N12+T12+Z12+AF12 -> 0
D13: 合計 | K13: =SUM(K10:M12) -> 27 | N13: =SUM(N10:P12) -> 23 | Q13: =SUM(Q10:S12) -> 18 | T13: =SUM(T10:V12) -> 29 | W13: =SUM(W10:Y12) -> 25 | Z13: =SUM(Z10:AB12) -> 10 | AC13: =SUM(AC10:AE12) -> 15 | AF13: =SUM(AF10:AH12) -> 41 | AI13: =SUM(K13+Q13+W13+AC13) -> 85 | AL13: =SUM(N13+T13+Z13+AF13) -> 103 | AO13: 人
K14: =K13+N13 -> 50 | Q14: =Q13+T13 -> 47 | W14: =W13+Z13 -> 35 | AC14: =AC13+AF13 -> 56 | AI14: =AI13+AL13 -> 188
F15: 患者様氏名 | N15: 入院形態 | T15: 担当Dr | Y15: 担当SW | AD15: 病棟 | AJ15: 備考欄
D16: 入院 | L16: 様
L17: 様
L18: 様
L19: 様
L20: 様
D21: 退院 | F21: 田中 ハルエ | L21: 様 | N21: 任意入院 | T21: 田名部茂Dr | Y21: 澤里 皓輝 | AD21: 北
F22: 尾崎 タキ子 | L22: 様 | N22: 医療保護入院 | T22: 村上祐介Dr | Y22: 大川 祥子 | AD22: 南B
L23: 様
L24: 様
L25: 様
D26: 転棟 ･ 入院形態変更 | F26: 森田 清助 | L26: 様 | N26: 任意入院 | T26: 田名部茂Dr | Y26: 西舘 翔子 | AD26: 東B→北
L27: 様
L28: 様
L29: 様
L30: 様
A31: 患者様 関連 | D31: 患者様氏名 | K31: 担当Dr | P31: 病棟 | S31: 制限内容 | X31: 制限時間 | AC31: 開始日時 | AO31: 備考
D32: 中村 聡 | I32: 様 | K32: 金泰徳Dr | P32: 東B | S32: 通信制限 | X32: 通信制限 | AC32: 令和 | AE32: 3 | AF32: 年 | AG32: 5 | AH32: 月 | AI32: 31 | AJ32: 日 | AL32: ： | AN32: ～
D33: 松谷 さと子 | I33: 様 | K33: 深澤隆Dr | P33: 東A | S33: 通信制限 | X33: 通信制限 | AC33: 令和 | AE33: 4 | AF33: 年 | AG33: 6 | AH33: 月 | AI33: 6 | AJ33: 日 | AL33: ： | AN33: ～
D34: 宮﨑 宏之 | I34: 様 | K34: 馬渡晃弘Dr | P34: 東A | S34: 終日隔離 | X34: 終日隔離 | AC34: 令和 | AE34: 4 | AF34: 年 | AG34: 9 | AH34: 月 | AI34: 30 | AJ34: 日 | AL34: ： | AN34: ～
D35: 沼山 真紀子 | I35: 様 | K35: 金泰徳Dr | P35: 東A | S35: 通信制限 | X35: 通信制限 | AC35: 令和 | AE35: 5 | AF35: 年 | AG35: 2 | AH35: 月 | AI35: 16 | AJ35: 日 | AL35: ： | AN35: ～
D36: 澤口 利香 | I36: 様 | K36: 深澤隆Dr | P36: 東A | S36: 終日隔離 | X36: 終日隔離 | AC36: 令和 | AE36: 5 | AF36: 年 | AG36: 11 | AH36: 月 | AI36: 25 | AJ36: 日 | AL36: ： | AN36: ～
I37: 様 | AC37: 令和 | AF37: 年 | AH37: 月 | AJ37: 日 | AL37: ： | AN37: ～
I38: 様 | AC38: 令和 | AF38: 年 | AH38: 月 | AJ38: 日 | AL38: ： | AN38: ～
I39: 様 | AC39: 令和 | AF39: 年 | AH39: 月 | AJ39: 日 | AL39: ： | AN39: ～
I40: 様 | AC40: 令和 | AF40: 年 | AH40: 月 | AJ40: 日 | AL40: ： | AN40: ～
I41: 様 | AC41: 令和 | AF41: 年 | AH41: 月 | AJ41: 日 | AL41: ： | AN41: ～
I42: 様 | AC42: 令和 | AF42: 年 | AH42: 月 | AJ42: 日 | AL42: ： | AN42: ～
I43: 様 | AC43: 令和 | AF43: 年 | AH43: 月 | AJ43: 日 | AL43: ： | AN43: ～
...

Sheet 11
A1: ソーシャルワーカー室 業務日誌 | AH1: C.O.O | AL1: I.O.O | AP1: Ａ.Ｏ.Ｍ
H3: =曜日!B12 -> 令和6年 | M3: =曜日!C12 -> 2月 | P3: 11日 | S3: （ | T3: =曜日!D6 -> 日 | U3: ） | W3: 作成者 | Z3: ： | AA3: 大川 祥子
A5: 労務 状況 | D5: 勤務状況 | K5: 西舘 翔子 | P5: 公休 | T5: 大川 祥子 | Y5: 公休 | AC5: 宇津木澤 育美 | AH5: 公休 | AL5: 早狩 風花 | AP5: 公休
K6: 澤里 皓輝 | P6: 公休 | T6: 安田 純子 | Y6: 公休 | AC6: 石鉢 佳代 | AH6: 公休
A8: 入退院 状況 | D8: 入院形態 | K8: 東病棟 | Q8: 西病棟 | W8: 北病棟 | AC8: 南病棟 | AI8: 合計 | AO8: 総数
K9: 男性 | N9: 女性 | Q9: 男性 | T9: 女性 | W9: 男性 | Z9: 女性 | AC9: 男性 | AF9: 女性 | AI9: 男性 | AL9: 女性
D10: 任意入院 | K10: 4 | N10: 5 | Q10: 3 | T10: 8 | W10: 25 | Z10: 9 | AC10: 0 | AF10: 1 | AI10: =K10+Q10+W10+AC10 -> 32 | AL10: =N10+T10+Z10+AF10 -> 23 | AO10: =AI14 -> 188
D11: 医療保護入院 | K11: 21 | N11: 18 | Q11: 15 | T11: 21 | W11: 0 | Z11: 1 | AC11: 15 | AF11: 40 | AI11: =K11+Q11+W11+AC11 -> 51 | AL11: =N11+T11+Z11+AF11 -> 80
D12: 措置入院 | K12: 2 | N12: 0 | Q12: 0 | T12: 0 | W12: 0 | Z12: 0 | AC12: 0 | AF12: 0 | AI12: =K12+Q12+W12+AC12 -> 2 | AL12: =N12+T12+Z12+AF12 -> 0
D13: 合計 | K13: =SUM(K10:M12) -> 27 | N13: =SUM(N10:P12) -> 23 | Q13: =SUM(Q10:S12) -> 18 | T13: =SUM(T10:V12) -> 29 | W13: =SUM(W10:Y12) -> 25 | Z13: =SUM(Z10:AB12) -> 10 | AC13: =SUM(AC10:AE12) -> 15 | AF13: =SUM(AF10:AH12) -> 41 | AI13: =SUM(K13+Q13+W13+AC13) -> 85 | AL13: =SUM(N13+T13+Z13+AF13) -> 103 | AO13: 人
K14: =K13+N13 -> 50 | Q14: =Q13+T13 -> 47 | W14: =W13+Z13 -> 35 | AC14: =AC13+AF13 -> 56 | AI14: =AI13+AL13 -> 188
F15: 患者様氏名 | N15: 入院形態 | T15: 担当Dr | Y15: 担当SW | AD15: 病棟 | AJ15: 備考欄
D16: 入院 | L16: 様
L17: 様
L18: 様
L19: 様
L20: 様
D21: 退院 | L21: 様
L22: 様
L23: 様
L24: 様
L25: 様
D26: 転棟 ･ 入院形態変更 | L26: 様
L27: 様
L28: 様
L29: 様
L30: 様
A31: 患者様 関連 | D31: 患者様氏名 | K31: 担当Dr | P31: 病棟 | S31: 制限内容 | X31: 制限時間 | AC31: 開始日時 | AO31: 備考
D32: 中村 聡 | I32: 様 | K32: 金泰徳Dr | P32: 東B | S32: 通信制限 | X32: 通信制限 | AC32: 令和 | AE32: 3 | AF32: 年 | AG32: 5 | AH32: 月 | AI32: 31 | AJ32: 日 | AL32: ： | AN32: ～
D33: 松谷 さと子 | I33: 様 | K33: 深澤隆Dr | P33: 東A | S33: 通信制限 | X33: 通信制限 | AC33: 令和 | AE33: 4 | AF33: 年 | AG33: 6 | AH33: 月 | AI33: 6 | AJ33: 日 | AL33: ： | AN33: ～
D34: 宮﨑 宏之 | I34: 様 | K34: 馬渡晃弘Dr | P34: 東A | S34: 終日隔離 | X34: 終日隔離 | AC34: 令和 | AE34: 4 | AF34: 年 | AG34: 9 | AH34: 月 | AI34: 30 | AJ34: 日 | AL34: ： | AN34: ～
D35: 沼山 真紀子 | I35: 様 | K35: 金泰徳Dr | P35: 東A | S35: 通信制限 | X35: 通信制限 | AC35: 令和 | AE35: 5 | AF35: 年 | AG35: 2 | AH35: 月 | AI35: 16 | AJ35: 日 | AL35: ： | AN35: ～
D36: 澤口 利香 | I36: 様 | K36: 深澤隆Dr | P36: 東A | S36: 終日隔離 | X36: 終日隔離 | AC36: 令和 | AE36: 5 | AF36: 年 | AG36: 11 | AH36: 月 | AI36: 25 | AJ36: 日 | AL36: ： | AN36: ～
I37: 様 | AC37: 令和 | AF37: 年 | AH37: 月 | AJ37: 日 | AL37: ： | AN37: ～
I38: 様 | AC38: 令和 | AF38: 年 | AH38: 月 | AJ38: 日 | AL38: ： | AN38: ～
I39: 様 | AC39: 令和 | AF39: 年 | AH39: 月 | AJ39: 日 | AL39: ： | AN39: ～
I40: 様 | AC40: 令和 | AF40: 年 | AH40: 月 | AJ40: 日 | AL40: ： | AN40: ～
I41: 様 | AC41: 令和 | AF41: 年 | AH41: 月 | AJ41: 日 | AL41: ： | AN41: ～
I42: 様 | AC42: 令和 | AF42: 年 | AH42: 月 | AJ42: 日 | AL42: ： | AN42: ～
I43: 様 | AC43: 令和 | AF43: 年 | AH43: 月 | AJ43: 日 | AL43: ： | AN43: ～
...

Sheet 12
A1: ソーシャルワーカー室 業務日誌 | AH1: C.O.O | AL1: I.O.O | AP1: Ａ.Ｏ.Ｍ
H3: =曜日!B12 -> 令和6年 | M3: =曜日!C12 -> 2月 | P3: 12日 | S3: （ | T3: =曜日!D7 -> 月 | U3: ） | W3: 作成者 | Z3: ： | AA3: 宇津木澤 育美
A5: 労務 状況 | D5: 勤務状況 | K5: 西舘 翔子 | P5: 日勤 | T5: 大川 祥子 | Y5: 公休 | AC5: 宇津木澤 育美 | AH5: 日勤 | AL5: 早狩 風花 | AP5: 日勤
K6: 澤里 皓輝 | P6: 公休 | T6: 安田 純子 | Y6: 日勤 | AC6: 石鉢 佳代 | AH6: 日勤
A8: 入退院 状況 | D8: 入院形態 | K8: 東病棟 | Q8: 西病棟 | W8: 北病棟 | AC8: 南病棟 | AI8: 合計 | AO8: 総数
K9: 男性 | N9: 女性 | Q9: 男性 | T9: 女性 | W9: 男性 | Z9: 女性 | AC9: 男性 | AF9: 女性 | AI9: 男性 | AL9: 女性
D10: 任意入院 | K10: 4 | N10: 6 | Q10: 3 | T10: 8 | W10: 25 | Z10: 9 | AC10: 0 | AF10: 1 | AI10: =K10+Q10+W10+AC10 -> 32 | AL10: =N10+T10+Z10+AF10 -> 24 | AO10: =AI14 -> 190
D11: 医療保護入院 | K11: 21 | N11: 17 | Q11: 15 | T11: 21 | W11: 0 | Z11: 1 | AC11: 16 | AF11: 41 | AI11: =K11+Q11+W11+AC11 -> 52 | AL11: =N11+T11+Z11+AF11 -> 80
D12: 措置入院 | K12: 2 | N12: 0 | Q12: 0 | T12: 0 | W12: 0 | Z12: 0 | AC12: 0 | AF12: 0 | AI12: =K12+Q12+W12+AC12 -> 2 | AL12: =N12+T12+Z12+AF12 -> 0
D13: 合計 | K13: =SUM(K10:M12) -> 27 | N13: =SUM(N10:P12) -> 23 | Q13: =SUM(Q10:S12) -> 18 | T13: =SUM(T10:V12) -> 29 | W13: =SUM(W10:Y12) -> 25 | Z13: =SUM(Z10:AB12) -> 10 | AC13: =SUM(AC10:AE12) -> 16 | AF13: =SUM(AF10:AH12) -> 42 | AI13: =SUM(K13+Q13+W13+AC13) -> 86 | AL13: =SUM(N13+T13+Z13+AF13) -> 104 | AO13: 人
K14: =K13+N13 -> 50 | Q14: =Q13+T13 -> 47 | W14: =W13+Z13 -> 35 | AC14: =AC13+AF13 -> 58 | AI14: =AI13+AL13 -> 190
F15: 患者様氏名 | N15: 入院形態 | T15: 担当Dr | Y15: 担当SW | AD15: 病棟 | AJ15: 備考欄
D16: 入院 | F16: 白幡 一真 | L16: 様 | N16: 医療保護入院 | T16: 柞木田なつみDr | AD16: 東A
F17: 風張 久美子 | L17: 様 | N17: 任意入院 | T17: 柞木田なつみDr | AD17: 東合
L18: 様
L19: 様
L20: 様
D21: 退院 | L21: 様
L22: 様
L23: 様
L24: 様
L25: 様
D26: 転棟 ･ 入院形態変更 | F26: 種市 由次郎 | L26: 様 | N26: 医療保護入院 | AD26: 東合→南C
F27: 立花 京子 | L27: 様 | N27: 医療保護入院 | AD27: 東合→南A
L28: 様
L29: 様
L30: 様
A31: 患者様 関連 | D31: 患者様氏名 | K31: 担当Dr | P31: 病棟 | S31: 制限内容 | X31: 制限時間 | AC31: 開始日時 | AO31: 備考
D32: 中村 聡 | I32: 様 | K32: 金泰徳Dr | P32: 東B | S32: 通信制限 | X32: 通信制限 | AC32: 令和 | AE32: 3 | AF32: 年 | AG32: 5 | AH32: 月 | AI32: 31 | AJ32: 日 | AL32: ： | AN32: ～
D33: 松谷 さと子 | I33: 様 | K33: 深澤隆Dr | P33: 東A | S33: 通信制限 | X33: 通信制限 | AC33: 令和 | AE33: 4 | AF33: 年 | AG33: 6 | AH33: 月 | AI33: 6 | AJ33: 日 | AL33: ： | AN33: ～
D34: 宮﨑 宏之 | I34: 様 | K34: 馬渡晃弘Dr | P34: 東A | S34: 終日隔離 | X34: 終日隔離 | AC34: 令和 | AE34: 4 | AF34: 年 | AG34: 9 | AH34: 月 | AI34: 30 | AJ34: 日 | AL34: ： | AN34: ～
D35: 沼山 真紀子 | I35: 様 | K35: 金泰徳Dr | P35: 東A | S35: 通信制限 | X35: 通信制限 | AC35: 令和 | AE35: 5 | AF35: 年 | AG35: 2 | AH35: 月 | AI35: 16 | AJ35: 日 | AL35: ： | AN35: ～
D36: 澤口 利香 | I36: 様 | K36: 深澤隆Dr | P36: 東A | S36: 終日隔離 | X36: 終日隔離 | AC36: 令和 | AE36: 5 | AF36: 年 | AG36: 11 | AH36: 月 | AI36: 25 | AJ36: 日 | AL36: ： | AN36: ～
I37: 様 | AC37: 令和 | AF37: 年 | AH37: 月 | AJ37: 日 | AL37: ： | AN37: ～
I38: 様 | AC38: 令和 | AF38: 年 | AH38: 月 | AJ38: 日 | AL38: ： | AN38: ～
I39: 様 | AC39: 令和 | AF39: 年 | AH39: 月 | AJ39: 日 | AL39: ： | AN39: ～
I40: 様 | AC40: 令和 | AF40: 年 | AH40: 月 | AJ40: 日 | AL40: ： | AN40: ～
I41: 様 | AC41: 令和 | AF41: 年 | AH41: 月 | AJ41: 日 | AL41: ： | AN41: ～
I42: 様 | AC42: 令和 | AF42: 年 | AH42: 月 | AJ42: 日 | AL42: ： | AN42: ～
I43: 様 | AC43: 令和 | AF43: 年 | AH43: 月 | AJ43: 日 | AL43: ： | AN43: ～
...

Sheet 13
A1: ソーシャルワーカー室 業務日誌 | AH1: C.O.O | AL1: I.O.O | AP1: Ａ.Ｏ.Ｍ
H3: =曜日!B12 -> 令和6年 | M3: =曜日!C12 -> 2月 | P3: 13日 | S3: （ | T3: =曜日!D8 -> 火 | U3: ） | W3: 作成者 | Z3: ： | AA3: 宇津木澤 育美
A5: 労務 状況 | D5: 勤務状況 | K5: 西舘 翔子 | P5: 日勤 | T5: 大川 祥子 | Y5: 日勤 | AC5: 宇津木澤 育美 | AH5: 日勤 | AL5: 早狩 風花 | AP5: 日勤
K6: 澤里 皓輝 | P6: 日勤 | T6: 安田 純子 | Y6: 日勤 | AC6: 石鉢 佳代 | AH6: 日勤
A8: 入退院 状況 | D8: 入院形態 | K8: 東病棟 | Q8: 西病棟 | W8: 北病棟 | AC8: 南病棟 | AI8: 合計 | AO8: 総数
K9: 男性 | N9: 女性 | Q9: 男性 | T9: 女性 | W9: 男性 | Z9: 女性 | AC9: 男性 | AF9: 女性 | AI9: 男性 | AL9: 女性
D10: 任意入院 | K10: 4 | N10: 6 | Q10: 3 | T10: 8 | W10: 24 | Z10: 9 | AC10: 0 | AF10: 1 | AI10: =K10+Q10+W10+AC10 -> 31 | AL10: =N10+T10+Z10+AF10 -> 24 | AO10: =AI14 -> 187
D11: 医療保護入院 | K11: 21 | N11: 16 | Q11: 14 | T11: 21 | W11: 0 | Z11: 1 | AC11: 17 | AF11: 40 | AI11: =K11+Q11+W11+AC11 -> 52 | AL11: =N11+T11+Z11+AF11 -> 78
D12: 措置入院 | K12: 2 | N12: 0 | Q12: 0 | T12: 0 | W12: 0 | Z12: 0 | AC12: 0 | AF12: 0 | AI12: =K12+Q12+W12+AC12 -> 2 | AL12: =N12+T12+Z12+AF12 -> 0
D13: 合計 | K13: =SUM(K10:M12) -> 27 | N13: =SUM(N10:P12) -> 22 | Q13: =SUM(Q10:S12) -> 17 | T13: =SUM(T10:V12) -> 29 | W13: =SUM(W10:Y12) -> 24 | Z13: =SUM(Z10:AB12) -> 10 | AC13: =SUM(AC10:AE12) -> 17 | AF13: =SUM(AF10:AH12) -> 41 | AI13: =SUM(K13+Q13+W13+AC13) -> 85 | AL13: =SUM(N13+T13+Z13+AF13) -> 102 | AO13: 人
K14: =K13+N13 -> 49 | Q14: =Q13+T13 -> 46 | W14: =W13+Z13 -> 34 | AC14: =AC13+AF13 -> 58 | AI14: =AI13+AL13 -> 187
F15: 患者様氏名 | N15: 入院形態 | T15: 担当Dr | Y15: 担当SW | AD15: 病棟 | AJ15: 備考欄
D16: 入院 | L16: 様
L17: 様
L18: 様
L19: 様
L20: 様
D21: 退院 | F21: 柞木田 翔 | L21: 様 | N21: 医療保護入院 | T21: 柞木田なつみDr | AD21: 西A
F22: 栗橋 アイ子 | L22: 様 | N22: 医療保護入院 | T22: 深澤隆Dr | AD22: 南D
F23: 中居 サイ | L23: 様 | N23: 医療保護入院 | T23: 村上祐介Dr | AD23: 南B
L24: 様
L25: 様
D26: 転棟 ･ 入院形態変更 | F26: 高橋 サエ | L26: 様 | N26: 医療保護入院 | AD26: 東C→南A
F27: 小笠原 文人 | L27: 様 | T27: 金泰德Dr | AD27: 北→東 | AJ27: 任意→医保
F28: 澤田 富栄 | L28: 様 | N28: 医療保護入院 | AD28: 東B→南A
F29: 植村 啓祐 | L29: 様 | T29: 馬渡晃弘Dr | AJ29: 任意→医保
L30: 様
A31: 患者様 関連 | D31: 患者様氏名 | K31: 担当Dr | P31: 病棟 | S31: 制限内容 | X31: 制限時間 | AC31: 開始日時 | AO31: 備考
D32: 中村 聡 | I32: 様 | K32: 金泰徳Dr | P32: 東B | S32: 通信制限 | X32: 通信制限 | AC32: 令和 | AE32: 3 | AF32: 年 | AG32: 5 | AH32: 月 | AI32: 31 | AJ32: 日 | AL32: ： | AN32: ～
D33: 松谷 さと子 | I33: 様 | K33: 深澤隆Dr | P33: 東A | S33: 通信制限 | X33: 通信制限 | AC33: 令和 | AE33: 4 | AF33: 年 | AG33: 6 | AH33: 月 | AI33: 6 | AJ33: 日 | AL33: ： | AN33: ～
D34: 宮﨑 宏之 | I34: 様 | K34: 馬渡晃弘Dr | P34: 東A | S34: 終日隔離 | X34: 終日隔離 | AC34: 令和 | AE34: 4 | AF34: 年 | AG34: 9 | AH34: 月 | AI34: 30 | AJ34: 日 | AL34: ： | AN34: ～
D35: 沼山 真紀子 | I35: 様 | K35: 金泰徳Dr | P35: 東A | S35: 通信制限 | X35: 通信制限 | AC35: 令和 | AE35: 5 | AF35: 年 | AG35: 2 | AH35: 月 | AI35: 16 | AJ35: 日 | AL35: ： | AN35: ～
D36: 澤口 利香 | I36: 様 | K36: 深澤隆Dr | P36: 東A | S36: 終日隔離 | X36: 終日隔離 | AC36: 令和 | AE36: 5 | AF36: 年 | AG36: 11 | AH36: 月 | AI36: 25 | AJ36: 日 | AL36: ： | AN36: ～
D37: 小笠原 文人 | I37: 様 | K37: 金泰徳Dr | P37: 東合 | S37: 身体拘束 | X37: 身体拘束 | AC37: 令和 | AE37: 6 | AF37: 年 | AG37: 2 | AH37: 月 | AI37: 13 | AJ37: 日 | AL37: ： | AN37: ～ | AO37: 開始
I38: 様 | AC38: 令和 | AF38: 年 | AH38: 月 | AJ38: 日 | AL38: ： | AN38: ～
I39: 様 | AC39: 令和 | AF39: 年 | AH39: 月 | AJ39: 日 | AL39: ： | AN39: ～
I40: 様 | AC40: 令和 | AF40: 年 | AH40: 月 | AJ40: 日 | AL40: ： | AN40: ～
I41: 様 | AC41: 令和 | AF41: 年 | AH41: 月 | AJ41: 日 | AL41: ： | AN41: ～
I42: 様 | AC42: 令和 | AF42: 年 | AH42: 月 | AJ42: 日 | AL42: ： | AN42: ～
I43: 様 | AC43: 令和 | AF43: 年 | AH43: 月 | AJ43: 日 | AL43: ： | AN43: ～
...

Sheet 14
A1: ソーシャルワーカー室 業務日誌 | AH1: C.O.O | AL1: I.O.O | AP1: Ａ.Ｏ.Ｍ
H3: =曜日!B12 -> 令和6年 | M3: =曜日!C12 -> 2月 | P3: 14日 | S3: （ | T3: =曜日!D9 -> 水 | U3: ） | W3: 作成者 | Z3: ： | AA3: 宇津木澤 育美
A5: 労務 状況 | D5: 勤務状況 | K5: 西舘 翔子 | P5: 日勤 | T5: 大川 祥子 | Y5: 日勤 | AC5: 宇津木澤 育美 | AH5: 日勤 | AL5: 早狩 風花 | AP5: 日勤
K6: 澤里 皓輝 | P6: 日勤 | T6: 安田 純子 | Y6: 日勤 | AC6: 石鉢 佳代 | AH6: 日勤
A8: 入退院 状況 | D8: 入院形態 | K8: 東病棟 | Q8: 西病棟 | W8: 北病棟 | AC8: 南病棟 | AI8: 合計 | AO8: 総数
K9: 男性 | N9: 女性 | Q9: 男性 | T9: 女性 | W9: 男性 | Z9: 女性 | AC9: 男性 | AF9: 女性 | AI9: 男性 | AL9: 女性
D10: 任意入院 | K10: 5 | N10: 5 | Q10: 3 | T10: 7 | W10: 24 | Z10: 10 | AC10: 0 | AF10: 1 | AI10: =K10+Q10+W10+AC10 -> 32 | AL10: =N10+T10+Z10+AF10 -> 23 | AO10: =AI14 -> 189
D11: 医療保護入院 | K11: 21 | N11: 16 | Q11: 14 | T11: 21 | W11: 0 | Z11: 1 | AC11: 18 | AF11: 41 | AI11: =K11+Q11+W11+AC11 -> 53 | AL11: =N11+T11+Z11+AF11 -> 79
D12: 措置入院 | K12: 2 | N12: 0 | Q12: 0 | T12: 0 | W12: 0 | Z12: 0 | AC12: 0 | AF12: 0 | AI12: =K12+Q12+W12+AC12 -> 2 | AL12: =N12+T12+Z12+AF12 -> 0
D13: 合計 | K13: =SUM(K10:M12) -> 28 | N13: =SUM(N10:P12) -> 21 | Q13: =SUM(Q10:S12) -> 17 | T13: =SUM(T10:V12) -> 28 | W13: =SUM(W10:Y12) -> 24 | Z13: =SUM(Z10:AB12) -> 11 | AC13: =SUM(AC10:AE12) -> 18 | AF13: =SUM(AF10:AH12) -> 42 | AI13: =SUM(K13+Q13+W13+AC13) -> 87 | AL13: =SUM(N13+T13+Z13+AF13) -> 102 | AO13: 人
K14: =K13+N13 -> 49 | Q14: =Q13+T13 -> 45 | W14: =W13+Z13 -> 35 | AC14: =AC13+AF13 -> 60 | AI14: =AI13+AL13 -> 189
F15: 患者様氏名 | N15: 入院形態 | T15: 担当Dr | Y15: 担当SW | AD15: 病棟 | AJ15: 備考欄
D16: 入院 | F16: 若松 邦生 | L16: 様 | N16: 任意入院 | T16: 深澤隆Dr | AD16: 東D
F17: 蛭子 レイ | L17: 様 | N17: 医療保護入院 | AD17: 東C
F18: 櫛桁 徳男 | L18: 様 | N18: 医療保護入院 | T18: 金泰德Dr | AD18: 東B
L19: 様
L20: 様
D21: 退院 | F21: 江渡 保子 | L21: 様 | N21: 任意入院 | T21: 小栁匡相Dr | AD21: 西A
L22: 様
L23: 様
L24: 様
L25: 様
D26: 転棟 ･ 入院形態変更 | F26: 上平 和義 | L26: 様 | N26: 医療保護入院 | AD26: 東B→南A
F27: 下口 政子 | L27: 様 | N27: 任意入院 | AD27: 東D→北
F28: 伊藤 のり子 | L28: 様 | N28: 医療保護入院 | AD28: 東C→南B
L29: 様
L30: 様
A31: 患者様 関連 | D31: 患者様氏名 | K31: 担当Dr | P31: 病棟 | S31: 制限内容 | X31: 制限時間 | AC31: 開始日時 | AO31: 備考
D32: 中村 聡 | I32: 様 | K32: 金泰徳Dr | P32: 東B | S32: 通信制限 | X32: 通信制限 | AC32: 令和 | AE32: 3 | AF32: 年 | AG32: 5 | AH32: 月 | AI32: 31 | AJ32: 日 | AL32: ： | AN32: ～
D33: 松谷 さと子 | I33: 様 | K33: 深澤隆Dr | P33: 東A | S33: 通信制限 | X33: 通信制限 | AC33: 令和 | AE33: 4 | AF33: 年 | AG33: 6 | AH33: 月 | AI33: 6 | AJ33: 日 | AL33: ： | AN33: ～
D34: 宮﨑 宏之 | I34: 様 | K34: 馬渡晃弘Dr | P34: 東A | S34: 終日隔離 | X34: 終日隔離 | AC34: 令和 | AE34: 4 | AF34: 年 | AG34: 9 | AH34: 月 | AI34: 30 | AJ34: 日 | AL34: ： | AN34: ～
D35: 沼山 真紀子 | I35: 様 | K35: 金泰徳Dr | P35: 東A | S35: 通信制限 | X35: 通信制限 | AC35: 令和 | AE35: 5 | AF35: 年 | AG35: 2 | AH35: 月 | AI35: 16 | AJ35: 日 | AL35: ： | AN35: ～
D36: 澤口 利香 | I36: 様 | K36: 深澤隆Dr | P36: 東A | S36: 終日隔離 | X36: 終日隔離 | AC36: 令和 | AE36: 5 | AF36: 年 | AG36: 11 | AH36: 月 | AI36: 25 | AJ36: 日 | AL36: ： | AN36: ～
D37: 小笠原 文人 | I37: 様 | K37: 金泰徳Dr | P37: 東合 | S37: 身体拘束 | X37: 身体拘束 | AC37: 令和 | AE37: 6 | AF37: 年 | AG37: 2 | AH37: 月 | AI37: 13 | AJ37: 日 | AL37: ： | AN37: ～
D38: 白幡 一真 | I38: 様 | K38: 柞木田なつみDr | P38: 東A | S38: 終日隔離 | X38: 終日制限 | AC38: 令和 | AE38: 6 | AF38: 年 | AG38: 2 | AH38: 月 | AI38: 14 | AJ38: 日 | AL38: ： | AN38: ～ | AO38: 開始
I39: 様 | AC39: 令和 | AF39: 年 | AH39: 月 | AJ39: 日 | AL39: ： | AN39: ～
I40: 様 | AC40: 令和 | AF40: 年 | AH40: 月 | AJ40: 日 | AL40: ： | AN40: ～
I41: 様 | AC41: 令和 | AF41: 年 | AH41: 月 | AJ41: 日 | AL41: ： | AN41: ～
I42: 様 | AC42: 令和 | AF42: 年 | AH42: 月 | AJ42: 日 | AL42: ： | AN42: ～
I43: 様 | AC43: 令和 | AF43: 年 | AH43: 月 | AJ43: 日 | AL43: ： | AN43: ～
...

Sheet 15
A1: ソーシャルワーカー室 業務日誌 | AH1: C.O.O | AL1: I.O.O | AP1: Ａ.Ｏ.Ｍ
H3: =曜日!B12 -> 令和6年 | M3: =曜日!C12 -> 2月 | P3: 15日 | S3: （ | T3: =曜日!D3 -> 木 | U3: ） | W3: 作成者 | Z3: ： | AA3: 宇津木澤 育美
A5: 労務 状況 | D5: 勤務状況 | K5: 西舘 翔子 | P5: 日勤 | T5: 大川 祥子 | Y5: 公休 | AC5: 宇津木澤 育美 | AH5: 日勤 | AL5: 早狩 風花 | AP5: 日勤
K6: 澤里 皓輝 | P6: 日勤 | T6: 安田 純子 | Y6: 日勤 | AC6: 石鉢 佳代 | AH6: 日勤
A8: 入退院 状況 | D8: 入院形態 | K8: 東病棟 | Q8: 西病棟 | W8: 北病棟 | AC8: 南病棟 | AI8: 合計 | AO8: 総数
K9: 男性 | N9: 女性 | Q9: 男性 | T9: 女性 | W9: 男性 | Z9: 女性 | AC9: 男性 | AF9: 女性 | AI9: 男性 | AL9: 女性
D10: 任意入院 | K10: 5 | N10: 5 | Q10: 3 | T10: 7 | W10: 24 | Z10: 10 | AC10: 0 | AF10: 1 | AI10: =K10+Q10+W10+AC10 -> 32 | AL10: =N10+T10+Z10+AF10 -> 23 | AO10: =AI14 -> 188
D11: 医療保護入院 | K11: 21 | N11: 17 | Q11: 14 | T11: 21 | W11: 0 | Z11: 1 | AC11: 17 | AF11: 40 | AI11: =K11+Q11+W11+AC11 -> 52 | AL11: =N11+T11+Z11+AF11 -> 79
D12: 措置入院 | K12: 2 | N12: 0 | Q12: 0 | T12: 0 | W12: 0 | Z12: 0 | AC12: 0 | AF12: 0 | AI12: =K12+Q12+W12+AC12 -> 2 | AL12: =N12+T12+Z12+AF12 -> 0
D13: 合計 | K13: =SUM(K10:M12) -> 28 | N13: =SUM(N10:P12) -> 22 | Q13: =SUM(Q10:S12) -> 17 | T13: =SUM(T10:V12) -> 28 | W13: =SUM(W10:Y12) -> 24 | Z13: =SUM(Z10:AB12) -> 11 | AC13: =SUM(AC10:AE12) -> 17 | AF13: =SUM(AF10:AH12) -> 41 | AI13: =SUM(K13+Q13+W13+AC13) -> 86 | AL13: =SUM(N13+T13+Z13+AF13) -> 102 | AO13: 人
K14: =K13+N13 -> 50 | Q14: =Q13+T13 -> 45 | W14: =W13+Z13 -> 35 | AC14: =AC13+AF13 -> 58 | AI14: =AI13+AL13 -> 188
F15: 患者様氏名 | N15: 入院形態 | T15: 担当Dr | Y15: 担当SW | AD15: 病棟 | AJ15: 備考欄
D16: 入院 | F16: 中村 榮子 | L16: 様 | N16: 医療保護入院 | T16: 村上祐介Dr | Y16: 早狩 風花 | AD16: 東C
L17: 様
L18: 様
L19: 様
L20: 様
D21: 退院 | F21: 神山 典夫 | L21: 様 | N21: 医療保護入院 | T21: 深澤隆Dr | AD21: 南C
F22: 阿部 靜江 | L22: 様 | N22: 医療保護入院 | T22: 小栁匡相Dr | AD22: 南D
L23: 様
L24: 様
L25: 様
D26: 転棟 ･ 入院形態変更 | L26: 様
L27: 様
L28: 様
L29: 様
L30: 様
L31: 様
A32: 患者様 関連 | AC32: 開始日時 | AO32: 備考
D33: 中村 聡 | I33: 様 | K33: 金泰徳Dr | P33: 東B | S33: 通信制限 | X33: 通信制限 | AC33: 令和 | AE33: 3 | AF33: 年 | AG33: 5 | AH33: 月 | AI33: 31 | AJ33: 日 | AL33: ： | AN33: ～
D34: 松谷 さと子 | I34: 様 | K34: 深澤隆Dr | P34: 東A | S34: 通信制限 | X34: 通信制限 | AC34: 令和 | AE34: 4 | AF34: 年 | AG34: 6 | AH34: 月 | AI34: 6 | AJ34: 日 | AL34: ： | AN34: ～
D35: 宮﨑 宏之 | I35: 様 | K35: 馬渡晃弘Dr | P35: 東A | S35: 終日隔離 | X35: 終日隔離 | AC35: 令和 | AE35: 4 | AF35: 年 | AG35: 9 | AH35: 月 | AI35: 30 | AJ35: 日 | AL35: ： | AN35: ～
D36: 沼山 真紀子 | I36: 様 | K36: 金泰徳Dr | P36: 東A | S36: 通信制限 | X36: 通信制限 | AC36: 令和 | AE36: 5 | AF36: 年 | AG36: 2 | AH36: 月 | AI36: 16 | AJ36: 日 | AL36: ： | AN36: ～
D37: 澤口 利香 | I37: 様 | K37: 深澤隆Dr | P37: 東A | S37: 終日隔離 | X37: 終日隔離 | AC37: 令和 | AE37: 5 | AF37: 年 | AG37: 11 | AH37: 月 | AI37: 25 | AJ37: 日 | AL37: ： | AN37: ～
D38: 小笠原 文人 | I38: 様 | K38: 金泰徳Dr | P38: 東合 | S38: 身体拘束 | X38: 身体拘束 | AC38: 令和 | AE38: 6 | AF38: 年 | AG38: 2 | AH38: 月 | AI38: 13 | AJ38: 日 | AL38: ： | AN38: ～
D39: 白幡 一真 | I39: 様 | K39: 柞木田なつみDr | P39: 東A | S39: 終日隔離 | X39: 終日制限 | AC39: 令和 | AE39: 6 | AF39: 年 | AG39: 2 | AH39: 月 | AI39: 14 | AJ39: 日 | AL39: ： | AN39: ～
D40: 向谷地 善朗 | I40: 様 | K40: 小栁匡相Dr | P40: 東C | S40: 身体拘束 | X40: 身体拘束 | AC40: 令和 | AE40: 6 | AF40: 年 | AG40: 2 | AH40: 月 | AI40: 15 | AJ40: 日 | AL40: ： | AN40: ～ | AO40: 開始
I41: 様 | AC41: 令和 | AF41: 年 | AH41: 月 | AJ41: 日 | AL41: ： | AN41: ～
I42: 様 | AC42: 令和 | AF42: 年 | AH42: 月 | AJ42: 日 | AL42: ： | AN42: ～
I43: 様 | AC43: 令和 | AF43: 年 | AH43: 月 | AJ43: 日 | AL43: ： | AN43: ～
...

Sheet 16
A1: ソーシャルワーカー室 業務日誌 | AH1: C.O.O | AL1: I.O.O | AP1: Ａ.Ｏ.Ｍ
H3: =曜日!B12 -> 令和6年 | M3: =曜日!C12 -> 2月 | P3: 16日 | S3: （ | T3: =曜日!D4 -> 金 | U3: ） | W3: 作成者 | Z3: ： | AA3: 宇津木澤 育美
A5: 労務 状況 | D5: 勤務状況 | K5: 西舘 翔子 | P5: 日勤 | T5: 大川 祥子 | Y5: 日勤 | AC5: 宇津木澤 育美 | AH5: 日勤 | AL5: 早狩 風花 | AP5: 日勤
K6: 澤里 皓輝 | P6: 公休 | T6: 安田 純子 | Y6: 日勤 | AC6: 石鉢 佳代 | AH6: 日勤
A8: 入退院 状況 | D8: 入院形態 | K8: 東病棟 | Q8: 西病棟 | W8: 北病棟 | AC8: 南病棟 | AI8: 合計 | AO8: 総数
K9: 男性 | N9: 女性 | Q9: 男性 | T9: 女性 | W9: 男性 | Z9: 女性 | AC9: 男性 | AF9: 女性 | AI9: 男性 | AL9: 女性
D10: 任意入院 | K10: 5 | N10: 5 | Q10: 3 | T10: 7 | W10: 24 | Z10: 10 | AC10: 0 | AF10: 1 | AI10: =K10+Q10+W10+AC10 -> 32 | AL10: =N10+T10+Z10+AF10 -> 23 | AO10: =AI14 -> 190
D11: 医療保護入院 | K11: 20 | N11: 19 | Q11: 14 | T11: 21 | W11: 0 | Z11: 1 | AC11: 18 | AF11: 40 | AI11: =K11+Q11+W11+AC11 -> 52 | AL11: =N11+T11+Z11+AF11 -> 81
D12: 措置入院 | K12: 2 | N12: 0 | Q12: 0 | T12: 0 | W12: 0 | Z12: 0 | AC12: 0 | AF12: 0 | AI12: =K12+Q12+W12+AC12 -> 2 | AL12: =N12+T12+Z12+AF12 -> 0
D13: 合計 | K13: =SUM(K10:M12) -> 27 | N13: =SUM(N10:P12) -> 24 | Q13: =SUM(Q10:S12) -> 17 | T13: =SUM(T10:V12) -> 28 | W13: =SUM(W10:Y12) -> 24 | Z13: =SUM(Z10:AB12) -> 11 | AC13: =SUM(AC10:AE12) -> 18 | AF13: =SUM(AF10:AH12) -> 41 | AI13: =SUM(K13+Q13+W13+AC13) -> 86 | AL13: =SUM(N13+T13+Z13+AF13) -> 104 | AO13: 人
K14: =K13+N13 -> 51 | Q14: =Q13+T13 -> 45 | W14: =W13+Z13 -> 35 | AC14: =AC13+AF13 -> 59 | AI14: =AI13+AL13 -> 190
F15: 患者様氏名 | N15: 入院形態 | T15: 担当Dr | Y15: 担当SW | AD15: 病棟 | AJ15: 備考欄
D16: 入院 | F16: 上野 揚子 | L16: 様 | N16: 医療保護入院 | T16: 深澤隆Dr | Y16: 早狩 風花 | AD16: 東C
F17: 伊藤 孝子 | L17: 様 | N17: 医療保護入院 | T17: 村上祐介Dr | Y17: 大川 祥子 | AD17: 東C
L18: 様
L19: 様
L20: 様
D21: 退院 | L21: 様
L22: 様
L23: 様
L24: 様
L25: 様
D26: 転棟 ･ 入院形態変更 | F26: 櫛桁 徳男 | L26: 様 | N26: 医療保護入院 | T26: 金泰德Dr | Y26: 早狩 風花 | AD26: 東C→南C
L27: 様
L28: 様
L29: 様
L30: 様
A31: 患者様 関連 | D31: 患者様氏名 | K31: 担当Dr | P31: 病棟 | S31: 制限内容 | X31: 制限時間 | AC31: 開始日時 | AO31: 備考
D32: 中村 聡 | I32: 様 | K32: 金泰徳Dr | P32: 東B | S32: 通信制限 | X32: 通信制限 | AC32: 令和 | AE32: 3 | AF32: 年 | AG32: 5 | AH32: 月 | AI32: 31 | AJ32: 日 | AL32: ： | AN32: ～
D33: 松谷 さと子 | I33: 様 | K33: 深澤隆Dr | P33: 東A | S33: 通信制限 | X33: 通信制限 | AC33: 令和 | AE33: 4 | AF33: 年 | AG33: 6 | AH33: 月 | AI33: 6 | AJ33: 日 | AL33: ： | AN33: ～
D34: 宮﨑 宏之 | I34: 様 | K34: 馬渡晃弘Dr | P34: 東A | S34: 終日隔離 | X34: 終日隔離 | AC34: 令和 | AE34: 4 | AF34: 年 | AG34: 9 | AH34: 月 | AI34: 30 | AJ34: 日 | AL34: ： | AN34: ～
D35: 沼山 真紀子 | I35: 様 | K35: 金泰徳Dr | P35: 東A | S35: 通信制限 | X35: 通信制限 | AC35: 令和 | AE35: 5 | AF35: 年 | AG35: 2 | AH35: 月 | AI35: 16 | AJ35: 日 | AL35: ： | AN35: ～
D36: 澤口 利香 | I36: 様 | K36: 深澤隆Dr | P36: 東A | S36: 終日隔離 | X36: 終日隔離 | AC36: 令和 | AE36: 5 | AF36: 年 | AG36: 11 | AH36: 月 | AI36: 25 | AJ36: 日 | AL36: ： | AN36: ～
D37: 小笠原 文人 | I37: 様 | K37: 金泰徳Dr | P37: 東合 | S37: 身体拘束 | X37: 身体拘束 | AC37: 令和 | AE37: 6 | AF37: 年 | AG37: 2 | AH37: 月 | AI37: 13 | AJ37: 日 | AL37: ： | AN37: ～
D38: 白幡 一真 | I38: 様 | K38: 柞木田なつみDr | P38: 東A | S38: 終日隔離 | X38: 終日制限 | AC38: 令和 | AE38: 6 | AF38: 年 | AG38: 2 | AH38: 月 | AI38: 14 | AJ38: 日 | AL38: ： | AN38: ～
D39: 向谷地 善朗 | I39: 様 | K39: 小栁匡相Dr | P39: 東C | S39: 身体拘束 | X39: 身体拘束 | AC39: 令和 | AE39: 6 | AF39: 年 | AG39: 2 | AH39: 月 | AI39: 15 | AJ39: 日 | AL39: ： | AN39: ～
I40: 様 | AC40: 令和 | AF40: 年 | AH40: 月 | AJ40: 日 | AL40: ： | AN40: ～
I41: 様 | AC41: 令和 | AF41: 年 | AH41: 月 | AJ41: 日 | AL41: ： | AN41: ～
I42: 様 | AC42: 令和 | AF42: 年 | AH42: 月 | AJ42: 日 | AL42: ： | AN42: ～
I43: 様 | AC43: 令和 | AF43: 年 | AH43: 月 | AJ43: 日 | AL43: ： | AN43: ～
...

Sheet 17
A1: ソーシャルワーカー室 業務日誌 | AH1: C.O.O | AL1: I.O.O | AP1: Ａ.Ｏ.Ｍ
H3: =曜日!B12 -> 令和6年 | M3: =曜日!C12 -> 2月 | P3: 17日 | S3: （ | T3: =曜日!D5 -> 土 | U3: ） | W3: 作成者 | Z3: ： | AA3: 宇津木澤 育美
A5: 労務 状況 | D5: 勤務状況 | K5: 西舘 翔子 | P5: 日勤 | T5: 大川 祥子 | Y5: 日勤 | AC5: 宇津木澤 育美 | AH5: 日勤 | AL5: 早狩 風花 | AP5: 日勤
K6: 澤里 皓輝 | P6: 日勤 | T6: 安田 純子 | Y6: 日勤 | AC6: 石鉢 佳代 | AH6: 日勤
A8: 入退院 状況 | D8: 入院形態 | K8: 東病棟 | Q8: 西病棟 | W8: 北病棟 | AC8: 南病棟 | AI8: 合計 | AO8: 総数
K9: 男性 | N9: 女性 | Q9: 男性 | T9: 女性 | W9: 男性 | Z9: 女性 | AC9: 男性 | AF9: 女性 | AI9: 男性 | AL9: 女性
D10: 任意入院 | K10: 5 | N10: 5 | Q10: 3 | T10: 7 | W10: 24 | Z10: 10 | AC10: 0 | AF10: 1 | AI10: =K10+Q10+W10+AC10 -> 32 | AL10: =N10+T10+Z10+AF10 -> 23 | AO10: =AI14 -> 190
D11: 医療保護入院 | K11: 20 | N11: 18 | Q11: 14 | T11: 21 | W11: 0 | Z11: 1 | AC11: 18 | AF11: 41 | AI11: =K11+Q11+W11+AC11 -> 52 | AL11: =N11+T11+Z11+AF11 -> 81
D12: 措置入院 | K12: 2 | N12: 0 | Q12: 0 | T12: 0 | W12: 0 | Z12: 0 | AC12: 0 | AF12: 0 | AI12: =K12+Q12+W12+AC12 -> 2 | AL12: =N12+T12+Z12+AF12 -> 0
D13: 合計 | K13: =SUM(K10:M12) -> 27 | N13: =SUM(N10:P12) -> 23 | Q13: =SUM(Q10:S12) -> 17 | T13: =SUM(T10:V12) -> 28 | W13: =SUM(W10:Y12) -> 24 | Z13: =SUM(Z10:AB12) -> 11 | AC13: =SUM(AC10:AE12) -> 18 | AF13: =SUM(AF10:AH12) -> 42 | AI13: =SUM(K13+Q13+W13+AC13) -> 86 | AL13: =SUM(N13+T13+Z13+AF13) -> 104 | AO13: 人
K14: =K13+N13 -> 50 | Q14: =Q13+T13 -> 45 | W14: =W13+Z13 -> 35 | AC14: =AC13+AF13 -> 60 | AI14: =AI13+AL13 -> 190
F15: 患者様氏名 | N15: 入院形態 | T15: 担当Dr | Y15: 担当SW | AD15: 病棟 | AJ15: 備考欄
D16: 入院 | L16: 様
L17: 様
L18: 様
L19: 様
L20: 様
D21: 退院 | L21: 様
L22: 様
L23: 様
L24: 様
L25: 様
D26: 転棟 ･ 入院形態変更 | F26: 吉田 よし | L26: 様 | N26: 医療保護入院 | T26: 小栁匡相Dr | AD26: 東C→南B
L27: 様
L28: 様
L29: 様
L30: 様
A31: 患者様 関連 | D31: 患者様氏名 | K31: 担当Dr | P31: 病棟 | S31: 制限内容 | X31: 制限時間 | AC31: 開始日時 | AO31: 備考
D32: 中村 聡 | I32: 様 | K32: 金泰徳Dr | P32: 東B | S32: 通信制限 | X32: 通信制限 | AC32: 令和 | AE32: 3 | AF32: 年 | AG32: 5 | AH32: 月 | AI32: 31 | AJ32: 日 | AL32: ： | AN32: ～
D33: 松谷 さと子 | I33: 様 | K33: 深澤隆Dr | P33: 東A | S33: 通信制限 | X33: 通信制限 | AC33: 令和 | AE33: 4 | AF33: 年 | AG33: 6 | AH33: 月 | AI33: 6 | AJ33: 日 | AL33: ： | AN33: ～
D34: 宮﨑 宏之 | I34: 様 | K34: 馬渡晃弘Dr | P34: 東A | S34: 終日隔離 | X34: 終日隔離 | AC34: 令和 | AE34: 4 | AF34: 年 | AG34: 9 | AH34: 月 | AI34: 30 | AJ34: 日 | AL34: ： | AN34: ～
D35: 沼山 真紀子 | I35: 様 | K35: 金泰徳Dr | P35: 東A | S35: 通信制限 | X35: 通信制限 | AC35: 令和 | AE35: 5 | AF35: 年 | AG35: 2 | AH35: 月 | AI35: 16 | AJ35: 日 | AL35: ： | AN35: ～
D36: 澤口 利香 | I36: 様 | K36: 深澤隆Dr | P36: 東A | S36: 終日隔離 | X36: 終日隔離 | AC36: 令和 | AE36: 5 | AF36: 年 | AG36: 11 | AH36: 月 | AI36: 25 | AJ36: 日 | AL36: ： | AN36: ～
D37: 小笠原 文人 | I37: 様 | K37: 金泰徳Dr | P37: 東合 | S37: 身体拘束 | X37: 身体拘束 | AC37: 令和 | AE37: 6 | AF37: 年 | AG37: 2 | AH37: 月 | AI37: 13 | AJ37: 日 | AL37: ： | AN37: ～
D38: 白幡 一真 | I38: 様 | K38: 柞木田なつみDr | P38: 東A | S38: 終日隔離 | X38: 終日制限 | AC38: 令和 | AE38: 6 | AF38: 年 | AG38: 2 | AH38: 月 | AI38: 14 | AJ38: 日 | AL38: ： | AN38: ～
D39: 向谷地 善朗 | I39: 様 | K39: 小栁匡相Dr | P39: 東C | S39: 身体拘束 | X39: 身体拘束 | AC39: 令和 | AE39: 6 | AF39: 年 | AG39: 2 | AH39: 月 | AI39: 15 | AJ39: 日 | AL39: ： | AN39: ～
I40: 様 | AC40: 令和 | AF40: 年 | AH40: 月 | AJ40: 日 | AL40: ： | AN40: ～
I41: 様 | AC41: 令和 | AF41: 年 | AH41: 月 | AJ41: 日 | AL41: ： | AN41: ～
I42: 様 | AC42: 令和 | AF42: 年 | AH42: 月 | AJ42: 日 | AL42: ： | AN42: ～
I43: 様 | AC43: 令和 | AF43: 年 | AH43: 月 | AJ43: 日 | AL43: ： | AN43: ～
...

Sheet 18
A1: ソーシャルワーカー室 業務日誌 | AH1: C.O.O | AL1: I.O.O | AP1: Ａ.Ｏ.Ｍ
H3: =曜日!B12 -> 令和6年 | M3: =曜日!C12 -> 2月 | P3: 18日 | S3: （ | T3: =曜日!D6 -> 日 | U3: ） | W3: 作成者 | Z3: ： | AA3: 石鉢 佳代
A5: 労務 状況 | D5: 勤務状況 | K5: 西舘 翔子 | P5: 公休 | T5: 大川 祥子 | Y5: 公休 | AC5: 宇津木澤 育美 | AH5: 公休 | AL5: 早狩 風花 | AP5: 公休
K6: 澤里 皓輝 | P6: 公休 | T6: 安田 純子 | Y6: 公休 | AC6: 石鉢 佳代 | AH6: 公休
A8: 入退院 状況 | D8: 入院形態 | K8: 東病棟 | Q8: 西病棟 | W8: 北病棟 | AC8: 南病棟 | AI8: 合計 | AO8: 総数
K9: 男性 | N9: 女性 | Q9: 男性 | T9: 女性 | W9: 男性 | Z9: 女性 | AC9: 男性 | AF9: 女性 | AI9: 男性 | AL9: 女性
D10: 任意入院 | K10: 5 | N10: 5 | Q10: 3 | T10: 7 | W10: 24 | Z10: 10 | AC10: 0 | AF10: 1 | AI10: =K10+Q10+W10+AC10 -> 32 | AL10: =N10+T10+Z10+AF10 -> 23 | AO10: =AI14 -> 189
D11: 医療保護入院 | K11: 19 | N11: 18 | Q11: 14 | T11: 21 | W11: 0 | Z11: 1 | AC11: 18 | AF11: 41 | AI11: =K11+Q11+W11+AC11 -> 51 | AL11: =N11+T11+Z11+AF11 -> 81
D12: 措置入院 | K12: 2 | N12: 0 | Q12: 0 | T12: 0 | W12: 0 | Z12: 0 | AC12: 0 | AF12: 0 | AI12: =K12+Q12+W12+AC12 -> 2 | AL12: =N12+T12+Z12+AF12 -> 0
D13: 合計 | K13: =SUM(K10:M12) -> 26 | N13: =SUM(N10:P12) -> 23 | Q13: =SUM(Q10:S12) -> 17 | T13: =SUM(T10:V12) -> 28 | W13: =SUM(W10:Y12) -> 24 | Z13: =SUM(Z10:AB12) -> 11 | AC13: =SUM(AC10:AE12) -> 18 | AF13: =SUM(AF10:AH12) -> 42 | AI13: =SUM(K13+Q13+W13+AC13) -> 85 | AL13: =SUM(N13+T13+Z13+AF13) -> 104 | AO13: 人
K14: =K13+N13 -> 49 | Q14: =Q13+T13 -> 45 | W14: =W13+Z13 -> 35 | AC14: =AC13+AF13 -> 60 | AI14: =AI13+AL13 -> 189
F15: 患者様氏名 | N15: 入院形態 | T15: 担当Dr | Y15: 担当SW | AD15: 病棟 | AJ15: 備考欄
D16: 入院 | L16: 様
L17: 様
L18: 様
L19: 様
L20: 様
D21: 退院 | F21: 小笠原 文人 | L21: 様 | N21: 医療保護入院 | T21: 金泰德Dr | Y21: 澤里 皓輝 | AD21: 東合
L22: 様
L23: 様
L24: 様
L25: 様
D26: 転棟 ･ 入院形態変更 | L26: 様
L27: 様
L28: 様
L29: 様
L30: 様
A31: 患者様 関連 | D31: 患者様氏名 | K31: 担当Dr | P31: 病棟 | S31: 制限内容 | X31: 制限時間 | AC31: 開始日時 | AO31: 備考
D32: 中村 聡 | I32: 様 | K32: 金泰徳Dr | P32: 東B | S32: 通信制限 | X32: 通信制限 | AC32: 令和 | AE32: 3 | AF32: 年 | AG32: 5 | AH32: 月 | AI32: 31 | AJ32: 日 | AL32: ： | AN32: ～
D33: 松谷 さと子 | I33: 様 | K33: 深澤隆Dr | P33: 東A | S33: 通信制限 | X33: 通信制限 | AC33: 令和 | AE33: 4 | AF33: 年 | AG33: 6 | AH33: 月 | AI33: 6 | AJ33: 日 | AL33: ： | AN33: ～
D34: 宮﨑 宏之 | I34: 様 | K34: 馬渡晃弘Dr | P34: 東A | S34: 終日隔離 | X34: 終日隔離 | AC34: 令和 | AE34: 4 | AF34: 年 | AG34: 9 | AH34: 月 | AI34: 30 | AJ34: 日 | AL34: ： | AN34: ～
D35: 沼山 真紀子 | I35: 様 | K35: 金泰徳Dr | P35: 東A | S35: 通信制限 | X35: 通信制限 | AC35: 令和 | AE35: 5 | AF35: 年 | AG35: 2 | AH35: 月 | AI35: 16 | AJ35: 日 | AL35: ： | AN35: ～
D36: 澤口 利香 | I36: 様 | K36: 深澤隆Dr | P36: 東A | S36: 終日隔離 | X36: 終日隔離 | AC36: 令和 | AE36: 5 | AF36: 年 | AG36: 11 | AH36: 月 | AI36: 25 | AJ36: 日 | AL36: ： | AN36: ～
D37: 小笠原 文人 | I37: 様 | K37: 金泰徳Dr | P37: 東合 | S37: 身体拘束 | X37: 身体拘束 | AC37: 令和 | AE37: 6 | AF37: 年 | AG37: 2 | AH37: 月 | AI37: 13 | AJ37: 日 | AL37: ： | AN37: ～ | AO37: 解除
D38: 白幡 一真 | I38: 様 | K38: 柞木田なつみDr | P38: 東A | S38: 終日隔離 | X38: 終日制限 | AC38: 令和 | AE38: 6 | AF38: 年 | AG38: 2 | AH38: 月 | AI38: 14 | AJ38: 日 | AL38: ： | AN38: ～
D39: 向谷地 善朗 | I39: 様 | K39: 小栁匡相Dr | P39: 東C | S39: 身体拘束 | X39: 身体拘束 | AC39: 令和 | AE39: 6 | AF39: 年 | AG39: 2 | AH39: 月 | AI39: 15 | AJ39: 日 | AL39: ： | AN39: ～
I40: 様 | AC40: 令和 | AF40: 年 | AH40: 月 | AJ40: 日 | AL40: ： | AN40: ～
I41: 様 | AC41: 令和 | AF41: 年 | AH41: 月 | AJ41: 日 | AL41: ： | AN41: ～
I42: 様 | AC42: 令和 | AF42: 年 | AH42: 月 | AJ42: 日 | AL42: ： | AN42: ～
I43: 様 | AC43: 令和 | AF43: 年 | AH43: 月 | AJ43: 日 | AL43: ： | AN43: ～
...

Sheet 19
A1: ソーシャルワーカー室 業務日誌 | AH1: C.O.O | AL1: I.O.O | AP1: Ａ.Ｏ.Ｍ
H3: =曜日!B12 -> 令和6年 | M3: =曜日!C12 -> 2月 | P3: 19日 | S3: （ | T3: =曜日!D7 -> 月 | U3: ） | W3: 作成者 | Z3: ： | AA3: 石鉢 佳代
A5: 労務 状況 | D5: 勤務状況 | K5: 西舘 翔子 | P5: 日勤 | T5: 大川 祥子 | Y5: 日勤 | AC5: 宇津木澤 育美 | AH5: 日勤 | AL5: 早狩 風花 | AP5: 有給
K6: 澤里 皓輝 | P6: 日勤 | T6: 安田 純子 | Y6: 日勤 | AC6: 石鉢 佳代 | AH6: 日勤
A8: 入退院 状況 | D8: 入院形態 | K8: 東病棟 | Q8: 西病棟 | W8: 北病棟 | AC8: 南病棟 | AI8: 合計 | AO8: 総数
K9: 男性 | N9: 女性 | Q9: 男性 | T9: 女性 | W9: 男性 | Z9: 女性 | AC9: 男性 | AF9: 女性 | AI9: 男性 | AL9: 女性
D10: 任意入院 | K10: 5 | N10: 5 | Q10: 3 | T10: 7 | W10: 24 | Z10: 9 | AC10: 0 | AF10: 1 | AI10: =K10+Q10+W10+AC10 -> 32 | AL10: =N10+T10+Z10+AF10 -> 22 | AO10: =AI14 -> 188
D11: 医療保護入院 | K11: 19 | N11: 19 | Q11: 14 | T11: 21 | W11: 0 | Z11: 1 | AC11: 17 | AF11: 41 | AI11: =K11+Q11+W11+AC11 -> 50 | AL11: =N11+T11+Z11+AF11 -> 82
D12: 措置入院 | K12: 2 | N12: 0 | Q12: 0 | T12: 0 | W12: 0 | Z12: 0 | AC12: 0 | AF12: 0 | AI12: =K12+Q12+W12+AC12 -> 2 | AL12: =N12+T12+Z12+AF12 -> 0
D13: 合計 | K13: =SUM(K10:M12) -> 26 | N13: =SUM(N10:P12) -> 24 | Q13: =SUM(Q10:S12) -> 17 | T13: =SUM(T10:V12) -> 28 | W13: =SUM(W10:Y12) -> 24 | Z13: =SUM(Z10:AB12) -> 10 | AC13: =SUM(AC10:AE12) -> 17 | AF13: =SUM(AF10:AH12) -> 42 | AI13: =SUM(K13+Q13+W13+AC13) -> 84 | AL13: =SUM(N13+T13+Z13+AF13) -> 104 | AO13: 人
K14: =K13+N13 -> 50 | Q14: =Q13+T13 -> 45 | W14: =W13+Z13 -> 34 | AC14: =AC13+AF13 -> 59 | AI14: =AI13+AL13 -> 188
F15: 患者様氏名 | N15: 入院形態 | T15: 担当Dr | Y15: 担当SW | AD15: 病棟 | AJ15: 備考欄
D16: 入院 | F16: 泉 沙耶 | L16: 様 | N16: 医療保護入院 | T16: 柞木田なつみDr | Y16: 早狩 風花 | AD16: 東A
L17: 様
L18: 様
L19: 様
L20: 様
D21: 退院 | F21: 小川 由兼 | L21: 様 | N21: 医療保護入院 | T21: 馬渡晃弘Dr | Y21: 早狩 風花 | AD21: 南B
