Workbook

Sheet 1
A1: ソーシャルワーカー室 業務日誌 | AH1: C.O.O | AL1: I.O.O | AP1: Ａ.Ｏ.Ｍ
H3: =曜日!B12 -> 令和5年 | M3: =曜日!C12 -> 9月 | P3: 1日 | S3: （ | T3: =曜日!D3 -> 金 | U3: ） | W3: 作成者 | Z3: ： | AA3: 石鉢 佳代
A5: 労務 状況 | D5: 勤務状況 | K5: 西舘 翔子 | P5: 日勤 | T5: 大川 祥子 | Y5: 日勤 | AC5: 宇津木澤 育美 | AH5: 日勤 | AL5: 早狩 風花 | AP5: 日勤
K6: 澤里 皓輝 | P6: 日勤 | T6: 石鉢 佳代 | Y6: 日勤
A8: 入退院 状況 | D8: 入院形態 | K8: 東病棟 | Q8: 西病棟 | W8: 北病棟 | AC8: 南病棟 | AI8: 合計 | AO8: 総数
K9: 男性 | N9: 女性 | Q9: 男性 | T9: 女性 | W9: 男性 | Z9: 女性 | AC9: 男性 | AF9: 女性 | AI9: 男性 | AL9: 女性
D10: 任意入院 | K10: 4 | N10: 4 | Q10: 7 | T10: 7 | W10: 24 | Z10: 10 | AC10: 0 | AF10: 2 | AI10: =K10+Q10+W10+AC10 -> 35 | AL10: =N10+T10+Z10+AF10 -> 23 | AO10: =AI14 -> 193
D11: 医療保護入院 | K11: 18 | N11: 19 | Q11: 14 | T11: 23 | W11: 0 | Z11: 1 | AC11: 24 | AF11: 34 | AI11: =K11+Q11+W11+AC11 -> 56 | AL11: =N11+T11+Z11+AF11 -> 77
D12: 措置入院 | K12: 2 | N12: 0 | Q12: 0 | T12: 0 | W12: 0 | Z12: 0 | AC12: 0 | AF12: 0 | AI12: =K12+Q12+W12+AC12 -> 2 | AL12: =N12+T12+Z12+AF12 -> 0
D13: 合計 | K13: =SUM(K10:M12) -> 24 | N13: =SUM(N10:P12) -> 23 | Q13: =SUM(Q10:S12) -> 21 | T13: =SUM(T10:V12) -> 30 | W13: =SUM(W10:Y12) -> 24 | Z13: =SUM(Z10:AB12) -> 11 | AC13: =SUM(AC10:AE12) -> 24 | AF13: =SUM(AF10:AH12) -> 36 | AI13: =SUM(K13+Q13+W13+AC13) -> 93 | AL13: =SUM(N13+T13+Z13+AF13) -> 100 | AO13: 人
K14: =K13+N13 -> 47 | Q14: =Q13+T13 -> 51 | W14: =W13+Z13 -> 35 | AC14: =AC13+AF13 -> 60 | AI14: =AI13+AL13 -> 193
F15: 患者様氏名 | N15: 入院形態 | T15: 担当Dr | Y15: 担当SW | AD15: 病棟 | AJ15: 備考欄
D16: 入院 | L16: 様
L17: 様
L18: 様
L19: 様
L20: 様
D21: 退院 | F21: 沼山 とせ子 | L21: 様 | N21: 医療保護入院 | T21: 金泰德Dr | Y21: 大川 祥子 | AD21: 南B
F22: 谷地 寿梨 様 | L22: 様 | N22: 医療保護入院 | T22: 田名部茂Dr | Y22: 宇津木澤 育美 | AD22: 西B
F23: 椀平 留美子 | L23: 様 | N23: 医療保護入院 | T23: 田名部茂Dr | Y23: 宇津木澤 育美 | AD23: 東合
L24: 様
L25: 様
D26: 転棟 ･ 入院形態変更 | F26: 中野 孝 | L26: 様 | N26: 医療保護入院 | T26: 村上祐介Dr | AD26: 東C→南A
L27: 様
L28: 様
L29: 様
L30: 様
A31: 患者様 関連 | D31: 患者様氏名 | K31: 担当Dr | P31: 病棟 | S31: 制限内容 | X31: 制限時間 | AC31: 開始日時 | AO31: 備考
D32: 中村 聡 | I32: 様 | K32: 金泰徳Dr | P32: 東B | S32: 通信制限 | X32: 通信制限 | AC32: 令和 | AE32: 3 | AF32: 年 | AG32: 5 | AH32: 月 | AI32: 31 | AJ32: 日 | AL32: ： | AN32: ～
D33: 松谷 さと子 | I33: 様 | K33: 深澤隆Dr | P33: 東A | S33: 通信制限 | X33: 通信制限 | AC33: 令和 | AE33: 4 | AF33: 年 | AG33: 6 | AH33: 月 | AI33: 6 | AJ33: 日 | AL33: ： | AN33: ～
D34: 宮﨑 宏之 | I34: 様 | K34: 馬渡晃弘Dr | P34: 東A | S34: 終日隔離 | X34: 終日隔離 | AC34: 令和 | AE34: 4 | AF34: 年 | AG34: 9 | AH34: 月 | AI34: 30 | AJ34: 日 | AL34: ： | AN34: ～
D35: 沼山 真紀子 | I35: 様 | K35: 金泰徳Dr | P35: 東A | S35: 通信制限 | X35: 通信制限 | AC35: 令和 | AE35: 5 | AF35: 年 | AG35: 2 | AH35: 月 | AI35: 16 | AJ35: 日 | AL35: ： | AN35: ～
D36: 馬場 日出子 | I36: 様 | K36: 金泰徳Dr | P36: 東A | S36: 通信制限 | X36: 通信制限 | AC36: 令和 | AE36: 5 | AF36: 年 | AG36: 5 | AH36: 月 | AI36: 1 | AJ36: 日 | AL36: ： | AN36: ～
D37: 袴田 将志 | I37: 様 | K37: 田名部茂Dr | P37: 東A | S37: 終日隔離 | X37: 終日隔離 | AC37: 令和 | AE37: 5 | AF37: 年 | AG37: 8 | AH37: 月 | AI37: 6 | AJ37: 日 | AL37: ： | AN37: ～
D38: 中川原 佳宏 | I38: 様 | K38: 小栁匡相Dr | P38: 東A | S38: 終日隔離 | X38: 終日隔離 | AC38: 令和 | AE38: 5 | AF38: 年 | AG38: 8 | AH38: 月 | AI38: 13 | AJ38: 日 | AL38: ： | AN38: ～
I39: 様 | AC39: 令和 | AF39: 年 | AH39: 月 | AJ39: 日 | AL39: ： | AN39: ～
I40: 様 | AC40: 令和 | AF40: 年 | AH40: 月 | AJ40: 日 | AL40: ： | AN40: ～
I41: 様 | AC41: 令和 | AF41: 年 | AH41: 月 | AJ41: 日 | AL41: ： | AN41: ～
I42: 様 | AC42: 令和 | AF42: 年 | AH42: 月 | AJ42: 日 | AL42: ： | AN42: ～
I43: 様 | AC43: 令和 | AF43: 年 | AH43: 月 | AJ43: 日 | AL43: ： | AN43: ～
...

Sheet 2
A1: ソーシャルワーカー室 業務日誌 | AH1: C.O.O | AL1: I.O.O | AP1: Ａ.Ｏ.Ｍ
H3: =曜日!B12 -> 令和5年 | M3: =曜日!C12 -> 9月 | P3: 2日 | S3: （ | T3: =曜日!D4 -> 土 | U3: ） | W3: 作成者 | Z3: ： | AA3: 石鉢 佳代
A5: 労務 状況 | D5: 勤務状況 | K5: 西舘 翔子 | P5: 日勤 | T5: 大川 祥子 | Y5: 公休 | AC5: 宇津木澤 育美 | AH5: 公休 | AL5: 早狩 風花 | AP5: 公休
K6: 澤里 皓輝 | P6: 公休 | T6: 石鉢 佳代 | Y6: 公休
A8: 入退院 状況 | D8: 入院形態 | K8: 東病棟 | Q8: 西病棟 | W8: 北病棟 | AC8: 南病棟 | AI8: 合計 | AO8: 総数
K9: 男性 | N9: 女性 | Q9: 男性 | T9: 女性 | W9: 男性 | Z9: 女性 | AC9: 男性 | AF9: 女性 | AI9: 男性 | AL9: 女性
D10: 任意入院 | K10: 4 | N10: 4 | Q10: 6 | T10: 7 | W10: 24 | Z10: 10 | AC10: 0 | AF10: 2 | AI10: =K10+Q10+W10+AC10 -> 34 | AL10: =N10+T10+Z10+AF10 -> 23 | AO10: =AI14 -> 192
D11: 医療保護入院 | K11: 18 | N11: 19 | Q11: 14 | T11: 23 | W11: 0 | Z11: 1 | AC11: 24 | AF11: 34 | AI11: =K11+Q11+W11+AC11 -> 56 | AL11: =N11+T11+Z11+AF11 -> 77
D12: 措置入院 | K12: 2 | N12: 0 | Q12: 0 | T12: 0 | W12: 0 | Z12: 0 | AC12: 0 | AF12: 0 | AI12: =K12+Q12+W12+AC12 -> 2 | AL12: =N12+T12+Z12+AF12 -> 0
D13: 合計 | K13: =SUM(K10:M12) -> 24 | N13: =SUM(N10:P12) -> 23 | Q13: =SUM(Q10:S12) -> 20 | T13: =SUM(T10:V12) -> 30 | W13: =SUM(W10:Y12) -> 24 | Z13: =SUM(Z10:AB12) -> 11 | AC13: =SUM(AC10:AE12) -> 24 | AF13: =SUM(AF10:AH12) -> 36 | AI13: =SUM(K13+Q13+W13+AC13) -> 92 | AL13: =SUM(N13+T13+Z13+AF13) -> 100 | AO13: 人
K14: =K13+N13 -> 47 | Q14: =Q13+T13 -> 50 | W14: =W13+Z13 -> 35 | AC14: =AC13+AF13 -> 60 | AI14: =AI13+AL13 -> 192
F15: 患者様氏名 | N15: 入院形態 | T15: 担当Dr | Y15: 担当SW | AD15: 病棟 | AJ15: 備考欄
D16: 入院 | L16: 様
L17: 様
L18: 様
L19: 様
L20: 様
D21: 退院 | F21: 梅内 とも子 | L21: 様 | N21: 任意入院 | T21: 田名部茂Dr | Y21: 宇津木澤 育美 | AD21: 北
L22: 様
L23: 様
L24: 様
L25: 様
D26: 転棟 ･ 入院形態変更 | F26: 中村 和夫 | L26: 様 | N26: 任意入院 | T26: 菅野庸Dr | AD26: 西B→北
L27: 様
L28: 様
L29: 様
L30: 様
A31: 患者様 関連 | D31: 患者様氏名 | K31: 担当Dr | P31: 病棟 | S31: 制限内容 | X31: 制限時間 | AC31: 開始日時 | AO31: 備考
D32: 中村 聡 | I32: 様 | K32: 金泰徳Dr | P32: 東B | S32: 通信制限 | X32: 通信制限 | AC32: 令和 | AE32: 3 | AF32: 年 | AG32: 5 | AH32: 月 | AI32: 31 | AJ32: 日 | AL32: ： | AN32: ～
D33: 松谷 さと子 | I33: 様 | K33: 深澤隆Dr | P33: 東A | S33: 通信制限 | X33: 通信制限 | AC33: 令和 | AE33: 4 | AF33: 年 | AG33: 6 | AH33: 月 | AI33: 6 | AJ33: 日 | AL33: ： | AN33: ～
D34: 宮﨑 宏之 | I34: 様 | K34: 馬渡晃弘Dr | P34: 東A | S34: 終日隔離 | X34: 終日隔離 | AC34: 令和 | AE34: 4 | AF34: 年 | AG34: 9 | AH34: 月 | AI34: 30 | AJ34: 日 | AL34: ： | AN34: ～
D35: 沼山 真紀子 | I35: 様 | K35: 金泰徳Dr | P35: 東A | S35: 通信制限 | X35: 通信制限 | AC35: 令和 | AE35: 5 | AF35: 年 | AG35: 2 | AH35: 月 | AI35: 16 | AJ35: 日 | AL35: ： | AN35: ～
D36: 馬場 日出子 | I36: 様 | K36: 金泰徳Dr | P36: 東A | S36: 通信制限 | X36: 通信制限 | AC36: 令和 | AE36: 5 | AF36: 年 | AG36: 5 | AH36: 月 | AI36: 1 | AJ36: 日 | AL36: ： | AN36: ～
D37: 袴田 将志 | I37: 様 | K37: 田名部茂Dr | P37: 東A | S37: 終日隔離 | X37: 終日隔離 | AC37: 令和 | AE37: 5 | AF37: 年 | AG37: 8 | AH37: 月 | AI37: 6 | AJ37: 日 | AL37: ： | AN37: ～
D38: 中川原 佳宏 | I38: 様 | K38: 小栁匡相Dr | P38: 東A | S38: 終日隔離 | X38: 終日隔離 | AC38: 令和 | AE38: 5 | AF38: 年 | AG38: 8 | AH38: 月 | AI38: 13 | AJ38: 日 | AL38: ： | AN38: ～
I39: 様 | AC39: 令和 | AF39: 年 | AH39: 月 | AJ39: 日 | AL39: ： | AN39: ～
I40: 様 | AC40: 令和 | AF40: 年 | AH40: 月 | AJ40: 日 | AL40: ： | AN40: ～
I41: 様 | AC41: 令和 | AF41: 年 | AH41: 月 | AJ41: 日 | AL41: ： | AN41: ～
I42: 様 | AC42: 令和 | AF42: 年 | AH42: 月 | AJ42: 日 | AL42: ： | AN42: ～
I43: 様 | AC43: 令和 | AF43: 年 | AH43: 月 | AJ43: 日 | AL43: ： | AN43: ～
...

Sheet 3
A1: ソーシャルワーカー室 業務日誌 | AH1: C.O.O | AL1: I.O.O | AP1: Ａ.Ｏ.Ｍ
H3: =曜日!B12 -> 令和5年 | M3: =曜日!C12 -> 9月 | P3: 3日 | S3: （ | T3: =曜日!D5 -> 日 | U3: ） | W3: 作成者 | Z3: ： | AA3: 澤里 皓輝
A5: 労務 状況 | D5: 勤務状況 | K5: 西舘 翔子 | P5: 公休 | T5: 大川 祥子 | Y5: 公休 | AC5: 宇津木澤 育美 | AH5: 公休 | AL5: 早狩 風花 | AP5: 公休
K6: 澤里 皓輝 | P6: 公休 | T6: 石鉢 佳代 | Y6: 公休
A8: 入退院 状況 | D8: 入院形態 | K8: 東病棟 | Q8: 西病棟 | W8: 北病棟 | AC8: 南病棟 | AI8: 合計 | AO8: 総数
K9: 男性 | N9: 女性 | Q9: 男性 | T9: 女性 | W9: 男性 | Z9: 女性 | AC9: 男性 | AF9: 女性 | AI9: 男性 | AL9: 女性
D10: 任意入院 | K10: 4 | N10: 4 | Q10: 6 | T10: 7 | W10: 24 | Z10: 10 | AC10: 0 | AF10: 2 | AI10: =K10+Q10+W10+AC10 -> 34 | AL10: =N10+T10+Z10+AF10 -> 23 | AO10: =AI14 -> 192
D11: 医療保護入院 | K11: 18 | N11: 19 | Q11: 14 | T11: 23 | W11: 0 | Z11: 1 | AC11: 24 | AF11: 34 | AI11: =K11+Q11+W11+AC11 -> 56 | AL11: =N11+T11+Z11+AF11 -> 77
D12: 措置入院 | K12: 2 | N12: 0 | Q12: 0 | T12: 0 | W12: 0 | Z12: 0 | AC12: 0 | AF12: 0 | AI12: =K12+Q12+W12+AC12 -> 2 | AL12: =N12+T12+Z12+AF12 -> 0
D13: 合計 | K13: =SUM(K10:M12) -> 24 | N13: =SUM(N10:P12) -> 23 | Q13: =SUM(Q10:S12) -> 20 | T13: =SUM(T10:V12) -> 30 | W13: =SUM(W10:Y12) -> 24 | Z13: =SUM(Z10:AB12) -> 11 | AC13: =SUM(AC10:AE12) -> 24 | AF13: =SUM(AF10:AH12) -> 36 | AI13: =SUM(K13+Q13+W13+AC13) -> 92 | AL13: =SUM(N13+T13+Z13+AF13) -> 100 | AO13: 人
K14: =K13+N13 -> 47 | Q14: =Q13+T13 -> 50 | W14: =W13+Z13 -> 35 | AC14: =AC13+AF13 -> 60 | AI14: =AI13+AL13 -> 192
F15: 患者様氏名 | N15: 入院形態 | T15: 担当Dr | Y15: 担当SW | AD15: 病棟 | AJ15: 備考欄
D16: 入院 | L16: 様
L17: 様
L18: 様
L19: 様
L20: 様
D21: 退院 | L21: 様
L22: 様
L23: 様
L24: 様
L25: 様
D26: 転棟 ･ 入院形態変更 | L26: 様
L27: 様
L28: 様
L29: 様
L30: 様
A31: 患者様 関連 | D31: 患者様氏名 | K31: 担当Dr | P31: 病棟 | S31: 制限内容 | X31: 制限時間 | AC31: 開始日時 | AO31: 備考
D32: 中村 聡 | I32: 様 | K32: 金泰徳Dr | P32: 東B | S32: 通信制限 | X32: 通信制限 | AC32: 令和 | AE32: 3 | AF32: 年 | AG32: 5 | AH32: 月 | AI32: 31 | AJ32: 日 | AL32: ： | AN32: ～
D33: 松谷 さと子 | I33: 様 | K33: 深澤隆Dr | P33: 東A | S33: 通信制限 | X33: 通信制限 | AC33: 令和 | AE33: 4 | AF33: 年 | AG33: 6 | AH33: 月 | AI33: 6 | AJ33: 日 | AL33: ： | AN33: ～
D34: 宮﨑 宏之 | I34: 様 | K34: 馬渡晃弘Dr | P34: 東A | S34: 終日隔離 | X34: 終日隔離 | AC34: 令和 | AE34: 4 | AF34: 年 | AG34: 9 | AH34: 月 | AI34: 30 | AJ34: 日 | AL34: ： | AN34: ～
D35: 沼山 真紀子 | I35: 様 | K35: 金泰徳Dr | P35: 東A | S35: 通信制限 | X35: 通信制限 | AC35: 令和 | AE35: 5 | AF35: 年 | AG35: 2 | AH35: 月 | AI35: 16 | AJ35: 日 | AL35: ： | AN35: ～
D36: 馬場 日出子 | I36: 様 | K36: 金泰徳Dr | P36: 東A | S36: 通信制限 | X36: 通信制限 | AC36: 令和 | AE36: 5 | AF36: 年 | AG36: 5 | AH36: 月 | AI36: 1 | AJ36: 日 | AL36: ： | AN36: ～
D37: 袴田 将志 | I37: 様 | K37: 田名部茂Dr | P37: 東A | S37: 終日隔離 | X37: 終日隔離 | AC37: 令和 | AE37: 5 | AF37: 年 | AG37: 8 | AH37: 月 | AI37: 6 | AJ37: 日 | AL37: ： | AN37: ～
D38: 中川原 佳宏 | I38: 様 | K38: 小栁匡相Dr | P38: 東A | S38: 終日隔離 | X38: 終日隔離 | AC38: 令和 | AE38: 5 | AF38: 年 | AG38: 8 | AH38: 月 | AI38: 13 | AJ38: 日 | AL38: ： | AN38: ～
I39: 様 | AC39: 令和 | AF39: 年 | AH39: 月 | AJ39: 日 | AL39: ： | AN39: ～
I40: 様 | AC40: 令和 | AF40: 年 | AH40: 月 | AJ40: 日 | AL40: ： | AN40: ～
I41: 様 | AC41: 令和 | AF41: 年 | AH41: 月 | AJ41: 日 | AL41: ： | AN41: ～
I42: 様 | AC42: 令和 | AF42: 年 | AH42: 月 | AJ42: 日 | AL42: ： | AN42: ～
I43: 様 | AC43: 令和 | AF43: 年 | AH43: 月 | AJ43: 日 | AL43: ： | AN43: ～
...

Sheet 4
A1: ソーシャルワーカー室 業務日誌 | AH1: C.O.O | AL1: I.O.O | AP1: Ａ.Ｏ.Ｍ
H3: =曜日!B12 -> 令和5年 | M3: =曜日!C12 -> 9月 | P3: 4日 | S3: （ | T3: =曜日!D6 -> 月 | U3: ） | W3: 作成者 | Z3: ： | AA3: 澤里 皓輝
A5: 労務 状況 | D5: 勤務状況 | K5: 西舘 翔子 | P5: 日勤 | T5: 大川 祥子 | Y5: 日勤 | AC5: 宇津木澤 育美 | AH5: 日勤 | AL5: 早狩 風花 | AP5: 日勤
K6: 澤里 皓輝 | P6: 日勤 | T6: 石鉢 佳代 | Y6: 日勤
A8: 入退院 状況 | D8: 入院形態 | K8: 東病棟 | Q8: 西病棟 | W8: 北病棟 | AC8: 南病棟 | AI8: 合計 | AO8: 総数
K9: 男性 | N9: 女性 | Q9: 男性 | T9: 女性 | W9: 男性 | Z9: 女性 | AC9: 男性 | AF9: 女性 | AI9: 男性 | AL9: 女性
D10: 任意入院 | K10: 4 | N10: 4 | Q10: 6 | T10: 7 | W10: 24 | Z10: 10 | AC10: 0 | AF10: 2 | AI10: =K10+Q10+W10+AC10 -> 34 | AL10: =N10+T10+Z10+AF10 -> 23 | AO10: =AI14 -> 192
D11: 医療保護入院 | K11: 18 | N11: 19 | Q11: 14 | T11: 23 | W11: 0 | Z11: 1 | AC11: 24 | AF11: 34 | AI11: =K11+Q11+W11+AC11 -> 56 | AL11: =N11+T11+Z11+AF11 -> 77
D12: 措置入院 | K12: 2 | N12: 0 | Q12: 0 | T12: 0 | W12: 0 | Z12: 0 | AC12: 0 | AF12: 0 | AI12: =K12+Q12+W12+AC12 -> 2 | AL12: =N12+T12+Z12+AF12 -> 0
D13: 合計 | K13: =SUM(K10:M12) -> 24 | N13: =SUM(N10:P12) -> 23 | Q13: =SUM(Q10:S12) -> 20 | T13: =SUM(T10:V12) -> 30 | W13: =SUM(W10:Y12) -> 24 | Z13: =SUM(Z10:AB12) -> 11 | AC13: =SUM(AC10:AE12) -> 24 | AF13: =SUM(AF10:AH12) -> 36 | AI13: =SUM(K13+Q13+W13+AC13) -> 92 | AL13: =SUM(N13+T13+Z13+AF13) -> 100 | AO13: 人
K14: =K13+N13 -> 47 | Q14: =Q13+T13 -> 50 | W14: =W13+Z13 -> 35 | AC14: =AC13+AF13 -> 60 | AI14: =AI13+AL13 -> 192
F15: 患者様氏名 | N15: 入院形態 | T15: 担当Dr | Y15: 担当SW | AD15: 病棟 | AJ15: 備考欄
D16: 入院 | L16: 様
L17: 様
L18: 様
L19: 様
L20: 様
D21: 退院 | L21: 様
L22: 様
L23: 様
L24: 様
L25: 様
D26: 転棟 ･ 入院形態変更 | L26: 様
L27: 様
L28: 様
L29: 様
L30: 様
A31: 患者様 関連 | D31: 患者様氏名 | K31: 担当Dr | P31: 病棟 | S31: 制限内容 | X31: 制限時間 | AC31: 開始日時 | AO31: 備考
D32: 中村 聡 | I32: 様 | K32: 金泰徳Dr | P32: 東B | S32: 通信制限 | X32: 通信制限 | AC32: 令和 | AE32: 3 | AF32: 年 | AG32: 5 | AH32: 月 | AI32: 31 | AJ32: 日 | AL32: ： | AN32: ～
D33: 松谷 さと子 | I33: 様 | K33: 深澤隆Dr | P33: 東A | S33: 通信制限 | X33: 通信制限 | AC33: 令和 | AE33: 4 | AF33: 年 | AG33: 6 | AH33: 月 | AI33: 6 | AJ33: 日 | AL33: ： | AN33: ～
D34: 宮﨑 宏之 | I34: 様 | K34: 馬渡晃弘Dr | P34: 東A | S34: 終日隔離 | X34: 終日隔離 | AC34: 令和 | AE34: 4 | AF34: 年 | AG34: 9 | AH34: 月 | AI34: 30 | AJ34: 日 | AL34: ： | AN34: ～
D35: 沼山 真紀子 | I35: 様 | K35: 金泰徳Dr | P35: 東A | S35: 通信制限 | X35: 通信制限 | AC35: 令和 | AE35: 5 | AF35: 年 | AG35: 2 | AH35: 月 | AI35: 16 | AJ35: 日 | AL35: ： | AN35: ～
D36: 馬場 日出子 | I36: 様 | K36: 金泰徳Dr | P36: 東A | S36: 通信制限 | X36: 通信制限 | AC36: 令和 | AE36: 5 | AF36: 年 | AG36: 5 | AH36: 月 | AI36: 1 | AJ36: 日 | AL36: ： | AN36: ～
D37: 袴田 将志 | I37: 様 | K37: 田名部茂Dr | P37: 東A | S37: 終日隔離 | X37: 終日隔離 | AC37: 令和 | AE37: 5 | AF37: 年 | AG37: 8 | AH37: 月 | AI37: 6 | AJ37: 日 | AL37: ： | AN37: ～
D38: 中川原 佳宏 | I38: 様 | K38: 小栁匡相Dr | P38: 東A | S38: 終日隔離 | X38: 終日隔離 | AC38: 令和 | AE38: 5 | AF38: 年 | AG38: 8 | AH38: 月 | AI38: 13 | AJ38: 日 | AL38: ： | AN38: ～
I39: 様 | AC39: 令和 | AF39: 年 | AH39: 月 | AJ39: 日 | AL39: ： | AN39: ～
I40: 様 | AC40: 令和 | AF40: 年 | AH40: 月 | AJ40: 日 | AL40: ： | AN40: ～
I41: 様 | AC41: 令和 | AF41: 年 | AH41: 月 | AJ41: 日 | AL41: ： | AN41: ～
I42: 様 | AC42: 令和 | AF42: 年 | AH42: 月 | AJ42: 日 | AL42: ： | AN42: ～
I43: 様 | AC43: 令和 | AF43: 年 | AH43: 月 | AJ43: 日 | AL43: ： | AN43: ～
...

Sheet 5
A1: ソーシャルワーカー室 業務日誌 | AH1: C.O.O | AL1: I.O.O | AP1: Ａ.Ｏ.Ｍ
H3: =曜日!B12 -> 令和5年 | M3: =曜日!C12 -> 9月 | P3: 5日 | S3: （ | T3: =曜日!D7 -> 火 | U3: ） | W3: 作成者 | Z3: ： | AA3: 澤里 皓輝
A5: 労務 状況 | D5: 勤務状況 | K5: 西舘 翔子 | P5: 日勤 | T5: 大川 祥子 | Y5: 日勤 | AC5: 宇津木澤 育美 | AH5: 日勤 | AL5: 早狩 風花 | AP5: 日勤
K6: 澤里 皓輝 | P6: 日勤 | T6: 石鉢 佳代 | Y6: 日勤
A8: 入退院 状況 | D8: 入院形態 | K8: 東病棟 | Q8: 西病棟 | W8: 北病棟 | AC8: 南病棟 | AI8: 合計 | AO8: 総数
K9: 男性 | N9: 女性 | Q9: 男性 | T9: 女性 | W9: 男性 | Z9: 女性 | AC9: 男性 | AF9: 女性 | AI9: 男性 | AL9: 女性
D10: 任意入院 | K10: 4 | N10: 4 | Q10: 5 | T10: 7 | W10: 24 | Z10: 10 | AC10: 0 | AF10: 2 | AI10: =K10+Q10+W10+AC10 -> 33 | AL10: =N10+T10+Z10+AF10 -> 23 | AO10: =AI14 -> 192
D11: 医療保護入院 | K11: 18 | N11: 20 | Q11: 14 | T11: 23 | W11: 0 | Z11: 1 | AC11: 24 | AF11: 34 | AI11: =K11+Q11+W11+AC11 -> 56 | AL11: =N11+T11+Z11+AF11 -> 78
D12: 措置入院 | K12: 2 | N12: 0 | Q12: 0 | T12: 0 | W12: 0 | Z12: 0 | AC12: 0 | AF12: 0 | AI12: =K12+Q12+W12+AC12 -> 2 | AL12: =N12+T12+Z12+AF12 -> 0
D13: 合計 | K13: =SUM(K10:M12) -> 24 | N13: =SUM(N10:P12) -> 24 | Q13: =SUM(Q10:S12) -> 19 | T13: =SUM(T10:V12) -> 30 | W13: =SUM(W10:Y12) -> 24 | Z13: =SUM(Z10:AB12) -> 11 | AC13: =SUM(AC10:AE12) -> 24 | AF13: =SUM(AF10:AH12) -> 36 | AI13: =SUM(K13+Q13+W13+AC13) -> 91 | AL13: =SUM(N13+T13+Z13+AF13) -> 101 | AO13: 人
K14: =K13+N13 -> 48 | Q14: =Q13+T13 -> 49 | W14: =W13+Z13 -> 35 | AC14: =AC13+AF13 -> 60 | AI14: =AI13+AL13 -> 192
F15: 患者様氏名 | N15: 入院形態 | T15: 担当Dr | Y15: 担当SW | AD15: 病棟 | AJ15: 備考欄
D16: 入院 | F16: 清川 美奈 | L16: 様 | N16: 医療保護入院 | T16: 金泰德Dr | AD16: 東B
F17: 大釜 美香子 | L17: 様 | N17: 医療保護入院 | T17: 金泰德Dr | AD17: 東A
L18: 様
L19: 様
L20: 様
D21: 退院 | F21: 小國 貞子 | L21: 様 | N21: 医療保護入院 | T21: 金泰德Dr | AD21: 南B
F22: 宮木 昌志 | L22: 様 | N22: 任意入院 | T22: 田名部茂Dr | AD22: 西A
L23: 様
L24: 様
L25: 様
D26: 転棟 ･ 入院形態変更 | F26: 田茂 ケイ子 | L26: 様 | N26: 医療保護入院 | T26: 馬渡晃弘Dr | AD26: 東C→南A
L27: 様
L28: 様
L29: 様
L30: 様
A31: 患者様 関連 | D31: 患者様氏名 | K31: 担当Dr | P31: 病棟 | S31: 制限内容 | X31: 制限時間 | AC31: 開始日時 | AO31: 備考
D32: 中村 聡 | I32: 様 | K32: 金泰徳Dr | P32: 東B | S32: 通信制限 | X32: 通信制限 | AC32: 令和 | AE32: 3 | AF32: 年 | AG32: 5 | AH32: 月 | AI32: 31 | AJ32: 日 | AL32: ： | AN32: ～
D33: 松谷 さと子 | I33: 様 | K33: 深澤隆Dr | P33: 東A | S33: 通信制限 | X33: 通信制限 | AC33: 令和 | AE33: 4 | AF33: 年 | AG33: 6 | AH33: 月 | AI33: 6 | AJ33: 日 | AL33: ： | AN33: ～
D34: 宮﨑 宏之 | I34: 様 | K34: 馬渡晃弘Dr | P34: 東A | S34: 終日隔離 | X34: 終日隔離 | AC34: 令和 | AE34: 4 | AF34: 年 | AG34: 9 | AH34: 月 | AI34: 30 | AJ34: 日 | AL34: ： | AN34: ～
D35: 沼山 真紀子 | I35: 様 | K35: 金泰徳Dr | P35: 東A | S35: 通信制限 | X35: 通信制限 | AC35: 令和 | AE35: 5 | AF35: 年 | AG35: 2 | AH35: 月 | AI35: 16 | AJ35: 日 | AL35: ： | AN35: ～
D36: 馬場 日出子 | I36: 様 | K36: 金泰徳Dr | P36: 東A | S36: 通信制限 | X36: 通信制限 | AC36: 令和 | AE36: 5 | AF36: 年 | AG36: 5 | AH36: 月 | AI36: 1 | AJ36: 日 | AL36: ： | AN36: ～
D37: 袴田 将志 | I37: 様 | K37: 田名部茂Dr | P37: 東A | S37: 終日隔離 | X37: 終日隔離 | AC37: 令和 | AE37: 5 | AF37: 年 | AG37: 8 | AH37: 月 | AI37: 6 | AJ37: 日 | AL37: ： | AN37: ～
D38: 中川原 佳宏 | I38: 様 | K38: 小栁匡相Dr | P38: 東A | S38: 終日隔離 | X38: 終日隔離 | AC38: 令和 | AE38: 5 | AF38: 年 | AG38: 8 | AH38: 月 | AI38: 13 | AJ38: 日 | AL38: ： | AN38: ～
D39: 大釜 美香子 | I39: 様 | K39: 金泰徳Dr | P39: 東A | S39: 終日隔離 | X39: 終日隔離 | AC39: 令和 | AE39: 5 | AF39: 年 | AG39: 9 | AH39: 月 | AI39: 5 | AJ39: 日 | AL39: ： | AN39: ～
I40: 様 | AC40: 令和 | AF40: 年 | AH40: 月 | AJ40: 日 | AL40: ： | AN40: ～
I41: 様 | AC41: 令和 | AF41: 年 | AH41: 月 | AJ41: 日 | AL41: ： | AN41: ～
I42: 様 | AC42: 令和 | AF42: 年 | AH42: 月 | AJ42: 日 | AL42: ： | AN42: ～
I43: 様 | AC43: 令和 | AF43: 年 | AH43: 月 | AJ43: 日 | AL43: ： | AN43: ～
...

Sheet 6
A1: ソーシャルワーカー室 業務日誌 | AH1: C.O.O | AL1: I.O.O | AP1: Ａ.Ｏ.Ｍ
H3: =曜日!B12 -> 令和5年 | M3: =曜日!C12 -> 9月 | P3: 6日 | S3: （ | T3: =曜日!D8 -> 水 | U3: ） | W3: 作成者 | Z3: ：
A5: 労務 状況 | D5: 勤務状況 | K5: 西舘 翔子 | T5: 大川 祥子 | AC5: 宇津木澤 育美 | AL5: 早狩 風花
K6: 澤里 皓輝 | T6: 石鉢 佳代
A8: 入退院 状況 | D8: 入院形態 | K8: 東病棟 | Q8: 西病棟 | W8: 北病棟 | AC8: 南病棟 | AI8: 合計 | AO8: 総数
K9: 男性 | N9: 女性 | Q9: 男性 | T9: 女性 | W9: 男性 | Z9: 女性 | AC9: 男性 | AF9: 女性 | AI9: 男性 | AL9: 女性
D10: 任意入院 | K10: 4 | N10: 5 | Q10: 5 | T10: 7 | W10: 24 | Z10: 10 | AC10: 0 | AF10: 2 | AI10: =K10+Q10+W10+AC10 -> 33 | AL10: =N10+T10+Z10+AF10 -> 24 | AO10: =AI14 -> 194
D11: 医療保護入院 | K11: 18 | N11: 21 | Q11: 14 | T11: 23 | W11: 0 | Z11: 1 | AC11: 24 | AF11: 34 | AI11: =K11+Q11+W11+AC11 -> 56 | AL11: =N11+T11+Z11+AF11 -> 79
D12: 措置入院 | K12: 2 | N12: 0 | Q12: 0 | T12: 0 | W12: 0 | Z12: 0 | AC12: 0 | AF12: 0 | AI12: =K12+Q12+W12+AC12 -> 2 | AL12: =N12+T12+Z12+AF12 -> 0
D13: 合計 | K13: =SUM(K10:M12) -> 24 | N13: =SUM(N10:P12) -> 26 | Q13: =SUM(Q10:S12) -> 19 | T13: =SUM(T10:V12) -> 30 | W13: =SUM(W10:Y12) -> 24 | Z13: =SUM(Z10:AB12) -> 11 | AC13: =SUM(AC10:AE12) -> 24 | AF13: =SUM(AF10:AH12) -> 36 | AI13: =SUM(K13+Q13+W13+AC13) -> 91 | AL13: =SUM(N13+T13+Z13+AF13) -> 103 | AO13: 人
K14: =K13+N13 -> 50 | Q14: =Q13+T13 -> 49 | W14: =W13+Z13 -> 35 | AC14: =AC13+AF13 -> 60 | AI14: =AI13+AL13 -> 194
F15: 患者様氏名 | N15: 入院形態 | T15: 担当Dr | Y15: 担当SW | AD15: 病棟 | AJ15: 備考欄
D16: 入院 | F16: 松井 ミサ | L16: 様 | N16: 任意入院 | T16: 深澤隆Dr | AD16: 東合
F17: 袴田 サクラ | L17: 様 | N17: 医療保護入院 | T17: 金泰德Dr | AD17: 東C
L18: 様
L19: 様
L20: 様
D21: 退院 | L21: 様
L22: 様
L23: 様
L24: 様
L25: 様
D26: 転棟 ･ 入院形態変更 | L26: 様
L27: 様
L28: 様
L29: 様
L30: 様
A31: 患者様 関連 | D31: 患者様氏名 | K31: 担当Dr | P31: 病棟 | S31: 制限内容 | X31: 制限時間 | AC31: 開始日時 | AO31: 備考
D32: 中村 聡 | I32: 様 | K32: 金泰徳Dr | P32: 東B | S32: 通信制限 | X32: 通信制限 | AC32: 令和 | AE32: 3 | AF32: 年 | AG32: 5 | AH32: 月 | AI32: 31 | AJ32: 日 | AL32: ： | AN32: ～
D33: 松谷 さと子 | I33: 様 | K33: 深澤隆Dr | P33: 東A | S33: 通信制限 | X33: 通信制限 | AC33: 令和 | AE33: 4 | AF33: 年 | AG33: 6 | AH33: 月 | AI33: 6 | AJ33: 日 | AL33: ： | AN33: ～
D34: 宮﨑 宏之 | I34: 様 | K34: 馬渡晃弘Dr | P34: 東A | S34: 終日隔離 | X34: 終日隔離 | AC34: 令和 | AE34: 4 | AF34: 年 | AG34: 9 | AH34: 月 | AI34: 30 | AJ34: 日 | AL34: ： | AN34: ～
D35: 沼山 真紀子 | I35: 様 | K35: 金泰徳Dr | P35: 東A | S35: 通信制限 | X35: 通信制限 | AC35: 令和 | AE35: 5 | AF35: 年 | AG35: 2 | AH35: 月 | AI35: 16 | AJ35: 日 | AL35: ： | AN35: ～
D36: 馬場 日出子 | I36: 様 | K36: 金泰徳Dr | P36: 東A | S36: 通信制限 | X36: 通信制限 | AC36: 令和 | AE36: 5 | AF36: 年 | AG36: 5 | AH36: 月 | AI36: 1 | AJ36: 日 | AL36: ： | AN36: ～
D37: 袴田 将志 | I37: 様 | K37: 田名部茂Dr | P37: 東A | S37: 終日隔離 | X37: 終日隔離 | AC37: 令和 | AE37: 5 | AF37: 年 | AG37: 8 | AH37: 月 | AI37: 6 | AJ37: 日 | AL37: ： | AN37: ～
D38: 中川原 佳宏 | I38: 様 | K38: 小栁匡相Dr | P38: 東A | S38: 終日隔離 | X38: 終日隔離 | AC38: 令和 | AE38: 5 | AF38: 年 | AG38: 8 | AH38: 月 | AI38: 13 | AJ38: 日 | AL38: ： | AN38: ～
D39: 戸来 栄一 | I39: 様 | K39: 金泰徳Dr | P39: 東A | S39: 身体拘束 | AC39: 令和 | AF39: 年 | AH39: 月 | AJ39: 日 | AL39: ： | AN39: ～
I40: 様 | AC40: 令和 | AF40: 年 | AH40: 月 | AJ40: 日 | AL40: ： | AN40: ～
I41: 様 | AC41: 令和 | AF41: 年 | AH41: 月 | AJ41: 日 | AL41: ： | AN41: ～
I42: 様 | AC42: 令和 | AF42: 年 | AH42: 月 | AJ42: 日 | AL42: ： | AN42: ～
I43: 様 | AC43: 令和 | AF43: 年 | AH43: 月 | AJ43: 日 | AL43: ： | AN43: ～
...

Sheet 7
A1: ソーシャルワーカー室 業務日誌 | AH1: C.O.O | AL1: I.O.O | AP1: Ａ.Ｏ.Ｍ
H3: =曜日!B12 -> 令和5年 | M3: =曜日!C12 -> 9月 | P3: 7日 | S3: （ | T3: =曜日!D9 -> 木 | U3: ） | W3: 作成者 | Z3: ：
A5: 労務 状況 | D5: 勤務状況 | K5: 西舘 翔子 | T5: 大川 祥子 | AC5: 宇津木澤 育美 | AL5: 早狩 風花
K6: 澤里 皓輝 | T6: 石鉢 佳代
A8: 入退院 状況 | D8: 入院形態 | K8: 東病棟 | Q8: 西病棟 | W8: 北病棟 | AC8: 南病棟 | AI8: 合計 | AO8: 総数
K9: 男性 | N9: 女性 | Q9: 男性 | T9: 女性 | W9: 男性 | Z9: 女性 | AC9: 男性 | AF9: 女性 | AI9: 男性 | AL9: 女性
D10: 任意入院 | Z10: 0 | AI10: =K10+Q10+W10+AC10 -> 0 | AL10: =N10+T10+Z10+AF10 -> 0 | AO10: =AI14 -> 0
D11: 医療保護入院 | AI11: =K11+Q11+W11+AC11 -> 0 | AL11: =N11+T11+Z11+AF11 -> 0
D12: 措置入院 | AI12: =K12+Q12+W12+AC12 -> 0 | AL12: =N12+T12+Z12+AF12 -> 0
D13: 合計 | K13: =SUM(K10:M12) -> 0 | N13: =SUM(N10:P12) -> 0 | Q13: =SUM(Q10:S12) -> 0 | T13: =SUM(T10:V12) -> 0 | W13: =SUM(W10:Y12) -> 0 | Z13: =SUM(Z10:AB12) -> 0 | AC13: =SUM(AC10:AE12) -> 0 | AF13: =SUM(AF10:AH12) -> 0 | AI13: =SUM(K13+Q13+W13+AC13) -> 0 | AL13: =SUM(N13+T13+Z13+AF13) -> 0 | AO13: 人
K14: =K13+N13 -> 0 | Q14: =Q13+T13 -> 0 | W14: =W13+Z13 -> 0 | AC14: =AC13+AF13 -> 0 | AI14: =AI13+AL13 -> 0
F15: 患者様氏名 | N15: 入院形態 | T15: 担当Dr | Y15: 担当SW | AD15: 病棟 | AJ15: 備考欄
D16: 入院 | L16: 様
L17: 様
L18: 様
L19: 様
L20: 様
D21: 退院 | L21: 様
L22: 様
L23: 様
L24: 様
L25: 様
D26: 転棟 ･ 入院形態変更 | L26: 様
L27: 様
L28: 様
L29: 様
L30: 様
A31: 患者様 関連 | D31: 患者様氏名 | K31: 担当Dr | P31: 病棟 | S31: 制限内容 | X31: 制限時間 | AC31: 開始日時 | AO31: 備考
I32: 様 | AC32: 令和 | AF32: 年 | AH32: 月 | AJ32: 日 | AL32: ： | AN32: ～
I33: 様 | AC33: 令和 | AF33: 年 | AH33: 月 | AJ33: 日 | AL33: ： | AN33: ～
I34: 様 | AC34: 令和 | AF34: 年 | AH34: 月 | AJ34: 日 | AL34: ： | AN34: ～
I35: 様 | AC35: 令和 | AF35: 年 | AH35: 月 | AJ35: 日 | AL35: ： | AN35: ～
I36: 様 | AC36: 令和 | AF36: 年 | AH36: 月 | AJ36: 日 | AL36: ： | AN36: ～
I37: 様 | AC37: 令和 | AF37: 年 | AH37: 月 | AJ37: 日 | AL37: ： | AN37: ～
I38: 様 | AC38: 令和 | AF38: 年 | AH38: 月 | AJ38: 日 | AL38: ： | AN38: ～
I39: 様 | AC39: 令和 | AF39: 年 | AH39: 月 | AJ39: 日 | AL39: ： | AN39: ～
I40: 様 | AC40: 令和 | AF40: 年 | AH40: 月 | AJ40: 日 | AL40: ： | AN40: ～
I41: 様 | AC41: 令和 | AF41: 年 | AH41: 月 | AJ41: 日 | AL41: ： | AN41: ～
I42: 様 | AC42: 令和 | AF42: 年 | AH42: 月 | AJ42: 日 | AL42: ： | AN42: ～
I43: 様 | AC43: 令和 | AF43: 年 | AH43: 月 | AJ43: 日 | AL43: ： | AN43: ～
...

Sheet 8
A1: ソーシャルワーカー室 業務日誌 | AH1: C.O.O | AL1: I.O.O | AP1: Ａ.Ｏ.Ｍ
H3: =曜日!B12 -> 令和5年 | M3: =曜日!C12 -> 9月 | P3: 8日 | S3: （ | T3: =曜日!D3 -> 金 | U3: ） | W3: 作成者 | Z3: ：
A5: 労務 状況 | D5: 勤務状況 | K5: 西舘 翔子 | T5: 大川 祥子 | AC5: 宇津木澤 育美 | AL5: 早狩 風花
K6: 澤里 皓輝 | T6: 石鉢 佳代
A8: 入退院 状況 | D8: 入院形態 | K8: 東病棟 | Q8: 西病棟 | W8: 北病棟 | AC8: 南病棟 | AI8: 合計 | AO8: 総数
K9: 男性 | N9: 女性 | Q9: 男性 | T9: 女性 | W9: 男性 | Z9: 女性 | AC9: 男性 | AF9: 女性 | AI9: 男性 | AL9: 女性
D10: 任意入院 | Z10: 0 | AI10: =K10+Q10+W10+AC10 -> 0 | AL10: =N10+T10+Z10+AF10 -> 0 | AO10: =AI14 -> 0
D11: 医療保護入院 | AI11: =K11+Q11+W11+AC11 -> 0 | AL11: =N11+T11+Z11+AF11 -> 0
D12: 措置入院 | AI12: =K12+Q12+W12+AC12 -> 0 | AL12: =N12+T12+Z12+AF12 -> 0
D13: 合計 | K13: =SUM(K10:M12) -> 0 | N13: =SUM(N10:P12) -> 0 | Q13: =SUM(Q10:S12) -> 0 | T13: =SUM(T10:V12) -> 0 | W13: =SUM(W10:Y12) -> 0 | Z13: =SUM(Z10:AB12) -> 0 | AC13: =SUM(AC10:AE12) -> 0 | AF13: =SUM(AF10:AH12) -> 0 | AI13: =SUM(K13+Q13+W13+AC13) -> 0 | AL13: =SUM(N13+T13+Z13+AF13) -> 0 | AO13: 人
K14: =K13+N13 -> 0 | Q14: =Q13+T13 -> 0 | W14: =W13+Z13 -> 0 | AC14: =AC13+AF13 -> 0 | AI14: =AI13+AL13 -> 0
F15: 患者様氏名 | N15: 入院形態 | T15: 担当Dr | Y15: 担当SW | AD15: 病棟 | AJ15: 備考欄
D16: 入院 | L16: 様
L17: 様
L18: 様
L19: 様
L20: 様
D21: 退院 | L21: 様
L22: 様
L23: 様
L24: 様
L25: 様
D26: 転棟 ･ 入院形態変更 | L26: 様
L27: 様
L28: 様
L29: 様
L30: 様
A31: 患者様 関連 | D31: 患者様氏名 | K31: 担当Dr | P31: 病棟 | S31: 制限内容 | X31: 制限時間 | AC31: 開始日時 | AO31: 備考
I32: 様 | AC32: 令和 | AF32: 年 | AH32: 月 | AJ32: 日 | AL32: ： | AN32: ～
I33: 様 | AC33: 令和 | AF33: 年 | AH33: 月 | AJ33: 日 | AL33: ： | AN33: ～ | AO33: 解除(退院)
I34: 様 | AC34: 令和 | AF34: 年 | AH34: 月 | AJ34: 日 | AL34: ： | AN34: ～
I35: 様 | AC35: 令和 | AF35: 年 | AH35: 月 | AJ35: 日 | AL35: ： | AN35: ～
I36: 様 | AC36: 令和 | AF36: 年 | AH36: 月 | AJ36: 日 | AL36: ： | AN36: ～
I37: 様 | AC37: 令和 | AF37: 年 | AH37: 月 | AJ37: 日 | AL37: ： | AN37: ～
I38: 様 | AC38: 令和 | AF38: 年 | AH38: 月 | AJ38: 日 | AL38: ： | AN38: ～
I39: 様 | AC39: 令和 | AF39: 年 | AH39: 月 | AJ39: 日 | AL39: ： | AN39: ～
I40: 様 | AC40: 令和 | AF40: 年 | AH40: 月 | AJ40: 日 | AL40: ： | AN40: ～
I41: 様 | AC41: 令和 | AF41: 年 | AH41: 月 | AJ41: 日 | AL41: ： | AN41: ～
I42: 様 | AC42: 令和 | AF42: 年 | AH42: 月 | AJ42: 日 | AL42: ： | AN42: ～
I43: 様 | AC43: 令和 | AF43: 年 | AH43: 月 | AJ43: 日 | AL43: ： | AN43: ～
...

Sheet 9
A1: ソーシャルワーカー室 業務日誌 | AH1: C.O.O | AL1: I.O.O | AP1: Ａ.Ｏ.Ｍ
H3: =曜日!B12 -> 令和5年 | M3: =曜日!C12 -> 9月 | P3: 9日 | S3: （ | T3: =曜日!D4 -> 土 | U3: ） | W3: 作成者 | Z3: ：
A5: 労務 状況 | D5: 勤務状況 | K5: 西舘 翔子 | T5: 大川 祥子 | AC5: 宇津木澤 育美 | AL5: 早狩 風花
K6: 澤里 皓輝 | T6: 石鉢 佳代
A8: 入退院 状況 | D8: 入院形態 | K8: 東病棟 | Q8: 西病棟 | W8: 北病棟 | AC8: 南病棟 | AI8: 合計 | AO8: 総数
K9: 男性 | N9: 女性 | Q9: 男性 | T9: 女性 | W9: 男性 | Z9: 女性 | AC9: 男性 | AF9: 女性 | AI9: 男性 | AL9: 女性
D10: 任意入院 | Z10: 0 | AI10: =K10+Q10+W10+AC10 -> 0 | AL10: =N10+T10+Z10+AF10 -> 0 | AO10: =AI14 -> 0
D11: 医療保護入院 | AI11: =K11+Q11+W11+AC11 -> 0 | AL11: =N11+T11+Z11+AF11 -> 0
D12: 措置入院 | AI12: =K12+Q12+W12+AC12 -> 0 | AL12: =N12+T12+Z12+AF12 -> 0
D13: 合計 | K13: =SUM(K10:M12) -> 0 | N13: =SUM(N10:P12) -> 0 | Q13: =SUM(Q10:S12) -> 0 | T13: =SUM(T10:V12) -> 0 | W13: =SUM(W10:Y12) -> 0 | Z13: =SUM(Z10:AB12) -> 0 | AC13: =SUM(AC10:AE12) -> 0 | AF13: =SUM(AF10:AH12) -> 0 | AI13: =SUM(K13+Q13+W13+AC13) -> 0 | AL13: =SUM(N13+T13+Z13+AF13) -> 0 | AO13: 人
K14: =K13+N13 -> 0 | Q14: =Q13+T13 -> 0 | W14: =W13+Z13 -> 0 | AC14: =AC13+AF13 -> 0 | AI14: =AI13+AL13 -> 0
F15: 患者様氏名 | N15: 入院形態 | T15: 担当Dr | Y15: 担当SW | AD15: 病棟 | AJ15: 備考欄
D16: 入院 | L16: 様
L17: 様
L18: 様
L19: 様
L20: 様
D21: 退院 | L21: 様
L22: 様
L23: 様
L24: 様
L25: 様
D26: 転棟 ･ 入院形態変更 | L26: 様
L27: 様
L28: 様
L29: 様
L30: 様
A31: 患者様 関連 | D31: 患者様氏名 | K31: 担当Dr | P31: 病棟 | S31: 制限内容 | X31: 制限時間 | AC31: 開始日時 | AO31: 備考
I32: 様 | AC32: 令和 | AF32: 年 | AH32: 月 | AJ32: 日 | AL32: ： | AN32: ～
I33: 様 | AC33: 令和 | AF33: 年 | AH33: 月 | AJ33: 日 | AL33: ： | AN33: ～
I34: 様 | AC34: 令和 | AF34: 年 | AH34: 月 | AJ34: 日 | AL34: ： | AN34: ～
I35: 様 | AC35: 令和 | AF35: 年 | AH35: 月 | AJ35: 日 | AL35: ： | AN35: ～
I36: 様 | AC36: 令和 | AF36: 年 | AH36: 月 | AJ36: 日 | AL36: ： | AN36: ～
I37: 様 | AC37: 令和 | AF37: 年 | AH37: 月 | AJ37: 日 | AL37: ： | AN37: ～
I38: 様 | AC38: 令和 | AF38: 年 | AH38: 月 | AJ38: 日 | AL38: ： | AN38: ～
I39: 様 | AC39: 令和 | AF39: 年 | AH39: 月 | AJ39: 日 | AL39: ： | AN39: ～
I40: 様 | AC40: 令和 | AF40: 年 | AH40: 月 | AJ40: 日 | AL40: ： | AN40: ～
I41: 様 | AC41: 令和 | AF41: 年 | AH41: 月 | AJ41: 日 | AL41: ： | AN41: ～
I42: 様 | AC42: 令和 | AF42: 年 | AH42: 月 | AJ42: 日 | AL42: ： | AN42: ～
I43: 様 | AC43: 令和 | AF43: 年 | AH43: 月 | AJ43: 日 | AL43: ： | AN43: ～
...

Sheet 10
A1: ソーシャルワーカー室 業務日誌 | AH1: C.O.O | AL1: I.O.O | AP1: Ａ.Ｏ.Ｍ
H3: =曜日!B12 -> 令和5年 | M3: =曜日!C12 -> 9月 | P3: 10日 | S3: （ | T3: =曜日!D5 -> 日 | U3: ） | W3: 作成者 | Z3: ：
A5: 労務 状況 | D5: 勤務状況 | K5: 西舘 翔子 | T5: 大川 祥子 | AC5: 宇津木澤 育美 | AL5: 早狩 風花
K6: 澤里 皓輝 | T6: 石鉢 佳代
A8: 入退院 状況 | D8: 入院形態 | K8: 東病棟 | Q8: 西病棟 | W8: 北病棟 | AC8: 南病棟 | AI8: 合計 | AO8: 総数
K9: 男性 | N9: 女性 | Q9: 男性 | T9: 女性 | W9: 男性 | Z9: 女性 | AC9: 男性 | AF9: 女性 | AI9: 男性 | AL9: 女性
D10: 任意入院 | Z10: 0 | AI10: =K10+Q10+W10+AC10 -> 0 | AL10: =N10+T10+Z10+AF10 -> 0 | AO10: =AI14 -> 0
D11: 医療保護入院 | AI11: =K11+Q11+W11+AC11 -> 0 | AL11: =N11+T11+Z11+AF11 -> 0
D12: 措置入院 | AI12: =K12+Q12+W12+AC12 -> 0 | AL12: =N12+T12+Z12+AF12 -> 0
D13: 合計 | K13: =SUM(K10:M12) -> 0 | N13: =SUM(N10:P12) -> 0 | Q13: =SUM(Q10:S12) -> 0 | T13: =SUM(T10:V12) -> 0 | W13: =SUM(W10:Y12) -> 0 | Z13: =SUM(Z10:AB12) -> 0 | AC13: =SUM(AC10:AE12) -> 0 | AF13: =SUM(AF10:AH12) -> 0 | AI13: =SUM(K13+Q13+W13+AC13) -> 0 | AL13: =SUM(N13+T13+Z13+AF13) -> 0 | AO13: 人
K14: =K13+N13 -> 0 | Q14: =Q13+T13 -> 0 | W14: =W13+Z13 -> 0 | AC14: =AC13+AF13 -> 0 | AI14: =AI13+AL13 -> 0
F15: 患者様氏名 | N15: 入院形態 | T15: 担当Dr | Y15: 担当SW | AD15: 病棟 | AJ15: 備考欄
D16: 入院 | L16: 様
L17: 様
L18: 様
L19: 様
L20: 様
D21: 退院 | L21: 様
L22: 様
L23: 様
L24: 様
L25: 様
D26: 転棟 ･ 入院形態変更 | L26: 様
L27: 様
L28: 様
L29: 様
L30: 様
A31: 患者様 関連 | D31: 患者様氏名 | K31: 担当Dr | P31: 病棟 | S31: 制限内容 | X31: 制限時間 | AC31: 開始日時 | AO31: 備考
I32: 様 | AC32: 令和 | AF32: 年 | AH32: 月 | AJ32: 日 | AL32: ： | AN32: ～
I33: 様 | AC33: 令和 | AF33: 年 | AH33: 月 | AJ33: 日 | AL33: ： | AN33: ～
I34: 様 | AC34: 令和 | AF34: 年 | AH34: 月 | AJ34: 日 | AL34: ： | AN34: ～
I35: 様 | AC35: 令和 | AF35: 年 | AH35: 月 | AJ35: 日 | AL35: ： | AN35: ～
I36: 様 | AC36: 令和 | AF36: 年 | AH36: 月 | AJ36: 日 | AL36: ： | AN36: ～
I37: 様 | AC37: 令和 | AF37: 年 | AH37: 月 | AJ37: 日 | AL37: ： | AN37: ～
I38: 様 | AC38: 令和 | AF38: 年 | AH38: 月 | AJ38: 日 | AL38: ： | AN38: ～
I39: 様 | AC39: 令和 | AF39: 年 | AH39: 月 | AJ39: 日 | AL39: ： | AN39: ～
I40: 様 | AC40: 令和 | AF40: 年 | AH40: 月 | AJ40: 日 | AL40: ： | AN40: ～
I41: 様 | AC41: 令和 | AF41: 年 | AH41: 月 | AJ41: 日 | AL41: ： | AN41: ～
I42: 様 | AC42: 令和 | AF42: 年 | AH42: 月 | AJ42: 日 | AL42: ： | AN42: ～
I43: 様 | AC43: 令和 | AF43: 年 | AH43: 月 | AJ43: 日 | AL43: ： | AN43: ～
...

Sheet 11
A1: ソーシャルワーカー室 業務日誌 | AH1: C.O.O | AL1: I.O.O | AP1: Ａ.Ｏ.Ｍ
H3: =曜日!B12 -> 令和5年 | M3: =曜日!C12 -> 9月 | P3: 11日 | S3: （ | T3: =曜日!D6 -> 月 | U3: ） | W3: 作成者 | Z3: ：
A5: 労務 状況 | D5: 勤務状況 | K5: 西舘 翔子 | T5: 大川 祥子 | AC5: 宇津木澤 育美 | AL5: 早狩 風花
K6: 澤里 皓輝 | T6: 石鉢 佳代
A8: 入退院 状況 | D8: 入院形態 | K8: 東病棟 | Q8: 西病棟 | W8: 北病棟 | AC8: 南病棟 | AI8: 合計 | AO8: 総数
K9: 男性 | N9: 女性 | Q9: 男性 | T9: 女性 | W9: 男性 | Z9: 女性 | AC9: 男性 | AF9: 女性 | AI9: 男性 | AL9: 女性
D10: 任意入院 | Z10: 0 | AI10: =K10+Q10+W10+AC10 -> 0 | AL10: =N10+T10+Z10+AF10 -> 0 | AO10: =AI14 -> 0
D11: 医療保護入院 | AI11: =K11+Q11+W11+AC11 -> 0 | AL11: =N11+T11+Z11+AF11 -> 0
D12: 措置入院 | AI12: =K12+Q12+W12+AC12 -> 0 | AL12: =N12+T12+Z12+AF12 -> 0
D13: 合計 | K13: =SUM(K10:M12) -> 0 | N13: =SUM(N10:P12) -> 0 | Q13: =SUM(Q10:S12) -> 0 | T13: =SUM(T10:V12) -> 0 | W13: =SUM(W10:Y12) -> 0 | Z13: =SUM(Z10:AB12) -> 0 | AC13: =SUM(AC10:AE12) -> 0 | AF13: =SUM(AF10:AH12) -> 0 | AI13: =SUM(K13+Q13+W13+AC13) -> 0 | AL13: =SUM(N13+T13+Z13+AF13) -> 0 | AO13: 人
K14: =K13+N13 -> 0 | Q14: =Q13+T13 -> 0 | W14: =W13+Z13 -> 0 | AC14: =AC13+AF13 -> 0 | AI14: =AI13+AL13 -> 0
F15: 患者様氏名 | N15: 入院形態 | T15: 担当Dr | Y15: 担当SW | AD15: 病棟 | AJ15: 備考欄
D16: 入院 | L16: 様
L17: 様
L18: 様
L19: 様
L20: 様
D21: 退院 | L21: 様
L22: 様
L23: 様
L24: 様
L25: 様
D26: 転棟 ･ 入院形態変更 | L26: 様
L27: 様
L28: 様
L29: 様
L30: 様
A31: 患者様 関連 | D31: 患者様氏名 | K31: 担当Dr | P31: 病棟 | S31: 制限内容 | X31: 制限時間 | AC31: 開始日時 | AO31: 備考
I32: 様 | AC32: 令和 | AF32: 年 | AH32: 月 | AJ32: 日 | AL32: ： | AN32: ～
I33: 様 | AC33: 令和 | AF33: 年 | AH33: 月 | AJ33: 日 | AL33: ： | AN33: ～
I34: 様 | AC34: 令和 | AF34: 年 | AH34: 月 | AJ34: 日 | AL34: ： | AN34: ～
I35: 様 | AC35: 令和 | AF35: 年 | AH35: 月 | AJ35: 日 | AL35: ： | AN35: ～
I36: 様 | AC36: 令和 | AF36: 年 | AH36: 月 | AJ36: 日 | AL36: ： | AN36: ～
I37: 様 | AC37: 令和 | AF37: 年 | AH37: 月 | AJ37: 日 | AL37: ： | AN37: ～
I38: 様 | AC38: 令和 | AF38: 年 | AH38: 月 | AJ38: 日 | AL38: ： | AN38: ～
I39: 様 | AC39: 令和 | AF39: 年 | AH39: 月 | AJ39: 日 | AL39: ： | AN39: ～
I40: 様 | AC40: 令和 | AF40: 年 | AH40: 月 | AJ40: 日 | AL40: ： | AN40: ～
I41: 様 | AC41: 令和 | AF41: 年 | AH41: 月 | AJ41: 日 | AL41: ： | AN41: ～
I42: 様 | AC42: 令和 | AF42: 年 | AH42: 月 | AJ42: 日 | AL42: ： | AN42: ～
I43: 様 | AC43: 令和 | AF43: 年 | AH43: 月 | AJ43: 日 | AL43: ： | AN43: ～
...

Sheet 12
A1: ソーシャルワーカー室 業務日誌 | AH1: C.O.O | AL1: I.O.O | AP1: Ａ.Ｏ.Ｍ
H3: =曜日!B12 -> 令和5年 | M3: =曜日!C12 -> 9月 | P3: 12日 | S3: （ | T3: =曜日!D7 -> 火 | U3: ） | W3: 作成者 | Z3: ：
A5: 労務 状況 | D5: 勤務状況 | K5: 西舘 翔子 | T5: 大川 祥子 | AC5: 宇津木澤 育美 | AL5: 早狩 風花
K6: 澤里 皓輝 | T6: 石鉢 佳代
A8: 入退院 状況 | D8: 入院形態 | K8: 東病棟 | Q8: 西病棟 | W8: 北病棟 | AC8: 南病棟 | AI8: 合計 | AO8: 総数
K9: 男性 | N9: 女性 | Q9: 男性 | T9: 女性 | W9: 男性 | Z9: 女性 | AC9: 男性 | AF9: 女性 | AI9: 男性 | AL9: 女性
D10: 任意入院 | Z10: 0 | AI10: =K10+Q10+W10+AC10 -> 0 | AL10: =N10+T10+Z10+AF10 -> 0 | AO10: =AI14 -> 0
D11: 医療保護入院 | AI11: =K11+Q11+W11+AC11 -> 0 | AL11: =N11+T11+Z11+AF11 -> 0
D12: 措置入院 | AI12: =K12+Q12+W12+AC12 -> 0 | AL12: =N12+T12+Z12+AF12 -> 0
D13: 合計 | K13: =SUM(K10:M12) -> 0 | N13: =SUM(N10:P12) -> 0 | Q13: =SUM(Q10:S12) -> 0 | T13: =SUM(T10:V12) -> 0 | W13: =SUM(W10:Y12) -> 0 | Z13: =SUM(Z10:AB12) -> 0 | AC13: =SUM(AC10:AE12) -> 0 | AF13: =SUM(AF10:AH12) -> 0 | AI13: =SUM(K13+Q13+W13+AC13) -> 0 | AL13: =SUM(N13+T13+Z13+AF13) -> 0 | AO13: 人
K14: =K13+N13 -> 0 | Q14: =Q13+T13 -> 0 | W14: =W13+Z13 -> 0 | AC14: =AC13+AF13 -> 0 | AI14: =AI13+AL13 -> 0
F15: 患者様氏名 | N15: 入院形態 | T15: 担当Dr | Y15: 担当SW | AD15: 病棟 | AJ15: 備考欄
D16: 入院 | L16: 様
L17: 様
L18: 様
L19: 様
L20: 様
D21: 退院 | L21: 様
L22: 様
L23: 様
L24: 様
L25: 様
D26: 転棟 ･ 入院形態変更 | L26: 様
L27: 様
L28: 様
L29: 様
L30: 様
A31: 患者様 関連 | D31: 患者様氏名 | K31: 担当Dr | P31: 病棟 | S31: 制限内容 | X31: 制限時間 | AC31: 開始日時 | AO31: 備考
I32: 様 | AC32: 令和 | AF32: 年 | AH32: 月 | AJ32: 日 | AL32: ： | AN32: ～
I33: 様 | AC33: 令和 | AF33: 年 | AH33: 月 | AJ33: 日 | AL33: ： | AN33: ～
I34: 様 | AC34: 令和 | AF34: 年 | AH34: 月 | AJ34: 日 | AL34: ： | AN34: ～
I35: 様 | AC35: 令和 | AF35: 年 | AH35: 月 | AJ35: 日 | AL35: ： | AN35: ～
I36: 様 | AC36: 令和 | AF36: 年 | AH36: 月 | AJ36: 日 | AL36: ： | AN36: ～
I37: 様 | AC37: 令和 | AF37: 年 | AH37: 月 | AJ37: 日 | AL37: ： | AN37: ～
I38: 様 | AC38: 令和 | AF38: 年 | AH38: 月 | AJ38: 日 | AL38: ： | AN38: ～
I39: 様 | AC39: 令和 | AF39: 年 | AH39: 月 | AJ39: 日 | AL39: ： | AN39: ～
I40: 様 | AC40: 令和 | AF40: 年 | AH40: 月 | AJ40: 日 | AL40: ： | AN40: ～
I41: 様 | AC41: 令和 | AF41: 年 | AH41: 月 | AJ41: 日 | AL41: ： | AN41: ～
I42: 様 | AC42: 令和 | AF42: 年 | AH42: 月 | AJ42: 日 | AL42: ： | AN42: ～
I43: 様 | AC43: 令和 | AF43: 年 | AH43: 月 | AJ43: 日 | AL43: ： | AN43: ～
...

Sheet 13
A1: ソーシャルワーカー室 業務日誌 | AH1: C.O.O | AL1: I.O.O | AP1: Ａ.Ｏ.Ｍ
H3: =曜日!B12 -> 令和5年 | M3: =曜日!C12 -> 9月 | P3: 13日 | S3: （ | T3: =曜日!D8 -> 水 | U3: ） | W3: 作成者 | Z3: ：
A5: 労務 状況 | D5: 勤務状況 | K5: 西舘 翔子 | T5: 大川 祥子 | AC5: 宇津木澤 育美 | AL5: 早狩 風花
K6: 澤里 皓輝 | T6: 石鉢 佳代
A8: 入退院 状況 | D8: 入院形態 | K8: 東病棟 | Q8: 西病棟 | W8: 北病棟 | AC8: 南病棟 | AI8: 合計 | AO8: 総数
K9: 男性 | N9: 女性 | Q9: 男性 | T9: 女性 | W9: 男性 | Z9: 女性 | AC9: 男性 | AF9: 女性 | AI9: 男性 | AL9: 女性
D10: 任意入院 | Z10: 0 | AI10: =K10+Q10+W10+AC10 -> 0 | AL10: =N10+T10+Z10+AF10 -> 0 | AO10: =AI14 -> 0
D11: 医療保護入院 | AI11: =K11+Q11+W11+AC11 -> 0 | AL11: =N11+T11+Z11+AF11 -> 0
D12: 措置入院 | AI12: =K12+Q12+W12+AC12 -> 0 | AL12: =N12+T12+Z12+AF12 -> 0
D13: 合計 | K13: =SUM(K10:M12) -> 0 | N13: =SUM(N10:P12) -> 0 | Q13: =SUM(Q10:S12) -> 0 | T13: =SUM(T10:V12) -> 0 | W13: =SUM(W10:Y12) -> 0 | Z13: =SUM(Z10:AB12) -> 0 | AC13: =SUM(AC10:AE12) -> 0 | AF13: =SUM(AF10:AH12) -> 0 | AI13: =SUM(K13+Q13+W13+AC13) -> 0 | AL13: =SUM(N13+T13+Z13+AF13) -> 0 | AO13: 人
K14: =K13+N13 -> 0 | Q14: =Q13+T13 -> 0 | W14: =W13+Z13 -> 0 | AC14: =AC13+AF13 -> 0 | AI14: =AI13+AL13 -> 0
F15: 患者様氏名 | N15: 入院形態 | T15: 担当Dr | Y15: 担当SW | AD15: 病棟 | AJ15: 備考欄
D16: 入院 | L16: 様
L17: 様
L18: 様
L19: 様
L20: 様
D21: 退院 | L21: 様
L22: 様
L23: 様
L24: 様
L25: 様
D26: 転棟 ･ 入院形態変更 | L26: 様
L27: 様
L28: 様
L29: 様
L30: 様
A31: 患者様 関連 | D31: 患者様氏名 | K31: 担当Dr | P31: 病棟 | S31: 制限内容 | X31: 制限時間 | AC31: 開始日時 | AO31: 備考
I32: 様 | AC32: 令和 | AF32: 年 | AH32: 月 | AJ32: 日 | AL32: ： | AN32: ～
I33: 様 | AC33: 令和 | AF33: 年 | AH33: 月 | AJ33: 日 | AL33: ： | AN33: ～
I34: 様 | AC34: 令和 | AF34: 年 | AH34: 月 | AJ34: 日 | AL34: ： | AN34: ～
I35: 様 | AC35: 令和 | AF35: 年 | AH35: 月 | AJ35: 日 | AL35: ： | AN35: ～
I36: 様 | AC36: 令和 | AF36: 年 | AH36: 月 | AJ36: 日 | AL36: ： | AN36: ～
I37: 様 | AC37: 令和 | AF37: 年 | AH37: 月 | AJ37: 日 | AL37: ： | AN37: ～
I38: 様 | AC38: 令和 | AF38: 年 | AH38: 月 | AJ38: 日 | AL38: ： | AN38: ～
I39: 様 | AC39: 令和 | AF39: 年 | AH39: 月 | AJ39: 日 | AL39: ： | AN39: ～
I40: 様 | AC40: 令和 | AF40: 年 | AH40: 月 | AJ40: 日 | AL40: ： | AN40: ～
I41: 様 | AC41: 令和 | AF41: 年 | AH41: 月 | AJ41: 日 | AL41: ： | AN41: ～
I42: 様 | AC42: 令和 | AF42: 年 | AH42: 月 | AJ42: 日 | AL42: ： | AN42: ～
I43: 様 | AC43: 令和 | AF43: 年 | AH43: 月 | AJ43: 日 | AL43: ： | AN43: ～
...

Sheet 14
A1: ソーシャルワーカー室 業務日誌 | AH1: C.O.O | AL1: I.O.O | AP1: Ａ.Ｏ.Ｍ
H3: =曜日!B12 -> 令和5年 | M3: =曜日!C12 -> 9月 | P3: 14日 | S3: （ | T3: =曜日!D9 -> 木 | U3: ） | W3: 作成者 | Z3: ：
A5: 労務 状況 | D5: 勤務状況 | K5: 西舘 翔子 | T5: 大川 祥子 | AC5: 宇津木澤 育美 | AL5: 早狩 風花
K6: 澤里 皓輝 | T6: 石鉢 佳代
A8: 入退院 状況 | D8: 入院形態 | K8: 東病棟 | Q8: 西病棟 | W8: 北病棟 | AC8: 南病棟 | AI8: 合計 | AO8: 総数
K9: 男性 | N9: 女性 | Q9: 男性 | T9: 女性 | W9: 男性 | Z9: 女性 | AC9: 男性 | AF9: 女性 | AI9: 男性 | AL9: 女性
D10: 任意入院 | Z10: 0 | AI10: =K10+Q10+W10+AC10 -> 0 | AL10: =N10+T10+Z10+AF10 -> 0 | AO10: =AI14 -> 0
D11: 医療保護入院 | AI11: =K11+Q11+W11+AC11 -> 0 | AL11: =N11+T11+Z11+AF11 -> 0
D12: 措置入院 | AI12: =K12+Q12+W12+AC12 -> 0 | AL12: =N12+T12+Z12+AF12 -> 0
D13: 合計 | K13: =SUM(K10:M12) -> 0 | N13: =SUM(N10:P12) -> 0 | Q13: =SUM(Q10:S12) -> 0 | T13: =SUM(T10:V12) -> 0 | W13: =SUM(W10:Y12) -> 0 | Z13: =SUM(Z10:AB12) -> 0 | AC13: =SUM(AC10:AE12) -> 0 | AF13: =SUM(AF10:AH12) -> 0 | AI13: =SUM(K13+Q13+W13+AC13) -> 0 | AL13: =SUM(N13+T13+Z13+AF13) -> 0 | AO13: 人
K14: =K13+N13 -> 0 | Q14: =Q13+T13 -> 0 | W14: =W13+Z13 -> 0 | AC14: =AC13+AF13 -> 0 | AI14: =AI13+AL13 -> 0
F15: 患者様氏名 | N15: 入院形態 | T15: 担当Dr | Y15: 担当SW | AD15: 病棟 | AJ15: 備考欄
D16: 入院 | L16: 様
L17: 様
L18: 様
L19: 様
L20: 様
D21: 退院 | L21: 様
L22: 様
L23: 様
L24: 様
L25: 様
D26: 転棟 ･ 入院形態変更 | L26: 様
L27: 様
L28: 様
L29: 様
L30: 様
A31: 患者様 関連 | D31: 患者様氏名 | K31: 担当Dr | P31: 病棟 | S31: 制限内容 | X31: 制限時間 | AC31: 開始日時 | AO31: 備考
I32: 様 | AC32: 令和 | AF32: 年 | AH32: 月 | AJ32: 日 | AL32: ： | AN32: ～
I33: 様 | AC33: 令和 | AF33: 年 | AH33: 月 | AJ33: 日 | AL33: ： | AN33: ～
I34: 様 | AC34: 令和 | AF34: 年 | AH34: 月 | AJ34: 日 | AL34: ： | AN34: ～
I35: 様 | AC35: 令和 | AF35: 年 | AH35: 月 | AJ35: 日 | AL35: ： | AN35: ～
I36: 様 | AC36: 令和 | AF36: 年 | AH36: 月 | AJ36: 日 | AL36: ： | AN36: ～
I37: 様 | AC37: 令和 | AF37: 年 | AH37: 月 | AJ37: 日 | AL37: ： | AN37: ～
I38: 様 | AC38: 令和 | AF38: 年 | AH38: 月 | AJ38: 日 | AL38: ： | AN38: ～
I39: 様 | AC39: 令和 | AF39: 年 | AH39: 月 | AJ39: 日 | AL39: ： | AN39: ～
I40: 様 | AC40: 令和 | AF40: 年 | AH40: 月 | AJ40: 日 | AL40: ： | AN40: ～
I41: 様 | AC41: 令和 | AF41: 年 | AH41: 月 | AJ41: 日 | AL41: ： | AN41: ～
I42: 様 | AC42: 令和 | AF42: 年 | AH42: 月 | AJ42: 日 | AL42: ： | AN42: ～
I43: 様 | AC43: 令和 | AF43: 年 | AH43: 月 | AJ43: 日 | AL43: ： | AN43: ～
...

Sheet 15
A1: ソーシャルワーカー室 業務日誌 | AH1: C.O.O | AL1: I.O.O | AP1: Ａ.Ｏ.Ｍ
H3: =曜日!B12 -> 令和5年 | M3: =曜日!C12 -> 9月 | P3: 15日 | S3: （ | T3: =曜日!D3 -> 金 | U3: ） | W3: 作成者 | Z3: ：
A5: 労務 状況 | D5: 勤務状況 | K5: 西舘 翔子 | T5: 大川 祥子 | AC5: 宇津木澤 育美 | AL5: 早狩 風花
K6: 澤里 皓輝 | T6: 石鉢 佳代
A8: 入退院 状況 | D8: 入院形態 | K8: 東病棟 | Q8: 西病棟 | W8: 北病棟 | AC8: 南病棟 | AI8: 合計 | AO8: 総数
K9: 男性 | N9: 女性 | Q9: 男性 | T9: 女性 | W9: 男性 | Z9: 女性 | AC9: 男性 | AF9: 女性 | AI9: 男性 | AL9: 女性
D10: 任意入院 | Z10: 0 | AI10: =K10+Q10+W10+AC10 -> 0 | AL10: =N10+T10+Z10+AF10 -> 0 | AO10: =AI14 -> 0
D11: 医療保護入院 | AI11: =K11+Q11+W11+AC11 -> 0 | AL11: =N11+T11+Z11+AF11 -> 0
D12: 措置入院 | AI12: =K12+Q12+W12+AC12 -> 0 | AL12: =N12+T12+Z12+AF12 -> 0
D13: 合計 | K13: =SUM(K10:M12) -> 0 | N13: =SUM(N10:P12) -> 0 | Q13: =SUM(Q10:S12) -> 0 | T13: =SUM(T10:V12) -> 0 | W13: =SUM(W10:Y12) -> 0 | Z13: =SUM(Z10:AB12) -> 0 | AC13: =SUM(AC10:AE12) -> 0 | AF13: =SUM(AF10:AH12) -> 0 | AI13: =SUM(K13+Q13+W13+AC13) -> 0 | AL13: =SUM(N13+T13+Z13+AF13) -> 0 | AO13: 人
K14: =K13+N13 -> 0 | Q14: =Q13+T13 -> 0 | W14: =W13+Z13 -> 0 | AC14: =AC13+AF13 -> 0 | AI14: =AI13+AL13 -> 0
F15: 患者様氏名 | N15: 入院形態 | T15: 担当Dr | Y15: 担当SW | AD15: 病棟 | AJ15: 備考欄
D16: 入院 | L16: 様
L17: 様
L18: 様
L19: 様
L20: 様
D21: 退院 | L21: 様
L22: 様
L23: 様
L24: 様
L25: 様
D26: 転棟 ･ 入院形態変更 | L26: 様
L27: 様
L28: 様
L29: 様
L30: 様
L31: 様
A32: 患者様 関連 | AC32: 開始日時 | AO32: 備考
I33: 様 | AC33: 令和 | AF33: 年 | AH33: 月 | AJ33: 日 | AL33: ： | AN33: ～
I34: 様 | AC34: 令和 | AF34: 年 | AH34: 月 | AJ34: 日 | AL34: ： | AN34: ～
I35: 様 | AC35: 令和 | AF35: 年 | AH35: 月 | AJ35: 日 | AL35: ： | AN35: ～
I36: 様 | AC36: 令和 | AF36: 年 | AH36: 月 | AJ36: 日 | AL36: ： | AN36: ～
I37: 様 | AC37: 令和 | AF37: 年 | AH37: 月 | AJ37: 日 | AL37: ： | AN37: ～
I38: 様 | AC38: 令和 | AF38: 年 | AH38: 月 | AJ38: 日 | AL38: ： | AN38: ～
I39: 様 | AC39: 令和 | AF39: 年 | AH39: 月 | AJ39: 日 | AL39: ： | AN39: ～
I40: 様 | AC40: 令和 | AF40: 年 | AH40: 月 | AJ40: 日 | AL40: ： | AN40: ～
I41: 様 | AC41: 令和 | AF41: 年 | AH41: 月 | AJ41: 日 | AL41: ： | AN41: ～
I42: 様 | AC42: 令和 | AF42: 年 | AH42: 月 | AJ42: 日 | AL42: ： | AN42: ～
I43: 様 | AC43: 令和 | AF43: 年 | AH43: 月 | AJ43: 日 | AL43: ： | AN43: ～
...

Sheet 16
A1: ソーシャルワーカー室 業務日誌 | AH1: C.O.O | AL1: I.O.O | AP1: Ａ.Ｏ.Ｍ
H3: =曜日!B12 -> 令和5年 | M3: =曜日!C12 -> 9月 | P3: 16日 | S3: （ | T3: =曜日!D4 -> 土 | U3: ） | W3: 作成者 | Z3: ：
A5: 労務 状況 | D5: 勤務状況 | K5: 西舘 翔子 | T5: 大川 祥子 | AC5: 宇津木澤 育美 | AL5: 早狩 風花
K6: 澤里 皓輝 | T6: 石鉢 佳代
A8: 入退院 状況 | D8: 入院形態 | K8: 東病棟 | Q8: 西病棟 | W8: 北病棟 | AC8: 南病棟 | AI8: 合計 | AO8: 総数
K9: 男性 | N9: 女性 | Q9: 男性 | T9: 女性 | W9: 男性 | Z9: 女性 | AC9: 男性 | AF9: 女性 | AI9: 男性 | AL9: 女性
D10: 任意入院 | Z10: 0 | AI10: =K10+Q10+W10+AC10 -> 0 | AL10: =N10+T10+Z10+AF10 -> 0 | AO10: =AI14 -> 0
D11: 医療保護入院 | AI11: =K11+Q11+W11+AC11 -> 0 | AL11: =N11+T11+Z11+AF11 -> 0
D12: 措置入院 | AI12: =K12+Q12+W12+AC12 -> 0 | AL12: =N12+T12+Z12+AF12 -> 0
D13: 合計 | K13: =SUM(K10:M12) -> 0 | N13: =SUM(N10:P12) -> 0 | Q13: =SUM(Q10:S12) -> 0 | T13: =SUM(T10:V12) -> 0 | W13: =SUM(W10:Y12) -> 0 | Z13: =SUM(Z10:AB12) -> 0 | AC13: =SUM(AC10:AE12) -> 0 | AF13: =SUM(AF10:AH12) -> 0 | AI13: =SUM(K13+Q13+W13+AC13) -> 0 | AL13: =SUM(N13+T13+Z13+AF13) -> 0 | AO13: 人
K14: =K13+N13 -> 0 | Q14: =Q13+T13 -> 0 | W14: =W13+Z13 -> 0 | AC14: =AC13+AF13 -> 0 | AI14: =AI13+AL13 -> 0
F15: 患者様氏名 | N15: 入院形態 | T15: 担当Dr | Y15: 担当SW | AD15: 病棟 | AJ15: 備考欄
D16: 入院 | L16: 様
L17: 様
L18: 様
L19: 様
L20: 様
D21: 退院 | L21: 様
L22: 様
L23: 様
L24: 様
L25: 様
D26: 転棟 ･ 入院形態変更 | L26: 様
L27: 様
L28: 様
L29: 様
L30: 様
A31: 患者様 関連 | D31: 患者様氏名 | K31: 担当Dr | P31: 病棟 | S31: 制限内容 | X31: 制限時間 | AC31: 開始日時 | AO31: 備考
I32: 様 | AC32: 令和 | AF32: 年 | AH32: 月 | AJ32: 日 | AL32: ： | AN32: ～
I33: 様 | AC33: 令和 | AF33: 年 | AH33: 月 | AJ33: 日 | AL33: ： | AN33: ～
I34: 様 | AC34: 令和 | AF34: 年 | AH34: 月 | AJ34: 日 | AL34: ： | AN34: ～
I35: 様 | AC35: 令和 | AF35: 年 | AH35: 月 | AJ35: 日 | AL35: ： | AN35: ～
I36: 様 | AC36: 令和 | AF36: 年 | AH36: 月 | AJ36: 日 | AL36: ： | AN36: ～
I37: 様 | AC37: 令和 | AF37: 年 | AH37: 月 | AJ37: 日 | AL37: ： | AN37: ～
I38: 様 | AC38: 令和 | AF38: 年 | AH38: 月 | AJ38: 日 | AL38: ： | AN38: ～
I39: 様 | AC39: 令和 | AF39: 年 | AH39: 月 | AJ39: 日 | AL39: ： | AN39: ～
I40: 様 | AC40: 令和 | AF40: 年 | AH40: 月 | AJ40: 日 | AL40: ： | AN40: ～
I41: 様 | AC41: 令和 | AF41: 年 | AH41: 月 | AJ41: 日 | AL41: ： | AN41: ～
I42: 様 | AC42: 令和 | AF42: 年 | AH42: 月 | AJ42: 日 | AL42: ： | AN42: ～
I43: 様 | AC43: 令和 | AF43: 年 | AH43: 月 | AJ43: 日 | AL43: ： | AN43: ～
...

Sheet 17
A1: ソーシャルワーカー室 業務日誌 | AH1: C.O.O | AL1: I.O.O | AP1: Ａ.Ｏ.Ｍ
H3: =曜日!B12 -> 令和5年 | M3: =曜日!C12 -> 9月 | P3: 17日 | S3: （ | T3: =曜日!D5 -> 日 | U3: ） | W3: 作成者 | Z3: ：
A5: 労務 状況 | D5: 勤務状況 | K5: 西舘 翔子 | T5: 大川 祥子 | AC5: 宇津木澤 育美 | AL5: 早狩 風花
K6: 澤里 皓輝 | T6: 石鉢 佳代
A8: 入退院 状況 | D8: 入院形態 | K8: 東病棟 | Q8: 西病棟 | W8: 北病棟 | AC8: 南病棟 | AI8: 合計 | AO8: 総数
K9: 男性 | N9: 女性 | Q9: 男性 | T9: 女性 | W9: 男性 | Z9: 女性 | AC9: 男性 | AF9: 女性 | AI9: 男性 | AL9: 女性
D10: 任意入院 | AI10: =K10+Q10+W10+AC10 -> 0 | AL10: =N10+T10+Z10+AF10 -> 0 | AO10: =AI14 -> 0
D11: 医療保護入院 | AI11: =K11+Q11+W11+AC11 -> 0 | AL11: =N11+T11+Z11+AF11 -> 0
D12: 措置入院 | AI12: =K12+Q12+W12+AC12 -> 0 | AL12: =N12+T12+Z12+AF12 -> 0
D13: 合計 | K13: =SUM(K10:M12) -> 0 | N13: =SUM(N10:P12) -> 0 | Q13: =SUM(Q10:S12) -> 0 | T13: =SUM(T10:V12) -> 0 | W13: =SUM(W10:Y12) -> 0 | Z13: =SUM(Z10:AB12) -> 0 | AC13: =SUM(AC10:AE12) -> 0 | AF13: =SUM(AF10:AH12) -> 0 | AI13: =SUM(K13+Q13+W13+AC13) -> 0 | AL13: =SUM(N13+T13+Z13+AF13) -> 0 | AO13: 人
K14: =K13+N13 -> 0 | Q14: =Q13+T13 -> 0 | W14: =W13+Z13 -> 0 | AC14: =AC13+AF13 -> 0 | AI14: =AI13+AL13 -> 0
F15: 患者様氏名 | N15: 入院形態 | T15: 担当Dr | Y15: 担当SW | AD15: 病棟 | AJ15: 備考欄
D16: 入院 | L16: 様
L17: 様
L18: 様
L19: 様
L20: 様
D21: 退院 | L21: 様
L22: 様
L23: 様
L24: 様
L25: 様
D26: 転棟 ･ 入院形態変更 | L26: 様
L27: 様
L28: 様
L29: 様
L30: 様
A31: 患者様 関連 | D31: 患者様氏名 | K31: 担当Dr | P31: 病棟 | S31: 制限内容 | X31: 制限時間 | AC31: 開始日時 | AO31: 備考
I32: 様 | AC32: 令和 | AF32: 年 | AH32: 月 | AJ32: 日 | AL32: ： | AN32: ～
I33: 様 | AC33: 令和 | AF33: 年 | AH33: 月 | AJ33: 日 | AL33: ： | AN33: ～
I34: 様 | AC34: 令和 | AF34: 年 | AH34: 月 | AJ34: 日 | AL34: ： | AN34: ～
I35: 様 | AC35: 令和 | AF35: 年 | AH35: 月 | AJ35: 日 | AL35: ： | AN35: ～
I36: 様 | AC36: 令和 | AF36: 年 | AH36: 月 | AJ36: 日 | AL36: ： | AN36: ～
I37: 様 | AC37: 令和 | AF37: 年 | AH37: 月 | AJ37: 日 | AL37: ： | AN37: ～
I38: 様 | AC38: 令和 | AF38: 年 | AH38: 月 | AJ38: 日 | AL38: ： | AN38: ～
I39: 様 | AC39: 令和 | AF39: 年 | AH39: 月 | AJ39: 日 | AL39: ： | AN39: ～
I40: 様 | AC40: 令和 | AF40: 年 | AH40: 月 | AJ40: 日 | AL40: ： | AN40: ～
I41: 様 | AC41: 令和 | AF41: 年 | AH41: 月 | AJ41: 日 | AL41: ： | AN41: ～
I42: 様 | AC42: 令和 | AF42: 年 | AH42: 月 | AJ42: 日 | AL42: ： | AN42: ～
I43: 様 | AC43: 令和 | AF43: 年 | AH43: 月 | AJ43: 日 | AL43: ： | AN43: ～
...

Sheet 18
A1: ソーシャルワーカー室 業務日誌 | AH1: C.O.O | AL1: I.O.O | AP1: Ａ.Ｏ.Ｍ
H3: =曜日!B12 -> 令和5年 | M3: =曜日!C12 -> 9月 | P3: 18日 | S3: （ | T3: =曜日!D6 -> 月 | U3: ） | W3: 作成者 | Z3: ：
A5: 労務 状況 | D5: 勤務状況 | K5: 西舘 翔子 | T5: 大川 祥子 | AC5: 宇津木澤 育美 | AL5: 早狩 風花
K6: 澤里 皓輝 | T6: 石鉢 佳代
A8: 入退院 状況 | D8: 入院形態 | K8: 東病棟 | Q8: 西病棟 | W8: 北病棟 | AC8: 南病棟 | AI8: 合計 | AO8: 総数
K9: 男性 | N9: 女性 | Q9: 男性 | T9: 女性 | W9: 男性 | Z9: 女性 | AC9: 男性 | AF9: 女性 | AI9: 男性 | AL9: 女性
D10: 任意入院 | AI10: =K10+Q10+W10+AC10 -> 0 | AL10: =N10+T10+Z10+AF10 -> 0 | AO10: =AI14 -> 0
D11: 医療保護入院 | AI11: =K11+Q11+W11+AC11 -> 0 | AL11: =N11+T11+Z11+AF11 -> 0
D12: 措置入院 | AI12: =K12+Q12+W12+AC12 -> 0 | AL12: =N12+T12+Z12+AF12 -> 0
D13: 合計 | K13: =SUM(K10:M12) -> 0 | N13: =SUM(N10:P12) -> 0 | Q13: =SUM(Q10:S12) -> 0 | T13: =SUM(T10:V12) -> 0 | W13: =SUM(W10:Y12) -> 0 | Z13: =SUM(Z10:AB12) -> 0 | AC13: =SUM(AC10:AE12) -> 0 | AF13: =SUM(AF10:AH12) -> 0 | AI13: =SUM(K13+Q13+W13+AC13) -> 0 | AL13: =SUM(N13+T13+Z13+AF13) -> 0 | AO13: 人
K14: =K13+N13 -> 0 | Q14: =Q13+T13 -> 0 | W14: =W13+Z13 -> 0 | AC14: =AC13+AF13 -> 0 | AI14: =AI13+AL13 -> 0
F15: 患者様氏名 | N15: 入院形態 | T15: 担当Dr | Y15: 担当SW | AD15: 病棟 | AJ15: 備考欄
D16: 入院 | L16: 様
L17: 様
L18: 様
L19: 様
L20: 様
D21: 退院 | L21: 様
L22: 様
L23: 様
L24: 様
L25: 様
D26: 転棟 ･ 入院形態変更 | L26: 様
L27: 様
L28: 様
L29: 様
L30: 様
A31: 患者様 関連 | D31: 患者様氏名 | K31: 担当Dr | P31: 病棟 | S31: 制限内容 | X31: 制限時間 | AC31: 開始日時 | AO31: 備考
I32: 様 | AC32: 令和 | AF32: 年 | AH32: 月 | AJ32: 日 | AL32: ： | AN32: ～
I33: 様 | AC33: 令和 | AF33: 年 | AH33: 月 | AJ33: 日 | AL33: ： | AN33: ～
I34: 様 | AC34: 令和 | AF34: 年 | AH34: 月 | AJ34: 日 | AL34: ： | AN34: ～
I35: 様 | AC35: 令和 | AF35: 年 | AH35: 月 | AJ35: 日 | AL35: ： | AN35: ～
I36: 様 | AC36: 令和 | AF36: 年 | AH36: 月 | AJ36: 日 | AL36: ： | AN36: ～
I37: 様 | AC37: 令和 | AF37: 年 | AH37: 月 | AJ37: 日 | AL37: ： | AN37: ～
I38: 様 | AC38: 令和 | AF38: 年 | AH38: 月 | AJ38: 日 | AL38: ： | AN38: ～
I39: 様 | AC39: 令和 | AF39: 年 | AH39: 月 | AJ39: 日 | AL39: ： | AN39: ～
I40: 様 | AC40: 令和 | AF40: 年 | AH40: 月 | AJ40: 日 | AL40: ： | AN40: ～
I41: 様 | AC41: 令和 | AF41: 年 | AH41: 月 | AJ41: 日 | AL41: ： | AN41: ～
I42: 様 | AC42: 令和 | AF42: 年 | AH42: 月 | AJ42: 日 | AL42: ： | AN42: ～
I43: 様 | AC43: 令和 | AF43: 年 | AH43: 月 | AJ43: 日 | AL43: ： | AN43: ～
...

Sheet 19
A1: ソーシャルワーカー室 業務日誌 | AH1: C.O.O | AL1: I.O.O | AP1: Ａ.Ｏ.Ｍ
H3: =曜日!B12 -> 令和5年 | M3: =曜日!C12 -> 9月 | P3: 19日 | S3: （ | T3: =曜日!D7 -> 火 | U3: ） | W3: 作成者 | Z3: ：
A5: 労務 状況 | D5: 勤務状況 | K5: 西舘 翔子 | T5: 大川 祥子 | AC5: 宇津木澤 育美 | AL5: 早狩 風花
K6: 澤里 皓輝 | T6: 石鉢 佳代
A8: 入退院 状況 | D8: 入院形態 | K8: 東病棟 | Q8: 西病棟 | W8: 北病棟 | AC8: 南病棟 | AI8: 合計 | AO8: 総数
K9: 男性 | N9: 女性 | Q9: 男性 | T9: 女性 | W9: 男性 | Z9: 女性 | AC9: 男性 | AF9: 女性 | AI9: 男性 | AL9: 女性
D10: 任意入院 | AI10: =K10+Q10+W10+AC10 -> 0 | AL10: =N10+T10+Z10+AF10 -> 0 | AO10: =AI14 -> 0
D11: 医療保護入院 | AI11: =K11+Q11+W11+AC11 -> 0 | AL11: =N11+T11+Z11+AF11 -> 0
D12: 措置入院 | AI12: =K12+Q12+W12+AC12 -> 0 | AL12: =N12+T12+Z12+AF12 -> 0
D13: 合計 | K13: =SUM(K10:M12) -> 0 | N13: =SUM(N10:P12) -> 0 | Q13: =SUM(Q10:S12) -> 0 | T13: =SUM(T10:V12) -> 0 | W13: =SUM(W10:Y12) -> 0 | Z13: =SUM(Z10:AB12) -> 0 | AC13: =SUM(AC10:AE12) -> 0 | AF13: =SUM(AF10:AH12) -> 0 | AI13: =SUM(K13+Q13+W13+AC13) -> 0 | AL13: =SUM(N13+T13+Z13+AF13) -> 0 | AO13: 人
K14: =K13+N13 -> 0 | Q14: =Q13+T13 -> 0 | W14: =W13+Z13 -> 0 | AC14: =AC13+AF13 -> 0 | AI14: =AI13+AL13 -> 0
F15: 患者様氏名 | N15: 入院形態 | T15: 担当Dr | Y15: 担当SW | AD15: 病棟 | AJ15: 備考欄
D16: 入院 | L16: 様
L17: 様
L18: 様
L19: 様
L20: 様
D21: 退院 | L21: 様
L22: 様
L23: 様
L24: 様
L25: 様
D26: 転棟 ･ 入院形態変更 | L26: 様
L27: 様
L28: 様
L29: 様
L30: 様
A31: 患者様 関連 | D31: 患者様氏名 | K31: 担当Dr | P31: 病棟 | S31: 制限内容 | X31: 制限時間 | AC31: 開始日時 | AO31: 備考
I32: 様 | AC32: 令和 | AF32: 年 | AH32: 月 | AJ32: 日 | AL32: ： | AN32: ～
I33: 様 | AC33: 令和 | AF33: 年 | AH33: 月 | AJ33: 日 | AL33: ： | AN33: ～
I34: 様 | AC34: 令和 | AF34: 年 | AH34: 月 | AJ34: 日 | AL34: ： | AN34: ～
I35: 様 | AC35: 令和 | AF35: 年 | AH35: 月 | AJ35: 日 | AL35: ： | AN35: ～
I36: 様 | AC36: 令和 | AF36: 年 | AH36: 月 | AJ36: 日 | AL36: ： | AN36: ～
I37: 様 | AC37: 令和 | AF37: 年 | AH37: 月 | AJ37: 日 | AL37: ： | AN37: ～
I38: 様 | AC38: 令和 | AF38: 年 | AH38: 月 | AJ38: 日 | AL38: ： | AN38: ～
I39: 様 | AC39: 令和 | AF39: 年 | AH39: 月 | AJ39: 日 | AL39: ： | AN39: ～
I40: 様 | AC40: 令和 | AF40: 年 | AH40: 月 | AJ40: 日 | AL40: ： | AN40: ～
I41: 様 | AC41: 令和 | AF41: 年 | AH41: 月 | AJ41: 日 | AL41: ： | AN41: ～
I42: 様 | AC42: 令和 | AF42: 年 | AH42: 月 | AJ42: 日 | AL42: ： | AN42: ～
I43: 様 | AC43: 令和 | AF43: 年 | AH43: 月 | AJ43: 日 | AL43: ： | AN43: ～
...

Sheet 20
A1: ソーシャルワーカー室 業務日誌 | AH1: C.O.O | AL1: I.O.O | AP1: Ａ.Ｏ.Ｍ
H3: =曜日!B12 -> 令和5年 | M3: =曜日!C12 -> 9月 | P3: 20日 | S3: （ | T3: =曜日!D8 -> 水 | U3: ） | W3: 作成者 | Z3: ：
A5: 労務 状況 | D5: 勤務状況 | K5: 西舘 翔子 | T5: 大川 祥子 | AC5: 宇津木澤 育美 | AL5: 早狩 風花
K6: 澤里 皓輝 | T6: 石鉢 佳代
A8: 入退院 状況 | D8: 入院形態 | K8: 東病棟 | Q8: 西病棟 | W8: 北病棟 | AC8: 南病棟 | AI8: 合計 | AO8: 総数
K9: 男性 | N9: 女性 | Q9: 男性 | T9: 女性 | W9: 男性 | Z9: 女性 | AC9: 男性 | AF9: 女性 | AI9: 男性 | AL9: 女性
D10: 任意入院 | K10: 1 | AI10: =K10+Q10+W10+AC10 -> 1 | AL10: =N10+T10+Z10+AF10 -> 0 | AO10: =AI14 -> 1
D11: 医療保護入院 | AI11: =K11+Q11+W11+AC11 -> 0 | AL11: =N11+T11+Z11+AF11 -> 0
D12: 措置入院 | AI12: =K12+Q12+W12+AC12 -> 0 | AL12: =N12+T12+Z12+AF12 -> 0
D13: 合計 | K13: =SUM(K10:M12) -> 1 | N13: =SUM(N10:P12) -> 0 | Q13: =SUM(Q10:S12) -> 0 | T13: =SUM(T10:V12) -> 0 | W13: =SUM(W10:Y12) -> 0 | Z13: =SUM(Z10:AB12) -> 0 | AC13: =SUM(AC10:AE12) -> 0 | AF13: =SUM(AF10:AH12) -> 0 | AI13: =SUM(K13+Q13+W13+AC13) -> 1 | AL13: =SUM(N13+T13+Z13+AF13) -> 0 | AO13: 人
K14: =K13+N13 -> 1 | Q14: =Q13+T13 -> 0 | W14: =W13+Z13 -> 0 | AC14: =AC13+AF13 -> 0 | AI14: =AI13+AL13 -> 1
F15: 患者様氏名 | N15: 入院形態 | T15: 担当Dr | Y15: 担当SW | AD15: 病棟 | AJ15: 備考欄
D16: 入院 | L16: 様
L17: 様
L18: 様
L19: 様
L20: 様
D21: 退院 | L21: 様
L22: 様
L23: 様
L24: 様
L25: 様
D26: 転棟 ･ 入院形態変更 | L26: 様
L27: 様
L28: 様
L29: 様
L30: 様
A31: 患者様 関連 | D31: 患者様氏名 | K31: 担当Dr | P31: 病棟 | S31: 制限内容 | X31: 制限時間 | AC31: 開始日時 | AO31: 備考
I32: 様 | AC32: 令和 | AF32: 年 | AH32: 月 | AJ32: 日 | AL32: ： | AN32: ～
I33: 様 | AC33: 令和 | AF33: 年 | AH33: 月 | AJ33: 日 | AL33: ： | AN33: ～
I34: 様 | AC34: 令和 | AF34: 年 | AH34: 月 | AJ34: 日 | AL34: ： | AN34: ～
I35: 様 | AC35: 令和 | AF35: 年 | AH35: 月 | AJ35: 日 | AL35: ： | AN35: ～
I36: 様 | AC36: 令和 | AF36: 年 | AH36: 月 | AJ36: 日 | AL36: ： | AN36: ～
I37: 様 | AC37: 令和 | AF37: 年 | AH37: 月 | AJ37: 日 | AL37: ： | AN37: ～
I38: 様 | AC38: 令和 | AF38: 年 | AH38: 月 | AJ38: 日 | AL38: ： | AN38: ～
I39: 様 | AC39: 令和 | AF39: 年 | AH39: 月 | AJ39: 日 | AL39: ： | AN39: ～
I40: 様 | AC40: 令和 | AF40: 年 | AH40: 月 | AJ40: 日 | AL40: ： | AN40: ～
I41: 様 | AC41: 令和 | AF41: 年 | AH41: 月 | AJ41: 日 | AL41: ： | AN41: ～
I42: 様 | AC42: 令和 | AF42: 年 | AH42: 月 | AJ42: 日 | AL42: ： | AN42: ～
I43: 様 | AC43: 令和 | AF43: 年 | AH43: 月 | AJ43: 日 | AL43: ： | AN43: ～
...

Sheet 21
A1: ソーシャルワーカー室 業務日誌 | AH1: C.O.O | AL1: I.O.O | AP1: Ａ.Ｏ.Ｍ
H3: =曜日!B12 -> 令和5年 | M3: =曜日!C12 -> 9月 | P3: 21日 | S3: （ | T3: =曜日!D9 -> 木 | U3: ） | W3: 作成者 | Z3: ：
A5: 労務 状況 | D5: 勤務状況 | K5: 西舘 翔子 | T5: 大川 祥子 | AC5: 宇津木澤 育美 | AL5: 早狩 風花
K6: 澤里 皓輝 | T6: 石鉢 佳代
A8: 入退院 状況 | D8: 入院形態 | K8: 東病棟 | Q8: 西病棟 | W8: 北病棟 | AC8: 南病棟 | AI8: 合計 | AO8: 総数
K9: 男性 | N9: 女性 | Q9: 男性 | T9: 女性 | W9: 男性 | Z9: 女性 | AC9: 男性 | AF9: 女性 | AI9: 男性 | AL9: 女性
D10: 任意入院 | AI10: =K10+Q10+W10+AC10 -> 0 | AL10: =N10+T10+Z10+AF10 -> 0 | AO10: =AI14 -> 0
D11: 医療保護入院 | AI11: =K11+Q11+W11+AC11 -> 0 | AL11: =N11+T11+Z11+AF11 -> 0
D12: 措置入院 | AI12: =K12+Q12+W12+AC12 -> 0 | AL12: =N12+T12+Z12+AF12 -> 0
D13: 合計 | K13: =SUM(K10:M12) -> 0 | N13: =SUM(N10:P12) -> 0 | Q13: =SUM(Q10:S12) -> 0 | T13: =SUM(T10:V12) -> 0 | W13: =SUM(W10:Y12) -> 0 | Z13: =SUM(Z10:AB12) -> 0 | AC13: =SUM(AC10:AE12) -> 0 | AF13: =SUM(AF10:AH12) -> 0 | AI13: =SUM(K13+Q13+W13+AC13) -> 0 | AL13: =SUM(N13+T13+Z13+AF13) -> 0 | AO13: 人
K14: =K13+N13 -> 0 | Q14: =Q13+T13 -> 0 | W14: =W13+Z13 -> 0 | AC14: =AC13+AF13 -> 0 | AI14: =AI13+AL13 -> 0
F15: 患者様氏名 | N15: 入院形態 | T15: 担当Dr | Y15: 担当SW | AD15: 病棟 | AJ15: 備考欄
D16: 入院 | L16: 様
L17: 様
L18: 様
L19: 様
L20: 様
D21: 退院 | L21: 様
L22: 様
L23: 様
L24: 様
L25: 様
D26: 転棟 ･ 入院形態変更 | L26: 様
L27: 様
L28: 様
L29: 様
L30: 様
A31: 患者様 関連 | D31: 患者様氏名 | K31: 担当Dr | P31: 病棟 | S31: 制限内容 | X31: 制限時間 | AC31: 開始日時 | AO31: 備考
I32: 様 | AC32: 令和 | AF32: 年 | AH32: 月 | AJ32: 日 | AL32: ： | AN32: ～
I33: 様 | AC33: 令和 | AF33: 年 | AH33: 月 | AJ33: 日 | AL33: ： | AN33: ～
I34: 様 | AC34: 令和 | AF34: 年 | AH34: 月 | AJ34: 日 | AL34: ： | AN34: ～
I35: 様 | AC35: 令和 | AF35: 年 | AH35: 月 | AJ35: 日 | AL35: ： | AN35: ～
I36: 様 | AC36: 令和 | AF36: 年 | AH36: 月 | AJ36: 日 | AL36: ： | AN36: ～
I37: 様 | AC37: 令和 | AF37: 年 | AH37: 月 | AJ37: 日 | AL37: ： | AN37: ～
I38: 様 | AC38: 令和 | AF38: 年 | AH38: 月 | AJ38: 日 | AL38: ： | AN38: ～
I39: 様 | AC39: 令和 | AF39: 年 | AH39: 月 | AJ39: 日 | AL39: ： | AN39: ～
I40: 様 | AC40: 令和 | AF40: 年 | AH40: 月 | AJ40: 日 | AL40: ： | AN40: ～
I41: 様 | AC41: 令和 | AF41: 年 | AH41: 月 | AJ41: 日 | AL41: ： | AN41: ～
I42: 様 | AC42: 令和 | AF42: 年 | AH42: 月 | AJ42: 日 | AL42: ： | AN42: ～
I43: 様 | AC43: 令和 | AF43: 年 | AH43: 月 | AJ43: 日 | AL43: ： | AN43: ～
...

Sheet 22
A1: ソーシャルワーカー室 業務日誌 | AH1: C.O.O | AL1: I.O.O | AP1: Ａ.Ｏ.Ｍ
H3: =曜日!B12 -> 令和5年 | M3: =曜日!C12 -> 9月 | P3: 22日 | S3: （ | T3: =曜日!D3 -> 金 | U3: ） | W3: 作成者 | Z3: ：
A5: 労務 状況 | D5: 勤務状況 | K5: 西舘 翔子 | T5: 大川 祥子 | AC5: 宇津木澤 育美 | AL5: 早狩 風花
K6: 澤里 皓輝 | T6: 石鉢 佳代
A8: 入退院 状況 | D8: 入院形態 | K8: 東病棟 | Q8: 西病棟 | W8: 北病棟 | AC8: 南病棟 | AI8: 合計 | AO8: 総数
K9: 男性 | N9: 女性 | Q9: 男性 | T9: 女性 | W9: 男性 | Z9: 女性 | AC9: 男性 | AF9: 女性 | AI9: 男性 | AL9: 女性
D10: 任意入院 | AI10: =K10+Q10+W10+AC10 -> 0 | AL10: =N10+T10+Z10+AF10 -> 0 | AO10: =AI14 -> 0
D11: 医療保護入院 | AI11: =K11+Q11+W11+AC11 -> 0 | AL11: =N11+T11+Z11+AF11 -> 0
D12: 措置入院 | AI12: =K12+Q12+W12+AC12 -> 0 | AL12: =N12+T12+Z12+AF12 -> 0
D13: 合計 | K13: =SUM(K10:M12) -> 0 | N13: =SUM(N10:P12) -> 0 | Q13: =SUM(Q10:S12) -> 0 | T13: =SUM(T10:V12) -> 0 | W13: =SUM(W10:Y12) -> 0 | Z13: =SUM(Z10:AB12) -> 0 | AC13: =SUM(AC10:AE12) -> 0 | AF13: =SUM(AF10:AH12) -> 0 | AI13: =SUM(K13+Q13+W13+AC13) -> 0 | AL13: =SUM(N13+T13+Z13+AF13) -> 0 | AO13: 人
K14: =K13+N13 -> 0 | Q14: =Q13+T13 -> 0 | W14: =W13+Z13 -> 0 | AC14: =AC13+AF13 -> 0 | AI14: =AI13+AL13 -> 0
F15: 患者様氏名 | N15: 入院形態 | T15: 担当Dr | Y15: 担当SW | AD15: 病棟 | AJ15: 備考欄
D16: 入院 | L16: 様
L17: 様
L18: 様
L19: 様
L20: 様
D21: 退院 | L21: 様
L22: 様
L23: 様
L24: 様
L25: 様
D26: 転棟 ･ 入院形態変更 | L26: 様
L27: 様
L28: 様
L29: 様
L30: 様
A31: 患者様 関連 | D31: 患者様氏名 | K31: 担当Dr | P31: 病棟 | S31: 制限内容 | X31: 制限時間 | AC31: 開始日時 | AO31: 備考
I32: 様 | AC32: 令和 | AF32: 年 | AH32: 月 | AJ32: 日 | AL32: ： | AN32: ～
I33: 様 | AC33: 令和 | AF33: 年 | AH33: 月 | AJ33: 日 | AL33: ： | AN33: ～
I34: 様 | AC34: 令和 | AF34: 年 | AH34: 月 | AJ34: 日 | AL34: ： | AN34: ～
I35: 様 | AC35: 令和 | AF35: 年 | AH35: 月 | AJ35: 日 | AL35: ： | AN35: ～
I36: 様 | AC36: 令和 | AF36: 年 | AH36: 月 | AJ36: 日 | AL36: ： | AN36: ～
I37: 様 | AC37: 令和 | AF37: 年 | AH37: 月 | AJ37: 日 | AL37: ： | AN37: ～
I38: 様 | AC38: 令和 | AF38: 年 | AH38: 月 | AJ38: 日 | AL38: ： | AN38: ～
I39: 様 | AC39: 令和 | AF39: 年 | AH39: 月 | AJ39: 日 | AL39: ： | AN39: ～
I40: 様 | AC40: 令和 | AF40: 年 | AH40: 月 | AJ40: 日 | AL40: ： | AN40: ～
I41: 様 | AC41: 令和 | AF41: 年 | AH41: 月 | AJ41: 日 | AL41: ： | AN41: ～
I42: 様 | AC42: 令和 | AF42: 年 | AH42: 月 | AJ42: 日 | AL42: ： | AN42: ～
I43: 様 | AC43: 令和 | AF43: 年 | AH43: 月 | AJ43: 日 | AL43: ： | AN43: ～
...

Sheet 23
A1: ソーシャルワーカー室 業務日誌 | AH1: C.O.O | AL1: I.O.O | AP1: Ａ.Ｏ.Ｍ
H3: =曜日!B12 -> 令和5年 | M3: =曜日!C12 -> 9月 | P3: 23日 | S3: （ | T3: =曜日!D4 -> 土 | U3: ） | W3: 作成者 | Z3: ：
A5: 労務 状況 | D5: 勤務状況 | K5: 西舘 翔子 | T5: 大川 祥子 | AC5: 宇津木澤 育美 | AL5: 早狩 風花
K6: 澤里 皓輝 | T6: 石鉢 佳代
A8: 入退院 状況 | D8: 入院形態 | K8: 東病棟 | Q8: 西病棟 | W8: 北病棟 | AC8: 南病棟 | AI8: 合計 | AO8: 総数
K9: 男性 | N9: 女性 | Q9: 男性 | T9: 女性 | W9: 男性 | Z9: 女性 | AC9: 男性 | AF9: 女性 | AI9: 男性 | AL9: 女性
D10: 任意入院 | AI10: =K10+Q10+W10+AC10 -> 0 | AL10: =N10+T10+Z10+AF10 -> 0 | AO10: =AI14 -> 0
D11: 医療保護入院 | AI11: =K11+Q11+W11+AC11 -> 0 | AL11: =N11+T11+Z11+AF11 -> 0
D12: 措置入院 | AI12: =K12+Q12+W12+AC12 -> 0 | AL12: =N12+T12+Z12+AF12 -> 0
D13: 合計 | K13: =SUM(K10:M12) -> 0 | N13: =SUM(N10:P12) -> 0 | Q13: =SUM(Q10:S12) -> 0 | T13: =SUM(T10:V12) -> 0 | W13: =SUM(W10:Y12) -> 0 | Z13: =SUM(Z10:AB12) -> 0 | AC13: =SUM(AC10:AE12) -> 0 | AF13: =SUM(AF10:AH12) -> 0 | AI13: =SUM(K13+Q13+W13+AC13) -> 0 | AL13: =SUM(N13+T13+Z13+AF13) -> 0 | AO13: 人
K14: =K13+N13 -> 0 | Q14: =Q13+T13 -> 0 | W14: =W13+Z13 -> 0 | AC14: =AC13+AF13 -> 0 | AI14: =AI13+AL13 -> 0
F15: 患者様氏名 | N15: 入院形態 | T15: 担当Dr | Y15: 担当SW | AD15: 病棟 | AJ15: 備考欄
D16: 入院 | L16: 様
L17: 様
L18: 様
L19: 様
L20: 様
D21: 退院 | L21: 様
L22: 様
L23: 様
L24: 様
L25: 様
D26: 転棟 ･ 入院形態変更 | L26: 様
L27: 様
L28: 様
L29: 様
L30: 様
A31: 患者様 関連 | D31: 患者様氏名 | K31: 担当Dr | P31: 病棟 | S31: 制限内容 | X31: 制限時間 | AC31: 開始日時 | AO31: 備考
I32: 様 | AC32: 令和 | AF32: 年 | AH32: 月 | AJ32: 日 | AL32: ： | AN32: ～
I33: 様 | AC33: 令和 | AF33: 年 | AH33: 月 | AJ33: 日 | AL33: ： | AN33: ～
I34: 様 | AC34: 令和 | AF34: 年 | AH34: 月 | AJ34: 日 | AL34: ： | AN34: ～
I35: 様 | AC35: 令和 | AF35: 年 | AH35: 月 | AJ35: 日 | AL35: ： | AN35: ～
I36: 様 | AC36: 令和 | AF36: 年 | AH36: 月 | AJ36: 日 | AL36: ： | AN36: ～
I37: 様 | AC37: 令和 | AF37: 年 | AH37: 月 | AJ37: 日 | AL37: ： | AN37: ～
I38: 様 | AC38: 令和 | AF38: 年 | AH38: 月 | AJ38: 日 | AL38: ： | AN38: ～
I39: 様 | AC39: 令和 | AF39: 年 | AH39: 月 | AJ39: 日 | AL39: ： | AN39: ～
I40: 様 | AC40: 令和 | AF40: 年 | AH40: 月 | AJ40: 日 | AL40: ： | AN40: ～
I41: 様 | AC41: 令和 | AF41: 年 | AH41: 月 | AJ41: 日 | AL41: ： | AN41: ～
I42: 様 | AC42: 令和 | AF42: 年 | AH42: 月 | AJ42: 日 | AL42: ： | AN42: ～
I43: 様 | AC43: 令和 | AF43: 年 | AH43: 月 | AJ43: 日 | AL43: ： | AN43: ～
...

Sheet 24
A1: ソーシャルワーカー室 業務日誌 | AH1: C.O.O | AL1: I.O.O | AP1: Ａ.Ｏ.Ｍ
H3: =曜日!B12 -> 令和5年 | M3: =曜日!C12 -> 9月 | P3: 24日 | S3: （ | T3: =曜日!D5 -> 日 | U3: ） | W3: 作成者 | Z3: ：
A5: 労務 状況 | D5: 勤務状況 | K5: 西舘 翔子 | T5: 大川 祥子 | AC5: 宇津木澤 育美 | AL5: 早狩 風花
K6: 澤里 皓輝 | T6: 石鉢 佳代
A8: 入退院 状況 | D8: 入院形態 | K8: 東病棟 | Q8: 西病棟 | W8: 北病棟 | AC8: 南病棟 | AI8: 合計 | AO8: 総数
K9: 男性 | N9: 女性 | Q9: 男性 | T9: 女性 | W9: 男性 | Z9: 女性 | AC9: 男性 | AF9: 女性 | AI9: 男性 | AL9: 女性
D10: 任意入院 | AI10: =K10+Q10+W10+AC10 -> 0 | AL10: =N10+T10+Z10+AF10 -> 0 | AO10: =AI14 -> 0
D11: 医療保護入院 | AI11: =K11+Q11+W11+AC11 -> 0 | AL11: =N11+T11+Z11+AF11 -> 0
D12: 措置入院 | AI12: =K12+Q12+W12+AC12 -> 0 | AL12: =N12+T12+Z12+AF12 -> 0
D13: 合計 | K13: =SUM(K10:M12) -> 0 | N13: =SUM(N10:P12) -> 0 | Q13: =SUM(Q10:S12) -> 0 | T13: =SUM(T10:V12) -> 0 | W13: =SUM(W10:Y12) -> 0 | Z13: =SUM(Z10:AB12) -> 0 | AC13: =SUM(AC10:AE12) -> 0 | AF13: =SUM(AF10:AH12) -> 0 | AI13: =SUM(K13+Q13+W13+AC13) -> 0 | AL13: =SUM(N13+T13+Z13+AF13) -> 0 | AO13: 人
K14: =K13+N13 -> 0 | Q14: =Q13+T13 -> 0 | W14: =W13+Z13 -> 0 | AC14: =AC13+AF13 -> 0 | AI14: =AI13+AL13 -> 0
F15: 患者様氏名 | N15: 入院形態 | T15: 担当Dr | Y15: 担当SW | AD15: 病棟 | AJ15: 備考欄
D16: 入院 | L16: 様
L17: 様
L18: 様
L19: 様
L20: 様
D21: 退院 | L21: 様
L22: 様
L23: 様
L24: 様
L25: 様
D26: 転棟 ･ 入院形態変更 | L26: 様
L27: 様
L28: 様
L29: 様
L30: 様
A31: 患者様 関連 | D31: 患者様氏名 | K31: 担当Dr | P31: 病棟 | S31: 制限内容 | X31: 制限時間 | AC31: 開始日時 | AO31: 備考
I32: 様 | AC32: 令和 | AF32: 年 | AH32: 月 | AJ32: 日 | AL32: ： | AN32: ～
I33: 様 | AC33: 令和 | AF33: 年 | AH33: 月 | AJ33: 日 | AL33: ： | AN33: ～
I34: 様 | AC34: 令和 | AF34: 年 | AH34: 月 | AJ34: 日 | AL34: ： | AN34: ～
I35: 様 | AC35: 令和 | AF35: 年 | AH35: 月 | AJ35: 日 | AL35: ： | AN35: ～
I36: 様 | AC36: 令和 | AF36: 年 | AH36: 月 | AJ36: 日 | AL36: ： | AN36: ～
I37: 様 | AC37: 令和 | AF37: 年 | AH37: 月 | AJ37: 日 | AL37: ： | AN37: ～
I38: 様 | AC38: 令和 | AF38: 年 | AH38: 月 | AJ38: 日 | AL38: ： | AN38: ～
I39: 様 | AC39: 令和 | AF39: 年 | AH39: 月 | AJ39: 日 | AL39: ： | AN39: ～
I40: 様 | AC40: 令和 | AF40: 年 | AH40: 月 | AJ40: 日 | AL40: ： | AN40: ～
I41: 様 | AC41: 令和 | AF41: 年 | AH41: 月 | AJ41: 日 | AL41: ： | AN41: ～
I42: 様 | AC42: 令和 | AF42: 年 | AH42: 月 | AJ42: 日 | AL42: ： | AN42: ～
I43: 様 | AC43: 令和 | AF43: 年 | AH43: 月 | AJ43: 日 | AL43: ： | AN43: ～
...

Sheet 25
A1: ソーシャルワーカー室 業務日誌 | AH1: C.O.O | AL1: I.O.O | AP1: Ａ.Ｏ.Ｍ
