Workbook

Sheet 1
A1: ソーシャルワーカー室 業務日誌 | AH1: C.O.O | AL1: I.O.O | AP1: Ａ.Ｏ.Ｍ
H3: =曜日!B12 -> 令和5年 | M3: =曜日!C12 -> 9月 | P3: 1日 | S3: （ | T3: =曜日!D3 -> 金 | U3: ） | W3: 作成者 | Z3: ： | AA3: 石鉢 佳代
A5: 労務 状況 | D5: 勤務状況 | K5: 西舘 翔子 | P5: 日勤 | T5: 大川 祥子 | Y5: 日勤 | AC5: 宇津木澤 育美 | AH5: 日勤 | AL5: 早狩 風花 | AP5: 日勤
K6: 澤里 皓輝 | P6: 日勤 | T6: 石鉢 佳代 | Y6: 日勤
A8: 入退院 状況 | D8: 入院形態 | K8: 東病棟 | Q8: 西病棟 | W8: 北病棟 | AC8: 南病棟 | AI8: 合計 | AO8: 総数
K9: 男性 | N9: 女性 | Q9: 男性 | T9: 女性 | W9: 男性 | Z9: 女性 | AC9: 男性 | AF9: 女性 | AI9: 男性 | AL9: 女性
D10: 任意入院 | K10: 4 | N10: 4 | Q10: 7 | T10: 7 | W10: 24 | Z10: 10 | AC10: 0 | AF10: 2 | AI10: =K10+Q10+W10+AC10 -> 35 | AL10: =N10+T10+Z10+AF10 -> 23 | AO10: =AI14 -> 193
D11: 医療保護入院 | K11: 18 | N11: 19 | Q11: 14 | T11: 23 | W11: 0 | Z11: 1 | AC11: 24 | AF11: 34 | AI11: =K11+Q11+W11+AC11 -> 56 | AL11: =N11+T11+Z11+AF11 -> 77
D12: 措置入院 | K12: 2 | N12: 0 | Q12: 0 | T12: 0 | W12: 0 | Z12: 0 | AC12: 0 | AF12: 0 | AI12: =K12+Q12+W12+AC12 -> 2 | AL12: =N12+T12+Z12+AF12 -> 0
D13: 合計 | K13: =SUM(K10:M12) -> 24 | N13: =SUM(N10:P12) -> 23 | Q13: =SUM(Q10:S12) -> 21 | T13: =SUM(T10:V12) -> 30 | W13: =SUM(W10:Y12) -> 24 | Z13: =SUM(Z10:AB12) -> 11 | AC13: =SUM(AC10:AE12) -> 24 | AF13: =SUM(AF10:AH12) -> 36 | AI13: =SUM(K13+Q13+W13+AC13) -> 93 | AL13: =SUM(N13+T13+Z13+AF13) -> 100 | AO13: 人
K14: =K13+N13 -> 47 | Q14: =Q13+T13 -> 51 | W14: =W13+Z13 -> 35 | AC14: =AC13+AF13 -> 60 | AI14: =AI13+AL13 -> 193
F15: 患者様氏名 | N15: 入院形態 | T15: 担当Dr | Y15: 担当SW | AD15: 病棟 | AJ15: 備考欄
D16: 入院 | L16: 様
L17: 様
L18: 様
L19: 様
L20: 様
D21: 退院 | F21: 沼山 とせ子 | L21: 様 | N21: 医療保護入院 | T21: 金泰德Dr | Y21: 大川 祥子 | AD21: 南B
F22: 谷地 寿梨 様 | L22: 様 | N22: 医療保護入院 | T22: 田名部茂Dr | Y22: 宇津木澤 育美 | AD22: 西B
F23: 椀平 留美子 | L23: 様 | N23: 医療保護入院 | T23: 田名部茂Dr | Y23: 宇津木澤 育美 | AD23: 東合
L24: 様
L25: 様
D26: 転棟 ･ 入院形態変更 | F26: 中野 孝 | L26: 様 | N26: 医療保護入院 | T26: 村上祐介Dr | AD26: 東C→南A
L27: 様
L28: 様
L29: 様
L30: 様
A31: 患者様 関連 | D31: 患者様氏名 | K31: 担当Dr | P31: 病棟 | S31: 制限内容 | X31: 制限時間 | AC31: 開始日時 | AO31: 備考
D32: 中村 聡 | I32: 様 | K32: 金泰徳Dr | P32: 東B | S32: 通信制限 | X32: 通信制限 | AC32: 令和 | AE32: 3 | AF32: 年 | AG32: 5 | AH32: 月 | AI32: 31 | AJ32: 日 | AL32: ： | AN32: ～
D33: 松谷 さと子 | I33: 様 | K33: 深澤隆Dr | P33: 東A | S33: 通信制限 | X33: 通信制限 | AC33: 令和 | AE33: 4 | AF33: 年 | AG33: 6 | AH33: 月 | AI33: 6 | AJ33: 日 | AL33: ： | AN33: ～
D34: 宮﨑 宏之 | I34: 様 | K34: 馬渡晃弘Dr | P34: 東A | S34: 終日隔離 | X34: 終日隔離 | AC34: 令和 | AE34: 4 | AF34: 年 | AG34: 9 | AH34: 月 | AI34: 30 | AJ34: 日 | AL34: ： | AN34: ～
D35: 沼山 真紀子 | I35: 様 | K35: 金泰徳Dr | P35: 東A | S35: 通信制限 | X35: 通信制限 | AC35: 令和 | AE35: 5 | AF35: 年 | AG35: 2 | AH35: 月 | AI35: 16 | AJ35: 日 | AL35: ： | AN35: ～
D36: 馬場 日出子 | I36: 様 | K36: 金泰徳Dr | P36: 東A | S36: 通信制限 | X36: 通信制限 | AC36: 令和 | AE36: 5 | AF36: 年 | AG36: 5 | AH36: 月 | AI36: 1 | AJ36: 日 | AL36: ： | AN36: ～
D37: 袴田 将志 | I37: 様 | K37: 田名部茂Dr | P37: 東A | S37: 終日隔離 | X37: 終日隔離 | AC37: 令和 | AE37: 5 | AF37: 年 | AG37: 8 | AH37: 月 | AI37: 6 | AJ37: 日 | AL37: ： | AN37: ～
D38: 中川原 佳宏 | I38: 様 | K38: 小栁匡相Dr | P38: 東A | S38: 終日隔離 | X38: 終日隔離 | AC38: 令和 | AE38: 5 | AF38: 年 | AG38: 8 | AH38: 月 | AI38: 13 | AJ38: 日 | AL38: ： | AN38: ～
I39: 様 | AC39: 令和 | AF39: 年 | AH39: 月 | AJ39: 日 | AL39: ： | AN39: ～
I40: 様 | AC40: 令和 | AF40: 年 | AH40: 月 | AJ40: 日 | AL40: ： | AN40: ～
I41: 様 | AC41: 令和 | AF41: 年 | AH41: 月 | AJ41: 日 | AL41: ： | AN41: ～
I42: 様 | AC42: 令和 | AF42: 年 | AH42: 月 | AJ42: 日 | AL42: ： | AN42: ～
I43: 様 | AC43: 令和 | AF43: 年 | AH43: 月 | AJ43: 日 | AL43: ： | AN43: ～
I44: 様 | AC44: 令和 | AF44: 年 | AH44: 月 | AJ44: 日 | AL44: ： | AN44: ～
I45: 様 | AC45: 令和 | AF45: 年 | AH45: 月 | AJ45: 日 | AL45: ： | AN45: ～
I46: 様 | AC46: 令和 | AF46: 年 | AH46: 月 | AJ46: 日 | AL46: ： | AN46: ～
A47: 業務 内容 | D47: 項目 | J47: 患者様氏名 | P47: 担当 | S47: 備考 | Y47: 項目 | AA47: 患者様氏名 | AG47: 内容 | AQ47: 担当
D48: 外 来 患 者 対 応 | F48: 外来患者 対応 | O48: 様 | Y48: 書 類 作 成 完 了 | AF48: 様
O49: 様 | AF49: 様
O50: 様 | AF50: 様
O51: 様 | AF51: 様
O52: 様 | AF52: 様
O53: 様 | AF53: 様
O54: 様 | AF54: 様
D55: 項目 | J55: 患者様氏名 | P55: 担当 | S55: 備考 | AF55: 様
D56: 入 退 院 支 援 | F56: 退院支援 | O56: 様 | AF56: 様
O57: 様 | AF57: 様
O58: 様 | Y58: 項目 | AG58: 件数 | AJ58: 担当 | AM58: 備考
O59: 様 | Y59: 電話対応 | AI59: 件
O60: 様 | Y60: 保健所への届出 | AI60: 件
F61: 退院請求 対応 | O61: 様 | Y61: 項目 | AG61: 内容
O62: 様 | Y62: 通院医療 観察法
F63: 入院患者 対応 | J63: 担当 | M63: 件数 | P63: 備考
O64: 件 | Y64: 認知症疾患 医療ｾﾝﾀｰ
O65: 件
O66: 件 | Y66: 各種会議参加 外部の業務
O67: 件
A68: 安全管理 | D68: 事故 | S68: 物品 購入 | AE68: 連絡 事項
D69: 苦情
D70: 紛失
D71: 他

Sheet 2
A1: ソーシャルワーカー室 業務日誌 | AH1: C.O.O | AL1: I.O.O | AP1: Ａ.Ｏ.Ｍ
H3: =曜日!B12 -> 令和5年 | M3: =曜日!C12 -> 9月 | P3: 2日 | S3: （ | T3: =曜日!D4 -> 土 | U3: ） | W3: 作成者 | Z3: ： | AA3: 石鉢 佳代
A5: 労務 状況 | D5: 勤務状況 | K5: 西舘 翔子 | P5: 日勤 | T5: 大川 祥子 | Y5: 公休 | AC5: 宇津木澤 育美 | AH5: 公休 | AL5: 早狩 風花 | AP5: 公休
K6: 澤里 皓輝 | P6: 公休 | T6: 石鉢 佳代 | Y6: 公休
A8: 入退院 状況 | D8: 入院形態 | K8: 東病棟 | Q8: 西病棟 | W8: 北病棟 | AC8: 南病棟 | AI8: 合計 | AO8: 総数
K9: 男性 | N9: 女性 | Q9: 男性 | T9: 女性 | W9: 男性 | Z9: 女性 | AC9: 男性 | AF9: 女性 | AI9: 男性 | AL9: 女性
D10: 任意入院 | K10: 4 | N10: 4 | Q10: 6 | T10: 7 | W10: 24 | Z10: 10 | AC10: 0 | AF10: 2 | AI10: =K10+Q10+W10+AC10 -> 34 | AL10: =N10+T10+Z10+AF10 -> 23 | AO10: =AI14 -> 192
D11: 医療保護入院 | K11: 18 | N11: 19 | Q11: 14 | T11: 23 | W11: 0 | Z11: 1 | AC11: 24 | AF11: 34 | AI11: =K11+Q11+W11+AC11 -> 56 | AL11: =N11+T11+Z11+AF11 -> 77
D12: 措置入院 | K12: 2 | N12: 0 | Q12: 0 | T12: 0 | W12: 0 | Z12: 0 | AC12: 0 | AF12: 0 | AI12: =K12+Q12+W12+AC12 -> 2 | AL12: =N12+T12+Z12+AF12 -> 0
D13: 合計 | K13: =SUM(K10:M12) -> 24 | N13: =SUM(N10:P12) -> 23 | Q13: =SUM(Q10:S12) -> 20 | T13: =SUM(T10:V12) -> 30 | W13: =SUM(W10:Y12) -> 24 | Z13: =SUM(Z10:AB12) -> 11 | AC13: =SUM(AC10:AE12) -> 24 | AF13: =SUM(AF10:AH12) -> 36 | AI13: =SUM(K13+Q13+W13+AC13) -> 92 | AL13: =SUM(N13+T13+Z13+AF13) -> 100 | AO13: 人
K14: =K13+N13 -> 47 | Q14: =Q13+T13 -> 50 | W14: =W13+Z13 -> 35 | AC14: =AC13+AF13 -> 60 | AI14: =AI13+AL13 -> 192
F15: 患者様氏名 | N15: 入院形態 | T15: 担当Dr | Y15: 担当SW | AD15: 病棟 | AJ15: 備考欄
D16: 入院 | L16: 様
L17: 様
L18: 様
L19: 様
L20: 様
D21: 退院 | F21: 梅内 とも子 | L21: 様 | N21: 任意入院 | T21: 田名部茂Dr | Y21: 宇津木澤 育美 | AD21: 北
L22: 様
L23: 様
L24: 様
L25: 様
D26: 転棟 ･ 入院形態変更 | F26: 中村 和夫 | L26: 様 | N26: 任意入院 | T26: 菅野庸Dr | AD26: 西B→北
L27: 様
L28: 様
L29: 様
L30: 様
A31: 患者様 関連 | D31: 患者様氏名 | K31: 担当Dr | P31: 病棟 | S31: 制限内容 | X31: 制限時間 | AC31: 開始日時 | AO31: 備考
D32: 中村 聡 | I32: 様 | K32: 金泰徳Dr | P32: 東B | S32: 通信制限 | X32: 通信制限 | AC32: 令和 | AE32: 3 | AF32: 年 | AG32: 5 | AH32: 月 | AI32: 31 | AJ32: 日 | AL32: ： | AN32: ～
D33: 松谷 さと子 | I33: 様 | K33: 深澤隆Dr | P33: 東A | S33: 通信制限 | X33: 通信制限 | AC33: 令和 | AE33: 4 | AF33: 年 | AG33: 6 | AH33: 月 | AI33: 6 | AJ33: 日 | AL33: ： | AN33: ～
D34: 宮﨑 宏之 | I34: 様 | K34: 馬渡晃弘Dr | P34: 東A | S34: 終日隔離 | X34: 終日隔離 | AC34: 令和 | AE34: 4 | AF34: 年 | AG34: 9 | AH34: 月 | AI34: 30 | AJ34: 日 | AL34: ： | AN34: ～
D35: 沼山 真紀子 | I35: 様 | K35: 金泰徳Dr | P35: 東A | S35: 通信制限 | X35: 通信制限 | AC35: 令和 | AE35: 5 | AF35: 年 | AG35: 2 | AH35: 月 | AI35: 16 | AJ35: 日 | AL35: ： | AN35: ～
D36: 馬場 日出子 | I36: 様 | K36: 金泰徳Dr | P36: 東A | S36: 通信制限 | X36: 通信制限 | AC36: 令和 | AE36: 5 | AF36: 年 | AG36: 5 | AH36: 月 | AI36: 1 | AJ36: 日 | AL36: ： | AN36: ～
D37: 袴田 将志 | I37: 様 | K37: 田名部茂Dr | P37: 東A | S37: 終日隔離 | X37: 終日隔離 | AC37: 令和 | AE37: 5 | AF37: 年 | AG37: 8 | AH37: 月 | AI37: 6 | AJ37: 日 | AL37: ： | AN37: ～
D38: 中川原 佳宏 | I38: 様 | K38: 小栁匡相Dr | P38: 東A | S38: 終日隔離 | X38: 終日隔離 | AC38: 令和 | AE38: 5 | AF38: 年 | AG38: 8 | AH38: 月 | AI38: 13 | AJ38: 日 | AL38: ： | AN38: ～
I39: 様 | AC39: 令和 | AF39: 年 | AH39: 月 | AJ39: 日 | AL39: ： | AN39: ～
I40: 様 | AC40: 令和 | AF40: 年 | AH40: 月 | AJ40: 日 | AL40: ： | AN40: ～
I41: 様 | AC41: 令和 | AF41: 年 | AH41: 月 | AJ41: 日 | AL41: ： | AN41: ～
I42: 様 | AC42: 令和 | AF42: 年 | AH42: 月 | AJ42: 日 | AL42: ： | AN42: ～
I43: 様 | AC43: 令和 | AF43: 年 | AH43: 月 | AJ43: 日 | AL43: ： | AN43: ～
I44: 様 | AC44: 令和 | AF44: 年 | AH44: 月 | AJ44: 日 | AL44: ： | AN44: ～
I45: 様 | AC45: 令和 | AF45: 年 | AH45: 月 | AJ45: 日 | AL45: ： | AN45: ～
I46: 様 | AC46: 令和 | AF46: 年 | AH46: 月 | AJ46: 日 | AL46: ： | AN46: ～
A47: 業務 内容 | D47: 項目 | J47: 患者様氏名 | P47: 担当 | S47: 備考 | Y47: 項目 | AA47: 患者様氏名 | AG47: 内容 | AQ47: 担当
D48: 外 来 患 者 対 応 | F48: 外来患者 対応 | O48: 様 | Y48: 書 類 作 成 完 了 | AF48: 様
O49: 様 | AF49: 様
O50: 様 | AF50: 様
O51: 様 | AF51: 様
O52: 様 | AF52: 様
O53: 様 | AF53: 様
O54: 様 | AF54: 様
D55: 項目 | J55: 患者様氏名 | P55: 担当 | S55: 備考 | AF55: 様
D56: 入 退 院 支 援 | F56: 退院支援 | O56: 様 | AF56: 様
O57: 様 | AF57: 様
O58: 様 | Y58: 項目 | AG58: 件数 | AJ58: 担当 | AM58: 備考
O59: 様 | Y59: 電話対応 | AI59: 件
O60: 様 | Y60: 保健所への届出 | AI60: 件
F61: 退院請求 対応 | O61: 様 | Y61: 項目 | AG61: 内容
O62: 様 | Y62: 通院医療 観察法
F63: 入院患者 対応 | J63: 担当 | M63: 件数 | P63: 備考
O64: 件 | Y64: 認知症疾患 医療ｾﾝﾀｰ
O65: 件
O66: 件 | Y66: 各種会議参加 外部の業務
O67: 件
A68: 安全管理 | D68: 事故 | S68: 物品 購入 | AE68: 連絡 事項
D69: 苦情
D70: 紛失
D71: 他

Sheet 3
A1: ソーシャルワーカー室 業務日誌 | AH1: C.O.O | AL1: I.O.O | AP1: Ａ.Ｏ.Ｍ
H3: =曜日!B12 -> 令和5年 | M3: =曜日!C12 -> 9月 | P3: 3日 | S3: （ | T3: =曜日!D5 -> 日 | U3: ） | W3: 作成者 | Z3: ： | AA3: 澤里 皓輝
A5: 労務 状況 | D5: 勤務状況 | K5: 西舘 翔子 | P5: 公休 | T5: 大川 祥子 | Y5: 公休 | AC5: 宇津木澤 育美 | AH5: 公休 | AL5: 早狩 風花 | AP5: 公休
K6: 澤里 皓輝 | P6: 公休 | T6: 石鉢 佳代 | Y6: 公休
A8: 入退院 状況 | D8: 入院形態 | K8: 東病棟 | Q8: 西病棟 | W8: 北病棟 | AC8: 南病棟 | AI8: 合計 | AO8: 総数
K9: 男性 | N9: 女性 | Q9: 男性 | T9: 女性 | W9: 男性 | Z9: 女性 | AC9: 男性 | AF9: 女性 | AI9: 男性 | AL9: 女性
D10: 任意入院 | K10: 4 | N10: 4 | Q10: 6 | T10: 7 | W10: 24 | Z10: 10 | AC10: 0 | AF10: 2 | AI10: =K10+Q10+W10+AC10 -> 34 | AL10: =N10+T10+Z10+AF10 -> 23 | AO10: =AI14 -> 192
D11: 医療保護入院 | K11: 18 | N11: 19 | Q11: 14 | T11: 23 | W11: 0 | Z11: 1 | AC11: 24 | AF11: 34 | AI11: =K11+Q11+W11+AC11 -> 56 | AL11: =N11+T11+Z11+AF11 -> 77
D12: 措置入院 | K12: 2 | N12: 0 | Q12: 0 | T12: 0 | W12: 0 | Z12: 0 | AC12: 0 | AF12: 0 | AI12: =K12+Q12+W12+AC12 -> 2 | AL12: =N12+T12+Z12+AF12 -> 0
D13: 合計 | K13: =SUM(K10:M12) -> 24 | N13: =SUM(N10:P12) -> 23 | Q13: =SUM(Q10:S12) -> 20 | T13: =SUM(T10:V12) -> 30 | W13: =SUM(W10:Y12) -> 24 | Z13: =SUM(Z10:AB12) -> 11 | AC13: =SUM(AC10:AE12) -> 24 | AF13: =SUM(AF10:AH12) -> 36 | AI13: =SUM(K13+Q13+W13+AC13) -> 92 | AL13: =SUM(N13+T13+Z13+AF13) -> 100 | AO13: 人
K14: =K13+N13 -> 47 | Q14: =Q13+T13 -> 50 | W14: =W13+Z13 -> 35 | AC14: =AC13+AF13 -> 60 | AI14: =AI13+AL13 -> 192
F15: 患者様氏名 | N15: 入院形態 | T15: 担当Dr | Y15: 担当SW | AD15: 病棟 | AJ15: 備考欄
D16: 入院 | L16: 様
L17: 様
L18: 様
L19: 様
L20: 様
D21: 退院 | L21: 様
L22: 様
L23: 様
L24: 様
L25: 様
D26: 転棟 ･ 入院形態変更 | L26: 様
L27: 様
L28: 様
L29: 様
L30: 様
A31: 患者様 関連 | D31: 患者様氏名 | K31: 担当Dr | P31: 病棟 | S31: 制限内容 | X31: 制限時間 | AC31: 開始日時 | AO31: 備考
D32: 中村 聡 | I32: 様 | K32: 金泰徳Dr | P32: 東B | S32: 通信制限 | X32: 通信制限 | AC32: 令和 | AE32: 3 | AF32: 年 | AG32: 5 | AH32: 月 | AI32: 31 | AJ32: 日 | AL32: ： | AN32: ～
D33: 松谷 さと子 | I33: 様 | K33: 深澤隆Dr | P33: 東A | S33: 通信制限 | X33: 通信制限 | AC33: 令和 | AE33: 4 | AF33: 年 | AG33: 6 | AH33: 月 | AI33: 6 | AJ33: 日 | AL33: ： | AN33: ～
D34: 宮﨑 宏之 | I34: 様 | K34: 馬渡晃弘Dr | P34: 東A | S34: 終日隔離 | X34: 終日隔離 | AC34: 令和 | AE34: 4 | AF34: 年 | AG34: 9 | AH34: 月 | AI34: 30 | AJ34: 日 | AL34: ： | AN34: ～
D35: 沼山 真紀子 | I35: 様 | K35: 金泰徳Dr | P35: 東A | S35: 通信制限 | X35: 通信制限 | AC35: 令和 | AE35: 5 | AF35: 年 | AG35: 2 | AH35: 月 | AI35: 16 | AJ35: 日 | AL35: ： | AN35: ～
D36: 馬場 日出子 | I36: 様 | K36: 金泰徳Dr | P36: 東A | S36: 通信制限 | X36: 通信制限 | AC36: 令和 | AE36: 5 | AF36: 年 | AG36: 5 | AH36: 月 | AI36: 1 | AJ36: 日 | AL36: ： | AN36: ～
D37: 袴田 将志 | I37: 様 | K37: 田名部茂Dr | P37: 東A | S37: 終日隔離 | X37: 終日隔離 | AC37: 令和 | AE37: 5 | AF37: 年 | AG37: 8 | AH37: 月 | AI37: 6 | AJ37: 日 | AL37: ： | AN37: ～
D38: 中川原 佳宏 | I38: 様 | K38: 小栁匡相Dr | P38: 東A | S38: 終日隔離 | X38: 終日隔離 | AC38: 令和 | AE38: 5 | AF38: 年 | AG38: 8 | AH38: 月 | AI38: 13 | AJ38: 日 | AL38: ： | AN38: ～
I39: 様 | AC39: 令和 | AF39: 年 | AH39: 月 | AJ39: 日 | AL39: ： | AN39: ～
I40: 様 | AC40: 令和 | AF40: 年 | AH40: 月 | AJ40: 日 | AL40: ： | AN40: ～
I41: 様 | AC41: 令和 | AF41: 年 | AH41: 月 | AJ41: 日 | AL41: ： | AN41: ～
I42: 様 | AC42: 令和 | AF42: 年 | AH42: 月 | AJ42: 日 | AL42: ： | AN42: ～
I43: 様 | AC43: 令和 | AF43: 年 | AH43: 月 | AJ43: 日 | AL43: ： | AN43: ～
I44: 様 | AC44: 令和 | AF44: 年 | AH44: 月 | AJ44: 日 | AL44: ： | AN44: ～
I45: 様 | AC45: 令和 | AF45: 年 | AH45: 月 | AJ45: 日 | AL45: ： | AN45: ～
I46: 様 | AC46: 令和 | AF46: 年 | AH46: 月 | AJ46: 日 | AL46: ： | AN46: ～
A47: 業務 内容 | D47: 項目 | J47: 患者様氏名 | P47: 担当 | S47: 備考 | Y47: 項目 | AA47: 患者様氏名 | AG47: 内容 | AQ47: 担当
D48: 外 来 患 者 対 応 | F48: 外来患者 対応 | O48: 様 | Y48: 書 類 作 成 完 了 | AF48: 様
O49: 様 | AF49: 様
O50: 様 | AF50: 様
O51: 様 | AF51: 様
O52: 様 | AF52: 様
O53: 様 | AF53: 様
O54: 様 | AF54: 様
D55: 項目 | J55: 患者様氏名 | P55: 担当 | S55: 備考 | AF55: 様
D56: 入 退 院 支 援 | F56: 退院支援 | O56: 様 | AF56: 様
O57: 様 | AF57: 様
O58: 様 | Y58: 項目 | AG58: 件数 | AJ58: 担当 | AM58: 備考
O59: 様 | Y59: 電話対応 | AI59: 件
O60: 様 | Y60: 保健所への届出 | AI60: 件
F61: 退院請求 対応 | O61: 様 | Y61: 項目 | AG61: 内容
O62: 様 | Y62: 通院医療 観察法
F63: 入院患者 対応 | J63: 担当 | M63: 件数 | P63: 備考
O64: 件 | Y64: 認知症疾患 医療ｾﾝﾀｰ
O65: 件
O66: 件 | Y66: 各種会議参加 外部の業務
O67: 件
A68: 安全管理 | D68: 事故 | S68: 物品 購入 | AE68: 連絡 事項
D69: 苦情
D70: 紛失
D71: 他

Sheet 4
A1: ソーシャルワーカー室 業務日誌 | AH1: C.O.O | AL1: I.O.O | AP1: Ａ.Ｏ.Ｍ
H3: =曜日!B12 -> 令和5年 | M3: =曜日!C12 -> 9月 | P3: 4日 | S3: （ | T3: =曜日!D6 -> 月 | U3: ） | W3: 作成者 | Z3: ： | AA3: 澤里 皓輝
A5: 労務 状況 | D5: 勤務状況 | K5: 西舘 翔子 | P5: 日勤 | T5: 大川 祥子 | Y5: 日勤 | AC5: 宇津木澤 育美 | AH5: 日勤 | AL5: 早狩 風花 | AP5: 日勤
K6: 澤里 皓輝 | P6: 日勤 | T6: 石鉢 佳代 | Y6: 日勤
A8: 入退院 状況 | D8: 入院形態 | K8: 東病棟 | Q8: 西病棟 | W8: 北病棟 | AC8: 南病棟 | AI8: 合計 | AO8: 総数
K9: 男性 | N9: 女性 | Q9: 男性 | T9: 女性 | W9: 男性 | Z9: 女性 | AC9: 男性 | AF9: 女性 | AI9: 男性 | AL9: 女性
D10: 任意入院 | K10: 4 | N10: 4 | Q10: 6 | T10: 7 | W10: 24 | Z10: 10 | AC10: 0 | AF10: 2 | AI10: =K10+Q10+W10+AC10 -> 34 | AL10: =N10+T10+Z10+AF10 -> 23 | AO10: =AI14 -> 192
D11: 医療保護入院 | K11: 18 | N11: 19 | Q11: 14 | T11: 23 | W11: 0 | Z11: 1 | AC11: 24 | AF11: 34 | AI11: =K11+Q11+W11+AC11 -> 56 | AL11: =N11+T11+Z11+AF11 -> 77
D12: 措置入院 | K12: 2 | N12: 0 | Q12: 0 | T12: 0 | W12: 0 | Z12: 0 | AC12: 0 | AF12: 0 | AI12: =K12+Q12+W12+AC12 -> 2 | AL12: =N12+T12+Z12+AF12 -> 0
D13: 合計 | K13: =SUM(K10:M12) -> 24 | N13: =SUM(N10:P12) -> 23 | Q13: =SUM(Q10:S12) -> 20 | T13: =SUM(T10:V12) -> 30 | W13: =SUM(W10:Y12) -> 24 | Z13: =SUM(Z10:AB12) -> 11 | AC13: =SUM(AC10:AE12) -> 24 | AF13: =SUM(AF10:AH12) -> 36 | AI13: =SUM(K13+Q13+W13+AC13) -> 92 | AL13: =SUM(N13+T13+Z13+AF13) -> 100 | AO13: 人
K14: =K13+N13 -> 47 | Q14: =Q13+T13 -> 50 | W14: =W13+Z13 -> 35 | AC14: =AC13+AF13 -> 60 | AI14: =AI13+AL13 -> 192
F15: 患者様氏名 | N15: 入院形態 | T15: 担当Dr | Y15: 担当SW | AD15: 病棟 | AJ15: 備考欄
D16: 入院 | L16: 様
L17: 様
L18: 様
L19: 様
L20: 様
D21: 退院 | L21: 様
L22: 様
L23: 様
L24: 様
L25: 様
D26: 転棟 ･ 入院形態変更 | L26: 様
L27: 様
L28: 様
L29: 様
L30: 様
A31: 患者様 関連 | D31: 患者様氏名 | K31: 担当Dr | P31: 病棟 | S31: 制限内容 | X31: 制限時間 | AC31: 開始日時 | AO31: 備考
D32: 中村 聡 | I32: 様 | K32: 金泰徳Dr | P32: 東B | S32: 通信制限 | X32: 通信制限 | AC32: 令和 | AE32: 3 | AF32: 年 | AG32: 5 | AH32: 月 | AI32: 31 | AJ32: 日 | AL32: ： | AN32: ～
D33: 松谷 さと子 | I33: 様 | K33: 深澤隆Dr | P33: 東A | S33: 通信制限 | X33: 通信制限 | AC33: 令和 | AE33: 4 | AF33: 年 | AG33: 6 | AH33: 月 | AI33: 6 | AJ33: 日 | AL33: ： | AN33: ～
D34: 宮﨑 宏之 | I34: 様 | K34: 馬渡晃弘Dr | P34: 東A | S34: 終日隔離 | X34: 終日隔離 | AC34: 令和 | AE34: 4 | AF34: 年 | AG34: 9 | AH34: 月 | AI34: 30 | AJ34: 日 | AL34: ： | AN34: ～
D35: 沼山 真紀子 | I35: 様 | K35: 金泰徳Dr | P35: 東A | S35: 通信制限 | X35: 通信制限 | AC35: 令和 | AE35: 5 | AF35: 年 | AG35: 2 | AH35: 月 | AI35: 16 | AJ35: 日 | AL35: ： | AN35: ～
D36: 馬場 日出子 | I36: 様 | K36: 金泰徳Dr | P36: 東A | S36: 通信制限 | X36: 通信制限 | AC36: 令和 | AE36: 5 | AF36: 年 | AG36: 5 | AH36: 月 | AI36: 1 | AJ36: 日 | AL36: ： | AN36: ～
D37: 袴田 将志 | I37: 様 | K37: 田名部茂Dr | P37: 東A | S37: 終日隔離 | X37: 終日隔離 | AC37: 令和 | AE37: 5 | AF37: 年 | AG37: 8 | AH37: 月 | AI37: 6 | AJ37: 日 | AL37: ： | AN37: ～
D38: 中川原 佳宏 | I38: 様 | K38: 小栁匡相Dr | P38: 東A | S38: 終日隔離 | X38: 終日隔離 | AC38: 令和 | AE38: 5 | AF38: 年 | AG38: 8 | AH38: 月 | AI38: 13 | AJ38: 日 | AL38: ： | AN38: ～
I39: 様 | AC39: 令和 | AF39: 年 | AH39: 月 | AJ39: 日 | AL39: ： | AN39: ～
I40: 様 | AC40: 令和 | AF40: 年 | AH40: 月 | AJ40: 日 | AL40: ： | AN40: ～
I41: 様 | AC41: 令和 | AF41: 年 | AH41: 月 | AJ41: 日 | AL41: ： | AN41: ～
I42: 様 | AC42: 令和 | AF42: 年 | AH42: 月 | AJ42: 日 | AL42: ： | AN42: ～
I43: 様 | AC43: 令和 | AF43: 年 | AH43: 月 | AJ43: 日 | AL43: ： | AN43: ～
I44: 様 | AC44: 令和 | AF44: 年 | AH44: 月 | AJ44: 日 | AL44: ： | AN44: ～
I45: 様 | AC45: 令和 | AF45: 年 | AH45: 月 | AJ45: 日 | AL45: ： | AN45: ～
I46: 様 | AC46: 令和 | AF46: 年 | AH46: 月 | AJ46: 日 | AL46: ： | AN46: ～
A47: 業務 内容 | D47: 項目 | J47: 患者様氏名 | P47: 担当 | S47: 備考 | Y47: 項目 | AA47: 患者様氏名 | AG47: 内容 | AQ47: 担当
D48: 外 来 患 者 対 応 | F48: 外来患者 対応 | O48: 様 | Y48: 書 類 作 成 完 了 | AF48: 様
O49: 様 | AF49: 様
O50: 様 | AF50: 様
O51: 様 | AF51: 様
O52: 様 | AF52: 様
O53: 様 | AF53: 様
O54: 様 | AF54: 様
D55: 項目 | J55: 患者様氏名 | P55: 担当 | S55: 備考 | AF55: 様
D56: 入 退 院 支 援 | F56: 退院支援 | O56: 様 | AF56: 様
O57: 様 | AF57: 様
O58: 様 | Y58: 項目 | AG58: 件数 | AJ58: 担当 | AM58: 備考
O59: 様 | Y59: 電話対応 | AI59: 件
O60: 様 | Y60: 保健所への届出 | AI60: 件
F61: 退院請求 対応 | O61: 様 | Y61: 項目 | AG61: 内容
O62: 様 | Y62: 通院医療 観察法
F63: 入院患者 対応 | J63: 担当 | M63: 件数 | P63: 備考
O64: 件 | Y64: 認知症疾患 医療ｾﾝﾀｰ
O65: 件
O66: 件 | Y66: 各種会議参加 外部の業務
O67: 件
A68: 安全管理 | D68: 事故 | S68: 物品 購入 | AE68: 連絡 事項
D69: 苦情
D70: 紛失
D71: 他

Sheet 5
A1: ソーシャルワーカー室 業務日誌 | AH1: C.O.O | AL1: I.O.O | AP1: Ａ.Ｏ.Ｍ
H3: =曜日!B12 -> 令和5年 | M3: =曜日!C12 -> 9月 | P3: 5日 | S3: （ | T3: =曜日!D7 -> 火 | U3: ） | W3: 作成者 | Z3: ： | AA3: 澤里 皓輝
A5: 労務 状況 | D5: 勤務状況 | K5: 西舘 翔子 | P5: 日勤 | T5: 大川 祥子 | Y5: 日勤 | AC5: 宇津木澤 育美 | AH5: 日勤 | AL5: 早狩 風花 | AP5: 日勤
K6: 澤里 皓輝 | P6: 日勤 | T6: 石鉢 佳代 | Y6: 日勤
A8: 入退院 状況 | D8: 入院形態 | K8: 東病棟 | Q8: 西病棟 | W8: 北病棟 | AC8: 南病棟 | AI8: 合計 | AO8: 総数
K9: 男性 | N9: 女性 | Q9: 男性 | T9: 女性 | W9: 男性 | Z9: 女性 | AC9: 男性 | AF9: 女性 | AI9: 男性 | AL9: 女性
D10: 任意入院 | K10: 4 | N10: 4 | Q10: 5 | T10: 7 | W10: 24 | Z10: 10 | AC10: 0 | AF10: 2 | AI10: =K10+Q10+W10+AC10 -> 33 | AL10: =N10+T10+Z10+AF10 -> 23 | AO10: =AI14 -> 192
D11: 医療保護入院 | K11: 18 | N11: 20 | Q11: 14 | T11: 23 | W11: 0 | Z11: 1 | AC11: 24 | AF11: 34 | AI11: =K11+Q11+W11+AC11 -> 56 | AL11: =N11+T11+Z11+AF11 -> 78
D12: 措置入院 | K12: 2 | N12: 0 | Q12: 0 | T12: 0 | W12: 0 | Z12: 0 | AC12: 0 | AF12: 0 | AI12: =K12+Q12+W12+AC12 -> 2 | AL12: =N12+T12+Z12+AF12 -> 0
D13: 合計 | K13: =SUM(K10:M12) -> 24 | N13: =SUM(N10:P12) -> 24 | Q13: =SUM(Q10:S12) -> 19 | T13: =SUM(T10:V12) -> 30 | W13: =SUM(W10:Y12) -> 24 | Z13: =SUM(Z10:AB12) -> 11 | AC13: =SUM(AC10:AE12) -> 24 | AF13: =SUM(AF10:AH12) -> 36 | AI13: =SUM(K13+Q13+W13+AC13) -> 91 | AL13: =SUM(N13+T13+Z13+AF13) -> 101 | AO13: 人
K14: =K13+N13 -> 48 | Q14: =Q13+T13 -> 49 | W14: =W13+Z13 -> 35 | AC14: =AC13+AF13 -> 60 | AI14: =AI13+AL13 -> 192
F15: 患者様氏名 | N15: 入院形態 | T15: 担当Dr | Y15: 担当SW | AD15: 病棟 | AJ15: 備考欄
D16: 入院 | F16: 清川 美奈 | L16: 様 | N16: 医療保護入院 | T16: 金泰德Dr | AD16: 東B
F17: 大釜 美香子 | L17: 様 | N17: 医療保護入院 | T17: 金泰德Dr | AD17: 東A
L18: 様
L19: 様
L20: 様
D21: 退院 | F21: 小國 貞子 | L21: 様 | N21: 医療保護入院 | T21: 金泰德Dr | AD21: 南B
F22: 宮木 昌志 | L22: 様 | N22: 任意入院 | T22: 田名部茂Dr | AD22: 西A
L23: 様
L24: 様
L25: 様
D26: 転棟 ･ 入院形態変更 | F26: 田茂 ケイ子 | L26: 様 | N26: 医療保護入院 | T26: 馬渡晃弘Dr | AD26: 東C→南A
L27: 様
L28: 様
L29: 様
L30: 様
A31: 患者様 関連 | D31: 患者様氏名 | K31: 担当Dr | P31: 病棟 | S31: 制限内容 | X31: 制限時間 | AC31: 開始日時 | AO31: 備考
D32: 中村 聡 | I32: 様 | K32: 金泰徳Dr | P32: 東B | S32: 通信制限 | X32: 通信制限 | AC32: 令和 | AE32: 3 | AF32: 年 | AG32: 5 | AH32: 月 | AI32: 31 | AJ32: 日 | AL32: ： | AN32: ～
D33: 松谷 さと子 | I33: 様 | K33: 深澤隆Dr | P33: 東A | S33: 通信制限 | X33: 通信制限 | AC33: 令和 | AE33: 4 | AF33: 年 | AG33: 6 | AH33: 月 | AI33: 6 | AJ33: 日 | AL33: ： | AN33: ～
D34: 宮﨑 宏之 | I34: 様 | K34: 馬渡晃弘Dr | P34: 東A | S34: 終日隔離 | X34: 終日隔離 | AC34: 令和 | AE34: 4 | AF34: 年 | AG34: 9 | AH34: 月 | AI34: 30 | AJ34: 日 | AL34: ： | AN34: ～
D35: 沼山 真紀子 | I35: 様 | K35: 金泰徳Dr | P35: 東A | S35: 通信制限 | X35: 通信制限 | AC35: 令和 | AE35: 5 | AF35: 年 | AG35: 2 | AH35: 月 | AI35: 16 | AJ35: 日 | AL35: ： | AN35: ～
D36: 馬場 日出子 | I36: 様 | K36: 金泰徳Dr | P36: 東A | S36: 通信制限 | X36: 通信制限 | AC36: 令和 | AE36: 5 | AF36: 年 | AG36: 5 | AH36: 月 | AI36: 1 | AJ36: 日 | AL36: ： | AN36: ～
D37: 袴田 将志 | I37: 様 | K37: 田名部茂Dr | P37: 東A | S37: 終日隔離 | X37: 終日隔離 | AC37: 令和 | AE37: 5 | AF37: 年 | AG37: 8 | AH37: 月 | AI37: 6 | AJ37: 日 | AL37: ： | AN37: ～
D38: 中川原 佳宏 | I38: 様 | K38: 小栁匡相Dr | P38: 東A | S38: 終日隔離 | X38: 終日隔離 | AC38: 令和 | AE38: 5 | AF38: 年 | AG38: 8 | AH38: 月 | AI38: 13 | AJ38: 日 | AL38: ： | AN38: ～
D39: 大釜 美香子 | I39: 様 | K39: 金泰徳Dr | P39: 東A | S39: 終日隔離 | X39: 終日隔離 | AC39: 令和 | AE39: 5 | AF39: 年 | AG39: 9 | AH39: 月 | AI39: 5 | AJ39: 日 | AL39: ： | AN39: ～
I40: 様 | AC40: 令和 | AF40: 年 | AH40: 月 | AJ40: 日 | AL40: ： | AN40: ～
I41: 様 | AC41: 令和 | AF41: 年 | AH41: 月 | AJ41: 日 | AL41: ： | AN41: ～
I42: 様 | AC42: 令和 | AF42: 年 | AH42: 月 | AJ42: 日 | AL42: ： | AN42: ～
I43: 様 | AC43: 令和 | AF43: 年 | AH43: 月 | AJ43: 日 | AL43: ： | AN43: ～
I44: 様 | AC44: 令和 | AF44: 年 | AH44: 月 | AJ44: 日 | AL44: ： | AN44: ～
I45: 様 | AC45: 令和 | AF45: 年 | AH45: 月 | AJ45: 日 | AL45: ： | AN45: ～
I46: 様 | AC46: 令和 | AF46: 年 | AH46: 月 | AJ46: 日 | AL46: ： | AN46: ～
A47: 業務 内容 | D47: 項目 | J47: 患者様氏名 | P47: 担当 | S47: 備考 | Y47: 項目 | AA47: 患者様氏名 | AG47: 内容 | AQ47: 担当
D48: 外 来 患 者 対 応 | F48: 外来患者 対応 | O48: 様 | Y48: 書 類 作 成 完 了 | AF48: 様
O49: 様 | AF49: 様
O50: 様 | AF50: 様
O51: 様 | AF51: 様
O52: 様 | AF52: 様
O53: 様 | AF53: 様
O54: 様 | AF54: 様
D55: 項目 | J55: 患者様氏名 | P55: 担当 | S55: 備考 | AF55: 様
D56: 入 退 院 支 援 | F56: 退院支援 | O56: 様 | AF56: 様
O57: 様 | AF57: 様
O58: 様 | Y58: 項目 | AG58: 件数 | AJ58: 担当 | AM58: 備考
O59: 様 | Y59: 電話対応 | AI59: 件
O60: 様 | Y60: 保健所への届出 | AI60: 件
F61: 退院請求 対応 | O61: 様 | Y61: 項目 | AG61: 内容
O62: 様 | Y62: 通院医療 観察法
F63: 入院患者 対応 | J63: 担当 | M63: 件数 | P63: 備考
O64: 件 | Y64: 認知症疾患 医療ｾﾝﾀｰ
O65: 件
O66: 件 | Y66: 各種会議参加 外部の業務
O67: 件
A68: 安全管理 | D68: 事故 | S68: 物品 購入 | AE68: 連絡 事項
D69: 苦情
D70: 紛失
D71: 他

Sheet 6
A1: ソーシャルワーカー室 業務日誌 | AH1: C.O.O | AL1: I.O.O | AP1: Ａ.Ｏ.Ｍ
H3: =曜日!B12 -> 令和5年 | M3: =曜日!C12 -> 9月 | P3: 6日 | S3: （ | T3: =曜日!D8 -> 水 | U3: ） | W3: 作成者 | Z3: ：
A5: 労務 状況 | D5: 勤務状況 | K5: 西舘 翔子 | T5: 大川 祥子 | AC5: 宇津木澤 育美 | AL5: 早狩 風花
K6: 澤里 皓輝 | T6: 石鉢 佳代
A8: 入退院 状況 | D8: 入院形態 | K8: 東病棟 | Q8: 西病棟 | W8: 北病棟 | AC8: 南病棟 | AI8: 合計 | AO8: 総数
K9: 男性 | N9: 女性 | Q9: 男性 | T9: 女性 | W9: 男性 | Z9: 女性 | AC9: 男性 | AF9: 女性 | AI9: 男性 | AL9: 女性
D10: 任意入院 | K10: 4 | N10: 5 | Q10: 5 | T10: 7 | W10: 24 | Z10: 10 | AC10: 0 | AF10: 2 | AI10: =K10+Q10+W10+AC10 -> 33 | AL10: =N10+T10+Z10+AF10 -> 24 | AO10: =AI14 -> 194
D11: 医療保護入院 | K11: 18 | N11: 21 | Q11: 14 | T11: 23 | W11: 0 | Z11: 1 | AC11: 24 | AF11: 34 | AI11: =K11+Q11+W11+AC11 -> 56 | AL11: =N11+T11+Z11+AF11 -> 79
D12: 措置入院 | K12: 2 | N12: 0 | Q12: 0 | T12: 0 | W12: 0 | Z12: 0 | AC12: 0 | AF12: 0 | AI12: =K12+Q12+W12+AC12 -> 2 | AL12: =N12+T12+Z12+AF12 -> 0
D13: 合計 | K13: =SUM(K10:M12) -> 24 | N13: =SUM(N10:P12) -> 26 | Q13: =SUM(Q10:S12) -> 19 | T13: =SUM(T10:V12) -> 30 | W13: =SUM(W10:Y12) -> 24 | Z13: =SUM(Z10:AB12) -> 11 | AC13: =SUM(AC10:AE12) -> 24 | AF13: =SUM(AF10:AH12) -> 36 | AI13: =SUM(K13+Q13+W13+AC13) -> 91 | AL13: =SUM(N13+T13+Z13+AF13) -> 103 | AO13: 人
K14: =K13+N13 -> 50 | Q14: =Q13+T13 -> 49 | W14: =W13+Z13 -> 35 | AC14: =AC13+AF13 -> 60 | AI14: =AI13+AL13 -> 194
F15: 患者様氏名 | N15: 入院形態 | T15: 担当Dr | Y15: 担当SW | AD15: 病棟 | AJ15: 備考欄
D16: 入院 | F16: 松井 ミサ | L16: 様 | N16: 任意入院 | T16: 深澤隆Dr | AD16: 東合
F17: 袴田 サクラ | L17: 様 | N17: 医療保護入院 | T17: 金泰德Dr | AD17: 東C
L18: 様
L19: 様
L20: 様
D21: 退院 | L21: 様
L22: 様
L23: 様
L24: 様
L25: 様
D26: 転棟 ･ 入院形態変更 | L26: 様
L27: 様
L28: 様
L29: 様
L30: 様
A31: 患者様 関連 | D31: 患者様氏名 | K31: 担当Dr | P31: 病棟 | S31: 制限内容 | X31: 制限時間 | AC31: 開始日時 | AO31: 備考
D32: 中村 聡 | I32: 様 | K32: 金泰徳Dr | P32: 東B | S32: 通信制限 | X32: 通信制限 | AC32: 令和 | AE32: 3 | AF32: 年 | AG32: 5 | AH32: 月 | AI32: 31 | AJ32: 日 | AL32: ： | AN32: ～
D33: 松谷 さと子 | I33: 様 | K33: 深澤隆Dr | P33: 東A | S33: 通信制限 | X33: 通信制限 | AC33: 令和 | AE33: 4 | AF33: 年 | AG33: 6 | AH33: 月 | AI33: 6 | AJ33: 日 | AL33: ： | AN33: ～
D34: 宮﨑 宏之 | I34: 様 | K34: 馬渡晃弘Dr | P34: 東A | S34: 終日隔離 | X34: 終日隔離 | AC34: 令和 | AE34: 4 | AF34: 年 | AG34: 9 | AH34: 月 | AI34: 30 | AJ34: 日 | AL34: ： | AN34: ～
D35: 沼山 真紀子 | I35: 様 | K35: 金泰徳Dr | P35: 東A | S35: 通信制限 | X35: 通信制限 | AC35: 令和 | AE35: 5 | AF35: 年 | AG35: 2 | AH35: 月 | AI35: 16 | AJ35: 日 | AL35: ： | AN35: ～
D36: 馬場 日出子 | I36: 様 | K36: 金泰徳Dr | P36: 東A | S36: 通信制限 | X36: 通信制限 | AC36: 令和 | AE36: 5 | AF36: 年 | AG36: 5 | AH36: 月 | AI36: 1 | AJ36: 日 | AL36: ： | AN36: ～
D37: 袴田 将志 | I37: 様 | K37: 田名部茂Dr | P37: 東A | S37: 終日隔離 | X37: 終日隔離 | AC37: 令和 | AE37: 5 | AF37: 年 | AG37: 8 | AH37: 月 | AI37: 6 | AJ37: 日 | AL37: ： | AN37: ～
D38: 中川原 佳宏 | I38: 様 | K38: 小栁匡相Dr | P38: 東A | S38: 終日隔離 | X38: 終日隔離 | AC38: 令和 | AE38: 5 | AF38: 年 | AG38: 8 | AH38: 月 | AI38: 13 | AJ38: 日 | AL38: ： | AN38: ～
D39: 戸来 栄一 | I39: 様 | K39: 金泰徳Dr | P39: 東A | S39: 身体拘束 | AC39: 令和 | AF39: 年 | AH39: 月 | AJ39: 日 | AL39: ： | AN39: ～
I40: 様 | AC40: 令和 | AF40: 年 | AH40: 月 | AJ40: 日 | AL40: ： | AN40: ～
I41: 様 | AC41: 令和 | AF41: 年 | AH41: 月 | AJ41: 日 | AL41: ： | AN41: ～
I42: 様 | AC42: 令和 | AF42: 年 | AH42: 月 | AJ42: 日 | AL42: ： | AN42: ～
I43: 様 | AC43: 令和 | AF43: 年 | AH43: 月 | AJ43: 日 | AL43: ： | AN43: ～
I44: 様 | AC44: 令和 | AF44: 年 | AH44: 月 | AJ44: 日 | AL44: ： | AN44: ～
I45: 様 | AC45: 令和 | AF45: 年 | AH45: 月 | AJ45: 日 | AL45: ： | AN45: ～
I46: 様 | AC46: 令和 | AF46: 年 | AH46: 月 | AJ46: 日 | AL46: ： | AN46: ～
A47: 業務 内容 | D47: 項目 | J47: 患者様氏名 | P47: 担当 | S47: 備考 | Y47: 項目 | AA47: 患者様氏名 | AG47: 内容 | AQ47: 担当
D48: 外 来 患 者 対 応 | F48: 外来患者 対応 | O48: 様 | Y48: 書 類 作 成 完 了 | AF48: 様
O49: 様 | AF49: 様
O50: 様 | AF50: 様
O51: 様 | AF51: 様
O52: 様 | AF52: 様
O53: 様 | AF53: 様
O54: 様 | AF54: 様
D55: 項目 | J55: 患者様氏名 | P55: 担当 | S55: 備考 | AF55: 様
D56: 入 退 院 支 援 | F56: 退院支援 | O56: 様 | AF56: 様
O57: 様 | AF57: 様
O58: 様 | Y58: 項目 | AG58: 件数 | AJ58: 担当 | AM58: 備考
O59: 様 | Y59: 電話対応 | AI59: 件
O60: 様 | Y60: 保健所への届出 | AI60: 件
F61: 退院請求 対応 | O61: 様 | Y61: 項目 | AG61: 内容
O62: 様 | Y62: 通院医療 観察法
F63: 入院患者 対応 | J63: 担当 | M63: 件数 | P63: 備考
O64: 件 | Y64: 認知症疾患 医療ｾﾝﾀｰ
O65: 件
O66: 件 | Y66: 各種会議参加 外部の業務
O67: 件
A68: 安全管理 | D68: 事故 | S68: 物品 購入 | AE68: 連絡 事項
D69: 苦情
D70: 紛失
D71: 他

Sheet 7
A1: ソーシャルワーカー室 業務日誌 | AH1: C.O.O | AL1: I.O.O | AP1: Ａ.Ｏ.Ｍ
H3: =曜日!B12 -> 令和5年 | M3: =曜日!C12 -> 9月 | P3: 7日 | S3: （ | T3: =曜日!D9 -> 木 | U3: ） | W3: 作成者 | Z3: ：
A5: 労務 状況 | D5: 勤務状況 | K5: 西舘 翔子 | T5: 大川 祥子 | AC5: 宇津木澤 育美 | AL5: 早狩 風花
K6: 澤里 皓輝 | T6: 石鉢 佳代
A8: 入退院 状況 | D8: 入院形態 | K8: 東病棟 | Q8: 西病棟 | W8: 北病棟 | AC8: 南病棟 | AI8: 合計 | AO8: 総数
K9: 男性 | N9: 女性 | Q9: 男性 | T9: 女性 | W9: 男性 | Z9: 女性 | AC9: 男性 | AF9: 女性 | AI9: 男性 | AL9: 女性
D10: 任意入院 | Z10: 0 | AI10: =K10+Q10+W10+AC10 -> 0 | AL10: =N10+T10+Z10+AF10 -> 0 | AO10: =AI14 -> 0
D11: 医療保護入院 | AI11: =K11+Q11+W11+AC11 -> 0 | AL11: =N11+T11+Z11+AF11 -> 0
D12: 措置入院 | AI12: =K12+Q12+W12+AC12 -> 0 | AL12: =N12+T12+Z12+AF12 -> 0
D13: 合計 | K13: =SUM(K10:M12) -> 0 | N13: =SUM(N10:P12) -> 0 | Q13: =SUM(Q10:S12) -> 0 | T13: =SUM(T10:V12) -> 0 | W13: =SUM(W10:Y12) -> 0 | Z13: =SUM(Z10:AB12) -> 0 | AC13: =SUM(AC10:AE12) -> 0 | AF13: =SUM(AF10:AH12) -> 0 | AI13: =SUM(K13+Q13+W13+AC13) -> 0 | AL13: =SUM(N13+T13+Z13+AF13) -> 0 | AO13: 人
K14: =K13+N13 -> 0 | Q14: =Q13+T13 -> 0 | W14: =W13+Z13 -> 0 | AC14: =AC13+AF13 -> 0 | AI14: =AI13+AL13 -> 0
F15: 患者様氏名 | N15: 入院形態 | T15: 担当Dr | Y15: 担当SW | AD15: 病棟 | AJ15: 備考欄
D16: 入院 | L16: 様
L17: 様
L18: 様
L19: 様
L20: 様
D21: 退院 | L21: 様
L22: 様
L23: 様
L24: 様
L25: 様
D26: 転棟 ･ 入院形態変更 | L26: 様
L27: 様
L28: 様
L29: 様
L30: 様
A31: 患者様 関連 | D31: 患者様氏名 | K31: 担当Dr | P31: 病棟 | S31: 制限内容 | X31: 制限時間 | AC31: 開始日時 | AO31: 備考
I32: 様 | AC32: 令和 | AF32: 年 | AH32: 月 | AJ32: 日 | AL32: ： | AN32: ～
I33: 様 | AC33: 令和 | AF33: 年 | AH33: 月 | AJ33: 日 | AL33: ： | AN33: ～
I34: 様 | AC34: 令和 | AF34: 年 | AH34: 月 | AJ34: 日 | AL34: ： | AN34: ～
I35: 様 | AC35: 令和 | AF35: 年 | AH35: 月 | AJ35: 日 | AL35: ： | AN35: ～
I36: 様 | AC36: 令和 | AF36: 年 | AH36: 月 | AJ36: 日 | AL36: ： | AN36: ～
I37: 様 | AC37: 令和 | AF37: 年 | AH37: 月 | AJ37: 日 | AL37: ： | AN37: ～
I38: 様 | AC38: 令和 | AF38: 年 | AH38: 月 | AJ38: 日 | AL38: ： | AN38: ～
I39: 様 | AC39: 令和 | AF39: 年 | AH39: 月 | AJ39: 日 | AL39: ： | AN39: ～
I40: 様 | AC40: 令和 | AF40: 年 | AH40: 月 | AJ40: 日 | AL40: ： | AN40: ～
I41: 様 | AC41: 令和 | AF41: 年 | AH41: 月 | AJ41: 日 | AL41: ： | AN41: ～
I42: 様 | AC42: 令和 | AF42: 年 | AH42: 月 | AJ42: 日 | AL42: ： | AN42: ～
I43: 様 | AC43: 令和 | AF43: 年 | AH43: 月 | AJ43: 日 | AL43: ： | AN43: ～
... I46: 様 | AC46: 令和 | AF46: 年 | AH46: 月 | AJ46: 日 | AL46: ： | AN46: ～
A47: 業務 内容 | D47: 項目 | J47: 患者様氏名 | P47: 担当 | S47: 備考 | Y47: 項目 | AA47: 患者様氏名 | AG47: 内容 | AQ47: 担当
D48: 外 来 患 者 対 応 | F48: 外来患者 対応 | O48: 様 | Y48: 書 類 作 成 完 了 | AF48: 様
O49: 様 | AF49: 様
O50: 様 | AF50: 様
O51: 様 | AF51: 様
O52: 様 | AF52: 様
O53: 様 | AF53: 様
O54: 様 | AF54: 様
D55: 項目 | J55: 患者様氏名 | P55: 担当 | S55: 備考 | AF55: 様
D56: 入 退 院 支 援 | F56: 退院支援 | O56: 様 | AF56: 様
O57: 様 | AF57: 様
O58: 様 | Y58: 項目 | AG58: 件数 | AJ58: 担当 | AM58: 備考
O59: 様 | Y59: 電話対応 | AI59: 件
O60: 様 | Y60: 保健所への届出 | AI60: 件
F61: 退院請求 対応 | O61: 様 | Y61: 項目 | AG61: 内容
O62: 様 | Y62: 通院医療 観察法
F63: 入院患者 対応 | J63: 担当 | M63: 件数 | P63: 備考
O64: 件 | Y64: 認知症疾患 医療ｾﾝﾀｰ
O65: 件
O66: 件 | Y66: 各種会議参加 外部の業務
O67: 件
A68: 安全管理 | D68: 事故 | S68: 物品 購入 | AE68: 連絡 事項
D69: 苦情
D70: 紛失
D71: 他

Sheet 8
A1: ソーシャルワーカー室 業務日誌 | AH1: C.O.O | AL1: I.O.O | AP1: Ａ.Ｏ.Ｍ
H3: =曜日!B12 -> 令和5年 | M3: =曜日!C12 -> 9月 | P3: 8日 | S3: （ | T3: =曜日!D3 -> 金 | U3: ） | W3: 作成者 | Z3: ：
A5: 労務 状況 | D5: 勤務状況 | K5: 西舘 翔子 | T5: 大川 祥子 | AC5: 宇津木澤 育美 | AL5: 早狩 風花
K6: 澤里 皓輝 | T6: 石鉢 佳代
A8: 入退院 状況 | D8: 入院形態 | K8: 東病棟 | Q8: 西病棟 | W8: 北病棟 | AC8: 南病棟 | AI8: 合計 | AO8: 総数
K9: 男性 | N9: 女性 | Q9: 男性 | T9: 女性 | W9: 男性 | Z9: 女性 | AC9: 男性 | AF9: 女性 | AI9: 男性 | AL9: 女性
D10: 任意入院 | Z10: 0 | AI10: =K10+Q10+W10+AC10 -> 0 | AL10: =N10+T10+Z10+AF10 -> 0 | AO10: =AI14 -> 0
D11: 医療保護入院 | AI11: =K11+Q11+W11+AC11 -> 0 | AL11: =N11+T11+Z11+AF11 -> 0
D12: 措置入院 | AI12: =K12+Q12+W12+AC12 -> 0 | AL12: =N12+T12+Z12+AF12 -> 0
D13: 合計 | K13: =SUM(K10:M12) -> 0 | N13: =SUM(N10:P12) -> 0 | Q13: =SUM(Q10:S12) -> 0 | T13: =SUM(T10:V12) -> 0 | W13: =SUM(W10:Y12) -> 0 | Z13: =SUM(Z10:AB12) -> 0 | AC13: =SUM(AC10:AE12) -> 0 | AF13: =SUM(AF10:AH12) -> 0 | AI13: =SUM(K13+Q13+W13+AC13) -> 0 | AL13: =SUM(N13+T13+Z13+AF13) -> 0 | AO13: 人
K14: =K13+N13 -> 0 | Q14: =Q13+T13 -> 0 | W14: =W13+Z13 -> 0 | AC14: =AC13+AF13 -> 0 | AI14: =AI13+AL13 -> 0
F15: 患者様氏名 | N15: 入院形態 | T15: 担当Dr | Y15: 担当SW | AD15: 病棟 | AJ15: 備考欄
D16: 入院 | L16: 様
L17: 様
L18: 様
L19: 様
L20: 様
D21: 退院 | L21: 様
L22: 様
L23: 様
L24: 様
L25: 様
D26: 転棟 ･ 入院形態変更 | L26: 様
L27: 様
L28: 様
L29: 様
L30: 様
A31: 患者様 関連 | D31: 患者様氏名 | K31: 担当Dr | P31: 病棟 | S31: 制限内容 | X31: 制限時間 | AC31: 開始日時 | AO31: 備考
I32: 様 | AC32: 令和 | AF32: 年 | AH32: 月 | AJ32: 日 | AL32: ： | AN32: ～
I33: 様 | AC33: 令和 | AF33: 年 | AH33: 月 | AJ33: 日 | AL33: ： | AN33: ～ | AO33: 解除(退院)
I34: 様 | AC34: 令和 | AF34: 年 | AH34: 月 | AJ34: 日 | AL34: ： | AN34: ～
I35: 様 | AC35: 令和 | AF35: 年 | AH35: 月 | AJ35: 日 | AL35: ： | AN35: ～
I36: 様 | AC36: 令和 | AF36: 年 | AH36: 月 | AJ36: 日 | AL36: ： | AN36: ～
I37: 様 | AC37: 令和 | AF37: 年 | AH37: 月 | AJ37: 日 | AL37: ： | AN37: ～
I38: 様 | AC38: 令和 | AF38: 年 | AH38: 月 | AJ38: 日 | AL38: ： | AN38: ～
I39: 様 | AC39: 令和 | AF39: 年 | AH39: 月 | AJ39: 日 | AL39: ： | AN39: ～
I40: 様 | AC40: 令和 | AF40: 年 | AH40: 月 | AJ40: 日 | AL40: ： | AN40: ～
I41: 様 | AC41: 令和 | AF41: 年 | AH41: 月 | AJ41: 日 | AL41: ： | AN41: ～
I42: 様 | AC42: 令和 | AF42: 年 | AH42: 月 | AJ42: 日 | AL42: ： | AN42: ～
I43: 様 | AC43: 令和 | AF43: 年 | AH43: 月 | AJ43: 日 | AL43: ： | AN43: ～
I44: 様 | AC44: 令和 | AF44: 年 | AH44: 月 | AJ44: 日 | AL44: ： | AN44: ～
I45: 様 | AC45: 令和 | AF45: 年 | AH45: 月 | AJ45: 日 | AL45: ： | AN45: ～
I46: 様 | AC46: 令和 | AF46: 年 | AH46: 月 | AJ46: 日 | AL46: ： | AN46: ～
A47: 業務 内容 | D47: 項目 | J47: 患者様氏名 | P47: 担当 | S47: 備考 | Y47: 項目 | AA47: 患者様氏名 | AG47: 内容 | AQ47: 担当
D48: 外 来 患 者 対 応 | F48: 外来患者 対応 | O48: 様 | Y48: 書 類 作 成 完 了 | AF48: 様
O49: 様 | AF49: 様
O50: 様 | AF50: 様
O51: 様 | AF51: 様
O52: 様 | AF52: 様
O53: 様 | AF53: 様
O54: 様 | AF54: 様
D55: 項目 | J55: 患者様氏名 | P55: 担当 | S55: 備考 | AF55: 様
D56: 入 退 院 支 援 | F56: 退院支援 | O56: 様 | AF56: 様
O57: 様 | AF57: 様
O58: 様 | Y58: 項目 | AG58: 件数 | AJ58: 担当 | AM58: 備考
O59: 様 | Y59: 電話対応 | AI59: 件
O60: 様 | Y60: 保健所への届出 | AI60: 件
F61: 退院請求 対応 | O61: 様 | Y61: 項目 | AG61: 内容
O62: 様 | Y62: 通院医療 観察法
F63: 入院患者 対応 | J63: 担当 | M63: 件数 | P63: 備考
O64: 件 | Y64: 認知症疾患 医療ｾﾝﾀｰ
O65: 件
O66: 件 | Y66: 各種会議参加 外部の業務
O67: 件
A68: 安全管理 | D68: 事故 | S68: 物品 購入 | AE68: 連絡 事項
D69: 苦情
D70: 紛失
D71: 他

Sheet 9
A1: ソーシャルワーカー室 業務日誌 | AH1: C.O.O | AL1: I.O.O | AP1: Ａ.Ｏ.Ｍ
H3: =曜日!B12 -> 令和5年 | M3: =曜日!C12 -> 9月 | P3: 9日 | S3: （ | T3: =曜日!D4 -> 土 | U3: ） | W3: 作成者 | Z3: ：
A5: 労務 状況 | D5: 勤務状況 | K5: 西舘 翔子 | T5: 大川 祥子 | AC5: 宇津木澤 育美 | AL5: 早狩 風花
K6: 澤里 皓輝 | T6: 石鉢 佳代
A8: 入退院 状況 | D8: 入院形態 | K8: 東病棟 | Q8: 西病棟 | W8: 北病棟 | AC8: 南病棟 | AI8: 合計 | AO8: 総数
K9: 男性 | N9: 女性 | Q9: 男性 | T9: 女性 | W9: 男性 | Z9: 女性 | AC9: 男性 | AF9: 女性 | AI9: 男性 | AL9: 女性
D10: 任意入院 | Z10: 0 | AI10: =K10+Q10+W10+AC10 -> 0 | AL10: =N10+T10+Z10+AF10 -> 0 | AO10: =AI14 -> 0
D11: 医療保護入院 | AI11: =K11+Q11+W11+AC11 -> 0 | AL11: =N11+T11+Z11+AF11 -> 0
D12: 措置入院 | AI12: =K12+Q12+W12+AC12 -> 0 | AL12: =N12+T12+Z12+AF12 -> 0
D13: 合計 | K13: =SUM(K10:M12) -> 0 | N13: =SUM(N10:P12) -> 0 | Q13: =SUM(Q10:S12) -> 0 | T13: =SUM(T10:V12) -> 0 | W13: =SUM(W10:Y12) -> 0 | Z13: =SUM(Z10:AB12) -> 0 | AC13: =SUM(AC10:AE12) -> 0 | AF13: =SUM(AF10:AH12) -> 0 | AI13: =SUM(K13+Q13+W13+AC13) -> 0 | AL13: =SUM(N13+T13+Z13+AF13) -> 0 | AO13: 人
K14: =K13+N13 -> 0 | Q14: =Q13+T13 -> 0 | W14: =W13+Z13 -> 0 | AC14: =AC13+AF13 -> 0 | AI14: =AI13+AL13 -> 0
F15: 患者様氏名 | N15: 入院形態 | T15: 担当Dr | Y15: 担当SW | AD15: 病棟 | AJ15: 備考欄
D16: 入院 | L16: 様
L17: 様
L18: 様
L19: 様
L20: 様
D21: 退院 | L21: 様
L22: 様
L23: 様
L24: 様
L25: 様
D26: 転棟 ･ 入院形態変更 | L26: 様
L27: 様
L28: 様
L29: 様
L30: 様
A31: 患者様 関連 | D31: 患者様氏名 | K31: 担当Dr | P31: 病棟 | S31: 制限内容 | X31: 制限時間 | AC31: 開始日時 | AO31: 備考
I32: 様 | AC32: 令和 | AF32: 年 | AH32: 月 | AJ32: 日 | AL32: ： | AN32: ～
I33: 様 | AC33: 令和 | AF33: 年 | AH33: 月 | AJ33: 日 | AL33: ： | AN33: ～
I34: 様 | AC34: 令和 | AF34: 年 | AH34: 月 | AJ34: 日 | AL34: ： | AN34: ～
I35: 様 | AC35: 令和 | AF35: 年 | AH35: 月 | AJ35: 日 | AL35: ： | AN35: ～
I36: 様 | AC36: 令和 | AF36: 年 | AH36: 月 | AJ36: 日 | AL36: ： | AN36: ～
I37: 様 | AC37: 令和 | AF37: 年 | AH37: 月 | AJ37: 日 | AL37: ： | AN37: ～
I38: 様 | AC38: 令和 | AF38: 年 | AH38: 月 | AJ38: 日 | AL38: ： | AN38: ～
I39: 様 | AC39: 令和 | AF39: 年 | AH39: 月 | AJ39: 日 | AL39: ： | AN39: ～
I40: 様 | AC40: 令和 | AF40: 年 | AH40: 月 | AJ40: 日 | AL40: ： | AN40: ～
I41: 様 | AC41: 令和 | AF41: 年 | AH41: 月 | AJ41: 日 | AL41: ： | AN41: ～
I42: 様 | AC42: 令和 | AF42: 年 | AH42: 月 | AJ42: 日 | AL42: ： | AN42: ～
I43: 様 | AC43: 令和 | AF43: 年 | AH43: 月 | AJ43: 日 | AL43: ： | AN43: ～
... I46: 様 | AC46: 令和 | AF46: 年 | AH46: 月 | AJ46: 日 | AL46: ： | AN46: ～
A47: 業務 内容 | D47: 項目 | J47: 患者様氏名 | P47: 担当 | S47: 備考 | Y47: 項目 | AA47: 患者様氏名 | AG47: 内容 | AQ47: 担当
D48: 外 来 患 者 対 応 | F48: 外来患者 対応 | O48: 様 | Y48: 書 類 作 成 完 了 | AF48: 様
O49: 様 | AF49: 様
O50: 様 | AF50: 様
O51: 様 | AF51: 様
O52: 様 | AF52: 様
O53: 様 | AF53: 様
O54: 様 | AF54: 様
D55: 項目 | J55: 患者様氏名 | P55: 担当 | S55: 備考 | AF55: 様
D56: 入 退 院 支 援 | F56: 退院支援 | O56: 様 | AF56: 様
O57: 様 | AF57: 様
O58: 様 | Y58: 項目 | AG58: 件数 | AJ58: 担当 | AM58: 備考
O59: 様 | Y59: 電話対応 | AI59: 件
O60: 様 | Y60: 保健所への届出 | AI60: 件
F61: 退院請求 対応 | O61: 様 | Y61: 項目 | AG61: 内容
O62: 様 | Y62: 通院医療 観察法
F63: 入院患者 対応 | J63: 担当 | M63: 件数 | P63: 備考
O64: 件 | Y64: 認知症疾患 医療ｾﾝﾀｰ
O65: 件
O66: 件 | Y66: 各種会議参加 外部の業務
O67: 件
A68: 安全管理 | D68: 事故 | S68: 物品 購入 | AE68: 連絡 事項
D69: 苦情
D70: 紛失
D71: 他

Sheet 10
A1: ソーシャルワーカー室 業務日誌 | AH1: C.O.O | AL1: I.O.O | AP1: Ａ.Ｏ.Ｍ
H3: =曜日!B12 -> 令和5年 | M3: =曜日!C12 -> 9月 | P3: 10日 | S3: （ | T3: =曜日!D5 -> 日 | U3: ） | W3: 作成者 | Z3: ：
A5: 労務 状況 | D5: 勤務状況 | K5: 西舘 翔子 | T5: 大川 祥子 | AC5: 宇津木澤 育美 | AL5: 早狩 風花
K6: 澤里 皓輝 | T6: 石鉢 佳代
A8: 入退院 状況 | D8: 入院形態 | K8: 東病棟 | Q8: 西病棟 | W8: 北病棟 | AC8: 南病棟 | AI8: 合計 | AO8: 総数
K9: 男性 | N9: 女性 | Q9: 男性 | T9: 女性 | W9: 男性 | Z9: 女性 | AC9: 男性 | AF9: 女性 | AI9: 男性 | AL9: 女性
D10: 任意入院 | Z10: 0 | AI10: =K10+Q10+W10+AC10 -> 0 | AL10: =N10+T10+Z10+AF10 -> 0 | AO10: =AI14 -> 0
D11: 医療保護入院 | AI11: =K11+Q11+W11+AC11 -> 0 | AL11: =N11+T11+Z11+AF11 -> 0
D12: 措置入院 | AI12: =K12+Q12+W12+AC12 -> 0 | AL12: =N12+T12+Z12+AF12 -> 0
D13: 合計 | K13: =SUM(K10:M12) -> 0 | N13: =SUM(N10:P12) -> 0 | Q13: =SUM(Q10:S12) -> 0 | T13: =SUM(T10:V12) -> 0 | W13: =SUM(W10:Y12) -> 0 | Z13: =SUM(Z10:AB12) -> 0 | AC13: =SUM(AC10:AE12) -> 0 | AF13: =SUM(AF10:AH12) -> 0 | AI13: =SUM(K13+Q13+W13+AC13) -> 0 | AL13: =SUM(N13+T13+Z13+AF13) -> 0 | AO13: 人
K14: =K13+N13 -> 0 | Q14: =Q13+T13 -> 0 | W14: =W13+Z13 -> 0 | AC14: =AC13+AF13 -> 0 | AI14: =AI13+AL13 -> 0
F15: 患者様氏名 | N15: 入院形態 | T15: 担当Dr | Y15: 担当SW | AD15: 病棟 | AJ15: 備考欄
D16: 入院 | L16: 様
L17: 様
L18: 様
L19: 様
L20: 様
D21: 退院 | L21: 様
L22: 様
L23: 様
L24: 様
L25: 様
D26: 転棟 ･ 入院形態変更 | L26: 様
L27: 様
L28: 様
L29: 様
L30: 様
A31: 患者様 関連 | D31: 患者様氏名 | K31: 担当Dr | P31: 病棟 | S31: 制限内容 | X31: 制限時間 | AC31: 開始日時 | AO31: 備考
I32: 様 | AC32: 令和 | AF32: 年 | AH32: 月 | AJ32: 日 | AL32: ： | AN32: ～
I33: 様 | AC33: 令和 | AF33: 年 | AH33: 月 | AJ33: 日 | AL33: ： | AN33: ～
I34: 様 | AC34: 令和 | AF34: 年 | AH34: 月 | AJ34: 日 | AL34: ： | AN34: ～
I35: 様 | AC35: 令和 | AF35: 年 | AH35: 月 | AJ35: 日 | AL35: ： | AN35: ～
I36: 様 | AC36: 令和 | AF36: 年 | AH36: 月 | AJ36: 日 | AL36: ： | AN36: ～
I37: 様 | AC37: 令和 | AF37: 年 | AH37: 月 | AJ37: 日 | AL37: ： | AN37: ～
I38: 様 | AC38: 令和 | AF38: 年 | AH38: 月 | AJ38: 日 | AL38: ： | AN38: ～
I39: 様 | AC39: 令和 | AF39: 年 | AH39: 月 | AJ39: 日 | AL39: ： | AN39: ～
I40: 様 | AC40: 令和 | AF40: 年 | AH40: 月 | AJ40: 日 | AL40: ： | AN40: ～
I41: 様 | AC41: 令和 | AF41: 年 | AH41: 月 | AJ41: 日 | AL41: ： | AN41: ～
I42: 様 | AC42: 令和 | AF42: 年 | AH42: 月 | AJ42: 日 | AL42: ： | AN42: ～
I43: 様 | AC43: 令和 | AF43: 年 | AH43: 月 | AJ43: 日 | AL43: ： | AN43: ～
... I46: 様 | AC46: 令和 | AF46: 年 | AH46: 月 | AJ46: 日 | AL46: ： | AN46: ～
A47: 業務 内容 | D47: 項目 | J47: 患者様氏名 | P47: 担当 | S47: 備考 | Y47: 項目 | AA47: 患者様氏名 | AG47: 内容 | AQ47: 担当
D48: 外 来 患 者 対 応 | F48: 外来患者 対応 | O48: 様 | Y48: 書 類 作 成 完 了 | AF48: 様
O49: 様 | AF49: 様
O50: 様 | AF50: 様
O51: 様 | AF51: 様
O52: 様 | AF52: 様
O53: 様 | AF53: 様
O54: 様 | AF54: 様
D55: 項目 | J55: 患者様氏名 | P55: 担当 | S55: 備考 | AF55: 様
D56: 入 退 院 支 援 | F56: 退院支援 | O56: 様 | AF56: 様
O57: 様 | AF57: 様
O58: 様 | Y58: 項目 | AG58: 件数 | AJ58: 担当 | AM58: 備考
O59: 様 | Y59: 電話対応 | AI59: 件
O60: 様 | Y60: 保健所への届出 | AI60: 件
F61: 退院請求 対応 | O61: 様 | Y61: 項目 | AG61: 内容
O62: 様 | Y62: 通院医療 観察法
F63: 入院患者 対応 | J63: 担当 | M63: 件数 | P63: 備考
O64: 件 | Y64: 認知症疾患 医療ｾﾝﾀｰ
O65: 件
O66: 件 | Y66: 各種会議参加 外部の業務
O67: 件
A68: 安全管理 | D68: 事故 | S68: 物品 購入 | AE68: 連絡 事項
D69: 苦情
D70: 紛失
D71: 他

Sheet 11
A1: ソーシャルワーカー室 業務日誌 | AH1: C.O.O | AL1: I.O.O | AP1: Ａ.Ｏ.Ｍ
H3: =曜日!B12 -> 令和5年 | M3: =曜日!C12 -> 9月 | P3: 11日 | S3: （ | T3: =曜日!D6 -> 月 | U3: ） | W3: 作成者 | Z3: ：
A5: 労務 状況 | D5: 勤務状況 | K5: 西舘 翔子 | T5: 大川 祥子 | AC5: 宇津木澤 育美 | AL5: 早狩 風花
K6: 澤里 皓輝 | T6: 石鉢 佳代
A8: 入退院 状況 | D8: 入院形態 | K8: 東病棟 | Q8: 西病棟 | W8: 北病棟 | AC8: 南病棟 | AI8: 合計 | AO8: 総数
K9: 男性 | N9: 女性 | Q9: 男性 | T9: 女性 | W9: 男性 | Z9: 女性 | AC9: 男性 | AF9: 女性 | AI9: 男性 | AL9: 女性
D10: 任意入院 | Z10: 0 | AI10: =K10+Q10+W10+AC10 -> 0 | AL10: =N10+T10+Z10+AF10 -> 0 | AO10: =AI14 -> 0
D11: 医療保護入院 | AI11: =K11+Q11+W11+AC11 -> 0 | AL11: =N11+T11+Z11+AF11 -> 0
D12: 措置入院 | AI12: =K12+Q12+W12+AC12 -> 0 | AL12: =N12+T12+Z12+AF12 -> 0
D13: 合計 | K13: =SUM(K10:M12) -> 0 | N13: =SUM(N10:P12) -> 0 | Q13: =SUM(Q10:S12) -> 0 | T13: =SUM(T10:V12) -> 0 | W13: =SUM(W10:Y12) -> 0 | Z13: =SUM(Z10:AB12) -> 0 | AC13: =SUM(AC10:AE12) -> 0 | AF13: =SUM(AF10:AH12) -> 0 | AI13: =SUM(K13+Q13+W13+AC13) -> 0 | AL13: =SUM(N13+T13+Z13+AF13) -> 0 | AO13: 人
K14: =K13+N13 -> 0 | Q14: =Q13+T13 -> 0 | W14: =W13+Z13 -> 0 | AC14: =AC13+AF13 -> 0 | AI14: =AI13+AL13 -> 0
F15: 患者様氏名 | N15: 入院形態 | T15: 担当Dr | Y15: 担当SW | AD15: 病棟 | AJ15: 備考欄
D16: 入院 | L16: 様
L17: 様
L18: 様
L19: 様
L20: 様
D21: 退院 | L21: 様
L22: 様
L23: 様
L24: 様
L25: 様
D26: 転棟 ･ 入院形態変更 | L26: 様
L27: 様
L28: 様
L29: 様
L30: 様
A31: 患者様 関連 | D31: 患者様氏名 | K31: 担当Dr | P31: 病棟 | S31: 制限内容 | X31: 制限時間 | AC31: 開始日時 | AO31: 備考
I32: 様 | AC32: 令和 | AF32: 年 | AH32: 月 | AJ32: 日 | AL32: ： | AN32: ～
I33: 様 | AC33: 令和 | AF33: 年 | AH33: 月 | AJ33: 日 | AL33: ： | AN33: ～
I34: 様 | AC34: 令和 | AF34: 年 | AH34: 月 | AJ34: 日 | AL34: ： | AN34: ～
I35: 様 | AC35: 令和 | AF35: 年 | AH35: 月 | AJ35: 日 | AL35: ： | AN35: ～
I36: 様 | AC36: 令和 | AF36: 年 | AH36: 月 | AJ36: 日 | AL36: ： | AN36: ～
I37: 様 | AC37: 令和 | AF37: 年 | AH37: 月 | AJ37: 日 | AL37: ： | AN37: ～
I38: 様 | AC38: 令和 | AF38: 年 | AH38: 月 | AJ38: 日 | AL38: ： | AN38: ～
I39: 様 | AC39: 令和 | AF39: 年 | AH39: 月 | AJ39: 日 | AL39: ： | AN39: ～
I40: 様 | AC40: 令和 | AF40: 年 | AH40: 月 | AJ40: 日 | AL40: ： | AN40: ～
I41: 様 | AC41: 令和 | AF41: 年 | AH41: 月 | AJ41: 日 | AL41: ： | AN41: ～
I42: 様 | AC42: 令和 | AF42: 年 | AH42: 月 | AJ42: 日 | AL42: ： | AN42: ～
I43: 様 | AC43: 令和 | AF43: 年 | AH43: 月 | AJ43: 日 | AL43: ： | AN43: ～
... I46: 様 | AC46: 令和 | AF46: 年 | AH46: 月 | AJ46: 日 | AL46: ： | AN46: ～
A47: 業務 内容 | D47: 項目 | J47: 患者様氏名 | P47: 担当 | S47: 備考 | Y47: 項目 | AA47: 患者様氏名 | AG47: 内容 | AQ47: 担当
D48: 外 来 患 者 対 応 | F48: 外来患者 対応 | O48: 様 | Y48: 書 類 作 成 完 了 | AF48: 様
O49: 様 | AF49: 様
O50: 様 | AF50: 様
O51: 様 | AF51: 様
O52: 様 | AF52: 様
O53: 様 | AF53: 様
O54: 様 | AF54: 様
D55: 項目 | J55: 患者様氏名 | P55: 担当 | S55: 備考 | AF55: 様
D56: 入 退 院 支 援 | F56: 退院支援 | O56: 様 | AF56: 様
O57: 様 | AF57: 様
O58: 様 | Y58: 項目 | AG58: 件数 | AJ58: 担当 | AM58: 備考
O59: 様 | Y59: 電話対応 | AI59: 件
O60: 様 | Y60: 保健所への届出 | AI60: 件
F61: 退院請求 対応 | O61: 様 | Y61: 項目 | AG61: 内容
O62: 様 | Y62: 通院医療 観察法
F63: 入院患者 対応 | J63: 担当 | M63: 件数 | P63: 備考
O64: 件 | Y64: 認知症疾患 医療ｾﾝﾀｰ
O65: 件
O66: 件 | Y66: 各種会議参加 外部の業務
O67: 件
A68: 安全管理 | D68: 事故 | S68: 物品 購入 | AE68: 連絡 事項
D69: 苦情
D70: 紛失
D71: 他

Sheet 12
A1: ソーシャルワーカー室 業務日誌 | AH1: C.O.O | AL1: I.O.O | AP1: Ａ.Ｏ.Ｍ
H3: =曜日!B12 -> 令和5年 | M3: =曜日!C12 -> 9月 | P3: 12日 | S3: （ | T3: =曜日!D7 -> 火 | U3: ） | W3: 作成者 | Z3: ：
A5: 労務 状況 | D5: 勤務状況 | K5: 西舘 翔子 | T5: 大川 祥子 | AC5: 宇津木澤 育美 | AL5: 早狩 風花
K6: 澤里 皓輝 | T6: 石鉢 佳代
A8: 入退院 状況 | D8: 入院形態 | K8: 東病棟 | Q8: 西病棟 | W8: 北病棟 | AC8: 南病棟 | AI8: 合計 | AO8: 総数
K9: 男性 | N9: 女性 | Q9: 男性 | T9: 女性 | W9: 男性 | Z9: 女性 | AC9: 男性 | AF9: 女性 | AI9: 男性 | AL9: 女性
D10: 任意入院 | Z10: 0 | AI10: =K10+Q10+W10+AC10 -> 0 | AL10: =N10+T10+Z10+AF10 -> 0 | AO10: =AI14 -> 0
D11: 医療保護入院 | AI11: =K11+Q11+W11+AC11 -> 0 | AL11: =N11+T11+Z11+AF11 -> 0
D12: 措置入院 | AI12: =K12+Q12+W12+AC12 -> 0 | AL12: =N12+T12+Z12+AF12 -> 0
D13: 合計 | K13: =SUM(K10:M12) -> 0 | N13: =SUM(N10:P12) -> 0 | Q13: =SUM(Q10:S12) -> 0 | T13: =SUM(T10:V12) -> 0 | W13: =SUM(W10:Y12) -> 0 | Z13: =SUM(Z10:AB12) -> 0 | AC13: =SUM(AC10:AE12) -> 0 | AF13: =SUM(AF10:AH12) -> 0 | AI13: =SUM(K13+Q13+W13+AC13) -> 0 | AL13: =SUM(N13+T13+Z13+AF13) -> 0 | AO13: 人
K14: =K13+N13 -> 0 | Q14: =Q13+T13 -> 0 | W14: =W13+Z13 -> 0 | AC14: =AC13+AF13 -> 0 | AI14: =AI13+AL13 -> 0
F15: 患者様氏名 | N15: 入院形態 | T15: 担当Dr | Y15: 担当SW | AD15: 病棟 | AJ15: 備考欄
D16: 入院 | L16: 様
L17: 様
L18: 様
L19: 様
L20: 様
D21: 退院 | L21: 様
L22: 様
L23: 様
L24: 様
L25: 様
D26: 転棟 ･ 入院形態変更 | L26: 様
L27: 様
L28: 様
L29: 様
L30: 様
A31: 患者様 関連 | D31: 患者様氏名 | K31: 担当Dr | P31: 病棟 | S31: 制限内容 | X31: 制限時間 | AC31: 開始日時 | AO31: 備考
I32: 様 | AC32: 令和 | AF32: 年 | AH32: 月 | AJ32: 日 | AL32: ： | AN32: ～
I33: 様 | AC33: 令和 | AF33: 年 | AH33: 月 | AJ33: 日 | AL33: ： | AN33: ～
I34: 様 | AC34: 令和 | AF34: 年 | AH34: 月 | AJ34: 日 | AL34: ： | AN34: ～
I35: 様 | AC35: 令和 | AF35: 年 | AH35: 月 | AJ35: 日 | AL35: ： | AN35: ～
I36: 様 | AC36: 令和 | AF36: 年 | AH36: 月 | AJ36: 日 | AL36: ： | AN36: ～
I37: 様 | AC37: 令和 | AF37: 年 | AH37: 月 | AJ37: 日 | AL37: ： | AN37: ～
I38: 様 | AC38: 令和 | AF38: 年 | AH38: 月 | AJ38: 日 | AL38: ： | AN38: ～
I39: 様 | AC39: 令和 | AF39: 年 | AH39: 月 | AJ39: 日 | AL39: ： | AN39: ～
I40: 様 | AC40: 令和 | AF40: 年 | AH40: 月 | AJ40: 日 | AL40: ： | AN40: ～
I41: 様 | AC41: 令和 | AF41: 年 | AH41: 月 | AJ41: 日 | AL41: ： | AN41: ～
I42: 様 | AC42: 令和 | AF42: 年 | AH42: 月 | AJ42: 日 | AL42: ： | AN42: ～
I43: 様 | AC43: 令和 | AF43: 年 | AH43: 月 | AJ43: 日 | AL43: ： | AN43: ～
... I46: 様 | AC46: 令和 | AF46: 年 | AH46: 月 | AJ46: 日 | AL46: ： | AN46: ～
A47: 業務 内容 | D47: 項目 | J47: 患者様氏名 | P47: 担当 | S47: 備考 | Y47: 項目 | AA47: 患者様氏名 | AG47: 内容 | AQ47: 担当
D48: 外 来 患 者 対 応 | F48: 外来患者 対応 | O48: 様 | Y48: 書 類 作 成 完 了 | AF48: 様
O49: 様 | AF49: 様
O50: 様 | AF50: 様
O51: 様 | AF51: 様
O52: 様 | AF52: 様
O53: 様 | AF53: 様
O54: 様 | AF54: 様
D55: 項目 | J55: 患者様氏名 | P55: 担当 | S55: 備考 | AF55: 様
D56: 入 退 院 支 援 | F56: 退院支援 | O56: 様 | AF56: 様
O57: 様 | AF57: 様
O58: 様 | Y58: 項目 | AG58: 件数 | AJ58: 担当 | AM58: 備考
O59: 様 | Y59: 電話対応 | AI59: 件
O60: 様 | Y60: 保健所への届出 | AI60: 件
F61: 退院請求 対応 | O61: 様 | Y61: 項目 | AG61: 内容
O62: 様 | Y62: 通院医療 観察法
F63: 入院患者 対応 | J63: 担当 | M63: 件数 | P63: 備考
O64: 件 | Y64: 認知症疾患 医療ｾﾝﾀｰ
O65: 件
O66: 件 | Y66: 各種会議参加 外部の業務
O67: 件
A68: 安全管理 | D68: 事故 | S68: 物品 購入 | AE68: 連絡 事項
D69: 苦情
D70: 紛失
D71: 他

Sheet 13
A1: ソーシャルワーカー室 業務日誌 | AH1: C.O.O | AL1: I.O.O | AP1: Ａ.Ｏ.Ｍ
H3: =曜日!B12 -> 令和5年 | M3: =曜日!C12 -> 9月 | P3: 13日 | S3: （ | T3: =曜日!D8 -> 水 | U3: ） | W3: 作成者 | Z3: ：
A5: 労務 状況 | D5: 勤務状況 | K5: 西舘 翔子 | T5: 大川 祥子 | AC5: 宇津木澤 育美 | AL5: 早狩 風花
K6: 澤里 皓輝 | T6: 石鉢 佳代
A8: 入退院 状況 | D8: 入院形態 | K8: 東病棟 | Q8: 西病棟 | W8: 北病棟 | AC8: 南病棟 | AI8: 合計 | AO8: 総数
K9: 男性 | N9: 女性 | Q9: 男性 | T9: 女性 | W9: 男性 | Z9: 女性 | AC9: 男性 | AF9: 女性 | AI9: 男性 | AL9: 女性
D10: 任意入院 | Z10: 0 | AI10: =K10+Q10+W10+AC10 -> 0 | AL10: =N10+T10+Z10+AF10 -> 0 | AO10: =AI14 -> 0
D11: 医療保護入院 | AI11: =K11+Q11+W11+AC11 -> 0 | AL11: =N11+T11+Z11+AF11 -> 0
D12: 措置入院 | AI12: =K12+Q12+W12+AC12 -> 0 | AL12: =N12+T12+Z12+AF12 -> 0
D13: 合計 | K13: =SUM(K10:M12) -> 0 | N13: =SUM(N10:P12) -> 0 | Q13: =SUM(Q10:S12) -> 0 | T13: =SUM(T10:V12) -> 0 | W13: =SUM(W10:Y12) -> 0 | Z13: =SUM(Z10:AB12) -> 0 | AC13: =SUM(AC10:AE12) -> 0 | AF13: =SUM(AF10:AH12) -> 0 | AI13: =SUM(K13+Q13+W13+AC13) -> 0 | AL13: =SUM(N13+T13+Z13+AF13) -> 0 | AO13: 人
K14: =K13+N13 -> 0 | Q14: =Q13+T13 -> 0 | W14: =W13+Z13 -> 0 | AC14: =AC13+AF13 -> 0 | AI14: =AI13+AL13 -> 0
F15: 患者様氏名 | N15: 入院形態 | T15: 担当Dr | Y15: 担当SW | AD15: 病棟 | AJ15: 備考欄
D16: 入院 | L16: 様
L17: 様
L18: 様
L19: 様
L20: 様
D21: 退院 | L21: 様
L22: 様
L23: 様
L24: 様
L25: 様
D26: 転棟 ･ 入院形態変更 | L26: 様
L27: 様
L28: 様
L29: 様
L30: 様
A31: 患者様 関連 | D31: 患者様氏名 | K31: 担当Dr | P31: 病棟 | S31: 制限内容 | X31: 制限時間 | AC31: 開始日時 | AO31: 備考
I32: 様 | AC32: 令和 | AF32: 年 | AH32: 月 | AJ32: 日 | AL32: ： | AN32: ～
I33: 様 | AC33: 令和 | AF33: 年 | AH33: 月 | AJ33: 日 | AL33: ： | AN33: ～
I34: 様 | AC34: 令和 | AF34: 年 | AH34: 月 | AJ34: 日 | AL34: ： | AN34: ～
I35: 様 | AC35: 令和 | AF35: 年 | AH35: 月 | AJ35: 日 | AL35: ： | AN35: ～
I36: 様 | AC36: 令和 | AF36: 年 | AH36: 月 | AJ36: 日 | AL36: ： | AN36: ～
I37: 様 | AC37: 令和 | AF37: 年 | AH37: 月 | AJ37: 日 | AL37: ： | AN37: ～
I38: 様 | AC38: 令和 | AF38: 年 | AH38: 月 | AJ38: 日 | AL38: ： | AN38: ～
I39: 様 | AC39: 令和 | AF39: 年 | AH39: 月 | AJ39: 日 | AL39: ： | AN39: ～
I40: 様 | AC40: 令和 | AF40: 年 | AH40: 月 | AJ40: 日 | AL40: ： | AN40: ～
I41: 様 | AC41: 令和 | AF41: 年 | AH41: 月 | AJ41: 日 | AL41: ： | AN41: ～
I42: 様 | AC42: 令和 | AF42: 年 | AH42: 月 | AJ42: 日 | AL42: ： | AN42: ～
I43: 様 | AC43: 令和 | AF43: 年 | AH43: 月 | AJ43: 日 | AL43: ： | AN43: ～
... I46: 様 | AC46: 令和 | AF46: 年 | AH46: 月 | AJ46: 日 | AL46: ： | AN46: ～
A47: 業務 内容 | D47: 項目 | J47: 患者様氏名 | P47: 担当 | S47: 備考 | Y47: 項目 | AA47: 患者様氏名 | AG47: 内容 | AQ47: 担当
D48: 外 来 患 者 対 応 | F48: 外来患者 対応 | O48: 様 | Y48: 書 類 作 成 完 了 | AF48: 様
O49: 様 | AF49: 様
O50: 様 | AF50: 様
O51: 様 | AF51: 様
O52: 様 | AF52: 様
O53: 様 | AF53: 様
O54: 様 | AF54: 様
D55: 項目 | J55: 患者様氏名 | P55: 担当 | S55: 備考 | AF55: 様
D56: 入 退 院 支 援 | F56: 退院支援 | O56: 様 | AF56: 様
O57: 様 | AF57: 様
O58: 様 | Y58: 項目 | AG58: 件数 | AJ58: 担当 | AM58: 備考
O59: 様 | Y59: 電話対応 | AI59: 件
O60: 様 | Y60: 保健所への届出 | AI60: 件
F61: 退院請求 対応 | O61: 様 | Y61: 項目 | AG61: 内容
O62: 様 | Y62: 通院医療 観察法
F63: 入院患者 対応 | J63: 担当 | M63: 件数 | P63: 備考
O64: 件 | Y64: 認知症疾患 医療ｾﾝﾀｰ
O65: 件
O66: 件 | Y66: 各種会議参加 外部の業務
O67: 件
A68: 安全管理 | D68: 事故 | S68: 物品 購入 | AE68: 連絡 事項
D69: 苦情
D70: 紛失
D71: 他

Sheet 14
A1: ソーシャルワーカー室 業務日誌 | AH1: C.O.O | AL1: I.O.O | AP1: Ａ.Ｏ.Ｍ
H3: =曜日!B12 -> 令和5年 | M3: =曜日!C12 -> 9月 | P3: 14日 | S3: （ | T3: =曜日!D9 -> 木 | U3: ） | W3: 作成者 | Z3: ：
A5: 労務 状況 | D5: 勤務状況 | K5: 西舘 翔子 | T5: 大川 祥子 | AC5: 宇津木澤 育美 | AL5: 早狩 風花
K6: 澤里 皓輝 | T6: 石鉢 佳代
A8: 入退院 状況 | D8: 入院形態 | K8: 東病棟 | Q8: 西病棟 | W8: 北病棟 | AC8: 南病棟 | AI8: 合計 | AO8: 総数
K9: 男性 | N9: 女性 | Q9: 男性 | T9: 女性 | W9: 男性 | Z9: 女性 | AC9: 男性 | AF9: 女性 | AI9: 男性 | AL9: 女性
D10: 任意入院 | Z10: 0 | AI10: =K10+Q10+W10+AC10 -> 0 | AL10: =N10+T10+Z10+AF10 -> 0 | AO10: =AI14 -> 0
D11: 医療保護入院 | AI11: =K11+Q11+W11+AC11 -> 0 | AL11: =N11+T11+Z11+AF11 -> 0
D12: 措置入院 | AI12: =K12+Q12+W12+AC12 -> 0 | AL12: =N12+T12+Z12+AF12 -> 0
D13: 合計 | K13: =SUM(K10:M12) -> 0 | N13: =SUM(N10:P12) -> 0 | Q13: =SUM(Q10:S12) -> 0 | T13: =SUM(T10:V12) -> 0 | W13: =SUM(W10:Y12) -> 0 | Z13: =SUM(Z10:AB12) -> 0 | AC13: =SUM(AC10:AE12) -> 0 | AF13: =SUM(AF10:AH12) -> 0 | AI13: =SUM(K13+Q13+W13+AC13) -> 0 | AL13: =SUM(N13+T13+Z13+AF13) -> 0 | AO13: 人
K14: =K13+N13 -> 0 | Q14: =Q13+T13 -> 0 | W14: =W13+Z13 -> 0 | AC14: =AC13+AF13 -> 0 | AI14: =AI13+AL13 -> 0
F15: 患者様氏名 | N15: 入院形態 | T15: 担当Dr | Y15: 担当SW | AD15: 病棟 | AJ15: 備考欄
D16: 入院 | L16: 様
L17: 様
L18: 様
L19: 様
L20: 様
D21: 退院 | L21: 様
L22: 様
L23: 様
L24: 様
L25: 様
D26: 転棟 ･ 入院形態変更 | L26: 様
L27: 様
L28: 様
L29: 様
L30: 様
A31: 患者様 関連 | D31: 患者様氏名 | K31: 担当Dr | P31: 病棟 | S31: 制限内容 | X31: 制限時間 | AC31: 開始日時 | AO31: 備考
I32: 様 | AC32: 令和 | AF32: 年 | AH32: 月 | AJ32: 日 | AL32: ： | AN32: ～
I33: 様 | AC33: 令和 | AF33: 年 | AH33: 月 | AJ33: 日 | AL33: ： | AN33: ～
I34: 様 | AC34: 令和 | AF34: 年 | AH34: 月 | AJ34: 日 | AL34: ： | AN34: ～
I35: 様 | AC35: 令和 | AF35: 年 | AH35: 月 | AJ35: 日 | AL35: ： | AN35: ～
I36: 様 | AC36: 令和 | AF36: 年 | AH36: 月 | AJ36: 日 | AL36: ： | AN36: ～
I37: 様 | AC37: 令和 | AF37: 年 | AH37: 月 | AJ37: 日 | AL37: ： | AN37: ～
I38: 様 | AC38: 令和 | AF38: 年 | AH38: 月 | AJ38: 日 | AL38: ： | AN38: ～
I39: 様 | AC39: 令和 | AF39: 年 | AH39: 月 | AJ39: 日 | AL39: ： | AN39: ～
I40: 様 | AC40: 令和 | AF40: 年 | AH40: 月 | AJ40: 日 | AL40: ： | AN40: ～
I41: 様 | AC41: 令和 | AF41: 年 | AH41: 月 | AJ41: 日 | AL41: ： | AN41: ～
I42: 様 | AC42: 令和 | AF42: 年 | AH42: 月 | AJ42: 日 | AL42: ： | AN42: ～
I43: 様 | AC43: 令和 | AF43: 年 | AH43: 月 | AJ43: 日 | AL43: ： | AN43: ～
... I46: 様 | AC46: 令和 | AF46: 年 | AH46: 月 | AJ46: 日 | AL46: ： | AN46: ～
A47: 業務 内容 | D47: 項目 | J47: 患者様氏名 | P47: 担当 | S47: 備考 | Y47: 項目 | AA47: 患者様氏名 | AG47: 内容 | AQ47: 担当
D48: 外 来 患 者 対 応 | F48: 外来患者 対応 | O48: 様 | Y48: 書 類 作 成 完 了 | AF48: 様
O49: 様 | AF49: 様
O50: 様 | AF50: 様
O51: 様 | AF51: 様
O52: 様 | AF52: 様
O53: 様 | AF53: 様
O54: 様 | AF54: 様
D55: 項目 | J55: 患者様氏名 | P55: 担当 | S55: 備考 | AF55: 様
D56: 入 退 院 支 援 | F56: 退院支援 | O56: 様 | AF56: 様
O57: 様 | AF57: 様
O58: 様 | Y58: 項目 | AG58: 件数 | AJ58: 担当 | AM58: 備考
O59: 様 | Y59: 電話対応 | AI59: 件
O60: 様 | Y60: 保健所への届出 | AI60: 件
F61: 退院請求 対応 | O61: 様 | Y61: 項目 | AG61: 内容
O62: 様 | Y62: 通院医療 観察法
F63: 入院患者 対応 | J63: 担当 | M63: 件数 | P63: 備考
O64: 件 | Y64: 認知症疾患 医療ｾﾝﾀｰ
O65: 件
O66: 件 | Y66: 各種会議参加 外部の業務
O67: 件
A68: 安全管理 | D68: 事故 | S68: 物品 購入 | AE68: 連絡 事項
D69: 苦情
D70: 紛失
D71: 他

Sheet 15
A1: ソーシャルワーカー室 業務日誌 | AH1: C.O.O | AL1: I.O.O | AP1: Ａ.Ｏ.Ｍ
H3: =曜日!B12 -> 令和5年 | M3: =曜日!C12 -> 9月 | P3: 15日 | S3: （ | T3: =曜日!D3 -> 金 | U3: ） | W3: 作成者 | Z3: ：
A5: 労務 状況 | D5: 勤務状況 | K5: 西舘 翔子 | T5: 大川 祥子 | AC5: 宇津木澤 育美 | AL5: 早狩 風花
K6: 澤里 皓輝 | T6: 石鉢 佳代
A8: 入退院 状況 | D8: 入院形態 | K8: 東病棟 | Q8: 西病棟 | W8: 北病棟 | AC8: 南病棟 | AI8: 合計 | AO8: 総数
K9: 男性 | N9: 女性 | Q9: 男性 | T9: 女性 | W9: 男性 | Z9: 女性 | AC9: 男性 | AF9: 女性 | AI9: 男性 | AL9: 女性
D10: 任意入院 | Z10: 0 | AI10: =K10+Q10+W10+AC10 -> 0 | AL10: =N10+T10+Z10+AF10 -> 0 | AO10: =AI14 -> 0
D11: 医療保護入院 | AI11: =K11+Q11+W11+AC11 -> 0 | AL11: =N11+T11+Z11+AF11 -> 0
D12: 措置入院 | AI12: =K12+Q12+W12+AC12 -> 0 | AL12: =N12+T12+Z12+AF12 -> 0
D13: 合計 | K13: =SUM(K10:M12) -> 0 | N13: =SUM(N10:P12) -> 0 | Q13: =SUM(Q10:S12) -> 0 | T13: =SUM(T10:V12) -> 0 | W13: =SUM(W10:Y12) -> 0 | Z13: =SUM(Z10:AB12) -> 0 | AC13: =SUM(AC10:AE12) -> 0 | AF13: =SUM(AF10:AH12) -> 0 | AI13: =SUM(K13+Q13+W13+AC13) -> 0 | AL13: =SUM(N13+T13+Z13+AF13) -> 0 | AO13: 人
K14: =K13+N13 -> 0 | Q14: =Q13+T13 -> 0 | W14: =W13+Z13 -> 0 | AC14: =AC13+AF13 -> 0 | AI14: =AI13+AL13 -> 0
F15: 患者様氏名 | N15: 入院形態 | T15: 担当Dr | Y15: 担当SW | AD15: 病棟 | AJ15: 備考欄
D16: 入院 | L16: 様
L17: 様
L18: 様
L19: 様
L20: 様
D21: 退院 | L21: 様
L22: 様
L23: 様
L24: 様
L25: 様
D26: 転棟 ･ 入院形態変更 | L26: 様
L27: 様
L28: 様
L29: 様
L30: 様
L31: 様
A32: 患者様 関連 | AC32: 開始日時 | AO32: 備考
I33: 様 | AC33: 令和 | AF33: 年 | AH33: 月 | AJ33: 日 | AL33: ： | AN33: ～
I34: 様 | AC34: 令和 | AF34: 年 | AH34: 月 | AJ34: 日 | AL34: ： | AN34: ～
I35: 様 | AC35: 令和 | AF35: 年 | AH35: 月 | AJ35: 日 | AL35: ： | AN35: ～
I36: 様 | AC36: 令和 | AF36: 年 | AH36: 月 | AJ36: 日 | AL36: ： | AN36: ～
I37: 様 | AC37: 令和 | AF37: 年 | AH37: 月 | AJ37: 日 | AL37: ： | AN37: ～
I38: 様 | AC38: 令和 | AF38: 年 | AH38: 月 | AJ38: 日 | AL38: ： | AN38: ～
I39: 様 | AC39: 令和 | AF39: 年 | AH39: 月 | AJ39: 日 | AL39: ： | AN39: ～
I40: 様 | AC40: 令和 | AF40: 年 | AH40: 月 | AJ40: 日 | AL40: ： | AN40: ～
I41: 様 | AC41: 令和 | AF41: 年 | AH41: 月 | AJ41: 日 | AL41: ： | AN41: ～
I42: 様 | AC42: 令和 | AF42: 年 | AH42: 月 | AJ42: 日 | AL42: ： | AN42: ～
I43: 様 | AC43: 令和 | AF43: 年 | AH43: 月 | AJ43: 日 | AL43: ： | AN43: ～
I44: 様 | AC44: 令和 | AF44: 年 | AH44: 月 | AJ44: 日 | AL44: ： | AN44: ～
... I47: 様 | AC47: 令和 | AF47: 年 | AH47: 月 | AJ47: 日 | AL47: ： | AN47: ～
A48: 業務 内容 | D48: 項目 | J48: 患者様氏名 | P48: 担当 | S48: 備考 | Y48: 項目 | AA48: 患者様氏名 | AG48: 内容 | AQ48: 担当
D49: 外 来 患 者 対 応 | F49: 外来患者 対応 | O49: 様 | Y49: 書 類 作 成 完 了 | AF49: 様
O50: 様 | AF50: 様
O51: 様 | AF51: 様
O52: 様 | AF52: 様
O53: 様 | AF53: 様
O54: 様 | AF54: 様
O55: 様 | AF55: 様
D56: 項目 | J56: 患者様氏名 | P56: 担当 | S56: 備考 | AF56: 様
D57: 入 退 院 支 援 | F57: 退院支援 | O57: 様 | AF57: 様
O58: 様 | AF58: 様
O59: 様 | Y59: 項目 | AG59: 件数 | AJ59: 担当 | AM59: 備考
O60: 様 | Y60: 電話対応 | AI60: 件
O61: 様 | Y61: 保健所への届出 | AI61: 件
F62: 退院請求 対応 | O62: 様 | Y62: 項目 | AG62: 内容
O63: 様 | Y63: 通院医療 観察法
F64: 入院患者 対応 | J64: 担当 | M64: 件数 | P64: 備考
O65: 件 | Y65: 認知症疾患 医療ｾﾝﾀｰ
O66: 件
O67: 件 | Y67: 各種会議参加 外部の業務
O68: 件
A69: 安全管理 | D69: 事故 | S69: 物品 購入 | AE69: 連絡 事項
D70: 苦情
D71: 紛失
D72: 他

Sheet 16
A1: ソーシャルワーカー室 業務日誌 | AH1: C.O.O | AL1: I.O.O | AP1: Ａ.Ｏ.Ｍ
H3: =曜日!B12 -> 令和5年 | M3: =曜日!C12 -> 9月 | P3: 16日 | S3: （ | T3: =曜日!D4 -> 土 | U3: ） | W3: 作成者 | Z3: ：
A5: 労務 状況 | D5: 勤務状況 | K5: 西舘 翔子 | T5: 大川 祥子 | AC5: 宇津木澤 育美 | AL5: 早狩 風花
K6: 澤里 皓輝 | T6: 石鉢 佳代
A8: 入退院 状況 | D8: 入院形態 | K8: 東病棟 | Q8: 西病棟 | W8: 北病棟 | AC8: 南病棟 | AI8: 合計 | AO8: 総数
K9: 男性 | N9: 女性 | Q9: 男性 | T9: 女性 | W9: 男性 | Z9: 女性 | AC9: 男性 | AF9: 女性 | AI9: 男性 | AL9: 女性
D10: 任意入院 | Z10: 0 | AI10: =K10+Q10+W10+AC10 -> 0 | AL10: =N10+T10+Z10+AF10 -> 0 | AO10: =AI14 -> 0
D11: 医療保護入院 | AI11: =K11+Q11+W11+AC11 -> 0 | AL11: =N11+T11+Z11+AF11 -> 0
D12: 措置入院 | AI12: =K12+Q12+W12+AC12 -> 0 | AL12: =N12+T12+Z12+AF12 -> 0
D13: 合計 | K13: =SUM(K10:M12) -> 0 | N13: =SUM(N10:P12) -> 0 | Q13: =SUM(Q10:S12) -> 0 | T13: =SUM(T10:V12) -> 0 | W13: =SUM(W10:Y12) -> 0 | Z13: =SUM(Z10:AB12) -> 0 | AC13: =SUM(AC10:AE12) -> 0 | AF13: =SUM(AF10:AH12) -> 0 | AI13: =SUM(K13+Q13+W13+AC13) -> 0 | AL13: =SUM(N13+T13+Z13+AF13) -> 0 | AO13: 人
K14: =K13+N13 -> 0 | Q14: =Q13+T13 -> 0 | W14: =W13+Z13 -> 0 | AC14: =AC13+AF13 -> 0 | AI14: =AI13+AL13 -> 0
F15: 患者様氏名 | N15: 入院形態 | T15: 担当Dr | Y15: 担当SW | AD15: 病棟 | AJ15: 備考欄
D16: 入院 | L16: 様
L17: 様
L18: 様
L19: 様
L20: 様
D21: 退院 | L21: 様
L22: 様
L23: 様
L24: 様
L25: 様
D26: 転棟 ･ 入院形態変更 | L26: 様
L27: 様
L28: 様
L29: 様
L30: 様
A31: 患者様 関連 | D31: 患者様氏名 | K31: 担当Dr | P31: 病棟 | S31: 制限内容 | X31: 制限時間 | AC31: 開始日時 | AO31: 備考
I32: 様 | AC32: 令和 | AF32: 年 | AH32: 月 | AJ32: 日 | AL32: ： | AN32: ～
I33: 様 | AC33: 令和 | AF33: 年 | AH33: 月 | AJ33: 日 | AL33: ： | AN33: ～
I34: 様 | AC34: 令和 | AF34: 年 | AH34: 月 | AJ34: 日 | AL34: ： | AN34: ～
I35: 様 | AC35: 令和 | AF35: 年 | AH35: 月 | AJ35: 日 | AL35: ： | AN35: ～
I36: 様 | AC36: 令和 | AF36: 年 | AH36: 月 | AJ36: 日 | AL36: ： | AN36: ～
I37: 様 | AC37: 令和 | AF37: 年 | AH37: 月 | AJ37: 日 | AL37: ： | AN37: ～
I38: 様 | AC38: 令和 | AF38: 年 | AH38: 月 | AJ38: 日 | AL38: ： | AN38: ～
I39: 様 | AC39: 令和 | AF39: 年 | AH39: 月 | AJ39: 日 | AL39: ： | AN39: ～
I40: 様 | AC40: 令和 | AF40: 年 | AH40: 月 | AJ40: 日 | AL40: ： | AN40: ～
I41: 様 | AC41: 令和 | AF41: 年 | AH41: 月 | AJ41: 日 | AL41: ： | AN41: ～
I42: 様 | AC42: 令和 | AF42: 年 | AH42: 月 | AJ42: 日 | AL42: ： | AN42: ～
I43: 様 | AC43: 令和 | AF43: 年 | AH43: 月 | AJ43: 日 | AL43: ： | AN43: ～
... I46: 様 | AC46: 令和 | AF46: 年 | AH46: 月 | AJ46: 日 | AL46: ： | AN46: ～
A47: 業務 内容 | D47: 項目 | J47: 患者様氏名 | P47: 担当 | S47: 備考 | Y47: 項目 | AA47: 患者様氏名 | AG47: 内容 | AQ47: 担当
D48: 外 来 患 者 対 応 | F48: 外来患者 対応 | O48: 様 | Y48: 書 類 作 成 完 了 | AF48: 様
O49: 様 | AF49: 様
O50: 様 | AF50: 様
O51: 様 | AF51: 様
O52: 様 | AF52: 様
O53: 様 | AF53: 様
O54: 様 | AF54: 様
D55: 項目 | J55: 患者様氏名 | P55: 担当 | S55: 備考 | AF55: 様
D56: 入 退 院 支 援 | F56: 退院支援 | O56: 様 | AF56: 様
O57: 様 | AF57: 様
O58: 様 | Y58: 項目 | AG58: 件数 | AJ58: 担当 | AM58: 備考
O59: 様 | Y59: 電話対応 | AI59: 件
O60: 様 | Y60: 保健所への届出 | AI60: 件
F61: 退院請求 対応 | O61: 様 | Y61: 項目 | AG61: 内容
O62: 様 | Y62: 通院医療 観察法
F63: 入院患者 対応 | J63: 担当 | M63: 件数 | P63: 備考
O64: 件 | Y64: 認知症疾患 医療ｾﾝﾀｰ
O65: 件
O66: 件 | Y66: 各種会議参加 外部の業務
O67: 件
A68: 安全管理 | D68: 事故 | S68: 物品 購入 | AE68: 連絡 事項
D69: 苦情
D70: 紛失
D71: 他

Sheet 17
A1: ソーシャルワーカー室 業務日誌 | AH1: C.O.O | AL1: I.O.O | AP1: Ａ.Ｏ.Ｍ
H3: =曜日!B12 -> 令和5年 | M3: =曜日!C12 -> 9月 | P3: 17日 | S3: （ | T3: =曜日!D5 -> 日 | U3: ） | W3: 作成者 | Z3: ：
A5: 労務 状況 | D5: 勤務状況 | K5: 西舘 翔子 | T5: 大川 祥子 | AC5: 宇津木澤 育美 | AL5: 早狩 風花
K6: 澤里 皓輝 | T6: 石鉢 佳代
A8: 入退院 状況 | D8: 入院形態 | K8: 東病棟 | Q8: 西病棟 | W8: 北病棟 | AC8: 南病棟 | AI8: 合計 | AO8: 総数
K9: 男性 | N9: 女性 | Q9: 男性 | T9: 女性 | W9: 男性 | Z9: 女性 | AC9: 男性 | AF9: 女性 | AI9: 男性 | AL9: 女性
D10: 任意入院 | AI10: =K10+Q10+W10+AC10 -> 0 | AL10: =N10+T10+Z10+AF10 -> 0 | AO10: =AI14 -> 0
D11: 医療保護入院 | AI11: =K11+Q11+W11+AC11 -> 0 | AL11: =N11+T11+Z11+AF11 -> 0
D12: 措置入院 | AI12: =K12+Q12+W12+AC12 -> 0 | AL12: =N12+T12+Z12+AF12 -> 0
D13: 合計 | K13: =SUM(K10:M12) -> 0 | N13: =SUM(N10:P12) -> 0 | Q13: =SUM(Q10:S12) -> 0 | T13: =SUM(T10:V12) -> 0 | W13: =SUM(W10:Y12) -> 0 | Z13: =SUM(Z10:AB12) -> 0 | AC13: =SUM(AC10:AE12) -> 0 | AF13: =SUM(AF10:AH12) -> 0 | AI13: =SUM(K13+Q13+W13+AC13) -> 0 | AL13: =SUM(N13+T13+Z13+AF13) -> 0 | AO13: 人
K14: =K13+N13 -> 0 | Q14: =Q13+T13 -> 0 | W14: =W13+Z13 -> 0 | AC14: =AC13+AF13 -> 0 | AI14: =AI13+AL13 -> 0
F15: 患者様氏名 | N15: 入院形態 | T15: 担当Dr | Y15: 担当SW | AD15: 病棟 | AJ15: 備考欄
D16: 入院 | L16: 様
L17: 様
L18: 様
L19: 様
L20: 様
D21: 退院 | L21: 様
L22: 様
L23: 様
L24: 様
L25: 様
D26: 転棟 ･ 入院形態変更 | L26: 様
L27: 様
L28: 様
L29: 様
L30: 様
A31: 患者様 関連 | D31: 患者様氏名 | K31: 担当Dr | P31: 病棟 | S31: 制限内容 | X31: 制限時間 | AC31: 開始日時 | AO31: 備考
I32: 様 | AC32: 令和 | AF32: 年 | AH32: 月 | AJ32: 日 | AL32: ： | AN32: ～
I33: 様 | AC33: 令和 | AF33: 年 | AH33: 月 | AJ33: 日 | AL33: ： | AN33: ～
I34: 様 | AC34: 令和 | AF34: 年 | AH34: 月 | AJ34: 日 | AL34: ： | AN34: ～
I35: 様 | AC35: 令和 | AF35: 年 | AH35: 月 | AJ35: 日 | AL35: ： | AN35: ～
I36: 様 | AC36: 令和 | AF36: 年 | AH36: 月 | AJ36: 日 | AL36: ： | AN36: ～
I37: 様 | AC37: 令和 | AF37: 年 | AH37: 月 | AJ37: 日 | AL37: ： | AN37: ～
I38: 様 | AC38: 令和 | AF38: 年 | AH38: 月 | AJ38: 日 | AL38: ： | AN38: ～
I39: 様 | AC39: 令和 | AF39: 年 | AH39: 月 | AJ39: 日 | AL39: ： | AN39: ～
I40: 様 | AC40: 令和 | AF40: 年 | AH40: 月 | AJ40: 日 | AL40: ： | AN40: ～
I41: 様 | AC41: 令和 | AF41: 年 | AH41: 月 | AJ41: 日 | AL41: ： | AN41: ～
I42: 様 | AC42: 令和 | AF42: 年 | AH42: 月 | AJ42: 日 | AL42: ： | AN42: ～
I43: 様 | AC43: 令和 | AF43: 年 | AH43: 月 | AJ43: 日 | AL43: ： | AN43: ～
... I46: 様 | AC46: 令和 | AF46: 年 | AH46: 月 | AJ46: 日 | AL46: ： | AN46: ～
A47: 業務 内容 | D47: 項目 | J47: 患者様氏名 | P47: 担当 | S47: 備考 | Y47: 項目 | AA47: 患者様氏名 | AG47: 内容 | AQ47: 担当
D48: 外 来 患 者 対 応 | F48: 外来患者 対応 | O48: 様 | Y48: 書 類 作 成 完 了 | AF48: 様
O49: 様 | AF49: 様
O50: 様 | AF50: 様
O51: 様 | AF51: 様
O52: 様 | AF52: 様
O53: 様 | AF53: 様
O54: 様 | AF54: 様
D55: 項目 | J55: 患者様氏名 | P55: 担当 | S55: 備考 | AF55: 様
D56: 入 退 院 支 援 | F56: 退院支援 | O56: 様 | AF56: 様
O57: 様 | AF57: 様
O58: 様 | Y58: 項目 | AG58: 件数 | AJ58: 担当 | AM58: 備考
O59: 様 | Y59: 電話対応 | AI59: 件
O60: 様 | Y60: 保健所への届出 | AI60: 件
F61: 退院請求 対応 | O61: 様 | Y61: 項目 | AG61: 内容
O62: 様 | Y62: 通院医療 観察法
F63: 入院患者 対応 | J63: 担当 | M63: 件数 | P63: 備考
O64: 件 | Y64: 認知症疾患 医療ｾﾝﾀｰ
O65: 件
O66: 件 | Y66: 各種会議参加 外部の業務
O67: 件
A68: 安全管理 | D68: 事故 | S68: 物品 購入 | AE68: 連絡 事項
D69: 苦情
D70: 紛失
D71: 他

Sheet 18
A1: ソーシャルワーカー室 業務日誌 | AH1: C.O.O | AL1: I.O.O | AP1: Ａ.Ｏ.Ｍ
H3: =曜日!B12 -> 令和5年 | M3: =曜日!C12 -> 9月 | P3: 18日 | S3: （ | T3: =曜日!D6 -> 月 | U3: ） | W3: 作成者 | Z3: ：
A5: 労務 状況 | D5: 勤務状況 | K5: 西舘 翔子 | T5: 大川 祥子 | AC5: 宇津木澤 育美 | AL5: 早狩 風花
K6: 澤里 皓輝 | T6: 石鉢 佳代
A8: 入退院 状況 | D8: 入院形態 | K8: 東病棟 | Q8: 西病棟 | W8: 北病棟 | AC8: 南病棟 | AI8: 合計 | AO8: 総数
K9: 男性 | N9: 女性 | Q9: 男性 | T9: 女性 | W9: 男性 | Z9: 女性 | AC9: 男性 | AF9: 女性 | AI9: 男性 | AL9: 女性
D10: 任意入院 | AI10: =K10+Q10+W10+AC10 -> 0 | AL10: =N10+T10+Z10+AF10 -> 0 | AO10: =AI14 -> 0
D11: 医療保護入院 | AI11: =K11+Q11+W11+AC11 -> 0 | AL11: =N11+T11+Z11+AF11 -> 0
D12: 措置入院 | AI12: =K12+Q12+W12+AC12 -> 0 | AL12: =N12+T12+Z12+AF12 -> 0
D13: 合計 | K13: =SUM(K10:M12) -> 0 | N13: =SUM(N10:P12) -> 0 | Q13: =SUM(Q10:S12) -> 0 | T13: =SUM(T10:V12) -> 0 | W13: =SUM(W10:Y12) -> 0 | Z13: =SUM(Z10:AB12) -> 0 | AC13: =SUM(AC10:AE12) -> 0 | AF13: =SUM(AF10:AH12) -> 0 | AI13: =SUM(K13+Q13+W13+AC13) -> 0 | AL13: =SUM(N13+T13+Z13+AF13) -> 0 | AO13: 人
K14: =K13+N13 -> 0 | Q14: =Q13+T13 -> 0 | W14: =W13+Z13 -> 0 | AC14: =AC13+AF13 -> 0 | AI14: =AI13+AL13 -> 0
F15: 患者様氏名 | N15: 入院形態 | T15: 担当Dr | Y15: 担当SW | AD15: 病棟 | AJ15: 備考欄
D16: 入院 | L16: 様
L17: 様
L18: 様
L19: 様
L20: 様
D21: 退院 | L21: 様
L22: 様
L23: 様
L24: 様
L25: 様
D26: 転棟 ･ 入院形態変更 | L26: 様
L27: 様
L28: 様
L29: 様
L30: 様
A31: 患者様 関連 | D31: 患者様氏名 | K31: 担当Dr | P31: 病棟 | S31: 制限内容 | X31: 制限時間 | AC31: 開始日時 | AO31: 備考
I32: 様 | AC32: 令和 | AF32: 年 | AH32: 月 | AJ32: 日 | AL32: ： | AN32: ～
I33: 様 | AC33: 令和 | AF33: 年 | AH33: 月 | AJ33: 日 | AL33: ： | AN33: ～
I34: 様 | AC34: 令和 | AF34: 年 | AH34: 月 | AJ34: 日 | AL34: ： | AN34: ～
I35: 様 | AC35: 令和 | AF35: 年 | AH35: 月 | AJ35: 日 | AL35: ： | AN35: ～
I36: 様 | AC36: 令和 | AF36: 年 | AH36: 月 | AJ36: 日 | AL36: ： | AN36: ～
I37: 様 | AC37: 令和 | AF37: 年 | AH37: 月 | AJ37: 日 | AL37: ： | AN37: ～
I38: 様 | AC38: 令和 | AF38: 年 | AH38: 月 | AJ38: 日 | AL38: ： | AN38: ～
I39: 様 | AC39: 令和 | AF39: 年 | AH39: 月 | AJ39: 日 | AL39: ： | AN39: ～
I40: 様 | AC40: 令和 | AF40: 年 | AH40: 月 | AJ40: 日 | AL40: ： | AN40: ～
I41: 様 | AC41: 令和 | AF41: 年 | AH41: 月 | AJ41: 日 | AL41: ： | AN41: ～
I42: 様 | AC42: 令和 | AF42: 年 | AH42: 月 | AJ42: 日 | AL42: ： | AN42: ～
I43: 様 | AC43: 令和 | AF43: 年 | AH43: 月 | AJ43: 日 | AL43: ： | AN43: ～
... I46: 様 | AC46: 令和 | AF46: 年 | AH46: 月 | AJ46: 日 | AL46: ： | AN46: ～
A47: 業務 内容 | D47: 項目 | J47: 患者様氏名 | P47: 担当 | S47: 備考 | Y47: 項目 | AA47: 患者様氏名 | AG47: 内容 | AQ47: 担当
D48: 外 来 患 者 対 応 | F48: 外来患者 対応 | O48: 様 | Y48: 書 類 作 成 完 了 | AF48: 様
O49: 様 | AF49: 様
O50: 様 | AF50: 様
O51: 様 | AF51: 様
O52: 様 | AF52: 様
O53: 様 | AF53: 様
O54: 様 | AF54: 様
D55: 項目 | J55: 患者様氏名 | P55: 担当 | S55: 備考 | AF55: 様
D56: 入 退 院 支 援 | F56: 退院支援 | O56: 様 | AF56: 様
O57: 様 | AF57: 様
O58: 様 | Y58: 項目 | AG58: 件数 | AJ58: 担当 | AM58: 備考
O59: 様 | Y59: 電話対応 | AI59: 件
O60: 様 | Y60: 保健所への届出 | AI60: 件
F61: 退院請求 対応 | O61: 様 | Y61: 項目 | AG61: 内容
O62: 様 | Y62: 通院医療 観察法
F63: 入院患者 対応 | J63: 担当 | M63: 件数 | P63: 備考
O64: 件 | Y64: 認知症疾患 医療ｾﾝﾀｰ
O65: 件
O66: 件 | Y66: 各種会議参加 外部の業務
O67: 件
A68: 安全管理 | D68: 事故 | S68: 物品 購入 | AE68: 連絡 事項
D69: 苦情
D70: 紛失
D71: 他

Sheet 19
A1: ソーシャルワーカー室 業務日誌 | AH1: C.O.O | AL1: I.O.O | AP1: Ａ.Ｏ.Ｍ
H3: =曜日!B12 -> 令和5年 | M3: =曜日!C12 -> 9月 | P3: 19日 | S3: （ | T3: =曜日!D7 -> 火 | U3: ） | W3: 作成者 | Z3: ：
A5: 労務 状況 | D5: 勤務状況 | K5: 西舘 翔子 | T5: 大川 祥子 | AC5: 宇津木澤 育美 | AL5: 早狩 風花
K6: 澤里 皓輝 | T6: 石鉢 佳代
A8: 入退院 状況 | D8: 入院形態 | K8: 東病棟 | Q8: 西病棟 | W8: 北病棟 | AC8: 南病棟 | AI8: 合計 | AO8: 総数
K9: 男性 | N9: 女性 | Q9: 男性 | T9: 女性 | W9: 男性 | Z9: 女性 | AC9: 男性 | AF9: 女性 | AI9: 男性 | AL9: 女性
D10: 任意入院 | AI10: =K10+Q10+W10+AC10 -> 0 | AL10: =N10+T10+Z10+AF10 -> 0 | AO10: =AI14 -> 0
D11: 医療保護入院 | AI11: =K11+Q11+W11+AC11 -> 0 | AL11: =N11+T11+Z11+AF11 -> 0
D12: 措置入院 | AI12: =K12+Q12+W12+AC12 -> 0 | AL12: =N12+T12+Z12+AF12 -> 0
D13: 合計 | K13: =SUM(K10:M12) -> 0 | N13: =SUM(N10:P12) -> 0 | Q13: =SUM(Q10:S12) -> 0 | T13: =SUM(T10:V12) -> 0 | W13: =SUM(W10:Y12) -> 0 | Z13: =SUM(Z10:AB12) -> 0 | AC13: =SUM(AC10:AE12) -> 0 | AF13: =SUM(AF10:AH12) -> 0 | AI13: =SUM(K13+Q13+W13+AC13) -> 0 | AL13: =SUM(N13+T13+Z13+AF13) -> 0 | AO13: 人
K14: =K13+N13 -> 0 | Q14: =Q13+T13 -> 0 | W14: =W13+Z13 -> 0 | AC14: =AC13+AF13 -> 0 | AI14: =AI13+AL13 -> 0
F15: 患者様氏名 | N15: 入院形態 | T15: 担当Dr | Y15: 担当SW | AD15: 病棟 | AJ15: 備考欄
D16: 入院 | L16: 様
L17: 様
L18: 様
L19: 様
L20: 様
D21: 退院 | L21: 様
L22: 様
L23: 様
L24: 様
L25: 様
D26: 転棟 ･ 入院形態変更 | L26: 様
L27: 様
L28: 様
L29: 様
L30: 様
A31: 患者様 関連 | D31: 患者様氏名 | K31: 担当Dr | P31: 病棟 | S31: 制限内容 | X31: 制限時間 | AC31: 開始日時 | AO31: 備考
I32: 様 | AC32: 令和 | AF32: 年 | AH32: 月 | AJ32: 日 | AL32: ： | AN32: ～
I33: 様 | AC33: 令和 | AF33: 年 | AH33: 月 | AJ33: 日 | AL33: ： | AN33: ～
I34: 様 | AC34: 令和 | AF34: 年 | AH34: 月 | AJ34: 日 | AL34: ： | AN34: ～
I35: 様 | AC35: 令和 | AF35: 年 | AH35: 月 | AJ35: 日 | AL35: ： | AN35: ～
I36: 様 | AC36: 令和 | AF36: 年 | AH36: 月 | AJ36: 日 | AL36: ： | AN36: ～
I37: 様 | AC37: 令和 | AF37: 年 | AH37: 月 | AJ37: 日 | AL37: ： | AN37: ～
I38: 様 | AC38: 令和 | AF38: 年 | AH38: 月 | AJ38: 日 | AL38: ： | AN38: ～
I39: 様 | AC39: 令和 | AF39: 年 | AH39: 月 | AJ39: 日 | AL39: ： | AN39: ～
I40: 様 | AC40: 令和 | AF40: 年 | AH40: 月 | AJ40: 日 | AL40: ： | AN40: ～
I41: 様 | AC41: 令和 | AF41: 年 | AH41: 月 | AJ41: 日 | AL41: ： | AN41: ～
I42: 様 | AC42: 令和 | AF42: 年 | AH42: 月 | AJ42: 日 | AL42: ： | AN42: ～
I43: 様 | AC43: 令和 | AF43: 年 | AH43: 月 | AJ43: 日 | AL43: ： | AN43: ～
... I46: 様 | AC46: 令和 | AF46: 年 | AH46: 月 | AJ46: 日 | AL46: ： | AN46: ～
A47: 業務 内容 | D47: 項目 | J47: 患者様氏名 | P47: 担当 | S47: 備考 | Y47: 項目 | AA47: 患者様氏名 | AG47: 内容 | AQ47: 担当
D48: 外 来 患 者 対 応 | F48: 外来患者 対応 | O48: 様 | Y48: 書 類 作 成 完 了 | AF48: 様
O49: 様 | AF49: 様
O50: 様 | AF50: 様
O51: 様 | AF51: 様
O52: 様 | AF52: 様
O53: 様 | AF53: 様
O54: 様 | AF54: 様
D55: 項目 | J55: 患者様氏名 | P55: 担当 | S55: 備考 | AF55: 様
D56: 入 退 院 支 援 | F56: 退院支援 | O56: 様 | AF56: 様
O57: 様 | AF57: 様
O58: 様 | Y58: 項目 | AG58: 件数 | AJ58: 担当 | AM58: 備考
O59: 様 | Y59: 電話対応 | AI59: 件
O60: 様 | Y60: 保健所への届出 | AI60: 件
F61: 退院請求 対応 | O61: 様 | Y61: 項目 | AG61: 内容
O62: 様 | Y62: 通院医療 観察法
F63: 入院患者 対応 | J63: 担当 | M63: 件数 | P63: 備考
O64: 件 | Y64: 認知症疾患 医療ｾﾝﾀｰ
O65: 件
O66: 件 | Y66: 各種会議参加 外部の業務
O67: 件
A68: 安全管理 | D68: 事故 | S68: 物品 購入 | AE68: 連絡 事項
D69: 苦情
D70: 紛失
D71: 他

Sheet 20
A1: ソーシャルワーカー室 業務日誌 | AH1: C.O.O | AL1: I.O.O | AP1: Ａ.Ｏ.Ｍ
H3: =曜日!B12 -> 令和5年 | M3: =曜日!C12 -> 9月 | P3: 20日 | S3: （ | T3: =曜日!D8 -> 水 | U3: ） | W3: 作成者 | Z3: ：
A5: 労務 状況 | D5: 勤務状況 | K5: 西舘 翔子 | T5: 大川 祥子 | AC5: 宇津木澤 育美 | AL5: 早狩 風花
K6: 澤里 皓輝 | T6: 石鉢 佳代
A8: 入退院 状況 | D8: 入院形態 | K8: 東病棟 | Q8: 西病棟 | W8: 北病棟 | AC8: 南病棟 | AI8: 合計 | AO8: 総数
K9: 男性 | N9: 女性 | Q9: 男性 | T9: 女性 | W9: 男性 | Z9: 女性 | AC9: 男性 | AF9: 女性 | AI9: 男性 | AL9: 女性
D10: 任意入院 | K10: 1 | AI10: =K10+Q10+W10+AC10 -> 1 | AL10: =N10+T10+Z10+AF10 -> 0 | AO10: =AI14 -> 1
D11: 医療保護入院 | AI11: =K11+Q11+W11+AC11 -> 0 | AL11: =N11+T11+Z11+AF11 -> 0
D12: 措置入院 | AI12: =K12+Q12+W12+AC12 -> 0 | AL12: =N12+T12+Z12+AF12 -> 0
D13: 合計 | K13: =SUM(K10:M12) -> 1 | N13: =SUM(N10:P12) -> 0 | Q13: =SUM(Q10:S12) -> 0 | T13: =SUM(T10:V12) -> 0 | W13: =SUM(W10:Y12) -> 0 | Z13: =SUM(Z10:AB12) -> 0 | AC13: =SUM(AC10:AE12) -> 0 | AF13: =SUM(AF10:AH12) -> 0 | AI13: =SUM(K13+Q13+W13+AC13) -> 1 | AL13: =SUM(N13+T13+Z13+AF13) -> 0 | AO13: 人
K14: =K13+N13 -> 1 | Q14: =Q13+T13 -> 0 | W14: =W13+Z13 -> 0 | AC14: =AC13+AF13 -> 0 | AI14: =AI13+AL13 -> 1
F15: 患者様氏名 | N15: 入院形態 | T15: 担当Dr | Y15: 担当SW | AD15: 病棟 | AJ15: 備考欄
D16: 入院 | L16: 様
L17: 様
L18: 様
L19: 様
L20: 様
D21: 退院 | L21: 様
L22: 様
L23: 様
L24: 様
L25: 様
D26: 転棟 ･ 入院形態変更 | L26: 様
L27: 様
L28: 様
L29: 様
L30: 様
A31: 患者様 関連 | D31: 患者様氏名 | K31: 担当Dr | P31: 病棟 | S31: 制限内容 | X31: 制限時間 | AC31: 開始日時 | AO31: 備考
I32: 様 | AC32: 令和 | AF32: 年 | AH32: 月 | AJ32: 日 | AL32: ： | AN32: ～
I33: 様 | AC33: 令和 | AF33: 年 | AH33: 月 | AJ33: 日 | AL33: ： | AN33: ～
I34: 様 | AC34: 令和 | AF34: 年 | AH34: 月 | AJ34: 日 | AL34: ： | AN34: ～
I35: 様 | AC35: 令和 | AF35: 年 | AH35: 月 | AJ35: 日 | AL35: ： | AN35: ～
I36: 様 | AC36: 令和 | AF36: 年 | AH36: 月 | AJ36: 日 | AL36: ： | AN36: ～
I37: 様 | AC37: 令和 | AF37: 年 | AH37: 月 | AJ37: 日 | AL37: ： | AN37: ～
I38: 様 | AC38: 令和 | AF38: 年 | AH38: 月 | AJ38: 日 | AL38: ： | AN38: ～
I39: 様 | AC39: 令和 | AF39: 年 | AH39: 月 | AJ39: 日 | AL39: ： | AN39: ～
I40: 様 | AC40: 令和 | AF40: 年 | AH40: 月 | AJ40: 日 | AL40: ： | AN40: ～
I41: 様 | AC41: 令和 | AF41: 年 | AH41: 月 | AJ41: 日 | AL41: ： | AN41: ～
I42: 様 | AC42: 令和 | AF42: 年 | AH42: 月 | AJ42: 日 | AL42: ： | AN42: ～
I43: 様 | AC43: 令和 | AF43: 年 | AH43: 月 | AJ43: 日 | AL43: ： | AN43: ～
... I46: 様 | AC46: 令和 | AF46: 年 | AH46: 月 | AJ46: 日 | AL46: ： | AN46: ～
A47: 業務 内容 | D47: 項目 | J47: 患者様氏名 | P47: 担当 | S47: 備考 | Y47: 項目 | AA47: 患者様氏名 | AG47: 内容 | AQ47: 担当
D48: 外 来 患 者 対 応 | F48: 外来患者 対応 | O48: 様 | Y48: 書 類 作 成 完 了 | AF48: 様
O49: 様 | AF49: 様
O50: 様 | AF50: 様
O51: 様 | AF51: 様
O52: 様 | AF52: 様
O53: 様 | AF53: 様
O54: 様 | AF54: 様
D55: 項目 | J55: 患者様氏名 | P55: 担当 | S55: 備考 | AF55: 様
D56: 入 退 院 支 援 | F56: 退院支援 | O56: 様 | AF56: 様
O57: 様 | AF57: 様
O58: 様 | Y58: 項目 | AG58: 件数 | AJ58: 担当 | AM58: 備考
O59: 様 | Y59: 電話対応 | AI59: 件
O60: 様 | Y60: 保健所への届出 | AI60: 件
F61: 退院請求 対応 | O61: 様 | Y61: 項目 | AG61: 内容
O62: 様 | Y62: 通院医療 観察法
F63: 入院患者 対応 | J63: 担当 | M63: 件数 | P63: 備考
O64: 件 | Y64: 認知症疾患 医療ｾﾝﾀｰ
O65: 件
O66: 件 | Y66: 各種会議参加 外部の業務
O67: 件
A68: 安全管理 | D68: 事故 | S68: 物品 購入 | AE68: 連絡 事項
D69: 苦情
D70: 紛失
D71: 他

Sheet 21
A1: ソーシャルワーカー室 業務日誌 | AH1: C.O.O | AL1: I.O.O | AP1: Ａ.Ｏ.Ｍ
H3: =曜日!B12 -> 令和5年 | M3: =曜日!C12 -> 9月 | P3: 21日 | S3: （ | T3: =曜日!D9 -> 木 | U3: ） | W3: 作成者 | Z3: ：
A5: 労務 状況 | D5: 勤務状況 | K5: 西舘 翔子 | T5: 大川 祥子 | AC5: 宇津木澤 育美 | AL5: 早狩 風花
K6: 澤里 皓輝 | T6: 石鉢 佳代
A8: 入退院 状況 | D8: 入院形態 | K8: 東病棟 | Q8: 西病棟 | W8: 北病棟 | AC8: 南病棟 | AI8: 合計 | AO8: 総数
K9: 男性 | N9: 女性 | Q9: 男性 | T9: 女性 | W9: 男性 | Z9: 女性 | AC9: 男性 | AF9: 女性 | AI9: 男性 | AL9: 女性
D10: 任意入院 | AI10: =K10+Q10+W10+AC10 -> 0 | AL10: =N10+T10+Z10+AF10 -> 0 | AO10: =AI14 -> 0
D11: 医療保護入院 | AI11: =K11+Q11+W11+AC11 -> 0 | AL11: =N11+T11+Z11+AF11 -> 0
D12: 措置入院 | AI12: =K12+Q12+W12+AC12 -> 0 | AL12: =N12+T12+Z12+AF12 -> 0
D13: 合計 | K13: =SUM(K10:M12) -> 0 | N13: =SUM(N10:P12) -> 0 | Q13: =SUM(Q10:S12) -> 0 | T13: =SUM(T10:V12) -> 0 | W13: =SUM(W10:Y12) -> 0 | Z13: =SUM(Z10:AB12) -> 0 | AC13: =SUM(AC10:AE12) -> 0 | AF13: =SUM(AF10:AH12) -> 0 | AI13: =SUM(K13+Q13+W13+AC13) -> 0 | AL13: =SUM(N13+T13+Z13+AF13) -> 0 | AO13: 人
K14: =K13+N13 -> 0 | Q14: =Q13+T13 -> 0 | W14: =W13+Z13 -> 0 | AC14: =AC13+AF13 -> 0 | AI14: =AI13+AL13 -> 0
F15: 患者様氏名 | N15: 入院形態 | T15: 担当Dr | Y15: 担当SW | AD15: 病棟 | AJ15: 備考欄
D16: 入院 | L16: 様
L17: 様
L18: 様
L19: 様
L20: 様
D21: 退院 | L21: 様
L22: 様
L23: 様
L24: 様
L25: 様
D26: 転棟 ･ 入院形態変更 | L26: 様
L27: 様
L28: 様
L29: 様
L30: 様
A31: 患者様 関連 | D31: 患者様氏名 | K31: 担当Dr | P31: 病棟 | S31: 制限内容 | X31: 制限時間 | AC31: 開始日時 | AO31: 備考
I32: 様 | AC32: 令和 | AF32: 年 | AH32: 月 | AJ32: 日 | AL32: ： | AN32: ～
I33: 様 | AC33: 令和 | AF33: 年 | AH33: 月 | AJ33: 日 | AL33: ： | AN33: ～
I34: 様 | AC34: 令和 | AF34: 年 | AH34: 月 | AJ34: 日 | AL34: ： | AN34: ～
I35: 様 | AC35: 令和 | AF35: 年 | AH35: 月 | AJ35: 日 | AL35: ： | AN35: ～
I36: 様 | AC36: 令和 | AF36: 年 | AH36: 月 | AJ36: 日 | AL36: ： | AN36: ～
I37: 様 | AC37: 令和 | AF37: 年 | AH37: 月 | AJ37: 日 | AL37: ： | AN37: ～
I38: 様 | AC38: 令和 | AF38: 年 | AH38: 月 | AJ38: 日 | AL38: ： | AN38: ～
I39: 様 | AC39: 令和 | AF39: 年 | AH39: 月 | AJ39: 日 | AL39: ： | AN39: ～
I40: 様 | AC40: 令和 | AF40: 年 | AH40: 月 | AJ40: 日 | AL40: ： | AN40: ～
I41: 様 | AC41: 令和 | AF41: 年 | AH41: 月 | AJ41: 日 | AL41: ： | AN41: ～
I42: 様 | AC42: 令和 | AF42: 年 | AH42: 月 | AJ42: 日 | AL42: ： | AN42: ～
I43: 様 | AC43: 令和 | AF43: 年 | AH43: 月 | AJ43: 日 | AL43: ： | AN43: ～
... I46: 様 | AC46: 令和 | AF46: 年 | AH46: 月 | AJ46: 日 | AL46: ： | AN46: ～
A47: 業務 内容 | D47: 項目 | J47: 患者様氏名 | P47: 担当 | S47: 備考 | Y47: 項目 | AA47: 患者様氏名 | AG47: 内容 | AQ47: 担当
D48: 外 来 患 者 対 応 | F48: 外来患者 対応 | O48: 様 | Y48: 書 類 作 成 完 了 | AF48: 様
O49: 様 | AF49: 様
O50: 様 | AF50: 様
O51: 様 | AF51: 様
O52: 様 | AF52: 様
O53: 様 | AF53: 様
O54: 様 | AF54: 様
D55: 項目 | J55: 患者様氏名 | P55: 担当 | S55: 備考 | AF55: 様
D56: 入 退 院 支 援 | F56: 退院支援 | O56: 様 | AF56: 様
O57: 様 | AF57: 様
O58: 様 | Y58: 項目 | AG58: 件数 | AJ58: 担当 | AM58: 備考
O59: 様 | Y59: 電話対応 | AI59: 件
O60: 様 | Y60: 保健所への届出 | AI60: 件
F61: 退院請求 対応 | O61: 様 | Y61: 項目 | AG61: 内容
O62: 様 | Y62: 通院医療 観察法
F63: 入院患者 対応 | J63: 担当 | M63: 件数 | P63: 備考
O64: 件 | Y64: 認知症疾患 医療ｾﾝﾀｰ
O65: 件
O66: 件 | Y66: 各種会議参加 外部の業務
O67: 件
A68: 安全管理 | D68: 事故 | S68: 物品 購入 | AE68: 連絡 事項
D69: 苦情
D70: 紛失
D71: 他

Sheet 22
A1: ソーシャルワーカー室 業務日誌 | AH1: C.O.O | AL1: I.O.O | AP1: Ａ.Ｏ.Ｍ
H3: =曜日!B12 -> 令和5年 | M3: =曜日!C12 -> 9月 | P3: 22日 | S3: （ | T3: =曜日!D3 -> 金 | U3: ） | W3: 作成者 | Z3: ：
A5: 労務 状況 | D5: 勤務状況 | K5: 西舘 翔子 | T5: 大川 祥子 | AC5: 宇津木澤 育美 | AL5: 早狩 風花
K6: 澤里 皓輝 | T6: 石鉢 佳代
A8: 入退院 状況 | D8: 入院形態 | K8: 東病棟 | Q8: 西病棟 | W8: 北病棟 | AC8: 南病棟 | AI8: 合計 | AO8: 総数
K9: 男性 | N9: 女性 | Q9: 男性 | T9: 女性 | W9: 男性 | Z9: 女性 | AC9: 男性 | AF9: 女性 | AI9: 男性 | AL9: 女性
D10: 任意入院 | AI10: =K10+Q10+W10+AC10 -> 0 | AL10: =N10+T10+Z10+AF10 -> 0 | AO10: =AI14 -> 0
D11: 医療保護入院 | AI11: =K11+Q11+W11+AC11 -> 0 | AL11: =N11+T11+Z11+AF11 -> 0
D12: 措置入院 | AI12: =K12+Q12+W12+AC12 -> 0 | AL12: =N12+T12+Z12+AF12 -> 0
D13: 合計 | K13: =SUM(K10:M12) -> 0 | N13: =SUM(N10:P12) -> 0 | Q13: =SUM(Q10:S12) -> 0 | T13: =SUM(T10:V12) -> 0 | W13: =SUM(W10:Y12) -> 0 | Z13: =SUM(Z10:AB12) -> 0 | AC13: =SUM(AC10:AE12) -> 0 | AF13: =SUM(AF10:AH12) -> 0 | AI13: =SUM(K13+Q13+W13+AC13) -> 0 | AL13: =SUM(N13+T13+Z13+AF13) -> 0 | AO13: 人
K14: =K13+N13 -> 0 | Q14: =Q13+T13 -> 0 | W14: =W13+Z13 -> 0 | AC14: =AC13+AF13 -> 0 | AI14: =AI13+AL13 -> 0
F15: 患者様氏名 | N15: 入院形態 | T15: 担当Dr | Y15: 担当SW | AD15: 病棟 | AJ15: 備考欄
D16: 入院 | L16: 様
L17: 様
L18: 様
L19: 様
L20: 様
D21: 退院 | L21: 様
L22: 様
L23: 様
L24: 様
L25: 様
D26: 転棟 ･ 入院形態変更 | L26: 様
L27: 様
L28: 様
L29: 様
L30: 様
A31: 患者様 関連 | D31: 患者様氏名 | K31: 担当Dr | P31: 病棟 | S31: 制限内容 | X31: 制限時間 | AC31: 開始日時 | AO31: 備考
I32: 様 | AC32: 令和 | AF32: 年 | AH32: 月 | AJ32: 日 | AL32: ： | AN32: ～
I33: 様 | AC33: 令和 | AF33: 年 | AH33: 月 | AJ33: 日 | AL33: ： | AN33: ～
I34: 様 | AC34: 令和 | AF34: 年 | AH34: 月 | AJ34: 日 | AL34: ： | AN34: ～
I35: 様 | AC35: 令和 | AF35: 年 | AH35: 月 | AJ35: 日 | AL35: ： | AN35: ～
I36: 様 | AC36: 令和 | AF36: 年 | AH36: 月 | AJ36: 日 | AL36: ： | AN36: ～
I37: 様 | AC37: 令和 | AF37: 年 | AH37: 月 | AJ37: 日 | AL37: ： | AN37: ～
I38: 様 | AC38: 令和 | AF38: 年 | AH38: 月 | AJ38: 日 | AL38: ： | AN38: ～
I39: 様 | AC39: 令和 | AF39: 年 | AH39: 月 | AJ39: 日 | AL39: ： | AN39: ～
I40: 様 | AC40: 令和 | AF40: 年 | AH40: 月 | AJ40: 日 | AL40: ： | AN40: ～
I41: 様 | AC41: 令和 | AF41: 年 | AH41: 月 | AJ41: 日 | AL41: ： | AN41: ～
I42: 様 | AC42: 令和 | AF42: 年 | AH42: 月 | AJ42: 日 | AL42: ： | AN42: ～
I43: 様 | AC43: 令和 | AF43: 年 | AH43: 月 | AJ43: 日 | AL43: ： | AN43: ～
... I46: 様 | AC46: 令和 | AF46: 年 | AH46: 月 | AJ46: 日 | AL46: ： | AN46: ～
A47: 業務 内容 | D47: 項目 | J47: 患者様氏名 | P47: 担当 | S47: 備考 | Y47: 項目 | AA47: 患者様氏名 | AG47: 内容 | AQ47: 担当
D48: 外 来 患 者 対 応 | F48: 外来患者 対応 | O48: 様 | Y48: 書 類 作 成 完 了 | AF48: 様
O49: 様 | AF49: 様
O50: 様 | AF50: 様
O51: 様 | AF51: 様
O52: 様 | AF52: 様
O53: 様 | AF53: 様
O54: 様 | AF54: 様
D55: 項目 | J55: 患者様氏名 | P55: 担当 | S55: 備考 | AF55: 様
D56: 入 退 院 支 援 | F56: 退院支援 | O56: 様 | AF56: 様
O57: 様 | AF57: 様
O58: 様 | Y58: 項目 | AG58: 件数 | AJ58: 担当 | AM58: 備考
O59: 様 | Y59: 電話対応 | AI59: 件
O60: 様 | Y60: 保健所への届出 | AI60: 件
F61: 退院請求 対応 | O61: 様 | Y61: 項目 | AG61: 内容
O62: 様 | Y62: 通院医療 観察法
F63: 入院患者 対応 | J63: 担当 | M63: 件数 | P63: 備考
O64: 件 | Y64: 認知症疾患 医療ｾﾝﾀｰ
O65: 件
O66: 件 | Y66: 各種会議参加 外部の業務
O67: 件
A68: 安全管理 | D68: 事故 | S68: 物品 購入 | AE68: 連絡 事項
D69: 苦情
D70: 紛失
D71: 他

Sheet 23
A1: ソーシャルワーカー室 業務日誌 | AH1: C.O.O | AL1: I.O.O | AP1: Ａ.Ｏ.Ｍ
H3: =曜日!B12 -> 令和5年 | M3: =曜日!C12 -> 9月 | P3: 23日 | S3: （ | T3: =曜日!D4 -> 土 | U3: ） | W3: 作成者 | Z3: ：
A5: 労務 状況 | D5: 勤務状況 | K5: 西舘 翔子 | T5: 大川 祥子 | AC5: 宇津木澤 育美 | AL5: 早狩 風花
K6: 澤里 皓輝 | T6: 石鉢 佳代
A8: 入退院 状況 | D8: 入院形態 | K8: 東病棟 | Q8: 西病棟 | W8: 北病棟 | AC8: 南病棟 | AI8: 合計 | AO8: 総数
K9: 男性 | N9: 女性 | Q9: 男性 | T9: 女性 | W9: 男性 | Z9: 女性 | AC9: 男性 | AF9: 女性 | AI9: 男性 | AL9: 女性
D10: 任意入院 | AI10: =K10+Q10+W10+AC10 -> 0 | AL10: =N10+T10+Z10+AF10 -> 0 | AO10: =AI14 -> 0
D11: 医療保護入院 | AI11: =K11+Q11+W11+AC11 -> 0 | AL11: =N11+T11+Z11+AF11 -> 0
D12: 措置入院 | AI12: =K12+Q12+W12+AC12 -> 0 | AL12: =N12+T12+Z12+AF12 -> 0
D13: 合計 | K13: =SUM(K10:M12) -> 0 | N13: =SUM(N10:P12) -> 0 | Q13: =SUM(Q10:S12) -> 0 | T13: =SUM(T10:V12) -> 0 | W13: =SUM(W10:Y12) -> 0 | Z13: =SUM(Z10:AB12) -> 0 | AC13: =SUM(AC10:AE12) -> 0 | AF13: =SUM(AF10:AH12) -> 0 | AI13: =SUM(K13+Q13+W13+AC13) -> 0 | AL13: =SUM(N13+T13+Z13+AF13) -> 0 | AO13: 人
K14: =K13+N13 -> 0 | Q14: =Q13+T13 -> 0 | W14: =W13+Z13 -> 0 | AC14: =AC13+AF13 -> 0 | AI14: =AI13+AL13 -> 0
F15: 患者様氏名 | N15: 入院形態 | T15: 担当Dr | Y15: 担当SW | AD15: 病棟 | AJ15: 備考欄
D16: 入院 | L16: 様
L17: 様
L18: 様
L19: 様
L20: 様
D21: 退院 | L21: 様
L22: 様
L23: 様
L24: 様
L25: 様
D26: 転棟 ･ 入院形態変更 | L26: 様
L27: 様
L28: 様
L29: 様
L30: 様
A31: 患者様 関連 | D31: 患者様氏名 | K31: 担当Dr | P31: 病棟 | S31: 制限内容 | X31: 制限時間 | AC31: 開始日時 | AO31: 備考
I32: 様 | AC32: 令和 | AF32: 年 | AH32: 月 | AJ32: 日 | AL32: ： | AN32: ～
I33: 様 | AC33: 令和 | AF33: 年 | AH33: 月 | AJ33: 日 | AL33: ： | AN33: ～
I34: 様 | AC34: 令和 | AF34: 年 | AH34: 月 | AJ34: 日 | AL34: ： | AN34: ～
I35: 様 | AC35: 令和 | AF35: 年 | AH35: 月 | AJ35: 日 | AL35: ： | AN35: ～
I36: 様 | AC36: 令和 | AF36: 年 | AH36: 月 | AJ36: 日 | AL36: ： | AN36: ～
I37: 様 | AC37: 令和 | AF37: 年 | AH37: 月 | AJ37: 日 | AL37: ： | AN37: ～
I38: 様 | AC38: 令和 | AF38: 年 | AH38: 月 | AJ38: 日 | AL38: ： | AN38: ～
I39: 様 | AC39: 令和 | AF39: 年 | AH39: 月 | AJ39: 日 | AL39: ： | AN39: ～
I40: 様 | AC40: 令和 | AF40: 年 | AH40: 月 | AJ40: 日 | AL40: ： | AN40: ～
I41: 様 | AC41: 令和 | AF41: 年 | AH41: 月 | AJ41: 日 | AL41: ： | AN41: ～
I42: 様 | AC42: 令和 | AF42: 年 | AH42: 月 | AJ42: 日 | AL42: ： | AN42: ～
I43: 様 | AC43: 令和 | AF43: 年 | AH43: 月 | AJ43: 日 | AL43: ： | AN43: ～
... I46: 様 | AC46: 令和 | AF46: 年 | AH46: 月 | AJ46: 日 | AL46: ： | AN46: ～
A47: 業務 内容 | D47: 項目 | J47: 患者様氏名 | P47: 担当 | S47: 備考 | Y47: 項目 | AA47: 患者様氏名 | AG47: 内容 | AQ47: 担当
D48: 外 来 患 者 対 応 | F48: 外来患者 対応 | O48: 様 | Y48: 書 類 作 成 完 了 | AF48: 様
O49: 様 | AF49: 様
O50: 様 | AF50: 様
O51: 様 | AF51: 様
O52: 様 | AF52: 様
O53: 様 | AF53: 様
O54: 様 | AF54: 様
D55: 項目 | J55: 患者様氏名 | P55: 担当 | S55: 備考 | AF55: 様
D56: 入 退 院 支 援 | F56: 退院支援 | O56: 様 | AF56: 様
O57: 様 | AF57: 様
O58: 様 | Y58: 項目 | AG58: 件数 | AJ58: 担当 | AM58: 備考
O59: 様 | Y59: 電話対応 | AI59: 件
O60: 様 | Y60: 保健所への届出 | AI60: 件
F61: 退院請求 対応 | O61: 様 | Y61: 項目 | AG61: 内容
O62: 様 | Y62: 通院医療 観察法
F63: 入院患者 対応 | J63: 担当 | M63: 件数 | P63: 備考
O64: 件 | Y64: 認知症疾患 医療ｾﾝﾀｰ
O65: 件
O66: 件 | Y66: 各種会議参加 外部の業務
O67: 件
A68: 安全管理 | D68: 事故 | S68: 物品 購入 | AE68: 連絡 事項
D69: 苦情
D70: 紛失
D71: 他

Sheet 24
A1: ソーシャルワーカー室 業務日誌 | AH1: C.O.O | AL1: I.O.O | AP1: Ａ.Ｏ.Ｍ
H3: =曜日!B12 -> 令和5年 | M3: =曜日!C12 -> 9月 | P3: 24日 | S3: （ | T3: =曜日!D5 -> 日 | U3: ） | W3: 作成者 | Z3: ：
A5: 労務 状況 | D5: 勤務状況 | K5: 西舘 翔子 | T5: 大川 祥子 | AC5: 宇津木澤 育美 | AL5: 早狩 風花
K6: 澤里 皓輝 | T6: 石鉢 佳代
A8: 入退院 状況 | D8: 入院形態 | K8: 東病棟 | Q8: 西病棟 | W8: 北病棟 | AC8: 南病棟 | AI8: 合計 | AO8: 総数
K9: 男性 | N9: 女性 | Q9: 男性 | T9: 女性 | W9: 男性 | Z9: 女性 | AC9: 男性 | AF9: 女性 | AI9: 男性 | AL9: 女性
D10: 任意入院 | AI10: =K10+Q10+W10+AC10 -> 0 | AL10: =N10+T10+Z10+AF10 -> 0 | AO10: =AI14 -> 0
D11: 医療保護入院 | AI11: =K11+Q11+W11+AC11 -> 0 | AL11: =N11+T11+Z11+AF11 -> 0
D12: 措置入院 | AI12: =K12+Q12+W12+AC12 -> 0 | AL12: =N12+T12+Z12+AF12 -> 0
D13: 合計 | K13: =SUM(K10:M12) -> 0 | N13: =SUM(N10:P12) -> 0 | Q13: =SUM(Q10:S12) -> 0 | T13: =SUM(T10:V12) -> 0 | W13: =SUM(W10:Y12) -> 0 | Z13: =SUM(Z10:AB12) -> 0 | AC13: =SUM(AC10:AE12) -> 0 | AF13: =SUM(AF10:AH12) -> 0 | AI13: =SUM(K13+Q13+W13+AC13) -> 0 | AL13: =SUM(N13+T13+Z13+AF13) -> 0 | AO13: 人
K14: =K13+N13 -> 0 | Q14: =Q13+T13 -> 0 | W14: =W13+Z13 -> 0 | AC14: =AC13+AF13 -> 0 | AI14: =AI13+AL13 -> 0
F15: 患者様氏名 | N15: 入院形態 | T15: 担当Dr | Y15: 担当SW | AD15: 病棟 | AJ15: 備考欄
D16: 入院 | L16: 様
L17: 様
L18: 様
L19: 様
L20: 様
D21: 退院 | L21: 様
L22: 様
L23: 様
L24: 様
L25: 様
D26: 転棟 ･ 入院形態変更 | L26: 様
L27: 様
L28: 様
L29: 様
L30: 様
A31: 患者様 関連 | D31: 患者様氏名 | K31: 担当Dr | P31: 病棟 | S31: 制限内容 | X31: 制限時間 | AC31: 開始日時 | AO31: 備考
I32: 様 | AC32: 令和 | AF32: 年 | AH32: 月 | AJ32: 日 | AL32: ： | AN32: ～
I33: 様 | AC33: 令和 | AF33: 年 | AH33: 月 | AJ33: 日 | AL33: ： | AN33: ～
I34: 様 | AC34: 令和 | AF34: 年 | AH34: 月 | AJ34: 日 | AL34: ： | AN34: ～
I35: 様 | AC35: 令和 | AF35: 年 | AH35: 月 | AJ35: 日 | AL35: ： | AN35: ～
I36: 様 | AC36: 令和 | AF36: 年 | AH36: 月 | AJ36: 日 | AL36: ： | AN36: ～
I37: 様 | AC37: 令和 | AF37: 年 | AH37: 月 | AJ37: 日 | AL37: ： | AN37: ～
I38: 様 | AC38: 令和 | AF38: 年 | AH38: 月 | AJ38: 日 | AL38: ： | AN38: ～
I39: 様 | AC39: 令和 | AF39: 年 | AH39: 月 | AJ39: 日 | AL39: ： | AN39: ～
I40: 様 | AC40: 令和 | AF40: 年 | AH40: 月 | AJ40: 日 | AL40: ： | AN40: ～
I41: 様 | AC41: 令和 | AF41: 年 | AH41: 月 | AJ41: 日 | AL41: ： | AN41: ～
I42: 様 | AC42: 令和 | AF42: 年 | AH42: 月 | AJ42: 日 | AL42: ： | AN42: ～
I43: 様 | AC43: 令和 | AF43: 年 | AH43: 月 | AJ43: 日 | AL43: ： | AN43: ～
... I46: 様 | AC46: 令和 | AF46: 年 | AH46: 月 | AJ46: 日 | AL46: ： | AN46: ～
A47: 業務 内容 | D47: 項目 | J47: 患者様氏名 | P47: 担当 | S47: 備考 | Y47: 項目 | AA47: 患者様氏名 | AG47: 内容 | AQ47: 担当
D48: 外 来 患 者 対 応 | F48: 外来患者 対応 | O48: 様 | Y48: 書 類 作 成 完 了 | AF48: 様
O49: 様 | AF49: 様
O50: 様 | AF50: 様
O51: 様 | AF51: 様
O52: 様 | AF52: 様
O53: 様 | AF53: 様
O54: 様 | AF54: 様
D55: 項目 | J55: 患者様氏名 | P55: 担当 | S55: 備考 | AF55: 様
D56: 入 退 院 支 援 | F56: 退院支援 | O56: 様 | AF56: 様
O57: 様 | AF57: 様
O58: 様 | Y58: 項目 | AG58: 件数 | AJ58: 担当 | AM58: 備考
O59: 様 | Y59: 電話対応 | AI59: 件
O60: 様 | Y60: 保健所への届出 | AI60: 件
F61: 退院請求 対応 | O61: 様 | Y61: 項目 | AG61: 内容
O62: 様 | Y62: 通院医療 観察法
F63: 入院患者 対応 | J63: 担当 | M63: 件数 | P63: 備考
O64: 件 | Y64: 認知症疾患 医療ｾﾝﾀｰ
O65: 件
O66: 件 | Y66: 各種会議参加 外部の業務
O67: 件
A68: 安全管理 | D68: 事故 | S68: 物品 購入 | AE68: 連絡 事項
D69: 苦情
D70: 紛失
D71: 他

Sheet 25
A1: ソーシャルワーカー室 業務日誌 | AH1: C.O.O | AL1: I.O.O | AP1: Ａ.Ｏ.Ｍ
H3: =曜日!B12 -> 令和5年 | M3: =曜日!C12 -> 9月 | P3: 25日 | S3: （ | T3: =曜日!D6 -> 月 | U3: ） | W3: 作成者 | Z3: ：
A5: 労務 状況 | D5: 勤務状況 | K5: 西舘 翔子 | T5: 大川 祥子 | AC5: 宇津木澤 育美 | AL5: 早狩 風花
K6: 澤里 皓輝 | T6: 石鉢 佳代
A8: 入退院 状況 | D8: 入院形態 | K8: 東病棟 | Q8: 西病棟 | W8: 北病棟 | AC8: 南病棟 | AI8: 合計 | AO8: 総数
K9: 男性 | N9: 女性 | Q9: 男性 | T9: 女性 | W9: 男性 | Z9: 女性 | AC9: 男性 | AF9: 女性 | AI9: 男性 | AL9: 女性
D10: 任意入院 | AI10: =K10+Q10+W10+AC10 -> 0 | AL10: =N10+T10+Z10+AF10 -> 0 | AO10: =AI14 -> 0
D11: 医療保護入院 | AI11: =K11+Q11+W11+AC11 -> 0 | AL11: =N11+T11+Z11+AF11 -> 0
D12: 措置入院 | AI12: =K12+Q12+W12+AC12 -> 0 | AL12: =N12+T12+Z12+AF12 -> 0
D13: 合計 | K13: =SUM(K10:M12) -> 0 | N13: =SUM(N10:P12) -> 0 | Q13: =SUM(Q10:S12) -> 0 | T13: =SUM(T10:V12) -> 0 | W13: =SUM(W10:Y12) -> 0 | Z13: =SUM(Z10:AB12) -> 0 | AC13: =SUM(AC10:AE12) -> 0 | AF13: =SUM(AF10:AH12) -> 0 | AI13: =SUM(K13+Q13+W13+AC13) -> 0 | AL13: =SUM(N13+T13+Z13+AF13) -> 0 | AO13: 人
K14: =K13+N13 -> 0 | Q14: =Q13+T13 -> 0 | W14: =W13+Z13 -> 0 | AC14: =AC13+AF13 -> 0 | AI14: =AI13+AL13 -> 0
F15: 患者様氏名 | N15: 入院形態 | T15: 担当Dr | Y15: 担当SW | AD15: 病棟 | AJ15: 備考欄
D16: 入院 | L16: 様
L17: 様
L18: 様
L19: 様
L20: 様
D21: 退院 | L21: 様
L22: 様
L23: 様
L24: 様
L25: 様
D26: 転棟 ･ 入院形態変更 | L26: 様
L27: 様
L28: 様
L29: 様
L30: 様
A31: 患者様 関連 | D31: 患者様氏名 | K31: 担当Dr | P31: 病棟 | S31: 制限内容 | X31: 制限時間 | AC31: 開始日時 | AO31: 備考
I32: 様 | AC32: 令和 | AF32: 年 | AH32: 月 | AJ32: 日 | AL32: ： | AN32: ～
I33: 様 | AC33: 令和 | AF33: 年 | AH33: 月 | AJ33: 日 | AL33: ： | AN33: ～
I34: 様 | AC34: 令和 | AF34: 年 | AH34: 月 | AJ34: 日 | AL34: ： | AN34: ～
I35: 様 | AC35: 令和 | AF35: 年 | AH35: 月 | AJ35: 日 | AL35: ： | AN35: ～
I36: 様 | AC36: 令和 | AF36: 年 | AH36: 月 | AJ36: 日 | AL36: ： | AN36: ～
I37: 様 | AC37: 令和 | AF37: 年 | AH37: 月 | AJ37: 日 | AL37: ： | AN37: ～
I38: 様 | AC38: 令和 | AF38: 年 | AH38: 月 | AJ38: 日 | AL38: ： | AN38: ～
I39: 様 | AC39: 令和 | AF39: 年 | AH39: 月 | AJ39: 日 | AL39: ： | AN39: ～
I40: 様 | AC40: 令和 | AF40: 年 | AH40: 月 | AJ40: 日 | AL40: ： | AN40: ～
I41: 様 | AC41: 令和 | AF41: 年 | AH41: 月 | AJ41: 日 | AL41: ： | AN41: ～
I42: 様 | AC42: 令和 | AF42: 年 | AH42: 月 | AJ42: 日 | AL42: ： | AN42: ～
I43: 様 | AC43: 令和 | AF43: 年 | AH43: 月 | AJ43: 日 | AL43: ： | AN43: ～
... I46: 様 | AC46: 令和 | AF46: 年 | AH46: 月 | AJ46: 日 | AL46: ： | AN46: ～
A47: 業務 内容 | D47: 項目 | J47: 患者様氏名 | P47: 担当 | S47: 備考 | Y47: 項目 | AA47: 患者様氏名 | AG47: 内容 | AQ47: 担当
D48: 外 来 患 者 対 応 | F48: 外来患者 対応 | O48: 様 | Y48: 書 類 作 成 完 了 | AF48: 様
O49: 様 | AF49: 様
O50: 様 | AF50: 様
O51: 様 | AF51: 様
O52: 様 | AF52: 様
O53: 様 | AF53: 様
O54: 様 | AF54: 様
D55: 項目 | J55: 患者様氏名 | P55: 担当 | S55: 備考 | AF55: 様
D56: 入 退 院 支 援 | F56: 退院支援 | O56: 様 | AF56: 様
O57: 様 | AF57: 様
O58: 様 | Y58: 項目 | AG58: 件数 | AJ58: 担当 | AM58: 備考
O59: 様 | Y59: 電話対応 | AI59: 件
O60: 様 | Y60: 保健所への届出 | AI60: 件
F61: 退院請求 対応 | O61: 様 | Y61: 項目 | AG61: 内容
O62: 様 | Y62: 通院医療 観察法
F63: 入院患者 対応 | J63: 担当 | M63: 件数 | P63: 備考
O64: 件 | Y64: 認知症疾患 医療ｾﾝﾀｰ
O65: 件
O66: 件 | Y66: 各種会議参加 外部の業務
O67: 件
A68: 安全管理 | D68: 事故 | S68: 物品 購入 | AE68: 連絡 事項
D69: 苦情
D70: 紛失
D71: 他

Sheet 26
A1: ソーシャルワーカー室 業務日誌 | AH1: C.O.O | AL1: I.O.O | AP1: Ａ.Ｏ.Ｍ
H3: =曜日!B12 -> 令和5年 | M3: =曜日!C12 -> 9月 | P3: 26日 | S3: （ | T3: =曜日!D7 -> 火 | U3: ） | W3: 作成者 | Z3: ：
A5: 労務 状況 | D5: 勤務状況 | K5: 西舘 翔子 | T5: 大川 祥子 | AC5: 宇津木澤 育美 | AL5: 早狩 風花
K6: 澤里 皓輝 | T6: 石鉢 佳代
A8: 入退院 状況 | D8: 入院形態 | K8: 東病棟 | Q8: 西病棟 | W8: 北病棟 | AC8: 南病棟 | AI8: 合計 | AO8: 総数
K9: 男性 | N9: 女性 | Q9: 男性 | T9: 女性 | W9: 男性 | Z9: 女性 | AC9: 男性 | AF9: 女性 | AI9: 男性 | AL9: 女性
D10: 任意入院 | AI10: =K10+Q10+W10+AC10 -> 0 | AL10: =N10+T10+Z10+AF10 -> 0 | AO10: =AI14 -> 0
D11: 医療保護入院 | AI11: =K11+Q11+W11+AC11 -> 0 | AL11: =N11+T11+Z11+AF11 -> 0
D12: 措置入院 | AI12: =K12+Q12+W12+AC12 -> 0 | AL12: =N12+T12+Z12+AF12 -> 0
D13: 合計 | K13: =SUM(K10:M12) -> 0 | N13: =SUM(N10:P12) -> 0 | Q13: =SUM(Q10:S12) -> 0 | T13: =SUM(T10:V12) -> 0 | W13: =SUM(W10:Y12) -> 0 | Z13: =SUM(Z10:AB12) -> 0 | AC13: =SUM(AC10:AE12) -> 0 | AF13: =SUM(AF10:AH12) -> 0 | AI13: =SUM(K13+Q13+W13+AC13) -> 0 | AL13: =SUM(N13+T13+Z13+AF13) -> 0 | AO13: 人
K14: =K13+N13 -> 0 | Q14: =Q13+T13 -> 0 | W14: =W13+Z13 -> 0 | AC14: =AC13+AF13 -> 0 | AI14: =AI13+AL13 -> 0
F15: 患者様氏名 | N15: 入院形態 | T15: 担当Dr | Y15: 担当SW | AD15: 病棟 | AJ15: 備考欄
D16: 入院 | L16: 様
L17: 様
L18: 様
L19: 様
L20: 様
D21: 退院 | L21: 様
L22: 様
L23: 様
L24: 様
L25: 様
D26: 転棟 ･ 入院形態変更 | L26: 様
L27: 様
L28: 様
L29: 様
L30: 様
A31: 患者様 関連 | D31: 患者様氏名 | K31: 担当Dr | P31: 病棟 | S31: 制限内容 | X31: 制限時間 | AC31: 開始日時 | AO31: 備考
I32: 様 | AC32: 令和 | AF32: 年 | AH32: 月 | AJ32: 日 | AL32: ： | AN32: ～
I33: 様 | AC33: 令和 | AF33: 年 | AH33: 月 | AJ33: 日 | AL33: ： | AN33: ～
I34: 様 | AC34: 令和 | AF34: 年 | AH34: 月 | AJ34: 日 | AL34: ： | AN34: ～
I35: 様 | AC35: 令和 | AF35: 年 | AH35: 月 | AJ35: 日 | AL35: ： | AN35: ～
I36: 様 | AC36: 令和 | AF36: 年 | AH36: 月 | AJ36: 日 | AL36: ： | AN36: ～
I37: 様 | AC37: 令和 | AF37: 年 | AH37: 月 | AJ37: 日 | AL37: ： | AN37: ～
I38: 様 | AC38: 令和 | AF38: 年 | AH38: 月 | AJ38: 日 | AL38: ： | AN38: ～
I39: 様 | AC39: 令和 | AF39: 年 | AH39: 月 | AJ39: 日 | AL39: ： | AN39: ～
I40: 様 | AC40: 令和 | AF40: 年 | AH40: 月 | AJ40: 日 | AL40: ： | AN40: ～
I41: 様 | AC41: 令和 | AF41: 年 | AH41: 月 | AJ41: 日 | AL41: ： | AN41: ～
I42: 様 | AC42: 令和 | AF42: 年 | AH42: 月 | AJ42: 日 | AL42: ： | AN42: ～
I43: 様 | AC43: 令和 | AF43: 年 | AH43: 月 | AJ43: 日 | AL43: ： | AN43: ～
... I46: 様 | AC46: 令和 | AF46: 年 | AH46: 月 | AJ46: 日 | AL46: ： | AN46: ～
A47: 業務 内容 | D47: 項目 | J47: 患者様氏名 | P47: 担当 | S47: 備考 | Y47: 項目 | AA47: 患者様氏名 | AG47: 内容 | AQ47: 担当
D48: 外 来 患 者 対 応 | F48: 外来患者 対応 | O48: 様 | Y48: 書 類 作 成 完 了 | AF48: 様
O49: 様 | AF49: 様
O50: 様 | AF50: 様
O51: 様 | AF51: 様
O52: 様 | AF52: 様
O53: 様 | AF53: 様
O54: 様 | AF54: 様
D55: 項目 | J55: 患者様氏名 | P55: 担当 | S55: 備考 | AF55: 様
D56: 入 退 院 支 援 | F56: 退院支援 | O56: 様 | AF56: 様
O57: 様 | AF57: 様
O58: 様 | Y58: 項目 | AG58: 件数 | AJ58: 担当 | AM58: 備考
O59: 様 | Y59: 電話対応 | AI59: 件
O60: 様 | Y60: 保健所への届出 | AI60: 件
F61: 退院請求 対応 | O61: 様 | Y61: 項目 | AG61: 内容
O62: 様 | Y62: 通院医療 観察法
F63: 入院患者 対応 | J63: 担当 | M63: 件数 | P63: 備考
O64: 件 | Y64: 認知症疾患 医療ｾﾝﾀｰ
O65: 件
O66: 件 | Y66: 各種会議参加 外部の業務
O67: 件
A68: 安全管理 | D68: 事故 | S68: 物品 購入 | AE68: 連絡 事項
D69: 苦情
D70: 紛失
D71: 他

Sheet 27
A1: ソーシャルワーカー室 業務日誌 | AH1: C.O.O | AL1: I.O.O | AP1: Ａ.Ｏ.Ｍ
H3: =曜日!B12 -> 令和5年 | M3: =曜日!C12 -> 9月 | P3: 27日 | S3: （ | T3: =曜日!D8 -> 水 | U3: ） | W3: 作成者 | Z3: ：
A5: 労務 状況 | D5: 勤務状況 | K5: 西舘 翔子 | T5: 大川 祥子 | AC5: 宇津木澤 育美 | AL5: 早狩 風花
K6: 澤里 皓輝 | T6: 石鉢 佳代
A8: 入退院 状況 | D8: 入院形態 | K8: 東病棟 | Q8: 西病棟 | W8: 北病棟 | AC8: 南病棟 | AI8: 合計 | AO8: 総数
K9: 男性 | N9: 女性 | Q9: 男性 | T9: 女性 | W9: 男性 | Z9: 女性 | AC9: 男性 | AF9: 女性 | AI9: 男性 | AL9: 女性
D10: 任意入院 | AI10: =K10+Q10+W10+AC10 -> 0 | AL10: =N10+T10+Z10+AF10 -> 0 | AO10: =AI14 -> 0
D11: 医療保護入院 | AI11: =K11+Q11+W11+AC11 -> 0 | AL11: =N11+T11+Z11+AF11 -> 0
D12: 措置入院 | AI12: =K12+Q12+W12+AC12 -> 0 | AL12: =N12+T12+Z12+AF12 -> 0
D13: 合計 | K13: =SUM(K10:M12) -> 0 | N13: =SUM(N10:P12) -> 0 | Q13: =SUM(Q10:S12) -> 0 | T13: =SUM(T10:V12) -> 0 | W13: =SUM(W10:Y12) -> 0 | Z13: =SUM(Z10:AB12) -> 0 | AC13: =SUM(AC10:AE12) -> 0 | AF13: =SUM(AF10:AH12) -> 0 | AI13: =SUM(K13+Q13+W13+AC13) -> 0 | AL13: =SUM(N13+T13+Z13+AF13) -> 0 | AO13: 人
K14: =K13+N13 -> 0 | Q14: =Q13+T13 -> 0 | W14: =W13+Z13 -> 0 | AC14: =AC13+AF13 -> 0 | AI14: =AI13+AL13 -> 0
F15: 患者様氏名 | N15: 入院形態 | T15: 担当Dr | Y15: 担当SW | AD15: 病棟 | AJ15: 備考欄
D16: 入院 | L16: 様
L17: 様
L18: 様
L19: 様
L20: 様
D21: 退院 | L21: 様
L22: 様
L23: 様
L24: 様
L25: 様
D26: 転棟 ･ 入院形態変更 | L26: 様 | AJ26: 医保→任意
L27: 様
L28: 様
L29: 様
L30: 様
A31: 患者様 関連 | D31: 患者様氏名 | K31: 担当Dr | P31: 病棟 | S31: 制限内容 | X31: 制限時間 | AC31: 開始日時 | AO31: 備考
I32: 様 | AC32: 令和 | AF32: 年 | AH32: 月 | AJ32: 日 | AL32: ： | AN32: ～
I33: 様 | AC33: 令和 | AF33: 年 | AH33: 月 | AJ33: 日 | AL33: ： | AN33: ～
I34: 様 | AC34: 令和 | AF34: 年 | AH34: 月 | AJ34: 日 | AL34: ： | AN34: ～
I35: 様 | AC35: 令和 | AF35: 年 | AH35: 月 | AJ35: 日 | AL35: ： | AN35: ～
I36: 様 | AC36: 令和 | AF36: 年 | AH36: 月 | AJ36: 日 | AL36: ： | AN36: ～
I37: 様 | AC37: 令和 | AF37: 年 | AH37: 月 | AJ37: 日 | AL37: ： | AN37: ～
I38: 様 | AC38: 令和 | AF38: 年 | AH38: 月 | AJ38: 日 | AL38: ： | AN38: ～
I39: 様 | AC39: 令和 | AF39: 年 | AH39: 月 | AJ39: 日 | AL39: ： | AN39: ～
I40: 様 | AC40: 令和 | AF40: 年 | AH40: 月 | AJ40: 日 | AL40: ： | AN40: ～
I41: 様 | AC41: 令和 | AF41: 年 | AH41: 月 | AJ41: 日 | AL41: ： | AN41: ～
I42: 様 | AC42: 令和 | AF42: 年 | AH42: 月 | AJ42: 日 | AL42: ： | AN42: ～
I43: 様 | AC43: 令和 | AF43: 年 | AH43: 月 | AJ43: 日 | AL43: ： | AN43: ～
... I46: 様 | AC46: 令和 | AF46: 年 | AH46: 月 | AJ46: 日 | AL46: ： | AN46: ～
A47: 業務 内容 | D47: 項目 | J47: 患者様氏名 | P47: 担当 | S47: 備考 | Y47: 項目 | AA47: 患者様氏名 | AG47: 内容 | AQ47: 担当
D48: 外 来 患 者 対 応 | F48: 外来患者 対応 | O48: 様 | Y48: 書 類 作 成 完 了 | AF48: 様
O49: 様 | AF49: 様
O50: 様 | AF50: 様
O51: 様 | AF51: 様
O52: 様 | AF52: 様
O53: 様 | AF53: 様
O54: 様 | AF54: 様
D55: 項目 | J55: 患者様氏名 | P55: 担当 | S55: 備考 | AF55: 様
D56: 入 退 院 支 援 | F56: 退院支援 | O56: 様 | AF56: 様
O57: 様 | AF57: 様
O58: 様 | Y58: 項目 | AG58: 件数 | AJ58: 担当 | AM58: 備考
O59: 様 | Y59: 電話対応 | AI59: 件
O60: 様 | Y60: 保健所への届出 | AI60: 件
F61: 退院請求 対応 | O61: 様 | Y61: 項目 | AG61: 内容
O62: 様 | Y62: 通院医療 観察法
F63: 入院患者 対応 | J63: 担当 | M63: 件数 | P63: 備考
O64: 件 | Y64: 認知症疾患 医療ｾﾝﾀｰ
O65: 件
O66: 件 | Y66: 各種会議参加 外部の業務
O67: 件
A68: 安全管理 | D68: 事故 | S68: 物品 購入 | AE68: 連絡 事項
D69: 苦情
D70: 紛失
D71: 他

Sheet 28
A1: ソーシャルワーカー室 業務日誌 | AH1: C.O.O | AL1: I.O.O | AP1: Ａ.Ｏ.Ｍ
H3: =曜日!B12 -> 令和5年 | M3: =曜日!C12 -> 9月 | P3: 28日 | S3: （ | T3: =曜日!D9 -> 木 | U3: ） | W3: 作成者 | Z3: ：
A5: 労務 状況 | D5: 勤務状況 | K5: 西舘 翔子 | T5: 大川 祥子 | AC5: 宇津木澤 育美 | AL5: 早狩 風花
K6: 澤里 皓輝 | T6: 石鉢 佳代
A8: 入退院 状況 | D8: 入院形態 | K8: 東病棟 | Q8: 西病棟 | W8: 北病棟 | AC8: 南病棟 | AI8: 合計 | AO8: 総数
K9: 男性 | N9: 女性 | Q9: 男性 | T9: 女性 | W9: 男性 | Z9: 女性 | AC9: 男性 | AF9: 女性 | AI9: 男性 | AL9: 女性
D10: 任意入院 | AI10: =K10+Q10+W10+AC10 -> 0 | AL10: =N10+T10+Z10+AF10 -> 0 | AO10: =AI14 -> 0
D11: 医療保護入院 | AI11: =K11+Q11+W11+AC11 -> 0 | AL11: =N11+T11+Z11+AF11 -> 0
D12: 措置入院 | AI12: =K12+Q12+W12+AC12 -> 0 | AL12: =N12+T12+Z12+AF12 -> 0
D13: 合計 | K13: =SUM(K10:M12) -> 0 | N13: =SUM(N10:P12) -> 0 | Q13: =SUM(Q10:S12) -> 0 | T13: =SUM(T10:V12) -> 0 | W13: =SUM(W10:Y12) -> 0 | Z13: =SUM(Z10:AB12) -> 0 | AC13: =SUM(AC10:AE12) -> 0 | AF13: =SUM(AF10:AH12) -> 0 | AI13: =SUM(K13+Q13+W13+AC13) -> 0 | AL13: =SUM(N13+T13+Z13+AF13) -> 0 | AO13: 人
K14: =K13+N13 -> 0 | Q14: =Q13+T13 -> 0 | W14: =W13+Z13 -> 0 | AC14: =AC13+AF13 -> 0 | AI14: =AI13+AL13 -> 0
F15: 患者様氏名 | N15: 入院形態 | T15: 担当Dr | Y15: 担当SW | AD15: 病棟 | AJ15: 備考欄
D16: 入院 | L16: 様
L17: 様
L18: 様
L19: 様
L20: 様
D21: 退院 | L21: 様
L22: 様
L23: 様
L24: 様
L25: 様
D26: 転棟 ･ 入院形態変更 | L26: 様
L27: 様
L28: 様
L29: 様
L30: 様
A31: 患者様 関連 | D31: 患者様氏名 | K31: 担当Dr | P31: 病棟 | S31: 制限内容 | X31: 制限時間 | AC31: 開始日時 | AO31: 備考
I32: 様 | AC32: 令和 | AF32: 年 | AH32: 月 | AJ32: 日 | AL32: ： | AN32: ～
I33: 様 | AC33: 令和 | AF33: 年 | AH33: 月 | AJ33: 日 | AL33: ： | AN33: ～
I34: 様 | AC34: 令和 | AF34: 年 | AH34: 月 | AJ34: 日 | AL34: ： | AN34: ～
I35: 様 | AC35: 令和 | AF35: 年 | AH35: 月 | AJ35: 日 | AL35: ： | AN35: ～
I36: 様 | AC36: 令和 | AF36: 年 | AH36: 月 | AJ36: 日 | AL36: ： | AN36: ～
I37: 様 | AC37: 令和 | AF37: 年 | AH37: 月 | AJ37: 日 | AL37: ： | AN37: ～
I38: 様 | AC38: 令和 | AF38: 年 | AH38: 月 | AJ38: 日 | AL38: ： | AN38: ～
I39: 様 | AC39: 令和 | AF39: 年 | AH39: 月 | AJ39: 日 | AL39: ： | AN39: ～
I40: 様 | AC40: 令和 | AF40: 年 | AH40: 月 | AJ40: 日 | AL40: ： | AN40: ～
I41: 様 | AC41: 令和 | AF41: 年 | AH41: 月 | AJ41: 日 | AL41: ： | AN41: ～
I42: 様 | AC42: 令和 | AF42: 年 | AH42: 月 | AJ42: 日 | AL42: ： | AN42: ～
I43: 様 | AC43: 令和 | AF43: 年 | AH43: 月 | AJ43: 日 | AL43: ： | AN43: ～
... I46: 様 | AC46: 令和 | AF46: 年 | AH46: 月 | AJ46: 日 | AL46: ： | AN46: ～
A47: 業務 内容 | D47: 項目 | J47: 患者様氏名 | P47: 担当 | S47: 備考 | Y47: 項目 | AA47: 患者様氏名 | AG47: 内容 | AQ47: 担当
D48: 外 来 患 者 対 応 | F48: 外来患者 対応 | O48: 様 | Y48: 書 類 作 成 完 了 | AF48: 様
O49: 様 | AF49: 様
O50: 様 | AF50: 様
O51: 様 | AF51: 様
O52: 様 | AF52: 様
O53: 様 | AF53: 様
O54: 様 | AF54: 様
D55: 項目 | J55: 患者様氏名 | P55: 担当 | S55: 備考 | AF55: 様
D56: 入 退 院 支 援 | F56: 退院支援 | O56: 様 | AF56: 様
O57: 様 | AF57: 様
O58: 様 | Y58: 項目 | AG58: 件数 | AJ58: 担当 | AM58: 備考
O59: 様 | Y59: 電話対応 | AI59: 件
O60: 様 | Y60: 保健所への届出 | AI60: 件
F61: 退院請求 対応 | O61: 様 | Y61: 項目 | AG61: 内容
O62: 様 | Y62: 通院医療 観察法
F63: 入院患者 対応 | J63: 担当 | M63: 件数 | P63: 備考
O64: 件 | Y64: 認知症疾患 医療ｾﾝﾀｰ
O65: 件
O66: 件 | Y66: 各種会議参加 外部の業務
O67: 件
A68: 安全管理 | D68: 事故 | S68: 物品 購入 | AE68: 連絡 事項
D69: 苦情
D70: 紛失
D71: 他

Sheet 29
A1: ソーシャルワーカー室 業務日誌 | AH1: C.O.O | AL1: I.O.O | AP1: Ａ.Ｏ.Ｍ
H3: =曜日!B12 -> 令和5年 | M3: =曜日!C12 -> 9月 | P3: 29日 | S3: （ | T3: =曜日!D3 -> 金 | U3: ） | W3: 作成者 | Z3: ：
A5: 労務 状況 | D5: 勤務状況 | K5: 西舘 翔子 | T5: 大川 祥子 | AC5: 宇津木澤 育美 | AL5: 早狩 風花
K6: 澤里 皓輝 | T6: 石鉢 佳代
A8: 入退院 状況 | D8: 入院形態 | K8: 東病棟 | Q8: 西病棟 | W8: 北病棟 | AC8: 南病棟 | AI8: 合計 | AO8: 総数
K9: 男性 | N9: 女性 | Q9: 男性 | T9: 女性 | W9: 男性 | Z9: 女性 | AC9: 男性 | AF9: 女性 | AI9: 男性 | AL9: 女性
D10: 任意入院 | AI10: =K10+Q10+W10+AC10 -> 0 | AL10: =N10+T10+Z10+AF10 -> 0 | AO10: =AI14 -> 0
D11: 医療保護入院 | AI11: =K11+Q11+W11+AC11 -> 0 | AL11: =N11+T11+Z11+AF11 -> 0
D12: 措置入院 | AI12: =K12+Q12+W12+AC12 -> 0 | AL12: =N12+T12+Z12+AF12 -> 0
D13: 合計 | K13: =SUM(K10:M12) -> 0 | N13: =SUM(N10:P12) -> 0 | Q13: =SUM(Q10:S12) -> 0 | T13: =SUM(T10:V12) -> 0 | W13: =SUM(W10:Y12) -> 0 | Z13: =SUM(Z10:AB12) -> 0 | AC13: =SUM(AC10:AE12) -> 0 | AF13: =SUM(AF10:AH12) -> 0 | AI13: =SUM(K13+Q13+W13+AC13) -> 0 | AL13: =SUM(N13+T13+Z13+AF13) -> 0 | AO13: 人
K14: =K13+N13 -> 0 | Q14: =Q13+T13 -> 0 | W14: =W13+Z13 -> 0 | AC14: =AC13+AF13 -> 0 | AI14: =AI13+AL13 -> 0
F15: 患者様氏名 | N15: 入院形態 | T15: 担当Dr | Y15: 担当SW | AD15: 病棟 | AJ15: 備考欄
D16: 入院 | L16: 様
L17: 様
L18: 様
L19: 様
L20: 様
D21: 退院 | L21: 様
L22: 様
L23: 様
L24: 様
L25: 様
D26: 転棟 ･ 入院形態変更 | L26: 様
L27: 様
L28: 様
L29: 様
L30: 様
A31: 患者様 関連 | D31: 患者様氏名 | K31: 担当Dr | P31: 病棟 | S31: 制限内容 | X31: 制限時間 | AC31: 開始日時 | AO31: 備考
I32: 様 | AC32: 令和 | AF32: 年 | AH32: 月 | AJ32: 日 | AL32: ： | AN32: ～
I33: 様 | AC33: 令和 | AF33: 年 | AH33: 月 | AJ33: 日 | AL33: ： | AN33: ～
I34: 様 | AC34: 令和 | AF34: 年 | AH34: 月 | AJ34: 日 | AL34: ： | AN34: ～
I35: 様 | AC35: 令和 | AF35: 年 | AH35: 月 | AJ35: 日 | AL35: ： | AN35: ～
I36: 様 | AC36: 令和 | AF36: 年 | AH36: 月 | AJ36: 日 | AL36: ： | AN36: ～
I37: 様 | AC37: 令和 | AF37: 年 | AH37: 月 | AJ37: 日 | AL37: ： | AN37: ～
I38: 様 | AC38: 令和 | AF38: 年 | AH38: 月 | AJ38: 日 | AL38: ： | AN38: ～
I39: 様 | AC39: 令和 | AF39: 年 | AH39: 月 | AJ39: 日 | AL39: ： | AN39: ～
I40: 様 | AC40: 令和 | AF40: 年 | AH40: 月 | AJ40: 日 | AL40: ： | AN40: ～
I41: 様 | AC41: 令和 | AF41: 年 | AH41: 月 | AJ41: 日 | AL41: ： | AN41: ～
I42: 様 | AC42: 令和 | AF42: 年 | AH42: 月 | AJ42: 日 | AL42: ： | AN42: ～
I43: 様 | AC43: 令和 | AF43: 年 | AH43: 月 | AJ43: 日 | AL43: ： | AN43: ～
... I46: 様 | AC46: 令和 | AF46: 年 | AH46: 月 | AJ46: 日 | AL46: ： | AN46: ～
A47: 業務 内容 | D47: 項目 | J47: 患者様氏名 | P47: 担当 | S47: 備考 | Y47: 項目 | AA47: 患者様氏名 | AG47: 内容 | AQ47: 担当
D48: 外 来 患 者 対 応 | F48: 外来患者 対応 | O48: 様 | Y48: 書 類 作 成 完 了 | AF48: 様
O49: 様 | AF49: 様
O50: 様 | AF50: 様
O51: 様 | AF51: 様
O52: 様 | AF52: 様
O53: 様 | AF53: 様
O54: 様 | AF54: 様
D55: 項目 | J55: 患者様氏名 | P55: 担当 | S55: 備考 | AF55: 様
D56: 入 退 院 支 援 | F56: 退院支援 | O56: 様 | AF56: 様
O57: 様 | AF57: 様
O58: 様 | Y58: 項目 | AG58: 件数 | AJ58: 担当 | AM58: 備考
O59: 様 | Y59: 電話対応 | AI59: 件
O60: 様 | Y60: 保健所への届出 | AI60: 件
F61: 退院請求 対応 | O61: 様 | Y61: 項目 | AG61: 内容
O62: 様 | Y62: 通院医療 観察法
F63: 入院患者 対応 | J63: 担当 | M63: 件数 | P63: 備考
O64: 件 | Y64: 認知症疾患 医療ｾﾝﾀｰ
O65: 件
O66: 件 | Y66: 各種会議参加 外部の業務
O67: 件
A68: 安全管理 | D68: 事故 | S68: 物品 購入 | AE68: 連絡 事項
D69: 苦情
D70: 紛失
D71: 他

Sheet 30
A1: ソーシャルワーカー室 業務日誌 | AH1: C.O.O | AL1: I.O.O | AP1: Ａ.Ｏ.Ｍ
H3: =曜日!B12 -> 令和5年 | M3: =曜日!C12 -> 9月 | P3: 30日 | S3: （ | T3: =曜日!D4 -> 土 | U3: ） | W3: 作成者 | Z3: ：
A5: 労務 状況 | D5: 勤務状況 | K5: 西舘 翔子 | T5: 大川 祥子 | AC5: 宇津木澤 育美 | AL5: 早狩 風花
K6: 澤里 皓輝 | T6: 石鉢 佳代
A8: 入退院 状況 | D8: 入院形態 | K8: 東病棟 | Q8: 西病棟 | W8: 北病棟 | AC8: 南病棟 | AI8: 合計 | AO8: 総数
K9: 男性 | N9: 女性 | Q9: 男性 | T9: 女性 | W9: 男性 | Z9: 女性 | AC9: 男性 | AF9: 女性 | AI9: 男性 | AL9: 女性
D10: 任意入院 | AI10: =K10+Q10+W10+AC10 -> 0 | AL10: =N10+T10+Z10+AF10 -> 0 | AO10: =AI14 -> 0
D11: 医療保護入院 | AI11: =K11+Q11+W11+AC11 -> 0 | AL11: =N11+T11+Z11+AF11 -> 0
D12: 措置入院 | AI12: =K12+Q12+W12+AC12 -> 0 | AL12: =N12+T12+Z12+AF12 -> 0
D13: 合計 | K13: =SUM(K10:M12) -> 0 | N13: =SUM(N10:P12) -> 0 | Q13: =SUM(Q10:S12) -> 0 | T13: =SUM(T10:V12) -> 0 | W13: =SUM(W10:Y12) -> 0 | Z13: =SUM(Z10:AB12) -> 0 | AC13: =SUM(AC10:AE12) -> 0 | AF13: =SUM(AF10:AH12) -> 0 | AI13: =SUM(K13+Q13+W13+AC13) -> 0 | AL13: =SUM(N13+T13+Z13+AF13) -> 0 | AO13: 人
K14: =K13+N13 -> 0 | Q14: =Q13+T13 -> 0 | W14: =W13+Z13 -> 0 | AC14: =AC13+AF13 -> 0 | AI14: =AI13+AL13 -> 0
F15: 患者様氏名 | N15: 入院形態 | T15: 担当Dr | Y15: 担当SW | AD15: 病棟 | AJ15: 備考欄
D16: 入院 | L16: 様
L17: 様
L18: 様
L19: 様
L20: 様
D21: 退院 | L21: 様
L22: 様
L23: 様
L24: 様
L25: 様
D26: 転棟 ･ 入院形態変更 | L26: 様
L27: 様
L28: 様
L29: 様
L30: 様
A31: 患者様 関連 | D31: 患者様氏名 | K31: 担当Dr | P31: 病棟 | S31: 制限内容 | X31: 制限時間 | AC31: 開始日時 | AO31: 備考
I32: 様 | AC32: 令和 | AF32: 年 | AH32: 月 | AJ32: 日 | AL32: ： | AN32: ～
I33: 様 | AC33: 令和 | AF33: 年 | AH33: 月 | AJ33: 日 | AL33: ： | AN33: ～
I34: 様 | AC34: 令和 | AF34: 年 | AH34: 月 | AJ34: 日 | AL34: ： | AN34: ～
I35: 様 | AC35: 令和 | AF35: 年 | AH35: 月 | AJ35: 日 | AL35: ： | AN35: ～
I36: 様 | AC36: 令和 | AF36: 年 | AH36: 月 | AJ36: 日 | AL36: ： | AN36: ～
I37: 様 | AC37: 令和 | AF37: 年 | AH37: 月 | AJ37: 日 | AL37: ： | AN37: ～
I38: 様 | AC38: 令和 | AF38: 年 | AH38: 月 | AJ38: 日 | AL38: ： | AN38: ～
I39: 様 | AC39: 令和 | AF39: 年 | AH39: 月 | AJ39: 日 | AL39: ： | AN39: ～
I40: 様 | AC40: 令和 | AF40: 年 | AH40: 月 | AJ40: 日 | AL40: ： | AN40: ～
I41: 様 | AC41: 令和 | AF41: 年 | AH41: 月 | AJ41: 日 | AL41: ： | AN41: ～
I42: 様 | AC42: 令和 | AF42: 年 | AH42: 月 | AJ42: 日 | AL42: ： | AN42: ～
I43: 様 | AC43: 令和 | AF43: 年 | AH43: 月 | AJ43: 日 | AL43: ： | AN43: ～
... I46: 様 | AC46: 令和 | AF46: 年 | AH46: 月 | AJ46: 日 | AL46: ： | AN46: ～
A47: 業務 内容 | D47: 項目 | J47: 患者様氏名 | P47: 担当 | S47: 備考 | Y47: 項目 | AA47: 患者様氏名 | AG47: 内容 | AQ47: 担当
D48: 外 来 患 者 対 応 | F48: 外来患者 対応 | O48: 様 | Y48: 書 類 作 成 完 了 | AF48: 様
O49: 様 | AF49: 様
O50: 様 | AF50: 様
O51: 様 | AF51: 様
O52: 様 | AF52: 様
O53: 様 | AF53: 様
O54: 様 | AF54: 様
D55: 項目 | J55: 患者様氏名 | P55: 担当 | S55: 備考 | AF55: 様
D56: 入 退 院 支 援 | F56: 退院支援 | O56: 様 | AF56: 様
O57: 様 | AF57: 様
O58: 様 | Y58: 項目 | AG58: 件数 | AJ58: 担当 | AM58: 備考
O59: 様 | Y59: 電話対応 | AI59: 件
O60: 様 | Y60: 保健所への届出 | AI60: 件
F61: 退院請求 対応 | O61: 様 | Y61: 項目 | AG61: 内容
O62: 様 | Y62: 通院医療 観察法
F63: 入院患者 対応 | J63: 担当 | M63: 件数 | P63: 備考
O64: 件 | Y64: 認知症疾患 医療ｾﾝﾀｰ
O65: 件
O66: 件 | Y66: 各種会議参加 外部の業務
O67: 件
A68: 安全管理 | D68: 事故 | S68: 物品 購入 | AE68: 連絡 事項
D69: 苦情
D70: 紛失
D71: 他

Sheet 31
A1: ソーシャルワーカー室 業務日誌 | AH1: C.O.O | AL1: I.O.O | AP1: Ａ.Ｏ.Ｍ
H3: =曜日!B12 -> 令和5年 | M3: =曜日!C12 -> 9月 | P3: 31日 | S3: （ | T3: =曜日!D5 -> 日 | U3: ） | W3: 作成者 | Z3: ：
A5: 労務 状況 | D5: 勤務状況 | K5: 西舘 翔子 | T5: 大川 祥子 | AC5: 宇津木澤 育美 | AL5: 早狩 風花
K6: 澤里 皓輝 | T6: 石鉢 佳代
A8: 入退院 状況 | D8: 入院形態 | K8: 東病棟 | Q8: 西病棟 | W8: 北病棟 | AC8: 南病棟 | AI8: 合計 | AO8: 総数
K9: 男性 | N9: 女性 | Q9: 男性 | T9: 女性 | W9: 男性 | Z9: 女性 | AC9: 男性 | AF9: 女性 | AI9: 男性 | AL9: 女性
D10: 任意入院 | AI10: =K10+Q10+W10+AC10 -> 0 | AL10: =N10+T10+Z10+AF10 -> 0 | AO10: =AI14 -> 0
D11: 医療保護入院 | AI11: =K11+Q11+W11+AC11 -> 0 | AL11: =N11+T11+Z11+AF11 -> 0
D12: 措置入院 | AI12: =K12+Q12+W12+AC12 -> 0 | AL12: =N12+T12+Z12+AF12 -> 0
D13: 合計 | K13: =SUM(K10:M12) -> 0 | N13: =SUM(N10:P12) -> 0 | Q13: =SUM(Q10:S12) -> 0 | T13: =SUM(T10:V12) -> 0 | W13: =SUM(W10:Y12) -> 0 | Z13: =SUM(Z10:AB12) -> 0 | AC13: =SUM(AC10:AE12) -> 0 | AF13: =SUM(AF10:AH12) -> 0 | AI13: =SUM(K13+Q13+W13+AC13) -> 0 | AL13: =SUM(N13+T13+Z13+AF13) -> 0 | AO13: 人
K14: =K13+N13 -> 0 | Q14: =Q13+T13 -> 0 | W14: =W13+Z13 -> 0 | AC14: =AC13+AF13 -> 0 | AI14: =AI13+AL13 -> 0
F15: 患者様氏名 | N15: 入院形態 | T15: 担当Dr | Y15: 担当SW | AD15: 病棟 | AJ15: 備考欄
D16: 入院 | L16: 様
L17: 様
L18: 様
L19: 様
L20: 様
D21: 退院 | L21: 様
L22: 様
L23: 様
L24: 様
L25: 様
D26: 転棟 ･ 入院形態変更 | L26: 様
L27: 様
L28: 様
L29: 様
L30: 様
A31: 患者様 関連 | D31: 患者様氏名 | K31: 担当Dr | P31: 病棟 | S31: 制限内容 | X31: 制限時間 | AC31: 開始日時 | AO31: 備考
I32: 様 | AC32: 令和 | AF32: 年 | AH32: 月 | AJ32: 日 | AL32: ： | AN32: ～
I33: 様 | AC33: 令和 | AF33: 年 | AH33: 月 | AJ33: 日 | AL33: ： | AN33: ～
I34: 様 | AC34: 令和 | AF34: 年 | AH34: 月 | AJ34: 日 | AL34: ： | AN34: ～
I35: 様 | AC35: 令和 | AF35: 年 | AH35: 月 | AJ35: 日 | AL35: ： | AN35: ～
I36: 様 | AC36: 令和 | AF36: 年 | AH36: 月 | AJ36: 日 | AL36: ： | AN36: ～
I37: 様 | AC37: 令和 | AF37: 年 | AH37: 月 | AJ37: 日 | AL37: ： | AN37: ～
I38: 様 | AC38: 令和 | AF38: 年 | AH38: 月 | AJ38: 日 | AL38: ： | AN38: ～
I39: 様 | AC39: 令和 | AF39: 年 | AH39: 月 | AJ39: 日 | AL39: ： | AN39: ～
I40: 様 | AC40: 令和 | AF40: 年 | AH40: 月 | AJ40: 日 | AL40: ： | AN40: ～
I41: 様 | AC41: 令和 | AF41: 年 | AH41: 月 | AJ41: 日 | AL41: ： | AN41: ～
I42: 様 | AC42: 令和 | AF42: 年 | AH42: 月 | AJ42: 日 | AL42: ： | AN42: ～
I43: 様 | AC43: 令和 | AF43: 年 | AH43: 月 | AJ43: 日 | AL43: ： | AN43: ～
... I46: 様 | AC46: 令和 | AF46: 年 | AH46: 月 | AJ46: 日 | AL46: ： | AN46: ～
A47: 業務 内容 | D47: 項目 | J47: 患者様氏名 | P47: 担当 | S47: 備考 | Y47: 項目 | AA47: 患者様氏名 | AG47: 内容 | AQ47: 担当
D48: 外 来 患 者 対 応 | F48: 外来患者 対応 | O48: 様 | Y48: 書 類 作 成 完 了 | AF48: 様
O49: 様 | AF49: 様
O50: 様 | AF50: 様
O51: 様 | AF51: 様
O52: 様 | AF52: 様
O53: 様 | AF53: 様
O54: 様 | AF54: 様
D55: 項目 | J55: 患者様氏名 | P55: 担当 | S55: 備考 | AF55: 様
D56: 入 退 院 支 援 | F56: 退院支援 | O56: 様 | AF56: 様
O57: 様 | AF57: 様
O58: 様 | Y58: 項目 | AG58: 件数 | AJ58: 担当 | AM58: 備考
O59: 様 | Y59: 電話対応 | AI59: 件
O60: 様 | Y60: 保健所への届出 | AI60: 件
F61: 退院請求 対応 | O61: 様 | Y61: 項目 | AG61: 内容
O62: 様 | Y62: 通院医療 観察法
F63: 入院患者 対応 | J63: 担当 | M63: 件数 | P63: 備考
O64: 件 | Y64: 認知症疾患 医療ｾﾝﾀｰ
O65: 件
O66: 件 | Y66: 各種会議参加 外部の業務
O67: 件
A68: 安全管理 | D68: 事故 | S68: 物品 購入 | AE68: 連絡 事項
D69: 苦情
D70: 紛失
D71: 他

Sheet 曜日
B2: 曜 日 | F2: 説明書 その月の１日～７日までの曜日を黄色のセルに記入してください。 （例：１日が水曜日の月なら…… １日＝水 ２日＝木 ： ７日＝火
B3: 1日 | C3: = | D3: 金
B4: 2日 | C4: = | D4: 土 | E4: ←
B5: 3日 | C5: = | D5: 日
B6: 4日 | C6: = | D6: 月
B7: 5日 | C7: = | D7: 火
B8: 6日 | C8: = | D8: 水
B9: 7日 | C9: = | D9: 木
B11: 年 月 | F11: 説明書 年・月を入れてください。
B12: 令和5年 | C12: 9月

Sheet 月報1
A1: =曜日!B12 -> 令和5年 | C1: =曜日!C12 -> 9月 | D1: 月次報告 | F1: SW | G1: チーム | I1: 作成者
A3: 人事管理
C4: 定数 | D4: 在籍 | E4: 入職 | F4: 退職 | G4: 特記事項
A5: SW | C5: - | D5: 7 | E5: 0 | F5: 0 | G5: 内、1名パート職員
A6: 総数 | C6: - | D6: =SUM(D5:D5) -> 7 | E6: =SUM(E5:E5) -> 0 | F6: =SUM(F5:F5) -> 0
A8: 労務状況 | C8: 当月末まで
C9: 遅刻 | D9: 早退 | E9: 欠勤 | F9: 有給 | G9: 産・育休 | H9: 病欠 | I9: 忌引き | J9: 業務出張 | K9: 研修出張
A10: 西舘 翔子 | C10: 1 | D10: =労務状況!E37 -> 0 | E10: =労務状況!F37 -> 0 | F10: 1 | G10: =労務状況!H37 -> 0 | H10: =労務状況!I37 -> 0 | I10: =労務状況!J37 -> 0 | J10: =労務状況!K37 -> 0 | K10: =労務状況!L37 -> 0
A11: 小屋敷 千瑛 | C11: =労務状況!D38 -> 0 | D11: =労務状況!E38 -> 0 | E11: =労務状況!F38 -> 0 | F11: 1 | G11: =労務状況!H38 -> 0 | H11: =労務状況!I38 -> 0 | I11: =労務状況!J38 -> 0 | J11: =労務状況!K38 -> 0 | K11: =労務状況!L38 -> 0
A12: 大川 祥子 | C12: =労務状況!D39 -> 0 | D12: =労務状況!E39 -> 0 | E12: =労務状況!F39 -> 0 | F12: =労務状況!G39 -> 0 | G12: 28 | H12: =労務状況!I39 -> 0 | I12: =労務状況!J39 -> 0 | J12: =労務状況!K39 -> 0 | K12: =労務状況!L39 -> 0
A13: 宇津木澤 育美 | C13: =労務状況!D40 -> 0 | D13: =労務状況!E40 -> 0 | E13: =労務状況!F40 -> 0 | F13: 2 | G13: =労務状況!H40 -> 0 | H13: =労務状況!I40 -> 0 | I13: =労務状況!J40 -> 0 | J13: =労務状況!K40 -> 0 | K13: =労務状況!L40 -> 0
A14: 石鉢 佳代 | C14: =労務状況!D41 -> 0 | D14: =労務状況!E41 -> 0 | E14: =労務状況!F41 -> 0 | F14: 2 | G14: =労務状況!H41 -> 0 | H14: =労務状況!I41 -> 0 | I14: =労務状況!J41 -> 0 | J14: =労務状況!K41 -> 0 | K14: =労務状況!L41 -> 0
A15: 野添 京子(パート) | C15: =労務状況!D42 -> 0 | D15: =労務状況!E42 -> 0 | E15: =労務状況!F42 -> 0 | F15: =労務状況!G42 -> 0 | G15: =労務状況!H42 -> 0 | H15: =労務状況!I42 -> 0 | I15: =労務状況!J42 -> 0 | J15: =労務状況!K42 -> 0 | K15: =労務状況!L42 -> 0
A16: 早狩 風花 | C16: =労務状況!D43 -> 0 | D16: =労務状況!E43 -> 0 | E16: =労務状況!F43 -> 0 | F16: =労務状況!G43 -> 0 | G16: =労務状況!H43 -> 0 | H16: =労務状況!I43 -> 0 | I16: =労務状況!J43 -> 0 | J16: =労務状況!K43 -> 0 | K16: =労務状況!L43 -> 0
A17: 澤里 皓輝 | C17: =労務状況!D44 -> 0 | D17: =労務状況!E44 -> 0 | E17: =労務状況!F44 -> 0 | F17: =労務状況!G44 -> 0 | G17: =労務状況!H44 -> 0 | H17: =労務状況!I44 -> 0 | I17: =労務状況!J44 -> 0 | J17: =労務状況!K44 -> 0 | K17: =労務状況!L44 -> 0
A18: 総数 | C18: =C10+C11+C12+C14+C13 -> 1 | D18: =D10+D11+D12+D14+D13 -> 0 | E18: =E10+E11+E12+E14+E13 -> 0 | F18: =F10+F11+F12+F14+F13 -> 6 | G18: =G10+G11+G12+G14+G13 -> 28 | H18: =H10+H11+H12+H14+H13 -> 0 | I18: =I10+I11+I12+I14+I13 -> 0 | J18: =J10+J11+J12+J14+J13 -> 0 | K18: =K10+K11+K12+K14+K13 -> 0
A20: 人材育成
A21: 外部研修・勉強会参加状況
A22: 職員名 | C22: 件数 | D22: 研修名（日にち）
A23: 西舘 翔子
A24: 小屋敷 千瑛
A25: 大川 祥子
A26: 宇津木澤 育美
A27: 石鉢 佳代
A28: 早狩 風花
A29: 澤里 皓輝
A31: 内部研修・勉強会参加状況
A32: 職員名 | C32: 件数 | D32: 研修名（日にち）
A33: 西舘 翔子
A34: 小屋敷 千瑛
A35: 大川 祥子
A36: 宇津木澤 育美
A37: 石鉢 佳代
A38: 早狩 風花
A39: 澤里 皓輝
A41: 安全管理
C42: 件数 | D42: 内容等
A43: 苦情 | C43: 0
A44: 事故 | C44: 0
A45: 総数 | C45: =SUM(C43:C44) -> 0
A47: 物品管理
C48: 件数 | D48: 特記事項
A49: 物品購入 | C49: 0
A50: 修繕 | C50: 0

Sheet 月報2
A1: 事業進捗状況
A2: 【計画項目】 | B2: 進捗状況・結果・評価
A3: 1 個別支援の充実
A4: 入退院支援 | B4: 入院援助 | F4: 件
B5: 入院形態の変更 | F5: 件
B6: 入院患者対応 | F6: 件
B7: 退院請求対応 | F7: 件
B8: 退院援助 | F8: 件
A9: 外来患者対応 | B9: 外来患者対応 | F9: 件
B10: 通院医療観察法 | F10: 件
A11: 2 各種制度の管理・手続き
A12: 医師補助業務 | C12: 件
A13: 保健所への届出 | C13: 件
A14: 3 チーム医療の連携体制の拡充
A15: 各種会議参加
A16: 外部の業務
A17: 病棟内勉強会の開催（年4回）
A18: 他機関連携
A19: 4 統計処理と情報分析
B20: ＊入退院届けの作成・提出 ＊定期病状報告の作成・提出 ＊保健所提出用月報の作成・提出 ＊入院者一覧(SW室管理用ﾃﾞｰﾀﾍﾞｰｽ)の作成 ＊任意入院者 同意書管理 ＊各種制度(自立支援医療･生活保護･障害者手帳等)の管理票作成
A21: 5 研鑽活動と人材育成の活性化
A22: (1)業務の効率化 | B22: ①マニュアルの整備
B23: ②確実な業務管理と確実な情報共有体制の整備
B24: ③業務整理
A25: （2）スタッフ教育 | B25: ①新人教育
B26: ②外部研修への参加
B27: ③目標管理面接と個別指導
A28: (3)人員確保 | B28: ①施設見学希望者への対応
B29: ②実習生の受け入れ

Sheet 月報3
A1: =曜日!B12 -> 令和5年 | E1: =曜日!C12 -> 9月 | I1: ソーシャルワーカー室業務月報 | AA1: C.O.O | AD1: A.O.M
O4: 記載者：
A5: 入院状況 | I5: 東病棟 | M5: 西病棟 | Q5: 南病棟 | U5: 北病棟 | Y5: 合計
I6: 男性 | K6: 女性 | M6: 男性 | O6: 女性 | Q6: 男性 | S6: 女性 | U6: 男性 | W6: 女性 | Y6: 男性 | AA6: 女性
C7: 任意 | G7: 入院 | I7: 2 | K7: 3 | M7: 0 | O7: 0 | Q7: 0 | S7: 0 | U7: 0 | W7: 0 | Y7: =SUM(I7+M7+Q7+U7) -> 2 | AA7: =SUM(K7+O7+S7+W7) -> 3
G8: 在院 | I8: 5 | K8: 3 | M8: 3 | O8: 11 | Q8: 0 | S8: 1 | U8: 25 | W8: 8 | Y8: =SUM(I8,M8,Q8,U8) -> 33 | AA8: =SUM(K8+O8+S8+W8) -> 23 | AC8: 入院
G9: 退院 | I9: 0 | K9: 1 | M9: 2 | O9: 2 | Q9: 0 | S9: 0 | U9: 2 | W9: 1 | Y9: =SUM(I9+M9+Q9+U9) -> 4 | AA9: =SUM(K9+O9+S9+W9) -> 4 | AD9: =SUM(Y16:AB16) -> 26 | AF9: 名
C10: 医療保護 | G10: 入院 | I10: 12 | K10: 9 | M10: 0 | O10: 0 | Q10: 0 | S10: 0 | U10: 0 | W10: 0 | Y10: =SUM(I10+M10+Q10+U10) -> 12 | AA10: =SUM(K10+O10+S10+W10) -> 9
G11: 在院 | I11: 22 | K11: 14 | M11: 13 | O11: 17 | Q11: 24 | S11: 34 | U11: 0 | W11: 1 | Y11: =SUM(I11+M11+Q11+U11) -> 59 | AA11: =SUM(K11+O11+S11+W11) -> 66 | AC11: 退院
G12: 退院 | I12: 5 | K12: 4 | M12: 0 | O12: 2 | Q12: 2 | S12: 8 | U12: 0 | W12: 0 | Y12: =SUM(I12+M12+Q12+U12) -> 7 | AA12: =SUM(K12+O12+S12+W12) -> 14 | AD12: =SUM(Y18:AB18) -> 30 | AF12: 名
C13: 措置 | G13: 入院 | I13: 0 | K13: 0 | M13: 0 | O13: 0 | Q13: 0 | S13: 0 | U13: 0 | W13: 0 | Y13: =SUM(I13+M13+Q13+U13) -> 0 | AA13: =SUM(K13+O13+S13+W13) -> 0
G14: 在院 | I14: 1 | K14: 0 | M14: 0 | O14: 0 | Q14: 0 | S14: 0 | U14: 0 | W14: 0 | Y14: =SUM(I14+M14+Q14+U14) -> 1 | AA14: =SUM(K14+O14+S14+W14) -> 0 | AC14: 在院数
G15: 退院 | I15: 1 | K15: 0 | M15: 0 | O15: 0 | Q15: 0 | S15: 0 | U15: 0 | W15: 0 | Y15: =SUM(I15+M15+Q15+U15) -> 1 | AA15: =SUM(K15+O15+S15+W15) -> 0 | AD15: =Y17+AA17 -> 182 | AF15: 名
C16: 合計 | G16: 入院 | I16: =SUM(I7+I10+I13) -> 14 | K16: =SUM(K7+K10+K13) -> 12 | M16: =SUM(M7+M10+M13) -> 0 | O16: =SUM(O7+O10+O13) -> 0 | Q16: =SUM(Q7+Q10+Q13) -> 0 | S16: =SUM(S7+S10+S13) -> 0 | U16: =SUM(U7+U10+U13) -> 0 | W16: =SUM(W7+W10+W13) -> 0 | Y16: =SUM(Y7+Y10+Y13) -> 14 | AA16: =SUM(AA7+AA10+AA13) -> 12
G17: 在院 | I17: =SUM(I8+I11+I14) -> 28 | K17: =SUM(K8+K11+K14) -> 17 | M17: =M8+M11+M14 -> 16 | O17: =SUM(O8+O11+O14) -> 28 | Q17: =Q8+Q11+Q14 -> 24 | S17: =SUM(S8+S11+S14) -> 35 | U17: =SUM(U8+U11+U14) -> 25 | W17: =SUM(W8+W11+W14) -> 9 | Y17: =SUM(Y8+Y11+Y14) -> 93 | AA17: =SUM(AA8+AA11+AA14) -> 89
G18: 退院 | I18: =SUM(I9+I12+I15) -> 6 | K18: =SUM(K9+K12+K15) -> 5 | M18: =SUM(M9+M12+M15) -> 2 | O18: =SUM(O9+O12+O15) -> 4 | Q18: =SUM(Q9+Q12+Q15) -> 2 | S18: =SUM(S9+S12+S15) -> 8 | U18: =U9+U12+U15 -> 2 | W18: =SUM(W9+W12+W15) -> 1 | Y18: =I18+M18+Q18+U18 -> 12 | AA18: =SUM(AA9+AA12+AA15) -> 18
C19: 医療保護定期病状報告
C20: 患者様氏名 | H20: 担当SW | K20: 担当医師 | N20: 作成日 | P20: 提出日 | R20: 患者様氏名 | W20: 担当SW | Z20: 担当医師 | AC20: 作成日 | AE20: 提出日
C21: 1 | D21: 水梨 孝純 様 | H21: 西舘 | K21: 馬渡 | N21: 44985 | P21: 44985
C22: 2 | D22: 中居 伊佐男 様 | H22: 西舘 | K22: 田名部 | N22: 44985 | P22: 44985
C23: 3 | D23: 若松 茂 様 | H23: 小屋敷 | K23: 小栁(田名部) | N23: 44985 | P23: 44985
C24: 4
C25: 5
C26: 6
C27: 7
C28: 8 | AH28: 医療保護定期病状報告
C29: 9 | AH29: 計
C30: 10 | AH30: =COUNTA(D21:G30) -> 3 | AI30: 件
C31: 医療保護入退入院届
C32: 患者様氏名 | H32: 担当SW | K32: 担当医師 | N32: 第1項 | T32: 第3項 | Z32: 備考
N33: 入院日 | P33: 作成日 | R33: 提出日 | T33: 入院日 | V33: 作成日 | X33: 提出日
C34: 1 | D34: 石田 良二 様 | H34: 西舘 | I34: 西舘 | J34: 西舘 | K34: 小栁(馬渡) | L34: 小栁(馬渡) | M34: 小栁(馬渡) | N34: 44959 | P34: 44959 | R34: 44970
C35: 2 | D35: 西原 正宏 様 | H35: 宇津木澤 | I35: 宇津木澤 | J35: 宇津木澤 | K35: 金(馬渡) | L35: 金(馬渡) | M35: 金(馬渡) | N35: 44959 | P35: 44959 | R35: 44966
C36: 3 | D36: 川村 八重 様 | H36: 小屋敷 | I36: 小屋敷 | J36: 小屋敷 | K36: 村上(田名部) | L36: 村上(田名部) | M36: 村上(田名部) | N36: 44965 | P36: 44965 | R36: 44977
C37: 4 | D37: 中山 芳雄 様 | H37: 宇津木澤 | I37: 宇津木澤 | J37: 宇津木澤 | K37: 小栁（馬渡） | L37: 小栁（馬渡） | M37: 小栁（馬渡） | N37: 44966 | P37: 44966 | R37: 44977
C38: 5 | D38: 小坂 君子 様 | H38: 小屋敷 | I38: 小屋敷 | J38: 小屋敷 | K38: 田名部 | L38: 田名部 | M38: 田名部 | N38: 44966 | P38: 44966 | R38: 44977
C39: 6 | D39: 沼山 真紀子 様 | H39: 西舘 | I39: 西舘 | J39: 西舘 | K39: 馬渡 | L39: 馬渡 | M39: 馬渡 | N39: 44967 | P39: 44967 | R39: 44977
C40: 7 | D40: 杉村 志智雄 様 | H40: 小屋敷 | I40: 小屋敷 | J40: 小屋敷 | K40: 田名部 | L40: 田名部 | M40: 田名部 | N40: 44971 | P40: 44971 | R40: 44981
C41: 8 | D41: 工藤 六男 様 | H41: 西舘 | I41: 西舘 | J41: 西舘 | K41: 深澤 | L41: 深澤 | M41: 深澤 | N41: 44971 | P41: 44971 | R41: 44981
C42: 9 | D42: 堺 勝信 様 | H42: 宇津木澤 | I42: 宇津木澤 | J42: 宇津木澤 | K42: 深澤 | L42: 深澤 | M42: 深澤 | N42: 44971 | P42: 44971 | R42: 44981
C43: 10 | D43: 須田 栞乃 様 | H43: 西舘 | I43: 西舘 | J43: 西舘 | K43: 小栁(深澤) | L43: 小栁(深澤) | M43: 小栁(深澤) | N43: 44971 | P43: 44971 | R43: 44981
C44: 11 | D44: 瀧澤 敏雄 様 | H44: 西舘 | I44: 西舘 | J44: 西舘 | K44: 深澤 | L44: 深澤 | M44: 深澤 | N44: 44972 | P44: 44972 | R44: 44981
C45: 12 | D45: 大橋 セツ 様 | H45: 小屋敷 | I45: 小屋敷 | J45: 小屋敷 | K45: 金(深) | L45: 金(深) | M45: 金(深) | N45: 44973 | P45: 44973 | R45: 44981
... C47: 14 | D47: 工藤 光康 様 | H47: 西舘 | I47: 西舘 | J47: 西舘 | K47: 馬渡 | L47: 馬渡 | M47: 馬渡 | N47: 44974 | P47: 44974 | R47: 44981
C48: 15 | D48: 小田 沙也加 様 | H48: 西舘 | I48: 西舘 | J48: 西舘 | K48: 田名部 | L48: 田名部 | M48: 田名部 | N48: 44980 | P48: 44980
C49: 16 | D49: 小田桐 幸雄 様 | H49: 小屋敷 | I49: 小屋敷 | J49: 小屋敷 | K49: 馬渡 | L49: 馬渡 | M49: 馬渡 | N49: 44981 | P49: 44981
C50: 17 | D50: 梅内 とも子 様 | H50: 西舘 | I50: 西舘 | J50: 西舘 | K50: 田名部 | L50: 田名部 | M50: 田名部 | N50: 44982 | P50: 44982
C51: 18 | D51: 宮﨑 博孝 様 | H51: 小屋敷 | I51: 小屋敷 | J51: 小屋敷 | K51: 菅野 | L51: 菅野 | M51: 菅野 | N51: 44984 | P51: 44984
C52: 19 | D52: 播磨 克子 様 | H52: 西舘 | I52: 西舘 | J52: 西舘 | K52: 菅野 | L52: 菅野 | M52: 菅野 | N52: 44984 | P52: 44984
C53: 20 | D53: 森 幸夫 様 | H53: 西舘 | I53: 西舘 | J53: 西舘 | K53: 小栁(馬渡) | L53: 小栁(馬渡) | M53: 小栁(馬渡) | N53: 44985 | P53: 44985
C54: 21 | D54: 佐藤 鉄男 様 | H54: 小屋敷 | I54: 小屋敷 | J54: 小屋敷 | K54: 菅野 | L54: 菅野 | M54: 菅野 | N54: 44985 | P54: 44985 | AH54: 医療保護入退入院届
C55: 22 | AH55: 第1項 計
C56: 23 | AH56: =COUNTA(N34:O58) -> 21 | AI56: 件
C57: 24 | AH57: 第3項 計
C58: 25 | AH58: =COUNTA(T34:U58) -> 0 | AI58: 件
C59: 入院形態変更状況
C60: 患者様氏名 | H60: 担当SW | K60: 担当医師 | N60: 入院日 | P60: 作成日 | R60: 提出日 | T60: 備考
C61: 1 | D61: 内田 都影 様 | H61: 西舘 | K61: 深澤 | N61: 44973 | P61: 44973 | R61: 44981
C62: 2 | D62: 船渡 幸男 様 | H62: 西舘 | K62: 小栁 | N62: 44984 | P62: 44984 | R62: 44985
C63: 3 | AH63: 入院形態変更状況
C64: 4 | AH64: 計
C65: 5 | AH65: =COUNTA(D61:G65) -> 2 | AI65: 件
C66: 医療保護入院退院届
C67: 患者様氏名 | H67: 担当SW | K67: 担当医師 | N67: 退院日 | P67: 提出日 | R67: 転帰
C68: 1 | D68: 附柳 松雄 様 | E68: 附柳 松雄 様 | F68: 附柳 松雄 様 | G68: 附柳 松雄 様 | H68: 宇津木澤 | K68: 深澤 | L68: 深澤 | M68: 深澤 | N68: 44958 | P68: 44960
C69: 2 | D69: 相澤 正弘 様 | E69: 相澤 正弘 様 | F69: 相澤 正弘 様 | G69: 相澤 正弘 様 | H69: 宇津木澤 | K69: 馬渡 | L69: 馬渡 | M69: 馬渡 | N69: 44963 | P69: 44966
C70: 3 | D70: 山日 文 様 | E70: 山日 文 様 | F70: 山日 文 様 | G70: 山日 文 様 | H70: 宇津木澤 | K70: 金 | L70: 金 | M70: 金 | N70: 44963 | P70: 44966
C71: 4 | D71: 夏井 サツ 様 | E71: 夏井 サツ 様 | F71: 夏井 サツ 様 | G71: 夏井 サツ 様 | H71: 宇津木澤 | K71: 田名部 | L71: 田名部 | M71: 田名部 | N71: 44964 | P71: 44970
C72: 5 | D72: 佐々木 カヨ子 | E72: 佐々木 カヨ子 | F72: 佐々木 カヨ子 | G72: 佐々木 カヨ子 | H72: 宇津木澤 | K72: 小栁 | L72: 小栁 | M72: 小栁 | N72: 44965 | P72: 44970
C73: 6 | D73: 沼山 真紀子 様 | E73: 沼山 真紀子 様 | F73: 沼山 真紀子 様 | G73: 沼山 真紀子 様 | H73: 宇津木澤 | K73: 金 | L73: 金 | M73: 金 | N73: 44965 | P73: 44966
C74: 7 | D74: 中澤 政固 様 | E74: 中澤 政固 様 | F74: 中澤 政固 様 | G74: 中澤 政固 様 | H74: 宇津木澤 | K74: 村上 | L74: 村上 | M74: 村上 | N74: 44966 | P74: 44970
C75: 8 | D75: 小坂 君子 様 | E75: 小坂 君子 様 | F75: 小坂 君子 様 | G75: 小坂 君子 様 | H75: 宇津木澤 | K75: 田名部 | L75: 田名部 | M75: 田名部 | N75: 44966 | P75: 44977
C76: 9 | D76: 豊巻 みや 様 | E76: 豊巻 みや 様 | F76: 豊巻 みや 様 | G76: 豊巻 みや 様 | H76: 宇津木澤 | K76: 田名部 | L76: 田名部 | M76: 田名部 | N76: 44966 | P76: 44977
C77: 10 | D77: 中村 てるゑ 様 | E77: 中村 てるゑ 様 | F77: 中村 てるゑ 様 | G77: 中村 てるゑ 様 | H77: 宇津木澤 | K77: 小栁 | L77: 小栁 | M77: 小栁 | N77: 44967 | P77: 44977
C78: 11 | D78: 水越 テル 様 | E78: 水越 テル 様 | F78: 水越 テル 様 | G78: 水越 テル 様 | H78: 宇津木澤 | K78: 金 | L78: 金 | M78: 金 | N78: 44974 | P78: 44981
C79: 12 | D79: 田沢 由太郎 様 | E79: 田沢 由太郎 様 | F79: 田沢 由太郎 様 | G79: 田沢 由太郎 様 | H79: 宇津木澤 | K79: 小栁 | L79: 小栁 | M79: 小栁 | N79: 44974 | P79: 44977
... C84: 17 | D84: 須田 栞乃 様 | E84: 須田 栞乃 様 | F84: 須田 栞乃 様 | G84: 須田 栞乃 様 | H84: 宇津木澤 | K84: 小栁 | L84: 小栁 | M84: 小栁 | N84: 44978 | P84: 44985
C85: 18 | D85: 中山 芳雄 様 | E85: 中山 芳雄 様 | F85: 中山 芳雄 様 | G85: 中山 芳雄 様 | H85: 宇津木澤 | K85: 小栁 | L85: 小栁 | M85: 小栁 | N85: 44980
C86: 19 | D86: 北山 り子 様 | E86: 北山 り子 様 | F86: 北山 り子 様 | G86: 北山 り子 様 | H86: 宇津木澤 | K86: 金 | L86: 金 | M86: 金 | N86: 44983 | AH86: 医療保護入院退院届
C87: 20 | D87: 小山 育美 様 | E87: 小山 育美 様 | F87: 小山 育美 様 | G87: 小山 育美 様 | H87: 宇津木澤 | K87: 馬渡 | L87: 馬渡 | M87: 馬渡 | N87: 44984 | AH87: 計
C88: 21 | D88: 田辺 京子 様 | E88: 田辺 京子 様 | F88: 田辺 京子 様 | G88: 田辺 京子 様 | H88: 宇津木澤 | K88: 菅野 | L88: 菅野 | M88: 菅野 | N88: 44985 | AH88: 21 | AI88: 件
C89: 措置入院 入院者
C90: 患者様氏名 | H90: 担当SW | K90: 担当医師 | N90: 入院日 | P90: 提出日 | R90: 患者様氏名 | W90: 担当SW | Z90: 担当医師 | AC90: 入院日 | AE90: 提出日
C91: 1
C92: 2
C93: 3 | AH93: 措置入院 入院者
C94: 4 | AH94: 計
C95: 5 | AH95: =COUNTA(D91:G95) -> 0 | AI95: 件
C96: 措置定期病状報告
C97: 患者様氏名 | H97: 担当SW | K97: 担当医師 | N97: 作成日 | P97: 提出日 | R97: 患者様氏名 | W97: 担当SW | Z97: 担当医師 | AC97: 作成日 | AE97: 提出日
C98: 1
C99: 2
C100: 3 | AH100: 措置定期病状報告
C101: 4 | AH101: 計
C102: 5 | AH102: =COUNTA(D98:G102) -> 0 | AI102: 件
C103: 措置消退届
C104: 患者様氏名 | H104: 担当SW | K104: 担当医師 | N104: 作成日 | P104: 提出日 | R104: 患者様氏名 | W104: 担当SW | Z104: 担当医師 | AC104: 作成日 | AE104: 提出日
C105: 1
C106: 2
C107: 3 | AH107: 措置消退届
...

Sheet 労務状況
C1: 労務状況
C2: 氏名 | D2: 労務状況 | E2: 氏名 | F2: 労務状況 | G2: 氏名 | H2: 労務状況 | I2: 氏名 | J2: 労務状況 | K2: 氏名 | L2: 労務状況 | M2: 氏名 | N2: 労務状況 | O2: 氏名 | P2: 労務状況 | Q2: 氏名 | R2: 労務状況
B3: 1 | C3: ='1'!$K$5 -> 西舘 翔子 | D3: ='1'!$P$5 -> 日勤 | E3: ='1'!$T$5 -> 大川 祥子 | F3: ='1'!$Y$5 -> 日勤 | G3: ='1'!$AC$5 -> 宇津木澤 育美 | H3: ='1'!$AH$5 -> 日勤 | I3: ='1'!$AL$5 -> 早狩 風花 | J3: ='1'!$AP$5 -> 日勤 | K3: ='1'!$K$7 -> 0 | L3: ='1'!P7 -> 0 | M3: ='1'!T7 -> 0 | N3: ='1'!Y7 -> 0 | O3: ='1'!AC7 -> 0 | P3: ='1'!AH7 -> 0 | Q3: ='1'!AL7 -> 0 | R3: ='1'!AP7 -> 0
B4: 2 | C4: =#REF! -> #REF! | D4: =#REF! -> #REF! | E4: =#REF! -> #REF! | F4: =#REF! -> #REF! | G4: =#REF! -> #REF! | H4: =#REF! -> #REF! | I4: =#REF! -> #REF! | J4: =#REF! -> #REF! | ... R4: =#REF! -> #REF!
B5: 3 | C5: =#REF! -> #REF! | D5: =#REF! -> #REF! | E5: =#REF! -> #REF! | F5: =#REF! -> #REF! | G5: =#REF! -> #REF! | H5: =#REF! -> #REF! | I5: =#REF! -> #REF! | J5: =#REF! -> #REF! | ... R5: =#REF! -> #REF!
B6: 4 | C6: =#REF! -> #REF! | D6: =#REF! -> #REF! | E6: =#REF! -> #REF! | F6: =#REF! -> #REF! | G6: =#REF! -> #REF! | H6: =#REF! -> #REF! | I6: =#REF! -> #REF! | J6: =#REF! -> #REF! | ... R6: =#REF! -> #REF!
B7: 5 | C7: =#REF! -> #REF! | D7: =#REF! -> #REF! | E7: =#REF! -> #REF! | F7: =#REF! -> #REF! | G7: =#REF! -> #REF! | H7: =#REF! -> #REF! | I7: =#REF! -> #REF! | J7: =#REF! -> #REF! | ... R7: =#REF! -> #REF!
B8: 6 | C8: =#REF! -> #REF! | D8: =#REF! -> #REF! | E8: =#REF! -> #REF! | F8: =#REF! -> #REF! | G8: =#REF! -> #REF! | H8: =#REF! -> #REF! | I8: =#REF! -> #REF! | J8: =#REF! -> #REF! | ... R8: =#REF! -> #REF!
B9: 7 | C9: =#REF! -> #REF! | D9: =#REF! -> #REF! | E9: =#REF! -> #REF! | F9: =#REF! -> #REF! | G9: =#REF! -> #REF! | H9: =#REF! -> #REF! | I9: =#REF! -> #REF! | J9: =#REF! -> #REF! | ... R9: =#REF! -> #REF!
B10: 8 | C10: =#REF! -> #REF! | D10: =#REF! -> #REF! | E10: =#REF! -> #REF! | F10: =#REF! -> #REF! | G10: =#REF! -> #REF! | H10: =#REF! -> #REF! | I10: =#REF! -> #REF! | J10: =#REF! -> #REF! | ... R10: =#REF! -> #REF!
B11: 9 | C11: =#REF! -> #REF! | D11: =#REF! -> #REF! | E11: =#REF! -> #REF! | F11: =#REF! -> #REF! | G11: =#REF! -> #REF! | H11: =#REF! -> #REF! | I11: =#REF! -> #REF! | J11: =#REF! -> #REF! | ... R11: =#REF! -> #REF!
B12: 10 | C12: =#REF! -> #REF! | D12: =#REF! -> #REF! | E12: =#REF! -> #REF! | F12: =#REF! -> #REF! | G12: =#REF! -> #REF! | H12: =#REF! -> #REF! | I12: =#REF! -> #REF! | J12: =#REF! -> #REF! | ... R12: =#REF! -> #REF!
B13: 11 | C13: =#REF! -> #REF! | D13: =#REF! -> #REF! | E13: =#REF! -> #REF! | F13: =#REF! -> #REF! | G13: =#REF! -> #REF! | H13: =#REF! -> #REF! | I13: =#REF! -> #REF! | J13: =#REF! -> #REF! | ... R13: =#REF! -> #REF!
B14: 12 | C14: =#REF! -> #REF! | D14: =#REF! -> #REF! | E14: =#REF! -> #REF! | F14: =#REF! -> #REF! | G14: =#REF! -> #REF! | H14: =#REF! -> #REF! | I14: =#REF! -> #REF! | J14: =#REF! -> #REF! | ... R14: =#REF! -> #REF!
B15: 13 | C15: =#REF! -> #REF! | D15: =#REF! -> #REF! | E15: =#REF! -> #REF! | F15: =#REF! -> #REF! | G15: =#REF! -> #REF! | H15: =#REF! -> #REF! | I15: =#REF! -> #REF! | J15: =#REF! -> #REF! | ... R15: =#REF! -> #REF!
... B33: 31 | C33: =#REF! -> #REF! | D33: =#REF! -> #REF! | E33: =#REF! -> #REF! | F33: =#REF! -> #REF! | G33: =#REF! -> #REF! | H33: =#REF! -> #REF! | I33: =#REF! -> #REF! | J33: =#REF! -> #REF! | ... R33: =#REF! -> #REF!
D36: 遅刻 | E36: 早退 | F36: 欠勤 | G36: 有給 | H36: 産・育休 | I36: 病欠 | J36: 忌引き | K36: 業務出張 | L36: 研修出張
C37: =C3 -> 西舘 翔子 | D37: =COUNTIF($D$3:$D$33,"遅刻") -> 0 | E37: =COUNTIF($D$3:$D$33,"早退") -> 0 | F37: =COUNTIF($D$3:$D$33,"欠勤") -> 0 | G37: =COUNTIF($D$3:$D$33,"有給") -> 0 | H37: =COUNTIF($D$3:$D$33,"産・育休") -> 0 | I37: =COUNTIF($D$3:$D$33,"病欠") -> 0 | J37: =COUNTIF($D$3:$D$33,"忌引き") -> 0 | K37: =COUNTIF($D$3:$D$33,"業務出張") -> 0 | L37: =COUNTIF($D$3:$D$33,"研修出張") -> 0
C38: =E3 -> 大川 祥子 | D38: =COUNTIF($F$3:$F$33,"遅刻") -> 0 | E38: =COUNTIF($F$3:$F$33,"早退") -> 0 | F38: =COUNTIF($F$3:$F$33,"欠勤") -> 0 | G38: =COUNTIF($F$3:$F$33,"有給") -> 0 | H38: =COUNTIF($F$3:$F$33,"産・育休") -> 0 | I38: =COUNTIF($F$3:$F$33,"病欠") -> 0 | J38: =COUNTIF($F$3:$F$33,"忌引き") -> 0 | K38: =COUNTIF($F$3:$F$33,"業務出張") -> 0 | L38: =COUNTIF($F$3:$F$33,"研修出張") -> 0
C39: =G3 -> 宇津木澤 育美 | D39: =COUNTIF($H$3:$H$33,"遅刻") -> 0 | E39: =COUNTIF($H$3:$H$33,"早退") -> 0 | F39: =COUNTIF($H$3:$H$33,"欠勤") -> 0 | G39: =COUNTIF($H$3:$H$33,"有給") -> 0 | H39: =COUNTIF($H$3:$H$33,"産・育休") -> 0 | I39: =COUNTIF($H$3:$H$33,"病欠") -> 0 | J39: =COUNTIF($H$3:$H$33,"忌引き") -> 0 | K39: =COUNTIF($H$3:$H$33,"業務出張") -> 0 | L39: =COUNTIF($H$3:$H$33,"研修出張") -> 0
C40: =I3 -> 早狩 風花 | D40: =COUNTIF($J$3:$J$33,"遅刻") -> 0 | E40: =COUNTIF($J$3:$J$33,"早退") -> 0 | F40: =COUNTIF($J$3:$J$33,"欠勤") -> 0 | G40: =COUNTIF($J$3:$J$33,"有給") -> 0 | H40: =COUNTIF($J$3:$J$33,"産・育休") -> 0 | I40: =COUNTIF($J$3:$J$33,"病欠") -> 0 | J40: =COUNTIF($J$3:$J$33,"忌引き") -> 0 | K40: =COUNTIF($J$3:$J$33,"業務出張") -> 0 | L40: =COUNTIF($J$3:$J$33,"研修出張") -> 0
C41: =K3 -> 0 | D41: =COUNTIF($L$3:$L$33,"遅刻") -> 0 | E41: =COUNTIF($L$3:$L$33,"早退") -> 0 | F41: =COUNTIF($L$3:$L$33,"欠勤") -> 0 | G41: =COUNTIF($L$3:$L$33,"有給") -> 0 | H41: =COUNTIF($L$3:$L$33,"産・育休") -> 0 | I41: =COUNTIF($L$3:$L$33,"病欠") -> 0 | J41: =COUNTIF($L$3:$L$33,"忌引き") -> 0 | K41: =COUNTIF($L$3:$L$33,"業務出張") -> 0 | L41: =COUNTIF($L$3:$L$33,"研修出張") -> 0
C42: =M3 -> 0 | D42: =COUNTIF($N$3:$N$33,"遅刻") -> 0 | E42: =COUNTIF($N$3:$N$33,"早退") -> 0 | F42: =COUNTIF($N$3:$N$33,"欠勤") -> 0 | G42: =COUNTIF($N$3:$N$33,"有給") -> 0 | H42: =COUNTIF($N$3:$N$33,"産・育休") -> 0 | I42: =COUNTIF($N$3:$N$33,"病欠") -> 0 | J42: =COUNTIF($N$3:$N$33,"忌引き") -> 0 | K42: =COUNTIF($N$3:$N$33,"業務出張") -> 0 | L42: =COUNTIF($L$3:$L$33,"研修出張") -> 0
C43: =O3 -> 0 | D43: =COUNTIF($P$3:$P$33,"遅刻") -> 0 | E43: =COUNTIF($P$3:$P$33,"早退") -> 0 | F43: =COUNTIF($P$3:$P$33,"欠勤") -> 0 | G43: =COUNTIF($P$3:$P$33,"有給") -> 0 | H43: =COUNTIF($P$3:$P$33,"産・育休") -> 0 | I43: =COUNTIF($P$3:$P$33,"病欠") -> 0 | J43: =COUNTIF($P$3:$P$33,"忌引き") -> 0 | K43: =COUNTIF($P$3:$P$33,"業務出張") -> 0 | L43: =COUNTIF($L$3:$L$33,"研修出張") -> 0
C44: =Q3 -> 0 | D44: =COUNTIF($R$3:$R$33,"遅刻") -> 0 | E44: =COUNTIF($R$3:$R$33,"早退") -> 0 | F44: =COUNTIF($R$3:$R$33,"欠勤") -> 0 | G44: =COUNTIF($R$3:$R$33,"有給") -> 0 | H44: =COUNTIF($R$3:$R$33,"産・育休") -> 0 | I44: =COUNTIF($R$3:$R$33,"病欠") -> 0 | J44: =COUNTIF($R$3:$R$33,"忌引き") -> 0 | K44: =COUNTIF($R$3:$R$33,"業務出張") -> 0 | L44: =COUNTIF($R$3:$R$33,"研修出張") -> 0

Sheet 業務遂行状況
D2: 1 | E2: 2 | F2: 3 | G2: 4 | H2: 5 | I2: 6 | J2: 7 | K2: 8 | L2: 9 | M2: 10 | N2: 11 | O2: 12 | P2: 13 | Q2: 14 | R2: 15 | S2: 16 | T2: 17 | U2: 18 | V2: 19 | W2: 20 | X2: 21 | Y2: 22 | Z2: 23 | AA2: 24 | AB2: 25 | AC2: 26 | AD2: 27 | AE2: 28 | AF2: 29 | AG2: 30 | AH2: 31 | AI2: 計
B3: 入退院支援 | C3: 入院援助 | D3: =COUNTA('1'!#REF!) -> 1 | E3: =COUNTA(#REF!) -> 1 | F3: =COUNTA(#REF!) -> 1 | G3: =COUNTA(#REF!) -> 1 | H3: =COUNTA(#REF!) -> 1 | I3: =COUNTA(#REF!) -> 1 | J3: =COUNTA(#REF!) -> 1 | K3: =COUNTA(#REF!) -> 1 | L3: =COUNTA(#REF!) -> 1 | ... AH3: =COUNTA(#REF!) -> 1 | AI3: =SUM(D3:AH3) -> 31
C4: 入院形態の変更 | D4: =COUNTA('1'!$J$55:$N$55) -> 1 | E4: =COUNTA(#REF!) -> 1 | F4: =COUNTA(#REF!) -> 1 | G4: =COUNTA(#REF!) -> 1 | H4: =COUNTA(#REF!) -> 1 | I4: =COUNTA(#REF!) -> 1 | J4: =COUNTA(#REF!) -> 1 | K4: =COUNTA(#REF!) -> 1 | L4: =COUNTA(#REF!) -> 1 | ... AH4: =COUNTA(#REF!) -> 1 | AI4: =SUM(D4:AH4) -> 31
C5: 入院患者対応 | D5: =COUNTA('1'!#REF!) -> 1 | E5: =COUNTA(#REF!) -> 1 | F5: =COUNTA(#REF!) -> 1 | G5: =COUNTA(#REF!) -> 1 | H5: =COUNTA(#REF!) -> 1 | I5: =COUNTA(#REF!) -> 1 | J5: =COUNTA(#REF!) -> 1 | K5: =COUNTA(#REF!) -> 1 | L5: =COUNTA(#REF!) -> 1 | ... AH5: =COUNTA(#REF!) -> 1 | AI5: =SUM(D5:AH5) -> 31
C6: 退院請求対応 | D6: =COUNTA('1'!$J$61:$N$62) -> 0 | E6: =COUNTA(#REF!) -> 1 | F6: =COUNTA(#REF!) -> 1 | G6: =COUNTA(#REF!) -> 1 | H6: =COUNTA(#REF!) -> 1 | I6: =COUNTA(#REF!) -> 1 | J6: =COUNTA(#REF!) -> 1 | K6: =COUNTA(#REF!) -> 1 | L6: =COUNTA(#REF!) -> 1 | ... AH6: =COUNTA(#REF!) -> 1 | AI6: =SUM(D6:AH6) -> 30
C7: 退院援助 | D7: =COUNTA('1'!$J$56:$N$60) -> 0 | E7: =COUNTA(#REF!) -> 1 | F7: =COUNTA(#REF!) -> 1 | G7: =COUNTA(#REF!) -> 1 | H7: =COUNTA(#REF!) -> 1 | I7: =COUNTA(#REF!) -> 1 | J7: =COUNTA(#REF!) -> 1 | K7: =COUNTA(#REF!) -> 1 | L7: =COUNTA(#REF!) -> 1 | ... AH7: =COUNTA(#REF!) -> 1 | AI7: =SUM(D7:AH7) -> 30
B8: 外来患者対応 | C8: 外来患者対応 | D8: =COUNTA('1'!$J$48:$N$54) -> 0 | E8: =COUNTA(#REF!) -> 1 | F8: =COUNTA(#REF!) -> 1 | G8: =COUNTA(#REF!) -> 1 | H8: =COUNTA(#REF!) -> 1 | I8: =COUNTA(#REF!) -> 1 | J8: =COUNTA(#REF!) -> 1 | K8: =COUNTA(#REF!) -> 1 | L8: =COUNTA(#REF!) -> 1 | ... AH8: =COUNTA(#REF!) -> 1 | AI8: =SUM(D8:AH8) -> 30
C9: 通院医療観察法 | D9: =COUNTA('1'!#REF!) -> 1 | E9: =COUNTA(#REF!) -> 1 | F9: =COUNTA(#REF!) -> 1 | G9: =COUNTA(#REF!) -> 1 | H9: =COUNTA(#REF!) -> 1 | I9: =COUNTA(#REF!) -> 1 | J9: =COUNTA(#REF!) -> 1 | K9: =COUNTA(#REF!) -> 1 | L9: =COUNTA(#REF!) -> 1 | ... AH9: =COUNTA(#REF!) -> 1 | AI9: =SUM(D9:AH9) -> 31
B10: 医師補助業務 | D10: =COUNTA('1'!$AA$48:$AE$57) -> 0 | E10: =COUNTA(#REF!) -> 1 | F10: =COUNTA(#REF!) -> 1 | G10: =COUNTA(#REF!) -> 1 | H10: =COUNTA(#REF!) -> 1 | I10: =COUNTA(#REF!) -> 1 | J10: =COUNTA(#REF!) -> 1 | K10: =COUNTA(#REF!) -> 1 | L10: =COUNTA(#REF!) -> 1 | ... AH10: =COUNTA(#REF!) -> 1 | AI10: =SUM(D10:AH10) -> 30
B11: 保健所への届出 | D11: =COUNTA('1'!$AA$58:$AE$67) -> 0 | E11: =COUNTA(#REF!) -> 1 | F11: =COUNTA(#REF!) -> 1 | G11: =COUNTA(#REF!) -> 1 | H11: =COUNTA(#REF!) -> 1 | I11: =COUNTA(#REF!) -> 1 | J11: =COUNTA(#REF!) -> 1 | K11: =COUNTA(#REF!) -> 1 | L11: =COUNTA(#REF!) -> 1 | ... AH11: =COUNTA(#REF!) -> 1 | AI11: =SUM(D11:AH11) -> 30
B12: 認知症疾患医療ｾﾝﾀｰ | D12: =COUNTA('1'!#REF!) -> 1 | E12: =COUNTA(#REF!) -> 1 | F12: =COUNTA(#REF!) -> 1 | G12: =COUNTA(#REF!) -> 1 | H12: =COUNTA(#REF!) -> 1 | I12: =COUNTA(#REF!) -> 1 | J12: =COUNTA(#REF!) -> 1 | K12: =COUNTA(#REF!) -> 1 | L12: =COUNTA(#REF!) -> 1 | ... AH12: =COUNTA(#REF!) -> 1 | AI12: =SUM(D12:AH12) -> 31
B13: 各種会議参加 | D13: =COUNTA('1'!#REF!) -> 1 | E13: =COUNTA(#REF!) -> 1 | F13: =COUNTA(#REF!) -> 1 | G13: =COUNTA(#REF!) -> 1 | H13: =COUNTA(#REF!) -> 1 | I13: =COUNTA(#REF!) -> 1 | J13: =COUNTA(#REF!) -> 1 | K13: =COUNTA(#REF!) -> 1 | L13: =COUNTA(#REF!) -> 1 | ... AH13: =COUNTA(#REF!) -> 1 | AI13: =SUM(D13:AH13) -> 31
B14: 外部の業務 | D14: =COUNTA('1'!#REF!) -> 1 | E14: =COUNTA(#REF!) -> 1 | F14: =COUNTA(#REF!) -> 1 | G14: =COUNTA(#REF!) -> 1 | H14: =COUNTA(#REF!) -> 1 | I14: =COUNTA(#REF!) -> 1 | J14: =COUNTA(#REF!) -> 1 | K14: =COUNTA(#REF!) -> 1 | L14: =COUNTA(#REF!) -> 1 | ... AH14: =COUNTA(#REF!) -> 1 | AI14: =SUM(D14:AH14) -> 31

Sheet 入院患者一覧
A1: 入院患者様一覧

Sheet Sheet1

Sheet Sheet2
