Workbook

Sheet 月報1
A1: =#REF! -> #REF! | C1: =#REF! -> #REF! | D1: 月次報告 | F1: SW | G1: チーム | I1: 作成者
A3: 人事管理
C4: 定数 | D4: 在籍 | E4: 入職 | F4: 退職 | G4: 特記事項
A5: SW | C5: - | D5: 8 | E5: 0 | F5: 0 | G5: 内、1名パート職員
A6: 総数 | C6: - | D6: =SUM(D5:D5) -> 8 | E6: =SUM(E5:E5) -> 0 | F6: =SUM(F5:F5) -> 0
A8: 労務状況 | C8: 当月末まで
C9: 遅刻 | D9: 早退 | E9: 欠勤 | F9: 有給 | G9: 産・育休 | H9: 病欠 | I9: 忌引き | J9: 業務出張 | K9: 研修出張
A10: 西舘 翔子 | C10: 1 | D10: =労務状況!E37 -> 0 | E10: =労務状況!F37 -> 0 | F10: 3 | G10: =労務状況!H37 -> 0 | H10: =労務状況!I37 -> 0 | I10: =労務状況!J37 -> 0 | J10: =労務状況!K37 -> 0 | K10: =労務状況!L37 -> 0
A11: 小屋敷 千瑛 | C11: =労務状況!D38 -> 0 | D11: =労務状況!E38 -> 0 | E11: =労務状況!F38 -> 0 | F11: 1 | G11: =労務状況!H38 -> 0 | H11: =労務状況!I38 -> 0 | I11: =労務状況!J38 -> 0 | J11: =労務状況!K38 -> 0 | K11: =労務状況!L38 -> 0
A12: 大川 祥子 | C12: =労務状況!D39 -> 0 | D12: =労務状況!E39 -> 0 | E12: =労務状況!F39 -> 0 | F12: =労務状況!G39 -> 0 | G12: 0 | H12: =労務状況!I39 -> 0 | I12: =労務状況!J39 -> 0 | J12: =労務状況!K39 -> 0 | K12: =労務状況!L39 -> 0
A13: 宇津木澤 育美 | C13: =労務状況!D40 -> 0 | D13: =労務状況!E40 -> 0 | E13: =労務状況!F40 -> 0 | F13: 2 | G13: =労務状況!H40 -> 0 | H13: =労務状況!I40 -> 0 | I13: =労務状況!J40 -> 0 | J13: =労務状況!K40 -> 0 | K13: =労務状況!L40 -> 0
A14: 石鉢 佳代 | C14: =労務状況!D41 -> 0 | D14: =労務状況!E41 -> 0 | E14: =労務状況!F41 -> 0 | F14: 1 | G14: =労務状況!H41 -> 0 | H14: =労務状況!I41 -> 0 | I14: =労務状況!J41 -> 0 | J14: =労務状況!K41 -> 0 | K14: =労務状況!L41 -> 0
A15: 野添 京子(パート) | C15: =労務状況!D42 -> 0 | D15: =労務状況!E42 -> 0 | E15: =労務状況!F42 -> 0 | F15: =労務状況!G42 -> 0 | G15: =労務状況!H42 -> 0 | H15: =労務状況!I42 -> 0 | I15: =労務状況!J42 -> 0 | J15: =労務状況!K42 -> 0 | K15: =労務状況!L42 -> 0
A16: 早狩 風花 | C16: =労務状況!D43 -> 0 | D16: =労務状況!E43 -> 0 | E16: =労務状況!F43 -> 0 | F16: =労務状況!G43 -> 0 | G16: =労務状況!H43 -> 0 | H16: =労務状況!I43 -> 0 | I16: =労務状況!J43 -> 0 | J16: =労務状況!K43 -> 0 | K16: =労務状況!L43 -> 0
A17: 澤里 皓輝 | C17: =労務状況!D44 -> 0 | D17: =労務状況!E44 -> 0 | E17: =労務状況!F44 -> 0 | F17: =労務状況!G44 -> 0 | G17: =労務状況!H44 -> 0 | H17: =労務状況!I44 -> 0 | I17: =労務状況!J44 -> 0 | J17: =労務状況!K44 -> 0 | K17: =労務状況!L44 -> 0
A18: 総数 | C18: =C10+C11+C12+C14+C13 -> 1 | D18: =D10+D11+D12+D14+D13 -> 0 | E18: =E10+E11+E12+E14+E13 -> 0 | F18: =F10+F11+F12+F14+F13 -> 7 | G18: =G10+G11+G12+G14+G13 -> 0 | H18: =H10+H11+H12+H14+H13 -> 0 | I18: =I10+I11+I12+I14+I13 -> 0 | J18: =J10+J11+J12+J14+J13 -> 0 | K18: =K10+K11+K12+K14+K13 -> 0
A20: 人材育成
A21: 外部研修・勉強会参加状況
A22: 職員名 | C22: 件数 | D22: 研修名（日にち）
A23: 西舘 翔子
A24: 小屋敷 千瑛
A25: 大川 祥子
A26: 宇津木澤 育美
A27: 石鉢 佳代
A28: 野添 京子(パート)
A29: 早狩 風花
A30: 澤里 皓輝
A32: 内部研修・勉強会参加状況
A33: 職員名 | C33: 件数 | D33: 研修名（日にち）
A34: 西舘 翔子 | C34: 2 | D34: 院内研修、法人研修
A35: 小屋敷 千瑛
A36: 大川 祥子
A37: 宇津木澤 育美 | C37: 2 | D37: 院内研修、法人研修
A38: 石鉢 佳代 | C38: 2 | D38: 院内研修、法人研修
A39: 野添 京子(パート)
A40: 早狩 風花 | C40: 2 | D40: 院内研修、法人研修
A41: 澤里 皓輝 | C41: 2 | D41: 院内研修、法人研修
A43: 安全管理
C44: 件数 | D44: 内容等
A45: 苦情 | C45: 0
...

Sheet 月報2
A1: 事業進捗状況
A2: 【計画項目】 | B2: 進捗状況・結果・評価
A3: 1 個別支援の充実
A4: 入退院支援 | B4: 入院援助 | F4: 件
B5: 入院形態の変更 | F5: 件
B6: 入院患者対応 | F6: 件
B7: 退院請求対応 | F7: 件
B8: 退院援助 | F8: 件
A9: 外来患者対応 | B9: 外来患者対応 | F9: 件
B10: 通院医療観察法 | F10: 件
A11: 2 各種制度の管理・手続き
A12: 医師補助業務 | C12: 件
A13: 保健所への届出 | C13: 件
A14: 3 チーム医療の連携体制の拡充
A15: 各種会議参加
A16: 外部の業務
A17: 病棟内勉強会の開催（年4回）
A18: 他機関連携
A19: 4 統計処理と情報分析
B20: ＊入退院届けの作成・提出 ＊定期病状報告の作成・提出 ＊保健所提出用月報の作成・提出 ＊入院者一覧(SW室管理用ﾃﾞｰﾀﾍﾞｰｽ)の作成 ＊任意入院者 同意書管理 ＊各種制度(自立支援医療･生活保護･障害者手帳等)の管理票作成
A21: 5 研鑽活動と人材育成の活性化
A22: (1)業務の効率化 | B22: ①マニュアルの整備
B23: ②確実な業務管理と確実な情報共有体制の整備
B24: ③業務整理
A25: （2）スタッフ教育 | B25: ①新人教育
B26: ②外部研修への参加
B27: ③目標管理面接と個別指導
A28: (3)人員確保 | B28: ①施設見学希望者への対応
B29: ②実習生の受け入れ

Sheet 月報3
A1: =#REF! -> #REF! | E1: =#REF! -> #REF! | I1: ソーシャルワーカー室業務月報 | AA1: C.O.O | AD1: A.O.M
O4: 記載者： | S4: 西舘
A5: 入院状況 | I5: 東病棟 | M5: 西病棟 | Q5: 南病棟 | U5: 北病棟 | Y5: 合計
I6: 男性 | K6: 女性 | M6: 男性 | O6: 女性 | Q6: 男性 | S6: 女性 | U6: 男性 | W6: 女性 | Y6: 男性 | AA6: 女性
C7: 任意 | G7: 入院 | I7: 5 | K7: 4 | M7: 0 | O7: 0 | Q7: 0 | S7: 0 | U7: 0 | W7: 0 | Y7: =SUM(I7+M7+Q7+U7) -> 5 | AA7: =SUM(K7+O7+S7+W7) -> 4
G8: 在院 | I8: 3 | K8: 5 | M8: 2 | O8: 9 | Q8: 0 | S8: 1 | U8: 23 | W8: 11 | Y8: =SUM(I8,M8,Q8,U8) -> 28 | AA8: =SUM(K8+O8+S8+W8) -> 26 | AC8: 入院
G9: 退院 | I9: 2 | K9: 0 | M9: 2 | O9: 3 | Q9: 0 | S9: 0 | U9: 4 | W9: 2 | Y9: =SUM(I9+M9+Q9+U9) -> 8 | AA9: =SUM(K9+O9+S9+W9) -> 5 | AD9: =SUM(Y16:AB16) -> 33 | AF9: 名
C10: 医療保護 | G10: 入院 | I10: 8 | K10: 15 | M10: 0 | O10: 0 | Q10: 0 | S10: 0 | U10: 0 | W10: 0 | Y10: =SUM(I10+M10+Q10+U10) -> 8 | AA10: =SUM(K10+O10+S10+W10) -> 15
G11: 在院 | I11: 25 | K11: 16 | M11: 16 | O11: 20 | Q11: 24 | S11: 34 | U11: 0 | W11: 1 | Y11: =SUM(I11+M11+Q11+U11) -> 65 | AA11: =SUM(K11+O11+S11+W11) -> 71 | AC11: 退院
G12: 退院 | I12: 2 | K12: 0 | M12: 1 | O12: 0 | Q12: 5 | S12: 5 | U12: 0 | W12: 0 | Y12: =SUM(I12+M12+Q12+U12) -> 8 | AA12: =SUM(K12+O12+S12+W12) -> 5 | AD12: =SUM(Y18:AB18) -> 26 | AF12: 名
C13: 措置 | G13: 入院 | I13: 1 | K13: 0 | M13: 0 | O13: 0 | Q13: 0 | S13: 0 | U13: 0 | W13: 0 | Y13: =SUM(I13+M13+Q13+U13) -> 1 | AA13: =SUM(K13+O13+S13+W13) -> 0
G14: 在院 | I14: 2 | K14: 0 | M14: 0 | O14: 0 | Q14: 0 | S14: 0 | U14: 0 | W14: 0 | Y14: =SUM(I14+M14+Q14+U14) -> 2 | AA14: =SUM(K14+O14+S14+W14) -> 0 | AC14: 在院数
G15: 退院 | I15: 0 | K15: 0 | M15: 0 | O15: 0 | Q15: 0 | S15: 0 | U15: 0 | W15: 0 | Y15: =SUM(I15+M15+Q15+U15) -> 0 | AA15: =SUM(K15+O15+S15+W15) -> 0 | AD15: =Y17+AA17 -> 192 | AF15: 名
C16: 合計 | G16: 入院 | I16: =SUM(I7+I10+I13) -> 14 | K16: =SUM(K7+K10+K13) -> 19 | M16: =SUM(M7+M10+M13) -> 0 | O16: =SUM(O7+O10+O13) -> 0 | Q16: =SUM(Q7+Q10+Q13) -> 0 | S16: =SUM(S7+S10+S13) -> 0 | U16: =SUM(U7+U10+U13) -> 0 | W16: =SUM(W7+W10+W13) -> 0 | Y16: =SUM(Y7+Y10+Y13) -> 14 | AA16: =SUM(AA7+AA10+AA13) -> 19
G17: 在院 | I17: =SUM(I8+I11+I14) -> 30 | K17: =SUM(K8+K11+K14) -> 21 | M17: =M8+M11+M14 -> 18 | O17: =SUM(O8+O11+O14) -> 29 | Q17: =Q8+Q11+Q14 -> 24 | S17: =SUM(S8+S11+S14) -> 35 | U17: =SUM(U8+U11+U14) -> 23 | W17: =SUM(W8+W11+W14) -> 12 | Y17: =SUM(Y8+Y11+Y14) -> 95 | AA17: =SUM(AA8+AA11+AA14) -> 97
G18: 退院 | I18: =SUM(I9+I12+I15) -> 4 | K18: =SUM(K9+K12+K15) -> 0 | M18: =SUM(M9+M12+M15) -> 3 | O18: =SUM(O9+O12+O15) -> 3 | Q18: =SUM(Q9+Q12+Q15) -> 5 | S18: =SUM(S9+S12+S15) -> 5 | U18: =U9+U12+U15 -> 4 | W18: =SUM(W9+W12+W15) -> 2 | Y18: =I18+M18+Q18+U18 -> 16 | AA18: =SUM(AA9+AA12+AA15) -> 10
C19: 医療保護定期病状報告
C20: 患者様氏名 | H20: 担当SW | K20: 担当医師 | N20: 作成日 | P20: 提出日 | R20: 患者様氏名 | W20: 担当SW | Z20: 担当医師 | AC20: 作成日 | AE20: 提出日
C21: 1 | D21: 西川 和恵 様 | H21: 西舘 | K21: 小栁(馬渡) | N21: 45068
C22: 2 | D22: 金山 辰巳 様 | H22: 西舘 | K22: 深澤 | N22: 45068
C23: 3 | D23: 青木 昭弘 様 | H23: 西舘 | K23: 田名部 | N23: 45069
C24: 4 | D24: 濱登 せつ子 様 | H24: 大川 | K24: 村上(田名部) | N24: 45072
C25: 5 | D25: 中居 ゆり 様 | H25: 大川 | K25: 田名部 | N25: 45072
C26: 6
C27: 7
C28: 8 | AH28: 医療保護定期病状報告
C29: 9 | AH29: 計
C30: 10 | AH30: =COUNTA(D21:G30) -> 5 | AI30: 件
C31: 医療保護入退入院届
C32: 患者様氏名 | H32: 担当SW | K32: 担当医師 | N32: 第1項 | T32: 第3項 | Z32: 備考
N33: 入院日 | P33: 作成日 | R33: 提出日 | T33: 入院日 | V33: 作成日 | X33: 提出日
C34: 1 | D34: 馬場 日出子 様 | H34: 西舘 | K34: 金(菅野) | N34: 45047 | P34: 45047 | R34: 45057
C35: 2 | D35: 酒井 ヒデ 様 | H35: 大川 | K35: 小栁(田名部) | N35: 45048 | P35: 45048 | R35: 45057
C36: 3 | D36: 佐藤 忠一 様 | H36: 小屋敷 | K36: 小栁(馬渡) | N36: 45048 | P36: 45048 | R36: 45057
C37: 4 | D37: 北山 榮子 様 | H37: 西舘 | K37: 村上(菅野) | N37: 45051 | P37: 45051 | R37: 45057
C38: 5 | D38: 野坂 翔 様 | H38: 大川 | K38: 垂水 | N38: 45051 | P38: 45051 | R38: 45054
C39: 6 | D39: 齋藤 妙子 様 | H39: 小屋敷 | K39: 金(菅野) | N39: 45054 | P39: 45054 | R39: 45057
C40: 7 | D40: 平野 光枝 様 | H40: 大川 | K40: 小栁(菅野) | N40: 45054 | P40: 45054 | R40: 45056
C41: 8 | D41: 苫米地 由紀子 様 | H41: 小屋敷 | K41: 菅野 | N41: 45054 | P41: 45054 | R41: 45057
C42: 9 | D42: 関野 ミキ 様 | H42: 大川 | K42: 村上(田名部) | N42: 45056 | P42: 45056 | R42: 45057
...

Sheet 労務状況
C1: 労務状況
C2: 氏名 | D2: 労務状況 | E2: 氏名 | F2: 労務状況 | G2: 氏名 | H2: 労務状況 | I2: 氏名 | J2: 労務状況 | K2: 氏名 | L2: 労務状況 | M2: 氏名 | N2: 労務状況 | O2: 氏名 | P2: 労務状況 | Q2: 氏名 | R2: 労務状況
B3: 1 | C3: =#REF! -> #REF! | D3: =#REF! -> #REF! | E3: =#REF! -> #REF! | F3: =#REF! -> #REF! | G3: =#REF! -> #REF! | H3: =#REF! -> #REF! | I3: =#REF! -> #REF! | J3: =#REF! -> #REF! | ... R3: =#REF! -> #REF!
B4: 2 | C4: =#REF! -> #REF! | D4: =#REF! -> #REF! | E4: =#REF! -> #REF! | F4: =#REF! -> #REF! | G4: =#REF! -> #REF! | H4: =#REF! -> #REF! | I4: =#REF! -> #REF! | J4: =#REF! -> #REF! | ... R4: =#REF! -> #REF!
B5: 3 | C5: =#REF! -> #REF! | D5: =#REF! -> #REF! | E5: =#REF! -> #REF! | F5: =#REF! -> #REF! | G5: =#REF! -> #REF! | H5: =#REF! -> #REF! | I5: =#REF! -> #REF! | J5: =#REF! -> #REF! | ... R5: =#REF! -> #REF!
B6: 4 | C6: =#REF! -> #REF! | D6: =#REF! -> #REF! | E6: =#REF! -> #REF! | F6: =#REF! -> #REF! | G6: =#REF! -> #REF! | H6: =#REF! -> #REF! | I6: =#REF! -> #REF! | J6: =#REF! -> #REF! | ... R6: =#REF! -> #REF!
B7: 5 | C7: =#REF! -> #REF! | D7: =#REF! -> #REF! | E7: =#REF! -> #REF! | F7: =#REF! -> #REF! | G7: =#REF! -> #REF! | H7: =#REF! -> #REF! | I7: =#REF! -> #REF! | J7: =#REF! -> #REF! | ... R7: =#REF! -> #REF!
B8: 6 | C8: =#REF! -> #REF! | D8: =#REF! -> #REF! | E8: =#REF! -> #REF! | F8: =#REF! -> #REF! | G8: =#REF! -> #REF! | H8: =#REF! -> #REF! | I8: =#REF! -> #REF! | J8: =#REF! -> #REF! | ... R8: =#REF! -> #REF!
B9: 7 | C9: =#REF! -> #REF! | D9: =#REF! -> #REF! | E9: =#REF! -> #REF! | F9: =#REF! -> #REF! | G9: =#REF! -> #REF! | H9: =#REF! -> #REF! | I9: =#REF! -> #REF! | J9: =#REF! -> #REF! | ... R9: =#REF! -> #REF!
B10: 8 | C10: =#REF! -> #REF! | D10: =#REF! -> #REF! | E10: =#REF! -> #REF! | F10: =#REF! -> #REF! | G10: =#REF! -> #REF! | H10: =#REF! -> #REF! | I10: =#REF! -> #REF! | J10: =#REF! -> #REF! | ... R10: =#REF! -> #REF!
B11: 9 | C11: =#REF! -> #REF! | D11: =#REF! -> #REF! | E11: =#REF! -> #REF! | F11: =#REF! -> #REF! | G11: =#REF! -> #REF! | H11: =#REF! -> #REF! | I11: =#REF! -> #REF! | J11: =#REF! -> #REF! | ... R11: =#REF! -> #REF!
B12: 10 | C12: =#REF! -> #REF! | D12: =#REF! -> #REF! | E12: =#REF! -> #REF! | F12: =#REF! -> #REF! | G12: =#REF! -> #REF! | H12: =#REF! -> #REF! | I12: =#REF! -> #REF! | J12: =#REF! -> #REF! | ... R12: =#REF! -> #REF!
B13: 11 | C13: =#REF! -> #REF! | D13: =#REF! -> #REF! | E13: =#REF! -> #REF! | F13: =#REF! -> #REF! | G13: =#REF! -> #REF! | H13: =#REF! -> #REF! | I13: =#REF! -> #REF! | J13: =#REF! -> #REF! | ... R13: =#REF! -> #REF!
B14: 12 | C14: =#REF! -> #REF! | D14: =#REF! -> #REF! | E14: =#REF! -> #REF! | F14: =#REF! -> #REF! | G14: =#REF! -> #REF! | H14: =#REF! -> #REF! | I14: =#REF! -> #REF! | J14: =#REF! -> #REF! | ... R14: =#REF! -> #REF!
... B33: 31 | C33: =#REF! -> #REF! | D33: =#REF! -> #REF! | E33: =#REF! -> #REF! | F33: =#REF! -> #REF! | G33: =#REF! -> #REF! | H33: =#REF! -> #REF! | I33: =#REF! -> #REF! | J33: =#REF! -> #REF! | ... R33: =#REF! -> #REF!
D36: 遅刻 | E36: 早退 | F36: 欠勤 | G36: 有給 | H36: 産・育休 | I36: 病欠 | J36: 忌引き | K36: 業務出張 | L36: 研修出張
C37: =C3 -> #REF! | D37: =COUNTIF($D$3:$D$33,"遅刻") -> 0 | E37: =COUNTIF($D$3:$D$33,"早退") -> 0 | F37: =COUNTIF($D$3:$D$33,"欠勤") -> 0 | G37: =COUNTIF($D$3:$D$33,"有給") -> 0 | H37: =COUNTIF($D$3:$D$33,"産・育休") -> 0 | I37: =COUNTIF($D$3:$D$33,"病欠") -> 0 | J37: =COUNTIF($D$3:$D$33,"忌引き") -> 0 | K37: =COUNTIF($D$3:$D$33,"業務出張") -> 0 | L37: =COUNTIF($D$3:$D$33,"研修出張") -> 0
C38: =E3 -> #REF! | D38: =COUNTIF($F$3:$F$33,"遅刻") -> 0 | E38: =COUNTIF($F$3:$F$33,"早退") -> 0 | F38: =COUNTIF($F$3:$F$33,"欠勤") -> 0 | G38: =COUNTIF($F$3:$F$33,"有給") -> 0 | H38: =COUNTIF($F$3:$F$33,"産・育休") -> 0 | I38: =COUNTIF($F$3:$F$33,"病欠") -> 0 | J38: =COUNTIF($F$3:$F$33,"忌引き") -> 0 | K38: =COUNTIF($F$3:$F$33,"業務出張") -> 0 | L38: =COUNTIF($F$3:$F$33,"研修出張") -> 0
C39: =G3 -> #REF! | D39: =COUNTIF($H$3:$H$33,"遅刻") -> 0 | E39: =COUNTIF($H$3:$H$33,"早退") -> 0 | F39: =COUNTIF($H$3:$H$33,"欠勤") -> 0 | G39: =COUNTIF($H$3:$H$33,"有給") -> 0 | H39: =COUNTIF($H$3:$H$33,"産・育休") -> 0 | I39: =COUNTIF($H$3:$H$33,"病欠") -> 0 | J39: =COUNTIF($H$3:$H$33,"忌引き") -> 0 | K39: =COUNTIF($H$3:$H$33,"業務出張") -> 0 | L39: =COUNTIF($H$3:$H$33,"研修出張") -> 0
C40: =I3 -> #REF! | D40: =COUNTIF($J$3:$J$33,"遅刻") -> 0 | E40: =COUNTIF($J$3:$J$33,"早退") -> 0 | F40: =COUNTIF($J$3:$J$33,"欠勤") -> 0 | G40: =COUNTIF($J$3:$J$33,"有給") -> 0 | H40: =COUNTIF($J$3:$J$33,"産・育休") -> 0 | I40: =COUNTIF($J$3:$J$33,"病欠") -> 0 | J40: =COUNTIF($J$3:$J$33,"忌引き") -> 0 | K40: =COUNTIF($J$3:$J$33,"業務出張") -> 0 | L40: =COUNTIF($J$3:$J$33,"研修出張") -> 0
C41: =K3 -> #REF! | D41: =COUNTIF($L$3:$L$33,"遅刻") -> 0 | E41: =COUNTIF($L$3:$L$33,"早退") -> 0 | F41: =COUNTIF($L$3:$L$33,"欠勤") -> 0 | G41: =COUNTIF($L$3:$L$33,"有給") -> 0 | H41: =COUNTIF($L$3:$L$33,"産・育休") -> 0 | I41: =COUNTIF($L$3:$L$33,"病欠") -> 0 | J41: =COUNTIF($L$3:$L$33,"忌引き") -> 0 | K41: =COUNTIF($L$3:$L$33,"業務出張") -> 0 | L41: =COUNTIF($L$3:$L$33,"研修出張") -> 0
C42: =M3 -> #REF! | D42: =COUNTIF($N$3:$N$33,"遅刻") -> 0 | E42: =COUNTIF($N$3:$N$33,"早退") -> 0 | F42: =COUNTIF($N$3:$N$33,"欠勤") -> 0 | G42: =COUNTIF($N$3:$N$33,"有給") -> 0 | H42: =COUNTIF($N$3:$N$33,"産・育休") -> 0 | I42: =COUNTIF($N$3:$N$33,"病欠") -> 0 | J42: =COUNTIF($N$3:$N$33,"忌引き") -> 0 | K42: =COUNTIF($N$3:$N$33,"業務出張") -> 0 | L42: =COUNTIF($L$3:$L$33,"研修出張") -> 0
C43: =O3 -> #REF! | D43: =COUNTIF($P$3:$P$33,"遅刻") -> 0 | E43: =COUNTIF($P$3:$P$33,"早退") -> 0 | F43: =COUNTIF($P$3:$P$33,"欠勤") -> 0 | G43: =COUNTIF($P$3:$P$33,"有給") -> 0 | H43: =COUNTIF($P$3:$P$33,"産・育休") -> 0 | I43: =COUNTIF($P$3:$P$33,"病欠") -> 0 | J43: =COUNTIF($P$3:$P$33,"忌引き") -> 0 | K43: =COUNTIF($P$3:$P$33,"業務出張") -> 0 | L43: =COUNTIF($L$3:$L$33,"研修出張") -> 0
C44: =Q3 -> #REF! | D44: =COUNTIF($R$3:$R$33,"遅刻") -> 0 | E44: =COUNTIF($R$3:$R$33,"早退") -> 0 | F44: =COUNTIF($R$3:$R$33,"欠勤") -> 0 | G44: =COUNTIF($R$3:$R$33,"有給") -> 0 | H44: =COUNTIF($R$3:$R$33,"産・育休") -> 0 | I44: =COUNTIF($R$3:$R$33,"病欠") -> 0 | J44: =COUNTIF($R$3:$R$33,"忌引き") -> 0 | K44: =COUNTIF($R$3:$R$33,"業務出張") -> 0 | L44: =COUNTIF($R$3:$R$33,"研修出張") -> 0

Sheet Sheet1
