Workbook

Sheet 1
A1: ソーシャルワーカー室 業務日誌 | AH1: C.O.O | AL1: I.O.O | AP1: Ａ.Ｏ.Ｍ
H3: =曜日!B12 -> 令和4年 | M3: =曜日!C12 -> 5月 | P3: 1日 | S3: （ | T3: =曜日!D3 -> 日 | U3: ） | W3: 作成者 | Z3: ： | AA3: 小屋敷 千瑛
A5: 労務 状況 | D5: 勤務状況 | K5: 西舘 翔子 | P5: 公休 | T5: 小屋敷 千瑛 | Y5: 公休 | AC5: 大川 祥子 | AH5: 産・育休 | AL5: 吉田 久美子 | AP5: 公休
K6: 野添 京子 | P6: 公休 | T6: 宇津木澤 育美 | Y6: 公休 | AC6: 横平 沙羅 | AH6: 公休
A7: 入退院 状況 | D7: 入院形態 | K7: 東病棟 | Q7: 西病棟 | W7: 北病棟 | AC7: 南病棟 | AI7: 合計 | AO7: 総数
K8: 男性 | N8: 女性 | Q8: 男性 | T8: 女性 | W8: 男性 | Z8: 女性 | AC8: 男性 | AF8: 女性 | AI8: 男性 | AL8: 女性
D9: 任意入院 | K9: 1 | N9: 9 | Q9: 5 | T9: 10 | W9: 24 | Z9: 10 | AC9: 0 | AF9: 0 | AI9: =K9+Q9+W9+AC9 -> 30 | AL9: =N9+T9+Z9+AF9 -> 29 | AO9: =AI13 -> 185
D10: 医療保護入院 | K10: 15 | N10: 17 | Q10: 17 | T10: 13 | W10: 0 | Z10: 1 | AC10: 32 | AF10: 28 | AI10: =K10+Q10+W10+AC10 -> 64 | AL10: =N10+T10+Z10+AF10 -> 59
D11: 措置入院 | K11: 3 | N11: 0 | Q11: 0 | T11: 0 | W11: 0 | Z11: 0 | AC11: 0 | AF11: 0 | AI11: =K11+Q11+W11+AC11 -> 3 | AL11: =N11+T11+Z11+AF11 -> 0
D12: 合計 | K12: =K9+K10+K11 -> 19 | N12: =N9+N10+N11 -> 26 | Q12: =Q9+Q10+Q11 -> 22 | T12: =SUM(T9:V11) -> 23 | W12: =SUM(W9:Y11) -> 24 | Z12: =SUM(Z9:AB11) -> 11 | AC12: =SUM(AC9:AE11) -> 32 | AF12: =SUM(AF9:AH11) -> 28 | AI12: =SUM(K12+Q12+W12+AC12) -> 97 | AL12: =SUM(N12+T12+Z12+AF12) -> 88 | AO12: 人
K13: =K12+N12 -> 45 | Q13: =Q12+T12 -> 45 | W13: =W12+Z12 -> 35 | AC13: =AC12+AF12 -> 60 | AI13: =AI12+AL12 -> 185
F14: 患者様氏名 | N14: 入院形態 | T14: 担当Dr | Y14: 担当SW | AD14: 病棟 | AJ14: 備考欄
D15: 入院 | L15: 様
L16: 様
L17: 様
L18: 様
L19: 様
D20: 退院 | L20: 様
L21: 様
L22: 様
L23: 様
L24: 様
D25: 転棟 ･ 入院形態変更 | L25: 様
L26: 様
L27: 様
L28: 様
L29: 様
A30: 患者様 関連 | D30: 患者様氏名 | K30: 担当Dr | P30: 病棟 | S30: 制限内容 | X30: 制限時間 | AC30: 開始日時 | AO30: 備考
D31: 中村 聡 | I31: 様 | K31: 金泰徳Dr | P31: 東B | S31: 通信制限 | X31: 通信制限 | AC31: 令和 | AE31: 3 | AF31: 年 | AG31: 5 | AH31: 月 | AI31: 31 | AJ31: 日 | AL31: ： | AN31: ～
D32: 宮﨑 宏之 | I32: 様 | K32: 馬渡晃弘Dr | P32: 東A | S32: 終日隔離 | X32: 終日隔離 | AC32: 令和 | AE32: 3 | AF32: 年 | AG32: 10 | AH32: 月 | AI32: 3 | AJ32: 日 | AL32: ： | AN32: ～
D33: 三浦 英男 | I33: 様 | K33: 馬渡晃弘Dr | P33: 東A | S33: 終日隔離 | X33: 終日隔離 | AC33: 令和 | AE33: 4 | AF33: 年 | AG33: 3 | AH33: 月 | AI33: 31 | AJ33: 日 | AL33: ： | AN33: ～
D34: 沼山 真紀子 | I34: 様 | K34: 金泰徳Dr | P34: 西B | S34: 通信制限 | X34: 通信制限 | AC34: 令和 | AE34: 4 | AF34: 年 | AG34: 4 | AH34: 月 | AI34: 6 | AJ34: 日 | AL34: ： | AN34: ～
D35: 和田 昌 | I35: 様 | P35: 東A | S35: 終日隔離 | X35: 終日隔離 | AC35: 令和 | AE35: 4 | AF35: 年 | AG35: 4 | AH35: 月 | AI35: 27 | AJ35: 日 | AL35: ： | AN35: ～
D36: 小山 仁 | I36: 様 | K36: 深澤隆Dr | P36: 東A | S36: 時間隔離 | X36: 時間隔離 | AC36: 令和 | AE36: 4 | AF36: 年 | AG36: 4 | AH36: 月 | AI36: 29 | AJ36: 日 | AL36: ： | AN36: ～
I37: 様 | AC37: 令和 | AF37: 年 | AH37: 月 | AJ37: 日 | AL37: ： | AN37: ～
I38: 様 | AC38: 令和 | AF38: 年 | AH38: 月 | AJ38: 日 | AL38: ： | AN38: ～
I39: 様 | AC39: 令和 | AF39: 年 | AH39: 月 | AJ39: 日 | AL39: ： | AN39: ～
I40: 様 | AC40: 令和 | AF40: 年 | AH40: 月 | AJ40: 日 | AL40: ： | AN40: ～
I41: 様 | AC41: 令和 | AF41: 年 | AH41: 月 | AJ41: 日 | AL41: ： | AN41: ～
I42: 様 | AC42: 令和 | AF42: 年 | AH42: 月 | AJ42: 日 | AL42: ： | AN42: ～
I43: 様 | AC43: 令和 | AF43: 年 | AH43: 月 | AJ43: 日 | AL43: ： | AN43: ～
I44: 様 | AC44: 令和 | AF44: 年 | AH44: 月 | AJ44: 日 | AL44: ： | AN44: ～
I45: 様 | AC45: 令和 | AF45: 年 | AH45: 月 | AJ45: 日 | AL45: ： | AN45: ～
A46: 業務 内容 | D46: 項目 | J46: 患者様氏名 | P46: 担当 | S46: 備考 | Y46: 項目 | AA46: 患者様氏名 | AG46: 内容 | AQ46: 担当
D47: 外 来 患 者 対 応 | F47: 外来患者 対応 | O47: 様 | Y47: 書 類 作 成 完 了 | AF47: 様
O48: 様 | AF48: 様
O49: 様 | AF49: 様
O50: 様 | AF50: 様
O51: 様 | AF51: 様
O52: 様 | AF52: 様
O53: 様 | AF53: 様
D54: 項目 | J54: 患者様氏名 | P54: 担当 | S54: 備考 | AF54: 様
D55: 入 退 院 支 援 | F55: 退院支援 | O55: 様 | AF55: 様
O56: 様 | AF56: 様
O57: 様 | Y57: 項目 | AG57: 件数 | AJ57: 担当 | AM57: 備考
O58: 様 | Y58: 電話対応 | AI58: 件
O59: 様 | Y59: 保健所への届出 | AI59: 件
F60: 退院請求 対応 | O60: 様 | Y60: 項目 | AG60: 内容
O61: 様 | Y61: 通院医療 観察法
F62: 入院患者 対応 | J62: 担当 | M62: 件数 | P62: 備考
O63: 件 | Y63: 認知症疾患 医療ｾﾝﾀｰ
O64: 件
O65: 件 | Y65: 各種会議参加 外部の業務
O66: 件
A67: 安全管理 | D67: 事故 | S67: 物品 購入 | AE67: 連絡 事項
D68: 苦情
D69: 紛失
D70: 他

Sheet 2
A1: ソーシャルワーカー室 業務日誌 | AH1: C.O.O | AL1: I.O.O | AP1: Ａ.Ｏ.Ｍ
H3: =曜日!B12 -> 令和4年 | M3: =曜日!C12 -> 5月 | P3: 2日 | S3: （ | T3: =曜日!D4 -> 月 | U3: ） | W3: 作成者 | Z3: ： | AA3: 小屋敷 千瑛
A5: 労務 状況 | D5: 勤務状況 | K5: 西舘 翔子 | P5: 日勤 | T5: 小屋敷 千瑛 | Y5: 午後半休 | AC5: 大川 祥子 | AH5: 産・育休 | AL5: 吉田 久美子 | AP5: 日勤
K6: 野添 京子 | P6: 日勤 | T6: 宇津木澤 育美 | Y6: 日勤 | AC6: 横平 沙羅 | AH6: 日勤
A7: 入退院 状況 | D7: 入院形態 | K7: 東病棟 | Q7: 西病棟 | W7: 北病棟 | AC7: 南病棟 | AI7: 合計 | AO7: 総数
K8: 男性 | N8: 女性 | Q8: 男性 | T8: 女性 | W8: 男性 | Z8: 女性 | AC8: 男性 | AF8: 女性 | AI8: 男性 | AL8: 女性
D9: 任意入院 | K9: 1 | N9: 9 | Q9: 5 | T9: 10 | W9: 24 | Z9: 10 | AC9: 0 | AF9: 0 | AI9: =K9+Q9+W9+AC9 -> 30 | AL9: =N9+T9+Z9+AF9 -> 29 | AO9: =AI13 -> 184
D10: 医療保護入院 | K10: 15 | N10: 17 | Q10: 16 | T10: 13 | W10: 0 | Z10: 1 | AC10: 32 | AF10: 28 | AI10: =K10+Q10+W10+AC10 -> 63 | AL10: =N10+T10+Z10+AF10 -> 59
D11: 措置入院 | K11: 3 | N11: 0 | Q11: 0 | T11: 0 | W11: 0 | Z11: 0 | AC11: 0 | AF11: 0 | AI11: =K11+Q11+W11+AC11 -> 3 | AL11: =N11+T11+Z11+AF11 -> 0
D12: 合計 | K12: =K9+K10+K11 -> 19 | N12: =N9+N10+N11 -> 26 | Q12: =Q9+Q10+Q11 -> 21 | T12: =SUM(T9:V11) -> 23 | W12: =SUM(W9:Y11) -> 24 | Z12: =SUM(Z9:AB11) -> 11 | AC12: =SUM(AC9:AE11) -> 32 | AF12: =SUM(AF9:AH11) -> 28 | AI12: =SUM(K12+Q12+W12+AC12) -> 96 | AL12: =SUM(N12+T12+Z12+AF12) -> 88 | AO12: 人
K13: =K12+N12 -> 45 | Q13: =Q12+T12 -> 44 | W13: =W12+Z12 -> 35 | AC13: =AC12+AF12 -> 60 | AI13: =AI12+AL12 -> 184
F14: 患者様氏名 | N14: 入院形態 | T14: 担当Dr | Y14: 担当SW | AD14: 病棟 | AJ14: 備考欄
D15: 入院 | F15: 中野 正子 | L15: 様 | N15: 医療保護入院 | T15: 深澤隆Dr | Y15: 西舘 翔子 | AD15: 東C
L16: 様
L17: 様
L18: 様
L19: 様
D20: 退院 | F20: 外崎 昭雄 | L20: 様 | N20: 医療保護入院 | T20: 深澤隆Dr | Y20: 小屋敷 千瑛 | AD20: 西B
F21: 三田 久子 | L21: 様 | N21: 医療保護入院 | T21: 金泰德Dr | AD21: 南A
L22: 様
L23: 様
L24: 様
D25: 転棟 ･ 入院形態変更 | F25: 栃木 真紀子 | L25: 様 | N25: 医療保護入院 | T25: 小栁匡相Dr | Y25: 小屋敷 千瑛 | AD25: 東合→南A
L26: 様
L27: 様
L28: 様
L29: 様
A30: 患者様 関連 | D30: 患者様氏名 | K30: 担当Dr | P30: 病棟 | S30: 制限内容 | X30: 制限時間 | AC30: 開始日時 | AO30: 備考
D31: 中村 聡 | I31: 様 | K31: 金泰徳Dr | P31: 東B | S31: 通信制限 | X31: 通信制限 | AC31: 令和 | AE31: 3 | AF31: 年 | AG31: 5 | AH31: 月 | AI31: 31 | AJ31: 日 | AL31: ： | AN31: ～
D32: 宮﨑 宏之 | I32: 様 | K32: 馬渡晃弘Dr | P32: 東A | S32: 終日隔離 | X32: 終日隔離 | AC32: 令和 | AE32: 3 | AF32: 年 | AG32: 10 | AH32: 月 | AI32: 3 | AJ32: 日 | AL32: ： | AN32: ～
D33: 三浦 英男 | I33: 様 | K33: 馬渡晃弘Dr | P33: 東A | S33: 終日隔離 | X33: 終日隔離 | AC33: 令和 | AE33: 4 | AF33: 年 | AG33: 3 | AH33: 月 | AI33: 31 | AJ33: 日 | AL33: ： | AN33: ～
D34: 沼山 真紀子 | I34: 様 | K34: 金泰徳Dr | P34: 西B | S34: 通信制限 | X34: 通信制限 | AC34: 令和 | AE34: 4 | AF34: 年 | AG34: 4 | AH34: 月 | AI34: 6 | AJ34: 日 | AL34: ： | AN34: ～
D35: 和田 昌 | I35: 様 | P35: 東A | S35: 終日隔離 | X35: 終日隔離 | AC35: 令和 | AE35: 4 | AF35: 年 | AG35: 4 | AH35: 月 | AI35: 27 | AJ35: 日 | AL35: ： | AN35: ～
D36: 小山 仁 | I36: 様 | K36: 深澤隆Dr | P36: 東A | S36: 時間隔離 | X36: 時間隔離 | AC36: 令和 | AE36: 4 | AF36: 年 | AG36: 4 | AH36: 月 | AI36: 29 | AJ36: 日 | AL36: ： | AN36: ～ | AO36: 解除
I37: 様 | AC37: 令和 | AF37: 年 | AH37: 月 | AJ37: 日 | AL37: ： | AN37: ～
I38: 様 | AC38: 令和 | AF38: 年 | AH38: 月 | AJ38: 日 | AL38: ： | AN38: ～
I39: 様 | AC39: 令和 | AF39: 年 | AH39: 月 | AJ39: 日 | AL39: ： | AN39: ～
I40: 様 | AC40: 令和 | AF40: 年 | AH40: 月 | AJ40: 日 | AL40: ： | AN40: ～
I41: 様 | AC41: 令和 | AF41: 年 | AH41: 月 | AJ41: 日 | AL41: ： | AN41: ～
I42: 様 | AC42: 令和 | AF42: 年 | AH42: 月 | AJ42: 日 | AL42: ： | AN42: ～
I43: 様 | AC43: 令和 | AF43: 年 | AH43: 月 | AJ43: 日 | AL43: ： | AN43: ～
I44: 様 | AC44: 令和 | AF44: 年 | AH44: 月 | AJ44: 日 | AL44: ： | AN44: ～
I45: 様 | AC45: 令和 | AF45: 年 | AH45: 月 | AJ45: 日 | AL45: ： | AN45: ～
A46: 業務 内容 | D46: 項目 | J46: 患者様氏名 | P46: 担当 | S46: 備考 | Y46: 項目 | AA46: 患者様氏名 | AG46: 内容 | AQ46: 担当
D47: 外 来 患 者 対 応 | F47: 外来患者 対応 | O47: 様 | Y47: 書 類 作 成 完 了 | AF47: 様
O48: 様 | AF48: 様
O49: 様 | AF49: 様
O50: 様 | AF50: 様
O51: 様 | AF51: 様
O52: 様 | AF52: 様
O53: 様 | AF53: 様
D54: 項目 | J54: 患者様氏名 | P54: 担当 | S54: 備考 | AF54: 様
D55: 入 退 院 支 援 | F55: 退院支援 | O55: 様 | AF55: 様
O56: 様 | AF56: 様
O57: 様 | Y57: 項目 | AG57: 件数 | AJ57: 担当 | AM57: 備考
O58: 様 | Y58: 電話対応 | AI58: 件
O59: 様 | Y59: 保健所への届出 | AI59: 件
F60: 退院請求 対応 | O60: 様 | Y60: 項目 | AG60: 内容
O61: 様 | Y61: 通院医療 観察法
F62: 入院患者 対応 | J62: 担当 | M62: 件数 | P62: 備考
O63: 件 | Y63: 認知症疾患 医療ｾﾝﾀｰ
O64: 件
O65: 件 | Y65: 各種会議参加 外部の業務
O66: 件
A67: 安全管理 | D67: 事故 | S67: 物品 購入 | AE67: 連絡 事項
D68: 苦情
D69: 紛失
D70: 他

Sheet 3
A1: ソーシャルワーカー室 業務日誌 | AH1: C.O.O | AL1: I.O.O | AP1: Ａ.Ｏ.Ｍ
H3: =曜日!B12 -> 令和4年 | M3: =曜日!C12 -> 5月 | P3: 3日 | S3: （ | T3: =曜日!D5 -> 火 | U3: ） | W3: 作成者 | Z3: ： | AA3: 小屋敷 千瑛
A5: 労務 状況 | D5: 勤務状況 | K5: 西舘 翔子 | P5: 公休 | T5: 小屋敷 千瑛 | Y5: 公休 | AC5: 大川 祥子 | AH5: 産・育休 | AL5: 吉田 久美子 | AP5: 公休
K6: 野添 京子 | P6: 公休 | T6: 宇津木澤 育美 | Y6: 日勤 | AC6: 横平 沙羅 | AH6: 日勤
A7: 入退院 状況 | D7: 入院形態 | K7: 東病棟 | Q7: 西病棟 | W7: 北病棟 | AC7: 南病棟 | AI7: 合計 | AO7: 総数
K8: 男性 | N8: 女性 | Q8: 男性 | T8: 女性 | W8: 男性 | Z8: 女性 | AC8: 男性 | AF8: 女性 | AI8: 男性 | AL8: 女性
D9: 任意入院 | K9: 1 | N9: 9 | Q9: 5 | T9: 10 | W9: 24 | Z9: 10 | AC9: 0 | AF9: 0 | AI9: =K9+Q9+W9+AC9 -> 30 | AL9: =N9+T9+Z9+AF9 -> 29 | AO9: =AI13 -> 184
D10: 医療保護入院 | K10: 15 | N10: 16 | Q10: 16 | T10: 14 | W10: 0 | Z10: 1 | AC10: 32 | AF10: 28 | AI10: =K10+Q10+W10+AC10 -> 63 | AL10: =N10+T10+Z10+AF10 -> 59
D11: 措置入院 | K11: 3 | N11: 0 | Q11: 0 | T11: 0 | W11: 0 | Z11: 0 | AC11: 0 | AF11: 0 | AI11: =K11+Q11+W11+AC11 -> 3 | AL11: =N11+T11+Z11+AF11 -> 0
D12: 合計 | K12: =K9+K10+K11 -> 19 | N12: =N9+N10+N11 -> 25 | Q12: =Q9+Q10+Q11 -> 21 | T12: =SUM(T9:V11) -> 24 | W12: =SUM(W9:Y11) -> 24 | Z12: =SUM(Z9:AB11) -> 11 | AC12: =SUM(AC9:AE11) -> 32 | AF12: =SUM(AF9:AH11) -> 28 | AI12: =SUM(K12+Q12+W12+AC12) -> 96 | AL12: =SUM(N12+T12+Z12+AF12) -> 88 | AO12: 人
K13: =K12+N12 -> 44 | Q13: =Q12+T12 -> 45 | W13: =W12+Z12 -> 35 | AC13: =AC12+AF12 -> 60 | AI13: =AI12+AL12 -> 184
F14: 患者様氏名 | N14: 入院形態 | T14: 担当Dr | Y14: 担当SW | AD14: 病棟 | AJ14: 備考欄
D15: 入院 | L15: 様
L16: 様
L17: 様
L18: 様
L19: 様
D20: 退院 | L20: 様
L21: 様
L22: 様
L23: 様
L24: 様
D25: 転棟 ･ 入院形態変更 | F25: 澤田 真理 | L25: 様 | N25: 医療保護入院 | T25: 金泰德Dr | Y25: 西舘 翔子 | AD25: 東B→西B
L26: 様
L27: 様
L28: 様
L29: 様
A30: 患者様 関連 | D30: 患者様氏名 | K30: 担当Dr | P30: 病棟 | S30: 制限内容 | X30: 制限時間 | AC30: 開始日時 | AO30: 備考
D31: 中村 聡 | I31: 様 | K31: 金泰徳Dr | P31: 東B | S31: 通信制限 | X31: 通信制限 | AC31: 令和 | AE31: 3 | AF31: 年 | AG31: 5 | AH31: 月 | AI31: 31 | AJ31: 日 | AL31: ： | AN31: ～
D32: 宮﨑 宏之 | I32: 様 | K32: 馬渡晃弘Dr | P32: 東A | S32: 終日隔離 | X32: 終日隔離 | AC32: 令和 | AE32: 3 | AF32: 年 | AG32: 10 | AH32: 月 | AI32: 3 | AJ32: 日 | AL32: ： | AN32: ～
D33: 三浦 英男 | I33: 様 | K33: 馬渡晃弘Dr | P33: 東A | S33: 終日隔離 | X33: 終日隔離 | AC33: 令和 | AE33: 4 | AF33: 年 | AG33: 3 | AH33: 月 | AI33: 31 | AJ33: 日 | AL33: ： | AN33: ～
D34: 沼山 真紀子 | I34: 様 | K34: 金泰徳Dr | P34: 西B | S34: 通信制限 | X34: 通信制限 | AC34: 令和 | AE34: 4 | AF34: 年 | AG34: 4 | AH34: 月 | AI34: 6 | AJ34: 日 | AL34: ： | AN34: ～
D35: 和田 昌 | I35: 様 | P35: 東A | S35: 終日隔離 | X35: 終日隔離 | AC35: 令和 | AE35: 4 | AF35: 年 | AG35: 4 | AH35: 月 | AI35: 27 | AJ35: 日 | AL35: ： | AN35: ～
I36: 様 | AC36: 令和 | AF36: 年 | AH36: 月 | AJ36: 日 | AL36: ： | AN36: ～
I37: 様 | AC37: 令和 | AF37: 年 | AH37: 月 | AJ37: 日 | AL37: ： | AN37: ～
I38: 様 | AC38: 令和 | AF38: 年 | AH38: 月 | AJ38: 日 | AL38: ： | AN38: ～
I39: 様 | AC39: 令和 | AF39: 年 | AH39: 月 | AJ39: 日 | AL39: ： | AN39: ～
I40: 様 | AC40: 令和 | AF40: 年 | AH40: 月 | AJ40: 日 | AL40: ： | AN40: ～
I41: 様 | AC41: 令和 | AF41: 年 | AH41: 月 | AJ41: 日 | AL41: ： | AN41: ～
I42: 様 | AC42: 令和 | AF42: 年 | AH42: 月 | AJ42: 日 | AL42: ： | AN42: ～
I43: 様 | AC43: 令和 | AF43: 年 | AH43: 月 | AJ43: 日 | AL43: ： | AN43: ～
I44: 様 | AC44: 令和 | AF44: 年 | AH44: 月 | AJ44: 日 | AL44: ： | AN44: ～
I45: 様 | AC45: 令和 | AF45: 年 | AH45: 月 | AJ45: 日 | AL45: ： | AN45: ～
A46: 業務 内容 | D46: 項目 | J46: 患者様氏名 | P46: 担当 | S46: 備考 | Y46: 項目 | AA46: 患者様氏名 | AG46: 内容 | AQ46: 担当
D47: 外 来 患 者 対 応 | F47: 外来患者 対応 | O47: 様 | Y47: 書 類 作 成 完 了 | AF47: 様
O48: 様 | AF48: 様
O49: 様 | AF49: 様
O50: 様 | AF50: 様
O51: 様 | AF51: 様
O52: 様 | AF52: 様
O53: 様 | AF53: 様
D54: 項目 | J54: 患者様氏名 | P54: 担当 | S54: 備考 | AF54: 様
D55: 入 退 院 支 援 | F55: 退院支援 | O55: 様 | AF55: 様
O56: 様 | AF56: 様
O57: 様 | Y57: 項目 | AG57: 件数 | AJ57: 担当 | AM57: 備考
O58: 様 | Y58: 電話対応 | AI58: 件
O59: 様 | Y59: 保健所への届出 | AI59: 件
F60: 退院請求 対応 | O60: 様 | Y60: 項目 | AG60: 内容
O61: 様 | Y61: 通院医療 観察法
F62: 入院患者 対応 | J62: 担当 | M62: 件数 | P62: 備考
O63: 件 | Y63: 認知症疾患 医療ｾﾝﾀｰ
O64: 件
O65: 件 | Y65: 各種会議参加 外部の業務
O66: 件
A67: 安全管理 | D67: 事故 | S67: 物品 購入 | AE67: 連絡 事項
D68: 苦情
D69: 紛失
D70: 他

Sheet 4
A1: ソーシャルワーカー室 業務日誌 | AH1: C.O.O | AL1: I.O.O | AP1: Ａ.Ｏ.Ｍ
H3: =曜日!B12 -> 令和4年 | M3: =曜日!C12 -> 5月 | P3: 4日 | S3: （ | T3: =曜日!D6 -> 水 | U3: ） | W3: 作成者 | Z3: ：
A5: 労務 状況 | D5: 勤務状況 | K5: 西舘 翔子 | P5: 公休 | T5: 小屋敷 千瑛 | Y5: 有給 | AC5: 大川 祥子 | AH5: 産・育休 | AL5: 吉田 久美子 | AP5: 公休
K6: 野添 京子 | P6: 公休 | T6: 宇津木澤 育美 | Y6: 日勤 | AC6: 横平 沙羅 | AH6: 日勤
A7: 入退院 状況 | D7: 入院形態 | K7: 東病棟 | Q7: 西病棟 | W7: 北病棟 | AC7: 南病棟 | AI7: 合計 | AO7: 総数
K8: 男性 | N8: 女性 | Q8: 男性 | T8: 女性 | W8: 男性 | Z8: 女性 | AC8: 男性 | AF8: 女性 | AI8: 男性 | AL8: 女性
D9: 任意入院 | K9: 1 | N9: 9 | Q9: 5 | T9: 10 | W9: 24 | Z9: 10 | AC9: 0 | AF9: 0 | AI9: =K9+Q9+W9+AC9 -> 30 | AL9: =N9+T9+Z9+AF9 -> 29 | AO9: =AI13 -> 184
D10: 医療保護入院 | K10: 15 | N10: 17 | Q10: 16 | T10: 14 | W10: 0 | Z10: 1 | AC10: 32 | AF10: 27 | AI10: =K10+Q10+W10+AC10 -> 63 | AL10: =N10+T10+Z10+AF10 -> 59
D11: 措置入院 | K11: 3 | N11: 0 | Q11: 0 | T11: 0 | W11: 0 | Z11: 0 | AC11: 0 | AF11: 0 | AI11: =K11+Q11+W11+AC11 -> 3 | AL11: =N11+T11+Z11+AF11 -> 0
D12: 合計 | K12: =K9+K10+K11 -> 19 | N12: =N9+N10+N11 -> 26 | Q12: =Q9+Q10+Q11 -> 21 | T12: =SUM(T9:V11) -> 24 | W12: =SUM(W9:Y11) -> 24 | Z12: =SUM(Z9:AB11) -> 11 | AC12: =SUM(AC9:AE11) -> 32 | AF12: =SUM(AF9:AH11) -> 27 | AI12: =SUM(K12+Q12+W12+AC12) -> 96 | AL12: =SUM(N12+T12+Z12+AF12) -> 88 | AO12: 人
K13: =K12+N12 -> 45 | Q13: =Q12+T12 -> 45 | W13: =W12+Z12 -> 35 | AC13: =AC12+AF12 -> 59 | AI13: =AI12+AL12 -> 184
F14: 患者様氏名 | N14: 入院形態 | T14: 担当Dr | Y14: 担当SW | AD14: 病棟 | AJ14: 備考欄
D15: 入院 | F15: 沼田 ゆき子 | L15: 様 | N15: 医療保護入院 | T15: 金泰德Dr | Y15: 西舘 翔子 | AD15: 東A | AJ15: 診察：垂水Dr
L16: 様
L17: 様
L18: 様
L19: 様
D20: 退院 | F20: 戸田沢 輝子 | L20: 様 | N20: 医療保護入院 | T20: 深澤隆Dr | Y20: 西舘 翔子 | AD20: 南B
L21: 様
L22: 様
L23: 様
L24: 様
D25: 転棟 ･ 入院形態変更 | L25: 様
L26: 様
L27: 様
L28: 様
L29: 様
A30: 患者様 関連 | D30: 患者様氏名 | K30: 担当Dr | P30: 病棟 | S30: 制限内容 | X30: 制限時間 | AC30: 開始日時 | AO30: 備考
D31: 中村 聡 | I31: 様 | K31: 金泰徳Dr | P31: 東B | S31: 通信制限 | X31: 通信制限 | AC31: 令和 | AE31: 3 | AF31: 年 | AG31: 5 | AH31: 月 | AI31: 31 | AJ31: 日 | AL31: ： | AN31: ～
D32: 宮﨑 宏之 | I32: 様 | K32: 馬渡晃弘Dr | P32: 東A | S32: 終日隔離 | X32: 終日隔離 | AC32: 令和 | AE32: 3 | AF32: 年 | AG32: 10 | AH32: 月 | AI32: 3 | AJ32: 日 | AL32: ： | AN32: ～
D33: 三浦 英男 | I33: 様 | K33: 馬渡晃弘Dr | P33: 東A | S33: 終日隔離 | X33: 終日隔離 | AC33: 令和 | AE33: 4 | AF33: 年 | AG33: 3 | AH33: 月 | AI33: 31 | AJ33: 日 | AL33: ： | AN33: ～
D34: 沼山 真紀子 | I34: 様 | K34: 金泰徳Dr | P34: 西B | S34: 通信制限 | X34: 通信制限 | AC34: 令和 | AE34: 4 | AF34: 年 | AG34: 4 | AH34: 月 | AI34: 6 | AJ34: 日 | AL34: ： | AN34: ～
D35: 和田 昌 | I35: 様 | P35: 東A | S35: 終日隔離 | X35: 終日隔離 | AC35: 令和 | AE35: 4 | AF35: 年 | AG35: 4 | AH35: 月 | AI35: 27 | AJ35: 日 | AL35: ： | AN35: ～
I36: 様 | AC36: 令和 | AF36: 年 | AH36: 月 | AJ36: 日 | AL36: ： | AN36: ～
I37: 様 | AC37: 令和 | AF37: 年 | AH37: 月 | AJ37: 日 | AL37: ： | AN37: ～
I38: 様 | AC38: 令和 | AF38: 年 | AH38: 月 | AJ38: 日 | AL38: ： | AN38: ～
I39: 様 | AC39: 令和 | AF39: 年 | AH39: 月 | AJ39: 日 | AL39: ： | AN39: ～
I40: 様 | AC40: 令和 | AF40: 年 | AH40: 月 | AJ40: 日 | AL40: ： | AN40: ～
I41: 様 | AC41: 令和 | AF41: 年 | AH41: 月 | AJ41: 日 | AL41: ： | AN41: ～
I42: 様 | AC42: 令和 | AF42: 年 | AH42: 月 | AJ42: 日 | AL42: ： | AN42: ～
I43: 様 | AC43: 令和 | AF43: 年 | AH43: 月 | AJ43: 日 | AL43: ： | AN43: ～
I44: 様 | AC44: 令和 | AF44: 年 | AH44: 月 | AJ44: 日 | AL44: ： | AN44: ～
I45: 様 | AC45: 令和 | AF45: 年 | AH45: 月 | AJ45: 日 | AL45: ： | AN45: ～
A46: 業務 内容 | D46: 項目 | J46: 患者様氏名 | P46: 担当 | S46: 備考 | Y46: 項目 | AA46: 患者様氏名 | AG46: 内容 | AQ46: 担当
D47: 外 来 患 者 対 応 | F47: 外来患者 対応 | O47: 様 | Y47: 書 類 作 成 完 了 | AF47: 様
O48: 様 | AF48: 様
O49: 様 | AF49: 様
O50: 様 | AF50: 様
O51: 様 | AF51: 様
O52: 様 | AF52: 様
O53: 様 | AF53: 様
D54: 項目 | J54: 患者様氏名 | P54: 担当 | S54: 備考 | AF54: 様
D55: 入 退 院 支 援 | F55: 退院支援 | O55: 様 | AF55: 様
O56: 様 | AF56: 様
O57: 様 | Y57: 項目 | AG57: 件数 | AJ57: 担当 | AM57: 備考
O58: 様 | Y58: 電話対応 | AI58: 件
O59: 様 | Y59: 保健所への届出 | AI59: 件
F60: 退院請求 対応 | O60: 様 | Y60: 項目 | AG60: 内容
O61: 様 | Y61: 通院医療 観察法
F62: 入院患者 対応 | J62: 担当 | M62: 件数 | P62: 備考
O63: 件 | Y63: 認知症疾患 医療ｾﾝﾀｰ
O64: 件
O65: 件 | Y65: 各種会議参加 外部の業務
O66: 件
A67: 安全管理 | D67: 事故 | S67: 物品 購入 | AE67: 連絡 事項
D68: 苦情
D69: 紛失
D70: 他

Sheet 5
A1: ソーシャルワーカー室 業務日誌 | AH1: C.O.O | AL1: I.O.O | AP1: Ａ.Ｏ.Ｍ
H3: =曜日!B12 -> 令和4年 | M3: =曜日!C12 -> 5月 | P3: 5日 | S3: （ | T3: =曜日!D7 -> 木 | U3: ） | W3: 作成者 | Z3: ： | AA3: 小屋敷 千瑛
A5: 労務 状況 | D5: 勤務状況 | K5: 西舘 翔子 | P5: 公休 | T5: 小屋敷 千瑛 | Y5: 公休 | AC5: 大川 祥子 | AH5: 産・育休 | AL5: 吉田 久美子 | AP5: 公休
K6: 野添 京子 | P6: 公休 | T6: 宇津木澤 育美 | Y6: 日勤 | AC6: 横平 沙羅 | AH6: 日勤
A7: 入退院 状況 | D7: 入院形態 | K7: 東病棟 | Q7: 西病棟 | W7: 北病棟 | AC7: 南病棟 | AI7: 合計 | AO7: 総数
K8: 男性 | N8: 女性 | Q8: 男性 | T8: 女性 | W8: 男性 | Z8: 女性 | AC8: 男性 | AF8: 女性 | AI8: 男性 | AL8: 女性
D9: 任意入院 | K9: 1 | N9: 9 | Q9: 5 | T9: 10 | W9: 24 | Z9: 10 | AC9: 0 | AF9: 0 | AI9: =K9+Q9+W9+AC9 -> 30 | AL9: =N9+T9+Z9+AF9 -> 29 | AO9: =AI13 -> 184
D10: 医療保護入院 | K10: 15 | N10: 17 | Q10: 16 | T10: 14 | W10: 0 | Z10: 1 | AC10: 32 | AF10: 27 | AI10: =K10+Q10+W10+AC10 -> 63 | AL10: =N10+T10+Z10+AF10 -> 59
D11: 措置入院 | K11: 3 | N11: 0 | Q11: 0 | T11: 0 | W11: 0 | Z11: 0 | AC11: 0 | AF11: 0 | AI11: =K11+Q11+W11+AC11 -> 3 | AL11: =N11+T11+Z11+AF11 -> 0
D12: 合計 | K12: =K9+K10+K11 -> 19 | N12: =N9+N10+N11 -> 26 | Q12: =Q9+Q10+Q11 -> 21 | T12: =SUM(T9:V11) -> 24 | W12: =SUM(W9:Y11) -> 24 | Z12: =SUM(Z9:AB11) -> 11 | AC12: =SUM(AC9:AE11) -> 32 | AF12: =SUM(AF9:AH11) -> 27 | AI12: =SUM(K12+Q12+W12+AC12) -> 96 | AL12: =SUM(N12+T12+Z12+AF12) -> 88 | AO12: 人
K13: =K12+N12 -> 45 | Q13: =Q12+T12 -> 45 | W13: =W12+Z12 -> 35 | AC13: =AC12+AF12 -> 59 | AI13: =AI12+AL12 -> 184
F14: 患者様氏名 | N14: 入院形態 | T14: 担当Dr | Y14: 担当SW | AD14: 病棟 | AJ14: 備考欄
D15: 入院 | L15: 様
L16: 様
L17: 様
L18: 様
L19: 様
D20: 退院 | L20: 様
L21: 様
L22: 様
L23: 様
L24: 様
D25: 転棟 ･ 入院形態変更 | L25: 様
L26: 様
L27: 様
L28: 様
L29: 様
A30: 患者様 関連 | D30: 患者様氏名 | K30: 担当Dr | P30: 病棟 | S30: 制限内容 | X30: 制限時間 | AC30: 開始日時 | AO30: 備考
D31: 中村 聡 | I31: 様 | K31: 金泰徳Dr | P31: 東B | S31: 通信制限 | X31: 通信制限 | AC31: 令和 | AE31: 3 | AF31: 年 | AG31: 5 | AH31: 月 | AI31: 31 | AJ31: 日 | AL31: ： | AN31: ～
D32: 宮﨑 宏之 | I32: 様 | K32: 馬渡晃弘Dr | P32: 東A | S32: 終日隔離 | X32: 終日隔離 | AC32: 令和 | AE32: 3 | AF32: 年 | AG32: 10 | AH32: 月 | AI32: 3 | AJ32: 日 | AL32: ： | AN32: ～
D33: 三浦 英男 | I33: 様 | K33: 馬渡晃弘Dr | P33: 東A | S33: 終日隔離 | X33: 終日隔離 | AC33: 令和 | AE33: 4 | AF33: 年 | AG33: 3 | AH33: 月 | AI33: 31 | AJ33: 日 | AL33: ： | AN33: ～
D34: 沼山 真紀子 | I34: 様 | K34: 金泰徳Dr | P34: 西B | S34: 通信制限 | X34: 通信制限 | AC34: 令和 | AE34: 4 | AF34: 年 | AG34: 4 | AH34: 月 | AI34: 6 | AJ34: 日 | AL34: ： | AN34: ～
D35: 和田 昌 | I35: 様 | P35: 東A | S35: 終日隔離 | X35: 終日隔離 | AC35: 令和 | AE35: 4 | AF35: 年 | AG35: 4 | AH35: 月 | AI35: 27 | AJ35: 日 | AL35: ： | AN35: ～
D36: 袴田 将志 | I36: 様 | K36: 田名部茂Dr | P36: 東A | S36: 終日隔離 | X36: 終日隔離 | AC36: 令和 | AE36: 4 | AF36: 年 | AG36: 5 | AH36: 月 | AI36: 5 | AJ36: 日 | AL36: ： | AN36: ～ | AO36: 開始
I37: 様 | AC37: 令和 | AF37: 年 | AH37: 月 | AJ37: 日 | AL37: ： | AN37: ～
I38: 様 | AC38: 令和 | AF38: 年 | AH38: 月 | AJ38: 日 | AL38: ： | AN38: ～
I39: 様 | AC39: 令和 | AF39: 年 | AH39: 月 | AJ39: 日 | AL39: ： | AN39: ～
I40: 様 | AC40: 令和 | AF40: 年 | AH40: 月 | AJ40: 日 | AL40: ： | AN40: ～
I41: 様 | AC41: 令和 | AF41: 年 | AH41: 月 | AJ41: 日 | AL41: ： | AN41: ～
I42: 様 | AC42: 令和 | AF42: 年 | AH42: 月 | AJ42: 日 | AL42: ： | AN42: ～
I43: 様 | AC43: 令和 | AF43: 年 | AH43: 月 | AJ43: 日 | AL43: ： | AN43: ～
I44: 様 | AC44: 令和 | AF44: 年 | AH44: 月 | AJ44: 日 | AL44: ： | AN44: ～
I45: 様 | AC45: 令和 | AF45: 年 | AH45: 月 | AJ45: 日 | AL45: ： | AN45: ～
A46: 業務 内容 | D46: 項目 | J46: 患者様氏名 | P46: 担当 | S46: 備考 | Y46: 項目 | AA46: 患者様氏名 | AG46: 内容 | AQ46: 担当
D47: 外 来 患 者 対 応 | F47: 外来患者 対応 | O47: 様 | Y47: 書 類 作 成 完 了 | AF47: 様
O48: 様 | AF48: 様
O49: 様 | AF49: 様
O50: 様 | AF50: 様
O51: 様 | AF51: 様
O52: 様 | AF52: 様
O53: 様 | AF53: 様
D54: 項目 | J54: 患者様氏名 | P54: 担当 | S54: 備考 | AF54: 様
D55: 入 退 院 支 援 | F55: 退院支援 | O55: 様 | AF55: 様
O56: 様 | AF56: 様
O57: 様 | Y57: 項目 | AG57: 件数 | AJ57: 担当 | AM57: 備考
O58: 様 | Y58: 電話対応 | AI58: 件
O59: 様 | Y59: 保健所への届出 | AI59: 件
F60: 退院請求 対応 | O60: 様 | Y60: 項目 | AG60: 内容
O61: 様 | Y61: 通院医療 観察法
F62: 入院患者 対応 | J62: 担当 | M62: 件数 | P62: 備考
O63: 件 | Y63: 認知症疾患 医療ｾﾝﾀｰ
O64: 件
O65: 件 | Y65: 各種会議参加 外部の業務
O66: 件
A67: 安全管理 | D67: 事故 | S67: 物品 購入 | AE67: 連絡 事項
D68: 苦情
D69: 紛失
D70: 他

Sheet 6
A1: ソーシャルワーカー室 業務日誌 | AH1: C.O.O | AL1: I.O.O | AP1: Ａ.Ｏ.Ｍ
H3: =曜日!B12 -> 令和4年 | M3: =曜日!C12 -> 5月 | P3: 6日 | S3: （ | T3: =曜日!D8 -> 金 | U3: ） | W3: 作成者 | Z3: ： | AA3: 小屋敷 千瑛
A5: 労務 状況 | D5: 勤務状況 | K5: 西舘 翔子 | P5: 日勤 | T5: 小屋敷 千瑛 | Y5: 日勤 | AC5: 大川 祥子 | AH5: 産・育休 | AL5: 吉田 久美子 | AP5: 日勤
K6: 野添 京子 | P6: 公休 | T6: 宇津木澤 育美 | Y6: 日勤 | AC6: 横平 沙羅 | AH6: 日勤
A7: 入退院 状況 | D7: 入院形態 | K7: 東病棟 | Q7: 西病棟 | W7: 北病棟 | AC7: 南病棟 | AI7: 合計 | AO7: 総数
K8: 男性 | N8: 女性 | Q8: 男性 | T8: 女性 | W8: 男性 | Z8: 女性 | AC8: 男性 | AF8: 女性 | AI8: 男性 | AL8: 女性
D9: 任意入院 | K9: 1 | N9: 9 | Q9: 5 | T9: 9 | W9: 24 | Z9: 9 | AC9: 0 | AF9: 0 | AI9: =K9+Q9+W9+AC9 -> 30 | AL9: =N9+T9+Z9+AF9 -> 27 | AO9: =AI13 -> 182
D10: 医療保護入院 | K10: 13 | N10: 17 | Q10: 17 | T10: 14 | W10: 0 | Z10: 1 | AC10: 33 | AF10: 27 | AI10: =K10+Q10+W10+AC10 -> 63 | AL10: =N10+T10+Z10+AF10 -> 59
D11: 措置入院 | K11: 3 | N11: 0 | Q11: 0 | T11: 0 | W11: 0 | Z11: 0 | AC11: 0 | AF11: 0 | AI11: =K11+Q11+W11+AC11 -> 3 | AL11: =N11+T11+Z11+AF11 -> 0
D12: 合計 | K12: =K9+K10+K11 -> 17 | N12: =N9+N10+N11 -> 26 | Q12: =Q9+Q10+Q11 -> 22 | T12: =SUM(T9:V11) -> 23 | W12: =SUM(W9:Y11) -> 24 | Z12: =SUM(Z9:AB11) -> 10 | AC12: =SUM(AC9:AE11) -> 33 | AF12: =SUM(AF9:AH11) -> 27 | AI12: =SUM(K12+Q12+W12+AC12) -> 96 | AL12: =SUM(N12+T12+Z12+AF12) -> 86 | AO12: 人
K13: =K12+N12 -> 43 | Q13: =Q12+T12 -> 45 | W13: =W12+Z12 -> 34 | AC13: =AC12+AF12 -> 60 | AI13: =AI12+AL12 -> 182
F14: 患者様氏名 | N14: 入院形態 | T14: 担当Dr | Y14: 担当SW | AD14: 病棟 | AJ14: 備考欄
D15: 入院 | F15: 笹川 キミヱ | L15: 様 | N15: 医療保護入院 | T15: 馬渡晃弘Dr | Y15: 小屋敷 千瑛 | AD15: 東C
L16: 様
L17: 様
L18: 様
L19: 様
D20: 退院 | F20: 竹洞 総子 | L20: 様 | N20: 医療保護入院 | T20: 深澤隆Dr | Y20: 西舘 翔子 | AD20: 東B
F21: 酒田 絹代 | L21: 様 | N21: 任意入院 | T21: 田名部茂Dr | Y21: 西舘 翔子 | AD21: 西B
F22: 北村 奈美 | L22: 様 | N22: 任意入院 | T22: 田名部茂Dr | Y22: 小屋敷 千瑛 | AD22: 北
L23: 様
L24: 様
D25: 転棟 ･ 入院形態変更 | F25: 大村 精一 | L25: 様 | N25: 医療保護入院 | T25: 深澤隆Dr | Y25: 小屋敷 千瑛 | AD25: 東C→南A
F26: 中居 敬悦 | L26: 様 | N26: 医療保護入院 | Y26: 西舘 翔子 | AD26: 東B→西B
L27: 様
L28: 様
L29: 様
A30: 患者様 関連 | D30: 患者様氏名 | K30: 担当Dr | P30: 病棟 | S30: 制限内容 | X30: 制限時間 | AC30: 開始日時 | AO30: 備考
D31: 中村 聡 | I31: 様 | K31: 金泰徳Dr | P31: 東B | S31: 通信制限 | X31: 通信制限 | AC31: 令和 | AE31: 3 | AF31: 年 | AG31: 5 | AH31: 月 | AI31: 31 | AJ31: 日 | AL31: ： | AN31: ～
D32: 宮﨑 宏之 | I32: 様 | K32: 馬渡晃弘Dr | P32: 東A | S32: 終日隔離 | X32: 終日隔離 | AC32: 令和 | AE32: 3 | AF32: 年 | AG32: 10 | AH32: 月 | AI32: 3 | AJ32: 日 | AL32: ： | AN32: ～
D33: 三浦 英男 | I33: 様 | K33: 馬渡晃弘Dr | P33: 東A | S33: 終日隔離 | X33: 終日隔離 | AC33: 令和 | AE33: 4 | AF33: 年 | AG33: 3 | AH33: 月 | AI33: 31 | AJ33: 日 | AL33: ： | AN33: ～
D34: 沼山 真紀子 | I34: 様 | K34: 金泰徳Dr | P34: 西B | S34: 通信制限 | X34: 通信制限 | AC34: 令和 | AE34: 4 | AF34: 年 | AG34: 4 | AH34: 月 | AI34: 6 | AJ34: 日 | AL34: ： | AN34: ～
D35: 和田 昌 | I35: 様 | P35: 東A | S35: 終日隔離 | X35: 終日隔離 | AC35: 令和 | AE35: 4 | AF35: 年 | AG35: 4 | AH35: 月 | AI35: 27 | AJ35: 日 | AL35: ： | AN35: ～
D36: 袴田 将志 | I36: 様 | K36: 田名部茂Dr | P36: 東A | S36: 終日隔離 | X36: 終日隔離 | AC36: 令和 | AE36: 4 | AF36: 年 | AG36: 5 | AH36: 月 | AI36: 5 | AJ36: 日 | AL36: ： | AN36: ～
I37: 様 | AC37: 令和 | AF37: 年 | AH37: 月 | AJ37: 日 | AL37: ： | AN37: ～
I38: 様 | AC38: 令和 | AF38: 年 | AH38: 月 | AJ38: 日 | AL38: ： | AN38: ～
I39: 様 | AC39: 令和 | AF39: 年 | AH39: 月 | AJ39: 日 | AL39: ： | AN39: ～
I40: 様 | AC40: 令和 | AF40: 年 | AH40: 月 | AJ40: 日 | AL40: ： | AN40: ～
I41: 様 | AC41: 令和 | AF41: 年 | AH41: 月 | AJ41: 日 | AL41: ： | AN41: ～
I42: 様 | AC42: 令和 | AF42: 年 | AH42: 月 | AJ42: 日 | AL42: ： | AN42: ～
I43: 様 | AC43: 令和 | AF43: 年 | AH43: 月 | AJ43: 日 | AL43: ： | AN43: ～
I44: 様 | AC44: 令和 | AF44: 年 | AH44: 月 | AJ44: 日 | AL44: ： | AN44: ～
I45: 様 | AC45: 令和 | AF45: 年 | AH45: 月 | AJ45: 日 | AL45: ： | AN45: ～
A46: 業務 内容 | D46: 項目 | J46: 患者様氏名 | P46: 担当 | S46: 備考 | Y46: 項目 | AA46: 患者様氏名 | AG46: 内容 | AQ46: 担当
D47: 外 来 患 者 対 応 | F47: 外来患者 対応 | O47: 様 | Y47: 書 類 作 成 完 了 | AF47: 様
O48: 様 | AF48: 様
O49: 様 | AF49: 様
O50: 様 | AF50: 様
O51: 様 | AF51: 様
O52: 様 | AF52: 様
O53: 様 | AF53: 様
D54: 項目 | J54: 患者様氏名 | P54: 担当 | S54: 備考 | AF54: 様
D55: 入 退 院 支 援 | F55: 退院支援 | O55: 様 | AF55: 様
O56: 様 | AF56: 様
O57: 様 | Y57: 項目 | AG57: 件数 | AJ57: 担当 | AM57: 備考
O58: 様 | Y58: 電話対応 | AI58: 件
O59: 様 | Y59: 保健所への届出 | AI59: 件
F60: 退院請求 対応 | O60: 様 | Y60: 項目 | AG60: 内容
O61: 様 | Y61: 通院医療 観察法
F62: 入院患者 対応 | J62: 担当 | M62: 件数 | P62: 備考
O63: 件 | Y63: 認知症疾患 医療ｾﾝﾀｰ
O64: 件
O65: 件 | Y65: 各種会議参加 外部の業務
O66: 件
A67: 安全管理 | D67: 事故 | S67: 物品 購入 | AE67: 連絡 事項
D68: 苦情
D69: 紛失
D70: 他

Sheet 7
A1: ソーシャルワーカー室 業務日誌 | AH1: C.O.O | AL1: I.O.O | AP1: Ａ.Ｏ.Ｍ
H3: =曜日!B12 -> 令和4年 | M3: =曜日!C12 -> 5月 | P3: 7日 | S3: （ | T3: =曜日!D9 -> 土 | U3: ） | W3: 作成者 | Z3: ： | AA3: 西舘 翔子
A5: 労務 状況 | D5: 勤務状況 | K5: 西舘 翔子 | P5: 日勤 | T5: 小屋敷 千瑛 | Y5: 日勤 | AC5: 大川 祥子 | AH5: 産・育休 | AL5: 吉田 久美子 | AP5: 日勤
K6: 野添 京子 | P6: 日勤 | T6: 宇津木澤 育美 | Y6: 日勤 | AC6: 横平 沙羅 | AH6: 日勤
A7: 入退院 状況 | D7: 入院形態 | K7: 東病棟 | Q7: 西病棟 | W7: 北病棟 | AC7: 南病棟 | AI7: 合計 | AO7: 総数
K8: 男性 | N8: 女性 | Q8: 男性 | T8: 女性 | W8: 男性 | Z8: 女性 | AC8: 男性 | AF8: 女性 | AI8: 男性 | AL8: 女性
D9: 任意入院 | K9: 1 | N9: 9 | Q9: 5 | T9: 8 | W9: 24 | Z9: 10 | AC9: 0 | AF9: 0 | AI9: =K9+Q9+W9+AC9 -> 30 | AL9: =N9+T9+Z9+AF9 -> 27 | AO9: =AI13 -> 183
D10: 医療保護入院 | K10: 14 | N10: 17 | Q10: 17 | T10: 14 | W10: 0 | Z10: 1 | AC10: 33 | AF10: 27 | AI10: =K10+Q10+W10+AC10 -> 64 | AL10: =N10+T10+Z10+AF10 -> 59
D11: 措置入院 | K11: 3 | N11: 0 | Q11: 0 | T11: 0 | W11: 0 | Z11: 0 | AC11: 0 | AF11: 0 | AI11: =K11+Q11+W11+AC11 -> 3 | AL11: =N11+T11+Z11+AF11 -> 0
D12: 合計 | K12: =K9+K10+K11 -> 18 | N12: =N9+N10+N11 -> 26 | Q12: =Q9+Q10+Q11 -> 22 | T12: =SUM(T9:V11) -> 22 | W12: =SUM(W9:Y11) -> 24 | Z12: =SUM(Z9:AB11) -> 11 | AC12: =SUM(AC9:AE11) -> 33 | AF12: =SUM(AF9:AH11) -> 27 | AI12: =SUM(K12+Q12+W12+AC12) -> 97 | AL12: =SUM(N12+T12+Z12+AF12) -> 86 | AO12: 人
K13: =K12+N12 -> 44 | Q13: =Q12+T12 -> 44 | W13: =W12+Z12 -> 35 | AC13: =AC12+AF12 -> 60 | AI13: =AI12+AL12 -> 183
F14: 患者様氏名 | N14: 入院形態 | T14: 担当Dr | Y14: 担当SW | AD14: 病棟 | AJ14: 備考欄
D15: 入院 | F15: 青木 昭弘 | L15: 様 | N15: 医療保護入院 | T15: 田名部茂Dr | Y15: 西舘 翔子 | AD15: 東A
L16: 様
L17: 様
L18: 様
L19: 様
D20: 退院 | L20: 様
L21: 様
L22: 様
L23: 様
L24: 様
D25: 転棟 ･ 入院形態変更 | F25: 小坂 君子 | L25: 様 | N25: 任意入院 | T25: 田名部茂Dr | Y25: 吉田 久美子 | AD25: 北
L26: 様
L27: 様
L28: 様
L29: 様
A30: 患者様 関連 | D30: 患者様氏名 | K30: 担当Dr | P30: 病棟 | S30: 制限内容 | X30: 制限時間 | AC30: 開始日時 | AO30: 備考
D31: 中村 聡 | I31: 様 | K31: 金泰徳Dr | P31: 東B | S31: 通信制限 | X31: 通信制限 | AC31: 令和 | AE31: 3 | AF31: 年 | AG31: 5 | AH31: 月 | AI31: 31 | AJ31: 日 | AL31: ： | AN31: ～
D32: 宮﨑 宏之 | I32: 様 | K32: 馬渡晃弘Dr | P32: 東A | S32: 終日隔離 | X32: 終日隔離 | AC32: 令和 | AE32: 3 | AF32: 年 | AG32: 10 | AH32: 月 | AI32: 3 | AJ32: 日 | AL32: ： | AN32: ～
D33: 三浦 英男 | I33: 様 | K33: 馬渡晃弘Dr | P33: 東A | S33: 終日隔離 | X33: 終日隔離 | AC33: 令和 | AE33: 4 | AF33: 年 | AG33: 3 | AH33: 月 | AI33: 31 | AJ33: 日 | AL33: ： | AN33: ～
D34: 沼山 真紀子 | I34: 様 | K34: 金泰徳Dr | P34: 西B | S34: 通信制限 | X34: 通信制限 | AC34: 令和 | AE34: 4 | AF34: 年 | AG34: 4 | AH34: 月 | AI34: 6 | AJ34: 日 | AL34: ： | AN34: ～
D35: 和田 昌 | I35: 様 | P35: 東A | S35: 終日隔離 | X35: 終日隔離 | AC35: 令和 | AE35: 4 | AF35: 年 | AG35: 4 | AH35: 月 | AI35: 27 | AJ35: 日 | AL35: ： | AN35: ～
D36: 袴田 将志 | I36: 様 | K36: 田名部茂Dr | P36: 東A | S36: 終日隔離 | X36: 終日隔離 | AC36: 令和 | AE36: 4 | AF36: 年 | AG36: 5 | AH36: 月 | AI36: 5 | AJ36: 日 | AL36: ： | AN36: ～
I37: 様 | AC37: 令和 | AF37: 年 | AH37: 月 | AJ37: 日 | AL37: ： | AN37: ～
I38: 様 | AC38: 令和 | AF38: 年 | AH38: 月 | AJ38: 日 | AL38: ： | AN38: ～
I39: 様 | AC39: 令和 | AF39: 年 | AH39: 月 | AJ39: 日 | AL39: ： | AN39: ～
I40: 様 | AC40: 令和 | AF40: 年 | AH40: 月 | AJ40: 日 | AL40: ： | AN40: ～
I41: 様 | AC41: 令和 | AF41: 年 | AH41: 月 | AJ41: 日 | AL41: ： | AN41: ～
I42: 様 | AC42: 令和 | AF42: 年 | AH42: 月 | AJ42: 日 | AL42: ： | AN42: ～
I43: 様 | AC43: 令和 | AF43: 年 | AH43: 月 | AJ43: 日 | AL43: ： | AN43: ～
I44: 様 | AC44: 令和 | AF44: 年 | AH44: 月 | AJ44: 日 | AL44: ： | AN44: ～
I45: 様 | AC45: 令和 | AF45: 年 | AH45: 月 | AJ45: 日 | AL45: ： | AN45: ～
A46: 業務 内容 | D46: 項目 | J46: 患者様氏名 | P46: 担当 | S46: 備考 | Y46: 項目 | AA46: 患者様氏名 | AG46: 内容 | AQ46: 担当
D47: 外 来 患 者 対 応 | F47: 外来患者 対応 | O47: 様 | Y47: 書 類 作 成 完 了 | AF47: 様
O48: 様 | AF48: 様
O49: 様 | AF49: 様
O50: 様 | AF50: 様
O51: 様 | AF51: 様
O52: 様 | AF52: 様
O53: 様 | AF53: 様
D54: 項目 | J54: 患者様氏名 | P54: 担当 | S54: 備考 | AF54: 様
D55: 入 退 院 支 援 | F55: 退院支援 | O55: 様 | AF55: 様
O56: 様 | AF56: 様
O57: 様 | Y57: 項目 | AG57: 件数 | AJ57: 担当 | AM57: 備考
O58: 様 | Y58: 電話対応 | AI58: 件
O59: 様 | Y59: 保健所への届出 | AI59: 件
F60: 退院請求 対応 | O60: 様 | Y60: 項目 | AG60: 内容
O61: 様 | Y61: 通院医療 観察法
F62: 入院患者 対応 | J62: 担当 | M62: 件数 | P62: 備考
O63: 件 | Y63: 認知症疾患 医療ｾﾝﾀｰ
O64: 件
O65: 件 | Y65: 各種会議参加 外部の業務
O66: 件
A67: 安全管理 | D67: 事故 | S67: 物品 購入 | AE67: 連絡 事項
D68: 苦情
D69: 紛失
D70: 他

Sheet 8
A1: ソーシャルワーカー室 業務日誌 | AH1: C.O.O | AL1: I.O.O | AP1: Ａ.Ｏ.Ｍ
H3: =曜日!B12 -> 令和4年 | M3: =曜日!C12 -> 5月 | P3: 8日 | S3: （ | T3: =曜日!D3 -> 日 | U3: ） | W3: 作成者 | Z3: ： | AA3: 西舘 翔子
A5: 労務 状況 | D5: 勤務状況 | K5: 西舘 翔子 | P5: 午後半休 | T5: 小屋敷 千瑛 | Y5: 公休 | AC5: 大川 祥子 | AH5: 産・育休 | AL5: 吉田 久美子 | AP5: 午後半休
K6: 野添 京子 | P6: 公休 | T6: 宇津木澤 育美 | Y6: 公休 | AC6: 横平 沙羅 | AH6: 公休
A7: 入退院 状況 | D7: 入院形態 | K7: 東病棟 | Q7: 西病棟 | W7: 北病棟 | AC7: 南病棟 | AI7: 合計 | AO7: 総数
K8: 男性 | N8: 女性 | Q8: 男性 | T8: 女性 | W8: 男性 | Z8: 女性 | AC8: 男性 | AF8: 女性 | AI8: 男性 | AL8: 女性
D9: 任意入院 | K9: 2 | N9: 9 | Q9: 5 | T9: 8 | W9: 23 | Z9: 10 | AC9: 0 | AF9: 0 | AI9: =K9+Q9+W9+AC9 -> 30 | AL9: =N9+T9+Z9+AF9 -> 27 | AO9: =AI13 -> 184
D10: 医療保護入院 | K10: 15 | N10: 18 | Q10: 16 | T10: 14 | W10: 0 | Z10: 1 | AC10: 33 | AF10: 27 | AI10: =K10+Q10+W10+AC10 -> 64 | AL10: =N10+T10+Z10+AF10 -> 60
D11: 措置入院 | K11: 3 | N11: 0 | Q11: 0 | T11: 0 | W11: 0 | Z11: 0 | AC11: 0 | AF11: 0 | AI11: =K11+Q11+W11+AC11 -> 3 | AL11: =N11+T11+Z11+AF11 -> 0
D12: 合計 | K12: =K9+K10+K11 -> 20 | N12: =N9+N10+N11 -> 27 | Q12: =Q9+Q10+Q11 -> 21 | T12: =SUM(T9:V11) -> 22 | W12: =SUM(W9:Y11) -> 23 | Z12: =SUM(Z9:AB11) -> 11 | AC12: =SUM(AC9:AE11) -> 33 | AF12: =SUM(AF9:AH11) -> 27 | AI12: =SUM(K12+Q12+W12+AC12) -> 97 | AL12: =SUM(N12+T12+Z12+AF12) -> 87 | AO12: 人
K13: =K12+N12 -> 47 | Q13: =Q12+T12 -> 43 | W13: =W12+Z12 -> 34 | AC13: =AC12+AF12 -> 60 | AI13: =AI12+AL12 -> 184
F14: 患者様氏名 | N14: 入院形態 | T14: 担当Dr | Y14: 担当SW | AD14: 病棟 | AJ14: 備考欄
D15: 入院 | F15: 齊藤 光枝 | L15: 様 | N15: 医療保護入院 | T15: 田名部茂Dr | Y15: 西舘 翔子 | AD15: 東A
L16: 様
L17: 様
L18: 様
L19: 様
D20: 退院 | L20: 様
L21: 様
L22: 様
L23: 様
L24: 様
D25: 転棟 ･ 入院形態変更 | F25: 塩倉 一輝 | L25: 様 | N25: 任意入院 | T25: 田名部茂Dr | Y25: 西舘 翔子 | AD25: 北→東A
F26: 小栗 健太郎 | L26: 様 | N26: 医療保護入院 | T26: 田名部茂Dr | Y26: 西舘 翔子 | AD26: 西A→東D
L27: 様
L28: 様
L29: 様
A30: 患者様 関連 | D30: 患者様氏名 | K30: 担当Dr | P30: 病棟 | S30: 制限内容 | X30: 制限時間 | AC30: 開始日時 | AO30: 備考
D31: 中村 聡 | I31: 様 | K31: 金泰徳Dr | P31: 東B | S31: 通信制限 | X31: 通信制限 | AC31: 令和 | AE31: 3 | AF31: 年 | AG31: 5 | AH31: 月 | AI31: 31 | AJ31: 日 | AL31: ： | AN31: ～
D32: 宮﨑 宏之 | I32: 様 | K32: 馬渡晃弘Dr | P32: 東A | S32: 終日隔離 | X32: 終日隔離 | AC32: 令和 | AE32: 3 | AF32: 年 | AG32: 10 | AH32: 月 | AI32: 3 | AJ32: 日 | AL32: ： | AN32: ～
D33: 三浦 英男 | I33: 様 | K33: 馬渡晃弘Dr | P33: 東A | S33: 終日隔離 | X33: 終日隔離 | AC33: 令和 | AE33: 4 | AF33: 年 | AG33: 3 | AH33: 月 | AI33: 31 | AJ33: 日 | AL33: ： | AN33: ～
D34: 沼山 真紀子 | I34: 様 | K34: 金泰徳Dr | P34: 西B | S34: 通信制限 | X34: 通信制限 | AC34: 令和 | AE34: 4 | AF34: 年 | AG34: 4 | AH34: 月 | AI34: 6 | AJ34: 日 | AL34: ： | AN34: ～
D35: 和田 昌 | I35: 様 | P35: 東A | S35: 終日隔離 | X35: 終日隔離 | AC35: 令和 | AE35: 4 | AF35: 年 | AG35: 4 | AH35: 月 | AI35: 27 | AJ35: 日 | AL35: ： | AN35: ～ | AO35: 解除
D36: 袴田 将志 | I36: 様 | K36: 田名部茂Dr | P36: 東A | S36: 終日隔離 | X36: 終日隔離 | AC36: 令和 | AE36: 4 | AF36: 年 | AG36: 5 | AH36: 月 | AI36: 5 | AJ36: 日 | AL36: ： | AN36: ～
D37: 青木 昭弘 | I37: 様 | K37: 田名部茂Dr | P37: 東A | S37: 終日隔離 | X37: 終日隔離 | AC37: 令和 | AE37: 4 | AF37: 年 | AG37: 5 | AH37: 月 | AI37: 9 | AJ37: 日 | AL37: ： | AN37: ～ | AO37: 開始
I38: 様 | AC38: 令和 | AF38: 年 | AH38: 月 | AJ38: 日 | AL38: ： | AN38: ～
I39: 様 | AC39: 令和 | AF39: 年 | AH39: 月 | AJ39: 日 | AL39: ： | AN39: ～
I40: 様 | AC40: 令和 | AF40: 年 | AH40: 月 | AJ40: 日 | AL40: ： | AN40: ～
I41: 様 | AC41: 令和 | AF41: 年 | AH41: 月 | AJ41: 日 | AL41: ： | AN41: ～
I42: 様 | AC42: 令和 | AF42: 年 | AH42: 月 | AJ42: 日 | AL42: ： | AN42: ～
I43: 様 | AC43: 令和 | AF43: 年 | AH43: 月 | AJ43: 日 | AL43: ： | AN43: ～
I44: 様 | AC44: 令和 | AF44: 年 | AH44: 月 | AJ44: 日 | AL44: ： | AN44: ～
I45: 様 | AC45: 令和 | AF45: 年 | AH45: 月 | AJ45: 日 | AL45: ： | AN45: ～
A46: 業務 内容 | D46: 項目 | J46: 患者様氏名 | P46: 担当 | S46: 備考 | Y46: 項目 | AA46: 患者様氏名 | AG46: 内容 | AQ46: 担当
D47: 外 来 患 者 対 応 | F47: 外来患者 対応 | O47: 様 | Y47: 書 類 作 成 完 了 | AF47: 様
O48: 様 | AF48: 様
O49: 様 | AF49: 様
O50: 様 | AF50: 様
O51: 様 | AF51: 様
O52: 様 | AF52: 様
O53: 様 | AF53: 様
D54: 項目 | J54: 患者様氏名 | P54: 担当 | S54: 備考 | AF54: 様
D55: 入 退 院 支 援 | F55: 退院支援 | O55: 様 | AF55: 様
O56: 様 | AF56: 様
O57: 様 | Y57: 項目 | AG57: 件数 | AJ57: 担当 | AM57: 備考
O58: 様 | Y58: 電話対応 | AI58: 件
O59: 様 | Y59: 保健所への届出 | AI59: 件
F60: 退院請求 対応 | O60: 様 | Y60: 項目 | AG60: 内容
O61: 様 | Y61: 通院医療 観察法
F62: 入院患者 対応 | J62: 担当 | M62: 件数 | P62: 備考
O63: 件 | Y63: 認知症疾患 医療ｾﾝﾀｰ
O64: 件
O65: 件 | Y65: 各種会議参加 外部の業務
O66: 件
A67: 安全管理 | D67: 事故 | S67: 物品 購入 | AE67: 連絡 事項
D68: 苦情
D69: 紛失
D70: 他

Sheet 9
A1: ソーシャルワーカー室 業務日誌 | AH1: C.O.O | AL1: I.O.O | AP1: Ａ.Ｏ.Ｍ
H3: =曜日!B12 -> 令和4年 | M3: =曜日!C12 -> 5月 | P3: 9日 | S3: （ | T3: =曜日!D4 -> 月 | U3: ） | W3: 作成者 | Z3: ： | AA3: 西舘 翔子
A5: 労務 状況 | D5: 勤務状況 | K5: 西舘 翔子 | P5: 日勤 | T5: 小屋敷 千瑛 | Y5: 日勤 | AC5: 大川 祥子 | AH5: 日勤 | AL5: 吉田 久美子 | AP5: 日勤
K6: 野添 京子 | P6: 日勤 | T6: 宇津木澤 育美 | Y6: 日勤 | AC6: 横平 沙羅 | AH6: 日勤
A7: 入退院 状況 | D7: 入院形態 | K7: 東病棟 | Q7: 西病棟 | W7: 北病棟 | AC7: 南病棟 | AI7: 合計 | AO7: 総数
K8: 男性 | N8: 女性 | Q8: 男性 | T8: 女性 | W8: 男性 | Z8: 女性 | AC8: 男性 | AF8: 女性 | AI8: 男性 | AL8: 女性
D9: 任意入院 | K9: 2 | N9: 9 | Q9: 4 | T9: 8 | W9: 24 | Z9: 10 | AC9: 0 | AF9: 0 | AI9: =K9+Q9+W9+AC9 -> 30 | AL9: =N9+T9+Z9+AF9 -> 27 | AO9: =AI13 -> 183
D10: 医療保護入院 | K10: 14 | N10: 16 | Q10: 16 | T10: 16 | W10: 0 | Z10: 1 | AC10: 33 | AF10: 27 | AI10: =K10+Q10+W10+AC10 -> 63 | AL10: =N10+T10+Z10+AF10 -> 60
D11: 措置入院 | K11: 3 | N11: 0 | Q11: 0 | T11: 0 | W11: 0 | Z11: 0 | AC11: 0 | AF11: 0 | AI11: =K11+Q11+W11+AC11 -> 3 | AL11: =N11+T11+Z11+AF11 -> 0
D12: 合計 | K12: =K9+K10+K11 -> 19 | N12: =N9+N10+N11 -> 25 | Q12: =Q9+Q10+Q11 -> 20 | T12: =SUM(T9:V11) -> 24 | W12: =SUM(W9:Y11) -> 24 | Z12: =SUM(Z9:AB11) -> 11 | AC12: =SUM(AC9:AE11) -> 33 | AF12: =SUM(AF9:AH11) -> 27 | AI12: =SUM(K12+Q12+W12+AC12) -> 96 | AL12: =SUM(N12+T12+Z12+AF12) -> 87 | AO12: 人
K13: =K12+N12 -> 44 | Q13: =Q12+T12 -> 44 | W13: =W12+Z12 -> 35 | AC13: =AC12+AF12 -> 60 | AI13: =AI12+AL12 -> 183
F14: 患者様氏名 | N14: 入院形態 | T14: 担当Dr | Y14: 担当SW | AD14: 病棟 | AJ14: 備考欄
D15: 入院 | L15: 様
L16: 様
L17: 様
L18: 様
L19: 様
D20: 退院 | F20: 清水目 忠男 | L20: 様 | N20: 医療保護入院 | T20: 馬渡晃弘Dr | Y20: 西舘 翔子 | AD20: 東C
L21: 様
L22: 様
L23: 様
L24: 様
D25: 転棟 ･ 入院形態変更 | F25: 田中 文男 | L25: 様 | N25: 任意入院 | T25: 金泰德Dr | Y25: 小屋敷 千瑛 | AD25: 西B→北
F26: 沼田 ゆき子 | L26: 様 | N26: 医療保護入院 | T26: 小栁匡相Dr | Y26: 西舘 翔子 | AD26: 東A→西B
F27: 江刺家 惠子 | L27: 様 | N27: 医療保護入院 | T27: 小栁匡相Dr | Y27: 西舘 翔子 | AD27: 東C→西B
L28: 様
L29: 様
A30: 患者様 関連 | D30: 患者様氏名 | K30: 担当Dr | P30: 病棟 | S30: 制限内容 | X30: 制限時間 | AC30: 開始日時 | AO30: 備考
D31: 中村 聡 | I31: 様 | K31: 金泰徳Dr | P31: 東B | S31: 通信制限 | X31: 通信制限 | AC31: 令和 | AE31: 3 | AF31: 年 | AG31: 5 | AH31: 月 | AI31: 31 | AJ31: 日 | AL31: ： | AN31: ～
D32: 宮﨑 宏之 | I32: 様 | K32: 馬渡晃弘Dr | P32: 東A | S32: 終日隔離 | X32: 終日隔離 | AC32: 令和 | AE32: 3 | AF32: 年 | AG32: 10 | AH32: 月 | AI32: 3 | AJ32: 日 | AL32: ： | AN32: ～
D33: 三浦 英男 | I33: 様 | K33: 馬渡晃弘Dr | P33: 東A | S33: 終日隔離 | X33: 終日隔離 | AC33: 令和 | AE33: 4 | AF33: 年 | AG33: 3 | AH33: 月 | AI33: 31 | AJ33: 日 | AL33: ： | AN33: ～
D34: 沼山 真紀子 | I34: 様 | K34: 金泰徳Dr | P34: 西B | S34: 通信制限 | X34: 通信制限 | AC34: 令和 | AE34: 4 | AF34: 年 | AG34: 4 | AH34: 月 | AI34: 6 | AJ34: 日 | AL34: ： | AN34: ～
D35: 袴田 将志 | I35: 様 | K35: 田名部茂Dr | P35: 東A | S35: 終日隔離 | X35: 終日隔離 | AC35: 令和 | AE35: 4 | AF35: 年 | AG35: 5 | AH35: 月 | AI35: 5 | AJ35: 日 | AL35: ： | AN35: ～
D36: 青木 昭弘 | I36: 様 | K36: 田名部茂Dr | P36: 東A | S36: 終日隔離 | X36: 終日隔離 | AC36: 令和 | AE36: 4 | AF36: 年 | AG36: 5 | AH36: 月 | AI36: 9 | AJ36: 日 | AL36: ： | AN36: ～
I37: 様 | AC37: 令和 | AF37: 年 | AH37: 月 | AJ37: 日 | AL37: ： | AN37: ～
I38: 様 | AC38: 令和 | AF38: 年 | AH38: 月 | AJ38: 日 | AL38: ： | AN38: ～
I39: 様 | AC39: 令和 | AF39: 年 | AH39: 月 | AJ39: 日 | AL39: ： | AN39: ～
I40: 様 | AC40: 令和 | AF40: 年 | AH40: 月 | AJ40: 日 | AL40: ： | AN40: ～
I41: 様 | AC41: 令和 | AF41: 年 | AH41: 月 | AJ41: 日 | AL41: ： | AN41: ～
I42: 様 | AC42: 令和 | AF42: 年 | AH42: 月 | AJ42: 日 | AL42: ： | AN42: ～
I43: 様 | AC43: 令和 | AF43: 年 | AH43: 月 | AJ43: 日 | AL43: ： | AN43: ～
I44: 様 | AC44: 令和 | AF44: 年 | AH44: 月 | AJ44: 日 | AL44: ： | AN44: ～
I45: 様 | AC45: 令和 | AF45: 年 | AH45: 月 | AJ45: 日 | AL45: ： | AN45: ～
A46: 業務 内容 | D46: 項目 | J46: 患者様氏名 | P46: 担当 | S46: 備考 | Y46: 項目 | AA46: 患者様氏名 | AG46: 内容 | AQ46: 担当
D47: 外 来 患 者 対 応 | F47: 外来患者 対応 | O47: 様 | Y47: 書 類 作 成 完 了 | AF47: 様
O48: 様 | AF48: 様
O49: 様 | AF49: 様
O50: 様 | AF50: 様
O51: 様 | AF51: 様
O52: 様 | AF52: 様
O53: 様 | AF53: 様
D54: 項目 | J54: 患者様氏名 | P54: 担当 | S54: 備考 | AF54: 様
D55: 入 退 院 支 援 | F55: 退院支援 | O55: 様 | AF55: 様
O56: 様 | AF56: 様
O57: 様 | Y57: 項目 | AG57: 件数 | AJ57: 担当 | AM57: 備考
O58: 様 | Y58: 電話対応 | AI58: 件
O59: 様 | Y59: 保健所への届出 | AI59: 件
F60: 退院請求 対応 | O60: 様 | Y60: 項目 | AG60: 内容
O61: 様 | Y61: 通院医療 観察法
F62: 入院患者 対応 | J62: 担当 | M62: 件数 | P62: 備考
O63: 件 | Y63: 認知症疾患 医療ｾﾝﾀｰ
O64: 件
O65: 件 | Y65: 各種会議参加 外部の業務
O66: 件
A67: 安全管理 | D67: 事故 | S67: 物品 購入 | AE67: 連絡 事項
D68: 苦情
D69: 紛失
D70: 他

Sheet 10
A1: ソーシャルワーカー室 業務日誌 | AH1: C.O.O | AL1: I.O.O | AP1: Ａ.Ｏ.Ｍ
H3: =曜日!B12 -> 令和4年 | M3: =曜日!C12 -> 5月 | P3: 10日 | S3: （ | T3: =曜日!D5 -> 火 | U3: ） | W3: 作成者 | Z3: ： | AA3: 西舘 翔子
A5: 労務 状況 | D5: 勤務状況 | K5: 西舘 翔子 | P5: 日勤 | T5: 小屋敷 千瑛 | Y5: 日勤 | AC5: 大川 祥子 | AH5: 産・育休 | AL5: 吉田 久美子 | AP5: 日勤
K6: 野添 京子 | P6: 日勤 | T6: 宇津木澤 育美 | Y6: 日勤 | AC6: 横平 沙羅 | AH6: 日勤
A7: 入退院 状況 | D7: 入院形態 | K7: 東病棟 | Q7: 西病棟 | W7: 北病棟 | AC7: 南病棟 | AI7: 合計 | AO7: 総数
K8: 男性 | N8: 女性 | Q8: 男性 | T8: 女性 | W8: 男性 | Z8: 女性 | AC8: 男性 | AF8: 女性 | AI8: 男性 | AL8: 女性
D9: 任意入院 | K9: 2 | N9: 9 | Q9: 4 | T9: 8 | W9: 24 | Z9: 10 | AC9: 0 | AF9: 0 | AI9: =K9+Q9+W9+AC9 -> 30 | AL9: =N9+T9+Z9+AF9 -> 27 | AO9: =AI13 -> 185
D10: 医療保護入院 | K10: 16 | N10: 16 | Q10: 16 | T10: 16 | W10: 0 | Z10: 1 | AC10: 33 | AF10: 27 | AI10: =K10+Q10+W10+AC10 -> 65 | AL10: =N10+T10+Z10+AF10 -> 60
D11: 措置入院 | K11: 3 | N11: 0 | Q11: 0 | T11: 0 | W11: 0 | Z11: 0 | AC11: 0 | AF11: 0 | AI11: =K11+Q11+W11+AC11 -> 3 | AL11: =N11+T11+Z11+AF11 -> 0
D12: 合計 | K12: =K9+K10+K11 -> 21 | N12: =N9+N10+N11 -> 25 | Q12: =Q9+Q10+Q11 -> 20 | T12: =SUM(T9:V11) -> 24 | W12: =SUM(W9:Y11) -> 24 | Z12: =SUM(Z9:AB11) -> 11 | AC12: =SUM(AC9:AE11) -> 33 | AF12: =SUM(AF9:AH11) -> 27 | AI12: =SUM(K12+Q12+W12+AC12) -> 98 | AL12: =SUM(N12+T12+Z12+AF12) -> 87 | AO12: 人
K13: =K12+N12 -> 46 | Q13: =Q12+T12 -> 44 | W13: =W12+Z12 -> 35 | AC13: =AC12+AF12 -> 60 | AI13: =AI12+AL12 -> 185
F14: 患者様氏名 | N14: 入院形態 | T14: 担当Dr | Y14: 担当SW | AD14: 病棟 | AJ14: 備考欄
D15: 入院 | F15: 佐々木 利作 | L15: 様 | N15: 医療保護入院 | T15: 深澤隆Dr | Y15: 小屋敷 千瑛 | AD15: 東C
F16: 下妻 康貴 | L16: 様 | N16: 医療保護入院 | T16: 深澤隆Dr | Y16: 西舘 翔子 | AD16: 東A
L17: 様
L18: 様
L19: 様
D20: 退院 | L20: 様
L21: 様
L22: 様
L23: 様
L24: 様
D25: 転棟 ･ 入院形態変更 | L25: 様
L26: 様
L27: 様
L28: 様
L29: 様
A30: 患者様 関連 | D30: 患者様氏名 | K30: 担当Dr | P30: 病棟 | S30: 制限内容 | X30: 制限時間 | AC30: 開始日時 | AO30: 備考
D31: 中村 聡 | I31: 様 | K31: 金泰徳Dr | P31: 東B | S31: 通信制限 | X31: 通信制限 | AC31: 令和 | AE31: 3 | AF31: 年 | AG31: 5 | AH31: 月 | AI31: 31 | AJ31: 日 | AL31: ： | AN31: ～
D32: 宮﨑 宏之 | I32: 様 | K32: 馬渡晃弘Dr | P32: 東A | S32: 終日隔離 | X32: 終日隔離 | AC32: 令和 | AE32: 3 | AF32: 年 | AG32: 10 | AH32: 月 | AI32: 3 | AJ32: 日 | AL32: ： | AN32: ～
D33: 三浦 英男 | I33: 様 | K33: 馬渡晃弘Dr | P33: 東A | S33: 終日隔離 | X33: 終日隔離 | AC33: 令和 | AE33: 4 | AF33: 年 | AG33: 3 | AH33: 月 | AI33: 31 | AJ33: 日 | AL33: ： | AN33: ～
D34: 沼山 真紀子 | I34: 様 | K34: 金泰徳Dr | P34: 西B | S34: 通信制限 | X34: 通信制限 | AC34: 令和 | AE34: 4 | AF34: 年 | AG34: 4 | AH34: 月 | AI34: 6 | AJ34: 日 | AL34: ： | AN34: ～
D35: 袴田 将志 | I35: 様 | K35: 田名部茂Dr | P35: 東A | S35: 終日隔離 | X35: 終日隔離 | AC35: 令和 | AE35: 4 | AF35: 年 | AG35: 5 | AH35: 月 | AI35: 5 | AJ35: 日 | AL35: ： | AN35: ～ | AO35: 終了
D36: 青木 昭弘 | I36: 様 | K36: 田名部茂Dr | P36: 東A | S36: 終日隔離 | X36: 終日隔離 | AC36: 令和 | AE36: 4 | AF36: 年 | AG36: 5 | AH36: 月 | AI36: 9 | AJ36: 日 | AL36: ： | AN36: ～ | AO36: 終了
D37: 青木 昭弘 | I37: 様 | K37: 田名部茂Dr | P37: 東A | S37: 身体拘束 | X37: 身体拘束 | AC37: 令和 | AE37: 4 | AF37: 年 | AG37: 5 | AH37: 月 | AI37: 10 | AJ37: 日 | AL37: ： | AN37: ～
I38: 様 | AC38: 令和 | AF38: 年 | AH38: 月 | AJ38: 日 | AL38: ： | AN38: ～
I39: 様 | AC39: 令和 | AF39: 年 | AH39: 月 | AJ39: 日 | AL39: ： | AN39: ～
I40: 様 | AC40: 令和 | AF40: 年 | AH40: 月 | AJ40: 日 | AL40: ： | AN40: ～
I41: 様 | AC41: 令和 | AF41: 年 | AH41: 月 | AJ41: 日 | AL41: ： | AN41: ～
I42: 様 | AC42: 令和 | AF42: 年 | AH42: 月 | AJ42: 日 | AL42: ： | AN42: ～
I43: 様 | AC43: 令和 | AF43: 年 | AH43: 月 | AJ43: 日 | AL43: ： | AN43: ～
I44: 様 | AC44: 令和 | AF44: 年 | AH44: 月 | AJ44: 日 | AL44: ： | AN44: ～
I45: 様 | AC45: 令和 | AF45: 年 | AH45: 月 | AJ45: 日 | AL45: ： | AN45: ～
A46: 業務 内容 | D46: 項目 | J46: 患者様氏名 | P46: 担当 | S46: 備考 | Y46: 項目 | AA46: 患者様氏名 | AG46: 内容 | AQ46: 担当
D47: 外 来 患 者 対 応 | F47: 外来患者 対応 | O47: 様 | Y47: 書 類 作 成 完 了 | AF47: 様
O48: 様 | AF48: 様
O49: 様 | AF49: 様
O50: 様 | AF50: 様
O51: 様 | AF51: 様
O52: 様 | AF52: 様
O53: 様 | AF53: 様
D54: 項目 | J54: 患者様氏名 | P54: 担当 | S54: 備考 | AF54: 様
D55: 入 退 院 支 援 | F55: 退院支援 | O55: 様 | AF55: 様
O56: 様 | AF56: 様
O57: 様 | Y57: 項目 | AG57: 件数 | AJ57: 担当 | AM57: 備考
O58: 様 | Y58: 電話対応 | AI58: 件
O59: 様 | Y59: 保健所への届出 | AI59: 件
F60: 退院請求 対応 | O60: 様 | Y60: 項目 | AG60: 内容
O61: 様 | Y61: 通院医療 観察法
F62: 入院患者 対応 | J62: 担当 | M62: 件数 | P62: 備考
O63: 件 | Y63: 認知症疾患 医療ｾﾝﾀｰ
O64: 件
O65: 件 | Y65: 各種会議参加 外部の業務
O66: 件
A67: 安全管理 | D67: 事故 | S67: 物品 購入 | AE67: 連絡 事項
D68: 苦情
D69: 紛失
D70: 他

Sheet 11
A1: ソーシャルワーカー室 業務日誌 | AH1: C.O.O | AL1: I.O.O | AP1: Ａ.Ｏ.Ｍ
H3: =曜日!B12 -> 令和4年 | M3: =曜日!C12 -> 5月 | P3: 11日 | S3: （ | T3: =曜日!D6 -> 水 | U3: ） | W3: 作成者 | Z3: ： | AA3: 西舘 翔子
A5: 労務 状況 | D5: 勤務状況 | K5: 西舘 翔子 | P5: 日勤 | T5: 小屋敷 千瑛 | Y5: 日勤 | AC5: 大川 祥子 | AH5: 産・育休 | AL5: 吉田 久美子 | AP5: 日勤
K6: 野添 京子 | P6: 公休 | T6: 宇津木澤 育美 | Y6: 日勤 | AC6: 横平 沙羅 | AH6: 日勤
A7: 入退院 状況 | D7: 入院形態 | K7: 東病棟 | Q7: 西病棟 | W7: 北病棟 | AC7: 南病棟 | AI7: 合計 | AO7: 総数
K8: 男性 | N8: 女性 | Q8: 男性 | T8: 女性 | W8: 男性 | Z8: 女性 | AC8: 男性 | AF8: 女性 | AI8: 男性 | AL8: 女性
D9: 任意入院 | K9: 2 | N9: 9 | Q9: 4 | T9: 8 | W9: 24 | Z9: 10 | AC9: 0 | AF9: 0 | AI9: =K9+Q9+W9+AC9 -> 30 | AL9: =N9+T9+Z9+AF9 -> 27 | AO9: =AI13 -> 185
D10: 医療保護入院 | K10: 16 | N10: 15 | Q10: 16 | T10: 17 | W10: 0 | Z10: 1 | AC10: 33 | AF10: 27 | AI10: =K10+Q10+W10+AC10 -> 65 | AL10: =N10+T10+Z10+AF10 -> 60
D11: 措置入院 | K11: 3 | N11: 0 | Q11: 0 | T11: 0 | W11: 0 | Z11: 0 | AC11: 0 | AF11: 0 | AI11: =K11+Q11+W11+AC11 -> 3 | AL11: =N11+T11+Z11+AF11 -> 0
D12: 合計 | K12: =K9+K10+K11 -> 21 | N12: =N9+N10+N11 -> 24 | Q12: =Q9+Q10+Q11 -> 20 | T12: =SUM(T9:V11) -> 25 | W12: =SUM(W9:Y11) -> 24 | Z12: =SUM(Z9:AB11) -> 11 | AC12: =SUM(AC9:AE11) -> 33 | AF12: =SUM(AF9:AH11) -> 27 | AI12: =SUM(K12+Q12+W12+AC12) -> 98 | AL12: =SUM(N12+T12+Z12+AF12) -> 87 | AO12: 人
K13: =K12+N12 -> 45 | Q13: =Q12+T12 -> 45 | W13: =W12+Z12 -> 35 | AC13: =AC12+AF12 -> 60 | AI13: =AI12+AL12 -> 185
F14: 患者様氏名 | N14: 入院形態 | T14: 担当Dr | Y14: 担当SW | AD14: 病棟 | AJ14: 備考欄
D15: 入院 | L15: 様
L16: 様
L17: 様
L18: 様
L19: 様
D20: 退院 | L20: 様
L21: 様
L22: 様
L23: 様
L24: 様
D25: 転棟 ･ 入院形態変更 | F25: 田村 真紀子 | L25: 様 | N25: 医療保護入院 | T25: 菅野庸Dr | Y25: 西舘 翔子 | AD25: 東B→西B
L26: 様
L27: 様
L28: 様
L29: 様
A30: 患者様 関連 | D30: 患者様氏名 | K30: 担当Dr | P30: 病棟 | S30: 制限内容 | X30: 制限時間 | AC30: 開始日時 | AO30: 備考
D31: 中村 聡 | I31: 様 | K31: 金泰徳Dr | P31: 東B | S31: 通信制限 | X31: 通信制限 | AC31: 令和 | AE31: 3 | AF31: 年 | AG31: 5 | AH31: 月 | AI31: 31 | AJ31: 日 | AL31: ： | AN31: ～
D32: 宮﨑 宏之 | I32: 様 | K32: 馬渡晃弘Dr | P32: 東A | S32: 終日隔離 | X32: 終日隔離 | AC32: 令和 | AE32: 3 | AF32: 年 | AG32: 10 | AH32: 月 | AI32: 3 | AJ32: 日 | AL32: ： | AN32: ～
D33: 三浦 英男 | I33: 様 | K33: 馬渡晃弘Dr | P33: 東A | S33: 終日隔離 | X33: 終日隔離 | AC33: 令和 | AE33: 4 | AF33: 年 | AG33: 3 | AH33: 月 | AI33: 31 | AJ33: 日 | AL33: ： | AN33: ～ | AO33: 終了
D34: 沼山 真紀子 | I34: 様 | K34: 金泰徳Dr | P34: 西B | S34: 通信制限 | X34: 通信制限 | AC34: 令和 | AE34: 4 | AF34: 年 | AG34: 4 | AH34: 月 | AI34: 6 | AJ34: 日 | AL34: ： | AN34: ～
D35: 青木 昭弘 | I35: 様 | K35: 田名部茂Dr | P35: 東A | S35: 身体拘束 | X35: 身体拘束 | AC35: 令和 | AE35: 4 | AF35: 年 | AG35: 5 | AH35: 月 | AI35: 10 | AJ35: 日 | AL35: ： | AN35: ～
D36: 三浦 英男 | I36: 様 | K36: 馬渡晃弘Dr | P36: 東A | S36: 時間隔離 | X36: 時間隔離 | AC36: 令和 | AE36: 4 | AF36: 年 | AG36: 5 | AH36: 月 | AI36: 11 | AJ36: 日 | AL36: ： | AN36: ～ | AO36: 開始
I37: 様 | AC37: 令和 | AF37: 年 | AH37: 月 | AJ37: 日 | AL37: ： | AN37: ～
I38: 様 | AC38: 令和 | AF38: 年 | AH38: 月 | AJ38: 日 | AL38: ： | AN38: ～
I39: 様 | AC39: 令和 | AF39: 年 | AH39: 月 | AJ39: 日 | AL39: ： | AN39: ～
I40: 様 | AC40: 令和 | AF40: 年 | AH40: 月 | AJ40: 日 | AL40: ： | AN40: ～
I41: 様 | AC41: 令和 | AF41: 年 | AH41: 月 | AJ41: 日 | AL41: ： | AN41: ～
I42: 様 | AC42: 令和 | AF42: 年 | AH42: 月 | AJ42: 日 | AL42: ： | AN42: ～
I43: 様 | AC43: 令和 | AF43: 年 | AH43: 月 | AJ43: 日 | AL43: ： | AN43: ～
I44: 様 | AC44: 令和 | AF44: 年 | AH44: 月 | AJ44: 日 | AL44: ： | AN44: ～
I45: 様 | AC45: 令和 | AF45: 年 | AH45: 月 | AJ45: 日 | AL45: ： | AN45: ～
A46: 業務 内容 | D46: 項目 | J46: 患者様氏名 | P46: 担当 | S46: 備考 | Y46: 項目 | AA46: 患者様氏名 | AG46: 内容 | AQ46: 担当
D47: 外 来 患 者 対 応 | F47: 外来患者 対応 | O47: 様 | Y47: 書 類 作 成 完 了 | AF47: 様
O48: 様 | AF48: 様
O49: 様 | AF49: 様
O50: 様 | AF50: 様
O51: 様 | AF51: 様
O52: 様 | AF52: 様
O53: 様 | AF53: 様
D54: 項目 | J54: 患者様氏名 | P54: 担当 | S54: 備考 | AF54: 様
D55: 入 退 院 支 援 | F55: 退院支援 | O55: 様 | AF55: 様
O56: 様 | AF56: 様
O57: 様 | Y57: 項目 | AG57: 件数 | AJ57: 担当 | AM57: 備考
O58: 様 | Y58: 電話対応 | AI58: 件
O59: 様 | Y59: 保健所への届出 | AI59: 件
F60: 退院請求 対応 | O60: 様 | Y60: 項目 | AG60: 内容
O61: 様 | Y61: 通院医療 観察法
F62: 入院患者 対応 | J62: 担当 | M62: 件数 | P62: 備考
O63: 件 | Y63: 認知症疾患 医療ｾﾝﾀｰ
O64: 件
O65: 件 | Y65: 各種会議参加 外部の業務
O66: 件
A67: 安全管理 | D67: 事故 | S67: 物品 購入 | AE67: 連絡 事項
D68: 苦情
D69: 紛失
D70: 他

Sheet 12
A1: ソーシャルワーカー室 業務日誌 | AH1: C.O.O | AL1: I.O.O | AP1: Ａ.Ｏ.Ｍ
H3: =曜日!B12 -> 令和4年 | M3: =曜日!C12 -> 5月 | P3: 12日 | S3: （ | T3: =曜日!D7 -> 木 | U3: ） | W3: 作成者 | Z3: ： | AA3: 西舘 翔子
A5: 労務 状況 | D5: 勤務状況 | K5: 西舘 翔子 | P5: 日勤 | T5: 小屋敷 千瑛 | Y5: 日勤 | AC5: 大川 祥子 | AH5: 産・育休 | AL5: 吉田 久美子 | AP5: 日勤
K6: 野添 京子 | P6: 日勤 | T6: 宇津木澤 育美 | Y6: 日勤 | AC6: 横平 沙羅 | AH6: 日勤
A7: 入退院 状況 | D7: 入院形態 | K7: 東病棟 | Q7: 西病棟 | W7: 北病棟 | AC7: 南病棟 | AI7: 合計 | AO7: 総数
K8: 男性 | N8: 女性 | Q8: 男性 | T8: 女性 | W8: 男性 | Z8: 女性 | AC8: 男性 | AF8: 女性 | AI8: 男性 | AL8: 女性
D9: 任意入院 | K9: 2 | N9: 9 | Q9: 4 | T9: 8 | W9: 24 | Z9: 10 | AC9: 0 | AF9: 0 | AI9: =K9+Q9+W9+AC9 -> 30 | AL9: =N9+T9+Z9+AF9 -> 27 | AO9: =AI13 -> 186
D10: 医療保護入院 | K10: 17 | N10: 15 | Q10: 16 | T10: 17 | W10: 0 | Z10: 1 | AC10: 33 | AF10: 27 | AI10: =K10+Q10+W10+AC10 -> 66 | AL10: =N10+T10+Z10+AF10 -> 60
D11: 措置入院 | K11: 3 | N11: 0 | Q11: 0 | T11: 0 | W11: 0 | Z11: 0 | AC11: 0 | AF11: 0 | AI11: =K11+Q11+W11+AC11 -> 3 | AL11: =N11+T11+Z11+AF11 -> 0
D12: 合計 | K12: =K9+K10+K11 -> 22 | N12: =N9+N10+N11 -> 24 | Q12: =Q9+Q10+Q11 -> 20 | T12: =SUM(T9:V11) -> 25 | W12: =SUM(W9:Y11) -> 24 | Z12: =SUM(Z9:AB11) -> 11 | AC12: =SUM(AC9:AE11) -> 33 | AF12: =SUM(AF9:AH11) -> 27 | AI12: =SUM(K12+Q12+W12+AC12) -> 99 | AL12: =SUM(N12+T12+Z12+AF12) -> 87 | AO12: 人
K13: =K12+N12 -> 46 | Q13: =Q12+T12 -> 45 | W13: =W12+Z12 -> 35 | AC13: =AC12+AF12 -> 60 | AI13: =AI12+AL12 -> 186
F14: 患者様氏名 | N14: 入院形態 | T14: 担当Dr | Y14: 担当SW | AD14: 病棟 | AJ14: 備考欄
D15: 入院 | F15: 前田 順治 | L15: 様 | N15: 医療保護入院 | T15: 小栁匡相Dr | Y15: 小屋敷 千瑛 | AD15: 東C
L16: 様
L17: 様
L18: 様
L19: 様
D20: 退院 | L20: 様
L21: 様
L22: 様
L23: 様
L24: 様
D25: 転棟 ･ 入院形態変更 | L25: 様
L26: 様
L27: 様
L28: 様
L29: 様
A30: 患者様 関連 | D30: 患者様氏名 | K30: 担当Dr | P30: 病棟 | S30: 制限内容 | X30: 制限時間 | AC30: 開始日時 | AO30: 備考
D31: 中村 聡 | I31: 様 | K31: 金泰徳Dr | P31: 東B | S31: 通信制限 | X31: 通信制限 | AC31: 令和 | AE31: 3 | AF31: 年 | AG31: 5 | AH31: 月 | AI31: 31 | AJ31: 日 | AL31: ： | AN31: ～
D32: 宮﨑 宏之 | I32: 様 | K32: 馬渡晃弘Dr | P32: 東A | S32: 終日隔離 | X32: 終日隔離 | AC32: 令和 | AE32: 3 | AF32: 年 | AG32: 10 | AH32: 月 | AI32: 3 | AJ32: 日 | AL32: ： | AN32: ～
D33: 沼山 真紀子 | I33: 様 | K33: 金泰徳Dr | P33: 西B | S33: 通信制限 | X33: 通信制限 | AC33: 令和 | AE33: 4 | AF33: 年 | AG33: 4 | AH33: 月 | AI33: 6 | AJ33: 日 | AL33: ： | AN33: ～
D34: 青木 昭弘 | I34: 様 | K34: 田名部茂Dr | P34: 東A | S34: 身体拘束 | X34: 身体拘束 | AC34: 令和 | AE34: 4 | AF34: 年 | AG34: 5 | AH34: 月 | AI34: 10 | AJ34: 日 | AL34: ： | AN34: ～
D35: 三浦 英男 | I35: 様 | K35: 馬渡晃弘Dr | P35: 東A | S35: 時間隔離 | X35: 時間隔離 | AC35: 令和 | AE35: 4 | AF35: 年 | AG35: 5 | AH35: 月 | AI35: 11 | AJ35: 日 | AL35: ： | AN35: ～
I36: 様 | AC36: 令和 | AF36: 年 | AH36: 月 | AJ36: 日 | AL36: ： | AN36: ～
I37: 様 | AC37: 令和 | AF37: 年 | AH37: 月 | AJ37: 日 | AL37: ： | AN37: ～
I38: 様 | AC38: 令和 | AF38: 年 | AH38: 月 | AJ38: 日 | AL38: ： | AN38: ～
I39: 様 | AC39: 令和 | AF39: 年 | AH39: 月 | AJ39: 日 | AL39: ： | AN39: ～
I40: 様 | AC40: 令和 | AF40: 年 | AH40: 月 | AJ40: 日 | AL40: ： | AN40: ～
I41: 様 | AC41: 令和 | AF41: 年 | AH41: 月 | AJ41: 日 | AL41: ： | AN41: ～
I42: 様 | AC42: 令和 | AF42: 年 | AH42: 月 | AJ42: 日 | AL42: ： | AN42: ～
I43: 様 | AC43: 令和 | AF43: 年 | AH43: 月 | AJ43: 日 | AL43: ： | AN43: ～
I44: 様 | AC44: 令和 | AF44: 年 | AH44: 月 | AJ44: 日 | AL44: ： | AN44: ～
I45: 様 | AC45: 令和 | AF45: 年 | AH45: 月 | AJ45: 日 | AL45: ： | AN45: ～
A46: 業務 内容 | D46: 項目 | J46: 患者様氏名 | P46: 担当 | S46: 備考 | Y46: 項目 | AA46: 患者様氏名 | AG46: 内容 | AQ46: 担当
D47: 外 来 患 者 対 応 | F47: 外来患者 対応 | O47: 様 | Y47: 書 類 作 成 完 了 | AF47: 様
O48: 様 | AF48: 様
O49: 様 | AF49: 様
O50: 様 | AF50: 様
O51: 様 | AF51: 様
O52: 様 | AF52: 様
O53: 様 | AF53: 様
D54: 項目 | J54: 患者様氏名 | P54: 担当 | S54: 備考 | AF54: 様
D55: 入 退 院 支 援 | F55: 退院支援 | O55: 様 | AF55: 様
O56: 様 | AF56: 様
O57: 様 | Y57: 項目 | AG57: 件数 | AJ57: 担当 | AM57: 備考
O58: 様 | Y58: 電話対応 | AI58: 件
O59: 様 | Y59: 保健所への届出 | AI59: 件
F60: 退院請求 対応 | O60: 様 | Y60: 項目 | AG60: 内容
O61: 様 | Y61: 通院医療 観察法
F62: 入院患者 対応 | J62: 担当 | M62: 件数 | P62: 備考
O63: 件 | Y63: 認知症疾患 医療ｾﾝﾀｰ
O64: 件
O65: 件 | Y65: 各種会議参加 外部の業務
O66: 件
A67: 安全管理 | D67: 事故 | S67: 物品 購入 | AE67: 連絡 事項
D68: 苦情
D69: 紛失
D70: 他

Sheet 13
A1: ソーシャルワーカー室 業務日誌 | AH1: C.O.O | AL1: I.O.O | AP1: Ａ.Ｏ.Ｍ
H3: =曜日!B12 -> 令和4年 | M3: =曜日!C12 -> 5月 | P3: 13日 | S3: （ | T3: =曜日!D8 -> 金 | U3: ） | W3: 作成者 | Z3: ：
A5: 労務 状況 | D5: 勤務状況 | K5: 西舘 翔子 | T5: 小屋敷 千瑛 | AC5: 大川 祥子 | AL5: 吉田 久美子
K6: 野添 京子
A7: 入退院 状況 | D7: 入院形態 | K7: 東病棟 | Q7: 西病棟 | W7: 北病棟 | AC7: 南病棟 | AI7: 合計 | AO7: 総数
K8: 男性 | N8: 女性 | Q8: 男性 | T8: 女性 | W8: 男性 | Z8: 女性 | AC8: 男性 | AF8: 女性 | AI8: 男性 | AL8: 女性
D9: 任意入院 | AI9: =K9+Q9+W9+AC9 -> 0 | AL9: =N9+T9+Z9+AF9 -> 0 | AO9: =AI13 -> 0
D10: 医療保護入院 | AI10: =K10+Q10+W10+AC10 -> 0 | AL10: =N10+T10+Z10+AF10 -> 0
D11: 措置入院 | AI11: =K11+Q11+W11+AC11 -> 0 | AL11: =N11+T11+Z11+AF11 -> 0
D12: 合計 | K12: =K9+K10+K11 -> 0 | N12: =N9+N10+N11 -> 0 | Q12: =Q9+Q10+Q11 -> 0 | T12: =SUM(T9:V11) -> 0 | W12: =SUM(W9:Y11) -> 0 | Z12: =SUM(Z9:AB11) -> 0 | AC12: =SUM(AC9:AE11) -> 0 | AF12: =SUM(AF9:AH11) -> 0 | AI12: =SUM(K12+Q12+W12+AC12) -> 0 | AL12: =SUM(N12+T12+Z12+AF12) -> 0 | AO12: 人
K13: =K12+N12 -> 0 | Q13: =Q12+T12 -> 0 | W13: =W12+Z12 -> 0 | AC13: =AC12+AF12 -> 0 | AI13: =AI12+AL12 -> 0
F14: 患者様氏名 | N14: 入院形態 | T14: 担当Dr | Y14: 担当SW | AD14: 病棟 | AJ14: 備考欄
D15: 入院 | L15: 様
L16: 様
L17: 様
L18: 様
L19: 様
D20: 退院 | L20: 様
L21: 様
L22: 様
L23: 様
L24: 様
D25: 転棟 ･ 入院形態変更 | L25: 様
L26: 様
L27: 様
L28: 様
L29: 様
A30: 患者様 関連 | D30: 患者様氏名 | K30: 担当Dr | P30: 病棟 | S30: 制限内容 | X30: 制限時間 | AC30: 開始日時 | AO30: 備考
I31: 様 | AC31: 令和 | AF31: 年 | AH31: 月 | AJ31: 日 | AL31: ： | AN31: ～
I32: 様 | AC32: 令和 | AF32: 年 | AH32: 月 | AJ32: 日 | AL32: ： | AN32: ～
I33: 様 | AC33: 令和 | AF33: 年 | AH33: 月 | AJ33: 日 | AL33: ： | AN33: ～
I34: 様 | AC34: 令和 | AF34: 年 | AH34: 月 | AJ34: 日 | AL34: ： | AN34: ～
I35: 様 | AC35: 令和 | AF35: 年 | AH35: 月 | AJ35: 日 | AL35: ： | AN35: ～
I36: 様 | AC36: 令和 | AF36: 年 | AH36: 月 | AJ36: 日 | AL36: ： | AN36: ～
I37: 様 | AC37: 令和 | AF37: 年 | AH37: 月 | AJ37: 日 | AL37: ： | AN37: ～
I38: 様 | AC38: 令和 | AF38: 年 | AH38: 月 | AJ38: 日 | AL38: ： | AN38: ～
I39: 様 | AC39: 令和 | AF39: 年 | AH39: 月 | AJ39: 日 | AL39: ： | AN39: ～
I40: 様 | AC40: 令和 | AF40: 年 | AH40: 月 | AJ40: 日 | AL40: ： | AN40: ～
I41: 様 | AC41: 令和 | AF41: 年 | AH41: 月 | AJ41: 日 | AL41: ： | AN41: ～
I42: 様 | AC42: 令和 | AF42: 年 | AH42: 月 | AJ42: 日 | AL42: ： | AN42: ～
... I45: 様 | AC45: 令和 | AF45: 年 | AH45: 月 | AJ45: 日 | AL45: ： | AN45: ～
A46: 業務 内容 | D46: 項目 | J46: 患者様氏名 | P46: 担当 | S46: 備考 | Y46: 項目 | AA46: 患者様氏名 | AG46: 内容 | AQ46: 担当
D47: 外 来 患 者 対 応 | F47: 外来患者 対応 | O47: 様 | Y47: 書 類 作 成 完 了 | AF47: 様
O48: 様 | AF48: 様
O49: 様 | AF49: 様
O50: 様 | AF50: 様
O51: 様 | AF51: 様
O52: 様 | AF52: 様
O53: 様 | AF53: 様
D54: 項目 | J54: 患者様氏名 | P54: 担当 | S54: 備考 | AF54: 様
D55: 入 退 院 支 援 | F55: 退院支援 | O55: 様 | AF55: 様
O56: 様 | AF56: 様
O57: 様 | Y57: 項目 | AG57: 件数 | AJ57: 担当 | AM57: 備考
O58: 様 | Y58: 電話対応 | AI58: 件
O59: 様 | Y59: 保健所への届出 | AI59: 件
F60: 退院請求 対応 | O60: 様 | Y60: 項目 | AG60: 内容
O61: 様 | Y61: 通院医療 観察法
F62: 入院患者 対応 | J62: 担当 | M62: 件数 | P62: 備考
O63: 件 | Y63: 認知症疾患 医療ｾﾝﾀｰ
O64: 件
O65: 件 | Y65: 各種会議参加 外部の業務
O66: 件
A67: 安全管理 | D67: 事故 | S67: 物品 購入 | AE67: 連絡 事項
D68: 苦情
D69: 紛失
D70: 他

Sheet 14
A1: ソーシャルワーカー室 業務日誌 | AH1: C.O.O | AL1: I.O.O | AP1: Ａ.Ｏ.Ｍ
H3: =曜日!B12 -> 令和4年 | M3: =曜日!C12 -> 5月 | P3: 14日 | S3: （ | T3: =曜日!D9 -> 土 | U3: ） | W3: 作成者 | Z3: ：
A5: 労務 状況 | D5: 勤務状況 | K5: 西舘 翔子 | T5: 小屋敷 千瑛 | AC5: 大川 祥子 | AL5: 吉田 久美子
K6: 野添 京子
A7: 入退院 状況 | D7: 入院形態 | K7: 東病棟 | Q7: 西病棟 | W7: 北病棟 | AC7: 南病棟 | AI7: 合計 | AO7: 総数
K8: 男性 | N8: 女性 | Q8: 男性 | T8: 女性 | W8: 男性 | Z8: 女性 | AC8: 男性 | AF8: 女性 | AI8: 男性 | AL8: 女性
D9: 任意入院 | AI9: =K9+Q9+W9+AC9 -> 0 | AL9: =N9+T9+Z9+AF9 -> 0 | AO9: =AI13 -> 0
D10: 医療保護入院 | AI10: =K10+Q10+W10+AC10 -> 0 | AL10: =N10+T10+Z10+AF10 -> 0
D11: 措置入院 | AI11: =K11+Q11+W11+AC11 -> 0 | AL11: =N11+T11+Z11+AF11 -> 0
D12: 合計 | K12: =K9+K10+K11 -> 0 | N12: =N9+N10+N11 -> 0 | Q12: =Q9+Q10+Q11 -> 0 | T12: =SUM(T9:V11) -> 0 | W12: =SUM(W9:Y11) -> 0 | Z12: =SUM(Z9:AB11) -> 0 | AC12: =SUM(AC9:AE11) -> 0 | AF12: =SUM(AF9:AH11) -> 0 | AI12: =SUM(K12+Q12+W12+AC12) -> 0 | AL12: =SUM(N12+T12+Z12+AF12) -> 0 | AO12: 人
K13: =K12+N12 -> 0 | Q13: =Q12+T12 -> 0 | W13: =W12+Z12 -> 0 | AC13: =AC12+AF12 -> 0 | AI13: =AI12+AL12 -> 0
F14: 患者様氏名 | N14: 入院形態 | T14: 担当Dr | Y14: 担当SW | AD14: 病棟 | AJ14: 備考欄
D15: 入院 | L15: 様
L16: 様
L17: 様
L18: 様
L19: 様
D20: 退院 | L20: 様
L21: 様
L22: 様
L23: 様
L24: 様
D25: 転棟 ･ 入院形態変更 | L25: 様
L26: 様
L27: 様
L28: 様
L29: 様
A30: 患者様 関連 | D30: 患者様氏名 | K30: 担当Dr | P30: 病棟 | S30: 制限内容 | X30: 制限時間 | AC30: 開始日時 | AO30: 備考
I31: 様 | AC31: 令和 | AF31: 年 | AH31: 月 | AJ31: 日 | AL31: ： | AN31: ～
I32: 様 | AC32: 令和 | AF32: 年 | AH32: 月 | AJ32: 日 | AL32: ： | AN32: ～
I33: 様 | AC33: 令和 | AF33: 年 | AH33: 月 | AJ33: 日 | AL33: ： | AN33: ～
I34: 様 | AC34: 令和 | AF34: 年 | AH34: 月 | AJ34: 日 | AL34: ： | AN34: ～
I35: 様 | AC35: 令和 | AF35: 年 | AH35: 月 | AJ35: 日 | AL35: ： | AN35: ～
I36: 様 | AC36: 令和 | AF36: 年 | AH36: 月 | AJ36: 日 | AL36: ： | AN36: ～
I37: 様 | AC37: 令和 | AF37: 年 | AH37: 月 | AJ37: 日 | AL37: ： | AN37: ～
I38: 様 | AC38: 令和 | AF38: 年 | AH38: 月 | AJ38: 日 | AL38: ： | AN38: ～
I39: 様 | AC39: 令和 | AF39: 年 | AH39: 月 | AJ39: 日 | AL39: ： | AN39: ～
I40: 様 | AC40: 令和 | AF40: 年 | AH40: 月 | AJ40: 日 | AL40: ： | AN40: ～
I41: 様 | AC41: 令和 | AF41: 年 | AH41: 月 | AJ41: 日 | AL41: ： | AN41: ～
I42: 様 | AC42: 令和 | AF42: 年 | AH42: 月 | AJ42: 日 | AL42: ： | AN42: ～
... I45: 様 | AC45: 令和 | AF45: 年 | AH45: 月 | AJ45: 日 | AL45: ： | AN45: ～
A46: 業務 内容 | D46: 項目 | J46: 患者様氏名 | P46: 担当 | S46: 備考 | Y46: 項目 | AA46: 患者様氏名 | AG46: 内容 | AQ46: 担当
D47: 外 来 患 者 対 応 | F47: 外来患者 対応 | O47: 様 | Y47: 書 類 作 成 完 了 | AF47: 様
O48: 様 | AF48: 様
O49: 様 | AF49: 様
O50: 様 | AF50: 様
O51: 様 | AF51: 様
O52: 様 | AF52: 様
O53: 様 | AF53: 様
D54: 項目 | J54: 患者様氏名 | P54: 担当 | S54: 備考 | AF54: 様
D55: 入 退 院 支 援 | F55: 退院支援 | O55: 様 | AF55: 様
O56: 様 | AF56: 様
O57: 様 | Y57: 項目 | AG57: 件数 | AJ57: 担当 | AM57: 備考
O58: 様 | Y58: 電話対応 | AI58: 件
O59: 様 | Y59: 保健所への届出 | AI59: 件
F60: 退院請求 対応 | O60: 様 | Y60: 項目 | AG60: 内容
O61: 様 | Y61: 通院医療 観察法
F62: 入院患者 対応 | J62: 担当 | M62: 件数 | P62: 備考
O63: 件 | Y63: 認知症疾患 医療ｾﾝﾀｰ
O64: 件
O65: 件 | Y65: 各種会議参加 外部の業務
O66: 件
A67: 安全管理 | D67: 事故 | S67: 物品 購入 | AE67: 連絡 事項
D68: 苦情
D69: 紛失
D70: 他

Sheet 15
A1: ソーシャルワーカー室 業務日誌 | AH1: C.O.O | AL1: I.O.O | AP1: Ａ.Ｏ.Ｍ
H3: =曜日!B12 -> 令和4年 | M3: =曜日!C12 -> 5月 | P3: 15日 | S3: （ | T3: =曜日!D3 -> 日 | U3: ） | W3: 作成者 | Z3: ：
A5: 労務 状況 | D5: 勤務状況 | K5: 西舘 翔子 | T5: 小屋敷 千瑛 | AC5: 大川 祥子 | AL5: 吉田 久美子
K6: 野添 京子
A7: 入退院 状況 | D7: 入院形態 | K7: 東病棟 | Q7: 西病棟 | W7: 北病棟 | AC7: 南病棟 | AI7: 合計 | AO7: 総数
K8: 男性 | N8: 女性 | Q8: 男性 | T8: 女性 | W8: 男性 | Z8: 女性 | AC8: 男性 | AF8: 女性 | AI8: 男性 | AL8: 女性
D9: 任意入院 | AI9: =K9+Q9+W9+AC9 -> 0 | AL9: =N9+T9+Z9+AF9 -> 0 | AO9: =AI13 -> 0
D10: 医療保護入院 | AI10: =K10+Q10+W10+AC10 -> 0 | AL10: =N10+T10+Z10+AF10 -> 0
D11: 措置入院 | AI11: =K11+Q11+W11+AC11 -> 0 | AL11: =N11+T11+Z11+AF11 -> 0
D12: 合計 | K12: =K9+K10+K11 -> 0 | N12: =N9+N10+N11 -> 0 | Q12: =Q9+Q10+Q11 -> 0 | T12: =SUM(T9:V11) -> 0 | W12: =SUM(W9:Y11) -> 0 | Z12: =SUM(Z9:AB11) -> 0 | AC12: =SUM(AC9:AE11) -> 0 | AF12: =SUM(AF9:AH11) -> 0 | AI12: =SUM(K12+Q12+W12+AC12) -> 0 | AL12: =SUM(N12+T12+Z12+AF12) -> 0 | AO12: 人
K13: =K12+N12 -> 0 | Q13: =Q12+T12 -> 0 | W13: =W12+Z12 -> 0 | AC13: =AC12+AF12 -> 0 | AI13: =AI12+AL12 -> 0
F14: 患者様氏名 | N14: 入院形態 | T14: 担当Dr | Y14: 担当SW | AD14: 病棟 | AJ14: 備考欄
D15: 入院 | L15: 様
L16: 様
L17: 様
L18: 様
L19: 様
D20: 退院 | L20: 様
L21: 様
L22: 様
L23: 様
L24: 様
D25: 転棟 ･ 入院形態変更 | L25: 様
L26: 様
L27: 様
L28: 様
L29: 様
A30: 患者様 関連 | D30: 患者様氏名 | K30: 担当Dr | P30: 病棟 | S30: 制限内容 | X30: 制限時間 | AC30: 開始日時 | AO30: 備考
I31: 様 | AC31: 令和 | AF31: 年 | AH31: 月 | AJ31: 日 | AL31: ： | AN31: ～
I32: 様 | AC32: 令和 | AF32: 年 | AH32: 月 | AJ32: 日 | AL32: ： | AN32: ～
I33: 様 | AC33: 令和 | AF33: 年 | AH33: 月 | AJ33: 日 | AL33: ： | AN33: ～
I34: 様 | AC34: 令和 | AF34: 年 | AH34: 月 | AJ34: 日 | AL34: ： | AN34: ～
I35: 様 | AC35: 令和 | AF35: 年 | AH35: 月 | AJ35: 日 | AL35: ： | AN35: ～
I36: 様 | AC36: 令和 | AF36: 年 | AH36: 月 | AJ36: 日 | AL36: ： | AN36: ～
I37: 様 | AC37: 令和 | AF37: 年 | AH37: 月 | AJ37: 日 | AL37: ： | AN37: ～
I38: 様 | AC38: 令和 | AF38: 年 | AH38: 月 | AJ38: 日 | AL38: ： | AN38: ～
I39: 様 | AC39: 令和 | AF39: 年 | AH39: 月 | AJ39: 日 | AL39: ： | AN39: ～
I40: 様 | AC40: 令和 | AF40: 年 | AH40: 月 | AJ40: 日 | AL40: ： | AN40: ～
I41: 様 | AC41: 令和 | AF41: 年 | AH41: 月 | AJ41: 日 | AL41: ： | AN41: ～
I42: 様 | AC42: 令和 | AF42: 年 | AH42: 月 | AJ42: 日 | AL42: ： | AN42: ～
... I45: 様 | AC45: 令和 | AF45: 年 | AH45: 月 | AJ45: 日 | AL45: ： | AN45: ～
A46: 業務 内容 | D46: 項目 | J46: 患者様氏名 | P46: 担当 | S46: 備考 | Y46: 項目 | AA46: 患者様氏名 | AG46: 内容 | AQ46: 担当
D47: 外 来 患 者 対 応 | F47: 外来患者 対応 | O47: 様 | Y47: 書 類 作 成 完 了 | AF47: 様
O48: 様 | AF48: 様
O49: 様 | AF49: 様
O50: 様 | AF50: 様
O51: 様 | AF51: 様
O52: 様 | AF52: 様
O53: 様 | AF53: 様
D54: 項目 | J54: 患者様氏名 | P54: 担当 | S54: 備考 | AF54: 様
D55: 入 退 院 支 援 | F55: 退院支援 | O55: 様 | AF55: 様
O56: 様 | AF56: 様
O57: 様 | Y57: 項目 | AG57: 件数 | AJ57: 担当 | AM57: 備考
O58: 様 | Y58: 電話対応 | AI58: 件
O59: 様 | Y59: 保健所への届出 | AI59: 件
F60: 退院請求 対応 | O60: 様 | Y60: 項目 | AG60: 内容
O61: 様 | Y61: 通院医療 観察法
F62: 入院患者 対応 | J62: 担当 | M62: 件数 | P62: 備考
O63: 件 | Y63: 認知症疾患 医療ｾﾝﾀｰ
O64: 件
O65: 件 | Y65: 各種会議参加 外部の業務
O66: 件
A67: 安全管理 | D67: 事故 | S67: 物品 購入 | AE67: 連絡 事項
D68: 苦情
D69: 紛失
D70: 他

Sheet 16
A1: ソーシャルワーカー室 業務日誌 | AH1: C.O.O | AL1: I.O.O | AP1: Ａ.Ｏ.Ｍ
H3: =曜日!B12 -> 令和4年 | M3: =曜日!C12 -> 5月 | P3: 16日 | S3: （ | T3: =曜日!D4 -> 月 | U3: ） | W3: 作成者 | Z3: ：
A5: 労務 状況 | D5: 勤務状況 | K5: 西舘 翔子 | T5: 小屋敷 千瑛 | AC5: 大川 祥子 | AL5: 吉田 久美子
K6: 野添 京子
A7: 入退院 状況 | D7: 入院形態 | K7: 東病棟 | Q7: 西病棟 | W7: 北病棟 | AC7: 南病棟 | AI7: 合計 | AO7: 総数
K8: 男性 | N8: 女性 | Q8: 男性 | T8: 女性 | W8: 男性 | Z8: 女性 | AC8: 男性 | AF8: 女性 | AI8: 男性 | AL8: 女性
D9: 任意入院 | AI9: =K9+Q9+W9+AC9 -> 0 | AL9: =N9+T9+Z9+AF9 -> 0 | AO9: =AI13 -> 0
D10: 医療保護入院 | AI10: =K10+Q10+W10+AC10 -> 0 | AL10: =N10+T10+Z10+AF10 -> 0
D11: 措置入院 | AI11: =K11+Q11+W11+AC11 -> 0 | AL11: =N11+T11+Z11+AF11 -> 0
D12: 合計 | K12: =K9+K10+K11 -> 0 | N12: =N9+N10+N11 -> 0 | Q12: =Q9+Q10+Q11 -> 0 | T12: =SUM(T9:V11) -> 0 | W12: =SUM(W9:Y11) -> 0 | Z12: =SUM(Z9:AB11) -> 0 | AC12: =SUM(AC9:AE11) -> 0 | AF12: =SUM(AF9:AH11) -> 0 | AI12: =SUM(K12+Q12+W12+AC12) -> 0 | AL12: =SUM(N12+T12+Z12+AF12) -> 0 | AO12: 人
K13: =K12+N12 -> 0 | Q13: =Q12+T12 -> 0 | W13: =W12+Z12 -> 0 | AC13: =AC12+AF12 -> 0 | AI13: =AI12+AL12 -> 0
F14: 患者様氏名 | N14: 入院形態 | T14: 担当Dr | Y14: 担当SW | AD14: 病棟 | AJ14: 備考欄
D15: 入院 | L15: 様
L16: 様
L17: 様
L18: 様
L19: 様
D20: 退院 | L20: 様
L21: 様
L22: 様
L23: 様
L24: 様
D25: 転棟 ･ 入院形態変更 | L25: 様
L26: 様
L27: 様
L28: 様
L29: 様
A30: 患者様 関連 | D30: 患者様氏名 | K30: 担当Dr | P30: 病棟 | S30: 制限内容 | X30: 制限時間 | AC30: 開始日時 | AO30: 備考
I31: 様 | AC31: 令和 | AF31: 年 | AH31: 月 | AJ31: 日 | AL31: ： | AN31: ～
I32: 様 | AC32: 令和 | AF32: 年 | AH32: 月 | AJ32: 日 | AL32: ： | AN32: ～
I33: 様 | AC33: 令和 | AF33: 年 | AH33: 月 | AJ33: 日 | AL33: ： | AN33: ～
I34: 様 | AC34: 令和 | AF34: 年 | AH34: 月 | AJ34: 日 | AL34: ： | AN34: ～
I35: 様 | AC35: 令和 | AF35: 年 | AH35: 月 | AJ35: 日 | AL35: ： | AN35: ～
I36: 様 | AC36: 令和 | AF36: 年 | AH36: 月 | AJ36: 日 | AL36: ： | AN36: ～
I37: 様 | AC37: 令和 | AF37: 年 | AH37: 月 | AJ37: 日 | AL37: ： | AN37: ～
I38: 様 | AC38: 令和 | AF38: 年 | AH38: 月 | AJ38: 日 | AL38: ： | AN38: ～
I39: 様 | AC39: 令和 | AF39: 年 | AH39: 月 | AJ39: 日 | AL39: ： | AN39: ～
I40: 様 | AC40: 令和 | AF40: 年 | AH40: 月 | AJ40: 日 | AL40: ： | AN40: ～
I41: 様 | AC41: 令和 | AF41: 年 | AH41: 月 | AJ41: 日 | AL41: ： | AN41: ～
I42: 様 | AC42: 令和 | AF42: 年 | AH42: 月 | AJ42: 日 | AL42: ： | AN42: ～
... I45: 様 | AC45: 令和 | AF45: 年 | AH45: 月 | AJ45: 日 | AL45: ： | AN45: ～
A46: 業務 内容 | D46: 項目 | J46: 患者様氏名 | P46: 担当 | S46: 備考 | Y46: 項目 | AA46: 患者様氏名 | AG46: 内容 | AQ46: 担当
D47: 外 来 患 者 対 応 | F47: 外来患者 対応 | O47: 様 | Y47: 書 類 作 成 完 了 | AF47: 様
O48: 様 | AF48: 様
O49: 様 | AF49: 様
O50: 様 | AF50: 様
O51: 様 | AF51: 様
O52: 様 | AF52: 様
O53: 様 | AF53: 様
D54: 項目 | J54: 患者様氏名 | P54: 担当 | S54: 備考 | AF54: 様
D55: 入 退 院 支 援 | F55: 退院支援 | O55: 様 | AF55: 様
O56: 様 | AF56: 様
O57: 様 | Y57: 項目 | AG57: 件数 | AJ57: 担当 | AM57: 備考
O58: 様 | Y58: 電話対応 | AI58: 件
O59: 様 | Y59: 保健所への届出 | AI59: 件
F60: 退院請求 対応 | O60: 様 | Y60: 項目 | AG60: 内容
O61: 様 | Y61: 通院医療 観察法
F62: 入院患者 対応 | J62: 担当 | M62: 件数 | P62: 備考
O63: 件 | Y63: 認知症疾患 医療ｾﾝﾀｰ
O64: 件
O65: 件 | Y65: 各種会議参加 外部の業務
O66: 件
A67: 安全管理 | D67: 事故 | S67: 物品 購入 | AE67: 連絡 事項
D68: 苦情
D69: 紛失
D70: 他

Sheet 17
A1: ソーシャルワーカー室 業務日誌 | AH1: C.O.O | AL1: I.O.O | AP1: Ａ.Ｏ.Ｍ
H3: =曜日!B12 -> 令和4年 | M3: =曜日!C12 -> 5月 | P3: 17日 | S3: （ | T3: =曜日!D5 -> 火 | U3: ） | W3: 作成者 | Z3: ：
A5: 労務 状況 | D5: 勤務状況 | K5: 西舘 翔子 | T5: 小屋敷 千瑛 | AC5: 大川 祥子 | AL5: 吉田 久美子
K6: 野添 京子
A7: 入退院 状況 | D7: 入院形態 | K7: 東病棟 | Q7: 西病棟 | W7: 北病棟 | AC7: 南病棟 | AI7: 合計 | AO7: 総数
K8: 男性 | N8: 女性 | Q8: 男性 | T8: 女性 | W8: 男性 | Z8: 女性 | AC8: 男性 | AF8: 女性 | AI8: 男性 | AL8: 女性
D9: 任意入院 | AI9: =K9+Q9+W9+AC9 -> 0 | AL9: =N9+T9+Z9+AF9 -> 0 | AO9: =AI13 -> 0
D10: 医療保護入院 | AI10: =K10+Q10+W10+AC10 -> 0 | AL10: =N10+T10+Z10+AF10 -> 0
D11: 措置入院 | AI11: =K11+Q11+W11+AC11 -> 0 | AL11: =N11+T11+Z11+AF11 -> 0
D12: 合計 | K12: =K9+K10+K11 -> 0 | N12: =N9+N10+N11 -> 0 | Q12: =Q9+Q10+Q11 -> 0 | T12: =SUM(T9:V11) -> 0 | W12: =SUM(W9:Y11) -> 0 | Z12: =SUM(Z9:AB11) -> 0 | AC12: =SUM(AC9:AE11) -> 0 | AF12: =SUM(AF9:AH11) -> 0 | AI12: =SUM(K12+Q12+W12+AC12) -> 0 | AL12: =SUM(N12+T12+Z12+AF12) -> 0 | AO12: 人
K13: =K12+N12 -> 0 | Q13: =Q12+T12 -> 0 | W13: =W12+Z12 -> 0 | AC13: =AC12+AF12 -> 0 | AI13: =AI12+AL12 -> 0
F14: 患者様氏名 | N14: 入院形態 | T14: 担当Dr | Y14: 担当SW | AD14: 病棟 | AJ14: 備考欄
D15: 入院 | L15: 様
L16: 様
L17: 様
L18: 様
L19: 様
D20: 退院 | L20: 様
L21: 様
L22: 様
L23: 様
L24: 様
D25: 転棟 ･ 入院形態変更 | L25: 様
L26: 様
L27: 様
L28: 様
L29: 様
A30: 患者様 関連 | D30: 患者様氏名 | K30: 担当Dr | P30: 病棟 | S30: 制限内容 | X30: 制限時間 | AC30: 開始日時 | AO30: 備考
I31: 様 | AC31: 令和 | AF31: 年 | AH31: 月 | AJ31: 日 | AL31: ： | AN31: ～
I32: 様 | AC32: 令和 | AF32: 年 | AH32: 月 | AJ32: 日 | AL32: ： | AN32: ～
I33: 様 | AC33: 令和 | AF33: 年 | AH33: 月 | AJ33: 日 | AL33: ： | AN33: ～
I34: 様 | AC34: 令和 | AF34: 年 | AH34: 月 | AJ34: 日 | AL34: ： | AN34: ～
I35: 様 | AC35: 令和 | AF35: 年 | AH35: 月 | AJ35: 日 | AL35: ： | AN35: ～
I36: 様 | AC36: 令和 | AF36: 年 | AH36: 月 | AJ36: 日 | AL36: ： | AN36: ～
I37: 様 | AC37: 令和 | AF37: 年 | AH37: 月 | AJ37: 日 | AL37: ： | AN37: ～
I38: 様 | AC38: 令和 | AF38: 年 | AH38: 月 | AJ38: 日 | AL38: ： | AN38: ～
I39: 様 | AC39: 令和 | AF39: 年 | AH39: 月 | AJ39: 日 | AL39: ： | AN39: ～
I40: 様 | AC40: 令和 | AF40: 年 | AH40: 月 | AJ40: 日 | AL40: ： | AN40: ～
I41: 様 | AC41: 令和 | AF41: 年 | AH41: 月 | AJ41: 日 | AL41: ： | AN41: ～
I42: 様 | AC42: 令和 | AF42: 年 | AH42: 月 | AJ42: 日 | AL42: ： | AN42: ～
... I45: 様 | AC45: 令和 | AF45: 年 | AH45: 月 | AJ45: 日 | AL45: ： | AN45: ～
A46: 業務 内容 | D46: 項目 | J46: 患者様氏名 | P46: 担当 | S46: 備考 | Y46: 項目 | AA46: 患者様氏名 | AG46: 内容 | AQ46: 担当
D47: 外 来 患 者 対 応 | F47: 外来患者 対応 | O47: 様 | Y47: 書 類 作 成 完 了 | AF47: 様
O48: 様 | AF48: 様
O49: 様 | AF49: 様
O50: 様 | AF50: 様
O51: 様 | AF51: 様
O52: 様 | AF52: 様
O53: 様 | AF53: 様
D54: 項目 | J54: 患者様氏名 | P54: 担当 | S54: 備考 | AF54: 様
D55: 入 退 院 支 援 | F55: 退院支援 | O55: 様 | AF55: 様
O56: 様 | AF56: 様
O57: 様 | Y57: 項目 | AG57: 件数 | AJ57: 担当 | AM57: 備考
O58: 様 | Y58: 電話対応 | AI58: 件
O59: 様 | Y59: 保健所への届出 | AI59: 件
F60: 退院請求 対応 | O60: 様 | Y60: 項目 | AG60: 内容
O61: 様 | Y61: 通院医療 観察法
F62: 入院患者 対応 | J62: 担当 | M62: 件数 | P62: 備考
O63: 件 | Y63: 認知症疾患 医療ｾﾝﾀｰ
O64: 件
O65: 件 | Y65: 各種会議参加 外部の業務
O66: 件
A67: 安全管理 | D67: 事故 | S67: 物品 購入 | AE67: 連絡 事項
D68: 苦情
D69: 紛失
D70: 他

Sheet 18
A1: ソーシャルワーカー室 業務日誌 | AH1: C.O.O | AL1: I.O.O | AP1: Ａ.Ｏ.Ｍ
H3: =曜日!B12 -> 令和4年 | M3: =曜日!C12 -> 5月 | P3: 18日 | S3: （ | T3: =曜日!D6 -> 水 | U3: ） | W3: 作成者 | Z3: ：
A5: 労務 状況 | D5: 勤務状況 | K5: 西舘 翔子 | T5: 小屋敷 千瑛 | AC5: 大川 祥子 | AL5: 吉田 久美子
K6: 野添 京子
A7: 入退院 状況 | D7: 入院形態 | K7: 東病棟 | Q7: 西病棟 | W7: 北病棟 | AC7: 南病棟 | AI7: 合計 | AO7: 総数
K8: 男性 | N8: 女性 | Q8: 男性 | T8: 女性 | W8: 男性 | Z8: 女性 | AC8: 男性 | AF8: 女性 | AI8: 男性 | AL8: 女性
D9: 任意入院 | AI9: =K9+Q9+W9+AC9 -> 0 | AL9: =N9+T9+Z9+AF9 -> 0 | AO9: =AI13 -> 0
D10: 医療保護入院 | AI10: =K10+Q10+W10+AC10 -> 0 | AL10: =N10+T10+Z10+AF10 -> 0
D11: 措置入院 | AI11: =K11+Q11+W11+AC11 -> 0 | AL11: =N11+T11+Z11+AF11 -> 0
D12: 合計 | K12: =K9+K10+K11 -> 0 | N12: =N9+N10+N11 -> 0 | Q12: =Q9+Q10+Q11 -> 0 | T12: =SUM(T9:V11) -> 0 | W12: =SUM(W9:Y11) -> 0 | Z12: =SUM(Z9:AB11) -> 0 | AC12: =SUM(AC9:AE11) -> 0 | AF12: =SUM(AF9:AH11) -> 0 | AI12: =SUM(K12+Q12+W12+AC12) -> 0 | AL12: =SUM(N12+T12+Z12+AF12) -> 0 | AO12: 人
K13: =K12+N12 -> 0 | Q13: =Q12+T12 -> 0 | W13: =W12+Z12 -> 0 | AC13: =AC12+AF12 -> 0 | AI13: =AI12+AL12 -> 0
F14: 患者様氏名 | N14: 入院形態 | T14: 担当Dr | Y14: 担当SW | AD14: 病棟 | AJ14: 備考欄
D15: 入院 | L15: 様
L16: 様
L17: 様
L18: 様
L19: 様
D20: 退院 | L20: 様
L21: 様
L22: 様
L23: 様
L24: 様
D25: 転棟 ･ 入院形態変更 | L25: 様
L26: 様
L27: 様
L28: 様
L29: 様
A30: 患者様 関連 | D30: 患者様氏名 | K30: 担当Dr | P30: 病棟 | S30: 制限内容 | X30: 制限時間 | AC30: 開始日時 | AO30: 備考
I31: 様 | AC31: 令和 | AF31: 年 | AH31: 月 | AJ31: 日 | AL31: ： | AN31: ～
I32: 様 | AC32: 令和 | AF32: 年 | AH32: 月 | AJ32: 日 | AL32: ： | AN32: ～
I33: 様 | AC33: 令和 | AF33: 年 | AH33: 月 | AJ33: 日 | AL33: ： | AN33: ～
I34: 様 | AC34: 令和 | AF34: 年 | AH34: 月 | AJ34: 日 | AL34: ： | AN34: ～
I35: 様 | AC35: 令和 | AF35: 年 | AH35: 月 | AJ35: 日 | AL35: ： | AN35: ～
I36: 様 | AC36: 令和 | AF36: 年 | AH36: 月 | AJ36: 日 | AL36: ： | AN36: ～
I37: 様 | AC37: 令和 | AF37: 年 | AH37: 月 | AJ37: 日 | AL37: ： | AN37: ～
I38: 様 | AC38: 令和 | AF38: 年 | AH38: 月 | AJ38: 日 | AL38: ： | AN38: ～
I39: 様 | AC39: 令和 | AF39: 年 | AH39: 月 | AJ39: 日 | AL39: ： | AN39: ～
I40: 様 | AC40: 令和 | AF40: 年 | AH40: 月 | AJ40: 日 | AL40: ： | AN40: ～
I41: 様 | AC41: 令和 | AF41: 年 | AH41: 月 | AJ41: 日 | AL41: ： | AN41: ～
I42: 様 | AC42: 令和 | AF42: 年 | AH42: 月 | AJ42: 日 | AL42: ： | AN42: ～
... I45: 様 | AC45: 令和 | AF45: 年 | AH45: 月 | AJ45: 日 | AL45: ： | AN45: ～
A46: 業務 内容 | D46: 項目 | J46: 患者様氏名 | P46: 担当 | S46: 備考 | Y46: 項目 | AA46: 患者様氏名 | AG46: 内容 | AQ46: 担当
D47: 外 来 患 者 対 応 | F47: 外来患者 対応 | O47: 様 | Y47: 書 類 作 成 完 了 | AF47: 様
O48: 様 | AF48: 様
O49: 様 | AF49: 様
O50: 様 | AF50: 様
O51: 様 | AF51: 様
O52: 様 | AF52: 様
O53: 様 | AF53: 様
D54: 項目 | J54: 患者様氏名 | P54: 担当 | S54: 備考 | AF54: 様
D55: 入 退 院 支 援 | F55: 退院支援 | O55: 様 | AF55: 様
O56: 様 | AF56: 様
O57: 様 | Y57: 項目 | AG57: 件数 | AJ57: 担当 | AM57: 備考
O58: 様 | Y58: 電話対応 | AI58: 件
O59: 様 | Y59: 保健所への届出 | AI59: 件
F60: 退院請求 対応 | O60: 様 | Y60: 項目 | AG60: 内容
O61: 様 | Y61: 通院医療 観察法
F62: 入院患者 対応 | J62: 担当 | M62: 件数 | P62: 備考
O63: 件 | Y63: 認知症疾患 医療ｾﾝﾀｰ
O64: 件
O65: 件 | Y65: 各種会議参加 外部の業務
O66: 件
A67: 安全管理 | D67: 事故 | S67: 物品 購入 | AE67: 連絡 事項
D68: 苦情
D69: 紛失
D70: 他

Sheet 19
A1: ソーシャルワーカー室 業務日誌 | AH1: C.O.O | AL1: I.O.O | AP1: Ａ.Ｏ.Ｍ
H3: =曜日!B12 -> 令和4年 | M3: =曜日!C12 -> 5月 | P3: 19日 | S3: （ | T3: =曜日!D7 -> 木 | U3: ） | W3: 作成者 | Z3: ：
A5: 労務 状況 | D5: 勤務状況 | K5: 西舘 翔子 | T5: 小屋敷 千瑛 | AC5: 大川 祥子 | AL5: 吉田 久美子
K6: 野添 京子
A7: 入退院 状況 | D7: 入院形態 | K7: 東病棟 | Q7: 西病棟 | W7: 北病棟 | AC7: 南病棟 | AI7: 合計 | AO7: 総数
K8: 男性 | N8: 女性 | Q8: 男性 | T8: 女性 | W8: 男性 | Z8: 女性 | AC8: 男性 | AF8: 女性 | AI8: 男性 | AL8: 女性
D9: 任意入院 | AI9: =K9+Q9+W9+AC9 -> 0 | AL9: =N9+T9+Z9+AF9 -> 0 | AO9: =AI13 -> 0
D10: 医療保護入院 | AI10: =K10+Q10+W10+AC10 -> 0 | AL10: =N10+T10+Z10+AF10 -> 0
D11: 措置入院 | AI11: =K11+Q11+W11+AC11 -> 0 | AL11: =N11+T11+Z11+AF11 -> 0
D12: 合計 | K12: =K9+K10+K11 -> 0 | N12: =N9+N10+N11 -> 0 | Q12: =Q9+Q10+Q11 -> 0 | T12: =SUM(T9:V11) -> 0 | W12: =SUM(W9:Y11) -> 0 | Z12: =SUM(Z9:AB11) -> 0 | AC12: =SUM(AC9:AE11) -> 0 | AF12: =SUM(AF9:AH11) -> 0 | AI12: =SUM(K12+Q12+W12+AC12) -> 0 | AL12: =SUM(N12+T12+Z12+AF12) -> 0 | AO12: 人
K13: =K12+N12 -> 0 | Q13: =Q12+T12 -> 0 | W13: =W12+Z12 -> 0 | AC13: =AC12+AF12 -> 0 | AI13: =AI12+AL12 -> 0
F14: 患者様氏名 | N14: 入院形態 | T14: 担当Dr | Y14: 担当SW | AD14: 病棟 | AJ14: 備考欄
D15: 入院 | L15: 様
L16: 様
L17: 様
L18: 様
L19: 様
D20: 退院 | L20: 様
L21: 様
L22: 様
L23: 様
L24: 様
D25: 転棟 ･ 入院形態変更 | L25: 様
L26: 様
L27: 様
L28: 様
L29: 様
A30: 患者様 関連 | D30: 患者様氏名 | K30: 担当Dr | P30: 病棟 | S30: 制限内容 | X30: 制限時間 | AC30: 開始日時 | AO30: 備考
I31: 様 | AC31: 令和 | AF31: 年 | AH31: 月 | AJ31: 日 | AL31: ： | AN31: ～
I32: 様 | AC32: 令和 | AF32: 年 | AH32: 月 | AJ32: 日 | AL32: ： | AN32: ～
I33: 様 | AC33: 令和 | AF33: 年 | AH33: 月 | AJ33: 日 | AL33: ： | AN33: ～
I34: 様 | AC34: 令和 | AF34: 年 | AH34: 月 | AJ34: 日 | AL34: ： | AN34: ～
I35: 様 | AC35: 令和 | AF35: 年 | AH35: 月 | AJ35: 日 | AL35: ： | AN35: ～
I36: 様 | AC36: 令和 | AF36: 年 | AH36: 月 | AJ36: 日 | AL36: ： | AN36: ～
I37: 様 | AC37: 令和 | AF37: 年 | AH37: 月 | AJ37: 日 | AL37: ： | AN37: ～
I38: 様 | AC38: 令和 | AF38: 年 | AH38: 月 | AJ38: 日 | AL38: ： | AN38: ～
I39: 様 | AC39: 令和 | AF39: 年 | AH39: 月 | AJ39: 日 | AL39: ： | AN39: ～
I40: 様 | AC40: 令和 | AF40: 年 | AH40: 月 | AJ40: 日 | AL40: ： | AN40: ～
I41: 様 | AC41: 令和 | AF41: 年 | AH41: 月 | AJ41: 日 | AL41: ： | AN41: ～
I42: 様 | AC42: 令和 | AF42: 年 | AH42: 月 | AJ42: 日 | AL42: ： | AN42: ～
... I45: 様 | AC45: 令和 | AF45: 年 | AH45: 月 | AJ45: 日 | AL45: ： | AN45: ～
A46: 業務 内容 | D46: 項目 | J46: 患者様氏名 | P46: 担当 | S46: 備考 | Y46: 項目 | AA46: 患者様氏名 | AG46: 内容 | AQ46: 担当
D47: 外 来 患 者 対 応 | F47: 外来患者 対応 | O47: 様 | Y47: 書 類 作 成 完 了 | AF47: 様
O48: 様 | AF48: 様
O49: 様 | AF49: 様
O50: 様 | AF50: 様
O51: 様 | AF51: 様
O52: 様 | AF52: 様
O53: 様 | AF53: 様
D54: 項目 | J54: 患者様氏名 | P54: 担当 | S54: 備考 | AF54: 様
D55: 入 退 院 支 援 | F55: 退院支援 | O55: 様 | AF55: 様
O56: 様 | AF56: 様
O57: 様 | Y57: 項目 | AG57: 件数 | AJ57: 担当 | AM57: 備考
O58: 様 | Y58: 電話対応 | AI58: 件
O59: 様 | Y59: 保健所への届出 | AI59: 件
F60: 退院請求 対応 | O60: 様 | Y60: 項目 | AG60: 内容
O61: 様 | Y61: 通院医療 観察法
F62: 入院患者 対応 | J62: 担当 | M62: 件数 | P62: 備考
O63: 件 | Y63: 認知症疾患 医療ｾﾝﾀｰ
O64: 件
O65: 件 | Y65: 各種会議参加 外部の業務
O66: 件
A67: 安全管理 | D67: 事故 | S67: 物品 購入 | AE67: 連絡 事項
D68: 苦情
D69: 紛失
D70: 他

Sheet 20
A1: ソーシャルワーカー室 業務日誌 | AH1: C.O.O | AL1: I.O.O | AP1: Ａ.Ｏ.Ｍ
H3: =曜日!B12 -> 令和4年 | M3: =曜日!C12 -> 5月 | P3: 20日 | S3: （ | T3: =曜日!D8 -> 金 | U3: ） | W3: 作成者 | Z3: ：
A5: 労務 状況 | D5: 勤務状況 | K5: 西舘 翔子 | T5: 小屋敷 千瑛 | AC5: 大川 祥子 | AL5: 吉田 久美子
K6: 野添 京子
A7: 入退院 状況 | D7: 入院形態 | K7: 東病棟 | Q7: 西病棟 | W7: 北病棟 | AC7: 南病棟 | AI7: 合計 | AO7: 総数
K8: 男性 | N8: 女性 | Q8: 男性 | T8: 女性 | W8: 男性 | Z8: 女性 | AC8: 男性 | AF8: 女性 | AI8: 男性 | AL8: 女性
D9: 任意入院 | AI9: =K9+Q9+W9+AC9 -> 0 | AL9: =N9+T9+Z9+AF9 -> 0 | AO9: =AI13 -> 0
D10: 医療保護入院 | AI10: =K10+Q10+W10+AC10 -> 0 | AL10: =N10+T10+Z10+AF10 -> 0
D11: 措置入院 | AI11: =K11+Q11+W11+AC11 -> 0 | AL11: =N11+T11+Z11+AF11 -> 0
D12: 合計 | K12: =K9+K10+K11 -> 0 | N12: =N9+N10+N11 -> 0 | Q12: =Q9+Q10+Q11 -> 0 | T12: =SUM(T9:V11) -> 0 | W12: =SUM(W9:Y11) -> 0 | Z12: =SUM(Z9:AB11) -> 0 | AC12: =SUM(AC9:AE11) -> 0 | AF12: =SUM(AF9:AH11) -> 0 | AI12: =SUM(K12+Q12+W12+AC12) -> 0 | AL12: =SUM(N12+T12+Z12+AF12) -> 0 | AO12: 人
K13: =K12+N12 -> 0 | Q13: =Q12+T12 -> 0 | W13: =W12+Z12 -> 0 | AC13: =AC12+AF12 -> 0 | AI13: =AI12+AL12 -> 0
F14: 患者様氏名 | N14: 入院形態 | T14: 担当Dr | Y14: 担当SW | AD14: 病棟 | AJ14: 備考欄
D15: 入院 | L15: 様
L16: 様
L17: 様
L18: 様
L19: 様
D20: 退院 | L20: 様
L21: 様
L22: 様
L23: 様
L24: 様
D25: 転棟 ･ 入院形態変更 | L25: 様
L26: 様
L27: 様
L28: 様
L29: 様
A30: 患者様 関連 | D30: 患者様氏名 | K30: 担当Dr | P30: 病棟 | S30: 制限内容 | X30: 制限時間 | AC30: 開始日時 | AO30: 備考
I31: 様 | AC31: 令和 | AF31: 年 | AH31: 月 | AJ31: 日 | AL31: ： | AN31: ～
I32: 様 | AC32: 令和 | AF32: 年 | AH32: 月 | AJ32: 日 | AL32: ： | AN32: ～
I33: 様 | AC33: 令和 | AF33: 年 | AH33: 月 | AJ33: 日 | AL33: ： | AN33: ～
I34: 様 | AC34: 令和 | AF34: 年 | AH34: 月 | AJ34: 日 | AL34: ： | AN34: ～
I35: 様 | AC35: 令和 | AF35: 年 | AH35: 月 | AJ35: 日 | AL35: ： | AN35: ～
I36: 様 | AC36: 令和 | AF36: 年 | AH36: 月 | AJ36: 日 | AL36: ： | AN36: ～
I37: 様 | AC37: 令和 | AF37: 年 | AH37: 月 | AJ37: 日 | AL37: ： | AN37: ～
I38: 様 | AC38: 令和 | AF38: 年 | AH38: 月 | AJ38: 日 | AL38: ： | AN38: ～
I39: 様 | AC39: 令和 | AF39: 年 | AH39: 月 | AJ39: 日 | AL39: ： | AN39: ～
I40: 様 | AC40: 令和 | AF40: 年 | AH40: 月 | AJ40: 日 | AL40: ： | AN40: ～
I41: 様 | AC41: 令和 | AF41: 年 | AH41: 月 | AJ41: 日 | AL41: ： | AN41: ～
I42: 様 | AC42: 令和 | AF42: 年 | AH42: 月 | AJ42: 日 | AL42: ： | AN42: ～
... I45: 様 | AC45: 令和 | AF45: 年 | AH45: 月 | AJ45: 日 | AL45: ： | AN45: ～
A46: 業務 内容 | D46: 項目 | J46: 患者様氏名 | P46: 担当 | S46: 備考 | Y46: 項目 | AA46: 患者様氏名 | AG46: 内容 | AQ46: 担当
D47: 外 来 患 者 対 応 | F47: 外来患者 対応 | O47: 様 | Y47: 書 類 作 成 完 了 | AF47: 様
O48: 様 | AF48: 様
O49: 様 | AF49: 様
O50: 様 | AF50: 様
O51: 様 | AF51: 様
O52: 様 | AF52: 様
O53: 様 | AF53: 様
D54: 項目 | J54: 患者様氏名 | P54: 担当 | S54: 備考 | AF54: 様
D55: 入 退 院 支 援 | F55: 退院支援 | O55: 様 | AF55: 様
O56: 様 | AF56: 様
O57: 様 | Y57: 項目 | AG57: 件数 | AJ57: 担当 | AM57: 備考
O58: 様 | Y58: 電話対応 | AI58: 件
O59: 様 | Y59: 保健所への届出 | AI59: 件
F60: 退院請求 対応 | O60: 様 | Y60: 項目 | AG60: 内容
O61: 様 | Y61: 通院医療 観察法
F62: 入院患者 対応 | J62: 担当 | M62: 件数 | P62: 備考
O63: 件 | Y63: 認知症疾患 医療ｾﾝﾀｰ
O64: 件
O65: 件 | Y65: 各種会議参加 外部の業務
O66: 件
A67: 安全管理 | D67: 事故 | S67: 物品 購入 | AE67: 連絡 事項
D68: 苦情
D69: 紛失
D70: 他

Sheet 21
A1: ソーシャルワーカー室 業務日誌 | AH1: C.O.O | AL1: I.O.O | AP1: Ａ.Ｏ.Ｍ
H3: =曜日!B12 -> 令和4年 | M3: =曜日!C12 -> 5月 | P3: 21日 | S3: （ | T3: =曜日!D9 -> 土 | U3: ） | W3: 作成者 | Z3: ：
A5: 労務 状況 | D5: 勤務状況 | K5: 西舘 翔子 | T5: 小屋敷 千瑛 | AC5: 大川 祥子 | AL5: 吉田 久美子
K6: 野添 京子
A7: 入退院 状況 | D7: 入院形態 | K7: 東病棟 | Q7: 西病棟 | W7: 北病棟 | AC7: 南病棟 | AI7: 合計 | AO7: 総数
K8: 男性 | N8: 女性 | Q8: 男性 | T8: 女性 | W8: 男性 | Z8: 女性 | AC8: 男性 | AF8: 女性 | AI8: 男性 | AL8: 女性
D9: 任意入院 | AI9: =K9+Q9+W9+AC9 -> 0 | AL9: =N9+T9+Z9+AF9 -> 0 | AO9: =AI13 -> 0
D10: 医療保護入院 | AI10: =K10+Q10+W10+AC10 -> 0 | AL10: =N10+T10+Z10+AF10 -> 0
D11: 措置入院 | AI11: =K11+Q11+W11+AC11 -> 0 | AL11: =N11+T11+Z11+AF11 -> 0
D12: 合計 | K12: =K9+K10+K11 -> 0 | N12: =N9+N10+N11 -> 0 | Q12: =Q9+Q10+Q11 -> 0 | T12: =SUM(T9:V11) -> 0 | W12: =SUM(W9:Y11) -> 0 | Z12: =SUM(Z9:AB11) -> 0 | AC12: =SUM(AC9:AE11) -> 0 | AF12: =SUM(AF9:AH11) -> 0 | AI12: =SUM(K12+Q12+W12+AC12) -> 0 | AL12: =SUM(N12+T12+Z12+AF12) -> 0 | AO12: 人
K13: =K12+N12 -> 0 | Q13: =Q12+T12 -> 0 | W13: =W12+Z12 -> 0 | AC13: =AC12+AF12 -> 0 | AI13: =AI12+AL12 -> 0
F14: 患者様氏名 | N14: 入院形態 | T14: 担当Dr | Y14: 担当SW | AD14: 病棟 | AJ14: 備考欄
D15: 入院 | L15: 様
L16: 様
L17: 様
L18: 様
L19: 様
D20: 退院 | L20: 様
L21: 様
L22: 様
L23: 様
L24: 様
D25: 転棟 ･ 入院形態変更 | L25: 様
L26: 様
L27: 様
L28: 様
L29: 様
A30: 患者様 関連 | D30: 患者様氏名 | K30: 担当Dr | P30: 病棟 | S30: 制限内容 | X30: 制限時間 | AC30: 開始日時 | AO30: 備考
I31: 様 | AC31: 令和 | AF31: 年 | AH31: 月 | AJ31: 日 | AL31: ： | AN31: ～
I32: 様 | AC32: 令和 | AF32: 年 | AH32: 月 | AJ32: 日 | AL32: ： | AN32: ～
I33: 様 | AC33: 令和 | AF33: 年 | AH33: 月 | AJ33: 日 | AL33: ： | AN33: ～
I34: 様 | AC34: 令和 | AF34: 年 | AH34: 月 | AJ34: 日 | AL34: ： | AN34: ～
I35: 様 | AC35: 令和 | AF35: 年 | AH35: 月 | AJ35: 日 | AL35: ： | AN35: ～
I36: 様 | AC36: 令和 | AF36: 年 | AH36: 月 | AJ36: 日 | AL36: ： | AN36: ～
I37: 様 | AC37: 令和 | AF37: 年 | AH37: 月 | AJ37: 日 | AL37: ： | AN37: ～
I38: 様 | AC38: 令和 | AF38: 年 | AH38: 月 | AJ38: 日 | AL38: ： | AN38: ～
I39: 様 | AC39: 令和 | AF39: 年 | AH39: 月 | AJ39: 日 | AL39: ： | AN39: ～
I40: 様 | AC40: 令和 | AF40: 年 | AH40: 月 | AJ40: 日 | AL40: ： | AN40: ～
I41: 様 | AC41: 令和 | AF41: 年 | AH41: 月 | AJ41: 日 | AL41: ： | AN41: ～
I42: 様 | AC42: 令和 | AF42: 年 | AH42: 月 | AJ42: 日 | AL42: ： | AN42: ～
... I45: 様 | AC45: 令和 | AF45: 年 | AH45: 月 | AJ45: 日 | AL45: ： | AN45: ～
A46: 業務 内容 | D46: 項目 | J46: 患者様氏名 | P46: 担当 | S46: 備考 | Y46: 項目 | AA46: 患者様氏名 | AG46: 内容 | AQ46: 担当
D47: 外 来 患 者 対 応 | F47: 外来患者 対応 | O47: 様 | Y47: 書 類 作 成 完 了 | AF47: 様
O48: 様 | AF48: 様
O49: 様 | AF49: 様
O50: 様 | AF50: 様
O51: 様 | AF51: 様
O52: 様 | AF52: 様
O53: 様 | AF53: 様
D54: 項目 | J54: 患者様氏名 | P54: 担当 | S54: 備考 | AF54: 様
D55: 入 退 院 支 援 | F55: 退院支援 | O55: 様 | AF55: 様
O56: 様 | AF56: 様
O57: 様 | Y57: 項目 | AG57: 件数 | AJ57: 担当 | AM57: 備考
O58: 様 | Y58: 電話対応 | AI58: 件
O59: 様 | Y59: 保健所への届出 | AI59: 件
F60: 退院請求 対応 | O60: 様 | Y60: 項目 | AG60: 内容
O61: 様 | Y61: 通院医療 観察法
F62: 入院患者 対応 | J62: 担当 | M62: 件数 | P62: 備考
O63: 件 | Y63: 認知症疾患 医療ｾﾝﾀｰ
O64: 件
O65: 件 | Y65: 各種会議参加 外部の業務
O66: 件
A67: 安全管理 | D67: 事故 | S67: 物品 購入 | AE67: 連絡 事項
D68: 苦情
D69: 紛失
D70: 他

Sheet 22
A1: ソーシャルワーカー室 業務日誌 | AH1: C.O.O | AL1: I.O.O | AP1: Ａ.Ｏ.Ｍ
H3: =曜日!B12 -> 令和4年 | M3: =曜日!C12 -> 5月 | P3: 22日 | S3: （ | T3: =曜日!D3 -> 日 | U3: ） | W3: 作成者 | Z3: ：
A5: 労務 状況 | D5: 勤務状況 | K5: 西舘 翔子 | T5: 小屋敷 千瑛 | AC5: 大川 祥子 | AL5: 吉田 久美子
K6: 野添 京子
A7: 入退院 状況 | D7: 入院形態 | K7: 東病棟 | Q7: 西病棟 | W7: 北病棟 | AC7: 南病棟 | AI7: 合計 | AO7: 総数
K8: 男性 | N8: 女性 | Q8: 男性 | T8: 女性 | W8: 男性 | Z8: 女性 | AC8: 男性 | AF8: 女性 | AI8: 男性 | AL8: 女性
D9: 任意入院 | AI9: =K9+Q9+W9+AC9 -> 0 | AL9: =N9+T9+Z9+AF9 -> 0 | AO9: =AI13 -> 0
D10: 医療保護入院 | AI10: =K10+Q10+W10+AC10 -> 0 | AL10: =N10+T10+Z10+AF10 -> 0
D11: 措置入院 | AI11: =K11+Q11+W11+AC11 -> 0 | AL11: =N11+T11+Z11+AF11 -> 0
D12: 合計 | K12: =K9+K10+K11 -> 0 | N12: =N9+N10+N11 -> 0 | Q12: =Q9+Q10+Q11 -> 0 | T12: =SUM(T9:V11) -> 0 | W12: =SUM(W9:Y11) -> 0 | Z12: =SUM(Z9:AB11) -> 0 | AC12: =SUM(AC9:AE11) -> 0 | AF12: =SUM(AF9:AH11) -> 0 | AI12: =SUM(K12+Q12+W12+AC12) -> 0 | AL12: =SUM(N12+T12+Z12+AF12) -> 0 | AO12: 人
K13: =K12+N12 -> 0 | Q13: =Q12+T12 -> 0 | W13: =W12+Z12 -> 0 | AC13: =AC12+AF12 -> 0 | AI13: =AI12+AL12 -> 0
F14: 患者様氏名 | N14: 入院形態 | T14: 担当Dr | Y14: 担当SW | AD14: 病棟 | AJ14: 備考欄
D15: 入院 | L15: 様
L16: 様
L17: 様
L18: 様
L19: 様
D20: 退院 | L20: 様
L21: 様
L22: 様
L23: 様
L24: 様
D25: 転棟 ･ 入院形態変更 | L25: 様
L26: 様
L27: 様
L28: 様
L29: 様
A30: 患者様 関連 | D30: 患者様氏名 | K30: 担当Dr | P30: 病棟 | S30: 制限内容 | X30: 制限時間 | AC30: 開始日時 | AO30: 備考
I31: 様 | AC31: 令和 | AF31: 年 | AH31: 月 | AJ31: 日 | AL31: ： | AN31: ～
I32: 様 | AC32: 令和 | AF32: 年 | AH32: 月 | AJ32: 日 | AL32: ： | AN32: ～
I33: 様 | AC33: 令和 | AF33: 年 | AH33: 月 | AJ33: 日 | AL33: ： | AN33: ～
I34: 様 | AC34: 令和 | AF34: 年 | AH34: 月 | AJ34: 日 | AL34: ： | AN34: ～
I35: 様 | AC35: 令和 | AF35: 年 | AH35: 月 | AJ35: 日 | AL35: ： | AN35: ～
I36: 様 | AC36: 令和 | AF36: 年 | AH36: 月 | AJ36: 日 | AL36: ： | AN36: ～
I37: 様 | AC37: 令和 | AF37: 年 | AH37: 月 | AJ37: 日 | AL37: ： | AN37: ～
I38: 様 | AC38: 令和 | AF38: 年 | AH38: 月 | AJ38: 日 | AL38: ： | AN38: ～
I39: 様 | AC39: 令和 | AF39: 年 | AH39: 月 | AJ39: 日 | AL39: ： | AN39: ～
I40: 様 | AC40: 令和 | AF40: 年 | AH40: 月 | AJ40: 日 | AL40: ： | AN40: ～
I41: 様 | AC41: 令和 | AF41: 年 | AH41: 月 | AJ41: 日 | AL41: ： | AN41: ～
I42: 様 | AC42: 令和 | AF42: 年 | AH42: 月 | AJ42: 日 | AL42: ： | AN42: ～
... I45: 様 | AC45: 令和 | AF45: 年 | AH45: 月 | AJ45: 日 | AL45: ： | AN45: ～
A46: 業務 内容 | D46: 項目 | J46: 患者様氏名 | P46: 担当 | S46: 備考 | Y46: 項目 | AA46: 患者様氏名 | AG46: 内容 | AQ46: 担当
D47: 外 来 患 者 対 応 | F47: 外来患者 対応 | O47: 様 | Y47: 書 類 作 成 完 了 | AF47: 様
O48: 様 | AF48: 様
O49: 様 | AF49: 様
O50: 様 | AF50: 様
O51: 様 | AF51: 様
O52: 様 | AF52: 様
O53: 様 | AF53: 様
D54: 項目 | J54: 患者様氏名 | P54: 担当 | S54: 備考 | AF54: 様
D55: 入 退 院 支 援 | F55: 退院支援 | O55: 様 | AF55: 様
O56: 様 | AF56: 様
O57: 様 | Y57: 項目 | AG57: 件数 | AJ57: 担当 | AM57: 備考
O58: 様 | Y58: 電話対応 | AI58: 件
O59: 様 | Y59: 保健所への届出 | AI59: 件
F60: 退院請求 対応 | O60: 様 | Y60: 項目 | AG60: 内容
O61: 様 | Y61: 通院医療 観察法
F62: 入院患者 対応 | J62: 担当 | M62: 件数 | P62: 備考
O63: 件 | Y63: 認知症疾患 医療ｾﾝﾀｰ
O64: 件
O65: 件 | Y65: 各種会議参加 外部の業務
O66: 件
A67: 安全管理 | D67: 事故 | S67: 物品 購入 | AE67: 連絡 事項
D68: 苦情
D69: 紛失
D70: 他

Sheet 23
A1: ソーシャルワーカー室 業務日誌 | AH1: C.O.O | AL1: I.O.O | AP1: Ａ.Ｏ.Ｍ
H3: =曜日!B12 -> 令和4年 | M3: =曜日!C12 -> 5月 | P3: 23日 | S3: （ | T3: =曜日!D4 -> 月 | U3: ） | W3: 作成者 | Z3: ：
A5: 労務 状況 | D5: 勤務状況 | K5: 西舘 翔子 | T5: 小屋敷 千瑛 | AC5: 大川 祥子 | AL5: 吉田 久美子
K6: 野添 京子
A7: 入退院 状況 | D7: 入院形態 | K7: 東病棟 | Q7: 西病棟 | W7: 北病棟 | AC7: 南病棟 | AI7: 合計 | AO7: 総数
K8: 男性 | N8: 女性 | Q8: 男性 | T8: 女性 | W8: 男性 | Z8: 女性 | AC8: 男性 | AF8: 女性 | AI8: 男性 | AL8: 女性
D9: 任意入院 | AI9: =K9+Q9+W9+AC9 -> 0 | AL9: =N9+T9+Z9+AF9 -> 0 | AO9: =AI13 -> 0
D10: 医療保護入院 | AI10: =K10+Q10+W10+AC10 -> 0 | AL10: =N10+T10+Z10+AF10 -> 0
D11: 措置入院 | AI11: =K11+Q11+W11+AC11 -> 0 | AL11: =N11+T11+Z11+AF11 -> 0
D12: 合計 | K12: =K9+K10+K11 -> 0 | N12: =N9+N10+N11 -> 0 | Q12: =Q9+Q10+Q11 -> 0 | T12: =SUM(T9:V11) -> 0 | W12: =SUM(W9:Y11) -> 0 | Z12: =SUM(Z9:AB11) -> 0 | AC12: =SUM(AC9:AE11) -> 0 | AF12: =SUM(AF9:AH11) -> 0 | AI12: =SUM(K12+Q12+W12+AC12) -> 0 | AL12: =SUM(N12+T12+Z12+AF12) -> 0 | AO12: 人
K13: =K12+N12 -> 0 | Q13: =Q12+T12 -> 0 | W13: =W12+Z12 -> 0 | AC13: =AC12+AF12 -> 0 | AI13: =AI12+AL12 -> 0
F14: 患者様氏名 | N14: 入院形態 | T14: 担当Dr | Y14: 担当SW | AD14: 病棟 | AJ14: 備考欄
D15: 入院 | L15: 様
L16: 様
L17: 様
L18: 様
L19: 様
D20: 退院 | L20: 様
L21: 様
L22: 様
L23: 様
L24: 様
D25: 転棟 ･ 入院形態変更 | L25: 様
L26: 様
L27: 様
L28: 様
L29: 様
A30: 患者様 関連 | D30: 患者様氏名 | K30: 担当Dr | P30: 病棟 | S30: 制限内容 | X30: 制限時間 | AC30: 開始日時 | AO30: 備考
I31: 様 | AC31: 令和 | AF31: 年 | AH31: 月 | AJ31: 日 | AL31: ： | AN31: ～
I32: 様 | AC32: 令和 | AF32: 年 | AH32: 月 | AJ32: 日 | AL32: ： | AN32: ～
I33: 様 | AC33: 令和 | AF33: 年 | AH33: 月 | AJ33: 日 | AL33: ： | AN33: ～
I34: 様 | AC34: 令和 | AF34: 年 | AH34: 月 | AJ34: 日 | AL34: ： | AN34: ～
I35: 様 | AC35: 令和 | AF35: 年 | AH35: 月 | AJ35: 日 | AL35: ： | AN35: ～
I36: 様 | AC36: 令和 | AF36: 年 | AH36: 月 | AJ36: 日 | AL36: ： | AN36: ～
I37: 様 | AC37: 令和 | AF37: 年 | AH37: 月 | AJ37: 日 | AL37: ： | AN37: ～
I38: 様 | AC38: 令和 | AF38: 年 | AH38: 月 | AJ38: 日 | AL38: ： | AN38: ～
I39: 様 | AC39: 令和 | AF39: 年 | AH39: 月 | AJ39: 日 | AL39: ： | AN39: ～
I40: 様 | AC40: 令和 | AF40: 年 | AH40: 月 | AJ40: 日 | AL40: ： | AN40: ～
I41: 様 | AC41: 令和 | AF41: 年 | AH41: 月 | AJ41: 日 | AL41: ： | AN41: ～
I42: 様 | AC42: 令和 | AF42: 年 | AH42: 月 | AJ42: 日 | AL42: ： | AN42: ～
... I45: 様 | AC45: 令和 | AF45: 年 | AH45: 月 | AJ45: 日 | AL45: ： | AN45: ～
A46: 業務 内容 | D46: 項目 | J46: 患者様氏名 | P46: 担当 | S46: 備考 | Y46: 項目 | AA46: 患者様氏名 | AG46: 内容 | AQ46: 担当
D47: 外 来 患 者 対 応 | F47: 外来患者 対応 | O47: 様 | Y47: 書 類 作 成 完 了 | AF47: 様
O48: 様 | AF48: 様
O49: 様 | AF49: 様
O50: 様 | AF50: 様
O51: 様 | AF51: 様
O52: 様 | AF52: 様
O53: 様 | AF53: 様
D54: 項目 | J54: 患者様氏名 | P54: 担当 | S54: 備考 | AF54: 様
D55: 入 退 院 支 援 | F55: 退院支援 | O55: 様 | AF55: 様
O56: 様 | AF56: 様
O57: 様 | Y57: 項目 | AG57: 件数 | AJ57: 担当 | AM57: 備考
O58: 様 | Y58: 電話対応 | AI58: 件
O59: 様 | Y59: 保健所への届出 | AI59: 件
F60: 退院請求 対応 | O60: 様 | Y60: 項目 | AG60: 内容
O61: 様 | Y61: 通院医療 観察法
F62: 入院患者 対応 | J62: 担当 | M62: 件数 | P62: 備考
O63: 件 | Y63: 認知症疾患 医療ｾﾝﾀｰ
O64: 件
O65: 件 | Y65: 各種会議参加 外部の業務
O66: 件
A67: 安全管理 | D67: 事故 | S67: 物品 購入 | AE67: 連絡 事項
D68: 苦情
D69: 紛失
D70: 他

Sheet 24
A1: ソーシャルワーカー室 業務日誌 | AH1: C.O.O | AL1: I.O.O | AP1: Ａ.Ｏ.Ｍ
H3: =曜日!B12 -> 令和4年 | M3: =曜日!C12 -> 5月 | P3: 24日 | S3: （ | T3: =曜日!D5 -> 火 | U3: ） | W3: 作成者 | Z3: ：
A5: 労務 状況 | D5: 勤務状況 | K5: 西舘 翔子 | T5: 小屋敷 千瑛 | AC5: 大川 祥子 | AL5: 吉田 久美子
K6: 野添 京子
A7: 入退院 状況 | D7: 入院形態 | K7: 東病棟 | Q7: 西病棟 | W7: 北病棟 | AC7: 南病棟 | AI7: 合計 | AO7: 総数
K8: 男性 | N8: 女性 | Q8: 男性 | T8: 女性 | W8: 男性 | Z8: 女性 | AC8: 男性 | AF8: 女性 | AI8: 男性 | AL8: 女性
D9: 任意入院 | AI9: =K9+Q9+W9+AC9 -> 0 | AL9: =N9+T9+Z9+AF9 -> 0 | AO9: =AI13 -> 0
D10: 医療保護入院 | AI10: =K10+Q10+W10+AC10 -> 0 | AL10: =N10+T10+Z10+AF10 -> 0
D11: 措置入院 | AI11: =K11+Q11+W11+AC11 -> 0 | AL11: =N11+T11+Z11+AF11 -> 0
D12: 合計 | K12: =K9+K10+K11 -> 0 | N12: =N9+N10+N11 -> 0 | Q12: =Q9+Q10+Q11 -> 0 | T12: =SUM(T9:V11) -> 0 | W12: =SUM(W9:Y11) -> 0 | Z12: =SUM(Z9:AB11) -> 0 | AC12: =SUM(AC9:AE11) -> 0 | AF12: =SUM(AF9:AH11) -> 0 | AI12: =SUM(K12+Q12+W12+AC12) -> 0 | AL12: =SUM(N12+T12+Z12+AF12) -> 0 | AO12: 人
K13: =K12+N12 -> 0 | Q13: =Q12+T12 -> 0 | W13: =W12+Z12 -> 0 | AC13: =AC12+AF12 -> 0 | AI13: =AI12+AL12 -> 0
F14: 患者様氏名 | N14: 入院形態 | T14: 担当Dr | Y14: 担当SW | AD14: 病棟 | AJ14: 備考欄
D15: 入院 | L15: 様
L16: 様
L17: 様
L18: 様
L19: 様
D20: 退院 | L20: 様
L21: 様
L22: 様
L23: 様
L24: 様
D25: 転棟 ･ 入院形態変更 | L25: 様
L26: 様
L27: 様
L28: 様
L29: 様
A30: 患者様 関連 | D30: 患者様氏名 | K30: 担当Dr | P30: 病棟 | S30: 制限内容 | X30: 制限時間 | AC30: 開始日時 | AO30: 備考
I31: 様 | AC31: 令和 | AF31: 年 | AH31: 月 | AJ31: 日 | AL31: ： | AN31: ～
I32: 様 | AC32: 令和 | AF32: 年 | AH32: 月 | AJ32: 日 | AL32: ： | AN32: ～
I33: 様 | AC33: 令和 | AF33: 年 | AH33: 月 | AJ33: 日 | AL33: ： | AN33: ～
I34: 様 | AC34: 令和 | AF34: 年 | AH34: 月 | AJ34: 日 | AL34: ： | AN34: ～
I35: 様 | AC35: 令和 | AF35: 年 | AH35: 月 | AJ35: 日 | AL35: ： | AN35: ～
I36: 様 | AC36: 令和 | AF36: 年 | AH36: 月 | AJ36: 日 | AL36: ： | AN36: ～
I37: 様 | AC37: 令和 | AF37: 年 | AH37: 月 | AJ37: 日 | AL37: ： | AN37: ～
I38: 様 | AC38: 令和 | AF38: 年 | AH38: 月 | AJ38: 日 | AL38: ： | AN38: ～
I39: 様 | AC39: 令和 | AF39: 年 | AH39: 月 | AJ39: 日 | AL39: ： | AN39: ～
I40: 様 | AC40: 令和 | AF40: 年 | AH40: 月 | AJ40: 日 | AL40: ： | AN40: ～
I41: 様 | AC41: 令和 | AF41: 年 | AH41: 月 | AJ41: 日 | AL41: ： | AN41: ～
I42: 様 | AC42: 令和 | AF42: 年 | AH42: 月 | AJ42: 日 | AL42: ： | AN42: ～
... I45: 様 | AC45: 令和 | AF45: 年 | AH45: 月 | AJ45: 日 | AL45: ： | AN45: ～
A46: 業務 内容 | D46: 項目 | J46: 患者様氏名 | P46: 担当 | S46: 備考 | Y46: 項目 | AA46: 患者様氏名 | AG46: 内容 | AQ46: 担当
D47: 外 来 患 者 対 応 | F47: 外来患者 対応 | O47: 様 | Y47: 書 類 作 成 完 了 | AF47: 様
O48: 様 | AF48: 様
O49: 様 | AF49: 様
O50: 様 | AF50: 様
O51: 様 | AF51: 様
O52: 様 | AF52: 様
O53: 様 | AF53: 様
D54: 項目 | J54: 患者様氏名 | P54: 担当 | S54: 備考 | AF54: 様
D55: 入 退 院 支 援 | F55: 退院支援 | O55: 様 | AF55: 様
O56: 様 | AF56: 様
O57: 様 | Y57: 項目 | AG57: 件数 | AJ57: 担当 | AM57: 備考
O58: 様 | Y58: 電話対応 | AI58: 件
O59: 様 | Y59: 保健所への届出 | AI59: 件
F60: 退院請求 対応 | O60: 様 | Y60: 項目 | AG60: 内容
O61: 様 | Y61: 通院医療 観察法
F62: 入院患者 対応 | J62: 担当 | M62: 件数 | P62: 備考
O63: 件 | Y63: 認知症疾患 医療ｾﾝﾀｰ
O64: 件
O65: 件 | Y65: 各種会議参加 外部の業務
O66: 件
A67: 安全管理 | D67: 事故 | S67: 物品 購入 | AE67: 連絡 事項
D68: 苦情
D69: 紛失
D70: 他

Sheet 25
A1: ソーシャルワーカー室 業務日誌 | AH1: C.O.O | AL1: I.O.O | AP1: Ａ.Ｏ.Ｍ
H3: =曜日!B12 -> 令和4年 | M3: =曜日!C12 -> 5月 | P3: 25日 | S3: （ | T3: =曜日!D6 -> 水 | U3: ） | W3: 作成者 | Z3: ：
A5: 労務 状況 | D5: 勤務状況 | K5: 西舘 翔子 | T5: 小屋敷 千瑛 | AC5: 大川 祥子 | AL5: 吉田 久美子
K6: 野添 京子
A7: 入退院 状況 | D7: 入院形態 | K7: 東病棟 | Q7: 西病棟 | W7: 北病棟 | AC7: 南病棟 | AI7: 合計 | AO7: 総数
K8: 男性 | N8: 女性 | Q8: 男性 | T8: 女性 | W8: 男性 | Z8: 女性 | AC8: 男性 | AF8: 女性 | AI8: 男性 | AL8: 女性
D9: 任意入院 | AI9: =K9+Q9+W9+AC9 -> 0 | AL9: =N9+T9+Z9+AF9 -> 0 | AO9: =AI13 -> 0
D10: 医療保護入院 | AI10: =K10+Q10+W10+AC10 -> 0 | AL10: =N10+T10+Z10+AF10 -> 0
D11: 措置入院 | AI11: =K11+Q11+W11+AC11 -> 0 | AL11: =N11+T11+Z11+AF11 -> 0
D12: 合計 | K12: =K9+K10+K11 -> 0 | N12: =N9+N10+N11 -> 0 | Q12: =Q9+Q10+Q11 -> 0 | T12: =SUM(T9:V11) -> 0 | W12: =SUM(W9:Y11) -> 0 | Z12: =SUM(Z9:AB11) -> 0 | AC12: =SUM(AC9:AE11) -> 0 | AF12: =SUM(AF9:AH11) -> 0 | AI12: =SUM(K12+Q12+W12+AC12) -> 0 | AL12: =SUM(N12+T12+Z12+AF12) -> 0 | AO12: 人
K13: =K12+N12 -> 0 | Q13: =Q12+T12 -> 0 | W13: =W12+Z12 -> 0 | AC13: =AC12+AF12 -> 0 | AI13: =AI12+AL12 -> 0
F14: 患者様氏名 | N14: 入院形態 | T14: 担当Dr | Y14: 担当SW | AD14: 病棟 | AJ14: 備考欄
D15: 入院 | L15: 様
L16: 様
L17: 様
L18: 様
L19: 様
D20: 退院 | L20: 様
L21: 様
L22: 様
L23: 様
L24: 様
D25: 転棟 ･ 入院形態変更 | L25: 様
L26: 様
L27: 様
L28: 様
L29: 様
A30: 患者様 関連 | D30: 患者様氏名 | K30: 担当Dr | P30: 病棟 | S30: 制限内容 | X30: 制限時間 | AC30: 開始日時 | AO30: 備考
I31: 様 | AC31: 令和 | AF31: 年 | AH31: 月 | AJ31: 日 | AL31: ： | AN31: ～
I32: 様 | AC32: 令和 | AF32: 年 | AH32: 月 | AJ32: 日 | AL32: ： | AN32: ～
I33: 様 | AC33: 令和 | AF33: 年 | AH33: 月 | AJ33: 日 | AL33: ： | AN33: ～
I34: 様 | AC34: 令和 | AF34: 年 | AH34: 月 | AJ34: 日 | AL34: ： | AN34: ～
I35: 様 | AC35: 令和 | AF35: 年 | AH35: 月 | AJ35: 日 | AL35: ： | AN35: ～
I36: 様 | AC36: 令和 | AF36: 年 | AH36: 月 | AJ36: 日 | AL36: ： | AN36: ～
I37: 様 | AC37: 令和 | AF37: 年 | AH37: 月 | AJ37: 日 | AL37: ： | AN37: ～
I38: 様 | AC38: 令和 | AF38: 年 | AH38: 月 | AJ38: 日 | AL38: ： | AN38: ～
I39: 様 | AC39: 令和 | AF39: 年 | AH39: 月 | AJ39: 日 | AL39: ： | AN39: ～
I40: 様 | AC40: 令和 | AF40: 年 | AH40: 月 | AJ40: 日 | AL40: ： | AN40: ～
I41: 様 | AC41: 令和 | AF41: 年 | AH41: 月 | AJ41: 日 | AL41: ： | AN41: ～
I42: 様 | AC42: 令和 | AF42: 年 | AH42: 月 | AJ42: 日 | AL42: ： | AN42: ～
... I45: 様 | AC45: 令和 | AF45: 年 | AH45: 月 | AJ45: 日 | AL45: ： | AN45: ～
A46: 業務 内容 | D46: 項目 | J46: 患者様氏名 | P46: 担当 | S46: 備考 | Y46: 項目 | AA46: 患者様氏名 | AG46: 内容 | AQ46: 担当
D47: 外 来 患 者 対 応 | F47: 外来患者 対応 | O47: 様 | Y47: 書 類 作 成 完 了 | AF47: 様
O48: 様 | AF48: 様
O49: 様 | AF49: 様
O50: 様 | AF50: 様
O51: 様 | AF51: 様
O52: 様 | AF52: 様
O53: 様 | AF53: 様
D54: 項目 | J54: 患者様氏名 | P54: 担当 | S54: 備考 | AF54: 様
D55: 入 退 院 支 援 | F55: 退院支援 | O55: 様 | AF55: 様
O56: 様 | AF56: 様
O57: 様 | Y57: 項目 | AG57: 件数 | AJ57: 担当 | AM57: 備考
O58: 様 | Y58: 電話対応 | AI58: 件
O59: 様 | Y59: 保健所への届出 | AI59: 件
F60: 退院請求 対応 | O60: 様 | Y60: 項目 | AG60: 内容
O61: 様 | Y61: 通院医療 観察法
F62: 入院患者 対応 | J62: 担当 | M62: 件数 | P62: 備考
O63: 件 | Y63: 認知症疾患 医療ｾﾝﾀｰ
O64: 件
O65: 件 | Y65: 各種会議参加 外部の業務
O66: 件
A67: 安全管理 | D67: 事故 | S67: 物品 購入 | AE67: 連絡 事項
D68: 苦情
D69: 紛失
D70: 他

Sheet 26
A1: ソーシャルワーカー室 業務日誌 | AH1: C.O.O | AL1: I.O.O | AP1: Ａ.Ｏ.Ｍ
H3: =曜日!B12 -> 令和4年 | M3: =曜日!C12 -> 5月 | P3: 26日 | S3: （ | T3: =曜日!D7 -> 木 | U3: ） | W3: 作成者 | Z3: ：
A5: 労務 状況 | D5: 勤務状況 | K5: 西舘 翔子 | T5: 小屋敷 千瑛 | AC5: 大川 祥子 | AL5: 吉田 久美子
K6: 野添 京子
A7: 入退院 状況 | D7: 入院形態 | K7: 東病棟 | Q7: 西病棟 | W7: 北病棟 | AC7: 南病棟 | AI7: 合計 | AO7: 総数
K8: 男性 | N8: 女性 | Q8: 男性 | T8: 女性 | W8: 男性 | Z8: 女性 | AC8: 男性 | AF8: 女性 | AI8: 男性 | AL8: 女性
D9: 任意入院 | AI9: =K9+Q9+W9+AC9 -> 0 | AL9: =N9+T9+Z9+AF9 -> 0 | AO9: =AI13 -> 0
D10: 医療保護入院 | AI10: =K10+Q10+W10+AC10 -> 0 | AL10: =N10+T10+Z10+AF10 -> 0
D11: 措置入院 | AI11: =K11+Q11+W11+AC11 -> 0 | AL11: =N11+T11+Z11+AF11 -> 0
D12: 合計 | K12: =K9+K10+K11 -> 0 | N12: =N9+N10+N11 -> 0 | Q12: =Q9+Q10+Q11 -> 0 | T12: =SUM(T9:V11) -> 0 | W12: =SUM(W9:Y11) -> 0 | Z12: =SUM(Z9:AB11) -> 0 | AC12: =SUM(AC9:AE11) -> 0 | AF12: =SUM(AF9:AH11) -> 0 | AI12: =SUM(K12+Q12+W12+AC12) -> 0 | AL12: =SUM(N12+T12+Z12+AF12) -> 0 | AO12: 人
K13: =K12+N12 -> 0 | Q13: =Q12+T12 -> 0 | W13: =W12+Z12 -> 0 | AC13: =AC12+AF12 -> 0 | AI13: =AI12+AL12 -> 0
F14: 患者様氏名 | N14: 入院形態 | T14: 担当Dr | Y14: 担当SW | AD14: 病棟 | AJ14: 備考欄
D15: 入院 | L15: 様
L16: 様
L17: 様
L18: 様
L19: 様
D20: 退院 | L20: 様
L21: 様
L22: 様
L23: 様
L24: 様
D25: 転棟 ･ 入院形態変更 | L25: 様
L26: 様
L27: 様
L28: 様
L29: 様
A30: 患者様 関連 | D30: 患者様氏名 | K30: 担当Dr | P30: 病棟 | S30: 制限内容 | X30: 制限時間 | AC30: 開始日時 | AO30: 備考
I31: 様 | AC31: 令和 | AF31: 年 | AH31: 月 | AJ31: 日 | AL31: ： | AN31: ～
I32: 様 | AC32: 令和 | AF32: 年 | AH32: 月 | AJ32: 日 | AL32: ： | AN32: ～
I33: 様 | AC33: 令和 | AF33: 年 | AH33: 月 | AJ33: 日 | AL33: ： | AN33: ～
I34: 様 | AC34: 令和 | AF34: 年 | AH34: 月 | AJ34: 日 | AL34: ： | AN34: ～
I35: 様 | AC35: 令和 | AF35: 年 | AH35: 月 | AJ35: 日 | AL35: ： | AN35: ～
I36: 様 | AC36: 令和 | AF36: 年 | AH36: 月 | AJ36: 日 | AL36: ： | AN36: ～
I37: 様 | AC37: 令和 | AF37: 年 | AH37: 月 | AJ37: 日 | AL37: ： | AN37: ～
I38: 様 | AC38: 令和 | AF38: 年 | AH38: 月 | AJ38: 日 | AL38: ： | AN38: ～
I39: 様 | AC39: 令和 | AF39: 年 | AH39: 月 | AJ39: 日 | AL39: ： | AN39: ～
I40: 様 | AC40: 令和 | AF40: 年 | AH40: 月 | AJ40: 日 | AL40: ： | AN40: ～
I41: 様 | AC41: 令和 | AF41: 年 | AH41: 月 | AJ41: 日 | AL41: ： | AN41: ～
I42: 様 | AC42: 令和 | AF42: 年 | AH42: 月 | AJ42: 日 | AL42: ： | AN42: ～
... I45: 様 | AC45: 令和 | AF45: 年 | AH45: 月 | AJ45: 日 | AL45: ： | AN45: ～
A46: 業務 内容 | D46: 項目 | J46: 患者様氏名 | P46: 担当 | S46: 備考 | Y46: 項目 | AA46: 患者様氏名 | AG46: 内容 | AQ46: 担当
D47: 外 来 患 者 対 応 | F47: 外来患者 対応 | O47: 様 | Y47: 書 類 作 成 完 了 | AF47: 様
O48: 様 | AF48: 様
O49: 様 | AF49: 様
O50: 様 | AF50: 様
O51: 様 | AF51: 様
O52: 様 | AF52: 様
O53: 様 | AF53: 様
D54: 項目 | J54: 患者様氏名 | P54: 担当 | S54: 備考 | AF54: 様
D55: 入 退 院 支 援 | F55: 退院支援 | O55: 様 | AF55: 様
O56: 様 | AF56: 様
O57: 様 | Y57: 項目 | AG57: 件数 | AJ57: 担当 | AM57: 備考
O58: 様 | Y58: 電話対応 | AI58: 件
O59: 様 | Y59: 保健所への届出 | AI59: 件
F60: 退院請求 対応 | O60: 様 | Y60: 項目 | AG60: 内容
O61: 様 | Y61: 通院医療 観察法
F62: 入院患者 対応 | J62: 担当 | M62: 件数 | P62: 備考
O63: 件 | Y63: 認知症疾患 医療ｾﾝﾀｰ
O64: 件
O65: 件 | Y65: 各種会議参加 外部の業務
O66: 件
A67: 安全管理 | D67: 事故 | S67: 物品 購入 | AE67: 連絡 事項
D68: 苦情
D69: 紛失
D70: 他

Sheet 27
A1: ソーシャルワーカー室 業務日誌 | AH1: C.O.O | AL1: I.O.O | AP1: Ａ.Ｏ.Ｍ
H3: =曜日!B12 -> 令和4年 | M3: =曜日!C12 -> 5月 | P3: 27日 | S3: （ | T3: =曜日!D8 -> 金 | U3: ） | W3: 作成者 | Z3: ：
A5: 労務 状況 | D5: 勤務状況 | K5: 西舘 翔子 | T5: 小屋敷 千瑛 | AC5: 大川 祥子 | AL5: 吉田 久美子
K6: 野添 京子
A7: 入退院 状況 | D7: 入院形態 | K7: 東病棟 | Q7: 西病棟 | W7: 北病棟 | AC7: 南病棟 | AI7: 合計 | AO7: 総数
K8: 男性 | N8: 女性 | Q8: 男性 | T8: 女性 | W8: 男性 | Z8: 女性 | AC8: 男性 | AF8: 女性 | AI8: 男性 | AL8: 女性
D9: 任意入院 | AI9: =K9+Q9+W9+AC9 -> 0 | AL9: =N9+T9+Z9+AF9 -> 0 | AO9: =AI13 -> 0
D10: 医療保護入院 | AI10: =K10+Q10+W10+AC10 -> 0 | AL10: =N10+T10+Z10+AF10 -> 0
D11: 措置入院 | AI11: =K11+Q11+W11+AC11 -> 0 | AL11: =N11+T11+Z11+AF11 -> 0
D12: 合計 | K12: =K9+K10+K11 -> 0 | N12: =N9+N10+N11 -> 0 | Q12: =Q9+Q10+Q11 -> 0 | T12: =SUM(T9:V11) -> 0 | W12: =SUM(W9:Y11) -> 0 | Z12: =SUM(Z9:AB11) -> 0 | AC12: =SUM(AC9:AE11) -> 0 | AF12: =SUM(AF9:AH11) -> 0 | AI12: =SUM(K12+Q12+W12+AC12) -> 0 | AL12: =SUM(N12+T12+Z12+AF12) -> 0 | AO12: 人
K13: =K12+N12 -> 0 | Q13: =Q12+T12 -> 0 | W13: =W12+Z12 -> 0 | AC13: =AC12+AF12 -> 0 | AI13: =AI12+AL12 -> 0
F14: 患者様氏名 | N14: 入院形態 | T14: 担当Dr | Y14: 担当SW | AD14: 病棟 | AJ14: 備考欄
D15: 入院 | L15: 様
L16: 様
L17: 様
L18: 様
L19: 様
D20: 退院 | L20: 様
L21: 様
L22: 様
L23: 様
L24: 様
D25: 転棟 ･ 入院形態変更 | L25: 様
L26: 様
L27: 様
L28: 様
L29: 様
A30: 患者様 関連 | D30: 患者様氏名 | K30: 担当Dr | P30: 病棟 | S30: 制限内容 | X30: 制限時間 | AC30: 開始日時 | AO30: 備考
I31: 様 | AC31: 令和 | AF31: 年 | AH31: 月 | AJ31: 日 | AL31: ： | AN31: ～
I32: 様 | AC32: 令和 | AF32: 年 | AH32: 月 | AJ32: 日 | AL32: ： | AN32: ～
I33: 様 | AC33: 令和 | AF33: 年 | AH33: 月 | AJ33: 日 | AL33: ： | AN33: ～
I34: 様 | AC34: 令和 | AF34: 年 | AH34: 月 | AJ34: 日 | AL34: ： | AN34: ～
I35: 様 | AC35: 令和 | AF35: 年 | AH35: 月 | AJ35: 日 | AL35: ： | AN35: ～
I36: 様 | AC36: 令和 | AF36: 年 | AH36: 月 | AJ36: 日 | AL36: ： | AN36: ～
I37: 様 | AC37: 令和 | AF37: 年 | AH37: 月 | AJ37: 日 | AL37: ： | AN37: ～
I38: 様 | AC38: 令和 | AF38: 年 | AH38: 月 | AJ38: 日 | AL38: ： | AN38: ～
I39: 様 | AC39: 令和 | AF39: 年 | AH39: 月 | AJ39: 日 | AL39: ： | AN39: ～
I40: 様 | AC40: 令和 | AF40: 年 | AH40: 月 | AJ40: 日 | AL40: ： | AN40: ～
I41: 様 | AC41: 令和 | AF41: 年 | AH41: 月 | AJ41: 日 | AL41: ： | AN41: ～
I42: 様 | AC42: 令和 | AF42: 年 | AH42: 月 | AJ42: 日 | AL42: ： | AN42: ～
... I45: 様 | AC45: 令和 | AF45: 年 | AH45: 月 | AJ45: 日 | AL45: ： | AN45: ～
A46: 業務 内容 | D46: 項目 | J46: 患者様氏名 | P46: 担当 | S46: 備考 | Y46: 項目 | AA46: 患者様氏名 | AG46: 内容 | AQ46: 担当
D47: 外 来 患 者 対 応 | F47: 外来患者 対応 | O47: 様 | Y47: 書 類 作 成 完 了 | AF47: 様
O48: 様 | AF48: 様
O49: 様 | AF49: 様
O50: 様 | AF50: 様
O51: 様 | AF51: 様
O52: 様 | AF52: 様
O53: 様 | AF53: 様
D54: 項目 | J54: 患者様氏名 | P54: 担当 | S54: 備考 | AF54: 様
D55: 入 退 院 支 援 | F55: 退院支援 | O55: 様 | AF55: 様
O56: 様 | AF56: 様
O57: 様 | Y57: 項目 | AG57: 件数 | AJ57: 担当 | AM57: 備考
O58: 様 | Y58: 電話対応 | AI58: 件
O59: 様 | Y59: 保健所への届出 | AI59: 件
F60: 退院請求 対応 | O60: 様 | Y60: 項目 | AG60: 内容
O61: 様 | Y61: 通院医療 観察法
F62: 入院患者 対応 | J62: 担当 | M62: 件数 | P62: 備考
O63: 件 | Y63: 認知症疾患 医療ｾﾝﾀｰ
O64: 件
O65: 件 | Y65: 各種会議参加 外部の業務
O66: 件
A67: 安全管理 | D67: 事故 | S67: 物品 購入 | AE67: 連絡 事項
D68: 苦情
D69: 紛失
D70: 他

Sheet 28
A1: ソーシャルワーカー室 業務日誌 | AH1: C.O.O | AL1: I.O.O | AP1: Ａ.Ｏ.Ｍ
H3: =曜日!B12 -> 令和4年 | M3: =曜日!C12 -> 5月 | P3: 28日 | S3: （ | T3: =曜日!D9 -> 土 | U3: ） | W3: 作成者 | Z3: ：
A5: 労務 状況 | D5: 勤務状況 | K5: 西舘 翔子 | T5: 小屋敷 千瑛 | AC5: 大川 祥子 | AL5: 吉田 久美子
K6: 野添 京子
A7: 入退院 状況 | D7: 入院形態 | K7: 東病棟 | Q7: 西病棟 | W7: 北病棟 | AC7: 南病棟 | AI7: 合計 | AO7: 総数
K8: 男性 | N8: 女性 | Q8: 男性 | T8: 女性 | W8: 男性 | Z8: 女性 | AC8: 男性 | AF8: 女性 | AI8: 男性 | AL8: 女性
D9: 任意入院 | AI9: =K9+Q9+W9+AC9 -> 0 | AL9: =N9+T9+Z9+AF9 -> 0 | AO9: =AI13 -> 0
D10: 医療保護入院 | AI10: =K10+Q10+W10+AC10 -> 0 | AL10: =N10+T10+Z10+AF10 -> 0
D11: 措置入院 | AI11: =K11+Q11+W11+AC11 -> 0 | AL11: =N11+T11+Z11+AF11 -> 0
D12: 合計 | K12: =K9+K10+K11 -> 0 | N12: =N9+N10+N11 -> 0 | Q12: =Q9+Q10+Q11 -> 0 | T12: =SUM(T9:V11) -> 0 | W12: =SUM(W9:Y11) -> 0 | Z12: =SUM(Z9:AB11) -> 0 | AC12: =SUM(AC9:AE11) -> 0 | AF12: =SUM(AF9:AH11) -> 0 | AI12: =SUM(K12+Q12+W12+AC12) -> 0 | AL12: =SUM(N12+T12+Z12+AF12) -> 0 | AO12: 人
K13: =K12+N12 -> 0 | Q13: =Q12+T12 -> 0 | W13: =W12+Z12 -> 0 | AC13: =AC12+AF12 -> 0 | AI13: =AI12+AL12 -> 0
F14: 患者様氏名 | N14: 入院形態 | T14: 担当Dr | Y14: 担当SW | AD14: 病棟 | AJ14: 備考欄
D15: 入院 | L15: 様
L16: 様
L17: 様
L18: 様
L19: 様
D20: 退院 | L20: 様
L21: 様
L22: 様
L23: 様
L24: 様
D25: 転棟 ･ 入院形態変更 | L25: 様
L26: 様
L27: 様
L28: 様
L29: 様
A30: 患者様 関連 | D30: 患者様氏名 | K30: 担当Dr | P30: 病棟 | S30: 制限内容 | X30: 制限時間 | AC30: 開始日時 | AO30: 備考
I31: 様 | AC31: 令和 | AF31: 年 | AH31: 月 | AJ31: 日 | AL31: ： | AN31: ～
I32: 様 | AC32: 令和 | AF32: 年 | AH32: 月 | AJ32: 日 | AL32: ： | AN32: ～
I33: 様 | AC33: 令和 | AF33: 年 | AH33: 月 | AJ33: 日 | AL33: ： | AN33: ～
I34: 様 | AC34: 令和 | AF34: 年 | AH34: 月 | AJ34: 日 | AL34: ： | AN34: ～
I35: 様 | AC35: 令和 | AF35: 年 | AH35: 月 | AJ35: 日 | AL35: ： | AN35: ～
I36: 様 | AC36: 令和 | AF36: 年 | AH36: 月 | AJ36: 日 | AL36: ： | AN36: ～
I37: 様 | AC37: 令和 | AF37: 年 | AH37: 月 | AJ37: 日 | AL37: ： | AN37: ～
I38: 様 | AC38: 令和 | AF38: 年 | AH38: 月 | AJ38: 日 | AL38: ： | AN38: ～
I39: 様 | AC39: 令和 | AF39: 年 | AH39: 月 | AJ39: 日 | AL39: ： | AN39: ～
I40: 様 | AC40: 令和 | AF40: 年 | AH40: 月 | AJ40: 日 | AL40: ： | AN40: ～
I41: 様 | AC41: 令和 | AF41: 年 | AH41: 月 | AJ41: 日 | AL41: ： | AN41: ～
I42: 様 | AC42: 令和 | AF42: 年 | AH42: 月 | AJ42: 日 | AL42: ： | AN42: ～
... I45: 様 | AC45: 令和 | AF45: 年 | AH45: 月 | AJ45: 日 | AL45: ： | AN45: ～
A46: 業務 内容 | D46: 項目 | J46: 患者様氏名 | P46: 担当 | S46: 備考 | Y46: 項目 | AA46: 患者様氏名 | AG46: 内容 | AQ46: 担当
D47: 外 来 患 者 対 応 | F47: 外来患者 対応 | O47: 様 | Y47: 書 類 作 成 完 了 | AF47: 様
O48: 様 | AF48: 様
O49: 様 | AF49: 様
O50: 様 | AF50: 様
O51: 様 | AF51: 様
O52: 様 | AF52: 様
O53: 様 | AF53: 様
D54: 項目 | J54: 患者様氏名 | P54: 担当 | S54: 備考 | AF54: 様
D55: 入 退 院 支 援 | F55: 退院支援 | O55: 様 | AF55: 様
O56: 様 | AF56: 様
O57: 様 | Y57: 項目 | AG57: 件数 | AJ57: 担当 | AM57: 備考
O58: 様 | Y58: 電話対応 | AI58: 件
O59: 様 | Y59: 保健所への届出 | AI59: 件
F60: 退院請求 対応 | O60: 様 | Y60: 項目 | AG60: 内容
O61: 様 | Y61: 通院医療 観察法
F62: 入院患者 対応 | J62: 担当 | M62: 件数 | P62: 備考
O63: 件 | Y63: 認知症疾患 医療ｾﾝﾀｰ
O64: 件
O65: 件 | Y65: 各種会議参加 外部の業務
O66: 件
A67: 安全管理 | D67: 事故 | S67: 物品 購入 | AE67: 連絡 事項
D68: 苦情
D69: 紛失
D70: 他

Sheet 29
A1: ソーシャルワーカー室 業務日誌 | AH1: C.O.O | AL1: I.O.O | AP1: Ａ.Ｏ.Ｍ
H3: =曜日!B12 -> 令和4年 | M3: =曜日!C12 -> 5月 | P3: 29日 | S3: （ | T3: =曜日!D3 -> 日 | U3: ） | W3: 作成者 | Z3: ：
A5: 労務 状況 | D5: 勤務状況 | K5: 西舘 翔子 | T5: 小屋敷 千瑛 | AC5: 大川 祥子 | AL5: 吉田 久美子
K6: 野添 京子
A7: 入退院 状況 | D7: 入院形態 | K7: 東病棟 | Q7: 西病棟 | W7: 北病棟 | AC7: 南病棟 | AI7: 合計 | AO7: 総数
K8: 男性 | N8: 女性 | Q8: 男性 | T8: 女性 | W8: 男性 | Z8: 女性 | AC8: 男性 | AF8: 女性 | AI8: 男性 | AL8: 女性
D9: 任意入院 | AI9: =K9+Q9+W9+AC9 -> 0 | AL9: =N9+T9+Z9+AF9 -> 0 | AO9: =AI13 -> 0
D10: 医療保護入院 | AI10: =K10+Q10+W10+AC10 -> 0 | AL10: =N10+T10+Z10+AF10 -> 0
D11: 措置入院 | AI11: =K11+Q11+W11+AC11 -> 0 | AL11: =N11+T11+Z11+AF11 -> 0
D12: 合計 | K12: =K9+K10+K11 -> 0 | N12: =N9+N10+N11 -> 0 | Q12: =Q9+Q10+Q11 -> 0 | T12: =SUM(T9:V11) -> 0 | W12: =SUM(W9:Y11) -> 0 | Z12: =SUM(Z9:AB11) -> 0 | AC12: =SUM(AC9:AE11) -> 0 | AF12: =SUM(AF9:AH11) -> 0 | AI12: =SUM(K12+Q12+W12+AC12) -> 0 | AL12: =SUM(N12+T12+Z12+AF12) -> 0 | AO12: 人
K13: =K12+N12 -> 0 | Q13: =Q12+T12 -> 0 | W13: =W12+Z12 -> 0 | AC13: =AC12+AF12 -> 0 | AI13: =AI12+AL12 -> 0
F14: 患者様氏名 | N14: 入院形態 | T14: 担当Dr | Y14: 担当SW | AD14: 病棟 | AJ14: 備考欄
D15: 入院 | L15: 様
L16: 様
L17: 様
L18: 様
L19: 様
D20: 退院 | L20: 様
L21: 様
L22: 様
L23: 様
L24: 様
D25: 転棟 ･ 入院形態変更 | L25: 様
L26: 様
L27: 様
L28: 様
L29: 様
A30: 患者様 関連 | D30: 患者様氏名 | K30: 担当Dr | P30: 病棟 | S30: 制限内容 | X30: 制限時間 | AC30: 開始日時 | AO30: 備考
I31: 様 | AC31: 令和 | AF31: 年 | AH31: 月 | AJ31: 日 | AL31: ： | AN31: ～
I32: 様 | AC32: 令和 | AF32: 年 | AH32: 月 | AJ32: 日 | AL32: ： | AN32: ～
I33: 様 | AC33: 令和 | AF33: 年 | AH33: 月 | AJ33: 日 | AL33: ： | AN33: ～
I34: 様 | AC34: 令和 | AF34: 年 | AH34: 月 | AJ34: 日 | AL34: ： | AN34: ～
I35: 様 | AC35: 令和 | AF35: 年 | AH35: 月 | AJ35: 日 | AL35: ： | AN35: ～
I36: 様 | AC36: 令和 | AF36: 年 | AH36: 月 | AJ36: 日 | AL36: ： | AN36: ～
I37: 様 | AC37: 令和 | AF37: 年 | AH37: 月 | AJ37: 日 | AL37: ： | AN37: ～
I38: 様 | AC38: 令和 | AF38: 年 | AH38: 月 | AJ38: 日 | AL38: ： | AN38: ～
I39: 様 | AC39: 令和 | AF39: 年 | AH39: 月 | AJ39: 日 | AL39: ： | AN39: ～
I40: 様 | AC40: 令和 | AF40: 年 | AH40: 月 | AJ40: 日 | AL40: ： | AN40: ～
I41: 様 | AC41: 令和 | AF41: 年 | AH41: 月 | AJ41: 日 | AL41: ： | AN41: ～
I42: 様 | AC42: 令和 | AF42: 年 | AH42: 月 | AJ42: 日 | AL42: ： | AN42: ～
... I45: 様 | AC45: 令和 | AF45: 年 | AH45: 月 | AJ45: 日 | AL45: ： | AN45: ～
A46: 業務 内容 | D46: 項目 | J46: 患者様氏名 | P46: 担当 | S46: 備考 | Y46: 項目 | AA46: 患者様氏名 | AG46: 内容 | AQ46: 担当
D47: 外 来 患 者 対 応 | F47: 外来患者 対応 | O47: 様 | Y47: 書 類 作 成 完 了 | AF47: 様
O48: 様 | AF48: 様
O49: 様 | AF49: 様
O50: 様 | AF50: 様
O51: 様 | AF51: 様
O52: 様 | AF52: 様
O53: 様 | AF53: 様
D54: 項目 | J54: 患者様氏名 | P54: 担当 | S54: 備考 | AF54: 様
D55: 入 退 院 支 援 | F55: 退院支援 | O55: 様 | AF55: 様
O56: 様 | AF56: 様
O57: 様 | Y57: 項目 | AG57: 件数 | AJ57: 担当 | AM57: 備考
O58: 様 | Y58: 電話対応 | AI58: 件
O59: 様 | Y59: 保健所への届出 | AI59: 件
F60: 退院請求 対応 | O60: 様 | Y60: 項目 | AG60: 内容
O61: 様 | Y61: 通院医療 観察法
F62: 入院患者 対応 | J62: 担当 | M62: 件数 | P62: 備考
O63: 件 | Y63: 認知症疾患 医療ｾﾝﾀｰ
O64: 件
O65: 件 | Y65: 各種会議参加 外部の業務
O66: 件
A67: 安全管理 | D67: 事故 | S67: 物品 購入 | AE67: 連絡 事項
D68: 苦情
D69: 紛失
D70: 他

Sheet 30
A1: ソーシャルワーカー室 業務日誌 | AH1: C.O.O | AL1: I.O.O | AP1: Ａ.Ｏ.Ｍ
H3: =曜日!B12 -> 令和4年 | M3: =曜日!C12 -> 5月 | P3: 30日 | S3: （ | T3: =曜日!D4 -> 月 | U3: ） | W3: 作成者 | Z3: ：
A5: 労務 状況 | D5: 勤務状況 | K5: 西舘 翔子 | T5: 小屋敷 千瑛 | AC5: 大川 祥子 | AL5: 吉田 久美子
K6: 野添 京子
A7: 入退院 状況 | D7: 入院形態 | K7: 東病棟 | Q7: 西病棟 | W7: 北病棟 | AC7: 南病棟 | AI7: 合計 | AO7: 総数
K8: 男性 | N8: 女性 | Q8: 男性 | T8: 女性 | W8: 男性 | Z8: 女性 | AC8: 男性 | AF8: 女性 | AI8: 男性 | AL8: 女性
D9: 任意入院 | AI9: =K9+Q9+W9+AC9 -> 0 | AL9: =N9+T9+Z9+AF9 -> 0 | AO9: =AI13 -> 0
D10: 医療保護入院 | AI10: =K10+Q10+W10+AC10 -> 0 | AL10: =N10+T10+Z10+AF10 -> 0
D11: 措置入院 | AI11: =K11+Q11+W11+AC11 -> 0 | AL11: =N11+T11+Z11+AF11 -> 0
D12: 合計 | K12: =K9+K10+K11 -> 0 | N12: =N9+N10+N11 -> 0 | Q12: =Q9+Q10+Q11 -> 0 | T12: =SUM(T9:V11) -> 0 | W12: =SUM(W9:Y11) -> 0 | Z12: =SUM(Z9:AB11) -> 0 | AC12: =SUM(AC9:AE11) -> 0 | AF12: =SUM(AF9:AH11) -> 0 | AI12: =SUM(K12+Q12+W12+AC12) -> 0 | AL12: =SUM(N12+T12+Z12+AF12) -> 0 | AO12: 人
K13: =K12+N12 -> 0 | Q13: =Q12+T12 -> 0 | W13: =W12+Z12 -> 0 | AC13: =AC12+AF12 -> 0 | AI13: =AI12+AL12 -> 0
F14: 患者様氏名 | N14: 入院形態 | T14: 担当Dr | Y14: 担当SW | AD14: 病棟 | AJ14: 備考欄
D15: 入院 | L15: 様
L16: 様
L17: 様
L18: 様
L19: 様
D20: 退院 | L20: 様
L21: 様
L22: 様
L23: 様
L24: 様
D25: 転棟 ･ 入院形態変更 | L25: 様
L26: 様
L27: 様
L28: 様
L29: 様
A30: 患者様 関連 | D30: 患者様氏名 | K30: 担当Dr | P30: 病棟 | S30: 制限内容 | X30: 制限時間 | AC30: 開始日時 | AO30: 備考
I31: 様 | AC31: 令和 | AF31: 年 | AH31: 月 | AJ31: 日 | AL31: ： | AN31: ～
I32: 様 | AC32: 令和 | AF32: 年 | AH32: 月 | AJ32: 日 | AL32: ： | AN32: ～
I33: 様 | AC33: 令和 | AF33: 年 | AH33: 月 | AJ33: 日 | AL33: ： | AN33: ～
I34: 様 | AC34: 令和 | AF34: 年 | AH34: 月 | AJ34: 日 | AL34: ： | AN34: ～
I35: 様 | AC35: 令和 | AF35: 年 | AH35: 月 | AJ35: 日 | AL35: ： | AN35: ～
I36: 様 | AC36: 令和 | AF36: 年 | AH36: 月 | AJ36: 日 | AL36: ： | AN36: ～
I37: 様 | AC37: 令和 | AF37: 年 | AH37: 月 | AJ37: 日 | AL37: ： | AN37: ～
I38: 様 | AC38: 令和 | AF38: 年 | AH38: 月 | AJ38: 日 | AL38: ： | AN38: ～
I39: 様 | AC39: 令和 | AF39: 年 | AH39: 月 | AJ39: 日 | AL39: ： | AN39: ～
I40: 様 | AC40: 令和 | AF40: 年 | AH40: 月 | AJ40: 日 | AL40: ： | AN40: ～
I41: 様 | AC41: 令和 | AF41: 年 | AH41: 月 | AJ41: 日 | AL41: ： | AN41: ～
I42: 様 | AC42: 令和 | AF42: 年 | AH42: 月 | AJ42: 日 | AL42: ： | AN42: ～
... I45: 様 | AC45: 令和 | AF45: 年 | AH45: 月 | AJ45: 日 | AL45: ： | AN45: ～
A46: 業務 内容 | D46: 項目 | J46: 患者様氏名 | P46: 担当 | S46: 備考 | Y46: 項目 | AA46: 患者様氏名 | AG46: 内容 | AQ46: 担当
D47: 外 来 患 者 対 応 | F47: 外来患者 対応 | O47: 様 | Y47: 書 類 作 成 完 了 | AF47: 様
O48: 様 | AF48: 様
O49: 様 | AF49: 様
O50: 様 | AF50: 様
O51: 様 | AF51: 様
O52: 様 | AF52: 様
O53: 様 | AF53: 様
D54: 項目 | J54: 患者様氏名 | P54: 担当 | S54: 備考 | AF54: 様
D55: 入 退 院 支 援 | F55: 退院支援 | O55: 様 | AF55: 様
O56: 様 | AF56: 様
O57: 様 | Y57: 項目 | AG57: 件数 | AJ57: 担当 | AM57: 備考
O58: 様 | Y58: 電話対応 | AI58: 件
O59: 様 | Y59: 保健所への届出 | AI59: 件
F60: 退院請求 対応 | O60: 様 | Y60: 項目 | AG60: 内容
O61: 様 | Y61: 通院医療 観察法
F62: 入院患者 対応 | J62: 担当 | M62: 件数 | P62: 備考
O63: 件 | Y63: 認知症疾患 医療ｾﾝﾀｰ
O64: 件
O65: 件 | Y65: 各種会議参加 外部の業務
O66: 件
A67: 安全管理 | D67: 事故 | S67: 物品 購入 | AE67: 連絡 事項
D68: 苦情
D69: 紛失
D70: 他

Sheet 31
A1: ソーシャルワーカー室 業務日誌 | AH1: C.O.O | AL1: I.O.O | AP1: Ａ.Ｏ.Ｍ
H3: =曜日!B12 -> 令和4年 | M3: =曜日!C12 -> 5月 | P3: 31日 | S3: （ | T3: =曜日!D5 -> 火 | U3: ） | W3: 作成者 | Z3: ：
A5: 労務 状況 | D5: 勤務状況 | K5: 西舘 翔子 | T5: 小屋敷 千瑛 | AC5: 大川 祥子 | AL5: 吉田 久美子
K6: 野添 京子
A7: 入退院 状況 | D7: 入院形態 | K7: 東病棟 | Q7: 西病棟 | W7: 北病棟 | AC7: 南病棟 | AI7: 合計 | AO7: 総数
K8: 男性 | N8: 女性 | Q8: 男性 | T8: 女性 | W8: 男性 | Z8: 女性 | AC8: 男性 | AF8: 女性 | AI8: 男性 | AL8: 女性
D9: 任意入院 | AI9: =K9+Q9+W9+AC9 -> 0 | AL9: =N9+T9+Z9+AF9 -> 0 | AO9: =AI13 -> 0
D10: 医療保護入院 | AI10: =K10+Q10+W10+AC10 -> 0 | AL10: =N10+T10+Z10+AF10 -> 0
D11: 措置入院 | AI11: =K11+Q11+W11+AC11 -> 0 | AL11: =N11+T11+Z11+AF11 -> 0
D12: 合計 | K12: =K9+K10+K11 -> 0 | N12: =N9+N10+N11 -> 0 | Q12: =Q9+Q10+Q11 -> 0 | T12: =SUM(T9:V11) -> 0 | W12: =SUM(W9:Y11) -> 0 | Z12: =SUM(Z9:AB11) -> 0 | AC12: =SUM(AC9:AE11) -> 0 | AF12: =SUM(AF9:AH11) -> 0 | AI12: =SUM(K12+Q12+W12+AC12) -> 0 | AL12: =SUM(N12+T12+Z12+AF12) -> 0 | AO12: 人
K13: =K12+N12 -> 0 | Q13: =Q12+T12 -> 0 | W13: =W12+Z12 -> 0 | AC13: =AC12+AF12 -> 0 | AI13: =AI12+AL12 -> 0
F14: 患者様氏名 | N14: 入院形態 | T14: 担当Dr | Y14: 担当SW | AD14: 病棟 | AJ14: 備考欄
D15: 入院 | L15: 様
L16: 様
L17: 様
L18: 様
L19: 様
D20: 退院 | L20: 様
L21: 様
L22: 様
L23: 様
L24: 様
D25: 転棟 ･ 入院形態変更 | L25: 様
L26: 様
L27: 様
L28: 様
L29: 様
A30: 患者様 関連 | D30: 患者様氏名 | K30: 担当Dr | P30: 病棟 | S30: 制限内容 | X30: 制限時間 | AC30: 開始日時 | AO30: 備考
I31: 様 | AC31: 令和 | AF31: 年 | AH31: 月 | AJ31: 日 | AL31: ： | AN31: ～
I32: 様 | AC32: 令和 | AF32: 年 | AH32: 月 | AJ32: 日 | AL32: ： | AN32: ～
I33: 様 | AC33: 令和 | AF33: 年 | AH33: 月 | AJ33: 日 | AL33: ： | AN33: ～
I34: 様 | AC34: 令和 | AF34: 年 | AH34: 月 | AJ34: 日 | AL34: ： | AN34: ～
I35: 様 | AC35: 令和 | AF35: 年 | AH35: 月 | AJ35: 日 | AL35: ： | AN35: ～
I36: 様 | AC36: 令和 | AF36: 年 | AH36: 月 | AJ36: 日 | AL36: ： | AN36: ～
I37: 様 | AC37: 令和 | AF37: 年 | AH37: 月 | AJ37: 日 | AL37: ： | AN37: ～
I38: 様 | AC38: 令和 | AF38: 年 | AH38: 月 | AJ38: 日 | AL38: ： | AN38: ～
I39: 様 | AC39: 令和 | AF39: 年 | AH39: 月 | AJ39: 日 | AL39: ： | AN39: ～
I40: 様 | AC40: 令和 | AF40: 年 | AH40: 月 | AJ40: 日 | AL40: ： | AN40: ～
I41: 様 | AC41: 令和 | AF41: 年 | AH41: 月 | AJ41: 日 | AL41: ： | AN41: ～
I42: 様 | AC42: 令和 | AF42: 年 | AH42: 月 | AJ42: 日 | AL42: ： | AN42: ～
... I45: 様 | AC45: 令和 | AF45: 年 | AH45: 月 | AJ45: 日 | AL45: ： | AN45: ～
A46: 業務 内容 | D46: 項目 | J46: 患者様氏名 | P46: 担当 | S46: 備考 | Y46: 項目 | AA46: 患者様氏名 | AG46: 内容 | AQ46: 担当
D47: 外 来 患 者 対 応 | F47: 外来患者 対応 | O47: 様 | Y47: 書 類 作 成 完 了 | AF47: 様
O48: 様 | AF48: 様
O49: 様 | AF49: 様
O50: 様 | AF50: 様
O51: 様 | AF51: 様
O52: 様 | AF52: 様
O53: 様 | AF53: 様
D54: 項目 | J54: 患者様氏名 | P54: 担当 | S54: 備考 | AF54: 様
D55: 入 退 院 支 援 | F55: 退院支援 | O55: 様 | AF55: 様
O56: 様 | AF56: 様
O57: 様 | Y57: 項目 | AG57: 件数 | AJ57: 担当 | AM57: 備考
O58: 様 | Y58: 電話対応 | AI58: 件
O59: 様 | Y59: 保健所への届出 | AI59: 件
F60: 退院請求 対応 | O60: 様 | Y60: 項目 | AG60: 内容
O61: 様 | Y61: 通院医療 観察法
F62: 入院患者 対応 | J62: 担当 | M62: 件数 | P62: 備考
O63: 件 | Y63: 認知症疾患 医療ｾﾝﾀｰ
O64: 件
O65: 件 | Y65: 各種会議参加 外部の業務
O66: 件
A67: 安全管理 | D67: 事故 | S67: 物品 購入 | AE67: 連絡 事項
D68: 苦情
D69: 紛失
D70: 他

Sheet 曜日
B2: 曜 日 | F2: 説明書 その月の１日～７日までの曜日を黄色のセルに記入してください。 （例：１日が水曜日の月なら…… １日＝水 ２日＝木 ： ７日＝火
B3: 1日 | C3: = | D3: 日
B4: 2日 | C4: = | D4: 月 | E4: ←
B5: 3日 | C5: = | D5: 火
B6: 4日 | C6: = | D6: 水
B7: 5日 | C7: = | D7: 木
B8: 6日 | C8: = | D8: 金
B9: 7日 | C9: = | D9: 土
B11: 年 月 | F11: 説明書 年・月を入れてください。
B12: 令和4年 | C12: 5月

Sheet 月報1
A1: =曜日!B12 -> 令和4年 | C1: =曜日!C12 -> 5月 | D1: 月次報告 | F1: SW | G1: チーム | I1: 作成者
A3: 人事管理
C4: 定数 | D4: 在籍 | E4: 入職 | F4: 退職 | G4: 特記事項
A5: SW | C5: - | D5: 7 | E5: 0 | F5: 0 | G5: 内、1名パート職員
A6: 総数 | C6: - | D6: =SUM(D5:D5) -> 7 | E6: =SUM(E5:E5) -> 0 | F6: =SUM(F5:F5) -> 0
A8: 労務状況 | C8: 当月末まで
C9: 遅刻 | D9: 早退 | E9: 欠勤 | F9: 有給 | G9: 産・育休 | H9: 病欠 | I9: 忌引き | J9: 業務出張 | K9: 研修出張
A10: 西舘 翔子 | C10: =労務状況!D37 -> 0 | D10: =労務状況!E37 -> 0 | E10: =労務状況!F37 -> 0 | F10: =労務状況!G37 -> 0 | G10: =労務状況!H37 -> 0 | H10: =労務状況!I37 -> 0 | I10: =労務状況!J37 -> 0 | J10: =労務状況!K37 -> 0 | K10: =労務状況!L37 -> 0
A11: 小屋敷 千瑛 | C11: =労務状況!D38 -> 0 | D11: =労務状況!E38 -> 0 | E11: =労務状況!F38 -> 0 | F11: =労務状況!G38 -> 0 | G11: =労務状況!H38 -> 0 | H11: =労務状況!I38 -> 0 | I11: =労務状況!J38 -> 0 | J11: =労務状況!K38 -> 0 | K11: =労務状況!L38 -> 0
A12: 大川 祥子 | C12: =労務状況!D39 -> 0 | D12: =労務状況!E39 -> 0 | E12: =労務状況!F39 -> 0 | F12: =労務状況!G39 -> 0 | G12: =労務状況!H39 -> 1 | H12: =労務状況!I39 -> 0 | I12: =労務状況!J39 -> 0 | J12: =労務状況!K39 -> 0 | K12: =労務状況!L39 -> 0
A13: 吉田 久美子 | C13: =労務状況!D40 -> 0 | D13: =労務状況!E40 -> 0 | E13: =労務状況!F40 -> 0 | F13: =労務状況!G40 -> 0 | G13: =労務状況!H40 -> 0 | H13: =労務状況!I40 -> 0 | I13: =労務状況!J40 -> 0 | J13: =労務状況!K40 -> 0 | K13: =労務状況!L40 -> 0
A14: 宇津木澤 育美 | C14: =労務状況!D41 -> 0 | D14: =労務状況!E41 -> 0 | E14: =労務状況!F41 -> 0 | F14: =労務状況!G41 -> 0 | G14: =労務状況!H41 -> 0 | H14: =労務状況!I41 -> 0 | I14: =労務状況!J41 -> 0 | J14: =労務状況!K41 -> 0 | K14: =労務状況!L41 -> 0
A15: 野添 京子(パート) | C15: =労務状況!D42 -> 0 | D15: =労務状況!E42 -> 0 | E15: =労務状況!F42 -> 0 | F15: =労務状況!G42 -> 0 | G15: =労務状況!H42 -> 0 | H15: =労務状況!I42 -> 0 | I15: =労務状況!J42 -> 0 | J15: =労務状況!K42 -> 0 | K15: =労務状況!L42 -> 0
A16: 横平 沙羅 | C16: =労務状況!D43 -> 0 | D16: =労務状況!E43 -> 0 | E16: =労務状況!F43 -> 0 | F16: =労務状況!G43 -> 0 | G16: =労務状況!H43 -> 0 | H16: =労務状況!I43 -> 0 | I16: =労務状況!J43 -> 0 | J16: =労務状況!K43 -> 0 | K16: =労務状況!L43 -> 0
C17: =労務状況!D44 -> 0 | D17: =労務状況!E44 -> 0 | E17: =労務状況!F44 -> 0 | F17: =労務状況!G44 -> 0 | G17: =労務状況!H44 -> 0 | H17: =労務状況!I44 -> 0 | I17: =労務状況!J44 -> 0 | J17: =労務状況!K44 -> 0 | K17: =労務状況!L44 -> 0
A18: 総数 | C18: =C10+C11+C12+C14+C13 -> 0 | D18: =D10+D11+D12+D14+D13 -> 0 | E18: =E10+E11+E12+E14+E13 -> 0 | F18: =F10+F11+F12+F14+F13 -> 0 | G18: =G10+G11+G12+G14+G13 -> 1 | H18: =H10+H11+H12+H14+H13 -> 0 | I18: =I10+I11+I12+I14+I13 -> 0 | J18: =J10+J11+J12+J14+J13 -> 0 | K18: =K10+K11+K12+K14+K13 -> 0
A20: 人材育成
A21: 外部研修・勉強会参加状況
A22: 職員名 | C22: 件数 | D22: 研修名（日にち）
A23: 西舘 翔子
A24: 小屋敷 千瑛
A25: 大川 祥子
A26: 吉田 久美子
A27: 宇津木澤 育美
A28: 野添 京子(パート)
A29: 横平 沙羅
A31: 内部研修・勉強会参加状況
A32: 職員名 | C32: 件数 | D32: 研修名（日にち）
A33: 西舘 翔子
A34: 小屋敷 千瑛
A35: 大川 祥子
A36: 吉田 久美子
A37: 宇津木澤 育美
A38: 野添 京子(パート)
A39: 横平 沙羅
A41: 安全管理
C42: 件数 | D42: 内容等
A43: 苦情 | C43: 0
A44: 事故 | C44: 0
A45: 総数 | C45: =SUM(C43:C44) -> 0
A47: 物品管理
C48: 件数 | D48: 特記事項
A49: 物品購入 | C49: 0
A50: 修繕 | C50: 0

Sheet 月報2
A1: 事業進捗状況
A2: 【計画項目】 | B2: 進捗状況・結果・評価
A3: 1 個別支援の充実
A4: 入退院支援 | B4: 入院援助 | E4: =業務遂行状況!AI3 -> 31 | F4: 件
B5: 入院形態の変更 | E5: =業務遂行状況!AI4 -> 31 | F5: 件
B6: 入院患者対応 | E6: =業務遂行状況!AI5 -> 31 | F6: 件
B7: 退院請求対応 | E7: =業務遂行状況!AI6 -> 30 | F7: 件
B8: 退院援助 | E8: =業務遂行状況!AI7 -> 30 | F8: 件
A9: 外来患者対応 | B9: 外来患者対応 | E9: =業務遂行状況!AI8 -> 30 | F9: 件
B10: 通院医療観察法 | E10: =業務遂行状況!AI9 -> 31 | F10: 件
A11: 2 各種制度の管理・手続き
A12: 医師補助業務 | B12: =業務遂行状況!AI10 -> 30 | C12: 件
A13: 保健所への届出 | B13: =業務遂行状況!AI11 -> 30 | C13: 件
A14: 3 チーム医療の連携体制の拡充
A15: 各種会議参加
A16: 外部の業務
A17: 病棟内勉強会の開催（年4回）
A18: 他機関連携
A19: 4 統計処理と情報分析
B20: ＊入退院届けの作成・提出 ＊定期病状報告の作成・提出 ＊保健所提出用月報の作成・提出 ＊入院者一覧(SW室管理用ﾃﾞｰﾀﾍﾞｰｽ)の作成 ＊任意入院者 同意書管理 ＊各種制度(自立支援医療･生活保護･障害者手帳等)の管理票作成
A21: 5 研鑽活動と人材育成の活性化
A22: (1)業務の効率化 | B22: ①マニュアルの整備
B23: ②確実な業務管理と確実な情報共有体制の整備
B24: ③業務整理
A25: （2）スタッフ教育 | B25: ①新人教育
B26: ②外部研修への参加
B27: ③目標管理面接と個別指導
A28: (3)人員確保 | B28: ①施設見学希望者への対応
B29: ②実習生の受け入れ

Sheet 月報3
A1: =曜日!B12 -> 令和4年 | E1: =曜日!C12 -> 5月 | I1: ソーシャルワーカー室業務月報 | AA1: C.O.O | AD1: A.O.M
O4: 記載者：
A5: 入院状況 | I5: 東病棟 | M5: 西病棟 | Q5: 南病棟 | U5: 北病棟 | Y5: 合計
I6: 男性 | K6: 女性 | M6: 男性 | O6: 女性 | Q6: 男性 | S6: 女性 | U6: 男性 | W6: 女性 | Y6: 男性 | AA6: 女性
C7: 任意 | G7: 入院 | Y7: =SUM(I7+M7+Q7+U7) -> 0 | AA7: =SUM(K7+O7+S7+W7) -> 0
G8: 在院 | Y8: =SUM(I8,M8,Q8,U8) -> 0 | AA8: =SUM(K8+O8+S8+W8) -> 0 | AC8: 入院
G9: 退院 | Y9: =SUM(I9+M9+Q9+U9) -> 0 | AA9: =SUM(K9+O9+S9+W9) -> 0 | AD9: =SUM(Y16:AB16) -> 0 | AF9: 名
C10: 医療保護 | G10: 入院 | Y10: =SUM(I10+M10+Q10+U10) -> 0 | AA10: =SUM(K10+O10+S10+W10) -> 0
G11: 在院 | Y11: =SUM(I11+M11+Q11+U11) -> 0 | AA11: =SUM(K11+O11+S11+W11) -> 0 | AC11: 退院
G12: 退院 | Y12: =SUM(I12+M12+Q12+U12) -> 0 | AA12: =SUM(K12+O12+S12+W12) -> 0 | AD12: =SUM(Y18:AB18) -> 0 | AF12: 名
C13: 措置 | G13: 入院 | Y13: =SUM(I13+M13+Q13+U13) -> 0 | AA13: =SUM(K13+O13+S13+W13) -> 0
G14: 在院 | Y14: =SUM(I14+M14+Q14+U14) -> 0 | AA14: =SUM(K14+O14+S14+W14) -> 0 | AC14: 在院数
G15: 退院 | Y15: =SUM(I15+M15+Q15+U15) -> 0 | AA15: =SUM(K15+O15+S15+W15) -> 0 | AD15: =Y17+AA17 -> 0 | AF15: 名
C16: 合計 | G16: 入院 | I16: =SUM(I7+I10+I13) -> 0 | K16: =SUM(K7+K10+K13) -> 0 | M16: =SUM(M7+M10+M13) -> 0 | O16: =SUM(O7+O10+O13) -> 0 | Q16: =SUM(Q7+Q10+Q13) -> 0 | S16: =SUM(S7+S10+S13) -> 0 | U16: =SUM(U7+U10+U13) -> 0 | W16: =SUM(W7+W10+W13) -> 0 | Y16: =SUM(Y7+Y10+Y13) -> 0 | AA16: =SUM(AA7+AA10+AA13) -> 0
G17: 在院 | I17: =SUM(I8+I11+I14) -> 0 | K17: =SUM(K8+K11+K14) -> 0 | M17: =M8+M11+M14 -> 0 | O17: =SUM(O8+O11+O14) -> 0 | Q17: =Q8+Q11+Q14 -> 0 | S17: =SUM(S8+S11+S14) -> 0 | U17: =SUM(U8+U11+U14) -> 0 | W17: =SUM(W8+W11+W14) -> 0 | Y17: =SUM(Y8+Y11+Y14) -> 0 | AA17: =SUM(AA8+AA11+AA14) -> 0
G18: 退院 | I18: =SUM(I9+I12+I15) -> 0 | K18: =SUM(K9+K12+K15) -> 0 | M18: =SUM(M9+M12+M15) -> 0 | O18: =SUM(O9+O12+O15) -> 0 | Q18: =SUM(Q9+Q12+Q15) -> 0 | S18: =SUM(S9+S12+S15) -> 0 | U18: =U9+U12+U15 -> 0 | W18: =SUM(W9+W12+W15) -> 0 | Y18: =I18+M18+Q18+U18 -> 0 | AA18: =SUM(AA9+AA12+AA15) -> 0
C19: 医療保護定期病状報告
C20: 患者様氏名 | H20: 担当SW | K20: 担当医師 | N20: 作成日 | P20: 提出日 | R20: 患者様氏名 | W20: 担当SW | Z20: 担当医師 | AC20: 作成日 | AE20: 提出日
C21: 1
C22: 2
C23: 3
C24: 4
C25: 5
C26: 6
C27: 7
C28: 8 | AH28: 医療保護定期病状報告
C29: 9 | AH29: 計
C30: 10 | AH30: =COUNTA(D21:G30) -> 0 | AI30: 件
C31: 医療保護入退入院届
C32: 患者様氏名 | H32: 担当SW | K32: 担当医師 | N32: 第1項 | T32: 第3項 | Z32: 備考
N33: 入院日 | P33: 作成日 | R33: 提出日 | T33: 入院日 | V33: 作成日 | X33: 提出日
C34: 1
C35: 2
C36: 3
C37: 4
C38: 5
C39: 6
C40: 7
C41: 8
C42: 9
C43: 10
C44: 11
C45: 12
... C53: 20
C54: 21 | AH54: 医療保護入退入院届
C55: 22 | AH55: 第1項 計
C56: 23 | AH56: =COUNTA(N34:O58) -> 0 | AI56: 件
C57: 24 | AH57: 第3項 計
C58: 25 | AH58: =COUNTA(T34:U58) -> 0 | AI58: 件
C59: 入院形態変更状況
C60: 患者様氏名 | H60: 担当SW | K60: 担当医師 | N60: 入院日 | P60: 作成日 | R60: 提出日 | T60: 備考
C61: 1
C62: 2
C63: 3 | AH63: 入院形態変更状況
C64: 4 | AH64: 計
C65: 5 | AH65: =COUNTA(D61:G65) -> 0 | AI65: 件
C66: 医療保護入院退院届
C67: 患者様氏名 | H67: 担当SW | K67: 担当医師 | N67: 退院日 | P67: 提出日 | R67: 転帰
C68: 1
C69: 2
C70: 3
C71: 4
C72: 5
C73: 6
C74: 7
C75: 8
C76: 9
C77: 10
C78: 11
C79: 12
... C84: 17
C85: 18 | AH85: 医療保護入院退院届
C86: 19 | AH86: 計
C87: 20 | AH87: =COUNTA(D68:G87) -> 0 | AI87: 件
C88: 措置入院 入院者
C89: 患者様氏名 | H89: 担当SW | K89: 担当医師 | N89: 入院日 | P89: 提出日 | R89: 患者様氏名 | W89: 担当SW | Z89: 担当医師 | AC89: 入院日 | AE89: 提出日
C90: 1
C91: 2
C92: 3 | AH92: 措置入院 入院者
C93: 4 | AH93: 計
C94: 5 | AH94: =COUNTA(D90:G94) -> 0 | AI94: 件
C95: 措置定期病状報告
C96: 患者様氏名 | H96: 担当SW | K96: 担当医師 | N96: 作成日 | P96: 提出日 | R96: 患者様氏名 | W96: 担当SW | Z96: 担当医師 | AC96: 作成日 | AE96: 提出日
C97: 1
C98: 2
C99: 3 | AH99: 措置定期病状報告
C100: 4 | AH100: 計
C101: 5 | AH101: =COUNTA(D97:G101) -> 0 | AI101: 件
C102: 措置消退届
C103: 患者様氏名 | H103: 担当SW | K103: 担当医師 | N103: 作成日 | P103: 提出日 | R103: 患者様氏名 | W103: 担当SW | Z103: 担当医師 | AC103: 作成日 | AE103: 提出日
C104: 1
C105: 2
C106: 3 | AH106: 措置消退届
C107: 4 | AH107: 計
C108: 5 | AH108: =COUNTA(D104:G108) -> 0 | AI108: 件
C109: 任意入院継続同意書
C110: 患者様氏名 | H110: 担当SW | K110: 担当医師 | N110: 病棟 | R110: 同意日
C111: 1
C112: 2
C113: 3
...

Sheet 労務状況
C1: 労務状況
C2: 氏名 | D2: 労務状況 | E2: 氏名 | F2: 労務状況 | G2: 氏名 | H2: 労務状況 | I2: 氏名 | J2: 労務状況 | K2: 氏名 | L2: 労務状況 | M2: 氏名 | N2: 労務状況 | O2: 氏名 | P2: 労務状況 | Q2: 氏名 | R2: 労務状況
B3: 1 | C3: ='1'!$K$5 -> 西舘 翔子 | D3: ='1'!$P$5 -> 公休 | E3: ='1'!$T$5 -> 小屋敷 千瑛 | F3: ='1'!$Y$5 -> 公休 | G3: ='1'!$AC$5 -> 大川 祥子 | H3: ='1'!$AH$5 -> 産・育休 | I3: ='1'!$AL$5 -> 吉田 久美子 | J3: ='1'!$AP$5 -> 公休 | K3: ='1'!$K$6 -> 野添 京子 | L3: ='1'!P6 -> 公休 | M3: ='1'!T6 -> 宇津木澤 育美 | N3: ='1'!Y6 -> 公休 | O3: ='1'!AC6 -> 横平 沙羅 | P3: ='1'!AH6 -> 公休 | Q3: ='1'!AL6 -> 0 | R3: ='1'!AP6 -> 0
B4: 2 | C4: =#REF! -> #REF! | D4: =#REF! -> #REF! | E4: =#REF! -> #REF! | F4: =#REF! -> #REF! | G4: =#REF! -> #REF! | H4: =#REF! -> #REF! | I4: =#REF! -> #REF! | J4: =#REF! -> #REF! | ... R4: =#REF! -> #REF!
B5: 3 | C5: =#REF! -> #REF! | D5: =#REF! -> #REF! | E5: =#REF! -> #REF! | F5: =#REF! -> #REF! | G5: =#REF! -> #REF! | H5: =#REF! -> #REF! | I5: =#REF! -> #REF! | J5: =#REF! -> #REF! | ... R5: =#REF! -> #REF!
B6: 4 | C6: =#REF! -> #REF! | D6: =#REF! -> #REF! | E6: =#REF! -> #REF! | F6: =#REF! -> #REF! | G6: =#REF! -> #REF! | H6: =#REF! -> #REF! | I6: =#REF! -> #REF! | J6: =#REF! -> #REF! | ... R6: =#REF! -> #REF!
B7: 5 | C7: =#REF! -> #REF! | D7: =#REF! -> #REF! | E7: =#REF! -> #REF! | F7: =#REF! -> #REF! | G7: =#REF! -> #REF! | H7: =#REF! -> #REF! | I7: =#REF! -> #REF! | J7: =#REF! -> #REF! | ... R7: =#REF! -> #REF!
B8: 6 | C8: =#REF! -> #REF! | D8: =#REF! -> #REF! | E8: =#REF! -> #REF! | F8: =#REF! -> #REF! | G8: =#REF! -> #REF! | H8: =#REF! -> #REF! | I8: =#REF! -> #REF! | J8: =#REF! -> #REF! | ... R8: =#REF! -> #REF!
B9: 7 | C9: =#REF! -> #REF! | D9: =#REF! -> #REF! | E9: =#REF! -> #REF! | F9: =#REF! -> #REF! | G9: =#REF! -> #REF! | H9: =#REF! -> #REF! | I9: =#REF! -> #REF! | J9: =#REF! -> #REF! | ... R9: =#REF! -> #REF!
B10: 8 | C10: =#REF! -> #REF! | D10: =#REF! -> #REF! | E10: =#REF! -> #REF! | F10: =#REF! -> #REF! | G10: =#REF! -> #REF! | H10: =#REF! -> #REF! | I10: =#REF! -> #REF! | J10: =#REF! -> #REF! | ... R10: =#REF! -> #REF!
B11: 9 | C11: =#REF! -> #REF! | D11: =#REF! -> #REF! | E11: =#REF! -> #REF! | F11: =#REF! -> #REF! | G11: =#REF! -> #REF! | H11: =#REF! -> #REF! | I11: =#REF! -> #REF! | J11: =#REF! -> #REF! | ... R11: =#REF! -> #REF!
B12: 10 | C12: =#REF! -> #REF! | D12: =#REF! -> #REF! | E12: =#REF! -> #REF! | F12: =#REF! -> #REF! | G12: =#REF! -> #REF! | H12: =#REF! -> #REF! | I12: =#REF! -> #REF! | J12: =#REF! -> #REF! | ... R12: =#REF! -> #REF!
B13: 11 | C13: =#REF! -> #REF! | D13: =#REF! -> #REF! | E13: =#REF! -> #REF! | F13: =#REF! -> #REF! | G13: =#REF! -> #REF! | H13: =#REF! -> #REF! | I13: =#REF! -> #REF! | J13: =#REF! -> #REF! | ... R13: =#REF! -> #REF!
B14: 12 | C14: =#REF! -> #REF! | D14: =#REF! -> #REF! | E14: =#REF! -> #REF! | F14: =#REF! -> #REF! | G14: =#REF! -> #REF! | H14: =#REF! -> #REF! | I14: =#REF! -> #REF! | J14: =#REF! -> #REF! | ... R14: =#REF! -> #REF!
B15: 13 | C15: =#REF! -> #REF! | D15: =#REF! -> #REF! | E15: =#REF! -> #REF! | F15: =#REF! -> #REF! | G15: =#REF! -> #REF! | H15: =#REF! -> #REF! | I15: =#REF! -> #REF! | J15: =#REF! -> #REF! | ... R15: =#REF! -> #REF!
... B33: 31 | C33: =#REF! -> #REF! | D33: =#REF! -> #REF! | E33: =#REF! -> #REF! | F33: =#REF! -> #REF! | G33: =#REF! -> #REF! | H33: =#REF! -> #REF! | I33: =#REF! -> #REF! | J33: =#REF! -> #REF! | ... R33: =#REF! -> #REF!
D36: 遅刻 | E36: 早退 | F36: 欠勤 | G36: 有給 | H36: 産・育休 | I36: 病欠 | J36: 忌引き | K36: 業務出張 | L36: 研修出張
C37: =C3 -> 西舘 翔子 | D37: =COUNTIF($D$3:$D$33,"遅刻") -> 0 | E37: =COUNTIF($D$3:$D$33,"早退") -> 0 | F37: =COUNTIF($D$3:$D$33,"欠勤") -> 0 | G37: =COUNTIF($D$3:$D$33,"有給") -> 0 | H37: =COUNTIF($D$3:$D$33,"産・育休") -> 0 | I37: =COUNTIF($D$3:$D$33,"病欠") -> 0 | J37: =COUNTIF($D$3:$D$33,"忌引き") -> 0 | K37: =COUNTIF($D$3:$D$33,"業務出張") -> 0 | L37: =COUNTIF($D$3:$D$33,"研修出張") -> 0
C38: =E3 -> 小屋敷 千瑛 | D38: =COUNTIF($F$3:$F$33,"遅刻") -> 0 | E38: =COUNTIF($F$3:$F$33,"早退") -> 0 | F38: =COUNTIF($F$3:$F$33,"欠勤") -> 0 | G38: =COUNTIF($F$3:$F$33,"有給") -> 0 | H38: =COUNTIF($F$3:$F$33,"産・育休") -> 0 | I38: =COUNTIF($F$3:$F$33,"病欠") -> 0 | J38: =COUNTIF($F$3:$F$33,"忌引き") -> 0 | K38: =COUNTIF($F$3:$F$33,"業務出張") -> 0 | L38: =COUNTIF($F$3:$F$33,"研修出張") -> 0
C39: =G3 -> 大川 祥子 | D39: =COUNTIF($H$3:$H$33,"遅刻") -> 0 | E39: =COUNTIF($H$3:$H$33,"早退") -> 0 | F39: =COUNTIF($H$3:$H$33,"欠勤") -> 0 | G39: =COUNTIF($H$3:$H$33,"有給") -> 0 | H39: =COUNTIF($H$3:$H$33,"産・育休") -> 1 | I39: =COUNTIF($H$3:$H$33,"病欠") -> 0 | J39: =COUNTIF($H$3:$H$33,"忌引き") -> 0 | K39: =COUNTIF($H$3:$H$33,"業務出張") -> 0 | L39: =COUNTIF($H$3:$H$33,"研修出張") -> 0
C40: =I3 -> 吉田 久美子 | D40: =COUNTIF($J$3:$J$33,"遅刻") -> 0 | E40: =COUNTIF($J$3:$J$33,"早退") -> 0 | F40: =COUNTIF($J$3:$J$33,"欠勤") -> 0 | G40: =COUNTIF($J$3:$J$33,"有給") -> 0 | H40: =COUNTIF($J$3:$J$33,"産・育休") -> 0 | I40: =COUNTIF($J$3:$J$33,"病欠") -> 0 | J40: =COUNTIF($J$3:$J$33,"忌引き") -> 0 | K40: =COUNTIF($J$3:$J$33,"業務出張") -> 0 | L40: =COUNTIF($J$3:$J$33,"研修出張") -> 0
C41: =K3 -> 野添 京子 | D41: =COUNTIF($L$3:$L$33,"遅刻") -> 0 | E41: =COUNTIF($L$3:$L$33,"早退") -> 0 | F41: =COUNTIF($L$3:$L$33,"欠勤") -> 0 | G41: =COUNTIF($L$3:$L$33,"有給") -> 0 | H41: =COUNTIF($L$3:$L$33,"産・育休") -> 0 | I41: =COUNTIF($L$3:$L$33,"病欠") -> 0 | J41: =COUNTIF($L$3:$L$33,"忌引き") -> 0 | K41: =COUNTIF($L$3:$L$33,"業務出張") -> 0 | L41: =COUNTIF($L$3:$L$33,"研修出張") -> 0
C42: =M3 -> 宇津木澤 育美 | D42: =COUNTIF($N$3:$N$33,"遅刻") -> 0 | E42: =COUNTIF($N$3:$N$33,"早退") -> 0 | F42: =COUNTIF($N$3:$N$33,"欠勤") -> 0 | G42: =COUNTIF($N$3:$N$33,"有給") -> 0 | H42: =COUNTIF($N$3:$N$33,"産・育休") -> 0 | I42: =COUNTIF($N$3:$N$33,"病欠") -> 0 | J42: =COUNTIF($N$3:$N$33,"忌引き") -> 0 | K42: =COUNTIF($N$3:$N$33,"業務出張") -> 0 | L42: =COUNTIF($L$3:$L$33,"研修出張") -> 0
C43: =O3 -> 横平 沙羅 | D43: =COUNTIF($P$3:$P$33,"遅刻") -> 0 | E43: =COUNTIF($P$3:$P$33,"早退") -> 0 | F43: =COUNTIF($P$3:$P$33,"欠勤") -> 0 | G43: =COUNTIF($P$3:$P$33,"有給") -> 0 | H43: =COUNTIF($P$3:$P$33,"産・育休") -> 0 | I43: =COUNTIF($P$3:$P$33,"病欠") -> 0 | J43: =COUNTIF($P$3:$P$33,"忌引き") -> 0 | K43: =COUNTIF($P$3:$P$33,"業務出張") -> 0 | L43: =COUNTIF($L$3:$L$33,"研修出張") -> 0
C44: =Q3 -> 0 | D44: =COUNTIF($R$3:$R$33,"遅刻") -> 0 | E44: =COUNTIF($R$3:$R$33,"早退") -> 0 | F44: =COUNTIF($R$3:$R$33,"欠勤") -> 0 | G44: =COUNTIF($R$3:$R$33,"有給") -> 0 | H44: =COUNTIF($R$3:$R$33,"産・育休") -> 0 | I44: =COUNTIF($R$3:$R$33,"病欠") -> 0 | J44: =COUNTIF($R$3:$R$33,"忌引き") -> 0 | K44: =COUNTIF($R$3:$R$33,"業務出張") -> 0 | L44: =COUNTIF($R$3:$R$33,"研修出張") -> 0

Sheet 業務遂行状況
D2: 1 | E2: 2 | F2: 3 | G2: 4 | H2: 5 | I2: 6 | J2: 7 | K2: 8 | L2: 9 | M2: 10 | N2: 11 | O2: 12 | P2: 13 | Q2: 14 | R2: 15 | S2: 16 | T2: 17 | U2: 18 | V2: 19 | W2: 20 | X2: 21 | Y2: 22 | Z2: 23 | AA2: 24 | AB2: 25 | AC2: 26 | AD2: 27 | AE2: 28 | AF2: 29 | AG2: 30 | AH2: 31 | AI2: 計
B3: 入退院支援 | C3: 入院援助 | D3: =COUNTA('1'!#REF!) -> 1 | E3: =COUNTA(#REF!) -> 1 | F3: =COUNTA(#REF!) -> 1 | G3: =COUNTA(#REF!) -> 1 | H3: =COUNTA(#REF!) -> 1 | I3: =COUNTA(#REF!) -> 1 | J3: =COUNTA(#REF!) -> 1 | K3: =COUNTA(#REF!) -> 1 | L3: =COUNTA(#REF!) -> 1 | ... AH3: =COUNTA(#REF!) -> 1 | AI3: =SUM(D3:AH3) -> 31
C4: 入院形態の変更 | D4: =COUNTA('1'!$J$54:$N$54) -> 1 | E4: =COUNTA(#REF!) -> 1 | F4: =COUNTA(#REF!) -> 1 | G4: =COUNTA(#REF!) -> 1 | H4: =COUNTA(#REF!) -> 1 | I4: =COUNTA(#REF!) -> 1 | J4: =COUNTA(#REF!) -> 1 | K4: =COUNTA(#REF!) -> 1 | L4: =COUNTA(#REF!) -> 1 | ... AH4: =COUNTA(#REF!) -> 1 | AI4: =SUM(D4:AH4) -> 31
C5: 入院患者対応 | D5: =COUNTA('1'!#REF!) -> 1 | E5: =COUNTA(#REF!) -> 1 | F5: =COUNTA(#REF!) -> 1 | G5: =COUNTA(#REF!) -> 1 | H5: =COUNTA(#REF!) -> 1 | I5: =COUNTA(#REF!) -> 1 | J5: =COUNTA(#REF!) -> 1 | K5: =COUNTA(#REF!) -> 1 | L5: =COUNTA(#REF!) -> 1 | ... AH5: =COUNTA(#REF!) -> 1 | AI5: =SUM(D5:AH5) -> 31
C6: 退院請求対応 | D6: =COUNTA('1'!$J$60:$N$61) -> 0 | E6: =COUNTA(#REF!) -> 1 | F6: =COUNTA(#REF!) -> 1 | G6: =COUNTA(#REF!) -> 1 | H6: =COUNTA(#REF!) -> 1 | I6: =COUNTA(#REF!) -> 1 | J6: =COUNTA(#REF!) -> 1 | K6: =COUNTA(#REF!) -> 1 | L6: =COUNTA(#REF!) -> 1 | ... AH6: =COUNTA(#REF!) -> 1 | AI6: =SUM(D6:AH6) -> 30
C7: 退院援助 | D7: =COUNTA('1'!$J$55:$N$59) -> 0 | E7: =COUNTA(#REF!) -> 1 | F7: =COUNTA(#REF!) -> 1 | G7: =COUNTA(#REF!) -> 1 | H7: =COUNTA(#REF!) -> 1 | I7: =COUNTA(#REF!) -> 1 | J7: =COUNTA(#REF!) -> 1 | K7: =COUNTA(#REF!) -> 1 | L7: =COUNTA(#REF!) -> 1 | ... AH7: =COUNTA(#REF!) -> 1 | AI7: =SUM(D7:AH7) -> 30
B8: 外来患者対応 | C8: 外来患者対応 | D8: =COUNTA('1'!$J$47:$N$53) -> 0 | E8: =COUNTA(#REF!) -> 1 | F8: =COUNTA(#REF!) -> 1 | G8: =COUNTA(#REF!) -> 1 | H8: =COUNTA(#REF!) -> 1 | I8: =COUNTA(#REF!) -> 1 | J8: =COUNTA(#REF!) -> 1 | K8: =COUNTA(#REF!) -> 1 | L8: =COUNTA(#REF!) -> 1 | ... AH8: =COUNTA(#REF!) -> 1 | AI8: =SUM(D8:AH8) -> 30
C9: 通院医療観察法 | D9: =COUNTA('1'!#REF!) -> 1 | E9: =COUNTA(#REF!) -> 1 | F9: =COUNTA(#REF!) -> 1 | G9: =COUNTA(#REF!) -> 1 | H9: =COUNTA(#REF!) -> 1 | I9: =COUNTA(#REF!) -> 1 | J9: =COUNTA(#REF!) -> 1 | K9: =COUNTA(#REF!) -> 1 | L9: =COUNTA(#REF!) -> 1 | ... AH9: =COUNTA(#REF!) -> 1 | AI9: =SUM(D9:AH9) -> 31
B10: 医師補助業務 | D10: =COUNTA('1'!$AA$47:$AE$56) -> 0 | E10: =COUNTA(#REF!) -> 1 | F10: =COUNTA(#REF!) -> 1 | G10: =COUNTA(#REF!) -> 1 | H10: =COUNTA(#REF!) -> 1 | I10: =COUNTA(#REF!) -> 1 | J10: =COUNTA(#REF!) -> 1 | K10: =COUNTA(#REF!) -> 1 | L10: =COUNTA(#REF!) -> 1 | ... AH10: =COUNTA(#REF!) -> 1 | AI10: =SUM(D10:AH10) -> 30
B11: 保健所への届出 | D11: =COUNTA('1'!$AA$57:$AE$66) -> 0 | E11: =COUNTA(#REF!) -> 1 | F11: =COUNTA(#REF!) -> 1 | G11: =COUNTA(#REF!) -> 1 | H11: =COUNTA(#REF!) -> 1 | I11: =COUNTA(#REF!) -> 1 | J11: =COUNTA(#REF!) -> 1 | K11: =COUNTA(#REF!) -> 1 | L11: =COUNTA(#REF!) -> 1 | ... AH11: =COUNTA(#REF!) -> 1 | AI11: =SUM(D11:AH11) -> 30
B12: 認知症疾患医療ｾﾝﾀｰ | D12: =COUNTA('1'!#REF!) -> 1 | E12: =COUNTA(#REF!) -> 1 | F12: =COUNTA(#REF!) -> 1 | G12: =COUNTA(#REF!) -> 1 | H12: =COUNTA(#REF!) -> 1 | I12: =COUNTA(#REF!) -> 1 | J12: =COUNTA(#REF!) -> 1 | K12: =COUNTA(#REF!) -> 1 | L12: =COUNTA(#REF!) -> 1 | ... AH12: =COUNTA(#REF!) -> 1 | AI12: =SUM(D12:AH12) -> 31
B13: 各種会議参加 | D13: =COUNTA('1'!#REF!) -> 1 | E13: =COUNTA(#REF!) -> 1 | F13: =COUNTA(#REF!) -> 1 | G13: =COUNTA(#REF!) -> 1 | H13: =COUNTA(#REF!) -> 1 | I13: =COUNTA(#REF!) -> 1 | J13: =COUNTA(#REF!) -> 1 | K13: =COUNTA(#REF!) -> 1 | L13: =COUNTA(#REF!) -> 1 | ... AH13: =COUNTA(#REF!) -> 1 | AI13: =SUM(D13:AH13) -> 31
B14: 外部の業務 | D14: =COUNTA('1'!#REF!) -> 1 | E14: =COUNTA(#REF!) -> 1 | F14: =COUNTA(#REF!) -> 1 | G14: =COUNTA(#REF!) -> 1 | H14: =COUNTA(#REF!) -> 1 | I14: =COUNTA(#REF!) -> 1 | J14: =COUNTA(#REF!) -> 1 | K14: =COUNTA(#REF!) -> 1 | L14: =COUNTA(#REF!) -> 1 | ... AH14: =COUNTA(#REF!) -> 1 | AI14: =SUM(D14:AH14) -> 31

Sheet 入院患者一覧
A1: 入院患者様一覧

Sheet Sheet1

Sheet Sheet2
