Workbook

Sheet 1
A1: ソーシャルワーカー室 業務日誌 | AH1: C.O.O | AL1: I.O.O | AP1: Ａ.Ｏ.Ｍ
H3: =曜日!B12 -> 令和4年 | M3: =曜日!C12 -> 5月 | P3: 1日 | S3: （ | T3: =曜日!D3 -> 日 | U3: ） | W3: 作成者 | Z3: ： | AA3: 小屋敷 千瑛
A5: 労務 状況 | D5: 勤務状況 | K5: 西舘 翔子 | P5: 公休 | T5: 小屋敷 千瑛 | Y5: 公休 | AC5: 大川 祥子 | AH5: 産・育休 | AL5: 吉田 久美子 | AP5: 公休
K6: 野添 京子 | P6: 公休 | T6: 宇津木澤 育美 | Y6: 公休 | AC6: 横平 沙羅 | AH6: 公休
A7: 入退院 状況 | D7: 入院形態 | K7: 東病棟 | Q7: 西病棟 | W7: 北病棟 | AC7: 南病棟 | AI7: 合計 | AO7: 総数
K8: 男性 | N8: 女性 | Q8: 男性 | T8: 女性 | W8: 男性 | Z8: 女性 | AC8: 男性 | AF8: 女性 | AI8: 男性 | AL8: 女性
D9: 任意入院 | K9: 1 | N9: 9 | Q9: 5 | T9: 10 | W9: 24 | Z9: 10 | AC9: 0 | AF9: 0 | AI9: =K9+Q9+W9+AC9 -> 30 | AL9: =N9+T9+Z9+AF9 -> 29 | AO9: =AI13 -> 185
D10: 医療保護入院 | K10: 15 | N10: 17 | Q10: 17 | T10: 13 | W10: 0 | Z10: 1 | AC10: 32 | AF10: 28 | AI10: =K10+Q10+W10+AC10 -> 64 | AL10: =N10+T10+Z10+AF10 -> 59
D11: 措置入院 | K11: 3 | N11: 0 | Q11: 0 | T11: 0 | W11: 0 | Z11: 0 | AC11: 0 | AF11: 0 | AI11: =K11+Q11+W11+AC11 -> 3 | AL11: =N11+T11+Z11+AF11 -> 0
D12: 合計 | K12: =K9+K10+K11 -> 19 | N12: =N9+N10+N11 -> 26 | Q12: =Q9+Q10+Q11 -> 22 | T12: =SUM(T9:V11) -> 23 | W12: =SUM(W9:Y11) -> 24 | Z12: =SUM(Z9:AB11) -> 11 | AC12: =SUM(AC9:AE11) -> 32 | AF12: =SUM(AF9:AH11) -> 28 | AI12: =SUM(K12+Q12+W12+AC12) -> 97 | AL12: =SUM(N12+T12+Z12+AF12) -> 88 | AO12: 人
K13: =K12+N12 -> 45 | Q13: =Q12+T12 -> 45 | W13: =W12+Z12 -> 35 | AC13: =AC12+AF12 -> 60 | AI13: =AI12+AL12 -> 185
F14: 患者様氏名 | N14: 入院形態 | T14: 担当Dr | Y14: 担当SW | AD14: 病棟 | AJ14: 備考欄
D15: 入院 | L15: 様
L16: 様
L17: 様
L18: 様
L19: 様
D20: 退院 | L20: 様
L21: 様
L22: 様
L23: 様
L24: 様
D25: 転棟 ･ 入院形態変更 | L25: 様
L26: 様
L27: 様
L28: 様
L29: 様
A30: 患者様 関連 | D30: 患者様氏名 | K30: 担当Dr | P30: 病棟 | S30: 制限内容 | X30: 制限時間 | AC30: 開始日時 | AO30: 備考
D31: 中村 聡 | I31: 様 | K31: 金泰徳Dr | P31: 東B | S31: 通信制限 | X31: 通信制限 | AC31: 令和 | AE31: 3 | AF31: 年 | AG31: 5 | AH31: 月 | AI31: 31 | AJ31: 日 | AL31: ： | AN31: ～
D32: 宮﨑 宏之 | I32: 様 | K32: 馬渡晃弘Dr | P32: 東A | S32: 終日隔離 | X32: 終日隔離 | AC32: 令和 | AE32: 3 | AF32: 年 | AG32: 10 | AH32: 月 | AI32: 3 | AJ32: 日 | AL32: ： | AN32: ～
D33: 三浦 英男 | I33: 様 | K33: 馬渡晃弘Dr | P33: 東A | S33: 終日隔離 | X33: 終日隔離 | AC33: 令和 | AE33: 4 | AF33: 年 | AG33: 3 | AH33: 月 | AI33: 31 | AJ33: 日 | AL33: ： | AN33: ～
D34: 沼山 真紀子 | I34: 様 | K34: 金泰徳Dr | P34: 西B | S34: 通信制限 | X34: 通信制限 | AC34: 令和 | AE34: 4 | AF34: 年 | AG34: 4 | AH34: 月 | AI34: 6 | AJ34: 日 | AL34: ： | AN34: ～
D35: 和田 昌 | I35: 様 | P35: 東A | S35: 終日隔離 | X35: 終日隔離 | AC35: 令和 | AE35: 4 | AF35: 年 | AG35: 4 | AH35: 月 | AI35: 27 | AJ35: 日 | AL35: ： | AN35: ～
D36: 小山 仁 | I36: 様 | K36: 深澤隆Dr | P36: 東A | S36: 時間隔離 | X36: 時間隔離 | AC36: 令和 | AE36: 4 | AF36: 年 | AG36: 4 | AH36: 月 | AI36: 29 | AJ36: 日 | AL36: ： | AN36: ～
I37: 様 | AC37: 令和 | AF37: 年 | AH37: 月 | AJ37: 日 | AL37: ： | AN37: ～
I38: 様 | AC38: 令和 | AF38: 年 | AH38: 月 | AJ38: 日 | AL38: ： | AN38: ～
I39: 様 | AC39: 令和 | AF39: 年 | AH39: 月 | AJ39: 日 | AL39: ： | AN39: ～
I40: 様 | AC40: 令和 | AF40: 年 | AH40: 月 | AJ40: 日 | AL40: ： | AN40: ～
I41: 様 | AC41: 令和 | AF41: 年 | AH41: 月 | AJ41: 日 | AL41: ： | AN41: ～
I42: 様 | AC42: 令和 | AF42: 年 | AH42: 月 | AJ42: 日 | AL42: ： | AN42: ～
...

Sheet 2
A1: ソーシャルワーカー室 業務日誌 | AH1: C.O.O | AL1: I.O.O | AP1: Ａ.Ｏ.Ｍ
H3: =曜日!B12 -> 令和4年 | M3: =曜日!C12 -> 5月 | P3: 2日 | S3: （ | T3: =曜日!D4 -> 月 | U3: ） | W3: 作成者 | Z3: ： | AA3: 小屋敷 千瑛
A5: 労務 状況 | D5: 勤務状況 | K5: 西舘 翔子 | P5: 日勤 | T5: 小屋敷 千瑛 | Y5: 午後半休 | AC5: 大川 祥子 | AH5: 産・育休 | AL5: 吉田 久美子 | AP5: 日勤
K6: 野添 京子 | P6: 日勤 | T6: 宇津木澤 育美 | Y6: 日勤 | AC6: 横平 沙羅 | AH6: 日勤
A7: 入退院 状況 | D7: 入院形態 | K7: 東病棟 | Q7: 西病棟 | W7: 北病棟 | AC7: 南病棟 | AI7: 合計 | AO7: 総数
K8: 男性 | N8: 女性 | Q8: 男性 | T8: 女性 | W8: 男性 | Z8: 女性 | AC8: 男性 | AF8: 女性 | AI8: 男性 | AL8: 女性
D9: 任意入院 | K9: 1 | N9: 9 | Q9: 5 | T9: 10 | W9: 24 | Z9: 10 | AC9: 0 | AF9: 0 | AI9: =K9+Q9+W9+AC9 -> 30 | AL9: =N9+T9+Z9+AF9 -> 29 | AO9: =AI13 -> 184
D10: 医療保護入院 | K10: 15 | N10: 17 | Q10: 16 | T10: 13 | W10: 0 | Z10: 1 | AC10: 32 | AF10: 28 | AI10: =K10+Q10+W10+AC10 -> 63 | AL10: =N10+T10+Z10+AF10 -> 59
D11: 措置入院 | K11: 3 | N11: 0 | Q11: 0 | T11: 0 | W11: 0 | Z11: 0 | AC11: 0 | AF11: 0 | AI11: =K11+Q11+W11+AC11 -> 3 | AL11: =N11+T11+Z11+AF11 -> 0
D12: 合計 | K12: =K9+K10+K11 -> 19 | N12: =N9+N10+N11 -> 26 | Q12: =Q9+Q10+Q11 -> 21 | T12: =SUM(T9:V11) -> 23 | W12: =SUM(W9:Y11) -> 24 | Z12: =SUM(Z9:AB11) -> 11 | AC12: =SUM(AC9:AE11) -> 32 | AF12: =SUM(AF9:AH11) -> 28 | AI12: =SUM(K12+Q12+W12+AC12) -> 96 | AL12: =SUM(N12+T12+Z12+AF12) -> 88 | AO12: 人
K13: =K12+N12 -> 45 | Q13: =Q12+T12 -> 44 | W13: =W12+Z12 -> 35 | AC13: =AC12+AF12 -> 60 | AI13: =AI12+AL12 -> 184
F14: 患者様氏名 | N14: 入院形態 | T14: 担当Dr | Y14: 担当SW | AD14: 病棟 | AJ14: 備考欄
D15: 入院 | F15: 中野 正子 | L15: 様 | N15: 医療保護入院 | T15: 深澤隆Dr | Y15: 西舘 翔子 | AD15: 東C
L16: 様
L17: 様
L18: 様
L19: 様
D20: 退院 | F20: 外崎 昭雄 | L20: 様 | N20: 医療保護入院 | T20: 深澤隆Dr | Y20: 小屋敷 千瑛 | AD20: 西B
F21: 三田 久子 | L21: 様 | N21: 医療保護入院 | T21: 金泰德Dr | AD21: 南A
L22: 様
L23: 様
L24: 様
D25: 転棟 ･ 入院形態変更 | F25: 栃木 真紀子 | L25: 様 | N25: 医療保護入院 | T25: 小栁匡相Dr | Y25: 小屋敷 千瑛 | AD25: 東合→南A
L26: 様
L27: 様
L28: 様
L29: 様
A30: 患者様 関連 | D30: 患者様氏名 | K30: 担当Dr | P30: 病棟 | S30: 制限内容 | X30: 制限時間 | AC30: 開始日時 | AO30: 備考
D31: 中村 聡 | I31: 様 | K31: 金泰徳Dr | P31: 東B | S31: 通信制限 | X31: 通信制限 | AC31: 令和 | AE31: 3 | AF31: 年 | AG31: 5 | AH31: 月 | AI31: 31 | AJ31: 日 | AL31: ： | AN31: ～
D32: 宮﨑 宏之 | I32: 様 | K32: 馬渡晃弘Dr | P32: 東A | S32: 終日隔離 | X32: 終日隔離 | AC32: 令和 | AE32: 3 | AF32: 年 | AG32: 10 | AH32: 月 | AI32: 3 | AJ32: 日 | AL32: ： | AN32: ～
D33: 三浦 英男 | I33: 様 | K33: 馬渡晃弘Dr | P33: 東A | S33: 終日隔離 | X33: 終日隔離 | AC33: 令和 | AE33: 4 | AF33: 年 | AG33: 3 | AH33: 月 | AI33: 31 | AJ33: 日 | AL33: ： | AN33: ～
D34: 沼山 真紀子 | I34: 様 | K34: 金泰徳Dr | P34: 西B | S34: 通信制限 | X34: 通信制限 | AC34: 令和 | AE34: 4 | AF34: 年 | AG34: 4 | AH34: 月 | AI34: 6 | AJ34: 日 | AL34: ： | AN34: ～
D35: 和田 昌 | I35: 様 | P35: 東A | S35: 終日隔離 | X35: 終日隔離 | AC35: 令和 | AE35: 4 | AF35: 年 | AG35: 4 | AH35: 月 | AI35: 27 | AJ35: 日 | AL35: ： | AN35: ～
D36: 小山 仁 | I36: 様 | K36: 深澤隆Dr | P36: 東A | S36: 時間隔離 | X36: 時間隔離 | AC36: 令和 | AE36: 4 | AF36: 年 | AG36: 4 | AH36: 月 | AI36: 29 | AJ36: 日 | AL36: ： | AN36: ～ | AO36: 解除
I37: 様 | AC37: 令和 | AF37: 年 | AH37: 月 | AJ37: 日 | AL37: ： | AN37: ～
I38: 様 | AC38: 令和 | AF38: 年 | AH38: 月 | AJ38: 日 | AL38: ： | AN38: ～
I39: 様 | AC39: 令和 | AF39: 年 | AH39: 月 | AJ39: 日 | AL39: ： | AN39: ～
I40: 様 | AC40: 令和 | AF40: 年 | AH40: 月 | AJ40: 日 | AL40: ： | AN40: ～
I41: 様 | AC41: 令和 | AF41: 年 | AH41: 月 | AJ41: 日 | AL41: ： | AN41: ～
I42: 様 | AC42: 令和 | AF42: 年 | AH42: 月 | AJ42: 日 | AL42: ： | AN42: ～
...

Sheet 3
A1: ソーシャルワーカー室 業務日誌 | AH1: C.O.O | AL1: I.O.O | AP1: Ａ.Ｏ.Ｍ
H3: =曜日!B12 -> 令和4年 | M3: =曜日!C12 -> 5月 | P3: 3日 | S3: （ | T3: =曜日!D5 -> 火 | U3: ） | W3: 作成者 | Z3: ： | AA3: 小屋敷 千瑛
A5: 労務 状況 | D5: 勤務状況 | K5: 西舘 翔子 | P5: 公休 | T5: 小屋敷 千瑛 | Y5: 公休 | AC5: 大川 祥子 | AH5: 産・育休 | AL5: 吉田 久美子 | AP5: 公休
K6: 野添 京子 | P6: 公休 | T6: 宇津木澤 育美 | Y6: 日勤 | AC6: 横平 沙羅 | AH6: 日勤
A7: 入退院 状況 | D7: 入院形態 | K7: 東病棟 | Q7: 西病棟 | W7: 北病棟 | AC7: 南病棟 | AI7: 合計 | AO7: 総数
K8: 男性 | N8: 女性 | Q8: 男性 | T8: 女性 | W8: 男性 | Z8: 女性 | AC8: 男性 | AF8: 女性 | AI8: 男性 | AL8: 女性
D9: 任意入院 | K9: 1 | N9: 9 | Q9: 5 | T9: 10 | W9: 24 | Z9: 10 | AC9: 0 | AF9: 0 | AI9: =K9+Q9+W9+AC9 -> 30 | AL9: =N9+T9+Z9+AF9 -> 29 | AO9: =AI13 -> 184
D10: 医療保護入院 | K10: 15 | N10: 16 | Q10: 16 | T10: 14 | W10: 0 | Z10: 1 | AC10: 32 | AF10: 28 | AI10: =K10+Q10+W10+AC10 -> 63 | AL10: =N10+T10+Z10+AF10 -> 59
D11: 措置入院 | K11: 3 | N11: 0 | Q11: 0 | T11: 0 | W11: 0 | Z11: 0 | AC11: 0 | AF11: 0 | AI11: =K11+Q11+W11+AC11 -> 3 | AL11: =N11+T11+Z11+AF11 -> 0
D12: 合計 | K12: =K9+K10+K11 -> 19 | N12: =N9+N10+N11 -> 25 | Q12: =Q9+Q10+Q11 -> 21 | T12: =SUM(T9:V11) -> 24 | W12: =SUM(W9:Y11) -> 24 | Z12: =SUM(Z9:AB11) -> 11 | AC12: =SUM(AC9:AE11) -> 32 | AF12: =SUM(AF9:AH11) -> 28 | AI12: =SUM(K12+Q12+W12+AC12) -> 96 | AL12: =SUM(N12+T12+Z12+AF12) -> 88 | AO12: 人
K13: =K12+N12 -> 44 | Q13: =Q12+T12 -> 45 | W13: =W12+Z12 -> 35 | AC13: =AC12+AF12 -> 60 | AI13: =AI12+AL12 -> 184
F14: 患者様氏名 | N14: 入院形態 | T14: 担当Dr | Y14: 担当SW | AD14: 病棟 | AJ14: 備考欄
D15: 入院 | L15: 様
L16: 様
L17: 様
L18: 様
L19: 様
D20: 退院 | L20: 様
L21: 様
L22: 様
L23: 様
L24: 様
D25: 転棟 ･ 入院形態変更 | F25: 澤田 真理 | L25: 様 | N25: 医療保護入院 | T25: 金泰德Dr | Y25: 西舘 翔子 | AD25: 東B→西B
L26: 様
L27: 様
L28: 様
L29: 様
A30: 患者様 関連 | D30: 患者様氏名 | K30: 担当Dr | P30: 病棟 | S30: 制限内容 | X30: 制限時間 | AC30: 開始日時 | AO30: 備考
D31: 中村 聡 | I31: 様 | K31: 金泰徳Dr | P31: 東B | S31: 通信制限 | X31: 通信制限 | AC31: 令和 | AE31: 3 | AF31: 年 | AG31: 5 | AH31: 月 | AI31: 31 | AJ31: 日 | AL31: ： | AN31: ～
D32: 宮﨑 宏之 | I32: 様 | K32: 馬渡晃弘Dr | P32: 東A | S32: 終日隔離 | X32: 終日隔離 | AC32: 令和 | AE32: 3 | AF32: 年 | AG32: 10 | AH32: 月 | AI32: 3 | AJ32: 日 | AL32: ： | AN32: ～
D33: 三浦 英男 | I33: 様 | K33: 馬渡晃弘Dr | P33: 東A | S33: 終日隔離 | X33: 終日隔離 | AC33: 令和 | AE33: 4 | AF33: 年 | AG33: 3 | AH33: 月 | AI33: 31 | AJ33: 日 | AL33: ： | AN33: ～
D34: 沼山 真紀子 | I34: 様 | K34: 金泰徳Dr | P34: 西B | S34: 通信制限 | X34: 通信制限 | AC34: 令和 | AE34: 4 | AF34: 年 | AG34: 4 | AH34: 月 | AI34: 6 | AJ34: 日 | AL34: ： | AN34: ～
D35: 和田 昌 | I35: 様 | P35: 東A | S35: 終日隔離 | X35: 終日隔離 | AC35: 令和 | AE35: 4 | AF35: 年 | AG35: 4 | AH35: 月 | AI35: 27 | AJ35: 日 | AL35: ： | AN35: ～
I36: 様 | AC36: 令和 | AF36: 年 | AH36: 月 | AJ36: 日 | AL36: ： | AN36: ～
I37: 様 | AC37: 令和 | AF37: 年 | AH37: 月 | AJ37: 日 | AL37: ： | AN37: ～
I38: 様 | AC38: 令和 | AF38: 年 | AH38: 月 | AJ38: 日 | AL38: ： | AN38: ～
I39: 様 | AC39: 令和 | AF39: 年 | AH39: 月 | AJ39: 日 | AL39: ： | AN39: ～
I40: 様 | AC40: 令和 | AF40: 年 | AH40: 月 | AJ40: 日 | AL40: ： | AN40: ～
I41: 様 | AC41: 令和 | AF41: 年 | AH41: 月 | AJ41: 日 | AL41: ： | AN41: ～
I42: 様 | AC42: 令和 | AF42: 年 | AH42: 月 | AJ42: 日 | AL42: ： | AN42: ～
...

Sheet 4
A1: ソーシャルワーカー室 業務日誌 | AH1: C.O.O | AL1: I.O.O | AP1: Ａ.Ｏ.Ｍ
H3: =曜日!B12 -> 令和4年 | M3: =曜日!C12 -> 5月 | P3: 4日 | S3: （ | T3: =曜日!D6 -> 水 | U3: ） | W3: 作成者 | Z3: ：
A5: 労務 状況 | D5: 勤務状況 | K5: 西舘 翔子 | P5: 公休 | T5: 小屋敷 千瑛 | Y5: 有給 | AC5: 大川 祥子 | AH5: 産・育休 | AL5: 吉田 久美子 | AP5: 公休
K6: 野添 京子 | P6: 公休 | T6: 宇津木澤 育美 | Y6: 日勤 | AC6: 横平 沙羅 | AH6: 日勤
A7: 入退院 状況 | D7: 入院形態 | K7: 東病棟 | Q7: 西病棟 | W7: 北病棟 | AC7: 南病棟 | AI7: 合計 | AO7: 総数
K8: 男性 | N8: 女性 | Q8: 男性 | T8: 女性 | W8: 男性 | Z8: 女性 | AC8: 男性 | AF8: 女性 | AI8: 男性 | AL8: 女性
D9: 任意入院 | K9: 1 | N9: 9 | Q9: 5 | T9: 10 | W9: 24 | Z9: 10 | AC9: 0 | AF9: 0 | AI9: =K9+Q9+W9+AC9 -> 30 | AL9: =N9+T9+Z9+AF9 -> 29 | AO9: =AI13 -> 184
D10: 医療保護入院 | K10: 15 | N10: 17 | Q10: 16 | T10: 14 | W10: 0 | Z10: 1 | AC10: 32 | AF10: 27 | AI10: =K10+Q10+W10+AC10 -> 63 | AL10: =N10+T10+Z10+AF10 -> 59
D11: 措置入院 | K11: 3 | N11: 0 | Q11: 0 | T11: 0 | W11: 0 | Z11: 0 | AC11: 0 | AF11: 0 | AI11: =K11+Q11+W11+AC11 -> 3 | AL11: =N11+T11+Z11+AF11 -> 0
D12: 合計 | K12: =K9+K10+K11 -> 19 | N12: =N9+N10+N11 -> 26 | Q12: =Q9+Q10+Q11 -> 21 | T12: =SUM(T9:V11) -> 24 | W12: =SUM(W9:Y11) -> 24 | Z12: =SUM(Z9:AB11) -> 11 | AC12: =SUM(AC9:AE11) -> 32 | AF12: =SUM(AF9:AH11) -> 27 | AI12: =SUM(K12+Q12+W12+AC12) -> 96 | AL12: =SUM(N12+T12+Z12+AF12) -> 88 | AO12: 人
K13: =K12+N12 -> 45 | Q13: =Q12+T12 -> 45 | W13: =W12+Z12 -> 35 | AC13: =AC12+AF12 -> 59 | AI13: =AI12+AL12 -> 184
F14: 患者様氏名 | N14: 入院形態 | T14: 担当Dr | Y14: 担当SW | AD14: 病棟 | AJ14: 備考欄
D15: 入院 | F15: 沼田 ゆき子 | L15: 様 | N15: 医療保護入院 | T15: 金泰德Dr | Y15: 西舘 翔子 | AD15: 東A | AJ15: 診察：垂水Dr
L16: 様
L17: 様
L18: 様
L19: 様
D20: 退院 | F20: 戸田沢 輝子 | L20: 様 | N20: 医療保護入院 | T20: 深澤隆Dr | Y20: 西舘 翔子 | AD20: 南B
L21: 様
L22: 様
L23: 様
L24: 様
D25: 転棟 ･ 入院形態変更 | L25: 様
L26: 様
L27: 様
L28: 様
L29: 様
A30: 患者様 関連 | D30: 患者様氏名 | K30: 担当Dr | P30: 病棟 | S30: 制限内容 | X30: 制限時間 | AC30: 開始日時 | AO30: 備考
D31: 中村 聡 | I31: 様 | K31: 金泰徳Dr | P31: 東B | S31: 通信制限 | X31: 通信制限 | AC31: 令和 | AE31: 3 | AF31: 年 | AG31: 5 | AH31: 月 | AI31: 31 | AJ31: 日 | AL31: ： | AN31: ～
D32: 宮﨑 宏之 | I32: 様 | K32: 馬渡晃弘Dr | P32: 東A | S32: 終日隔離 | X32: 終日隔離 | AC32: 令和 | AE32: 3 | AF32: 年 | AG32: 10 | AH32: 月 | AI32: 3 | AJ32: 日 | AL32: ： | AN32: ～
D33: 三浦 英男 | I33: 様 | K33: 馬渡晃弘Dr | P33: 東A | S33: 終日隔離 | X33: 終日隔離 | AC33: 令和 | AE33: 4 | AF33: 年 | AG33: 3 | AH33: 月 | AI33: 31 | AJ33: 日 | AL33: ： | AN33: ～
D34: 沼山 真紀子 | I34: 様 | K34: 金泰徳Dr | P34: 西B | S34: 通信制限 | X34: 通信制限 | AC34: 令和 | AE34: 4 | AF34: 年 | AG34: 4 | AH34: 月 | AI34: 6 | AJ34: 日 | AL34: ： | AN34: ～
D35: 和田 昌 | I35: 様 | P35: 東A | S35: 終日隔離 | X35: 終日隔離 | AC35: 令和 | AE35: 4 | AF35: 年 | AG35: 4 | AH35: 月 | AI35: 27 | AJ35: 日 | AL35: ： | AN35: ～
I36: 様 | AC36: 令和 | AF36: 年 | AH36: 月 | AJ36: 日 | AL36: ： | AN36: ～
I37: 様 | AC37: 令和 | AF37: 年 | AH37: 月 | AJ37: 日 | AL37: ： | AN37: ～
I38: 様 | AC38: 令和 | AF38: 年 | AH38: 月 | AJ38: 日 | AL38: ： | AN38: ～
I39: 様 | AC39: 令和 | AF39: 年 | AH39: 月 | AJ39: 日 | AL39: ： | AN39: ～
I40: 様 | AC40: 令和 | AF40: 年 | AH40: 月 | AJ40: 日 | AL40: ： | AN40: ～
I41: 様 | AC41: 令和 | AF41: 年 | AH41: 月 | AJ41: 日 | AL41: ： | AN41: ～
I42: 様 | AC42: 令和 | AF42: 年 | AH42: 月 | AJ42: 日 | AL42: ： | AN42: ～
...

Sheet 5
A1: ソーシャルワーカー室 業務日誌 | AH1: C.O.O | AL1: I.O.O | AP1: Ａ.Ｏ.Ｍ
H3: =曜日!B12 -> 令和4年 | M3: =曜日!C12 -> 5月 | P3: 5日 | S3: （ | T3: =曜日!D7 -> 木 | U3: ） | W3: 作成者 | Z3: ： | AA3: 小屋敷 千瑛
A5: 労務 状況 | D5: 勤務状況 | K5: 西舘 翔子 | P5: 公休 | T5: 小屋敷 千瑛 | Y5: 公休 | AC5: 大川 祥子 | AH5: 産・育休 | AL5: 吉田 久美子 | AP5: 公休
K6: 野添 京子 | P6: 公休 | T6: 宇津木澤 育美 | Y6: 日勤 | AC6: 横平 沙羅 | AH6: 日勤
A7: 入退院 状況 | D7: 入院形態 | K7: 東病棟 | Q7: 西病棟 | W7: 北病棟 | AC7: 南病棟 | AI7: 合計 | AO7: 総数
K8: 男性 | N8: 女性 | Q8: 男性 | T8: 女性 | W8: 男性 | Z8: 女性 | AC8: 男性 | AF8: 女性 | AI8: 男性 | AL8: 女性
D9: 任意入院 | K9: 1 | N9: 9 | Q9: 5 | T9: 10 | W9: 24 | Z9: 10 | AC9: 0 | AF9: 0 | AI9: =K9+Q9+W9+AC9 -> 30 | AL9: =N9+T9+Z9+AF9 -> 29 | AO9: =AI13 -> 184
D10: 医療保護入院 | K10: 15 | N10: 17 | Q10: 16 | T10: 14 | W10: 0 | Z10: 1 | AC10: 32 | AF10: 27 | AI10: =K10+Q10+W10+AC10 -> 63 | AL10: =N10+T10+Z10+AF10 -> 59
D11: 措置入院 | K11: 3 | N11: 0 | Q11: 0 | T11: 0 | W11: 0 | Z11: 0 | AC11: 0 | AF11: 0 | AI11: =K11+Q11+W11+AC11 -> 3 | AL11: =N11+T11+Z11+AF11 -> 0
D12: 合計 | K12: =K9+K10+K11 -> 19 | N12: =N9+N10+N11 -> 26 | Q12: =Q9+Q10+Q11 -> 21 | T12: =SUM(T9:V11) -> 24 | W12: =SUM(W9:Y11) -> 24 | Z12: =SUM(Z9:AB11) -> 11 | AC12: =SUM(AC9:AE11) -> 32 | AF12: =SUM(AF9:AH11) -> 27 | AI12: =SUM(K12+Q12+W12+AC12) -> 96 | AL12: =SUM(N12+T12+Z12+AF12) -> 88 | AO12: 人
K13: =K12+N12 -> 45 | Q13: =Q12+T12 -> 45 | W13: =W12+Z12 -> 35 | AC13: =AC12+AF12 -> 59 | AI13: =AI12+AL12 -> 184
F14: 患者様氏名 | N14: 入院形態 | T14: 担当Dr | Y14: 担当SW | AD14: 病棟 | AJ14: 備考欄
D15: 入院 | L15: 様
L16: 様
L17: 様
L18: 様
L19: 様
D20: 退院 | L20: 様
L21: 様
L22: 様
L23: 様
L24: 様
D25: 転棟 ･ 入院形態変更 | L25: 様
L26: 様
L27: 様
L28: 様
L29: 様
A30: 患者様 関連 | D30: 患者様氏名 | K30: 担当Dr | P30: 病棟 | S30: 制限内容 | X30: 制限時間 | AC30: 開始日時 | AO30: 備考
D31: 中村 聡 | I31: 様 | K31: 金泰徳Dr | P31: 東B | S31: 通信制限 | X31: 通信制限 | AC31: 令和 | AE31: 3 | AF31: 年 | AG31: 5 | AH31: 月 | AI31: 31 | AJ31: 日 | AL31: ： | AN31: ～
D32: 宮﨑 宏之 | I32: 様 | K32: 馬渡晃弘Dr | P32: 東A | S32: 終日隔離 | X32: 終日隔離 | AC32: 令和 | AE32: 3 | AF32: 年 | AG32: 10 | AH32: 月 | AI32: 3 | AJ32: 日 | AL32: ： | AN32: ～
D33: 三浦 英男 | I33: 様 | K33: 馬渡晃弘Dr | P33: 東A | S33: 終日隔離 | X33: 終日隔離 | AC33: 令和 | AE33: 4 | AF33: 年 | AG33: 3 | AH33: 月 | AI33: 31 | AJ33: 日 | AL33: ： | AN33: ～
D34: 沼山 真紀子 | I34: 様 | K34: 金泰徳Dr | P34: 西B | S34: 通信制限 | X34: 通信制限 | AC34: 令和 | AE34: 4 | AF34: 年 | AG34: 4 | AH34: 月 | AI34: 6 | AJ34: 日 | AL34: ： | AN34: ～
D35: 和田 昌 | I35: 様 | P35: 東A | S35: 終日隔離 | X35: 終日隔離 | AC35: 令和 | AE35: 4 | AF35: 年 | AG35: 4 | AH35: 月 | AI35: 27 | AJ35: 日 | AL35: ： | AN35: ～
D36: 袴田 将志 | I36: 様 | K36: 田名部茂Dr | P36: 東A | S36: 終日隔離 | X36: 終日隔離 | AC36: 令和 | AE36: 4 | AF36: 年 | AG36: 5 | AH36: 月 | AI36: 5 | AJ36: 日 | AL36: ： | AN36: ～ | AO36: 開始
I37: 様 | AC37: 令和 | AF37: 年 | AH37: 月 | AJ37: 日 | AL37: ： | AN37: ～
I38: 様 | AC38: 令和 | AF38: 年 | AH38: 月 | AJ38: 日 | AL38: ： | AN38: ～
I39: 様 | AC39: 令和 | AF39: 年 | AH39: 月 | AJ39: 日 | AL39: ： | AN39: ～
I40: 様 | AC40: 令和 | AF40: 年 | AH40: 月 | AJ40: 日 | AL40: ： | AN40: ～
I41: 様 | AC41: 令和 | AF41: 年 | AH41: 月 | AJ41: 日 | AL41: ： | AN41: ～
I42: 様 | AC42: 令和 | AF42: 年 | AH42: 月 | AJ42: 日 | AL42: ： | AN42: ～
...

Sheet 6
A1: ソーシャルワーカー室 業務日誌 | AH1: C.O.O | AL1: I.O.O | AP1: Ａ.Ｏ.Ｍ
H3: =曜日!B12 -> 令和4年 | M3: =曜日!C12 -> 5月 | P3: 6日 | S3: （ | T3: =曜日!D8 -> 金 | U3: ） | W3: 作成者 | Z3: ： | AA3: 小屋敷 千瑛
A5: 労務 状況 | D5: 勤務状況 | K5: 西舘 翔子 | P5: 日勤 | T5: 小屋敷 千瑛 | Y5: 日勤 | AC5: 大川 祥子 | AH5: 産・育休 | AL5: 吉田 久美子 | AP5: 日勤
K6: 野添 京子 | P6: 公休 | T6: 宇津木澤 育美 | Y6: 日勤 | AC6: 横平 沙羅 | AH6: 日勤
A7: 入退院 状況 | D7: 入院形態 | K7: 東病棟 | Q7: 西病棟 | W7: 北病棟 | AC7: 南病棟 | AI7: 合計 | AO7: 総数
K8: 男性 | N8: 女性 | Q8: 男性 | T8: 女性 | W8: 男性 | Z8: 女性 | AC8: 男性 | AF8: 女性 | AI8: 男性 | AL8: 女性
D9: 任意入院 | K9: 1 | N9: 9 | Q9: 5 | T9: 9 | W9: 24 | Z9: 9 | AC9: 0 | AF9: 0 | AI9: =K9+Q9+W9+AC9 -> 30 | AL9: =N9+T9+Z9+AF9 -> 27 | AO9: =AI13 -> 182
D10: 医療保護入院 | K10: 13 | N10: 17 | Q10: 17 | T10: 14 | W10: 0 | Z10: 1 | AC10: 33 | AF10: 27 | AI10: =K10+Q10+W10+AC10 -> 63 | AL10: =N10+T10+Z10+AF10 -> 59
D11: 措置入院 | K11: 3 | N11: 0 | Q11: 0 | T11: 0 | W11: 0 | Z11: 0 | AC11: 0 | AF11: 0 | AI11: =K11+Q11+W11+AC11 -> 3 | AL11: =N11+T11+Z11+AF11 -> 0
D12: 合計 | K12: =K9+K10+K11 -> 17 | N12: =N9+N10+N11 -> 26 | Q12: =Q9+Q10+Q11 -> 22 | T12: =SUM(T9:V11) -> 23 | W12: =SUM(W9:Y11) -> 24 | Z12: =SUM(Z9:AB11) -> 10 | AC12: =SUM(AC9:AE11) -> 33 | AF12: =SUM(AF9:AH11) -> 27 | AI12: =SUM(K12+Q12+W12+AC12) -> 96 | AL12: =SUM(N12+T12+Z12+AF12) -> 86 | AO12: 人
K13: =K12+N12 -> 43 | Q13: =Q12+T12 -> 45 | W13: =W12+Z12 -> 34 | AC13: =AC12+AF12 -> 60 | AI13: =AI12+AL12 -> 182
F14: 患者様氏名 | N14: 入院形態 | T14: 担当Dr | Y14: 担当SW | AD14: 病棟 | AJ14: 備考欄
D15: 入院 | F15: 笹川 キミヱ | L15: 様 | N15: 医療保護入院 | T15: 馬渡晃弘Dr | Y15: 小屋敷 千瑛 | AD15: 東C
L16: 様
L17: 様
L18: 様
L19: 様
D20: 退院 | F20: 竹洞 総子 | L20: 様 | N20: 医療保護入院 | T20: 深澤隆Dr | Y20: 西舘 翔子 | AD20: 東B
F21: 酒田 絹代 | L21: 様 | N21: 任意入院 | T21: 田名部茂Dr | Y21: 西舘 翔子 | AD21: 西B
F22: 北村 奈美 | L22: 様 | N22: 任意入院 | T22: 田名部茂Dr | Y22: 小屋敷 千瑛 | AD22: 北
L23: 様
L24: 様
D25: 転棟 ･ 入院形態変更 | F25: 大村 精一 | L25: 様 | N25: 医療保護入院 | T25: 深澤隆Dr | Y25: 小屋敷 千瑛 | AD25: 東C→南A
F26: 中居 敬悦 | L26: 様 | N26: 医療保護入院 | Y26: 西舘 翔子 | AD26: 東B→西B
L27: 様
L28: 様
L29: 様
A30: 患者様 関連 | D30: 患者様氏名 | K30: 担当Dr | P30: 病棟 | S30: 制限内容 | X30: 制限時間 | AC30: 開始日時 | AO30: 備考
D31: 中村 聡 | I31: 様 | K31: 金泰徳Dr | P31: 東B | S31: 通信制限 | X31: 通信制限 | AC31: 令和 | AE31: 3 | AF31: 年 | AG31: 5 | AH31: 月 | AI31: 31 | AJ31: 日 | AL31: ： | AN31: ～
D32: 宮﨑 宏之 | I32: 様 | K32: 馬渡晃弘Dr | P32: 東A | S32: 終日隔離 | X32: 終日隔離 | AC32: 令和 | AE32: 3 | AF32: 年 | AG32: 10 | AH32: 月 | AI32: 3 | AJ32: 日 | AL32: ： | AN32: ～
D33: 三浦 英男 | I33: 様 | K33: 馬渡晃弘Dr | P33: 東A | S33: 終日隔離 | X33: 終日隔離 | AC33: 令和 | AE33: 4 | AF33: 年 | AG33: 3 | AH33: 月 | AI33: 31 | AJ33: 日 | AL33: ： | AN33: ～
D34: 沼山 真紀子 | I34: 様 | K34: 金泰徳Dr | P34: 西B | S34: 通信制限 | X34: 通信制限 | AC34: 令和 | AE34: 4 | AF34: 年 | AG34: 4 | AH34: 月 | AI34: 6 | AJ34: 日 | AL34: ： | AN34: ～
D35: 和田 昌 | I35: 様 | P35: 東A | S35: 終日隔離 | X35: 終日隔離 | AC35: 令和 | AE35: 4 | AF35: 年 | AG35: 4 | AH35: 月 | AI35: 27 | AJ35: 日 | AL35: ： | AN35: ～
D36: 袴田 将志 | I36: 様 | K36: 田名部茂Dr | P36: 東A | S36: 終日隔離 | X36: 終日隔離 | AC36: 令和 | AE36: 4 | AF36: 年 | AG36: 5 | AH36: 月 | AI36: 5 | AJ36: 日 | AL36: ： | AN36: ～
I37: 様 | AC37: 令和 | AF37: 年 | AH37: 月 | AJ37: 日 | AL37: ： | AN37: ～
I38: 様 | AC38: 令和 | AF38: 年 | AH38: 月 | AJ38: 日 | AL38: ： | AN38: ～
I39: 様 | AC39: 令和 | AF39: 年 | AH39: 月 | AJ39: 日 | AL39: ： | AN39: ～
I40: 様 | AC40: 令和 | AF40: 年 | AH40: 月 | AJ40: 日 | AL40: ： | AN40: ～
I41: 様 | AC41: 令和 | AF41: 年 | AH41: 月 | AJ41: 日 | AL41: ： | AN41: ～
I42: 様 | AC42: 令和 | AF42: 年 | AH42: 月 | AJ42: 日 | AL42: ： | AN42: ～
...

Sheet 7
A1: ソーシャルワーカー室 業務日誌 | AH1: C.O.O | AL1: I.O.O | AP1: Ａ.Ｏ.Ｍ
H3: =曜日!B12 -> 令和4年 | M3: =曜日!C12 -> 5月 | P3: 7日 | S3: （ | T3: =曜日!D9 -> 土 | U3: ） | W3: 作成者 | Z3: ： | AA3: 西舘 翔子
A5: 労務 状況 | D5: 勤務状況 | K5: 西舘 翔子 | P5: 日勤 | T5: 小屋敷 千瑛 | Y5: 日勤 | AC5: 大川 祥子 | AH5: 産・育休 | AL5: 吉田 久美子 | AP5: 日勤
K6: 野添 京子 | P6: 日勤 | T6: 宇津木澤 育美 | Y6: 日勤 | AC6: 横平 沙羅 | AH6: 日勤
A7: 入退院 状況 | D7: 入院形態 | K7: 東病棟 | Q7: 西病棟 | W7: 北病棟 | AC7: 南病棟 | AI7: 合計 | AO7: 総数
K8: 男性 | N8: 女性 | Q8: 男性 | T8: 女性 | W8: 男性 | Z8: 女性 | AC8: 男性 | AF8: 女性 | AI8: 男性 | AL8: 女性
D9: 任意入院 | K9: 1 | N9: 9 | Q9: 5 | T9: 8 | W9: 24 | Z9: 10 | AC9: 0 | AF9: 0 | AI9: =K9+Q9+W9+AC9 -> 30 | AL9: =N9+T9+Z9+AF9 -> 27 | AO9: =AI13 -> 183
D10: 医療保護入院 | K10: 14 | N10: 17 | Q10: 17 | T10: 14 | W10: 0 | Z10: 1 | AC10: 33 | AF10: 27 | AI10: =K10+Q10+W10+AC10 -> 64 | AL10: =N10+T10+Z10+AF10 -> 59
D11: 措置入院 | K11: 3 | N11: 0 | Q11: 0 | T11: 0 | W11: 0 | Z11: 0 | AC11: 0 | AF11: 0 | AI11: =K11+Q11+W11+AC11 -> 3 | AL11: =N11+T11+Z11+AF11 -> 0
D12: 合計 | K12: =K9+K10+K11 -> 18 | N12: =N9+N10+N11 -> 26 | Q12: =Q9+Q10+Q11 -> 22 | T12: =SUM(T9:V11) -> 22 | W12: =SUM(W9:Y11) -> 24 | Z12: =SUM(Z9:AB11) -> 11 | AC12: =SUM(AC9:AE11) -> 33 | AF12: =SUM(AF9:AH11) -> 27 | AI12: =SUM(K12+Q12+W12+AC12) -> 97 | AL12: =SUM(N12+T12+Z12+AF12) -> 86 | AO12: 人
K13: =K12+N12 -> 44 | Q13: =Q12+T12 -> 44 | W13: =W12+Z12 -> 35 | AC13: =AC12+AF12 -> 60 | AI13: =AI12+AL12 -> 183
F14: 患者様氏名 | N14: 入院形態 | T14: 担当Dr | Y14: 担当SW | AD14: 病棟 | AJ14: 備考欄
D15: 入院 | F15: 青木 昭弘 | L15: 様 | N15: 医療保護入院 | T15: 田名部茂Dr | Y15: 西舘 翔子 | AD15: 東A
L16: 様
L17: 様
L18: 様
L19: 様
D20: 退院 | L20: 様
L21: 様
L22: 様
L23: 様
L24: 様
D25: 転棟 ･ 入院形態変更 | F25: 小坂 君子 | L25: 様 | N25: 任意入院 | T25: 田名部茂Dr | Y25: 吉田 久美子 | AD25: 北
L26: 様
L27: 様
L28: 様
L29: 様
A30: 患者様 関連 | D30: 患者様氏名 | K30: 担当Dr | P30: 病棟 | S30: 制限内容 | X30: 制限時間 | AC30: 開始日時 | AO30: 備考
D31: 中村 聡 | I31: 様 | K31: 金泰徳Dr | P31: 東B | S31: 通信制限 | X31: 通信制限 | AC31: 令和 | AE31: 3 | AF31: 年 | AG31: 5 | AH31: 月 | AI31: 31 | AJ31: 日 | AL31: ： | AN31: ～
D32: 宮﨑 宏之 | I32: 様 | K32: 馬渡晃弘Dr | P32: 東A | S32: 終日隔離 | X32: 終日隔離 | AC32: 令和 | AE32: 3 | AF32: 年 | AG32: 10 | AH32: 月 | AI32: 3 | AJ32: 日 | AL32: ： | AN32: ～
D33: 三浦 英男 | I33: 様 | K33: 馬渡晃弘Dr | P33: 東A | S33: 終日隔離 | X33: 終日隔離 | AC33: 令和 | AE33: 4 | AF33: 年 | AG33: 3 | AH33: 月 | AI33: 31 | AJ33: 日 | AL33: ： | AN33: ～
D34: 沼山 真紀子 | I34: 様 | K34: 金泰徳Dr | P34: 西B | S34: 通信制限 | X34: 通信制限 | AC34: 令和 | AE34: 4 | AF34: 年 | AG34: 4 | AH34: 月 | AI34: 6 | AJ34: 日 | AL34: ： | AN34: ～
D35: 和田 昌 | I35: 様 | P35: 東A | S35: 終日隔離 | X35: 終日隔離 | AC35: 令和 | AE35: 4 | AF35: 年 | AG35: 4 | AH35: 月 | AI35: 27 | AJ35: 日 | AL35: ： | AN35: ～
D36: 袴田 将志 | I36: 様 | K36: 田名部茂Dr | P36: 東A | S36: 終日隔離 | X36: 終日隔離 | AC36: 令和 | AE36: 4 | AF36: 年 | AG36: 5 | AH36: 月 | AI36: 5 | AJ36: 日 | AL36: ： | AN36: ～
I37: 様 | AC37: 令和 | AF37: 年 | AH37: 月 | AJ37: 日 | AL37: ： | AN37: ～
I38: 様 | AC38: 令和 | AF38: 年 | AH38: 月 | AJ38: 日 | AL38: ： | AN38: ～
I39: 様 | AC39: 令和 | AF39: 年 | AH39: 月 | AJ39: 日 | AL39: ： | AN39: ～
I40: 様 | AC40: 令和 | AF40: 年 | AH40: 月 | AJ40: 日 | AL40: ： | AN40: ～
I41: 様 | AC41: 令和 | AF41: 年 | AH41: 月 | AJ41: 日 | AL41: ： | AN41: ～
I42: 様 | AC42: 令和 | AF42: 年 | AH42: 月 | AJ42: 日 | AL42: ： | AN42: ～
...

Sheet 8
A1: ソーシャルワーカー室 業務日誌 | AH1: C.O.O | AL1: I.O.O | AP1: Ａ.Ｏ.Ｍ
H3: =曜日!B12 -> 令和4年 | M3: =曜日!C12 -> 5月 | P3: 8日 | S3: （ | T3: =曜日!D3 -> 日 | U3: ） | W3: 作成者 | Z3: ： | AA3: 西舘 翔子
A5: 労務 状況 | D5: 勤務状況 | K5: 西舘 翔子 | P5: 午後半休 | T5: 小屋敷 千瑛 | Y5: 公休 | AC5: 大川 祥子 | AH5: 産・育休 | AL5: 吉田 久美子 | AP5: 午後半休
K6: 野添 京子 | P6: 公休 | T6: 宇津木澤 育美 | Y6: 公休 | AC6: 横平 沙羅 | AH6: 公休
A7: 入退院 状況 | D7: 入院形態 | K7: 東病棟 | Q7: 西病棟 | W7: 北病棟 | AC7: 南病棟 | AI7: 合計 | AO7: 総数
K8: 男性 | N8: 女性 | Q8: 男性 | T8: 女性 | W8: 男性 | Z8: 女性 | AC8: 男性 | AF8: 女性 | AI8: 男性 | AL8: 女性
D9: 任意入院 | K9: 2 | N9: 9 | Q9: 5 | T9: 8 | W9: 23 | Z9: 10 | AC9: 0 | AF9: 0 | AI9: =K9+Q9+W9+AC9 -> 30 | AL9: =N9+T9+Z9+AF9 -> 27 | AO9: =AI13 -> 184
D10: 医療保護入院 | K10: 15 | N10: 18 | Q10: 16 | T10: 14 | W10: 0 | Z10: 1 | AC10: 33 | AF10: 27 | AI10: =K10+Q10+W10+AC10 -> 64 | AL10: =N10+T10+Z10+AF10 -> 60
D11: 措置入院 | K11: 3 | N11: 0 | Q11: 0 | T11: 0 | W11: 0 | Z11: 0 | AC11: 0 | AF11: 0 | AI11: =K11+Q11+W11+AC11 -> 3 | AL11: =N11+T11+Z11+AF11 -> 0
D12: 合計 | K12: =K9+K10+K11 -> 20 | N12: =N9+N10+N11 -> 27 | Q12: =Q9+Q10+Q11 -> 21 | T12: =SUM(T9:V11) -> 22 | W12: =SUM(W9:Y11) -> 23 | Z12: =SUM(Z9:AB11) -> 11 | AC12: =SUM(AC9:AE11) -> 33 | AF12: =SUM(AF9:AH11) -> 27 | AI12: =SUM(K12+Q12+W12+AC12) -> 97 | AL12: =SUM(N12+T12+Z12+AF12) -> 87 | AO12: 人
K13: =K12+N12 -> 47 | Q13: =Q12+T12 -> 43 | W13: =W12+Z12 -> 34 | AC13: =AC12+AF12 -> 60 | AI13: =AI12+AL12 -> 184
F14: 患者様氏名 | N14: 入院形態 | T14: 担当Dr | Y14: 担当SW | AD14: 病棟 | AJ14: 備考欄
D15: 入院 | F15: 齊藤 光枝 | L15: 様 | N15: 医療保護入院 | T15: 田名部茂Dr | Y15: 西舘 翔子 | AD15: 東A
L16: 様
L17: 様
L18: 様
L19: 様
D20: 退院 | L20: 様
L21: 様
L22: 様
L23: 様
L24: 様
D25: 転棟 ･ 入院形態変更 | F25: 塩倉 一輝 | L25: 様 | N25: 任意入院 | T25: 田名部茂Dr | Y25: 西舘 翔子 | AD25: 北→東A
F26: 小栗 健太郎 | L26: 様 | N26: 医療保護入院 | T26: 田名部茂Dr | Y26: 西舘 翔子 | AD26: 西A→東D
L27: 様
L28: 様
L29: 様
A30: 患者様 関連 | D30: 患者様氏名 | K30: 担当Dr | P30: 病棟 | S30: 制限内容 | X30: 制限時間 | AC30: 開始日時 | AO30: 備考
D31: 中村 聡 | I31: 様 | K31: 金泰徳Dr | P31: 東B | S31: 通信制限 | X31: 通信制限 | AC31: 令和 | AE31: 3 | AF31: 年 | AG31: 5 | AH31: 月 | AI31: 31 | AJ31: 日 | AL31: ： | AN31: ～
D32: 宮﨑 宏之 | I32: 様 | K32: 馬渡晃弘Dr | P32: 東A | S32: 終日隔離 | X32: 終日隔離 | AC32: 令和 | AE32: 3 | AF32: 年 | AG32: 10 | AH32: 月 | AI32: 3 | AJ32: 日 | AL32: ： | AN32: ～
D33: 三浦 英男 | I33: 様 | K33: 馬渡晃弘Dr | P33: 東A | S33: 終日隔離 | X33: 終日隔離 | AC33: 令和 | AE33: 4 | AF33: 年 | AG33: 3 | AH33: 月 | AI33: 31 | AJ33: 日 | AL33: ： | AN33: ～
D34: 沼山 真紀子 | I34: 様 | K34: 金泰徳Dr | P34: 西B | S34: 通信制限 | X34: 通信制限 | AC34: 令和 | AE34: 4 | AF34: 年 | AG34: 4 | AH34: 月 | AI34: 6 | AJ34: 日 | AL34: ： | AN34: ～
D35: 和田 昌 | I35: 様 | P35: 東A | S35: 終日隔離 | X35: 終日隔離 | AC35: 令和 | AE35: 4 | AF35: 年 | AG35: 4 | AH35: 月 | AI35: 27 | AJ35: 日 | AL35: ： | AN35: ～ | AO35: 解除
D36: 袴田 将志 | I36: 様 | K36: 田名部茂Dr | P36: 東A | S36: 終日隔離 | X36: 終日隔離 | AC36: 令和 | AE36: 4 | AF36: 年 | AG36: 5 | AH36: 月 | AI36: 5 | AJ36: 日 | AL36: ： | AN36: ～
D37: 青木 昭弘 | I37: 様 | K37: 田名部茂Dr | P37: 東A | S37: 終日隔離 | X37: 終日隔離 | AC37: 令和 | AE37: 4 | AF37: 年 | AG37: 5 | AH37: 月 | AI37: 9 | AJ37: 日 | AL37: ： | AN37: ～ | AO37: 開始
I38: 様 | AC38: 令和 | AF38: 年 | AH38: 月 | AJ38: 日 | AL38: ： | AN38: ～
I39: 様 | AC39: 令和 | AF39: 年 | AH39: 月 | AJ39: 日 | AL39: ： | AN39: ～
I40: 様 | AC40: 令和 | AF40: 年 | AH40: 月 | AJ40: 日 | AL40: ： | AN40: ～
I41: 様 | AC41: 令和 | AF41: 年 | AH41: 月 | AJ41: 日 | AL41: ： | AN41: ～
I42: 様 | AC42: 令和 | AF42: 年 | AH42: 月 | AJ42: 日 | AL42: ： | AN42: ～
...

Sheet 9
A1: ソーシャルワーカー室 業務日誌 | AH1: C.O.O | AL1: I.O.O | AP1: Ａ.Ｏ.Ｍ
H3: =曜日!B12 -> 令和4年 | M3: =曜日!C12 -> 5月 | P3: 9日 | S3: （ | T3: =曜日!D4 -> 月 | U3: ） | W3: 作成者 | Z3: ： | AA3: 西舘 翔子
A5: 労務 状況 | D5: 勤務状況 | K5: 西舘 翔子 | P5: 日勤 | T5: 小屋敷 千瑛 | Y5: 日勤 | AC5: 大川 祥子 | AH5: 日勤 | AL5: 吉田 久美子 | AP5: 日勤
K6: 野添 京子 | P6: 日勤 | T6: 宇津木澤 育美 | Y6: 日勤 | AC6: 横平 沙羅 | AH6: 日勤
A7: 入退院 状況 | D7: 入院形態 | K7: 東病棟 | Q7: 西病棟 | W7: 北病棟 | AC7: 南病棟 | AI7: 合計 | AO7: 総数
K8: 男性 | N8: 女性 | Q8: 男性 | T8: 女性 | W8: 男性 | Z8: 女性 | AC8: 男性 | AF8: 女性 | AI8: 男性 | AL8: 女性
D9: 任意入院 | K9: 2 | N9: 9 | Q9: 4 | T9: 8 | W9: 24 | Z9: 10 | AC9: 0 | AF9: 0 | AI9: =K9+Q9+W9+AC9 -> 30 | AL9: =N9+T9+Z9+AF9 -> 27 | AO9: =AI13 -> 183
D10: 医療保護入院 | K10: 14 | N10: 16 | Q10: 16 | T10: 16 | W10: 0 | Z10: 1 | AC10: 33 | AF10: 27 | AI10: =K10+Q10+W10+AC10 -> 63 | AL10: =N10+T10+Z10+AF10 -> 60
D11: 措置入院 | K11: 3 | N11: 0 | Q11: 0 | T11: 0 | W11: 0 | Z11: 0 | AC11: 0 | AF11: 0 | AI11: =K11+Q11+W11+AC11 -> 3 | AL11: =N11+T11+Z11+AF11 -> 0
D12: 合計 | K12: =K9+K10+K11 -> 19 | N12: =N9+N10+N11 -> 25 | Q12: =Q9+Q10+Q11 -> 20 | T12: =SUM(T9:V11) -> 24 | W12: =SUM(W9:Y11) -> 24 | Z12: =SUM(Z9:AB11) -> 11 | AC12: =SUM(AC9:AE11) -> 33 | AF12: =SUM(AF9:AH11) -> 27 | AI12: =SUM(K12+Q12+W12+AC12) -> 96 | AL12: =SUM(N12+T12+Z12+AF12) -> 87 | AO12: 人
K13: =K12+N12 -> 44 | Q13: =Q12+T12 -> 44 | W13: =W12+Z12 -> 35 | AC13: =AC12+AF12 -> 60 | AI13: =AI12+AL12 -> 183
F14: 患者様氏名 | N14: 入院形態 | T14: 担当Dr | Y14: 担当SW | AD14: 病棟 | AJ14: 備考欄
D15: 入院 | L15: 様
L16: 様
L17: 様
L18: 様
L19: 様
D20: 退院 | F20: 清水目 忠男 | L20: 様 | N20: 医療保護入院 | T20: 馬渡晃弘Dr | Y20: 西舘 翔子 | AD20: 東C
L21: 様
L22: 様
L23: 様
L24: 様
D25: 転棟 ･ 入院形態変更 | F25: 田中 文男 | L25: 様 | N25: 任意入院 | T25: 金泰德Dr | Y25: 小屋敷 千瑛 | AD25: 西B→北
F26: 沼田 ゆき子 | L26: 様 | N26: 医療保護入院 | T26: 小栁匡相Dr | Y26: 西舘 翔子 | AD26: 東A→西B
F27: 江刺家 惠子 | L27: 様 | N27: 医療保護入院 | T27: 小栁匡相Dr | Y27: 西舘 翔子 | AD27: 東C→西B
L28: 様
L29: 様
A30: 患者様 関連 | D30: 患者様氏名 | K30: 担当Dr | P30: 病棟 | S30: 制限内容 | X30: 制限時間 | AC30: 開始日時 | AO30: 備考
D31: 中村 聡 | I31: 様 | K31: 金泰徳Dr | P31: 東B | S31: 通信制限 | X31: 通信制限 | AC31: 令和 | AE31: 3 | AF31: 年 | AG31: 5 | AH31: 月 | AI31: 31 | AJ31: 日 | AL31: ： | AN31: ～
D32: 宮﨑 宏之 | I32: 様 | K32: 馬渡晃弘Dr | P32: 東A | S32: 終日隔離 | X32: 終日隔離 | AC32: 令和 | AE32: 3 | AF32: 年 | AG32: 10 | AH32: 月 | AI32: 3 | AJ32: 日 | AL32: ： | AN32: ～
D33: 三浦 英男 | I33: 様 | K33: 馬渡晃弘Dr | P33: 東A | S33: 終日隔離 | X33: 終日隔離 | AC33: 令和 | AE33: 4 | AF33: 年 | AG33: 3 | AH33: 月 | AI33: 31 | AJ33: 日 | AL33: ： | AN33: ～
D34: 沼山 真紀子 | I34: 様 | K34: 金泰徳Dr | P34: 西B | S34: 通信制限 | X34: 通信制限 | AC34: 令和 | AE34: 4 | AF34: 年 | AG34: 4 | AH34: 月 | AI34: 6 | AJ34: 日 | AL34: ： | AN34: ～
D35: 袴田 将志 | I35: 様 | K35: 田名部茂Dr | P35: 東A | S35: 終日隔離 | X35: 終日隔離 | AC35: 令和 | AE35: 4 | AF35: 年 | AG35: 5 | AH35: 月 | AI35: 5 | AJ35: 日 | AL35: ： | AN35: ～
D36: 青木 昭弘 | I36: 様 | K36: 田名部茂Dr | P36: 東A | S36: 終日隔離 | X36: 終日隔離 | AC36: 令和 | AE36: 4 | AF36: 年 | AG36: 5 | AH36: 月 | AI36: 9 | AJ36: 日 | AL36: ： | AN36: ～
I37: 様 | AC37: 令和 | AF37: 年 | AH37: 月 | AJ37: 日 | AL37: ： | AN37: ～
I38: 様 | AC38: 令和 | AF38: 年 | AH38: 月 | AJ38: 日 | AL38: ： | AN38: ～
I39: 様 | AC39: 令和 | AF39: 年 | AH39: 月 | AJ39: 日 | AL39: ： | AN39: ～
I40: 様 | AC40: 令和 | AF40: 年 | AH40: 月 | AJ40: 日 | AL40: ： | AN40: ～
I41: 様 | AC41: 令和 | AF41: 年 | AH41: 月 | AJ41: 日 | AL41: ： | AN41: ～
I42: 様 | AC42: 令和 | AF42: 年 | AH42: 月 | AJ42: 日 | AL42: ： | AN42: ～
...

Sheet 10
A1: ソーシャルワーカー室 業務日誌 | AH1: C.O.O | AL1: I.O.O | AP1: Ａ.Ｏ.Ｍ
H3: =曜日!B12 -> 令和4年 | M3: =曜日!C12 -> 5月 | P3: 10日 | S3: （ | T3: =曜日!D5 -> 火 | U3: ） | W3: 作成者 | Z3: ： | AA3: 西舘 翔子
A5: 労務 状況 | D5: 勤務状況 | K5: 西舘 翔子 | P5: 日勤 | T5: 小屋敷 千瑛 | Y5: 日勤 | AC5: 大川 祥子 | AH5: 産・育休 | AL5: 吉田 久美子 | AP5: 日勤
K6: 野添 京子 | P6: 日勤 | T6: 宇津木澤 育美 | Y6: 日勤 | AC6: 横平 沙羅 | AH6: 日勤
A7: 入退院 状況 | D7: 入院形態 | K7: 東病棟 | Q7: 西病棟 | W7: 北病棟 | AC7: 南病棟 | AI7: 合計 | AO7: 総数
K8: 男性 | N8: 女性 | Q8: 男性 | T8: 女性 | W8: 男性 | Z8: 女性 | AC8: 男性 | AF8: 女性 | AI8: 男性 | AL8: 女性
D9: 任意入院 | K9: 2 | N9: 9 | Q9: 4 | T9: 8 | W9: 24 | Z9: 10 | AC9: 0 | AF9: 0 | AI9: =K9+Q9+W9+AC9 -> 30 | AL9: =N9+T9+Z9+AF9 -> 27 | AO9: =AI13 -> 185
D10: 医療保護入院 | K10: 16 | N10: 16 | Q10: 16 | T10: 16 | W10: 0 | Z10: 1 | AC10: 33 | AF10: 27 | AI10: =K10+Q10+W10+AC10 -> 65 | AL10: =N10+T10+Z10+AF10 -> 60
D11: 措置入院 | K11: 3 | N11: 0 | Q11: 0 | T11: 0 | W11: 0 | Z11: 0 | AC11: 0 | AF11: 0 | AI11: =K11+Q11+W11+AC11 -> 3 | AL11: =N11+T11+Z11+AF11 -> 0
D12: 合計 | K12: =K9+K10+K11 -> 21 | N12: =N9+N10+N11 -> 25 | Q12: =Q9+Q10+Q11 -> 20 | T12: =SUM(T9:V11) -> 24 | W12: =SUM(W9:Y11) -> 24 | Z12: =SUM(Z9:AB11) -> 11 | AC12: =SUM(AC9:AE11) -> 33 | AF12: =SUM(AF9:AH11) -> 27 | AI12: =SUM(K12+Q12+W12+AC12) -> 98 | AL12: =SUM(N12+T12+Z12+AF12) -> 87 | AO12: 人
K13: =K12+N12 -> 46 | Q13: =Q12+T12 -> 44 | W13: =W12+Z12 -> 35 | AC13: =AC12+AF12 -> 60 | AI13: =AI12+AL12 -> 185
F14: 患者様氏名 | N14: 入院形態 | T14: 担当Dr | Y14: 担当SW | AD14: 病棟 | AJ14: 備考欄
D15: 入院 | F15: 佐々木 利作 | L15: 様 | N15: 医療保護入院 | T15: 深澤隆Dr | Y15: 小屋敷 千瑛 | AD15: 東C
F16: 下妻 康貴 | L16: 様 | N16: 医療保護入院 | T16: 深澤隆Dr | Y16: 西舘 翔子 | AD16: 東A
L17: 様
L18: 様
L19: 様
D20: 退院 | L20: 様
L21: 様
L22: 様
L23: 様
L24: 様
D25: 転棟 ･ 入院形態変更 | L25: 様
L26: 様
L27: 様
L28: 様
L29: 様
A30: 患者様 関連 | D30: 患者様氏名 | K30: 担当Dr | P30: 病棟 | S30: 制限内容 | X30: 制限時間 | AC30: 開始日時 | AO30: 備考
D31: 中村 聡 | I31: 様 | K31: 金泰徳Dr | P31: 東B | S31: 通信制限 | X31: 通信制限 | AC31: 令和 | AE31: 3 | AF31: 年 | AG31: 5 | AH31: 月 | AI31: 31 | AJ31: 日 | AL31: ： | AN31: ～
D32: 宮﨑 宏之 | I32: 様 | K32: 馬渡晃弘Dr | P32: 東A | S32: 終日隔離 | X32: 終日隔離 | AC32: 令和 | AE32: 3 | AF32: 年 | AG32: 10 | AH32: 月 | AI32: 3 | AJ32: 日 | AL32: ： | AN32: ～
D33: 三浦 英男 | I33: 様 | K33: 馬渡晃弘Dr | P33: 東A | S33: 終日隔離 | X33: 終日隔離 | AC33: 令和 | AE33: 4 | AF33: 年 | AG33: 3 | AH33: 月 | AI33: 31 | AJ33: 日 | AL33: ： | AN33: ～
D34: 沼山 真紀子 | I34: 様 | K34: 金泰徳Dr | P34: 西B | S34: 通信制限 | X34: 通信制限 | AC34: 令和 | AE34: 4 | AF34: 年 | AG34: 4 | AH34: 月 | AI34: 6 | AJ34: 日 | AL34: ： | AN34: ～
D35: 袴田 将志 | I35: 様 | K35: 田名部茂Dr | P35: 東A | S35: 終日隔離 | X35: 終日隔離 | AC35: 令和 | AE35: 4 | AF35: 年 | AG35: 5 | AH35: 月 | AI35: 5 | AJ35: 日 | AL35: ： | AN35: ～ | AO35: 終了
D36: 青木 昭弘 | I36: 様 | K36: 田名部茂Dr | P36: 東A | S36: 終日隔離 | X36: 終日隔離 | AC36: 令和 | AE36: 4 | AF36: 年 | AG36: 5 | AH36: 月 | AI36: 9 | AJ36: 日 | AL36: ： | AN36: ～ | AO36: 終了
D37: 青木 昭弘 | I37: 様 | K37: 田名部茂Dr | P37: 東A | S37: 身体拘束 | X37: 身体拘束 | AC37: 令和 | AE37: 4 | AF37: 年 | AG37: 5 | AH37: 月 | AI37: 10 | AJ37: 日 | AL37: ： | AN37: ～
I38: 様 | AC38: 令和 | AF38: 年 | AH38: 月 | AJ38: 日 | AL38: ： | AN38: ～
I39: 様 | AC39: 令和 | AF39: 年 | AH39: 月 | AJ39: 日 | AL39: ： | AN39: ～
I40: 様 | AC40: 令和 | AF40: 年 | AH40: 月 | AJ40: 日 | AL40: ： | AN40: ～
I41: 様 | AC41: 令和 | AF41: 年 | AH41: 月 | AJ41: 日 | AL41: ： | AN41: ～
I42: 様 | AC42: 令和 | AF42: 年 | AH42: 月 | AJ42: 日 | AL42: ： | AN42: ～
...

Sheet 11
A1: ソーシャルワーカー室 業務日誌 | AH1: C.O.O | AL1: I.O.O | AP1: Ａ.Ｏ.Ｍ
H3: =曜日!B12 -> 令和4年 | M3: =曜日!C12 -> 5月 | P3: 11日 | S3: （ | T3: =曜日!D6 -> 水 | U3: ） | W3: 作成者 | Z3: ： | AA3: 西舘 翔子
A5: 労務 状況 | D5: 勤務状況 | K5: 西舘 翔子 | P5: 日勤 | T5: 小屋敷 千瑛 | Y5: 日勤 | AC5: 大川 祥子 | AH5: 産・育休 | AL5: 吉田 久美子 | AP5: 日勤
K6: 野添 京子 | P6: 公休 | T6: 宇津木澤 育美 | Y6: 日勤 | AC6: 横平 沙羅 | AH6: 日勤
A7: 入退院 状況 | D7: 入院形態 | K7: 東病棟 | Q7: 西病棟 | W7: 北病棟 | AC7: 南病棟 | AI7: 合計 | AO7: 総数
K8: 男性 | N8: 女性 | Q8: 男性 | T8: 女性 | W8: 男性 | Z8: 女性 | AC8: 男性 | AF8: 女性 | AI8: 男性 | AL8: 女性
D9: 任意入院 | K9: 2 | N9: 9 | Q9: 4 | T9: 8 | W9: 24 | Z9: 10 | AC9: 0 | AF9: 0 | AI9: =K9+Q9+W9+AC9 -> 30 | AL9: =N9+T9+Z9+AF9 -> 27 | AO9: =AI13 -> 185
D10: 医療保護入院 | K10: 16 | N10: 15 | Q10: 16 | T10: 17 | W10: 0 | Z10: 1 | AC10: 33 | AF10: 27 | AI10: =K10+Q10+W10+AC10 -> 65 | AL10: =N10+T10+Z10+AF10 -> 60
D11: 措置入院 | K11: 3 | N11: 0 | Q11: 0 | T11: 0 | W11: 0 | Z11: 0 | AC11: 0 | AF11: 0 | AI11: =K11+Q11+W11+AC11 -> 3 | AL11: =N11+T11+Z11+AF11 -> 0
D12: 合計 | K12: =K9+K10+K11 -> 21 | N12: =N9+N10+N11 -> 24 | Q12: =Q9+Q10+Q11 -> 20 | T12: =SUM(T9:V11) -> 25 | W12: =SUM(W9:Y11) -> 24 | Z12: =SUM(Z9:AB11) -> 11 | AC12: =SUM(AC9:AE11) -> 33 | AF12: =SUM(AF9:AH11) -> 27 | AI12: =SUM(K12+Q12+W12+AC12) -> 98 | AL12: =SUM(N12+T12+Z12+AF12) -> 87 | AO12: 人
K13: =K12+N12 -> 45 | Q13: =Q12+T12 -> 45 | W13: =W12+Z12 -> 35 | AC13: =AC12+AF12 -> 60 | AI13: =AI12+AL12 -> 185
F14: 患者様氏名 | N14: 入院形態 | T14: 担当Dr | Y14: 担当SW | AD14: 病棟 | AJ14: 備考欄
D15: 入院 | L15: 様
L16: 様
L17: 様
L18: 様
L19: 様
D20: 退院 | L20: 様
L21: 様
L22: 様
L23: 様
L24: 様
D25: 転棟 ･ 入院形態変更 | F25: 田村 真紀子 | L25: 様 | N25: 医療保護入院 | T25: 菅野庸Dr | Y25: 西舘 翔子 | AD25: 東B→西B
L26: 様
L27: 様
L28: 様
L29: 様
A30: 患者様 関連 | D30: 患者様氏名 | K30: 担当Dr | P30: 病棟 | S30: 制限内容 | X30: 制限時間 | AC30: 開始日時 | AO30: 備考
D31: 中村 聡 | I31: 様 | K31: 金泰徳Dr | P31: 東B | S31: 通信制限 | X31: 通信制限 | AC31: 令和 | AE31: 3 | AF31: 年 | AG31: 5 | AH31: 月 | AI31: 31 | AJ31: 日 | AL31: ： | AN31: ～
D32: 宮﨑 宏之 | I32: 様 | K32: 馬渡晃弘Dr | P32: 東A | S32: 終日隔離 | X32: 終日隔離 | AC32: 令和 | AE32: 3 | AF32: 年 | AG32: 10 | AH32: 月 | AI32: 3 | AJ32: 日 | AL32: ： | AN32: ～
D33: 三浦 英男 | I33: 様 | K33: 馬渡晃弘Dr | P33: 東A | S33: 終日隔離 | X33: 終日隔離 | AC33: 令和 | AE33: 4 | AF33: 年 | AG33: 3 | AH33: 月 | AI33: 31 | AJ33: 日 | AL33: ： | AN33: ～ | AO33: 終了
D34: 沼山 真紀子 | I34: 様 | K34: 金泰徳Dr | P34: 西B | S34: 通信制限 | X34: 通信制限 | AC34: 令和 | AE34: 4 | AF34: 年 | AG34: 4 | AH34: 月 | AI34: 6 | AJ34: 日 | AL34: ： | AN34: ～
D35: 青木 昭弘 | I35: 様 | K35: 田名部茂Dr | P35: 東A | S35: 身体拘束 | X35: 身体拘束 | AC35: 令和 | AE35: 4 | AF35: 年 | AG35: 5 | AH35: 月 | AI35: 10 | AJ35: 日 | AL35: ： | AN35: ～
D36: 三浦 英男 | I36: 様 | K36: 馬渡晃弘Dr | P36: 東A | S36: 時間隔離 | X36: 時間隔離 | AC36: 令和 | AE36: 4 | AF36: 年 | AG36: 5 | AH36: 月 | AI36: 11 | AJ36: 日 | AL36: ： | AN36: ～ | AO36: 開始
I37: 様 | AC37: 令和 | AF37: 年 | AH37: 月 | AJ37: 日 | AL37: ： | AN37: ～
I38: 様 | AC38: 令和 | AF38: 年 | AH38: 月 | AJ38: 日 | AL38: ： | AN38: ～
I39: 様 | AC39: 令和 | AF39: 年 | AH39: 月 | AJ39: 日 | AL39: ： | AN39: ～
I40: 様 | AC40: 令和 | AF40: 年 | AH40: 月 | AJ40: 日 | AL40: ： | AN40: ～
I41: 様 | AC41: 令和 | AF41: 年 | AH41: 月 | AJ41: 日 | AL41: ： | AN41: ～
I42: 様 | AC42: 令和 | AF42: 年 | AH42: 月 | AJ42: 日 | AL42: ： | AN42: ～
...

Sheet 12
A1: ソーシャルワーカー室 業務日誌 | AH1: C.O.O | AL1: I.O.O | AP1: Ａ.Ｏ.Ｍ
H3: =曜日!B12 -> 令和4年 | M3: =曜日!C12 -> 5月 | P3: 12日 | S3: （ | T3: =曜日!D7 -> 木 | U3: ） | W3: 作成者 | Z3: ： | AA3: 西舘 翔子
A5: 労務 状況 | D5: 勤務状況 | K5: 西舘 翔子 | P5: 日勤 | T5: 小屋敷 千瑛 | Y5: 日勤 | AC5: 大川 祥子 | AH5: 産・育休 | AL5: 吉田 久美子 | AP5: 日勤
K6: 野添 京子 | P6: 日勤 | T6: 宇津木澤 育美 | Y6: 日勤 | AC6: 横平 沙羅 | AH6: 日勤
A7: 入退院 状況 | D7: 入院形態 | K7: 東病棟 | Q7: 西病棟 | W7: 北病棟 | AC7: 南病棟 | AI7: 合計 | AO7: 総数
K8: 男性 | N8: 女性 | Q8: 男性 | T8: 女性 | W8: 男性 | Z8: 女性 | AC8: 男性 | AF8: 女性 | AI8: 男性 | AL8: 女性
D9: 任意入院 | K9: 2 | N9: 9 | Q9: 4 | T9: 8 | W9: 24 | Z9: 10 | AC9: 0 | AF9: 0 | AI9: =K9+Q9+W9+AC9 -> 30 | AL9: =N9+T9+Z9+AF9 -> 27 | AO9: =AI13 -> 186
D10: 医療保護入院 | K10: 17 | N10: 15 | Q10: 16 | T10: 17 | W10: 0 | Z10: 1 | AC10: 33 | AF10: 27 | AI10: =K10+Q10+W10+AC10 -> 66 | AL10: =N10+T10+Z10+AF10 -> 60
D11: 措置入院 | K11: 3 | N11: 0 | Q11: 0 | T11: 0 | W11: 0 | Z11: 0 | AC11: 0 | AF11: 0 | AI11: =K11+Q11+W11+AC11 -> 3 | AL11: =N11+T11+Z11+AF11 -> 0
D12: 合計 | K12: =K9+K10+K11 -> 22 | N12: =N9+N10+N11 -> 24 | Q12: =Q9+Q10+Q11 -> 20 | T12: =SUM(T9:V11) -> 25 | W12: =SUM(W9:Y11) -> 24 | Z12: =SUM(Z9:AB11) -> 11 | AC12: =SUM(AC9:AE11) -> 33 | AF12: =SUM(AF9:AH11) -> 27 | AI12: =SUM(K12+Q12+W12+AC12) -> 99 | AL12: =SUM(N12+T12+Z12+AF12) -> 87 | AO12: 人
K13: =K12+N12 -> 46 | Q13: =Q12+T12 -> 45 | W13: =W12+Z12 -> 35 | AC13: =AC12+AF12 -> 60 | AI13: =AI12+AL12 -> 186
F14: 患者様氏名 | N14: 入院形態 | T14: 担当Dr | Y14: 担当SW | AD14: 病棟 | AJ14: 備考欄
D15: 入院 | F15: 前田 順治 | L15: 様 | N15: 医療保護入院 | T15: 小栁匡相Dr | Y15: 小屋敷 千瑛 | AD15: 東C
L16: 様
L17: 様
L18: 様
L19: 様
D20: 退院 | L20: 様
L21: 様
L22: 様
L23: 様
L24: 様
D25: 転棟 ･ 入院形態変更 | L25: 様
L26: 様
L27: 様
L28: 様
L29: 様
A30: 患者様 関連 | D30: 患者様氏名 | K30: 担当Dr | P30: 病棟 | S30: 制限内容 | X30: 制限時間 | AC30: 開始日時 | AO30: 備考
D31: 中村 聡 | I31: 様 | K31: 金泰徳Dr | P31: 東B | S31: 通信制限 | X31: 通信制限 | AC31: 令和 | AE31: 3 | AF31: 年 | AG31: 5 | AH31: 月 | AI31: 31 | AJ31: 日 | AL31: ： | AN31: ～
D32: 宮﨑 宏之 | I32: 様 | K32: 馬渡晃弘Dr | P32: 東A | S32: 終日隔離 | X32: 終日隔離 | AC32: 令和 | AE32: 3 | AF32: 年 | AG32: 10 | AH32: 月 | AI32: 3 | AJ32: 日 | AL32: ： | AN32: ～
D33: 沼山 真紀子 | I33: 様 | K33: 金泰徳Dr | P33: 西B | S33: 通信制限 | X33: 通信制限 | AC33: 令和 | AE33: 4 | AF33: 年 | AG33: 4 | AH33: 月 | AI33: 6 | AJ33: 日 | AL33: ： | AN33: ～
D34: 青木 昭弘 | I34: 様 | K34: 田名部茂Dr | P34: 東A | S34: 身体拘束 | X34: 身体拘束 | AC34: 令和 | AE34: 4 | AF34: 年 | AG34: 5 | AH34: 月 | AI34: 10 | AJ34: 日 | AL34: ： | AN34: ～
D35: 三浦 英男 | I35: 様 | K35: 馬渡晃弘Dr | P35: 東A | S35: 時間隔離 | X35: 時間隔離 | AC35: 令和 | AE35: 4 | AF35: 年 | AG35: 5 | AH35: 月 | AI35: 11 | AJ35: 日 | AL35: ： | AN35: ～
I36: 様 | AC36: 令和 | AF36: 年 | AH36: 月 | AJ36: 日 | AL36: ： | AN36: ～
I37: 様 | AC37: 令和 | AF37: 年 | AH37: 月 | AJ37: 日 | AL37: ： | AN37: ～
I38: 様 | AC38: 令和 | AF38: 年 | AH38: 月 | AJ38: 日 | AL38: ： | AN38: ～
I39: 様 | AC39: 令和 | AF39: 年 | AH39: 月 | AJ39: 日 | AL39: ： | AN39: ～
I40: 様 | AC40: 令和 | AF40: 年 | AH40: 月 | AJ40: 日 | AL40: ： | AN40: ～
I41: 様 | AC41: 令和 | AF41: 年 | AH41: 月 | AJ41: 日 | AL41: ： | AN41: ～
I42: 様 | AC42: 令和 | AF42: 年 | AH42: 月 | AJ42: 日 | AL42: ： | AN42: ～
...

Sheet 13
A1: ソーシャルワーカー室 業務日誌 | AH1: C.O.O | AL1: I.O.O | AP1: Ａ.Ｏ.Ｍ
H3: =曜日!B12 -> 令和4年 | M3: =曜日!C12 -> 5月 | P3: 13日 | S3: （ | T3: =曜日!D8 -> 金 | U3: ） | W3: 作成者 | Z3: ：
A5: 労務 状況 | D5: 勤務状況 | K5: 西舘 翔子 | T5: 小屋敷 千瑛 | AC5: 大川 祥子 | AL5: 吉田 久美子
K6: 野添 京子
A7: 入退院 状況 | D7: 入院形態 | K7: 東病棟 | Q7: 西病棟 | W7: 北病棟 | AC7: 南病棟 | AI7: 合計 | AO7: 総数
K8: 男性 | N8: 女性 | Q8: 男性 | T8: 女性 | W8: 男性 | Z8: 女性 | AC8: 男性 | AF8: 女性 | AI8: 男性 | AL8: 女性
D9: 任意入院 | AI9: =K9+Q9+W9+AC9 -> 0 | AL9: =N9+T9+Z9+AF9 -> 0 | AO9: =AI13 -> 0
D10: 医療保護入院 | AI10: =K10+Q10+W10+AC10 -> 0 | AL10: =N10+T10+Z10+AF10 -> 0
D11: 措置入院 | AI11: =K11+Q11+W11+AC11 -> 0 | AL11: =N11+T11+Z11+AF11 -> 0
D12: 合計 | K12: =K9+K10+K11 -> 0 | N12: =N9+N10+N11 -> 0 | Q12: =Q9+Q10+Q11 -> 0 | T12: =SUM(T9:V11) -> 0 | W12: =SUM(W9:Y11) -> 0 | Z12: =SUM(Z9:AB11) -> 0 | AC12: =SUM(AC9:AE11) -> 0 | AF12: =SUM(AF9:AH11) -> 0 | AI12: =SUM(K12+Q12+W12+AC12) -> 0 | AL12: =SUM(N12+T12+Z12+AF12) -> 0 | AO12: 人
K13: =K12+N12 -> 0 | Q13: =Q12+T12 -> 0 | W13: =W12+Z12 -> 0 | AC13: =AC12+AF12 -> 0 | AI13: =AI12+AL12 -> 0
F14: 患者様氏名 | N14: 入院形態 | T14: 担当Dr | Y14: 担当SW | AD14: 病棟 | AJ14: 備考欄
D15: 入院 | L15: 様
L16: 様
L17: 様
L18: 様
L19: 様
D20: 退院 | L20: 様
L21: 様
L22: 様
L23: 様
L24: 様
D25: 転棟 ･ 入院形態変更 | L25: 様
L26: 様
L27: 様
L28: 様
L29: 様
A30: 患者様 関連 | D30: 患者様氏名 | K30: 担当Dr | P30: 病棟 | S30: 制限内容 | X30: 制限時間 | AC30: 開始日時 | AO30: 備考
I31: 様 | AC31: 令和 | AF31: 年 | AH31: 月 | AJ31: 日 | AL31: ： | AN31: ～
I32: 様 | AC32: 令和 | AF32: 年 | AH32: 月 | AJ32: 日 | AL32: ： | AN32: ～
I33: 様 | AC33: 令和 | AF33: 年 | AH33: 月 | AJ33: 日 | AL33: ： | AN33: ～
I34: 様 | AC34: 令和 | AF34: 年 | AH34: 月 | AJ34: 日 | AL34: ： | AN34: ～
I35: 様 | AC35: 令和 | AF35: 年 | AH35: 月 | AJ35: 日 | AL35: ： | AN35: ～
I36: 様 | AC36: 令和 | AF36: 年 | AH36: 月 | AJ36: 日 | AL36: ： | AN36: ～
I37: 様 | AC37: 令和 | AF37: 年 | AH37: 月 | AJ37: 日 | AL37: ： | AN37: ～
I38: 様 | AC38: 令和 | AF38: 年 | AH38: 月 | AJ38: 日 | AL38: ： | AN38: ～
I39: 様 | AC39: 令和 | AF39: 年 | AH39: 月 | AJ39: 日 | AL39: ： | AN39: ～
I40: 様 | AC40: 令和 | AF40: 年 | AH40: 月 | AJ40: 日 | AL40: ： | AN40: ～
I41: 様 | AC41: 令和 | AF41: 年 | AH41: 月 | AJ41: 日 | AL41: ： | AN41: ～
I42: 様 | AC42: 令和 | AF42: 年 | AH42: 月 | AJ42: 日 | AL42: ： | AN42: ～
...

Sheet 14
A1: ソーシャルワーカー室 業務日誌 | AH1: C.O.O | AL1: I.O.O | AP1: Ａ.Ｏ.Ｍ
H3: =曜日!B12 -> 令和4年 | M3: =曜日!C12 -> 5月 | P3: 14日 | S3: （ | T3: =曜日!D9 -> 土 | U3: ） | W3: 作成者 | Z3: ：
A5: 労務 状況 | D5: 勤務状況 | K5: 西舘 翔子 | T5: 小屋敷 千瑛 | AC5: 大川 祥子 | AL5: 吉田 久美子
K6: 野添 京子
A7: 入退院 状況 | D7: 入院形態 | K7: 東病棟 | Q7: 西病棟 | W7: 北病棟 | AC7: 南病棟 | AI7: 合計 | AO7: 総数
K8: 男性 | N8: 女性 | Q8: 男性 | T8: 女性 | W8: 男性 | Z8: 女性 | AC8: 男性 | AF8: 女性 | AI8: 男性 | AL8: 女性
D9: 任意入院 | AI9: =K9+Q9+W9+AC9 -> 0 | AL9: =N9+T9+Z9+AF9 -> 0 | AO9: =AI13 -> 0
D10: 医療保護入院 | AI10: =K10+Q10+W10+AC10 -> 0 | AL10: =N10+T10+Z10+AF10 -> 0
D11: 措置入院 | AI11: =K11+Q11+W11+AC11 -> 0 | AL11: =N11+T11+Z11+AF11 -> 0
D12: 合計 | K12: =K9+K10+K11 -> 0 | N12: =N9+N10+N11 -> 0 | Q12: =Q9+Q10+Q11 -> 0 | T12: =SUM(T9:V11) -> 0 | W12: =SUM(W9:Y11) -> 0 | Z12: =SUM(Z9:AB11) -> 0 | AC12: =SUM(AC9:AE11) -> 0 | AF12: =SUM(AF9:AH11) -> 0 | AI12: =SUM(K12+Q12+W12+AC12) -> 0 | AL12: =SUM(N12+T12+Z12+AF12) -> 0 | AO12: 人
K13: =K12+N12 -> 0 | Q13: =Q12+T12 -> 0 | W13: =W12+Z12 -> 0 | AC13: =AC12+AF12 -> 0 | AI13: =AI12+AL12 -> 0
F14: 患者様氏名 | N14: 入院形態 | T14: 担当Dr | Y14: 担当SW | AD14: 病棟 | AJ14: 備考欄
D15: 入院 | L15: 様
L16: 様
L17: 様
L18: 様
L19: 様
D20: 退院 | L20: 様
L21: 様
L22: 様
L23: 様
L24: 様
D25: 転棟 ･ 入院形態変更 | L25: 様
L26: 様
L27: 様
L28: 様
L29: 様
A30: 患者様 関連 | D30: 患者様氏名 | K30: 担当Dr | P30: 病棟 | S30: 制限内容 | X30: 制限時間 | AC30: 開始日時 | AO30: 備考
I31: 様 | AC31: 令和 | AF31: 年 | AH31: 月 | AJ31: 日 | AL31: ： | AN31: ～
I32: 様 | AC32: 令和 | AF32: 年 | AH32: 月 | AJ32: 日 | AL32: ： | AN32: ～
I33: 様 | AC33: 令和 | AF33: 年 | AH33: 月 | AJ33: 日 | AL33: ： | AN33: ～
I34: 様 | AC34: 令和 | AF34: 年 | AH34: 月 | AJ34: 日 | AL34: ： | AN34: ～
I35: 様 | AC35: 令和 | AF35: 年 | AH35: 月 | AJ35: 日 | AL35: ： | AN35: ～
I36: 様 | AC36: 令和 | AF36: 年 | AH36: 月 | AJ36: 日 | AL36: ： | AN36: ～
I37: 様 | AC37: 令和 | AF37: 年 | AH37: 月 | AJ37: 日 | AL37: ： | AN37: ～
I38: 様 | AC38: 令和 | AF38: 年 | AH38: 月 | AJ38: 日 | AL38: ： | AN38: ～
I39: 様 | AC39: 令和 | AF39: 年 | AH39: 月 | AJ39: 日 | AL39: ： | AN39: ～
I40: 様 | AC40: 令和 | AF40: 年 | AH40: 月 | AJ40: 日 | AL40: ： | AN40: ～
I41: 様 | AC41: 令和 | AF41: 年 | AH41: 月 | AJ41: 日 | AL41: ： | AN41: ～
I42: 様 | AC42: 令和 | AF42: 年 | AH42: 月 | AJ42: 日 | AL42: ： | AN42: ～
...

Sheet 15
A1: ソーシャルワーカー室 業務日誌 | AH1: C.O.O | AL1: I.O.O | AP1: Ａ.Ｏ.Ｍ
H3: =曜日!B12 -> 令和4年 | M3: =曜日!C12 -> 5月 | P3: 15日 | S3: （ | T3: =曜日!D3 -> 日 | U3: ） | W3: 作成者 | Z3: ：
A5: 労務 状況 | D5: 勤務状況 | K5: 西舘 翔子 | T5: 小屋敷 千瑛 | AC5: 大川 祥子 | AL5: 吉田 久美子
K6: 野添 京子
A7: 入退院 状況 | D7: 入院形態 | K7: 東病棟 | Q7: 西病棟 | W7: 北病棟 | AC7: 南病棟 | AI7: 合計 | AO7: 総数
K8: 男性 | N8: 女性 | Q8: 男性 | T8: 女性 | W8: 男性 | Z8: 女性 | AC8: 男性 | AF8: 女性 | AI8: 男性 | AL8: 女性
D9: 任意入院 | AI9: =K9+Q9+W9+AC9 -> 0 | AL9: =N9+T9+Z9+AF9 -> 0 | AO9: =AI13 -> 0
D10: 医療保護入院 | AI10: =K10+Q10+W10+AC10 -> 0 | AL10: =N10+T10+Z10+AF10 -> 0
D11: 措置入院 | AI11: =K11+Q11+W11+AC11 -> 0 | AL11: =N11+T11+Z11+AF11 -> 0
D12: 合計 | K12: =K9+K10+K11 -> 0 | N12: =N9+N10+N11 -> 0 | Q12: =Q9+Q10+Q11 -> 0 | T12: =SUM(T9:V11) -> 0 | W12: =SUM(W9:Y11) -> 0 | Z12: =SUM(Z9:AB11) -> 0 | AC12: =SUM(AC9:AE11) -> 0 | AF12: =SUM(AF9:AH11) -> 0 | AI12: =SUM(K12+Q12+W12+AC12) -> 0 | AL12: =SUM(N12+T12+Z12+AF12) -> 0 | AO12: 人
K13: =K12+N12 -> 0 | Q13: =Q12+T12 -> 0 | W13: =W12+Z12 -> 0 | AC13: =AC12+AF12 -> 0 | AI13: =AI12+AL12 -> 0
F14: 患者様氏名 | N14: 入院形態 | T14: 担当Dr | Y14: 担当SW | AD14: 病棟 | AJ14: 備考欄
D15: 入院 | L15: 様
L16: 様
L17: 様
L18: 様
L19: 様
D20: 退院 | L20: 様
L21: 様
L22: 様
L23: 様
L24: 様
D25: 転棟 ･ 入院形態変更 | L25: 様
L26: 様
L27: 様
L28: 様
L29: 様
A30: 患者様 関連 | D30: 患者様氏名 | K30: 担当Dr | P30: 病棟 | S30: 制限内容 | X30: 制限時間 | AC30: 開始日時 | AO30: 備考
I31: 様 | AC31: 令和 | AF31: 年 | AH31: 月 | AJ31: 日 | AL31: ： | AN31: ～
I32: 様 | AC32: 令和 | AF32: 年 | AH32: 月 | AJ32: 日 | AL32: ： | AN32: ～
I33: 様 | AC33: 令和 | AF33: 年 | AH33: 月 | AJ33: 日 | AL33: ： | AN33: ～
I34: 様 | AC34: 令和 | AF34: 年 | AH34: 月 | AJ34: 日 | AL34: ： | AN34: ～
I35: 様 | AC35: 令和 | AF35: 年 | AH35: 月 | AJ35: 日 | AL35: ： | AN35: ～
I36: 様 | AC36: 令和 | AF36: 年 | AH36: 月 | AJ36: 日 | AL36: ： | AN36: ～
I37: 様 | AC37: 令和 | AF37: 年 | AH37: 月 | AJ37: 日 | AL37: ： | AN37: ～
I38: 様 | AC38: 令和 | AF38: 年 | AH38: 月 | AJ38: 日 | AL38: ： | AN38: ～
I39: 様 | AC39: 令和 | AF39: 年 | AH39: 月 | AJ39: 日 | AL39: ： | AN39: ～
I40: 様 | AC40: 令和 | AF40: 年 | AH40: 月 | AJ40: 日 | AL40: ： | AN40: ～
I41: 様 | AC41: 令和 | AF41: 年 | AH41: 月 | AJ41: 日 | AL41: ： | AN41: ～
I42: 様 | AC42: 令和 | AF42: 年 | AH42: 月 | AJ42: 日 | AL42: ： | AN42: ～
...

Sheet 16
A1: ソーシャルワーカー室 業務日誌 | AH1: C.O.O | AL1: I.O.O | AP1: Ａ.Ｏ.Ｍ
H3: =曜日!B12 -> 令和4年 | M3: =曜日!C12 -> 5月 | P3: 16日 | S3: （ | T3: =曜日!D4 -> 月 | U3: ） | W3: 作成者 | Z3: ：
A5: 労務 状況 | D5: 勤務状況 | K5: 西舘 翔子 | T5: 小屋敷 千瑛 | AC5: 大川 祥子 | AL5: 吉田 久美子
K6: 野添 京子
A7: 入退院 状況 | D7: 入院形態 | K7: 東病棟 | Q7: 西病棟 | W7: 北病棟 | AC7: 南病棟 | AI7: 合計 | AO7: 総数
K8: 男性 | N8: 女性 | Q8: 男性 | T8: 女性 | W8: 男性 | Z8: 女性 | AC8: 男性 | AF8: 女性 | AI8: 男性 | AL8: 女性
D9: 任意入院 | AI9: =K9+Q9+W9+AC9 -> 0 | AL9: =N9+T9+Z9+AF9 -> 0 | AO9: =AI13 -> 0
D10: 医療保護入院 | AI10: =K10+Q10+W10+AC10 -> 0 | AL10: =N10+T10+Z10+AF10 -> 0
D11: 措置入院 | AI11: =K11+Q11+W11+AC11 -> 0 | AL11: =N11+T11+Z11+AF11 -> 0
D12: 合計 | K12: =K9+K10+K11 -> 0 | N12: =N9+N10+N11 -> 0 | Q12: =Q9+Q10+Q11 -> 0 | T12: =SUM(T9:V11) -> 0 | W12: =SUM(W9:Y11) -> 0 | Z12: =SUM(Z9:AB11) -> 0 | AC12: =SUM(AC9:AE11) -> 0 | AF12: =SUM(AF9:AH11) -> 0 | AI12: =SUM(K12+Q12+W12+AC12) -> 0 | AL12: =SUM(N12+T12+Z12+AF12) -> 0 | AO12: 人
K13: =K12+N12 -> 0 | Q13: =Q12+T12 -> 0 | W13: =W12+Z12 -> 0 | AC13: =AC12+AF12 -> 0 | AI13: =AI12+AL12 -> 0
F14: 患者様氏名 | N14: 入院形態 | T14: 担当Dr | Y14: 担当SW | AD14: 病棟 | AJ14: 備考欄
D15: 入院 | L15: 様
L16: 様
L17: 様
L18: 様
L19: 様
D20: 退院 | L20: 様
L21: 様
L22: 様
L23: 様
L24: 様
D25: 転棟 ･ 入院形態変更 | L25: 様
L26: 様
L27: 様
L28: 様
L29: 様
A30: 患者様 関連 | D30: 患者様氏名 | K30: 担当Dr | P30: 病棟 | S30: 制限内容 | X30: 制限時間 | AC30: 開始日時 | AO30: 備考
I31: 様 | AC31: 令和 | AF31: 年 | AH31: 月 | AJ31: 日 | AL31: ： | AN31: ～
I32: 様 | AC32: 令和 | AF32: 年 | AH32: 月 | AJ32: 日 | AL32: ： | AN32: ～
I33: 様 | AC33: 令和 | AF33: 年 | AH33: 月 | AJ33: 日 | AL33: ： | AN33: ～
I34: 様 | AC34: 令和 | AF34: 年 | AH34: 月 | AJ34: 日 | AL34: ： | AN34: ～
I35: 様 | AC35: 令和 | AF35: 年 | AH35: 月 | AJ35: 日 | AL35: ： | AN35: ～
I36: 様 | AC36: 令和 | AF36: 年 | AH36: 月 | AJ36: 日 | AL36: ： | AN36: ～
I37: 様 | AC37: 令和 | AF37: 年 | AH37: 月 | AJ37: 日 | AL37: ： | AN37: ～
I38: 様 | AC38: 令和 | AF38: 年 | AH38: 月 | AJ38: 日 | AL38: ： | AN38: ～
I39: 様 | AC39: 令和 | AF39: 年 | AH39: 月 | AJ39: 日 | AL39: ： | AN39: ～
I40: 様 | AC40: 令和 | AF40: 年 | AH40: 月 | AJ40: 日 | AL40: ： | AN40: ～
I41: 様 | AC41: 令和 | AF41: 年 | AH41: 月 | AJ41: 日 | AL41: ： | AN41: ～
I42: 様 | AC42: 令和 | AF42: 年 | AH42: 月 | AJ42: 日 | AL42: ： | AN42: ～
...

Sheet 17
A1: ソーシャルワーカー室 業務日誌 | AH1: C.O.O | AL1: I.O.O | AP1: Ａ.Ｏ.Ｍ
H3: =曜日!B12 -> 令和4年 | M3: =曜日!C12 -> 5月 | P3: 17日 | S3: （ | T3: =曜日!D5 -> 火 | U3: ） | W3: 作成者 | Z3: ：
A5: 労務 状況 | D5: 勤務状況 | K5: 西舘 翔子 | T5: 小屋敷 千瑛 | AC5: 大川 祥子 | AL5: 吉田 久美子
K6: 野添 京子
A7: 入退院 状況 | D7: 入院形態 | K7: 東病棟 | Q7: 西病棟 | W7: 北病棟 | AC7: 南病棟 | AI7: 合計 | AO7: 総数
K8: 男性 | N8: 女性 | Q8: 男性 | T8: 女性 | W8: 男性 | Z8: 女性 | AC8: 男性 | AF8: 女性 | AI8: 男性 | AL8: 女性
D9: 任意入院 | AI9: =K9+Q9+W9+AC9 -> 0 | AL9: =N9+T9+Z9+AF9 -> 0 | AO9: =AI13 -> 0
D10: 医療保護入院 | AI10: =K10+Q10+W10+AC10 -> 0 | AL10: =N10+T10+Z10+AF10 -> 0
D11: 措置入院 | AI11: =K11+Q11+W11+AC11 -> 0 | AL11: =N11+T11+Z11+AF11 -> 0
D12: 合計 | K12: =K9+K10+K11 -> 0 | N12: =N9+N10+N11 -> 0 | Q12: =Q9+Q10+Q11 -> 0 | T12: =SUM(T9:V11) -> 0 | W12: =SUM(W9:Y11) -> 0 | Z12: =SUM(Z9:AB11) -> 0 | AC12: =SUM(AC9:AE11) -> 0 | AF12: =SUM(AF9:AH11) -> 0 | AI12: =SUM(K12+Q12+W12+AC12) -> 0 | AL12: =SUM(N12+T12+Z12+AF12) -> 0 | AO12: 人
K13: =K12+N12 -> 0 | Q13: =Q12+T12 -> 0 | W13: =W12+Z12 -> 0 | AC13: =AC12+AF12 -> 0 | AI13: =AI12+AL12 -> 0
F14: 患者様氏名 | N14: 入院形態 | T14: 担当Dr | Y14: 担当SW | AD14: 病棟 | AJ14: 備考欄
D15: 入院 | L15: 様
L16: 様
L17: 様
L18: 様
L19: 様
D20: 退院 | L20: 様
L21: 様
L22: 様
L23: 様
L24: 様
D25: 転棟 ･ 入院形態変更 | L25: 様
L26: 様
L27: 様
L28: 様
L29: 様
A30: 患者様 関連 | D30: 患者様氏名 | K30: 担当Dr | P30: 病棟 | S30: 制限内容 | X30: 制限時間 | AC30: 開始日時 | AO30: 備考
I31: 様 | AC31: 令和 | AF31: 年 | AH31: 月 | AJ31: 日 | AL31: ： | AN31: ～
I32: 様 | AC32: 令和 | AF32: 年 | AH32: 月 | AJ32: 日 | AL32: ： | AN32: ～
I33: 様 | AC33: 令和 | AF33: 年 | AH33: 月 | AJ33: 日 | AL33: ： | AN33: ～
I34: 様 | AC34: 令和 | AF34: 年 | AH34: 月 | AJ34: 日 | AL34: ： | AN34: ～
I35: 様 | AC35: 令和 | AF35: 年 | AH35: 月 | AJ35: 日 | AL35: ： | AN35: ～
I36: 様 | AC36: 令和 | AF36: 年 | AH36: 月 | AJ36: 日 | AL36: ： | AN36: ～
I37: 様 | AC37: 令和 | AF37: 年 | AH37: 月 | AJ37: 日 | AL37: ： | AN37: ～
I38: 様 | AC38: 令和 | AF38: 年 | AH38: 月 | AJ38: 日 | AL38: ： | AN38: ～
I39: 様 | AC39: 令和 | AF39: 年 | AH39: 月 | AJ39: 日 | AL39: ： | AN39: ～
I40: 様 | AC40: 令和 | AF40: 年 | AH40: 月 | AJ40: 日 | AL40: ： | AN40: ～
I41: 様 | AC41: 令和 | AF41: 年 | AH41: 月 | AJ41: 日 | AL41: ： | AN41: ～
I42: 様 | AC42: 令和 | AF42: 年 | AH42: 月 | AJ42: 日 | AL42: ： | AN42: ～
...

Sheet 18
A1: ソーシャルワーカー室 業務日誌 | AH1: C.O.O | AL1: I.O.O | AP1: Ａ.Ｏ.Ｍ
H3: =曜日!B12 -> 令和4年 | M3: =曜日!C12 -> 5月 | P3: 18日 | S3: （ | T3: =曜日!D6 -> 水 | U3: ） | W3: 作成者 | Z3: ：
A5: 労務 状況 | D5: 勤務状況 | K5: 西舘 翔子 | T5: 小屋敷 千瑛 | AC5: 大川 祥子 | AL5: 吉田 久美子
K6: 野添 京子
A7: 入退院 状況 | D7: 入院形態 | K7: 東病棟 | Q7: 西病棟 | W7: 北病棟 | AC7: 南病棟 | AI7: 合計 | AO7: 総数
K8: 男性 | N8: 女性 | Q8: 男性 | T8: 女性 | W8: 男性 | Z8: 女性 | AC8: 男性 | AF8: 女性 | AI8: 男性 | AL8: 女性
D9: 任意入院 | AI9: =K9+Q9+W9+AC9 -> 0 | AL9: =N9+T9+Z9+AF9 -> 0 | AO9: =AI13 -> 0
D10: 医療保護入院 | AI10: =K10+Q10+W10+AC10 -> 0 | AL10: =N10+T10+Z10+AF10 -> 0
D11: 措置入院 | AI11: =K11+Q11+W11+AC11 -> 0 | AL11: =N11+T11+Z11+AF11 -> 0
D12: 合計 | K12: =K9+K10+K11 -> 0 | N12: =N9+N10+N11 -> 0 | Q12: =Q9+Q10+Q11 -> 0 | T12: =SUM(T9:V11) -> 0 | W12: =SUM(W9:Y11) -> 0 | Z12: =SUM(Z9:AB11) -> 0 | AC12: =SUM(AC9:AE11) -> 0 | AF12: =SUM(AF9:AH11) -> 0 | AI12: =SUM(K12+Q12+W12+AC12) -> 0 | AL12: =SUM(N12+T12+Z12+AF12) -> 0 | AO12: 人
K13: =K12+N12 -> 0 | Q13: =Q12+T12 -> 0 | W13: =W12+Z12 -> 0 | AC13: =AC12+AF12 -> 0 | AI13: =AI12+AL12 -> 0
F14: 患者様氏名 | N14: 入院形態 | T14: 担当Dr | Y14: 担当SW | AD14: 病棟 | AJ14: 備考欄
D15: 入院 | L15: 様
L16: 様
L17: 様
L18: 様
L19: 様
D20: 退院 | L20: 様
L21: 様
L22: 様
L23: 様
L24: 様
D25: 転棟 ･ 入院形態変更 | L25: 様
L26: 様
L27: 様
L28: 様
L29: 様
A30: 患者様 関連 | D30: 患者様氏名 | K30: 担当Dr | P30: 病棟 | S30: 制限内容 | X30: 制限時間 | AC30: 開始日時 | AO30: 備考
I31: 様 | AC31: 令和 | AF31: 年 | AH31: 月 | AJ31: 日 | AL31: ： | AN31: ～
I32: 様 | AC32: 令和 | AF32: 年 | AH32: 月 | AJ32: 日 | AL32: ： | AN32: ～
I33: 様 | AC33: 令和 | AF33: 年 | AH33: 月 | AJ33: 日 | AL33: ： | AN33: ～
I34: 様 | AC34: 令和 | AF34: 年 | AH34: 月 | AJ34: 日 | AL34: ： | AN34: ～
I35: 様 | AC35: 令和 | AF35: 年 | AH35: 月 | AJ35: 日 | AL35: ： | AN35: ～
I36: 様 | AC36: 令和 | AF36: 年 | AH36: 月 | AJ36: 日 | AL36: ： | AN36: ～
I37: 様 | AC37: 令和 | AF37: 年 | AH37: 月 | AJ37: 日 | AL37: ： | AN37: ～
I38: 様 | AC38: 令和 | AF38: 年 | AH38: 月 | AJ38: 日 | AL38: ： | AN38: ～
I39: 様 | AC39: 令和 | AF39: 年 | AH39: 月 | AJ39: 日 | AL39: ： | AN39: ～
I40: 様 | AC40: 令和 | AF40: 年 | AH40: 月 | AJ40: 日 | AL40: ： | AN40: ～
I41: 様 | AC41: 令和 | AF41: 年 | AH41: 月 | AJ41: 日 | AL41: ： | AN41: ～
I42: 様 | AC42: 令和 | AF42: 年 | AH42: 月 | AJ42: 日 | AL42: ： | AN42: ～
...

Sheet 19
A1: ソーシャルワーカー室 業務日誌 | AH1: C.O.O | AL1: I.O.O | AP1: Ａ.Ｏ.Ｍ
H3: =曜日!B12 -> 令和4年 | M3: =曜日!C12 -> 5月 | P3: 19日 | S3: （ | T3: =曜日!D7 -> 木 | U3: ） | W3: 作成者 | Z3: ：
A5: 労務 状況 | D5: 勤務状況 | K5: 西舘 翔子 | T5: 小屋敷 千瑛 | AC5: 大川 祥子 | AL5: 吉田 久美子
K6: 野添 京子
A7: 入退院 状況 | D7: 入院形態 | K7: 東病棟 | Q7: 西病棟 | W7: 北病棟 | AC7: 南病棟 | AI7: 合計 | AO7: 総数
K8: 男性 | N8: 女性 | Q8: 男性 | T8: 女性 | W8: 男性 | Z8: 女性 | AC8: 男性 | AF8: 女性 | AI8: 男性 | AL8: 女性
D9: 任意入院 | AI9: =K9+Q9+W9+AC9 -> 0 | AL9: =N9+T9+Z9+AF9 -> 0 | AO9: =AI13 -> 0
D10: 医療保護入院 | AI10: =K10+Q10+W10+AC10 -> 0 | AL10: =N10+T10+Z10+AF10 -> 0
D11: 措置入院 | AI11: =K11+Q11+W11+AC11 -> 0 | AL11: =N11+T11+Z11+AF11 -> 0
D12: 合計 | K12: =K9+K10+K11 -> 0 | N12: =N9+N10+N11 -> 0 | Q12: =Q9+Q10+Q11 -> 0 | T12: =SUM(T9:V11) -> 0 | W12: =SUM(W9:Y11) -> 0 | Z12: =SUM(Z9:AB11) -> 0 | AC12: =SUM(AC9:AE11) -> 0 | AF12: =SUM(AF9:AH11) -> 0 | AI12: =SUM(K12+Q12+W12+AC12) -> 0 | AL12: =SUM(N12+T12+Z12+AF12) -> 0 | AO12: 人
K13: =K12+N12 -> 0 | Q13: =Q12+T12 -> 0 | W13: =W12+Z12 -> 0 | AC13: =AC12+AF12 -> 0 | AI13: =AI12+AL12 -> 0
F14: 患者様氏名 | N14: 入院形態 | T14: 担当Dr | Y14: 担当SW | AD14: 病棟 | AJ14: 備考欄
D15: 入院 | L15: 様
L16: 様
L17: 様
L18: 様
L19: 様
D20: 退院 | L20: 様
L21: 様
L22: 様
L23: 様
L24: 様
D25: 転棟 ･ 入院形態変更 | L25: 様
L26: 様
L27: 様
L28: 様
L29: 様
A30: 患者様 関連 | D30: 患者様氏名 | K30: 担当Dr | P30: 病棟 | S30: 制限内容 | X30: 制限時間 | AC30: 開始日時 | AO30: 備考
I31: 様 | AC31: 令和 | AF31: 年 | AH31: 月 | AJ31: 日 | AL31: ： | AN31: ～
I32: 様 | AC32: 令和 | AF32: 年 | AH32: 月 | AJ32: 日 | AL32: ： | AN32: ～
I33: 様 | AC33: 令和 | AF33: 年 | AH33: 月 | AJ33: 日 | AL33: ： | AN33: ～
I34: 様 | AC34: 令和 | AF34: 年 | AH34: 月 | AJ34: 日 | AL34: ： | AN34: ～
I35: 様 | AC35: 令和 | AF35: 年 | AH35: 月 | AJ35: 日 | AL35: ： | AN35: ～
I36: 様 | AC36: 令和 | AF36: 年 | AH36: 月 | AJ36: 日 | AL36: ： | AN36: ～
I37: 様 | AC37: 令和 | AF37: 年 | AH37: 月 | AJ37: 日 | AL37: ： | AN37: ～
I38: 様 | AC38: 令和 | AF38: 年 | AH38: 月 | AJ38: 日 | AL38: ： | AN38: ～
I39: 様 | AC39: 令和 | AF39: 年 | AH39: 月 | AJ39: 日 | AL39: ： | AN39: ～
I40: 様 | AC40: 令和 | AF40: 年 | AH40: 月 | AJ40: 日 | AL40: ： | AN40: ～
I41: 様 | AC41: 令和 | AF41: 年 | AH41: 月 | AJ41: 日 | AL41: ： | AN41: ～
I42: 様 | AC42: 令和 | AF42: 年 | AH42: 月 | AJ42: 日 | AL42: ： | AN42: ～
...

Sheet 20
A1: ソーシャルワーカー室 業務日誌 | AH1: C.O.O | AL1: I.O.O | AP1: Ａ.Ｏ.Ｍ
H3: =曜日!B12 -> 令和4年 | M3: =曜日!C12 -> 5月 | P3: 20日 | S3: （ | T3: =曜日!D8 -> 金 | U3: ） | W3: 作成者 | Z3: ：
A5: 労務 状況 | D5: 勤務状況 | K5: 西舘 翔子 | T5: 小屋敷 千瑛 | AC5: 大川 祥子 | AL5: 吉田 久美子
K6: 野添 京子
A7: 入退院 状況 | D7: 入院形態 | K7: 東病棟 | Q7: 西病棟 | W7: 北病棟 | AC7: 南病棟 | AI7: 合計 | AO7: 総数
K8: 男性 | N8: 女性 | Q8: 男性 | T8: 女性 | W8: 男性 | Z8: 女性 | AC8: 男性 | AF8: 女性 | AI8: 男性 | AL8: 女性
D9: 任意入院 | AI9: =K9+Q9+W9+AC9 -> 0 | AL9: =N9+T9+Z9+AF9 -> 0 | AO9: =AI13 -> 0
D10: 医療保護入院 | AI10: =K10+Q10+W10+AC10 -> 0 | AL10: =N10+T10+Z10+AF10 -> 0
D11: 措置入院 | AI11: =K11+Q11+W11+AC11 -> 0 | AL11: =N11+T11+Z11+AF11 -> 0
D12: 合計 | K12: =K9+K10+K11 -> 0 | N12: =N9+N10+N11 -> 0 | Q12: =Q9+Q10+Q11 -> 0 | T12: =SUM(T9:V11) -> 0 | W12: =SUM(W9:Y11) -> 0 | Z12: =SUM(Z9:AB11) -> 0 | AC12: =SUM(AC9:AE11) -> 0 | AF12: =SUM(AF9:AH11) -> 0 | AI12: =SUM(K12+Q12+W12+AC12) -> 0 | AL12: =SUM(N12+T12+Z12+AF12) -> 0 | AO12: 人
K13: =K12+N12 -> 0 | Q13: =Q12+T12 -> 0 | W13: =W12+Z12 -> 0 | AC13: =AC12+AF12 -> 0 | AI13: =AI12+AL12 -> 0
F14: 患者様氏名 | N14: 入院形態 | T14: 担当Dr | Y14: 担当SW | AD14: 病棟 | AJ14: 備考欄
D15: 入院 | L15: 様
L16: 様
L17: 様
L18: 様
L19: 様
D20: 退院 | L20: 様
L21: 様
L22: 様
L23: 様
L24: 様
D25: 転棟 ･ 入院形態変更 | L25: 様
L26: 様
L27: 様
L28: 様
L29: 様
A30: 患者様 関連 | D30: 患者様氏名 | K30: 担当Dr | P30: 病棟 | S30: 制限内容 | X30: 制限時間 | AC30: 開始日時 | AO30: 備考
I31: 様 | AC31: 令和 | AF31: 年 | AH31: 月 | AJ31: 日 | AL31: ： | AN31: ～
I32: 様 | AC32: 令和 | AF32: 年 | AH32: 月 | AJ32: 日 | AL32: ： | AN32: ～
I33: 様 | AC33: 令和 | AF33: 年 | AH33: 月 | AJ33: 日 | AL33: ： | AN33: ～
I34: 様 | AC34: 令和 | AF34: 年 | AH34: 月 | AJ34: 日 | AL34: ： | AN34: ～
I35: 様 | AC35: 令和 | AF35: 年 | AH35: 月 | AJ35: 日 | AL35: ： | AN35: ～
I36: 様 | AC36: 令和 | AF36: 年 | AH36: 月 | AJ36: 日 | AL36: ： | AN36: ～
I37: 様 | AC37: 令和 | AF37: 年 | AH37: 月 | AJ37: 日 | AL37: ： | AN37: ～
I38: 様 | AC38: 令和 | AF38: 年 | AH38: 月 | AJ38: 日 | AL38: ： | AN38: ～
I39: 様 | AC39: 令和 | AF39: 年 | AH39: 月 | AJ39: 日 | AL39: ： | AN39: ～
I40: 様 | AC40: 令和 | AF40: 年 | AH40: 月 | AJ40: 日 | AL40: ： | AN40: ～
I41: 様 | AC41: 令和 | AF41: 年 | AH41: 月 | AJ41: 日 | AL41: ： | AN41: ～
I42: 様 | AC42: 令和 | AF42: 年 | AH42: 月 | AJ42: 日 | AL42: ： | AN42: ～
...

Sheet 21
A1: ソーシャルワーカー室 業務日誌 | AH1: C.O.O | AL1: I.O.O | AP1: Ａ.Ｏ.Ｍ
H3: =曜日!B12 -> 令和4年 | M3: =曜日!C12 -> 5月 | P3: 21日 | S3: （ | T3: =曜日!D9 -> 土 | U3: ） | W3: 作成者 | Z3: ：
A5: 労務 状況 | D5: 勤務状況 | K5: 西舘 翔子 | T5: 小屋敷 千瑛 | AC5: 大川 祥子 | AL5: 吉田 久美子
K6: 野添 京子
A7: 入退院 状況 | D7: 入院形態 | K7: 東病棟 | Q7: 西病棟 | W7: 北病棟 | AC7: 南病棟 | AI7: 合計 | AO7: 総数
K8: 男性 | N8: 女性 | Q8: 男性 | T8: 女性 | W8: 男性 | Z8: 女性 | AC8: 男性 | AF8: 女性 | AI8: 男性 | AL8: 女性
D9: 任意入院 | AI9: =K9+Q9+W9+AC9 -> 0 | AL9: =N9+T9+Z9+AF9 -> 0 | AO9: =AI13 -> 0
D10: 医療保護入院 | AI10: =K10+Q10+W10+AC10 -> 0 | AL10: =N10+T10+Z10+AF10 -> 0
D11: 措置入院 | AI11: =K11+Q11+W11+AC11 -> 0 | AL11: =N11+T11+Z11+AF11 -> 0
D12: 合計 | K12: =K9+K10+K11 -> 0 | N12: =N9+N10+N11 -> 0 | Q12: =Q9+Q10+Q11 -> 0 | T12: =SUM(T9:V11) -> 0 | W12: =SUM(W9:Y11) -> 0 | Z12: =SUM(Z9:AB11) -> 0 | AC12: =SUM(AC9:AE11) -> 0 | AF12: =SUM(AF9:AH11) -> 0 | AI12: =SUM(K12+Q12+W12+AC12) -> 0 | AL12: =SUM(N12+T12+Z12+AF12) -> 0 | AO12: 人
K13: =K12+N12 -> 0 | Q13: =Q12+T12 -> 0 | W13: =W12+Z12 -> 0 | AC13: =AC12+AF12 -> 0 | AI13: =AI12+AL12 -> 0
F14: 患者様氏名 | N14: 入院形態 | T14: 担当Dr | Y14: 担当SW | AD14: 病棟 | AJ14: 備考欄
D15: 入院 | L15: 様
L16: 様
L17: 様
L18: 様
L19: 様
D20: 退院 | L20: 様
L21: 様
L22: 様
L23: 様
L24: 様
D25: 転棟 ･ 入院形態変更 | L25: 様
L26: 様
L27: 様
L28: 様
L29: 様
A30: 患者様 関連 | D30: 患者様氏名 | K30: 担当Dr | P30: 病棟 | S30: 制限内容 | X30: 制限時間 | AC30: 開始日時 | AO30: 備考
I31: 様 | AC31: 令和 | AF31: 年 | AH31: 月 | AJ31: 日 | AL31: ： | AN31: ～
I32: 様 | AC32: 令和 | AF32: 年 | AH32: 月 | AJ32: 日 | AL32: ： | AN32: ～
I33: 様 | AC33: 令和 | AF33: 年 | AH33: 月 | AJ33: 日 | AL33: ： | AN33: ～
I34: 様 | AC34: 令和 | AF34: 年 | AH34: 月 | AJ34: 日 | AL34: ： | AN34: ～
I35: 様 | AC35: 令和 | AF35: 年 | AH35: 月 | AJ35: 日 | AL35: ： | AN35: ～
I36: 様 | AC36: 令和 | AF36: 年 | AH36: 月 | AJ36: 日 | AL36: ： | AN36: ～
I37: 様 | AC37: 令和 | AF37: 年 | AH37: 月 | AJ37: 日 | AL37: ： | AN37: ～
I38: 様 | AC38: 令和 | AF38: 年 | AH38: 月 | AJ38: 日 | AL38: ： | AN38: ～
I39: 様 | AC39: 令和 | AF39: 年 | AH39: 月 | AJ39: 日 | AL39: ： | AN39: ～
I40: 様 | AC40: 令和 | AF40: 年 | AH40: 月 | AJ40: 日 | AL40: ： | AN40: ～
I41: 様 | AC41: 令和 | AF41: 年 | AH41: 月 | AJ41: 日 | AL41: ： | AN41: ～
I42: 様 | AC42: 令和 | AF42: 年 | AH42: 月 | AJ42: 日 | AL42: ： | AN42: ～
...

Sheet 22
A1: ソーシャルワーカー室 業務日誌 | AH1: C.O.O | AL1: I.O.O | AP1: Ａ.Ｏ.Ｍ
H3: =曜日!B12 -> 令和4年 | M3: =曜日!C12 -> 5月 | P3: 22日 | S3: （ | T3: =曜日!D3 -> 日 | U3: ） | W3: 作成者 | Z3: ：
A5: 労務 状況 | D5: 勤務状況 | K5: 西舘 翔子 | T5: 小屋敷 千瑛 | AC5: 大川 祥子 | AL5: 吉田 久美子
K6: 野添 京子
A7: 入退院 状況 | D7: 入院形態 | K7: 東病棟 | Q7: 西病棟 | W7: 北病棟 | AC7: 南病棟 | AI7: 合計 | AO7: 総数
K8: 男性 | N8: 女性 | Q8: 男性 | T8: 女性 | W8: 男性 | Z8: 女性 | AC8: 男性 | AF8: 女性 | AI8: 男性 | AL8: 女性
D9: 任意入院 | AI9: =K9+Q9+W9+AC9 -> 0 | AL9: =N9+T9+Z9+AF9 -> 0 | AO9: =AI13 -> 0
D10: 医療保護入院 | AI10: =K10+Q10+W10+AC10 -> 0 | AL10: =N10+T10+Z10+AF10 -> 0
D11: 措置入院 | AI11: =K11+Q11+W11+AC11 -> 0 | AL11: =N11+T11+Z11+AF11 -> 0
D12: 合計 | K12: =K9+K10+K11 -> 0 | N12: =N9+N10+N11 -> 0 | Q12: =Q9+Q10+Q11 -> 0 | T12: =SUM(T9:V11) -> 0 | W12: =SUM(W9:Y11) -> 0 | Z12: =SUM(Z9:AB11) -> 0 | AC12: =SUM(AC9:AE11) -> 0 | AF12: =SUM(AF9:AH11) -> 0 | AI12: =SUM(K12+Q12+W12+AC12) -> 0 | AL12: =SUM(N12+T12+Z12+AF12) -> 0 | AO12: 人
K13: =K12+N12 -> 0 | Q13: =Q12+T12 -> 0 | W13: =W12+Z12 -> 0 | AC13: =AC12+AF12 -> 0 | AI13: =AI12+AL12 -> 0
F14: 患者様氏名 | N14: 入院形態 | T14: 担当Dr | Y14: 担当SW | AD14: 病棟 | AJ14: 備考欄
D15: 入院 | L15: 様
L16: 様
L17: 様
L18: 様
L19: 様
D20: 退院 | L20: 様
L21: 様
L22: 様
L23: 様
L24: 様
D25: 転棟 ･ 入院形態変更 | L25: 様
L26: 様
L27: 様
L28: 様
L29: 様
A30: 患者様 関連 | D30: 患者様氏名 | K30: 担当Dr | P30: 病棟 | S30: 制限内容 | X30: 制限時間 | AC30: 開始日時 | AO30: 備考
I31: 様 | AC31: 令和 | AF31: 年 | AH31: 月 | AJ31: 日 | AL31: ： | AN31: ～
I32: 様 | AC32: 令和 | AF32: 年 | AH32: 月 | AJ32: 日 | AL32: ： | AN32: ～
I33: 様 | AC33: 令和 | AF33: 年 | AH33: 月 | AJ33: 日 | AL33: ： | AN33: ～
I34: 様 | AC34: 令和 | AF34: 年 | AH34: 月 | AJ34: 日 | AL34: ： | AN34: ～
I35: 様 | AC35: 令和 | AF35: 年 | AH35: 月 | AJ35: 日 | AL35: ： | AN35: ～
