Workbook

Sheet 1
A1: ソーシャルワーカー室 業務日誌 | AH1: C.O.O | AL1: I.O.O | AP1: Ａ.Ｏ.Ｍ
H3: =曜日!B12 -> 令和3年 | M3: =曜日!C12 -> 8月 | P3: 1日 | S3: （ | T3: =曜日!D3 -> 日 | U3: ） | W3: 作成者 | Z3: ： | AA3: 西舘 翔子
A5: 労務 状況 | D5: 勤務状況 | K5: 西舘 翔子 | P5: 公休 | T5: 小屋敷 千瑛 | Y5: 公休 | AC5: 大川 祥子 | AH5: 公休 | AL5: 吉田 久美子 | AP5: 公休
K6: 野添 京子 | P6: 公休
A7: 入退院 状況 | D7: 入院形態 | K7: 東病棟 | Q7: 西病棟 | W7: 北病棟 | AC7: 南病棟 | AI7: 合計 | AO7: 総数
K8: 男性 | N8: 女性 | Q8: 男性 | T8: 女性 | W8: 男性 | Z8: 女性 | AC8: 男性 | AF8: 女性 | AI8: 男性 | AL8: 女性
D9: 任意入院 | K9: 5 | N9: 4 | Q9: 0 | T9: 11 | W9: 22 | Z9: 13 | AC9: 0 | AF9: 3 | AI9: =K9+Q9+W9+AC9 -> 27 | AL9: =N9+T9+Z9+AF9 -> 31 | AO9: =AI13 -> 193
D10: 医療保護入院 | K10: 22 | N10: 20 | Q10: 15 | T10: 20 | W10: 0 | Z10: 0 | AC10: 23 | AF10: 34 | AI10: =K10+Q10+W10+AC10 -> 60 | AL10: =N10+T10+Z10+AF10 -> 74
D11: 措置入院 | K11: 1 | N11: 0 | Q11: 0 | T11: 0 | W11: 0 | Z11: 0 | AC11: 0 | AF11: 0 | AI11: =K11+Q11+W11+AC11 -> 1 | AL11: =N11+T11+Z11+AF11 -> 0
D12: 合計 | K12: =K9+K10+K11 -> 28 | N12: =N9+N10+N11 -> 24 | Q12: =Q9+Q10+Q11 -> 15 | T12: =SUM(T9:V11) -> 31 | W12: =SUM(W9:Y11) -> 22 | Z12: =SUM(Z9:AB11) -> 13 | AC12: =SUM(AC9:AE11) -> 23 | AF12: =SUM(AF9:AH11) -> 37 | AI12: =SUM(K12+Q12+W12+AC12) -> 88 | AL12: =SUM(N12+T12+Z12+AF12) -> 105 | AO12: 人
K13: =K12+N12 -> 52 | Q13: =Q12+T12 -> 46 | W13: =W12+Z12 -> 35 | AC13: =AC12+AF12 -> 60 | AI13: =AI12+AL12 -> 193
F14: 患者様氏名 | N14: 入院形態 | T14: 担当Dr | Y14: 担当SW | AD14: 病棟 | AJ14: 備考欄
D15: 入院 | L15: 様
L16: 様
L17: 様
L18: 様
L19: 様
D20: 退院 | L20: 様
L21: 様
L22: 様
L23: 様
L24: 様
D25: 転棟 ･ 入院形態変更 | L25: 様
L26: 様
L27: 様
L28: 様
L29: 様
A30: 患者様 関連 | D30: 患者様氏名 | K30: 担当Dr | P30: 病棟 | S30: 制限内容 | X30: 制限時間 | AC30: 開始日時 | AO30: 備考
D31: 宮崎 宏之 | I31: 様 | K31: 馬渡晃弘Dr | P31: 東A | S31: 終日隔離 | X31: 終日隔離 | AC31: 令和 | AE31: 2 | AF31: 年 | AG31: 5 | AH31: 月 | AI31: 23 | AJ31: 日 | AL31: ： | AN31: ～
D32: 飯田 修子 | I32: 様 | K32: 深澤隆Dr | P32: 東A | S32: 終日隔離 | X32: 終日隔離 | AC32: 令和 | AE32: 3 | AF32: 年 | AG32: 7 | AH32: 月 | AI32: 23 | AJ32: 日 | AL32: ： | AN32: ～
D33: 谷地 寿梨 | I33: 様 | K33: 田名部茂Dr | P33: 東A | S33: 時間隔離 | X33: 時間隔離 | AC33: 令和 | AE33: 3 | AF33: 年 | AG33: 7 | AH33: 月 | AI33: 24 | AJ33: 日 | AL33: ： | AN33: ～
D34: 田端 香織 | I34: 様 | K34: 田名部茂Dr | P34: 東A | S34: 終日隔離 | X34: 終日隔離 | AC34: 令和 | AE34: 3 | AF34: 年 | AG34: 7 | AH34: 月 | AI34: 29 | AJ34: 日 | AL34: ： | AN34: ～
D35: 中村 聡 | I35: 様 | K35: 金泰徳Dr | P35: 東B | S35: 通信制限 | X35: 通信制限 | AC35: 令和 | AE35: 3 | AF35: 年 | AG35: 5 | AH35: 月 | AI35: 31 | AJ35: 日 | AL35: ： | AN35: ～
I36: 様 | AC36: 令和 | AF36: 年 | AH36: 月 | AJ36: 日 | AL36: ： | AN36: ～
I37: 様 | AC37: 令和 | AF37: 年 | AH37: 月 | AJ37: 日 | AL37: ： | AN37: ～
I38: 様 | AC38: 令和 | AF38: 年 | AH38: 月 | AJ38: 日 | AL38: ： | AN38: ～
I39: 様 | AC39: 令和 | AF39: 年 | AH39: 月 | AJ39: 日 | AL39: ： | AN39: ～
I40: 様 | AC40: 令和 | AF40: 年 | AH40: 月 | AJ40: 日 | AL40: ： | AN40: ～
I41: 様 | AC41: 令和 | AF41: 年 | AH41: 月 | AJ41: 日 | AL41: ： | AN41: ～
I42: 様 | AC42: 令和 | AF42: 年 | AH42: 月 | AJ42: 日 | AL42: ： | AN42: ～
...

Sheet 2
A1: ソーシャルワーカー室 業務日誌 | AH1: C.O.O | AL1: I.O.O | AP1: Ａ.Ｏ.Ｍ
H3: =曜日!B12 -> 令和3年 | M3: =曜日!C12 -> 8月 | P3: 2日 | S3: （ | T3: =曜日!D4 -> 月 | U3: ） | W3: 作成者 | Z3: ： | AA3: 西舘 翔子
A5: 労務 状況 | D5: 勤務状況 | K5: 西舘 翔子 | P5: 日勤 | T5: 小屋敷 千瑛 | Y5: 公休 | AC5: 大川 祥子 | AH5: 日勤 | AL5: 吉田 久美子 | AP5: 日勤
K6: 野添 京子 | P6: 日勤
A7: 入退院 状況 | D7: 入院形態 | K7: 東病棟 | Q7: 西病棟 | W7: 北病棟 | AC7: 南病棟 | AI7: 合計 | AO7: 総数
K8: 男性 | N8: 女性 | Q8: 男性 | T8: 女性 | W8: 男性 | Z8: 女性 | AC8: 男性 | AF8: 女性 | AI8: 男性 | AL8: 女性
D9: 任意入院 | K9: 5 | N9: 4 | Q9: 0 | T9: 10 | W9: 22 | Z9: 13 | AC9: 0 | AF9: 3 | AI9: =K9+Q9+W9+AC9 -> 27 | AL9: =N9+T9+Z9+AF9 -> 30 | AO9: =AI13 -> 192
D10: 医療保護入院 | K10: 22 | N10: 20 | Q10: 15 | T10: 20 | W10: 0 | Z10: 0 | AC10: 23 | AF10: 34 | AI10: =K10+Q10+W10+AC10 -> 60 | AL10: =N10+T10+Z10+AF10 -> 74
D11: 措置入院 | K11: 1 | N11: 0 | Q11: 0 | T11: 0 | W11: 0 | Z11: 0 | AC11: 0 | AF11: 0 | AI11: =K11+Q11+W11+AC11 -> 1 | AL11: =N11+T11+Z11+AF11 -> 0
D12: 合計 | K12: =K9+K10+K11 -> 28 | N12: =N9+N10+N11 -> 24 | Q12: =Q9+Q10+Q11 -> 15 | T12: =SUM(T9:V11) -> 30 | W12: =SUM(W9:Y11) -> 22 | Z12: =SUM(Z9:AB11) -> 13 | AC12: =SUM(AC9:AE11) -> 23 | AF12: =SUM(AF9:AH11) -> 37 | AI12: =SUM(K12+Q12+W12+AC12) -> 88 | AL12: =SUM(N12+T12+Z12+AF12) -> 104 | AO12: 人
K13: =K12+N12 -> 52 | Q13: =Q12+T12 -> 45 | W13: =W12+Z12 -> 35 | AC13: =AC12+AF12 -> 60 | AI13: =AI12+AL12 -> 192
F14: 患者様氏名 | N14: 入院形態 | T14: 担当Dr | Y14: 担当SW | AD14: 病棟 | AJ14: 備考欄
D15: 入院 | L15: 様
L16: 様
L17: 様
L18: 様
L19: 様
D20: 退院 | F20: 坂本 のり子 | L20: 様 | N20: 任意入院 | T20: 安ヶ平忠也Dr | Y20: 小屋敷 千瑛 | AD20: 北
L21: 様
L22: 様
L23: 様
L24: 様
D25: 転棟 ･ 入院形態変更 | F25: 清水 志野 | L25: 様 | N25: 任意入院 | T25: 田名部茂Dr | Y25: 西舘 翔子 | AD25: 西B→北
L26: 様
L27: 様
L28: 様
L29: 様
A30: 患者様 関連 | D30: 患者様氏名 | K30: 担当Dr | P30: 病棟 | S30: 制限内容 | X30: 制限時間 | AC30: 開始日時 | AO30: 備考
D31: 宮崎 宏之 | I31: 様 | K31: 馬渡晃弘Dr | P31: 東A | S31: 終日隔離 | X31: 終日隔離 | AC31: 令和 | AE31: 2 | AF31: 年 | AG31: 5 | AH31: 月 | AI31: 23 | AJ31: 日 | AL31: ： | AN31: ～
D32: 飯田 修子 | I32: 様 | K32: 深澤隆Dr | P32: 東A | S32: 終日隔離 | X32: 終日隔離 | AC32: 令和 | AE32: 3 | AF32: 年 | AG32: 7 | AH32: 月 | AI32: 23 | AJ32: 日 | AL32: ： | AN32: ～
D33: 谷地 寿梨 | I33: 様 | K33: 田名部茂Dr | P33: 東A | S33: 時間隔離 | X33: 時間隔離 | AC33: 令和 | AE33: 3 | AF33: 年 | AG33: 7 | AH33: 月 | AI33: 24 | AJ33: 日 | AL33: ： | AN33: ～
D34: 田端 香織 | I34: 様 | K34: 田名部茂Dr | P34: 東A | S34: 終日隔離 | X34: 終日隔離 | AC34: 令和 | AE34: 3 | AF34: 年 | AG34: 7 | AH34: 月 | AI34: 29 | AJ34: 日 | AL34: ： | AN34: ～
D35: 中村 聡 | I35: 様 | K35: 金泰徳Dr | P35: 東B | S35: 通信制限 | X35: 通信制限 | AC35: 令和 | AE35: 3 | AF35: 年 | AG35: 5 | AH35: 月 | AI35: 31 | AJ35: 日 | AL35: ： | AN35: ～
I36: 様 | AC36: 令和 | AF36: 年 | AH36: 月 | AJ36: 日 | AL36: ： | AN36: ～
I37: 様 | AC37: 令和 | AF37: 年 | AH37: 月 | AJ37: 日 | AL37: ： | AN37: ～
I38: 様 | AC38: 令和 | AF38: 年 | AH38: 月 | AJ38: 日 | AL38: ： | AN38: ～
I39: 様 | AC39: 令和 | AF39: 年 | AH39: 月 | AJ39: 日 | AL39: ： | AN39: ～
I40: 様 | AC40: 令和 | AF40: 年 | AH40: 月 | AJ40: 日 | AL40: ： | AN40: ～
I41: 様 | AC41: 令和 | AF41: 年 | AH41: 月 | AJ41: 日 | AL41: ： | AN41: ～
I42: 様 | AC42: 令和 | AF42: 年 | AH42: 月 | AJ42: 日 | AL42: ： | AN42: ～
...

Sheet 3
A1: ソーシャルワーカー室 業務日誌 | AH1: C.O.O | AL1: I.O.O | AP1: Ａ.Ｏ.Ｍ
H3: =曜日!B12 -> 令和3年 | M3: =曜日!C12 -> 8月 | P3: 3日 | S3: （ | T3: =曜日!D5 -> 火 | U3: ） | W3: 作成者 | Z3: ： | AA3: 西舘 翔子
A5: 労務 状況 | D5: 勤務状況 | K5: 西舘 翔子 | P5: 日勤 | T5: 小屋敷 千瑛 | Y5: 日勤 | AC5: 大川 祥子 | AH5: 日勤 | AL5: 吉田 久美子 | AP5: 日勤
K6: 野添 京子 | P6: 日勤
A7: 入退院 状況 | D7: 入院形態 | K7: 東病棟 | Q7: 西病棟 | W7: 北病棟 | AC7: 南病棟 | AI7: 合計 | AO7: 総数
K8: 男性 | N8: 女性 | Q8: 男性 | T8: 女性 | W8: 男性 | Z8: 女性 | AC8: 男性 | AF8: 女性 | AI8: 男性 | AL8: 女性
D9: 任意入院 | K9: 5 | N9: 4 | Q9: 0 | T9: 10 | W9: 22 | Z9: 13 | AC9: 0 | AF9: 3 | AI9: =K9+Q9+W9+AC9 -> 27 | AL9: =N9+T9+Z9+AF9 -> 30 | AO9: =AI13 -> 192
D10: 医療保護入院 | K10: 21 | N10: 21 | Q10: 16 | T10: 19 | W10: 0 | Z10: 0 | AC10: 23 | AF10: 34 | AI10: =K10+Q10+W10+AC10 -> 60 | AL10: =N10+T10+Z10+AF10 -> 74
D11: 措置入院 | K11: 1 | N11: 0 | Q11: 0 | T11: 0 | W11: 0 | Z11: 0 | AC11: 0 | AF11: 0 | AI11: =K11+Q11+W11+AC11 -> 1 | AL11: =N11+T11+Z11+AF11 -> 0
D12: 合計 | K12: =K9+K10+K11 -> 27 | N12: =N9+N10+N11 -> 25 | Q12: =Q9+Q10+Q11 -> 16 | T12: =SUM(T9:V11) -> 29 | W12: =SUM(W9:Y11) -> 22 | Z12: =SUM(Z9:AB11) -> 13 | AC12: =SUM(AC9:AE11) -> 23 | AF12: =SUM(AF9:AH11) -> 37 | AI12: =SUM(K12+Q12+W12+AC12) -> 88 | AL12: =SUM(N12+T12+Z12+AF12) -> 104 | AO12: 人
K13: =K12+N12 -> 52 | Q13: =Q12+T12 -> 45 | W13: =W12+Z12 -> 35 | AC13: =AC12+AF12 -> 60 | AI13: =AI12+AL12 -> 192
F14: 患者様氏名 | N14: 入院形態 | T14: 担当Dr | Y14: 担当SW | AD14: 病棟 | AJ14: 備考欄
D15: 入院 | L15: 様
L16: 様
L17: 様
L18: 様
L19: 様
D20: 退院 | L20: 様
L21: 様
L22: 様
L23: 様
L24: 様
D25: 転棟 ･ 入院形態変更 | F25: 中居 松男 | L25: 様 | N25: 医療保護入院 | T25: 安ヶ平忠也Dr | Y25: 小屋敷 千瑛 | AD25: 東C→西B
F26: 中山 真由美 | L26: 様 | N26: 医療保護入院 | T26: 深澤隆Dr | Y26: 西舘 翔子 | AD26: 西B→東C
L27: 様
L28: 様
L29: 様
A30: 患者様 関連 | D30: 患者様氏名 | K30: 担当Dr | P30: 病棟 | S30: 制限内容 | X30: 制限時間 | AC30: 開始日時 | AO30: 備考
D31: 宮崎 宏之 | I31: 様 | K31: 馬渡晃弘Dr | P31: 東A | S31: 終日隔離 | X31: 終日隔離 | AC31: 令和 | AE31: 2 | AF31: 年 | AG31: 5 | AH31: 月 | AI31: 23 | AJ31: 日 | AL31: ： | AN31: ～
D32: 飯田 修子 | I32: 様 | K32: 深澤隆Dr | P32: 東A | S32: 終日隔離 | X32: 終日隔離 | AC32: 令和 | AE32: 3 | AF32: 年 | AG32: 7 | AH32: 月 | AI32: 23 | AJ32: 日 | AL32: ： | AN32: ～
D33: 谷地 寿梨 | I33: 様 | K33: 田名部茂Dr | P33: 東A | S33: 時間隔離 | X33: 時間隔離 | AC33: 令和 | AE33: 3 | AF33: 年 | AG33: 7 | AH33: 月 | AI33: 24 | AJ33: 日 | AL33: ： | AN33: ～ | AO33: 終了
D34: 田端 香織 | I34: 様 | K34: 田名部茂Dr | P34: 東A | S34: 終日隔離 | X34: 終日隔離 | AC34: 令和 | AE34: 3 | AF34: 年 | AG34: 7 | AH34: 月 | AI34: 29 | AJ34: 日 | AL34: ： | AN34: ～
D35: 中村 聡 | I35: 様 | K35: 金泰徳Dr | P35: 東B | S35: 通信制限 | X35: 通信制限 | AC35: 令和 | AE35: 3 | AF35: 年 | AG35: 5 | AH35: 月 | AI35: 31 | AJ35: 日 | AL35: ： | AN35: ～
I36: 様 | AC36: 令和 | AF36: 年 | AH36: 月 | AJ36: 日 | AL36: ： | AN36: ～
I37: 様 | AC37: 令和 | AF37: 年 | AH37: 月 | AJ37: 日 | AL37: ： | AN37: ～
I38: 様 | AC38: 令和 | AF38: 年 | AH38: 月 | AJ38: 日 | AL38: ： | AN38: ～
I39: 様 | AC39: 令和 | AF39: 年 | AH39: 月 | AJ39: 日 | AL39: ： | AN39: ～
I40: 様 | AC40: 令和 | AF40: 年 | AH40: 月 | AJ40: 日 | AL40: ： | AN40: ～
I41: 様 | AC41: 令和 | AF41: 年 | AH41: 月 | AJ41: 日 | AL41: ： | AN41: ～
I42: 様 | AC42: 令和 | AF42: 年 | AH42: 月 | AJ42: 日 | AL42: ： | AN42: ～
...

Sheet 4
A1: ソーシャルワーカー室 業務日誌 | AH1: C.O.O | AL1: I.O.O | AP1: Ａ.Ｏ.Ｍ
H3: =曜日!B12 -> 令和3年 | M3: =曜日!C12 -> 8月 | P3: 4日 | S3: （ | T3: =曜日!D6 -> 水 | U3: ） | W3: 作成者 | Z3: ： | AA3: 西舘 翔子
A5: 労務 状況 | D5: 勤務状況 | K5: 西舘 翔子 | P5: 日勤 | T5: 小屋敷 千瑛 | Y5: 日勤 | AC5: 大川 祥子 | AH5: 日勤 | AL5: 吉田 久美子 | AP5: 日勤
K6: 野添 京子 | P6: 公休
A7: 入退院 状況 | D7: 入院形態 | K7: 東病棟 | Q7: 西病棟 | W7: 北病棟 | AC7: 南病棟 | AI7: 合計 | AO7: 総数
K8: 男性 | N8: 女性 | Q8: 男性 | T8: 女性 | W8: 男性 | Z8: 女性 | AC8: 男性 | AF8: 女性 | AI8: 男性 | AL8: 女性
D9: 任意入院 | K9: 6 | N9: 4 | Q9: 0 | T9: 10 | W9: 21 | Z9: 14 | AC9: 0 | AF9: 3 | AI9: =K9+Q9+W9+AC9 -> 27 | AL9: =N9+T9+Z9+AF9 -> 31 | AO9: =AI13 -> 191
D10: 医療保護入院 | K10: 21 | N10: 19 | Q10: 16 | T10: 19 | W10: 0 | Z10: 0 | AC10: 23 | AF10: 34 | AI10: =K10+Q10+W10+AC10 -> 60 | AL10: =N10+T10+Z10+AF10 -> 72
D11: 措置入院 | K11: 1 | N11: 0 | Q11: 0 | T11: 0 | W11: 0 | Z11: 0 | AC11: 0 | AF11: 0 | AI11: =K11+Q11+W11+AC11 -> 1 | AL11: =N11+T11+Z11+AF11 -> 0
D12: 合計 | K12: =K9+K10+K11 -> 28 | N12: =N9+N10+N11 -> 23 | Q12: =Q9+Q10+Q11 -> 16 | T12: =SUM(T9:V11) -> 29 | W12: =SUM(W9:Y11) -> 21 | Z12: =SUM(Z9:AB11) -> 14 | AC12: =SUM(AC9:AE11) -> 23 | AF12: =SUM(AF9:AH11) -> 37 | AI12: =SUM(K12+Q12+W12+AC12) -> 88 | AL12: =SUM(N12+T12+Z12+AF12) -> 103 | AO12: 人
K13: =K12+N12 -> 51 | Q13: =Q12+T12 -> 45 | W13: =W12+Z12 -> 35 | AC13: =AC12+AF12 -> 60 | AI13: =AI12+AL12 -> 191
F14: 患者様氏名 | N14: 入院形態 | T14: 担当Dr | Y14: 担当SW | AD14: 病棟 | AJ14: 備考欄
D15: 入院 | L15: 様
L16: 様
L17: 様
L18: 様
L19: 様
D20: 退院 | F20: 玉懸 のぶ | L20: 様 | N20: 医療保護入院 | T20: 深澤隆Dr | Y20: 大川 祥子 | AD20: 南B
L21: 様
L22: 様
L23: 様
L24: 様
D25: 転棟 ･ 入院形態変更 | F25: 乗上 惺子 | L25: 様 | N25: 医療保護入院 | T25: 馬渡晃弘Dr | Y25: 大川 祥子 | AD25: 東B→南B
F26: 類家 つさ | L26: 様 | N26: 医療保護入院 | T26: 田名部茂Dr | Y26: 西舘 翔子 | AD26: 東D→西B
F27: 久保 興介 | L27: 様 | N27: 任意入院 | T27: 田名部茂Dr | Y27: 小屋敷 千瑛 | AD27: 北→東A
F28: 三浦 綾子 | L28: 様 | N28: 医療保護入院 | T28: 田名部茂Dr | Y28: 小屋敷 千瑛 | AD28: 西B→北
F29: 三浦 綾子 | L29: 様 | N29: 任意入院 | T29: 田名部茂Dr | Y29: 小屋敷 千瑛 | AD29: 北 | AJ29: 入院形態変更
A30: 患者様 関連 | D30: 患者様氏名 | K30: 担当Dr | P30: 病棟 | S30: 制限内容 | X30: 制限時間 | AC30: 開始日時 | AO30: 備考
D31: 宮崎 宏之 | I31: 様 | K31: 馬渡晃弘Dr | P31: 東A | S31: 終日隔離 | X31: 終日隔離 | AC31: 令和 | AE31: 2 | AF31: 年 | AG31: 5 | AH31: 月 | AI31: 23 | AJ31: 日 | AL31: ： | AN31: ～
D32: 飯田 修子 | I32: 様 | K32: 深澤隆Dr | P32: 東A | S32: 終日隔離 | X32: 終日隔離 | AC32: 令和 | AE32: 3 | AF32: 年 | AG32: 7 | AH32: 月 | AI32: 23 | AJ32: 日 | AL32: ： | AN32: ～
D33: 田端 香織 | I33: 様 | K33: 田名部茂Dr | P33: 東A | S33: 終日隔離 | X33: 終日隔離 | AC33: 令和 | AE33: 3 | AF33: 年 | AG33: 7 | AH33: 月 | AI33: 29 | AJ33: 日 | AL33: ： | AN33: ～
D34: 中村 聡 | I34: 様 | K34: 金泰徳Dr | P34: 東B | S34: 通信制限 | X34: 通信制限 | AC34: 令和 | AE34: 3 | AF34: 年 | AG34: 5 | AH34: 月 | AI34: 31 | AJ34: 日 | AL34: ： | AN34: ～
I35: 様 | AC35: 令和 | AF35: 年 | AH35: 月 | AJ35: 日 | AL35: ： | AN35: ～
I36: 様 | AC36: 令和 | AF36: 年 | AH36: 月 | AJ36: 日 | AL36: ： | AN36: ～
I37: 様 | AC37: 令和 | AF37: 年 | AH37: 月 | AJ37: 日 | AL37: ： | AN37: ～
I38: 様 | AC38: 令和 | AF38: 年 | AH38: 月 | AJ38: 日 | AL38: ： | AN38: ～
I39: 様 | AC39: 令和 | AF39: 年 | AH39: 月 | AJ39: 日 | AL39: ： | AN39: ～
I40: 様 | AC40: 令和 | AF40: 年 | AH40: 月 | AJ40: 日 | AL40: ： | AN40: ～
I41: 様 | AC41: 令和 | AF41: 年 | AH41: 月 | AJ41: 日 | AL41: ： | AN41: ～
I42: 様 | AC42: 令和 | AF42: 年 | AH42: 月 | AJ42: 日 | AL42: ： | AN42: ～
...

Sheet 5
A1: ソーシャルワーカー室 業務日誌 | AH1: C.O.O | AL1: I.O.O | AP1: Ａ.Ｏ.Ｍ
H3: =曜日!B12 -> 令和3年 | M3: =曜日!C12 -> 8月 | P3: 5日 | S3: （ | T3: =曜日!D7 -> 木 | U3: ） | W3: 作成者 | Z3: ： | AA3: 西舘 翔子
A5: 労務 状況 | D5: 勤務状況 | K5: 西舘 翔子 | P5: 日勤 | T5: 小屋敷 千瑛 | Y5: 日勤 | AC5: 大川 祥子 | AH5: 日勤 | AL5: 吉田 久美子 | AP5: 日勤
K6: 野添 京子 | P6: 日勤
A7: 入退院 状況 | D7: 入院形態 | K7: 東病棟 | Q7: 西病棟 | W7: 北病棟 | AC7: 南病棟 | AI7: 合計 | AO7: 総数
K8: 男性 | N8: 女性 | Q8: 男性 | T8: 女性 | W8: 男性 | Z8: 女性 | AC8: 男性 | AF8: 女性 | AI8: 男性 | AL8: 女性
D9: 任意入院 | K9: 7 | N9: 2 | Q9: 0 | T9: 11 | W9: 21 | Z9: 14 | AC9: 0 | AF9: 3 | AI9: =K9+Q9+W9+AC9 -> 28 | AL9: =N9+T9+Z9+AF9 -> 30 | AO9: =AI13 -> 192
D10: 医療保護入院 | K10: 22 | N10: 19 | Q10: 16 | T10: 19 | W10: 0 | Z10: 0 | AC10: 23 | AF10: 34 | AI10: =K10+Q10+W10+AC10 -> 61 | AL10: =N10+T10+Z10+AF10 -> 72
D11: 措置入院 | K11: 1 | N11: 0 | Q11: 0 | T11: 0 | W11: 0 | Z11: 0 | AC11: 0 | AF11: 0 | AI11: =K11+Q11+W11+AC11 -> 1 | AL11: =N11+T11+Z11+AF11 -> 0
D12: 合計 | K12: =K9+K10+K11 -> 30 | N12: =N9+N10+N11 -> 21 | Q12: =Q9+Q10+Q11 -> 16 | T12: =SUM(T9:V11) -> 30 | W12: =SUM(W9:Y11) -> 21 | Z12: =SUM(Z9:AB11) -> 14 | AC12: =SUM(AC9:AE11) -> 23 | AF12: =SUM(AF9:AH11) -> 37 | AI12: =SUM(K12+Q12+W12+AC12) -> 90 | AL12: =SUM(N12+T12+Z12+AF12) -> 102 | AO12: 人
K13: =K12+N12 -> 51 | Q13: =Q12+T12 -> 46 | W13: =W12+Z12 -> 35 | AC13: =AC12+AF12 -> 60 | AI13: =AI12+AL12 -> 192
F14: 患者様氏名 | N14: 入院形態 | T14: 担当Dr | Y14: 担当SW | AD14: 病棟 | AJ14: 備考欄
D15: 入院 | F15: 荒谷 政藏 | L15: 様 | N15: 医療保護入院 | T15: 深澤隆Dr | Y15: 大川 祥子 | AD15: 東A
F16: 若沢 広志 | L16: 様 | N16: 任意入院 | T16: 田名部茂Dr | Y16: 西舘 翔子 | AD16: 東D
L17: 様
L18: 様
L19: 様
D20: 退院 | F20: 嶋森 みよ子 | L20: 様 | N20: 任意入院 | T20: 深澤隆Dr | Y20: 西舘 翔子 | AD20: 東D
L21: 様
L22: 様
L23: 様
L24: 様
D25: 転棟 ･ 入院形態変更 | F25: 藤原 絵瑠久 | L25: 様 | N25: 任意入院 | T25: 田名部茂Dr | Y25: 西舘 翔子 | AD25: 東D→西A
L26: 様
L27: 様
L28: 様
L29: 様
A30: 患者様 関連 | D30: 患者様氏名 | K30: 担当Dr | P30: 病棟 | S30: 制限内容 | X30: 制限時間 | AC30: 開始日時 | AO30: 備考
D31: 宮崎 宏之 | I31: 様 | K31: 馬渡晃弘Dr | P31: 東A | S31: 終日隔離 | X31: 終日隔離 | AC31: 令和 | AE31: 2 | AF31: 年 | AG31: 5 | AH31: 月 | AI31: 23 | AJ31: 日 | AL31: ： | AN31: ～
D32: 飯田 修子 | I32: 様 | K32: 深澤隆Dr | P32: 東A | S32: 終日隔離 | X32: 終日隔離 | AC32: 令和 | AE32: 3 | AF32: 年 | AG32: 7 | AH32: 月 | AI32: 23 | AJ32: 日 | AL32: ： | AN32: ～
D33: 田端 香織 | I33: 様 | K33: 田名部茂Dr | P33: 東A | S33: 終日隔離 | X33: 終日隔離 | AC33: 令和 | AE33: 3 | AF33: 年 | AG33: 7 | AH33: 月 | AI33: 29 | AJ33: 日 | AL33: ： | AN33: ～
D34: 中村 聡 | I34: 様 | K34: 金泰徳Dr | P34: 東B | S34: 通信制限 | X34: 通信制限 | AC34: 令和 | AE34: 3 | AF34: 年 | AG34: 5 | AH34: 月 | AI34: 31 | AJ34: 日 | AL34: ： | AN34: ～
I35: 様 | AC35: 令和 | AF35: 年 | AH35: 月 | AJ35: 日 | AL35: ： | AN35: ～
I36: 様 | AC36: 令和 | AF36: 年 | AH36: 月 | AJ36: 日 | AL36: ： | AN36: ～
I37: 様 | AC37: 令和 | AF37: 年 | AH37: 月 | AJ37: 日 | AL37: ： | AN37: ～
I38: 様 | AC38: 令和 | AF38: 年 | AH38: 月 | AJ38: 日 | AL38: ： | AN38: ～
I39: 様 | AC39: 令和 | AF39: 年 | AH39: 月 | AJ39: 日 | AL39: ： | AN39: ～
I40: 様 | AC40: 令和 | AF40: 年 | AH40: 月 | AJ40: 日 | AL40: ： | AN40: ～
I41: 様 | AC41: 令和 | AF41: 年 | AH41: 月 | AJ41: 日 | AL41: ： | AN41: ～
I42: 様 | AC42: 令和 | AF42: 年 | AH42: 月 | AJ42: 日 | AL42: ： | AN42: ～
...

Sheet 6
A1: ソーシャルワーカー室 業務日誌 | AH1: C.O.O | AL1: I.O.O | AP1: Ａ.Ｏ.Ｍ
H3: =曜日!B12 -> 令和3年 | M3: =曜日!C12 -> 8月 | P3: 6日 | S3: （ | T3: =曜日!D8 -> 金 | U3: ） | W3: 作成者 | Z3: ： | AA3: 西舘 翔子
A5: 労務 状況 | D5: 勤務状況 | K5: 西舘 翔子 | P5: 日勤 | T5: 小屋敷 千瑛 | Y5: 日勤 | AC5: 大川 祥子 | AH5: 日勤 | AL5: 吉田 久美子 | AP5: 日勤
K6: 野添 京子 | P6: 公休
A7: 入退院 状況 | D7: 入院形態 | K7: 東病棟 | Q7: 西病棟 | W7: 北病棟 | AC7: 南病棟 | AI7: 合計 | AO7: 総数
K8: 男性 | N8: 女性 | Q8: 男性 | T8: 女性 | W8: 男性 | Z8: 女性 | AC8: 男性 | AF8: 女性 | AI8: 男性 | AL8: 女性
D9: 任意入院 | K9: 7 | N9: 2 | Q9: 0 | T9: 11 | W9: 21 | Z9: 14 | AC9: 0 | AF9: 3 | AI9: =K9+Q9+W9+AC9 -> 28 | AL9: =N9+T9+Z9+AF9 -> 30 | AO9: =AI13 -> 192
D10: 医療保護入院 | K10: 22 | N10: 19 | Q10: 16 | T10: 19 | W10: 0 | Z10: 0 | AC10: 23 | AF10: 34 | AI10: =K10+Q10+W10+AC10 -> 61 | AL10: =N10+T10+Z10+AF10 -> 72
D11: 措置入院 | K11: 1 | N11: 0 | Q11: 0 | T11: 0 | W11: 0 | Z11: 0 | AC11: 0 | AF11: 0 | AI11: =K11+Q11+W11+AC11 -> 1 | AL11: =N11+T11+Z11+AF11 -> 0
D12: 合計 | K12: =K9+K10+K11 -> 30 | N12: =N9+N10+N11 -> 21 | Q12: =Q9+Q10+Q11 -> 16 | T12: =SUM(T9:V11) -> 30 | W12: =SUM(W9:Y11) -> 21 | Z12: =SUM(Z9:AB11) -> 14 | AC12: =SUM(AC9:AE11) -> 23 | AF12: =SUM(AF9:AH11) -> 37 | AI12: =SUM(K12+Q12+W12+AC12) -> 90 | AL12: =SUM(N12+T12+Z12+AF12) -> 102 | AO12: 人
K13: =K12+N12 -> 51 | Q13: =Q12+T12 -> 46 | W13: =W12+Z12 -> 35 | AC13: =AC12+AF12 -> 60 | AI13: =AI12+AL12 -> 192
F14: 患者様氏名 | N14: 入院形態 | T14: 担当Dr | Y14: 担当SW | AD14: 病棟 | AJ14: 備考欄
D15: 入院 | L15: 様
L16: 様
L17: 様
L18: 様
L19: 様
D20: 退院 | L20: 様
L21: 様
L22: 様
L23: 様
L24: 様
D25: 転棟 ･ 入院形態変更 | L25: 様
L26: 様
L27: 様
L28: 様
L29: 様
A30: 患者様 関連 | D30: 患者様氏名 | K30: 担当Dr | P30: 病棟 | S30: 制限内容 | X30: 制限時間 | AC30: 開始日時 | AO30: 備考
D31: 宮崎 宏之 | I31: 様 | K31: 馬渡晃弘Dr | P31: 東A | S31: 終日隔離 | X31: 終日隔離 | AC31: 令和 | AE31: 2 | AF31: 年 | AG31: 5 | AH31: 月 | AI31: 23 | AJ31: 日 | AL31: ： | AN31: ～
D32: 飯田 修子 | I32: 様 | K32: 深澤隆Dr | P32: 東A | S32: 終日隔離 | X32: 終日隔離 | AC32: 令和 | AE32: 3 | AF32: 年 | AG32: 7 | AH32: 月 | AI32: 23 | AJ32: 日 | AL32: ： | AN32: ～
D33: 田端 香織 | I33: 様 | K33: 田名部茂Dr | P33: 東A | S33: 終日隔離 | X33: 終日隔離 | AC33: 令和 | AE33: 3 | AF33: 年 | AG33: 7 | AH33: 月 | AI33: 29 | AJ33: 日 | AL33: ： | AN33: ～
D34: 中村 聡 | I34: 様 | K34: 金泰徳Dr | P34: 東B | S34: 通信制限 | X34: 通信制限 | AC34: 令和 | AE34: 3 | AF34: 年 | AG34: 5 | AH34: 月 | AI34: 31 | AJ34: 日 | AL34: ： | AN34: ～
I35: 様 | AC35: 令和 | AF35: 年 | AH35: 月 | AJ35: 日 | AL35: ： | AN35: ～
I36: 様 | AC36: 令和 | AF36: 年 | AH36: 月 | AJ36: 日 | AL36: ： | AN36: ～
I37: 様 | AC37: 令和 | AF37: 年 | AH37: 月 | AJ37: 日 | AL37: ： | AN37: ～
I38: 様 | AC38: 令和 | AF38: 年 | AH38: 月 | AJ38: 日 | AL38: ： | AN38: ～
I39: 様 | AC39: 令和 | AF39: 年 | AH39: 月 | AJ39: 日 | AL39: ： | AN39: ～
I40: 様 | AC40: 令和 | AF40: 年 | AH40: 月 | AJ40: 日 | AL40: ： | AN40: ～
I41: 様 | AC41: 令和 | AF41: 年 | AH41: 月 | AJ41: 日 | AL41: ： | AN41: ～
I42: 様 | AC42: 令和 | AF42: 年 | AH42: 月 | AJ42: 日 | AL42: ： | AN42: ～
...

Sheet 7
A1: ソーシャルワーカー室 業務日誌 | AH1: C.O.O | AL1: I.O.O | AP1: Ａ.Ｏ.Ｍ
H3: =曜日!B12 -> 令和3年 | M3: =曜日!C12 -> 8月 | P3: 7日 | S3: （ | T3: =曜日!D9 -> 土 | U3: ） | W3: 作成者 | Z3: ： | AA3: 大川 祥子
A5: 労務 状況 | D5: 勤務状況 | K5: 西舘 翔子 | P5: 公休 | T5: 小屋敷 千瑛 | Y5: 日勤 | AC5: 大川 祥子 | AH5: 公休 | AL5: 吉田 久美子 | AP5: 公休
K6: 野添 京子 | P6: 公休
A7: 入退院 状況 | D7: 入院形態 | K7: 東病棟 | Q7: 西病棟 | W7: 北病棟 | AC7: 南病棟 | AI7: 合計 | AO7: 総数
K8: 男性 | N8: 女性 | Q8: 男性 | T8: 女性 | W8: 男性 | Z8: 女性 | AC8: 男性 | AF8: 女性 | AI8: 男性 | AL8: 女性
D9: 任意入院 | K9: 7 | N9: 2 | Q9: 0 | T9: 11 | W9: 21 | Z9: 14 | AC9: 0 | AF9: 3 | AI9: =K9+Q9+W9+AC9 -> 28 | AL9: =N9+T9+Z9+AF9 -> 30 | AO9: =AI13 -> 192
D10: 医療保護入院 | K10: 22 | N10: 19 | Q10: 16 | T10: 19 | W10: 0 | Z10: 0 | AC10: 23 | AF10: 34 | AI10: =K10+Q10+W10+AC10 -> 61 | AL10: =N10+T10+Z10+AF10 -> 72
D11: 措置入院 | K11: 1 | N11: 0 | Q11: 0 | T11: 0 | W11: 0 | Z11: 0 | AC11: 0 | AF11: 0 | AI11: =K11+Q11+W11+AC11 -> 1 | AL11: =N11+T11+Z11+AF11 -> 0
D12: 合計 | K12: =K9+K10+K11 -> 30 | N12: =N9+N10+N11 -> 21 | Q12: =Q9+Q10+Q11 -> 16 | T12: =SUM(T9:V11) -> 30 | W12: =SUM(W9:Y11) -> 21 | Z12: =SUM(Z9:AB11) -> 14 | AC12: =SUM(AC9:AE11) -> 23 | AF12: =SUM(AF9:AH11) -> 37 | AI12: =SUM(K12+Q12+W12+AC12) -> 90 | AL12: =SUM(N12+T12+Z12+AF12) -> 102 | AO12: 人
K13: =K12+N12 -> 51 | Q13: =Q12+T12 -> 46 | W13: =W12+Z12 -> 35 | AC13: =AC12+AF12 -> 60 | AI13: =AI12+AL12 -> 192
F14: 患者様氏名 | N14: 入院形態 | T14: 担当Dr | Y14: 担当SW | AD14: 病棟 | AJ14: 備考欄
D15: 入院 | L15: 様
L16: 様
L17: 様
L18: 様
L19: 様
D20: 退院 | L20: 様
L21: 様
L22: 様
L23: 様
L24: 様
D25: 転棟 ･ 入院形態変更 | L25: 様
L26: 様
L27: 様
L28: 様
L29: 様
A30: 患者様 関連 | D30: 患者様氏名 | K30: 担当Dr | P30: 病棟 | S30: 制限内容 | X30: 制限時間 | AC30: 開始日時 | AO30: 備考
D31: 宮崎 宏之 | I31: 様 | K31: 馬渡晃弘Dr | P31: 東A | S31: 終日隔離 | X31: 終日隔離 | AC31: 令和 | AE31: 2 | AF31: 年 | AG31: 5 | AH31: 月 | AI31: 23 | AJ31: 日 | AL31: ： | AN31: ～
D32: 飯田 修子 | I32: 様 | K32: 深澤隆Dr | P32: 東A | S32: 終日隔離 | X32: 終日隔離 | AC32: 令和 | AE32: 3 | AF32: 年 | AG32: 7 | AH32: 月 | AI32: 23 | AJ32: 日 | AL32: ： | AN32: ～
D33: 田端 香織 | I33: 様 | K33: 田名部茂Dr | P33: 東A | S33: 終日隔離 | X33: 終日隔離 | AC33: 令和 | AE33: 3 | AF33: 年 | AG33: 7 | AH33: 月 | AI33: 29 | AJ33: 日 | AL33: ： | AN33: ～
D34: 中村 聡 | I34: 様 | K34: 金泰徳Dr | P34: 東B | S34: 通信制限 | X34: 通信制限 | AC34: 令和 | AE34: 3 | AF34: 年 | AG34: 5 | AH34: 月 | AI34: 31 | AJ34: 日 | AL34: ： | AN34: ～
I35: 様 | AC35: 令和 | AF35: 年 | AH35: 月 | AJ35: 日 | AL35: ： | AN35: ～
I36: 様 | AC36: 令和 | AF36: 年 | AH36: 月 | AJ36: 日 | AL36: ： | AN36: ～
I37: 様 | AC37: 令和 | AF37: 年 | AH37: 月 | AJ37: 日 | AL37: ： | AN37: ～
I38: 様 | AC38: 令和 | AF38: 年 | AH38: 月 | AJ38: 日 | AL38: ： | AN38: ～
I39: 様 | AC39: 令和 | AF39: 年 | AH39: 月 | AJ39: 日 | AL39: ： | AN39: ～
I40: 様 | AC40: 令和 | AF40: 年 | AH40: 月 | AJ40: 日 | AL40: ： | AN40: ～
I41: 様 | AC41: 令和 | AF41: 年 | AH41: 月 | AJ41: 日 | AL41: ： | AN41: ～
I42: 様 | AC42: 令和 | AF42: 年 | AH42: 月 | AJ42: 日 | AL42: ： | AN42: ～
...

Sheet 8
A1: ソーシャルワーカー室 業務日誌 | AH1: C.O.O | AL1: I.O.O | AP1: Ａ.Ｏ.Ｍ
H3: =曜日!B12 -> 令和3年 | M3: =曜日!C12 -> 8月 | P3: 8日 | S3: （ | T3: =曜日!D3 -> 日 | U3: ） | W3: 作成者 | Z3: ： | AA3: 大川 祥子
A5: 労務 状況 | D5: 勤務状況 | K5: 西舘 翔子 | P5: 公休 | T5: 小屋敷 千瑛 | Y5: 公休 | AC5: 大川 祥子 | AH5: 公休 | AL5: 吉田 久美子 | AP5: 公休
K6: 野添 京子 | P6: 公休
A7: 入退院 状況 | D7: 入院形態 | K7: 東病棟 | Q7: 西病棟 | W7: 北病棟 | AC7: 南病棟 | AI7: 合計 | AO7: 総数
K8: 男性 | N8: 女性 | Q8: 男性 | T8: 女性 | W8: 男性 | Z8: 女性 | AC8: 男性 | AF8: 女性 | AI8: 男性 | AL8: 女性
D9: 任意入院 | K9: 7 | N9: 2 | Q9: 0 | T9: 11 | W9: 21 | Z9: 14 | AC9: 0 | AF9: 3 | AI9: =K9+Q9+W9+AC9 -> 28 | AL9: =N9+T9+Z9+AF9 -> 30 | AO9: =AI13 -> 192
D10: 医療保護入院 | K10: 22 | N10: 19 | Q10: 16 | T10: 19 | W10: 0 | Z10: 0 | AC10: 23 | AF10: 34 | AI10: =K10+Q10+W10+AC10 -> 61 | AL10: =N10+T10+Z10+AF10 -> 72
D11: 措置入院 | K11: 1 | N11: 0 | Q11: 0 | T11: 0 | W11: 0 | Z11: 0 | AC11: 0 | AF11: 0 | AI11: =K11+Q11+W11+AC11 -> 1 | AL11: =N11+T11+Z11+AF11 -> 0
D12: 合計 | K12: =K9+K10+K11 -> 30 | N12: =N9+N10+N11 -> 21 | Q12: =Q9+Q10+Q11 -> 16 | T12: =SUM(T9:V11) -> 30 | W12: =SUM(W9:Y11) -> 21 | Z12: =SUM(Z9:AB11) -> 14 | AC12: =SUM(AC9:AE11) -> 23 | AF12: =SUM(AF9:AH11) -> 37 | AI12: =SUM(K12+Q12+W12+AC12) -> 90 | AL12: =SUM(N12+T12+Z12+AF12) -> 102 | AO12: 人
K13: =K12+N12 -> 51 | Q13: =Q12+T12 -> 46 | W13: =W12+Z12 -> 35 | AC13: =AC12+AF12 -> 60 | AI13: =AI12+AL12 -> 192
F14: 患者様氏名 | N14: 入院形態 | T14: 担当Dr | Y14: 担当SW | AD14: 病棟 | AJ14: 備考欄
D15: 入院 | L15: 様
L16: 様
L17: 様
L18: 様
L19: 様
D20: 退院 | L20: 様
L21: 様
L22: 様
L23: 様
L24: 様
D25: 転棟 ･ 入院形態変更 | L25: 様
L26: 様
L27: 様
L28: 様
L29: 様
A30: 患者様 関連 | D30: 患者様氏名 | K30: 担当Dr | P30: 病棟 | S30: 制限内容 | X30: 制限時間 | AC30: 開始日時 | AO30: 備考
D31: 宮崎 宏之 | I31: 様 | K31: 馬渡晃弘Dr | P31: 東A | S31: 終日隔離 | X31: 終日隔離 | AC31: 令和 | AE31: 2 | AF31: 年 | AG31: 5 | AH31: 月 | AI31: 23 | AJ31: 日 | AL31: ： | AN31: ～
D32: 飯田 修子 | I32: 様 | K32: 深澤隆Dr | P32: 東A | S32: 終日隔離 | X32: 終日隔離 | AC32: 令和 | AE32: 3 | AF32: 年 | AG32: 7 | AH32: 月 | AI32: 23 | AJ32: 日 | AL32: ： | AN32: ～
D33: 田端 香織 | I33: 様 | K33: 田名部茂Dr | P33: 東A | S33: 終日隔離 | X33: 終日隔離 | AC33: 令和 | AE33: 3 | AF33: 年 | AG33: 7 | AH33: 月 | AI33: 29 | AJ33: 日 | AL33: ： | AN33: ～
D34: 中村 聡 | I34: 様 | K34: 金泰徳Dr | P34: 東B | S34: 通信制限 | X34: 通信制限 | AC34: 令和 | AE34: 3 | AF34: 年 | AG34: 5 | AH34: 月 | AI34: 31 | AJ34: 日 | AL34: ： | AN34: ～
I35: 様 | AC35: 令和 | AF35: 年 | AH35: 月 | AJ35: 日 | AL35: ： | AN35: ～
I36: 様 | AC36: 令和 | AF36: 年 | AH36: 月 | AJ36: 日 | AL36: ： | AN36: ～
I37: 様 | AC37: 令和 | AF37: 年 | AH37: 月 | AJ37: 日 | AL37: ： | AN37: ～
I38: 様 | AC38: 令和 | AF38: 年 | AH38: 月 | AJ38: 日 | AL38: ： | AN38: ～
I39: 様 | AC39: 令和 | AF39: 年 | AH39: 月 | AJ39: 日 | AL39: ： | AN39: ～
I40: 様 | AC40: 令和 | AF40: 年 | AH40: 月 | AJ40: 日 | AL40: ： | AN40: ～
I41: 様 | AC41: 令和 | AF41: 年 | AH41: 月 | AJ41: 日 | AL41: ： | AN41: ～
I42: 様 | AC42: 令和 | AF42: 年 | AH42: 月 | AJ42: 日 | AL42: ： | AN42: ～
...

Sheet 9
A1: ソーシャルワーカー室 業務日誌 | AH1: C.O.O | AL1: I.O.O | AP1: Ａ.Ｏ.Ｍ
H3: =曜日!B12 -> 令和3年 | M3: =曜日!C12 -> 8月 | P3: 9日 | S3: （ | T3: =曜日!D4 -> 月 | U3: ） | W3: 作成者 | Z3: ： | AA3: 大川 祥子
A5: 労務 状況 | D5: 勤務状況 | K5: 西舘 翔子 | P5: 日勤 | T5: 小屋敷 千瑛 | Y5: 日勤 | AC5: 大川 祥子 | AH5: 日勤 | AL5: 吉田 久美子 | AP5: 公休
K6: 野添 京子 | P6: 公休
A7: 入退院 状況 | D7: 入院形態 | K7: 東病棟 | Q7: 西病棟 | W7: 北病棟 | AC7: 南病棟 | AI7: 合計 | AO7: 総数
K8: 男性 | N8: 女性 | Q8: 男性 | T8: 女性 | W8: 男性 | Z8: 女性 | AC8: 男性 | AF8: 女性 | AI8: 男性 | AL8: 女性
D9: 任意入院 | K9: 7 | N9: 3 | Q9: 0 | T9: 10 | W9: 21 | Z9: 14 | AC9: 0 | AF9: 3 | AI9: =K9+Q9+W9+AC9 -> 28 | AL9: =N9+T9+Z9+AF9 -> 30 | AO9: =AI13 -> 192
D10: 医療保護入院 | K10: 21 | N10: 19 | Q10: 17 | T10: 19 | W10: 0 | Z10: 0 | AC10: 23 | AF10: 34 | AI10: =K10+Q10+W10+AC10 -> 61 | AL10: =N10+T10+Z10+AF10 -> 72
D11: 措置入院 | K11: 1 | N11: 0 | Q11: 0 | T11: 0 | W11: 0 | Z11: 0 | AC11: 0 | AF11: 0 | AI11: =K11+Q11+W11+AC11 -> 1 | AL11: =N11+T11+Z11+AF11 -> 0
D12: 合計 | K12: =K9+K10+K11 -> 29 | N12: =N9+N10+N11 -> 22 | Q12: =Q9+Q10+Q11 -> 17 | T12: =SUM(T9:V11) -> 29 | W12: =SUM(W9:Y11) -> 21 | Z12: =SUM(Z9:AB11) -> 14 | AC12: =SUM(AC9:AE11) -> 23 | AF12: =SUM(AF9:AH11) -> 37 | AI12: =SUM(K12+Q12+W12+AC12) -> 90 | AL12: =SUM(N12+T12+Z12+AF12) -> 102 | AO12: 人
K13: =K12+N12 -> 51 | Q13: =Q12+T12 -> 46 | W13: =W12+Z12 -> 35 | AC13: =AC12+AF12 -> 60 | AI13: =AI12+AL12 -> 192
F14: 患者様氏名 | N14: 入院形態 | T14: 担当Dr | Y14: 担当SW | AD14: 病棟 | AJ14: 備考欄
D15: 入院 | L15: 様
L16: 様
L17: 様
L18: 様
L19: 様
D20: 退院 | L20: 様
L21: 様
L22: 様
L23: 様
L24: 様
D25: 転棟 ･ 入院形態変更 | F25: 清水 志野 | L25: 様 | N25: 任意入院 | T25: 田名部茂Dr | Y25: 西舘 翔子 | AJ25: 北→東A
F26: 中村 聡 | L26: 様 | N26: 医療保護入院 | T26: 金泰德Dr | Y26: 西舘 翔子 | AJ26: 東B→西B
F27: 森 ひで | L27: 様 | N27: 任意入院 | T27: 馬渡晃弘Dr | Y27: 小屋敷 千瑛 | AJ27: 西B→北
L28: 様
L29: 様
A30: 患者様 関連 | D30: 患者様氏名 | K30: 担当Dr | P30: 病棟 | S30: 制限内容 | X30: 制限時間 | AC30: 開始日時 | AO30: 備考
D31: 宮崎 宏之 | I31: 様 | K31: 馬渡晃弘Dr | P31: 東A | S31: 終日隔離 | X31: 終日隔離 | AC31: 令和 | AE31: 2 | AF31: 年 | AG31: 5 | AH31: 月 | AI31: 23 | AJ31: 日 | AL31: ： | AN31: ～
D32: 飯田 修子 | I32: 様 | K32: 深澤隆Dr | P32: 東A | S32: 終日隔離 | X32: 終日隔離 | AC32: 令和 | AE32: 3 | AF32: 年 | AG32: 7 | AH32: 月 | AI32: 23 | AJ32: 日 | AL32: ： | AN32: ～
D33: 田端 香織 | I33: 様 | K33: 田名部茂Dr | P33: 東A | S33: 終日隔離 | X33: 終日隔離 | AC33: 令和 | AE33: 3 | AF33: 年 | AG33: 7 | AH33: 月 | AI33: 29 | AJ33: 日 | AL33: ： | AN33: ～
D34: 中村 聡 | I34: 様 | K34: 金泰徳Dr | P34: 東B | S34: 通信制限 | X34: 通信制限 | AC34: 令和 | AE34: 3 | AF34: 年 | AG34: 5 | AH34: 月 | AI34: 31 | AJ34: 日 | AL34: ： | AN34: ～
I35: 様 | AC35: 令和 | AF35: 年 | AH35: 月 | AJ35: 日 | AL35: ： | AN35: ～
I36: 様 | AC36: 令和 | AF36: 年 | AH36: 月 | AJ36: 日 | AL36: ： | AN36: ～
I37: 様 | AC37: 令和 | AF37: 年 | AH37: 月 | AJ37: 日 | AL37: ： | AN37: ～
I38: 様 | AC38: 令和 | AF38: 年 | AH38: 月 | AJ38: 日 | AL38: ： | AN38: ～
I39: 様 | AC39: 令和 | AF39: 年 | AH39: 月 | AJ39: 日 | AL39: ： | AN39: ～
I40: 様 | AC40: 令和 | AF40: 年 | AH40: 月 | AJ40: 日 | AL40: ： | AN40: ～
I41: 様 | AC41: 令和 | AF41: 年 | AH41: 月 | AJ41: 日 | AL41: ： | AN41: ～
I42: 様 | AC42: 令和 | AF42: 年 | AH42: 月 | AJ42: 日 | AL42: ： | AN42: ～
...

Sheet 10
A1: ソーシャルワーカー室 業務日誌 | AH1: C.O.O | AL1: I.O.O | AP1: Ａ.Ｏ.Ｍ
H3: =曜日!B12 -> 令和3年 | M3: =曜日!C12 -> 8月 | P3: 10日 | S3: （ | T3: =曜日!D5 -> 火 | U3: ） | W3: 作成者 | Z3: ： | AA3: 大川 祥子
A5: 労務 状況 | D5: 勤務状況 | K5: 西舘 翔子 | P5: 日勤 | T5: 小屋敷 千瑛 | Y5: 日勤 | AC5: 大川 祥子 | AH5: 日勤 | AL5: 吉田 久美子 | AP5: 日勤
K6: 野添 京子 | P6: 日勤
A7: 入退院 状況 | D7: 入院形態 | K7: 東病棟 | Q7: 西病棟 | W7: 北病棟 | AC7: 南病棟 | AI7: 合計 | AO7: 総数
K8: 男性 | N8: 女性 | Q8: 男性 | T8: 女性 | W8: 男性 | Z8: 女性 | AC8: 男性 | AF8: 女性 | AI8: 男性 | AL8: 女性
D9: 任意入院 | K9: 7 | N9: 2 | Q9: 0 | T9: 10 | W9: 21 | Z9: 14 | AC9: 0 | AF9: 3 | AI9: =K9+Q9+W9+AC9 -> 28 | AL9: =N9+T9+Z9+AF9 -> 29 | AO9: =AI13 -> 190
D10: 医療保護入院 | K10: 21 | N10: 18 | Q10: 17 | T10: 19 | W10: 0 | Z10: 0 | AC10: 23 | AF10: 34 | AI10: =K10+Q10+W10+AC10 -> 61 | AL10: =N10+T10+Z10+AF10 -> 71
D11: 措置入院 | K11: 1 | N11: 0 | Q11: 0 | T11: 0 | W11: 0 | Z11: 0 | AC11: 0 | AF11: 0 | AI11: =K11+Q11+W11+AC11 -> 1 | AL11: =N11+T11+Z11+AF11 -> 0
D12: 合計 | K12: =K9+K10+K11 -> 29 | N12: =N9+N10+N11 -> 20 | Q12: =Q9+Q10+Q11 -> 17 | T12: =SUM(T9:V11) -> 29 | W12: =SUM(W9:Y11) -> 21 | Z12: =SUM(Z9:AB11) -> 14 | AC12: =SUM(AC9:AE11) -> 23 | AF12: =SUM(AF9:AH11) -> 37 | AI12: =SUM(K12+Q12+W12+AC12) -> 90 | AL12: =SUM(N12+T12+Z12+AF12) -> 100 | AO12: 人
K13: =K12+N12 -> 49 | Q13: =Q12+T12 -> 46 | W13: =W12+Z12 -> 35 | AC13: =AC12+AF12 -> 60 | AI13: =AI12+AL12 -> 190
F14: 患者様氏名 | N14: 入院形態 | T14: 担当Dr | Y14: 担当SW | AD14: 病棟 | AJ14: 備考欄
D15: 入院 | L15: 様
L16: 様
L17: 様
L18: 様
L19: 様
D20: 退院 | F20: 豊巻 志津子 | L20: 様 | N20: 任意入院 | T20: 田名部茂Dr | Y20: 西舘 翔子 | AD20: 東B
F21: 山田 みつゑ | L21: 様 | N21: 医療保護入院 | T21: 馬渡晃弘Dr | Y21: 大川 祥子 | AD21: 南A
L22: 様
L23: 様
L24: 様
D25: 転棟 ･ 入院形態変更 | F25: 佐々木 博子 | L25: 様 | N25: 医療保護入院 | AJ25: 東C→南A
L26: 様
L27: 様
L28: 様
L29: 様
A30: 患者様 関連 | D30: 患者様氏名 | K30: 担当Dr | P30: 病棟 | S30: 制限内容 | X30: 制限時間 | AC30: 開始日時 | AO30: 備考
D31: 宮崎 宏之 | I31: 様 | K31: 馬渡晃弘Dr | P31: 東A | S31: 終日隔離 | X31: 終日隔離 | AC31: 令和 | AE31: 2 | AF31: 年 | AG31: 5 | AH31: 月 | AI31: 23 | AJ31: 日 | AL31: ： | AN31: ～
D32: 飯田 修子 | I32: 様 | K32: 深澤隆Dr | P32: 東A | S32: 終日隔離 | X32: 終日隔離 | AC32: 令和 | AE32: 3 | AF32: 年 | AG32: 7 | AH32: 月 | AI32: 23 | AJ32: 日 | AL32: ： | AN32: ～
D33: 田端 香織 | I33: 様 | K33: 田名部茂Dr | P33: 東A | S33: 終日隔離 | X33: 終日隔離 | AC33: 令和 | AE33: 3 | AF33: 年 | AG33: 7 | AH33: 月 | AI33: 29 | AJ33: 日 | AL33: ： | AN33: ～
D34: 中村 聡 | I34: 様 | K34: 金泰徳Dr | P34: 東B | S34: 通信制限 | X34: 通信制限 | AC34: 令和 | AE34: 3 | AF34: 年 | AG34: 5 | AH34: 月 | AI34: 31 | AJ34: 日 | AL34: ： | AN34: ～
I35: 様 | AC35: 令和 | AF35: 年 | AH35: 月 | AJ35: 日 | AL35: ： | AN35: ～
I36: 様 | AC36: 令和 | AF36: 年 | AH36: 月 | AJ36: 日 | AL36: ： | AN36: ～
I37: 様 | AC37: 令和 | AF37: 年 | AH37: 月 | AJ37: 日 | AL37: ： | AN37: ～
I38: 様 | AC38: 令和 | AF38: 年 | AH38: 月 | AJ38: 日 | AL38: ： | AN38: ～
I39: 様 | AC39: 令和 | AF39: 年 | AH39: 月 | AJ39: 日 | AL39: ： | AN39: ～
I40: 様 | AC40: 令和 | AF40: 年 | AH40: 月 | AJ40: 日 | AL40: ： | AN40: ～
I41: 様 | AC41: 令和 | AF41: 年 | AH41: 月 | AJ41: 日 | AL41: ： | AN41: ～
I42: 様 | AC42: 令和 | AF42: 年 | AH42: 月 | AJ42: 日 | AL42: ： | AN42: ～
...

Sheet 11
A1: ソーシャルワーカー室 業務日誌 | AH1: C.O.O | AL1: I.O.O | AP1: Ａ.Ｏ.Ｍ
H3: =曜日!B12 -> 令和3年 | M3: =曜日!C12 -> 8月 | P3: 11日 | S3: （ | T3: =曜日!D6 -> 水 | U3: ） | W3: 作成者 | Z3: ：
A5: 労務 状況 | D5: 勤務状況 | K5: 西舘 翔子 | T5: 小屋敷 千瑛 | AC5: 大川 祥子 | AL5: 吉田 久美子
K6: 野添 京子
A7: 入退院 状況 | D7: 入院形態 | K7: 東病棟 | Q7: 西病棟 | W7: 北病棟 | AC7: 南病棟 | AI7: 合計 | AO7: 総数
K8: 男性 | N8: 女性 | Q8: 男性 | T8: 女性 | W8: 男性 | Z8: 女性 | AC8: 男性 | AF8: 女性 | AI8: 男性 | AL8: 女性
D9: 任意入院 | AI9: =K9+Q9+W9+AC9 -> 0 | AL9: =N9+T9+Z9+AF9 -> 0 | AO9: =AI13 -> 0
D10: 医療保護入院 | AI10: =K10+Q10+W10+AC10 -> 0 | AL10: =N10+T10+Z10+AF10 -> 0
D11: 措置入院 | AI11: =K11+Q11+W11+AC11 -> 0 | AL11: =N11+T11+Z11+AF11 -> 0
D12: 合計 | K12: =K9+K10+K11 -> 0 | N12: =N9+N10+N11 -> 0 | Q12: =Q9+Q10+Q11 -> 0 | T12: =SUM(T9:V11) -> 0 | W12: =SUM(W9:Y11) -> 0 | Z12: =SUM(Z9:AB11) -> 0 | AC12: =SUM(AC9:AE11) -> 0 | AF12: =SUM(AF9:AH11) -> 0 | AI12: =SUM(K12+Q12+W12+AC12) -> 0 | AL12: =SUM(N12+T12+Z12+AF12) -> 0 | AO12: 人
K13: =K12+N12 -> 0 | Q13: =Q12+T12 -> 0 | W13: =W12+Z12 -> 0 | AC13: =AC12+AF12 -> 0 | AI13: =AI12+AL12 -> 0
F14: 患者様氏名 | N14: 入院形態 | T14: 担当Dr | Y14: 担当SW | AD14: 病棟 | AJ14: 備考欄
D15: 入院 | L15: 様
L16: 様
L17: 様
L18: 様
L19: 様
D20: 退院 | L20: 様
L21: 様
L22: 様
L23: 様
L24: 様
D25: 転棟 ･ 入院形態変更 | L25: 様
L26: 様
L27: 様
L28: 様
L29: 様
A30: 患者様 関連 | D30: 患者様氏名 | K30: 担当Dr | P30: 病棟 | S30: 制限内容 | X30: 制限時間 | AC30: 開始日時 | AO30: 備考
I31: 様 | AC31: 令和 | AF31: 年 | AH31: 月 | AJ31: 日 | AL31: ： | AN31: ～
I32: 様 | AC32: 令和 | AF32: 年 | AH32: 月 | AJ32: 日 | AL32: ： | AN32: ～
I33: 様 | AC33: 令和 | AF33: 年 | AH33: 月 | AJ33: 日 | AL33: ： | AN33: ～
I34: 様 | AC34: 令和 | AF34: 年 | AH34: 月 | AJ34: 日 | AL34: ： | AN34: ～
I35: 様 | AC35: 令和 | AF35: 年 | AH35: 月 | AJ35: 日 | AL35: ： | AN35: ～
I36: 様 | AC36: 令和 | AF36: 年 | AH36: 月 | AJ36: 日 | AL36: ： | AN36: ～
I37: 様 | AC37: 令和 | AF37: 年 | AH37: 月 | AJ37: 日 | AL37: ： | AN37: ～
I38: 様 | AC38: 令和 | AF38: 年 | AH38: 月 | AJ38: 日 | AL38: ： | AN38: ～
I39: 様 | AC39: 令和 | AF39: 年 | AH39: 月 | AJ39: 日 | AL39: ： | AN39: ～
I40: 様 | AC40: 令和 | AF40: 年 | AH40: 月 | AJ40: 日 | AL40: ： | AN40: ～
I41: 様 | AC41: 令和 | AF41: 年 | AH41: 月 | AJ41: 日 | AL41: ： | AN41: ～
I42: 様 | AC42: 令和 | AF42: 年 | AH42: 月 | AJ42: 日 | AL42: ： | AN42: ～
...

Sheet 12
A1: ソーシャルワーカー室 業務日誌 | AH1: C.O.O | AL1: I.O.O | AP1: Ａ.Ｏ.Ｍ
H3: =曜日!B12 -> 令和3年 | M3: =曜日!C12 -> 8月 | P3: 12日 | S3: （ | T3: =曜日!D7 -> 木 | U3: ） | W3: 作成者 | Z3: ：
A5: 労務 状況 | D5: 勤務状況 | K5: 西舘 翔子 | T5: 小屋敷 千瑛 | AC5: 大川 祥子 | AL5: 吉田 久美子
K6: 野添 京子
A7: 入退院 状況 | D7: 入院形態 | K7: 東病棟 | Q7: 西病棟 | W7: 北病棟 | AC7: 南病棟 | AI7: 合計 | AO7: 総数
K8: 男性 | N8: 女性 | Q8: 男性 | T8: 女性 | W8: 男性 | Z8: 女性 | AC8: 男性 | AF8: 女性 | AI8: 男性 | AL8: 女性
D9: 任意入院 | AI9: =K9+Q9+W9+AC9 -> 0 | AL9: =N9+T9+Z9+AF9 -> 0 | AO9: =AI13 -> 0
D10: 医療保護入院 | AI10: =K10+Q10+W10+AC10 -> 0 | AL10: =N10+T10+Z10+AF10 -> 0
D11: 措置入院 | AI11: =K11+Q11+W11+AC11 -> 0 | AL11: =N11+T11+Z11+AF11 -> 0
D12: 合計 | K12: =K9+K10+K11 -> 0 | N12: =N9+N10+N11 -> 0 | Q12: =Q9+Q10+Q11 -> 0 | T12: =SUM(T9:V11) -> 0 | W12: =SUM(W9:Y11) -> 0 | Z12: =SUM(Z9:AB11) -> 0 | AC12: =SUM(AC9:AE11) -> 0 | AF12: =SUM(AF9:AH11) -> 0 | AI12: =SUM(K12+Q12+W12+AC12) -> 0 | AL12: =SUM(N12+T12+Z12+AF12) -> 0 | AO12: 人
K13: =K12+N12 -> 0 | Q13: =Q12+T12 -> 0 | W13: =W12+Z12 -> 0 | AC13: =AC12+AF12 -> 0 | AI13: =AI12+AL12 -> 0
F14: 患者様氏名 | N14: 入院形態 | T14: 担当Dr | Y14: 担当SW | AD14: 病棟 | AJ14: 備考欄
D15: 入院 | L15: 様
L16: 様
L17: 様
L18: 様
L19: 様
D20: 退院 | L20: 様
L21: 様
L22: 様
L23: 様
L24: 様
D25: 転棟 ･ 入院形態変更 | L25: 様
L26: 様
L27: 様
L28: 様
L29: 様
A30: 患者様 関連 | D30: 患者様氏名 | K30: 担当Dr | P30: 病棟 | S30: 制限内容 | X30: 制限時間 | AC30: 開始日時 | AO30: 備考
I31: 様 | AC31: 令和 | AF31: 年 | AH31: 月 | AJ31: 日 | AL31: ： | AN31: ～
I32: 様 | AC32: 令和 | AF32: 年 | AH32: 月 | AJ32: 日 | AL32: ： | AN32: ～
I33: 様 | AC33: 令和 | AF33: 年 | AH33: 月 | AJ33: 日 | AL33: ： | AN33: ～
I34: 様 | AC34: 令和 | AF34: 年 | AH34: 月 | AJ34: 日 | AL34: ： | AN34: ～
I35: 様 | AC35: 令和 | AF35: 年 | AH35: 月 | AJ35: 日 | AL35: ： | AN35: ～
I36: 様 | AC36: 令和 | AF36: 年 | AH36: 月 | AJ36: 日 | AL36: ： | AN36: ～
I37: 様 | AC37: 令和 | AF37: 年 | AH37: 月 | AJ37: 日 | AL37: ： | AN37: ～
I38: 様 | AC38: 令和 | AF38: 年 | AH38: 月 | AJ38: 日 | AL38: ： | AN38: ～
I39: 様 | AC39: 令和 | AF39: 年 | AH39: 月 | AJ39: 日 | AL39: ： | AN39: ～
I40: 様 | AC40: 令和 | AF40: 年 | AH40: 月 | AJ40: 日 | AL40: ： | AN40: ～
I41: 様 | AC41: 令和 | AF41: 年 | AH41: 月 | AJ41: 日 | AL41: ： | AN41: ～
I42: 様 | AC42: 令和 | AF42: 年 | AH42: 月 | AJ42: 日 | AL42: ： | AN42: ～
...

Sheet 13
A1: ソーシャルワーカー室 業務日誌 | AH1: C.O.O | AL1: I.O.O | AP1: Ａ.Ｏ.Ｍ
H3: =曜日!B12 -> 令和3年 | M3: =曜日!C12 -> 8月 | P3: 13日 | S3: （ | T3: =曜日!D8 -> 金 | U3: ） | W3: 作成者 | Z3: ：
A5: 労務 状況 | D5: 勤務状況 | K5: 西舘 翔子 | T5: 小屋敷 千瑛 | AC5: 大川 祥子 | AL5: 吉田 久美子
K6: 野添 京子
A7: 入退院 状況 | D7: 入院形態 | K7: 東病棟 | Q7: 西病棟 | W7: 北病棟 | AC7: 南病棟 | AI7: 合計 | AO7: 総数
K8: 男性 | N8: 女性 | Q8: 男性 | T8: 女性 | W8: 男性 | Z8: 女性 | AC8: 男性 | AF8: 女性 | AI8: 男性 | AL8: 女性
D9: 任意入院 | AI9: =K9+Q9+W9+AC9 -> 0 | AL9: =N9+T9+Z9+AF9 -> 0 | AO9: =AI13 -> 0
D10: 医療保護入院 | AI10: =K10+Q10+W10+AC10 -> 0 | AL10: =N10+T10+Z10+AF10 -> 0
D11: 措置入院 | AI11: =K11+Q11+W11+AC11 -> 0 | AL11: =N11+T11+Z11+AF11 -> 0
D12: 合計 | K12: =K9+K10+K11 -> 0 | N12: =N9+N10+N11 -> 0 | Q12: =Q9+Q10+Q11 -> 0 | T12: =SUM(T9:V11) -> 0 | W12: =SUM(W9:Y11) -> 0 | Z12: =SUM(Z9:AB11) -> 0 | AC12: =SUM(AC9:AE11) -> 0 | AF12: =SUM(AF9:AH11) -> 0 | AI12: =SUM(K12+Q12+W12+AC12) -> 0 | AL12: =SUM(N12+T12+Z12+AF12) -> 0 | AO12: 人
K13: =K12+N12 -> 0 | Q13: =Q12+T12 -> 0 | W13: =W12+Z12 -> 0 | AC13: =AC12+AF12 -> 0 | AI13: =AI12+AL12 -> 0
F14: 患者様氏名 | N14: 入院形態 | T14: 担当Dr | Y14: 担当SW | AD14: 病棟 | AJ14: 備考欄
D15: 入院 | L15: 様
L16: 様
L17: 様
L18: 様
L19: 様
D20: 退院 | L20: 様
L21: 様
L22: 様
L23: 様
L24: 様
D25: 転棟 ･ 入院形態変更 | L25: 様
L26: 様
L27: 様
L28: 様
L29: 様
A30: 患者様 関連 | D30: 患者様氏名 | K30: 担当Dr | P30: 病棟 | S30: 制限内容 | X30: 制限時間 | AC30: 開始日時 | AO30: 備考
I31: 様 | AC31: 令和 | AF31: 年 | AH31: 月 | AJ31: 日 | AL31: ： | AN31: ～
I32: 様 | AC32: 令和 | AF32: 年 | AH32: 月 | AJ32: 日 | AL32: ： | AN32: ～
I33: 様 | AC33: 令和 | AF33: 年 | AH33: 月 | AJ33: 日 | AL33: ： | AN33: ～
I34: 様 | AC34: 令和 | AF34: 年 | AH34: 月 | AJ34: 日 | AL34: ： | AN34: ～
I35: 様 | AC35: 令和 | AF35: 年 | AH35: 月 | AJ35: 日 | AL35: ： | AN35: ～
I36: 様 | AC36: 令和 | AF36: 年 | AH36: 月 | AJ36: 日 | AL36: ： | AN36: ～
I37: 様 | AC37: 令和 | AF37: 年 | AH37: 月 | AJ37: 日 | AL37: ： | AN37: ～
I38: 様 | AC38: 令和 | AF38: 年 | AH38: 月 | AJ38: 日 | AL38: ： | AN38: ～
I39: 様 | AC39: 令和 | AF39: 年 | AH39: 月 | AJ39: 日 | AL39: ： | AN39: ～
I40: 様 | AC40: 令和 | AF40: 年 | AH40: 月 | AJ40: 日 | AL40: ： | AN40: ～
I41: 様 | AC41: 令和 | AF41: 年 | AH41: 月 | AJ41: 日 | AL41: ： | AN41: ～
I42: 様 | AC42: 令和 | AF42: 年 | AH42: 月 | AJ42: 日 | AL42: ： | AN42: ～
...

Sheet 14
A1: ソーシャルワーカー室 業務日誌 | AH1: C.O.O | AL1: I.O.O | AP1: Ａ.Ｏ.Ｍ
H3: =曜日!B12 -> 令和3年 | M3: =曜日!C12 -> 8月 | P3: 14日 | S3: （ | T3: =曜日!D9 -> 土 | U3: ） | W3: 作成者 | Z3: ：
A5: 労務 状況 | D5: 勤務状況 | K5: 西舘 翔子 | T5: 小屋敷 千瑛 | AC5: 大川 祥子 | AL5: 吉田 久美子
K6: 野添 京子
A7: 入退院 状況 | D7: 入院形態 | K7: 東病棟 | Q7: 西病棟 | W7: 北病棟 | AC7: 南病棟 | AI7: 合計 | AO7: 総数
K8: 男性 | N8: 女性 | Q8: 男性 | T8: 女性 | W8: 男性 | Z8: 女性 | AC8: 男性 | AF8: 女性 | AI8: 男性 | AL8: 女性
D9: 任意入院 | AI9: =K9+Q9+W9+AC9 -> 0 | AL9: =N9+T9+Z9+AF9 -> 0 | AO9: =AI13 -> 0
D10: 医療保護入院 | AI10: =K10+Q10+W10+AC10 -> 0 | AL10: =N10+T10+Z10+AF10 -> 0
D11: 措置入院 | AI11: =K11+Q11+W11+AC11 -> 0 | AL11: =N11+T11+Z11+AF11 -> 0
D12: 合計 | K12: =K9+K10+K11 -> 0 | N12: =N9+N10+N11 -> 0 | Q12: =Q9+Q10+Q11 -> 0 | T12: =SUM(T9:V11) -> 0 | W12: =SUM(W9:Y11) -> 0 | Z12: =SUM(Z9:AB11) -> 0 | AC12: =SUM(AC9:AE11) -> 0 | AF12: =SUM(AF9:AH11) -> 0 | AI12: =SUM(K12+Q12+W12+AC12) -> 0 | AL12: =SUM(N12+T12+Z12+AF12) -> 0 | AO12: 人
K13: =K12+N12 -> 0 | Q13: =Q12+T12 -> 0 | W13: =W12+Z12 -> 0 | AC13: =AC12+AF12 -> 0 | AI13: =AI12+AL12 -> 0
F14: 患者様氏名 | N14: 入院形態 | T14: 担当Dr | Y14: 担当SW | AD14: 病棟 | AJ14: 備考欄
D15: 入院 | L15: 様
L16: 様
L17: 様
L18: 様
L19: 様
D20: 退院 | L20: 様
L21: 様
L22: 様
L23: 様
L24: 様
D25: 転棟 ･ 入院形態変更 | L25: 様
L26: 様
L27: 様
L28: 様
L29: 様
A30: 患者様 関連 | D30: 患者様氏名 | K30: 担当Dr | P30: 病棟 | S30: 制限内容 | X30: 制限時間 | AC30: 開始日時 | AO30: 備考
I31: 様 | AC31: 令和 | AF31: 年 | AH31: 月 | AJ31: 日 | AL31: ： | AN31: ～
I32: 様 | AC32: 令和 | AF32: 年 | AH32: 月 | AJ32: 日 | AL32: ： | AN32: ～
I33: 様 | AC33: 令和 | AF33: 年 | AH33: 月 | AJ33: 日 | AL33: ： | AN33: ～
I34: 様 | AC34: 令和 | AF34: 年 | AH34: 月 | AJ34: 日 | AL34: ： | AN34: ～
I35: 様 | AC35: 令和 | AF35: 年 | AH35: 月 | AJ35: 日 | AL35: ： | AN35: ～
I36: 様 | AC36: 令和 | AF36: 年 | AH36: 月 | AJ36: 日 | AL36: ： | AN36: ～
I37: 様 | AC37: 令和 | AF37: 年 | AH37: 月 | AJ37: 日 | AL37: ： | AN37: ～
I38: 様 | AC38: 令和 | AF38: 年 | AH38: 月 | AJ38: 日 | AL38: ： | AN38: ～
I39: 様 | AC39: 令和 | AF39: 年 | AH39: 月 | AJ39: 日 | AL39: ： | AN39: ～
I40: 様 | AC40: 令和 | AF40: 年 | AH40: 月 | AJ40: 日 | AL40: ： | AN40: ～
I41: 様 | AC41: 令和 | AF41: 年 | AH41: 月 | AJ41: 日 | AL41: ： | AN41: ～
I42: 様 | AC42: 令和 | AF42: 年 | AH42: 月 | AJ42: 日 | AL42: ： | AN42: ～
...

Sheet 15
A1: ソーシャルワーカー室 業務日誌 | AH1: C.O.O | AL1: I.O.O | AP1: Ａ.Ｏ.Ｍ
H3: =曜日!B12 -> 令和3年 | M3: =曜日!C12 -> 8月 | P3: 15日 | S3: （ | T3: =曜日!D3 -> 日 | U3: ） | W3: 作成者 | Z3: ：
A5: 労務 状況 | D5: 勤務状況 | K5: 西舘 翔子 | T5: 小屋敷 千瑛 | AC5: 大川 祥子 | AL5: 吉田 久美子
K6: 野添 京子
A7: 入退院 状況 | D7: 入院形態 | K7: 東病棟 | Q7: 西病棟 | W7: 北病棟 | AC7: 南病棟 | AI7: 合計 | AO7: 総数
K8: 男性 | N8: 女性 | Q8: 男性 | T8: 女性 | W8: 男性 | Z8: 女性 | AC8: 男性 | AF8: 女性 | AI8: 男性 | AL8: 女性
D9: 任意入院 | AI9: =K9+Q9+W9+AC9 -> 0 | AL9: =N9+T9+Z9+AF9 -> 0 | AO9: =AI13 -> 0
D10: 医療保護入院 | AI10: =K10+Q10+W10+AC10 -> 0 | AL10: =N10+T10+Z10+AF10 -> 0
D11: 措置入院 | AI11: =K11+Q11+W11+AC11 -> 0 | AL11: =N11+T11+Z11+AF11 -> 0
D12: 合計 | K12: =K9+K10+K11 -> 0 | N12: =N9+N10+N11 -> 0 | Q12: =Q9+Q10+Q11 -> 0 | T12: =SUM(T9:V11) -> 0 | W12: =SUM(W9:Y11) -> 0 | Z12: =SUM(Z9:AB11) -> 0 | AC12: =SUM(AC9:AE11) -> 0 | AF12: =SUM(AF9:AH11) -> 0 | AI12: =SUM(K12+Q12+W12+AC12) -> 0 | AL12: =SUM(N12+T12+Z12+AF12) -> 0 | AO12: 人
K13: =K12+N12 -> 0 | Q13: =Q12+T12 -> 0 | W13: =W12+Z12 -> 0 | AC13: =AC12+AF12 -> 0 | AI13: =AI12+AL12 -> 0
F14: 患者様氏名 | N14: 入院形態 | T14: 担当Dr | Y14: 担当SW | AD14: 病棟 | AJ14: 備考欄
D15: 入院 | L15: 様
L16: 様
L17: 様
L18: 様
L19: 様
D20: 退院 | L20: 様
L21: 様
L22: 様
L23: 様
L24: 様
D25: 転棟 ･ 入院形態変更 | L25: 様
L26: 様
L27: 様
L28: 様
L29: 様
A30: 患者様 関連 | D30: 患者様氏名 | K30: 担当Dr | P30: 病棟 | S30: 制限内容 | X30: 制限時間 | AC30: 開始日時 | AO30: 備考
I31: 様 | AC31: 令和 | AF31: 年 | AH31: 月 | AJ31: 日 | AL31: ： | AN31: ～
I32: 様 | AC32: 令和 | AF32: 年 | AH32: 月 | AJ32: 日 | AL32: ： | AN32: ～
I33: 様 | AC33: 令和 | AF33: 年 | AH33: 月 | AJ33: 日 | AL33: ： | AN33: ～
I34: 様 | AC34: 令和 | AF34: 年 | AH34: 月 | AJ34: 日 | AL34: ： | AN34: ～
I35: 様 | AC35: 令和 | AF35: 年 | AH35: 月 | AJ35: 日 | AL35: ： | AN35: ～
I36: 様 | AC36: 令和 | AF36: 年 | AH36: 月 | AJ36: 日 | AL36: ： | AN36: ～
I37: 様 | AC37: 令和 | AF37: 年 | AH37: 月 | AJ37: 日 | AL37: ： | AN37: ～
I38: 様 | AC38: 令和 | AF38: 年 | AH38: 月 | AJ38: 日 | AL38: ： | AN38: ～
I39: 様 | AC39: 令和 | AF39: 年 | AH39: 月 | AJ39: 日 | AL39: ： | AN39: ～
I40: 様 | AC40: 令和 | AF40: 年 | AH40: 月 | AJ40: 日 | AL40: ： | AN40: ～
I41: 様 | AC41: 令和 | AF41: 年 | AH41: 月 | AJ41: 日 | AL41: ： | AN41: ～
I42: 様 | AC42: 令和 | AF42: 年 | AH42: 月 | AJ42: 日 | AL42: ： | AN42: ～
...

Sheet 16
A1: ソーシャルワーカー室 業務日誌 | AH1: C.O.O | AL1: I.O.O | AP1: Ａ.Ｏ.Ｍ
H3: =曜日!B12 -> 令和3年 | M3: =曜日!C12 -> 8月 | P3: 16日 | S3: （ | T3: =曜日!D4 -> 月 | U3: ） | W3: 作成者 | Z3: ：
A5: 労務 状況 | D5: 勤務状況 | K5: 西舘 翔子 | T5: 小屋敷 千瑛 | AC5: 大川 祥子 | AL5: 吉田 久美子
K6: 野添 京子
A7: 入退院 状況 | D7: 入院形態 | K7: 東病棟 | Q7: 西病棟 | W7: 北病棟 | AC7: 南病棟 | AI7: 合計 | AO7: 総数
K8: 男性 | N8: 女性 | Q8: 男性 | T8: 女性 | W8: 男性 | Z8: 女性 | AC8: 男性 | AF8: 女性 | AI8: 男性 | AL8: 女性
D9: 任意入院 | AI9: =K9+Q9+W9+AC9 -> 0 | AL9: =N9+T9+Z9+AF9 -> 0 | AO9: =AI13 -> 0
D10: 医療保護入院 | AI10: =K10+Q10+W10+AC10 -> 0 | AL10: =N10+T10+Z10+AF10 -> 0
D11: 措置入院 | AI11: =K11+Q11+W11+AC11 -> 0 | AL11: =N11+T11+Z11+AF11 -> 0
D12: 合計 | K12: =K9+K10+K11 -> 0 | N12: =N9+N10+N11 -> 0 | Q12: =Q9+Q10+Q11 -> 0 | T12: =SUM(T9:V11) -> 0 | W12: =SUM(W9:Y11) -> 0 | Z12: =SUM(Z9:AB11) -> 0 | AC12: =SUM(AC9:AE11) -> 0 | AF12: =SUM(AF9:AH11) -> 0 | AI12: =SUM(K12+Q12+W12+AC12) -> 0 | AL12: =SUM(N12+T12+Z12+AF12) -> 0 | AO12: 人
K13: =K12+N12 -> 0 | Q13: =Q12+T12 -> 0 | W13: =W12+Z12 -> 0 | AC13: =AC12+AF12 -> 0 | AI13: =AI12+AL12 -> 0
F14: 患者様氏名 | N14: 入院形態 | T14: 担当Dr | Y14: 担当SW | AD14: 病棟 | AJ14: 備考欄
D15: 入院 | L15: 様
L16: 様
L17: 様
L18: 様
L19: 様
D20: 退院 | L20: 様
L21: 様
L22: 様
L23: 様
L24: 様
D25: 転棟 ･ 入院形態変更 | L25: 様
L26: 様
L27: 様
L28: 様
L29: 様
A30: 患者様 関連 | D30: 患者様氏名 | K30: 担当Dr | P30: 病棟 | S30: 制限内容 | X30: 制限時間 | AC30: 開始日時 | AO30: 備考
I31: 様 | AC31: 令和 | AF31: 年 | AH31: 月 | AJ31: 日 | AL31: ： | AN31: ～
I32: 様 | AC32: 令和 | AF32: 年 | AH32: 月 | AJ32: 日 | AL32: ： | AN32: ～
I33: 様 | AC33: 令和 | AF33: 年 | AH33: 月 | AJ33: 日 | AL33: ： | AN33: ～
I34: 様 | AC34: 令和 | AF34: 年 | AH34: 月 | AJ34: 日 | AL34: ： | AN34: ～
I35: 様 | AC35: 令和 | AF35: 年 | AH35: 月 | AJ35: 日 | AL35: ： | AN35: ～
I36: 様 | AC36: 令和 | AF36: 年 | AH36: 月 | AJ36: 日 | AL36: ： | AN36: ～
I37: 様 | AC37: 令和 | AF37: 年 | AH37: 月 | AJ37: 日 | AL37: ： | AN37: ～
I38: 様 | AC38: 令和 | AF38: 年 | AH38: 月 | AJ38: 日 | AL38: ： | AN38: ～
I39: 様 | AC39: 令和 | AF39: 年 | AH39: 月 | AJ39: 日 | AL39: ： | AN39: ～
I40: 様 | AC40: 令和 | AF40: 年 | AH40: 月 | AJ40: 日 | AL40: ： | AN40: ～
I41: 様 | AC41: 令和 | AF41: 年 | AH41: 月 | AJ41: 日 | AL41: ： | AN41: ～
I42: 様 | AC42: 令和 | AF42: 年 | AH42: 月 | AJ42: 日 | AL42: ： | AN42: ～
...

Sheet 17
A1: ソーシャルワーカー室 業務日誌 | AH1: C.O.O | AL1: I.O.O | AP1: Ａ.Ｏ.Ｍ
H3: =曜日!B12 -> 令和3年 | M3: =曜日!C12 -> 8月 | P3: 17日 | S3: （ | T3: =曜日!D5 -> 火 | U3: ） | W3: 作成者 | Z3: ：
A5: 労務 状況 | D5: 勤務状況 | K5: 西舘 翔子 | T5: 小屋敷 千瑛 | AC5: 大川 祥子 | AL5: 吉田 久美子
K6: 野添 京子
A7: 入退院 状況 | D7: 入院形態 | K7: 東病棟 | Q7: 西病棟 | W7: 北病棟 | AC7: 南病棟 | AI7: 合計 | AO7: 総数
K8: 男性 | N8: 女性 | Q8: 男性 | T8: 女性 | W8: 男性 | Z8: 女性 | AC8: 男性 | AF8: 女性 | AI8: 男性 | AL8: 女性
D9: 任意入院 | AI9: =K9+Q9+W9+AC9 -> 0 | AL9: =N9+T9+Z9+AF9 -> 0 | AO9: =AI13 -> 0
D10: 医療保護入院 | AI10: =K10+Q10+W10+AC10 -> 0 | AL10: =N10+T10+Z10+AF10 -> 0
D11: 措置入院 | AI11: =K11+Q11+W11+AC11 -> 0 | AL11: =N11+T11+Z11+AF11 -> 0
D12: 合計 | K12: =K9+K10+K11 -> 0 | N12: =N9+N10+N11 -> 0 | Q12: =Q9+Q10+Q11 -> 0 | T12: =SUM(T9:V11) -> 0 | W12: =SUM(W9:Y11) -> 0 | Z12: =SUM(Z9:AB11) -> 0 | AC12: =SUM(AC9:AE11) -> 0 | AF12: =SUM(AF9:AH11) -> 0 | AI12: =SUM(K12+Q12+W12+AC12) -> 0 | AL12: =SUM(N12+T12+Z12+AF12) -> 0 | AO12: 人
K13: =K12+N12 -> 0 | Q13: =Q12+T12 -> 0 | W13: =W12+Z12 -> 0 | AC13: =AC12+AF12 -> 0 | AI13: =AI12+AL12 -> 0
F14: 患者様氏名 | N14: 入院形態 | T14: 担当Dr | Y14: 担当SW | AD14: 病棟 | AJ14: 備考欄
D15: 入院 | L15: 様
L16: 様
L17: 様
L18: 様
L19: 様
D20: 退院 | L20: 様
L21: 様
L22: 様
L23: 様
L24: 様
D25: 転棟 ･ 入院形態変更 | L25: 様
L26: 様
L27: 様
L28: 様
L29: 様
A30: 患者様 関連 | D30: 患者様氏名 | K30: 担当Dr | P30: 病棟 | S30: 制限内容 | X30: 制限時間 | AC30: 開始日時 | AO30: 備考
I31: 様 | AC31: 令和 | AF31: 年 | AH31: 月 | AJ31: 日 | AL31: ： | AN31: ～
I32: 様 | AC32: 令和 | AF32: 年 | AH32: 月 | AJ32: 日 | AL32: ： | AN32: ～
I33: 様 | AC33: 令和 | AF33: 年 | AH33: 月 | AJ33: 日 | AL33: ： | AN33: ～
I34: 様 | AC34: 令和 | AF34: 年 | AH34: 月 | AJ34: 日 | AL34: ： | AN34: ～
I35: 様 | AC35: 令和 | AF35: 年 | AH35: 月 | AJ35: 日 | AL35: ： | AN35: ～
I36: 様 | AC36: 令和 | AF36: 年 | AH36: 月 | AJ36: 日 | AL36: ： | AN36: ～
I37: 様 | AC37: 令和 | AF37: 年 | AH37: 月 | AJ37: 日 | AL37: ： | AN37: ～
I38: 様 | AC38: 令和 | AF38: 年 | AH38: 月 | AJ38: 日 | AL38: ： | AN38: ～
I39: 様 | AC39: 令和 | AF39: 年 | AH39: 月 | AJ39: 日 | AL39: ： | AN39: ～
I40: 様 | AC40: 令和 | AF40: 年 | AH40: 月 | AJ40: 日 | AL40: ： | AN40: ～
I41: 様 | AC41: 令和 | AF41: 年 | AH41: 月 | AJ41: 日 | AL41: ： | AN41: ～
I42: 様 | AC42: 令和 | AF42: 年 | AH42: 月 | AJ42: 日 | AL42: ： | AN42: ～
...

Sheet 18
A1: ソーシャルワーカー室 業務日誌 | AH1: C.O.O | AL1: I.O.O | AP1: Ａ.Ｏ.Ｍ
H3: =曜日!B12 -> 令和3年 | M3: =曜日!C12 -> 8月 | P3: 18日 | S3: （ | T3: =曜日!D6 -> 水 | U3: ） | W3: 作成者 | Z3: ：
A5: 労務 状況 | D5: 勤務状況 | K5: 西舘 翔子 | T5: 小屋敷 千瑛 | AC5: 大川 祥子 | AL5: 吉田 久美子
K6: 野添 京子
A7: 入退院 状況 | D7: 入院形態 | K7: 東病棟 | Q7: 西病棟 | W7: 北病棟 | AC7: 南病棟 | AI7: 合計 | AO7: 総数
K8: 男性 | N8: 女性 | Q8: 男性 | T8: 女性 | W8: 男性 | Z8: 女性 | AC8: 男性 | AF8: 女性 | AI8: 男性 | AL8: 女性
D9: 任意入院 | AI9: =K9+Q9+W9+AC9 -> 0 | AL9: =N9+T9+Z9+AF9 -> 0 | AO9: =AI13 -> 0
D10: 医療保護入院 | AI10: =K10+Q10+W10+AC10 -> 0 | AL10: =N10+T10+Z10+AF10 -> 0
D11: 措置入院 | AI11: =K11+Q11+W11+AC11 -> 0 | AL11: =N11+T11+Z11+AF11 -> 0
D12: 合計 | K12: =K9+K10+K11 -> 0 | N12: =N9+N10+N11 -> 0 | Q12: =Q9+Q10+Q11 -> 0 | T12: =SUM(T9:V11) -> 0 | W12: =SUM(W9:Y11) -> 0 | Z12: =SUM(Z9:AB11) -> 0 | AC12: =SUM(AC9:AE11) -> 0 | AF12: =SUM(AF9:AH11) -> 0 | AI12: =SUM(K12+Q12+W12+AC12) -> 0 | AL12: =SUM(N12+T12+Z12+AF12) -> 0 | AO12: 人
K13: =K12+N12 -> 0 | Q13: =Q12+T12 -> 0 | W13: =W12+Z12 -> 0 | AC13: =AC12+AF12 -> 0 | AI13: =AI12+AL12 -> 0
F14: 患者様氏名 | N14: 入院形態 | T14: 担当Dr | Y14: 担当SW | AD14: 病棟 | AJ14: 備考欄
D15: 入院 | L15: 様
L16: 様
L17: 様
L18: 様
L19: 様
D20: 退院 | L20: 様
L21: 様
L22: 様
L23: 様
L24: 様
D25: 転棟 ･ 入院形態変更 | L25: 様
L26: 様
L27: 様
L28: 様
L29: 様
A30: 患者様 関連 | D30: 患者様氏名 | K30: 担当Dr | P30: 病棟 | S30: 制限内容 | X30: 制限時間 | AC30: 開始日時 | AO30: 備考
I31: 様 | AC31: 令和 | AF31: 年 | AH31: 月 | AJ31: 日 | AL31: ： | AN31: ～
I32: 様 | AC32: 令和 | AF32: 年 | AH32: 月 | AJ32: 日 | AL32: ： | AN32: ～
I33: 様 | AC33: 令和 | AF33: 年 | AH33: 月 | AJ33: 日 | AL33: ： | AN33: ～
I34: 様 | AC34: 令和 | AF34: 年 | AH34: 月 | AJ34: 日 | AL34: ： | AN34: ～
I35: 様 | AC35: 令和 | AF35: 年 | AH35: 月 | AJ35: 日 | AL35: ： | AN35: ～
I36: 様 | AC36: 令和 | AF36: 年 | AH36: 月 | AJ36: 日 | AL36: ： | AN36: ～
I37: 様 | AC37: 令和 | AF37: 年 | AH37: 月 | AJ37: 日 | AL37: ： | AN37: ～
I38: 様 | AC38: 令和 | AF38: 年 | AH38: 月 | AJ38: 日 | AL38: ： | AN38: ～
I39: 様 | AC39: 令和 | AF39: 年 | AH39: 月 | AJ39: 日 | AL39: ： | AN39: ～
I40: 様 | AC40: 令和 | AF40: 年 | AH40: 月 | AJ40: 日 | AL40: ： | AN40: ～
I41: 様 | AC41: 令和 | AF41: 年 | AH41: 月 | AJ41: 日 | AL41: ： | AN41: ～
I42: 様 | AC42: 令和 | AF42: 年 | AH42: 月 | AJ42: 日 | AL42: ： | AN42: ～
...

Sheet 19
A1: ソーシャルワーカー室 業務日誌 | AH1: C.O.O | AL1: I.O.O | AP1: Ａ.Ｏ.Ｍ
H3: =曜日!B12 -> 令和3年 | M3: =曜日!C12 -> 8月 | P3: 19日 | S3: （ | T3: =曜日!D7 -> 木 | U3: ） | W3: 作成者 | Z3: ：
A5: 労務 状況 | D5: 勤務状況 | K5: 西舘 翔子 | T5: 小屋敷 千瑛 | AC5: 大川 祥子 | AL5: 吉田 久美子
K6: 野添 京子
A7: 入退院 状況 | D7: 入院形態 | K7: 東病棟 | Q7: 西病棟 | W7: 北病棟 | AC7: 南病棟 | AI7: 合計 | AO7: 総数
K8: 男性 | N8: 女性 | Q8: 男性 | T8: 女性 | W8: 男性 | Z8: 女性 | AC8: 男性 | AF8: 女性 | AI8: 男性 | AL8: 女性
D9: 任意入院 | AI9: =K9+Q9+W9+AC9 -> 0 | AL9: =N9+T9+Z9+AF9 -> 0 | AO9: =AI13 -> 0
D10: 医療保護入院 | AI10: =K10+Q10+W10+AC10 -> 0 | AL10: =N10+T10+Z10+AF10 -> 0
D11: 措置入院 | AI11: =K11+Q11+W11+AC11 -> 0 | AL11: =N11+T11+Z11+AF11 -> 0
D12: 合計 | K12: =K9+K10+K11 -> 0 | N12: =N9+N10+N11 -> 0 | Q12: =Q9+Q10+Q11 -> 0 | T12: =SUM(T9:V11) -> 0 | W12: =SUM(W9:Y11) -> 0 | Z12: =SUM(Z9:AB11) -> 0 | AC12: =SUM(AC9:AE11) -> 0 | AF12: =SUM(AF9:AH11) -> 0 | AI12: =SUM(K12+Q12+W12+AC12) -> 0 | AL12: =SUM(N12+T12+Z12+AF12) -> 0 | AO12: 人
K13: =K12+N12 -> 0 | Q13: =Q12+T12 -> 0 | W13: =W12+Z12 -> 0 | AC13: =AC12+AF12 -> 0 | AI13: =AI12+AL12 -> 0
F14: 患者様氏名 | N14: 入院形態 | T14: 担当Dr | Y14: 担当SW | AD14: 病棟 | AJ14: 備考欄
D15: 入院 | L15: 様
L16: 様
L17: 様
L18: 様
L19: 様
D20: 退院 | L20: 様
L21: 様
L22: 様
L23: 様
L24: 様
D25: 転棟 ･ 入院形態変更 | L25: 様
L26: 様
L27: 様
L28: 様
L29: 様
A30: 患者様 関連 | D30: 患者様氏名 | K30: 担当Dr | P30: 病棟 | S30: 制限内容 | X30: 制限時間 | AC30: 開始日時 | AO30: 備考
I31: 様 | AC31: 令和 | AF31: 年 | AH31: 月 | AJ31: 日 | AL31: ： | AN31: ～
I32: 様 | AC32: 令和 | AF32: 年 | AH32: 月 | AJ32: 日 | AL32: ： | AN32: ～
I33: 様 | AC33: 令和 | AF33: 年 | AH33: 月 | AJ33: 日 | AL33: ： | AN33: ～
I34: 様 | AC34: 令和 | AF34: 年 | AH34: 月 | AJ34: 日 | AL34: ： | AN34: ～
I35: 様 | AC35: 令和 | AF35: 年 | AH35: 月 | AJ35: 日 | AL35: ： | AN35: ～
I36: 様 | AC36: 令和 | AF36: 年 | AH36: 月 | AJ36: 日 | AL36: ： | AN36: ～
I37: 様 | AC37: 令和 | AF37: 年 | AH37: 月 | AJ37: 日 | AL37: ： | AN37: ～
I38: 様 | AC38: 令和 | AF38: 年 | AH38: 月 | AJ38: 日 | AL38: ： | AN38: ～
I39: 様 | AC39: 令和 | AF39: 年 | AH39: 月 | AJ39: 日 | AL39: ： | AN39: ～
I40: 様 | AC40: 令和 | AF40: 年 | AH40: 月 | AJ40: 日 | AL40: ： | AN40: ～
I41: 様 | AC41: 令和 | AF41: 年 | AH41: 月 | AJ41: 日 | AL41: ： | AN41: ～
I42: 様 | AC42: 令和 | AF42: 年 | AH42: 月 | AJ42: 日 | AL42: ： | AN42: ～
...

Sheet 20
A1: ソーシャルワーカー室 業務日誌 | AH1: C.O.O | AL1: I.O.O | AP1: Ａ.Ｏ.Ｍ
H3: =曜日!B12 -> 令和3年 | M3: =曜日!C12 -> 8月 | P3: 20日 | S3: （ | T3: =曜日!D8 -> 金 | U3: ） | W3: 作成者 | Z3: ：
A5: 労務 状況 | D5: 勤務状況 | K5: 西舘 翔子 | T5: 小屋敷 千瑛 | AC5: 大川 祥子 | AL5: 吉田 久美子
K6: 野添 京子
A7: 入退院 状況 | D7: 入院形態 | K7: 東病棟 | Q7: 西病棟 | W7: 北病棟 | AC7: 南病棟 | AI7: 合計 | AO7: 総数
K8: 男性 | N8: 女性 | Q8: 男性 | T8: 女性 | W8: 男性 | Z8: 女性 | AC8: 男性 | AF8: 女性 | AI8: 男性 | AL8: 女性
D9: 任意入院 | AI9: =K9+Q9+W9+AC9 -> 0 | AL9: =N9+T9+Z9+AF9 -> 0 | AO9: =AI13 -> 0
D10: 医療保護入院 | AI10: =K10+Q10+W10+AC10 -> 0 | AL10: =N10+T10+Z10+AF10 -> 0
D11: 措置入院 | AI11: =K11+Q11+W11+AC11 -> 0 | AL11: =N11+T11+Z11+AF11 -> 0
D12: 合計 | K12: =K9+K10+K11 -> 0 | N12: =N9+N10+N11 -> 0 | Q12: =Q9+Q10+Q11 -> 0 | T12: =SUM(T9:V11) -> 0 | W12: =SUM(W9:Y11) -> 0 | Z12: =SUM(Z9:AB11) -> 0 | AC12: =SUM(AC9:AE11) -> 0 | AF12: =SUM(AF9:AH11) -> 0 | AI12: =SUM(K12+Q12+W12+AC12) -> 0 | AL12: =SUM(N12+T12+Z12+AF12) -> 0 | AO12: 人
K13: =K12+N12 -> 0 | Q13: =Q12+T12 -> 0 | W13: =W12+Z12 -> 0 | AC13: =AC12+AF12 -> 0 | AI13: =AI12+AL12 -> 0
F14: 患者様氏名 | N14: 入院形態 | T14: 担当Dr | Y14: 担当SW | AD14: 病棟 | AJ14: 備考欄
D15: 入院 | L15: 様
L16: 様
L17: 様
L18: 様
L19: 様
D20: 退院 | L20: 様
L21: 様
L22: 様
L23: 様
L24: 様
D25: 転棟 ･ 入院形態変更 | L25: 様
L26: 様
L27: 様
L28: 様
L29: 様
A30: 患者様 関連 | D30: 患者様氏名 | K30: 担当Dr | P30: 病棟 | S30: 制限内容 | X30: 制限時間 | AC30: 開始日時 | AO30: 備考
I31: 様 | AC31: 令和 | AF31: 年 | AH31: 月 | AJ31: 日 | AL31: ： | AN31: ～
I32: 様 | AC32: 令和 | AF32: 年 | AH32: 月 | AJ32: 日 | AL32: ： | AN32: ～
I33: 様 | AC33: 令和 | AF33: 年 | AH33: 月 | AJ33: 日 | AL33: ： | AN33: ～
I34: 様 | AC34: 令和 | AF34: 年 | AH34: 月 | AJ34: 日 | AL34: ： | AN34: ～
I35: 様 | AC35: 令和 | AF35: 年 | AH35: 月 | AJ35: 日 | AL35: ： | AN35: ～
I36: 様 | AC36: 令和 | AF36: 年 | AH36: 月 | AJ36: 日 | AL36: ： | AN36: ～
I37: 様 | AC37: 令和 | AF37: 年 | AH37: 月 | AJ37: 日 | AL37: ： | AN37: ～
I38: 様 | AC38: 令和 | AF38: 年 | AH38: 月 | AJ38: 日 | AL38: ： | AN38: ～
I39: 様 | AC39: 令和 | AF39: 年 | AH39: 月 | AJ39: 日 | AL39: ： | AN39: ～
I40: 様 | AC40: 令和 | AF40: 年 | AH40: 月 | AJ40: 日 | AL40: ： | AN40: ～
I41: 様 | AC41: 令和 | AF41: 年 | AH41: 月 | AJ41: 日 | AL41: ： | AN41: ～
I42: 様 | AC42: 令和 | AF42: 年 | AH42: 月 | AJ42: 日 | AL42: ： | AN42: ～
...

Sheet 21
A1: ソーシャルワーカー室 業務日誌 | AH1: C.O.O | AL1: I.O.O | AP1: Ａ.Ｏ.Ｍ
H3: =曜日!B12 -> 令和3年 | M3: =曜日!C12 -> 8月 | P3: 21日 | S3: （ | T3: =曜日!D9 -> 土 | U3: ） | W3: 作成者 | Z3: ：
A5: 労務 状況 | D5: 勤務状況 | K5: 西舘 翔子 | T5: 小屋敷 千瑛 | AC5: 大川 祥子 | AL5: 吉田 久美子
K6: 野添 京子
A7: 入退院 状況 | D7: 入院形態 | K7: 東病棟 | Q7: 西病棟 | W7: 北病棟 | AC7: 南病棟 | AI7: 合計 | AO7: 総数
K8: 男性 | N8: 女性 | Q8: 男性 | T8: 女性 | W8: 男性 | Z8: 女性 | AC8: 男性 | AF8: 女性 | AI8: 男性 | AL8: 女性
D9: 任意入院 | AI9: =K9+Q9+W9+AC9 -> 0 | AL9: =N9+T9+Z9+AF9 -> 0 | AO9: =AI13 -> 0
D10: 医療保護入院 | AI10: =K10+Q10+W10+AC10 -> 0 | AL10: =N10+T10+Z10+AF10 -> 0
D11: 措置入院 | AI11: =K11+Q11+W11+AC11 -> 0 | AL11: =N11+T11+Z11+AF11 -> 0
D12: 合計 | K12: =K9+K10+K11 -> 0 | N12: =N9+N10+N11 -> 0 | Q12: =Q9+Q10+Q11 -> 0 | T12: =SUM(T9:V11) -> 0 | W12: =SUM(W9:Y11) -> 0 | Z12: =SUM(Z9:AB11) -> 0 | AC12: =SUM(AC9:AE11) -> 0 | AF12: =SUM(AF9:AH11) -> 0 | AI12: =SUM(K12+Q12+W12+AC12) -> 0 | AL12: =SUM(N12+T12+Z12+AF12) -> 0 | AO12: 人
K13: =K12+N12 -> 0 | Q13: =Q12+T12 -> 0 | W13: =W12+Z12 -> 0 | AC13: =AC12+AF12 -> 0 | AI13: =AI12+AL12 -> 0
F14: 患者様氏名 | N14: 入院形態 | T14: 担当Dr | Y14: 担当SW | AD14: 病棟 | AJ14: 備考欄
D15: 入院 | L15: 様
L16: 様
L17: 様
L18: 様
L19: 様
D20: 退院 | L20: 様
L21: 様
L22: 様
L23: 様
L24: 様
D25: 転棟 ･ 入院形態変更 | L25: 様
L26: 様
L27: 様
L28: 様
L29: 様
A30: 患者様 関連 | D30: 患者様氏名 | K30: 担当Dr | P30: 病棟 | S30: 制限内容 | X30: 制限時間 | AC30: 開始日時 | AO30: 備考
I31: 様 | AC31: 令和 | AF31: 年 | AH31: 月 | AJ31: 日 | AL31: ： | AN31: ～
I32: 様 | AC32: 令和 | AF32: 年 | AH32: 月 | AJ32: 日 | AL32: ： | AN32: ～
I33: 様 | AC33: 令和 | AF33: 年 | AH33: 月 | AJ33: 日 | AL33: ： | AN33: ～
I34: 様 | AC34: 令和 | AF34: 年 | AH34: 月 | AJ34: 日 | AL34: ： | AN34: ～
I35: 様 | AC35: 令和 | AF35: 年 | AH35: 月 | AJ35: 日 | AL35: ： | AN35: ～
I36: 様 | AC36: 令和 | AF36: 年 | AH36: 月 | AJ36: 日 | AL36: ： | AN36: ～
I37: 様 | AC37: 令和 | AF37: 年 | AH37: 月 | AJ37: 日 | AL37: ： | AN37: ～
I38: 様 | AC38: 令和 | AF38: 年 | AH38: 月 | AJ38: 日 | AL38: ： | AN38: ～
I39: 様 | AC39: 令和 | AF39: 年 | AH39: 月 | AJ39: 日 | AL39: ： | AN39: ～
I40: 様 | AC40: 令和 | AF40: 年 | AH40: 月 | AJ40: 日 | AL40: ： | AN40: ～
I41: 様 | AC41: 令和 | AF41: 年 | AH41: 月 | AJ41: 日 | AL41: ： | AN41: ～
I42: 様 | AC42: 令和 | AF42: 年 | AH42: 月 | AJ42: 日 | AL42: ： | AN42: ～
...

Sheet 22
A1: ソーシャルワーカー室 業務日誌 | AH1: C.O.O | AL1: I.O.O | AP1: Ａ.Ｏ.Ｍ
H3: =曜日!B12 -> 令和3年 | M3: =曜日!C12 -> 8月 | P3: 22日 | S3: （ | T3: =曜日!D3 -> 日 | U3: ） | W3: 作成者 | Z3: ：
A5: 労務 状況 | D5: 勤務状況 | K5: 西舘 翔子 | T5: 小屋敷 千瑛 | AC5: 大川 祥子 | AL5: 吉田 久美子
K6: 野添 京子
A7: 入退院 状況 | D7: 入院形態 | K7: 東病棟 | Q7: 西病棟 | W7: 北病棟 | AC7: 南病棟 | AI7: 合計 | AO7: 総数
K8: 男性 | N8: 女性 | Q8: 男性 | T8: 女性 | W8: 男性 | Z8: 女性 | AC8: 男性 | AF8: 女性 | AI8: 男性 | AL8: 女性
D9: 任意入院 | AI9: =K9+Q9+W9+AC9 -> 0 | AL9: =N9+T9+Z9+AF9 -> 0 | AO9: =AI13 -> 0
D10: 医療保護入院 | AI10: =K10+Q10+W10+AC10 -> 0 | AL10: =N10+T10+Z10+AF10 -> 0
D11: 措置入院 | AI11: =K11+Q11+W11+AC11 -> 0 | AL11: =N11+T11+Z11+AF11 -> 0
D12: 合計 | K12: =K9+K10+K11 -> 0 | N12: =N9+N10+N11 -> 0 | Q12: =Q9+Q10+Q11 -> 0 | T12: =SUM(T9:V11) -> 0 | W12: =SUM(W9:Y11) -> 0 | Z12: =SUM(Z9:AB11) -> 0 | AC12: =SUM(AC9:AE11) -> 0 | AF12: =SUM(AF9:AH11) -> 0 | AI12: =SUM(K12+Q12+W12+AC12) -> 0 | AL12: =SUM(N12+T12+Z12+AF12) -> 0 | AO12: 人
K13: =K12+N12 -> 0 | Q13: =Q12+T12 -> 0 | W13: =W12+Z12 -> 0 | AC13: =AC12+AF12 -> 0 | AI13: =AI12+AL12 -> 0
F14: 患者様氏名 | N14: 入院形態 | T14: 担当Dr | Y14: 担当SW | AD14: 病棟 | AJ14: 備考欄
D15: 入院 | L15: 様
L16: 様
L17: 様
L18: 様
L19: 様
D20: 退院 | L20: 様
L21: 様
L22: 様
L23: 様
L24: 様
D25: 転棟 ･ 入院形態変更 | L25: 様
L26: 様
L27: 様
L28: 様
L29: 様
A30: 患者様 関連 | D30: 患者様氏名 | K30: 担当Dr | P30: 病棟 | S30: 制限内容 | X30: 制限時間 | AC30: 開始日時 | AO30: 備考
I31: 様 | AC31: 令和 | AF31: 年 | AH31: 月 | AJ31: 日 | AL31: ： | AN31: ～
I32: 様 | AC32: 令和 | AF32: 年 | AH32: 月 | AJ32: 日 | AL32: ： | AN32: ～
I33: 様 | AC33: 令和 | AF33: 年 | AH33: 月 | AJ33: 日 | AL33: ： | AN33: ～
I34: 様 | AC34: 令和 | AF34: 年 | AH34: 月 | AJ34: 日 | AL34: ： | AN34: ～
I35: 様 | AC35: 令和 | AF35: 年 | AH35: 月 | AJ35: 日 | AL35: ： | AN35: ～
I36: 様 | AC36: 令和 | AF36: 年 | AH36: 月 | AJ36: 日 | AL36: ： | AN36: ～
I37: 様 | AC37: 令和 | AF37: 年 | AH37: 月 | AJ37: 日 | AL37: ： | AN37: ～
I38: 様 | AC38: 令和 | AF38: 年 | AH38: 月 | AJ38: 日 | AL38: ： | AN38: ～
I39: 様 | AC39: 令和 | AF39: 年 | AH39: 月 | AJ39: 日 | AL39: ： | AN39: ～
I40: 様 | AC40: 令和 | AF40: 年 | AH40: 月 | AJ40: 日 | AL40: ： | AN40: ～
I41: 様 | AC41: 令和 | AF41: 年 | AH41: 月 | AJ41: 日 | AL41: ： | AN41: ～
I42: 様 | AC42: 令和 | AF42: 年 | AH42: 月 | AJ42: 日 | AL42: ： | AN42: ～
...

Sheet 23
A1: ソーシャルワーカー室 業務日誌 | AH1: C.O.O | AL1: I.O.O | AP1: Ａ.Ｏ.Ｍ
H3: =曜日!B12 -> 令和3年 | M3: =曜日!C12 -> 8月 | P3: 23日 | S3: （ | T3: =曜日!D4 -> 月 | U3: ） | W3: 作成者 | Z3: ：
A5: 労務 状況 | D5: 勤務状況 | K5: 西舘 翔子 | T5: 小屋敷 千瑛 | AC5: 大川 祥子 | AL5: 吉田 久美子
K6: 野添 京子
A7: 入退院 状況 | D7: 入院形態 | K7: 東病棟 | Q7: 西病棟 | W7: 北病棟 | AC7: 南病棟 | AI7: 合計 | AO7: 総数
K8: 男性 | N8: 女性 | Q8: 男性 | T8: 女性 | W8: 男性 | Z8: 女性 | AC8: 男性 | AF8: 女性 | AI8: 男性 | AL8: 女性
D9: 任意入院 | AI9: =K9+Q9+W9+AC9 -> 0 | AL9: =N9+T9+Z9+AF9 -> 0 | AO9: =AI13 -> 0
D10: 医療保護入院 | AI10: =K10+Q10+W10+AC10 -> 0 | AL10: =N10+T10+Z10+AF10 -> 0
D11: 措置入院 | AI11: =K11+Q11+W11+AC11 -> 0 | AL11: =N11+T11+Z11+AF11 -> 0
D12: 合計 | K12: =K9+K10+K11 -> 0 | N12: =N9+N10+N11 -> 0 | Q12: =Q9+Q10+Q11 -> 0 | T12: =SUM(T9:V11) -> 0 | W12: =SUM(W9:Y11) -> 0 | Z12: =SUM(Z9:AB11) -> 0 | AC12: =SUM(AC9:AE11) -> 0 | AF12: =SUM(AF9:AH11) -> 0 | AI12: =SUM(K12+Q12+W12+AC12) -> 0 | AL12: =SUM(N12+T12+Z12+AF12) -> 0 | AO12: 人
K13: =K12+N12 -> 0 | Q13: =Q12+T12 -> 0 | W13: =W12+Z12 -> 0 | AC13: =AC12+AF12 -> 0 | AI13: =AI12+AL12 -> 0
F14: 患者様氏名 | N14: 入院形態 | T14: 担当Dr | Y14: 担当SW | AD14: 病棟 | AJ14: 備考欄
D15: 入院 | L15: 様
L16: 様
L17: 様
L18: 様
L19: 様
D20: 退院 | L20: 様
L21: 様
L22: 様
L23: 様
L24: 様
D25: 転棟 ･ 入院形態変更 | L25: 様
L26: 様
L27: 様
L28: 様
L29: 様
A30: 患者様 関連 | D30: 患者様氏名 | K30: 担当Dr | P30: 病棟 | S30: 制限内容 | X30: 制限時間 | AC30: 開始日時 | AO30: 備考
I31: 様 | AC31: 令和 | AF31: 年 | AH31: 月 | AJ31: 日 | AL31: ： | AN31: ～
I32: 様 | AC32: 令和 | AF32: 年 | AH32: 月 | AJ32: 日 | AL32: ： | AN32: ～
I33: 様 | AC33: 令和 | AF33: 年 | AH33: 月 | AJ33: 日 | AL33: ： | AN33: ～
I34: 様 | AC34: 令和 | AF34: 年 | AH34: 月 | AJ34: 日 | AL34: ： | AN34: ～
I35: 様 | AC35: 令和 | AF35: 年 | AH35: 月 | AJ35: 日 | AL35: ： | AN35: ～
I36: 様 | AC36: 令和 | AF36: 年 | AH36: 月 | AJ36: 日 | AL36: ： | AN36: ～
I37: 様 | AC37: 令和 | AF37: 年 | AH37: 月 | AJ37: 日 | AL37: ： | AN37: ～
I38: 様 | AC38: 令和 | AF38: 年 | AH38: 月 | AJ38: 日 | AL38: ： | AN38: ～
I39: 様 | AC39: 令和 | AF39: 年 | AH39: 月 | AJ39: 日 | AL39: ： | AN39: ～
I40: 様 | AC40: 令和 | AF40: 年 | AH40: 月 | AJ40: 日 | AL40: ： | AN40: ～
I41: 様 | AC41: 令和 | AF41: 年 | AH41: 月 | AJ41: 日 | AL41: ： | AN41: ～
I42: 様 | AC42: 令和 | AF42: 年 | AH42: 月 | AJ42: 日 | AL42: ： | AN42: ～
...

Sheet 24
A1: ソーシャルワーカー室 業務日誌 | AH1: C.O.O | AL1: I.O.O | AP1: Ａ.Ｏ.Ｍ
H3: =曜日!B12 -> 令和3年 | M3: =曜日!C12 -> 8月 | P3: 24日 | S3: （ | T3: =曜日!D5 -> 火 | U3: ） | W3: 作成者 | Z3: ：
A5: 労務 状況 | D5: 勤務状況 | K5: 西舘 翔子 | T5: 小屋敷 千瑛 | AC5: 大川 祥子 | AL5: 吉田 久美子
K6: 野添 京子
A7: 入退院 状況 | D7: 入院形態 | K7: 東病棟 | Q7: 西病棟 | W7: 北病棟 | AC7: 南病棟 | AI7: 合計 | AO7: 総数
K8: 男性 | N8: 女性 | Q8: 男性 | T8: 女性 | W8: 男性 | Z8: 女性 | AC8: 男性 | AF8: 女性 | AI8: 男性 | AL8: 女性
D9: 任意入院 | AI9: =K9+Q9+W9+AC9 -> 0 | AL9: =N9+T9+Z9+AF9 -> 0 | AO9: =AI13 -> 0
D10: 医療保護入院 | AI10: =K10+Q10+W10+AC10 -> 0 | AL10: =N10+T10+Z10+AF10 -> 0
D11: 措置入院 | AI11: =K11+Q11+W11+AC11 -> 0 | AL11: =N11+T11+Z11+AF11 -> 0
D12: 合計 | K12: =K9+K10+K11 -> 0 | N12: =N9+N10+N11 -> 0 | Q12: =Q9+Q10+Q11 -> 0 | T12: =SUM(T9:V11) -> 0 | W12: =SUM(W9:Y11) -> 0 | Z12: =SUM(Z9:AB11) -> 0 | AC12: =SUM(AC9:AE11) -> 0 | AF12: =SUM(AF9:AH11) -> 0 | AI12: =SUM(K12+Q12+W12+AC12) -> 0 | AL12: =SUM(N12+T12+Z12+AF12) -> 0 | AO12: 人
K13: =K12+N12 -> 0 | Q13: =Q12+T12 -> 0 | W13: =W12+Z12 -> 0 | AC13: =AC12+AF12 -> 0 | AI13: =AI12+AL12 -> 0
F14: 患者様氏名 | N14: 入院形態 | T14: 担当Dr | Y14: 担当SW | AD14: 病棟 | AJ14: 備考欄
D15: 入院 | L15: 様
L16: 様
L17: 様
L18: 様
L19: 様
D20: 退院 | L20: 様
L21: 様
L22: 様
L23: 様
L24: 様
D25: 転棟 ･ 入院形態変更 | L25: 様
L26: 様
L27: 様
L28: 様
L29: 様
A30: 患者様 関連 | D30: 患者様氏名 | K30: 担当Dr | P30: 病棟 | S30: 制限内容 | X30: 制限時間 | AC30: 開始日時 | AO30: 備考
