Workbook

Sheet 1
A1: ソーシャルワーカー室 業務日誌 | AH1: C.O.O | AL1: I.O.O | AP1: Ａ.Ｏ.Ｍ
H3: =曜日!B12 -> 令和3年 | M3: =曜日!C12 -> 8月 | P3: 1日 | S3: （ | T3: =曜日!D3 -> 日 | U3: ） | W3: 作成者 | Z3: ： | AA3: 西舘 翔子
A5: 労務 状況 | D5: 勤務状況 | K5: 西舘 翔子 | P5: 公休 | T5: 小屋敷 千瑛 | Y5: 公休 | AC5: 大川 祥子 | AH5: 公休 | AL5: 吉田 久美子 | AP5: 公休
K6: 野添 京子 | P6: 公休
A7: 入退院 状況 | D7: 入院形態 | K7: 東病棟 | Q7: 西病棟 | W7: 北病棟 | AC7: 南病棟 | AI7: 合計 | AO7: 総数
K8: 男性 | N8: 女性 | Q8: 男性 | T8: 女性 | W8: 男性 | Z8: 女性 | AC8: 男性 | AF8: 女性 | AI8: 男性 | AL8: 女性
D9: 任意入院 | K9: 5 | N9: 4 | Q9: 0 | T9: 11 | W9: 22 | Z9: 13 | AC9: 0 | AF9: 3 | AI9: =K9+Q9+W9+AC9 -> 27 | AL9: =N9+T9+Z9+AF9 -> 31 | AO9: =AI13 -> 193
D10: 医療保護入院 | K10: 22 | N10: 20 | Q10: 15 | T10: 20 | W10: 0 | Z10: 0 | AC10: 23 | AF10: 34 | AI10: =K10+Q10+W10+AC10 -> 60 | AL10: =N10+T10+Z10+AF10 -> 74
D11: 措置入院 | K11: 1 | N11: 0 | Q11: 0 | T11: 0 | W11: 0 | Z11: 0 | AC11: 0 | AF11: 0 | AI11: =K11+Q11+W11+AC11 -> 1 | AL11: =N11+T11+Z11+AF11 -> 0
D12: 合計 | K12: =K9+K10+K11 -> 28 | N12: =N9+N10+N11 -> 24 | Q12: =Q9+Q10+Q11 -> 15 | T12: =SUM(T9:V11) -> 31 | W12: =SUM(W9:Y11) -> 22 | Z12: =SUM(Z9:AB11) -> 13 | AC12: =SUM(AC9:AE11) -> 23 | AF12: =SUM(AF9:AH11) -> 37 | AI12: =SUM(K12+Q12+W12+AC12) -> 88 | AL12: =SUM(N12+T12+Z12+AF12) -> 105 | AO12: 人
K13: =K12+N12 -> 52 | Q13: =Q12+T12 -> 46 | W13: =W12+Z12 -> 35 | AC13: =AC12+AF12 -> 60 | AI13: =AI12+AL12 -> 193
F14: 患者様氏名 | N14: 入院形態 | T14: 担当Dr | Y14: 担当SW | AD14: 病棟 | AJ14: 備考欄
D15: 入院 | L15: 様
L16: 様
L17: 様
L18: 様
L19: 様
D20: 退院 | L20: 様
L21: 様
L22: 様
L23: 様
L24: 様
D25: 転棟 ･ 入院形態変更 | L25: 様
L26: 様
L27: 様
L28: 様
L29: 様
A30: 患者様 関連 | D30: 患者様氏名 | K30: 担当Dr | P30: 病棟 | S30: 制限内容 | X30: 制限時間 | AC30: 開始日時 | AO30: 備考
D31: 宮崎 宏之 | I31: 様 | K31: 馬渡晃弘Dr | P31: 東A | S31: 終日隔離 | X31: 終日隔離 | AC31: 令和 | AE31: 2 | AF31: 年 | AG31: 5 | AH31: 月 | AI31: 23 | AJ31: 日 | AL31: ： | AN31: ～
D32: 飯田 修子 | I32: 様 | K32: 深澤隆Dr | P32: 東A | S32: 終日隔離 | X32: 終日隔離 | AC32: 令和 | AE32: 3 | AF32: 年 | AG32: 7 | AH32: 月 | AI32: 23 | AJ32: 日 | AL32: ： | AN32: ～
D33: 谷地 寿梨 | I33: 様 | K33: 田名部茂Dr | P33: 東A | S33: 時間隔離 | X33: 時間隔離 | AC33: 令和 | AE33: 3 | AF33: 年 | AG33: 7 | AH33: 月 | AI33: 24 | AJ33: 日 | AL33: ： | AN33: ～
D34: 田端 香織 | I34: 様 | K34: 田名部茂Dr | P34: 東A | S34: 終日隔離 | X34: 終日隔離 | AC34: 令和 | AE34: 3 | AF34: 年 | AG34: 7 | AH34: 月 | AI34: 29 | AJ34: 日 | AL34: ： | AN34: ～
D35: 中村 聡 | I35: 様 | K35: 金泰徳Dr | P35: 東B | S35: 通信制限 | X35: 通信制限 | AC35: 令和 | AE35: 3 | AF35: 年 | AG35: 5 | AH35: 月 | AI35: 31 | AJ35: 日 | AL35: ： | AN35: ～
I36: 様 | AC36: 令和 | AF36: 年 | AH36: 月 | AJ36: 日 | AL36: ： | AN36: ～
I37: 様 | AC37: 令和 | AF37: 年 | AH37: 月 | AJ37: 日 | AL37: ： | AN37: ～
I38: 様 | AC38: 令和 | AF38: 年 | AH38: 月 | AJ38: 日 | AL38: ： | AN38: ～
I39: 様 | AC39: 令和 | AF39: 年 | AH39: 月 | AJ39: 日 | AL39: ： | AN39: ～
I40: 様 | AC40: 令和 | AF40: 年 | AH40: 月 | AJ40: 日 | AL40: ： | AN40: ～
I41: 様 | AC41: 令和 | AF41: 年 | AH41: 月 | AJ41: 日 | AL41: ： | AN41: ～
I42: 様 | AC42: 令和 | AF42: 年 | AH42: 月 | AJ42: 日 | AL42: ： | AN42: ～
I43: 様 | AC43: 令和 | AF43: 年 | AH43: 月 | AJ43: 日 | AL43: ： | AN43: ～
I44: 様 | AC44: 令和 | AF44: 年 | AH44: 月 | AJ44: 日 | AL44: ： | AN44: ～
I45: 様 | AC45: 令和 | AF45: 年 | AH45: 月 | AJ45: 日 | AL45: ： | AN45: ～
A46: 業務 内容 | D46: 項目 | J46: 患者様氏名 | P46: 担当 | S46: 備考 | Y46: 項目 | AA46: 患者様氏名 | AG46: 内容 | AQ46: 担当
D47: 外 来 患 者 対 応 | F47: 外来患者 対応 | O47: 様 | Y47: 書 類 作 成 完 了 | AF47: 様
O48: 様 | AF48: 様
O49: 様 | AF49: 様
O50: 様 | AF50: 様
O51: 様 | AF51: 様
O52: 様 | AF52: 様
O53: 様 | AF53: 様
D54: 項目 | J54: 患者様氏名 | P54: 担当 | S54: 備考 | AF54: 様
D55: 入 退 院 支 援 | F55: 退院支援 | O55: 様 | AF55: 様
O56: 様 | AF56: 様
O57: 様 | Y57: 項目 | AG57: 件数 | AJ57: 担当 | AM57: 備考
O58: 様 | Y58: 電話対応 | AI58: 件
O59: 様 | Y59: 保健所への届出 | AI59: 件
F60: 退院請求 対応 | O60: 様 | Y60: 項目 | AG60: 内容
O61: 様 | Y61: 通院医療 観察法
F62: 入院患者 対応 | J62: 担当 | M62: 件数 | P62: 備考
O63: 件 | Y63: 認知症疾患 医療ｾﾝﾀｰ
O64: 件
O65: 件 | Y65: 各種会議参加 外部の業務
O66: 件
A67: 安全管理 | D67: 事故 | S67: 物品 購入 | AE67: 連絡 事項
D68: 苦情
D69: 紛失
D70: 他

Sheet 2
A1: ソーシャルワーカー室 業務日誌 | AH1: C.O.O | AL1: I.O.O | AP1: Ａ.Ｏ.Ｍ
H3: =曜日!B12 -> 令和3年 | M3: =曜日!C12 -> 8月 | P3: 2日 | S3: （ | T3: =曜日!D4 -> 月 | U3: ） | W3: 作成者 | Z3: ： | AA3: 西舘 翔子
A5: 労務 状況 | D5: 勤務状況 | K5: 西舘 翔子 | P5: 日勤 | T5: 小屋敷 千瑛 | Y5: 公休 | AC5: 大川 祥子 | AH5: 日勤 | AL5: 吉田 久美子 | AP5: 日勤
K6: 野添 京子 | P6: 日勤
A7: 入退院 状況 | D7: 入院形態 | K7: 東病棟 | Q7: 西病棟 | W7: 北病棟 | AC7: 南病棟 | AI7: 合計 | AO7: 総数
K8: 男性 | N8: 女性 | Q8: 男性 | T8: 女性 | W8: 男性 | Z8: 女性 | AC8: 男性 | AF8: 女性 | AI8: 男性 | AL8: 女性
D9: 任意入院 | K9: 5 | N9: 4 | Q9: 0 | T9: 10 | W9: 22 | Z9: 13 | AC9: 0 | AF9: 3 | AI9: =K9+Q9+W9+AC9 -> 27 | AL9: =N9+T9+Z9+AF9 -> 30 | AO9: =AI13 -> 192
D10: 医療保護入院 | K10: 22 | N10: 20 | Q10: 15 | T10: 20 | W10: 0 | Z10: 0 | AC10: 23 | AF10: 34 | AI10: =K10+Q10+W10+AC10 -> 60 | AL10: =N10+T10+Z10+AF10 -> 74
D11: 措置入院 | K11: 1 | N11: 0 | Q11: 0 | T11: 0 | W11: 0 | Z11: 0 | AC11: 0 | AF11: 0 | AI11: =K11+Q11+W11+AC11 -> 1 | AL11: =N11+T11+Z11+AF11 -> 0
D12: 合計 | K12: =K9+K10+K11 -> 28 | N12: =N9+N10+N11 -> 24 | Q12: =Q9+Q10+Q11 -> 15 | T12: =SUM(T9:V11) -> 30 | W12: =SUM(W9:Y11) -> 22 | Z12: =SUM(Z9:AB11) -> 13 | AC12: =SUM(AC9:AE11) -> 23 | AF12: =SUM(AF9:AH11) -> 37 | AI12: =SUM(K12+Q12+W12+AC12) -> 88 | AL12: =SUM(N12+T12+Z12+AF12) -> 104 | AO12: 人
K13: =K12+N12 -> 52 | Q13: =Q12+T12 -> 45 | W13: =W12+Z12 -> 35 | AC13: =AC12+AF12 -> 60 | AI13: =AI12+AL12 -> 192
F14: 患者様氏名 | N14: 入院形態 | T14: 担当Dr | Y14: 担当SW | AD14: 病棟 | AJ14: 備考欄
D15: 入院 | L15: 様
L16: 様
L17: 様
L18: 様
L19: 様
D20: 退院 | F20: 坂本 のり子 | L20: 様 | N20: 任意入院 | T20: 安ヶ平忠也Dr | Y20: 小屋敷 千瑛 | AD20: 北
L21: 様
L22: 様
L23: 様
L24: 様
D25: 転棟 ･ 入院形態変更 | F25: 清水 志野 | L25: 様 | N25: 任意入院 | T25: 田名部茂Dr | Y25: 西舘 翔子 | AD25: 西B→北
L26: 様
L27: 様
L28: 様
L29: 様
A30: 患者様 関連 | D30: 患者様氏名 | K30: 担当Dr | P30: 病棟 | S30: 制限内容 | X30: 制限時間 | AC30: 開始日時 | AO30: 備考
D31: 宮崎 宏之 | I31: 様 | K31: 馬渡晃弘Dr | P31: 東A | S31: 終日隔離 | X31: 終日隔離 | AC31: 令和 | AE31: 2 | AF31: 年 | AG31: 5 | AH31: 月 | AI31: 23 | AJ31: 日 | AL31: ： | AN31: ～
D32: 飯田 修子 | I32: 様 | K32: 深澤隆Dr | P32: 東A | S32: 終日隔離 | X32: 終日隔離 | AC32: 令和 | AE32: 3 | AF32: 年 | AG32: 7 | AH32: 月 | AI32: 23 | AJ32: 日 | AL32: ： | AN32: ～
D33: 谷地 寿梨 | I33: 様 | K33: 田名部茂Dr | P33: 東A | S33: 時間隔離 | X33: 時間隔離 | AC33: 令和 | AE33: 3 | AF33: 年 | AG33: 7 | AH33: 月 | AI33: 24 | AJ33: 日 | AL33: ： | AN33: ～
D34: 田端 香織 | I34: 様 | K34: 田名部茂Dr | P34: 東A | S34: 終日隔離 | X34: 終日隔離 | AC34: 令和 | AE34: 3 | AF34: 年 | AG34: 7 | AH34: 月 | AI34: 29 | AJ34: 日 | AL34: ： | AN34: ～
D35: 中村 聡 | I35: 様 | K35: 金泰徳Dr | P35: 東B | S35: 通信制限 | X35: 通信制限 | AC35: 令和 | AE35: 3 | AF35: 年 | AG35: 5 | AH35: 月 | AI35: 31 | AJ35: 日 | AL35: ： | AN35: ～
I36: 様 | AC36: 令和 | AF36: 年 | AH36: 月 | AJ36: 日 | AL36: ： | AN36: ～
I37: 様 | AC37: 令和 | AF37: 年 | AH37: 月 | AJ37: 日 | AL37: ： | AN37: ～
I38: 様 | AC38: 令和 | AF38: 年 | AH38: 月 | AJ38: 日 | AL38: ： | AN38: ～
I39: 様 | AC39: 令和 | AF39: 年 | AH39: 月 | AJ39: 日 | AL39: ： | AN39: ～
I40: 様 | AC40: 令和 | AF40: 年 | AH40: 月 | AJ40: 日 | AL40: ： | AN40: ～
I41: 様 | AC41: 令和 | AF41: 年 | AH41: 月 | AJ41: 日 | AL41: ： | AN41: ～
I42: 様 | AC42: 令和 | AF42: 年 | AH42: 月 | AJ42: 日 | AL42: ： | AN42: ～
I43: 様 | AC43: 令和 | AF43: 年 | AH43: 月 | AJ43: 日 | AL43: ： | AN43: ～
I44: 様 | AC44: 令和 | AF44: 年 | AH44: 月 | AJ44: 日 | AL44: ： | AN44: ～
I45: 様 | AC45: 令和 | AF45: 年 | AH45: 月 | AJ45: 日 | AL45: ： | AN45: ～
A46: 業務 内容 | D46: 項目 | J46: 患者様氏名 | P46: 担当 | S46: 備考 | Y46: 項目 | AA46: 患者様氏名 | AG46: 内容 | AQ46: 担当
D47: 外 来 患 者 対 応 | F47: 外来患者 対応 | O47: 様 | Y47: 書 類 作 成 完 了 | AF47: 様
O48: 様 | AF48: 様
O49: 様 | AF49: 様
O50: 様 | AF50: 様
O51: 様 | AF51: 様
O52: 様 | AF52: 様
O53: 様 | AF53: 様
D54: 項目 | J54: 患者様氏名 | P54: 担当 | S54: 備考 | AF54: 様
D55: 入 退 院 支 援 | F55: 退院支援 | O55: 様 | AF55: 様
O56: 様 | AF56: 様
O57: 様 | Y57: 項目 | AG57: 件数 | AJ57: 担当 | AM57: 備考
O58: 様 | Y58: 電話対応 | AI58: 件
O59: 様 | Y59: 保健所への届出 | AI59: 件
F60: 退院請求 対応 | O60: 様 | Y60: 項目 | AG60: 内容
O61: 様 | Y61: 通院医療 観察法
F62: 入院患者 対応 | J62: 担当 | M62: 件数 | P62: 備考
O63: 件 | Y63: 認知症疾患 医療ｾﾝﾀｰ
O64: 件
O65: 件 | Y65: 各種会議参加 外部の業務
O66: 件
A67: 安全管理 | D67: 事故 | S67: 物品 購入 | AE67: 連絡 事項
D68: 苦情
D69: 紛失
D70: 他

Sheet 3
A1: ソーシャルワーカー室 業務日誌 | AH1: C.O.O | AL1: I.O.O | AP1: Ａ.Ｏ.Ｍ
H3: =曜日!B12 -> 令和3年 | M3: =曜日!C12 -> 8月 | P3: 3日 | S3: （ | T3: =曜日!D5 -> 火 | U3: ） | W3: 作成者 | Z3: ： | AA3: 西舘 翔子
A5: 労務 状況 | D5: 勤務状況 | K5: 西舘 翔子 | P5: 日勤 | T5: 小屋敷 千瑛 | Y5: 日勤 | AC5: 大川 祥子 | AH5: 日勤 | AL5: 吉田 久美子 | AP5: 日勤
K6: 野添 京子 | P6: 日勤
A7: 入退院 状況 | D7: 入院形態 | K7: 東病棟 | Q7: 西病棟 | W7: 北病棟 | AC7: 南病棟 | AI7: 合計 | AO7: 総数
K8: 男性 | N8: 女性 | Q8: 男性 | T8: 女性 | W8: 男性 | Z8: 女性 | AC8: 男性 | AF8: 女性 | AI8: 男性 | AL8: 女性
D9: 任意入院 | K9: 5 | N9: 4 | Q9: 0 | T9: 10 | W9: 22 | Z9: 13 | AC9: 0 | AF9: 3 | AI9: =K9+Q9+W9+AC9 -> 27 | AL9: =N9+T9+Z9+AF9 -> 30 | AO9: =AI13 -> 192
D10: 医療保護入院 | K10: 21 | N10: 21 | Q10: 16 | T10: 19 | W10: 0 | Z10: 0 | AC10: 23 | AF10: 34 | AI10: =K10+Q10+W10+AC10 -> 60 | AL10: =N10+T10+Z10+AF10 -> 74
D11: 措置入院 | K11: 1 | N11: 0 | Q11: 0 | T11: 0 | W11: 0 | Z11: 0 | AC11: 0 | AF11: 0 | AI11: =K11+Q11+W11+AC11 -> 1 | AL11: =N11+T11+Z11+AF11 -> 0
D12: 合計 | K12: =K9+K10+K11 -> 27 | N12: =N9+N10+N11 -> 25 | Q12: =Q9+Q10+Q11 -> 16 | T12: =SUM(T9:V11) -> 29 | W12: =SUM(W9:Y11) -> 22 | Z12: =SUM(Z9:AB11) -> 13 | AC12: =SUM(AC9:AE11) -> 23 | AF12: =SUM(AF9:AH11) -> 37 | AI12: =SUM(K12+Q12+W12+AC12) -> 88 | AL12: =SUM(N12+T12+Z12+AF12) -> 104 | AO12: 人
K13: =K12+N12 -> 52 | Q13: =Q12+T12 -> 45 | W13: =W12+Z12 -> 35 | AC13: =AC12+AF12 -> 60 | AI13: =AI12+AL12 -> 192
F14: 患者様氏名 | N14: 入院形態 | T14: 担当Dr | Y14: 担当SW | AD14: 病棟 | AJ14: 備考欄
D15: 入院 | L15: 様
L16: 様
L17: 様
L18: 様
L19: 様
D20: 退院 | L20: 様
L21: 様
L22: 様
L23: 様
L24: 様
D25: 転棟 ･ 入院形態変更 | F25: 中居 松男 | L25: 様 | N25: 医療保護入院 | T25: 安ヶ平忠也Dr | Y25: 小屋敷 千瑛 | AD25: 東C→西B
F26: 中山 真由美 | L26: 様 | N26: 医療保護入院 | T26: 深澤隆Dr | Y26: 西舘 翔子 | AD26: 西B→東C
L27: 様
L28: 様
L29: 様
A30: 患者様 関連 | D30: 患者様氏名 | K30: 担当Dr | P30: 病棟 | S30: 制限内容 | X30: 制限時間 | AC30: 開始日時 | AO30: 備考
D31: 宮崎 宏之 | I31: 様 | K31: 馬渡晃弘Dr | P31: 東A | S31: 終日隔離 | X31: 終日隔離 | AC31: 令和 | AE31: 2 | AF31: 年 | AG31: 5 | AH31: 月 | AI31: 23 | AJ31: 日 | AL31: ： | AN31: ～
D32: 飯田 修子 | I32: 様 | K32: 深澤隆Dr | P32: 東A | S32: 終日隔離 | X32: 終日隔離 | AC32: 令和 | AE32: 3 | AF32: 年 | AG32: 7 | AH32: 月 | AI32: 23 | AJ32: 日 | AL32: ： | AN32: ～
D33: 谷地 寿梨 | I33: 様 | K33: 田名部茂Dr | P33: 東A | S33: 時間隔離 | X33: 時間隔離 | AC33: 令和 | AE33: 3 | AF33: 年 | AG33: 7 | AH33: 月 | AI33: 24 | AJ33: 日 | AL33: ： | AN33: ～ | AO33: 終了
D34: 田端 香織 | I34: 様 | K34: 田名部茂Dr | P34: 東A | S34: 終日隔離 | X34: 終日隔離 | AC34: 令和 | AE34: 3 | AF34: 年 | AG34: 7 | AH34: 月 | AI34: 29 | AJ34: 日 | AL34: ： | AN34: ～
D35: 中村 聡 | I35: 様 | K35: 金泰徳Dr | P35: 東B | S35: 通信制限 | X35: 通信制限 | AC35: 令和 | AE35: 3 | AF35: 年 | AG35: 5 | AH35: 月 | AI35: 31 | AJ35: 日 | AL35: ： | AN35: ～
I36: 様 | AC36: 令和 | AF36: 年 | AH36: 月 | AJ36: 日 | AL36: ： | AN36: ～
I37: 様 | AC37: 令和 | AF37: 年 | AH37: 月 | AJ37: 日 | AL37: ： | AN37: ～
I38: 様 | AC38: 令和 | AF38: 年 | AH38: 月 | AJ38: 日 | AL38: ： | AN38: ～
I39: 様 | AC39: 令和 | AF39: 年 | AH39: 月 | AJ39: 日 | AL39: ： | AN39: ～
I40: 様 | AC40: 令和 | AF40: 年 | AH40: 月 | AJ40: 日 | AL40: ： | AN40: ～
I41: 様 | AC41: 令和 | AF41: 年 | AH41: 月 | AJ41: 日 | AL41: ： | AN41: ～
I42: 様 | AC42: 令和 | AF42: 年 | AH42: 月 | AJ42: 日 | AL42: ： | AN42: ～
I43: 様 | AC43: 令和 | AF43: 年 | AH43: 月 | AJ43: 日 | AL43: ： | AN43: ～
I44: 様 | AC44: 令和 | AF44: 年 | AH44: 月 | AJ44: 日 | AL44: ： | AN44: ～
I45: 様 | AC45: 令和 | AF45: 年 | AH45: 月 | AJ45: 日 | AL45: ： | AN45: ～
A46: 業務 内容 | D46: 項目 | J46: 患者様氏名 | P46: 担当 | S46: 備考 | Y46: 項目 | AA46: 患者様氏名 | AG46: 内容 | AQ46: 担当
D47: 外 来 患 者 対 応 | F47: 外来患者 対応 | O47: 様 | Y47: 書 類 作 成 完 了 | AF47: 様
O48: 様 | AF48: 様
O49: 様 | AF49: 様
O50: 様 | AF50: 様
O51: 様 | AF51: 様
O52: 様 | AF52: 様
O53: 様 | AF53: 様
D54: 項目 | J54: 患者様氏名 | P54: 担当 | S54: 備考 | AF54: 様
D55: 入 退 院 支 援 | F55: 退院支援 | O55: 様 | AF55: 様
O56: 様 | AF56: 様
O57: 様 | Y57: 項目 | AG57: 件数 | AJ57: 担当 | AM57: 備考
O58: 様 | Y58: 電話対応 | AI58: 件
O59: 様 | Y59: 保健所への届出 | AI59: 件
F60: 退院請求 対応 | O60: 様 | Y60: 項目 | AG60: 内容
O61: 様 | Y61: 通院医療 観察法
F62: 入院患者 対応 | J62: 担当 | M62: 件数 | P62: 備考
O63: 件 | Y63: 認知症疾患 医療ｾﾝﾀｰ
O64: 件
O65: 件 | Y65: 各種会議参加 外部の業務
O66: 件
A67: 安全管理 | D67: 事故 | S67: 物品 購入 | AE67: 連絡 事項
D68: 苦情
D69: 紛失
D70: 他

Sheet 4
A1: ソーシャルワーカー室 業務日誌 | AH1: C.O.O | AL1: I.O.O | AP1: Ａ.Ｏ.Ｍ
H3: =曜日!B12 -> 令和3年 | M3: =曜日!C12 -> 8月 | P3: 4日 | S3: （ | T3: =曜日!D6 -> 水 | U3: ） | W3: 作成者 | Z3: ： | AA3: 西舘 翔子
A5: 労務 状況 | D5: 勤務状況 | K5: 西舘 翔子 | P5: 日勤 | T5: 小屋敷 千瑛 | Y5: 日勤 | AC5: 大川 祥子 | AH5: 日勤 | AL5: 吉田 久美子 | AP5: 日勤
K6: 野添 京子 | P6: 公休
A7: 入退院 状況 | D7: 入院形態 | K7: 東病棟 | Q7: 西病棟 | W7: 北病棟 | AC7: 南病棟 | AI7: 合計 | AO7: 総数
K8: 男性 | N8: 女性 | Q8: 男性 | T8: 女性 | W8: 男性 | Z8: 女性 | AC8: 男性 | AF8: 女性 | AI8: 男性 | AL8: 女性
D9: 任意入院 | K9: 6 | N9: 4 | Q9: 0 | T9: 10 | W9: 21 | Z9: 14 | AC9: 0 | AF9: 3 | AI9: =K9+Q9+W9+AC9 -> 27 | AL9: =N9+T9+Z9+AF9 -> 31 | AO9: =AI13 -> 191
D10: 医療保護入院 | K10: 21 | N10: 19 | Q10: 16 | T10: 19 | W10: 0 | Z10: 0 | AC10: 23 | AF10: 34 | AI10: =K10+Q10+W10+AC10 -> 60 | AL10: =N10+T10+Z10+AF10 -> 72
D11: 措置入院 | K11: 1 | N11: 0 | Q11: 0 | T11: 0 | W11: 0 | Z11: 0 | AC11: 0 | AF11: 0 | AI11: =K11+Q11+W11+AC11 -> 1 | AL11: =N11+T11+Z11+AF11 -> 0
D12: 合計 | K12: =K9+K10+K11 -> 28 | N12: =N9+N10+N11 -> 23 | Q12: =Q9+Q10+Q11 -> 16 | T12: =SUM(T9:V11) -> 29 | W12: =SUM(W9:Y11) -> 21 | Z12: =SUM(Z9:AB11) -> 14 | AC12: =SUM(AC9:AE11) -> 23 | AF12: =SUM(AF9:AH11) -> 37 | AI12: =SUM(K12+Q12+W12+AC12) -> 88 | AL12: =SUM(N12+T12+Z12+AF12) -> 103 | AO12: 人
K13: =K12+N12 -> 51 | Q13: =Q12+T12 -> 45 | W13: =W12+Z12 -> 35 | AC13: =AC12+AF12 -> 60 | AI13: =AI12+AL12 -> 191
F14: 患者様氏名 | N14: 入院形態 | T14: 担当Dr | Y14: 担当SW | AD14: 病棟 | AJ14: 備考欄
D15: 入院 | L15: 様
L16: 様
L17: 様
L18: 様
L19: 様
D20: 退院 | F20: 玉懸 のぶ | L20: 様 | N20: 医療保護入院 | T20: 深澤隆Dr | Y20: 大川 祥子 | AD20: 南B
L21: 様
L22: 様
L23: 様
L24: 様
D25: 転棟 ･ 入院形態変更 | F25: 乗上 惺子 | L25: 様 | N25: 医療保護入院 | T25: 馬渡晃弘Dr | Y25: 大川 祥子 | AD25: 東B→南B
F26: 類家 つさ | L26: 様 | N26: 医療保護入院 | T26: 田名部茂Dr | Y26: 西舘 翔子 | AD26: 東D→西B
F27: 久保 興介 | L27: 様 | N27: 任意入院 | T27: 田名部茂Dr | Y27: 小屋敷 千瑛 | AD27: 北→東A
F28: 三浦 綾子 | L28: 様 | N28: 医療保護入院 | T28: 田名部茂Dr | Y28: 小屋敷 千瑛 | AD28: 西B→北
F29: 三浦 綾子 | L29: 様 | N29: 任意入院 | T29: 田名部茂Dr | Y29: 小屋敷 千瑛 | AD29: 北 | AJ29: 入院形態変更
A30: 患者様 関連 | D30: 患者様氏名 | K30: 担当Dr | P30: 病棟 | S30: 制限内容 | X30: 制限時間 | AC30: 開始日時 | AO30: 備考
D31: 宮崎 宏之 | I31: 様 | K31: 馬渡晃弘Dr | P31: 東A | S31: 終日隔離 | X31: 終日隔離 | AC31: 令和 | AE31: 2 | AF31: 年 | AG31: 5 | AH31: 月 | AI31: 23 | AJ31: 日 | AL31: ： | AN31: ～
D32: 飯田 修子 | I32: 様 | K32: 深澤隆Dr | P32: 東A | S32: 終日隔離 | X32: 終日隔離 | AC32: 令和 | AE32: 3 | AF32: 年 | AG32: 7 | AH32: 月 | AI32: 23 | AJ32: 日 | AL32: ： | AN32: ～
D33: 田端 香織 | I33: 様 | K33: 田名部茂Dr | P33: 東A | S33: 終日隔離 | X33: 終日隔離 | AC33: 令和 | AE33: 3 | AF33: 年 | AG33: 7 | AH33: 月 | AI33: 29 | AJ33: 日 | AL33: ： | AN33: ～
D34: 中村 聡 | I34: 様 | K34: 金泰徳Dr | P34: 東B | S34: 通信制限 | X34: 通信制限 | AC34: 令和 | AE34: 3 | AF34: 年 | AG34: 5 | AH34: 月 | AI34: 31 | AJ34: 日 | AL34: ： | AN34: ～
I35: 様 | AC35: 令和 | AF35: 年 | AH35: 月 | AJ35: 日 | AL35: ： | AN35: ～
I36: 様 | AC36: 令和 | AF36: 年 | AH36: 月 | AJ36: 日 | AL36: ： | AN36: ～
I37: 様 | AC37: 令和 | AF37: 年 | AH37: 月 | AJ37: 日 | AL37: ： | AN37: ～
I38: 様 | AC38: 令和 | AF38: 年 | AH38: 月 | AJ38: 日 | AL38: ： | AN38: ～
I39: 様 | AC39: 令和 | AF39: 年 | AH39: 月 | AJ39: 日 | AL39: ： | AN39: ～
I40: 様 | AC40: 令和 | AF40: 年 | AH40: 月 | AJ40: 日 | AL40: ： | AN40: ～
I41: 様 | AC41: 令和 | AF41: 年 | AH41: 月 | AJ41: 日 | AL41: ： | AN41: ～
I42: 様 | AC42: 令和 | AF42: 年 | AH42: 月 | AJ42: 日 | AL42: ： | AN42: ～
I43: 様 | AC43: 令和 | AF43: 年 | AH43: 月 | AJ43: 日 | AL43: ： | AN43: ～
I44: 様 | AC44: 令和 | AF44: 年 | AH44: 月 | AJ44: 日 | AL44: ： | AN44: ～
I45: 様 | AC45: 令和 | AF45: 年 | AH45: 月 | AJ45: 日 | AL45: ： | AN45: ～
A46: 業務 内容 | D46: 項目 | J46: 患者様氏名 | P46: 担当 | S46: 備考 | Y46: 項目 | AA46: 患者様氏名 | AG46: 内容 | AQ46: 担当
D47: 外 来 患 者 対 応 | F47: 外来患者 対応 | O47: 様 | Y47: 書 類 作 成 完 了 | AF47: 様
O48: 様 | AF48: 様
O49: 様 | AF49: 様
O50: 様 | AF50: 様
O51: 様 | AF51: 様
O52: 様 | AF52: 様
O53: 様 | AF53: 様
D54: 項目 | J54: 患者様氏名 | P54: 担当 | S54: 備考 | AF54: 様
D55: 入 退 院 支 援 | F55: 退院支援 | O55: 様 | AF55: 様
O56: 様 | AF56: 様
O57: 様 | Y57: 項目 | AG57: 件数 | AJ57: 担当 | AM57: 備考
O58: 様 | Y58: 電話対応 | AI58: 件
O59: 様 | Y59: 保健所への届出 | AI59: 件
F60: 退院請求 対応 | O60: 様 | Y60: 項目 | AG60: 内容
O61: 様 | Y61: 通院医療 観察法
F62: 入院患者 対応 | J62: 担当 | M62: 件数 | P62: 備考
O63: 件 | Y63: 認知症疾患 医療ｾﾝﾀｰ
O64: 件
O65: 件 | Y65: 各種会議参加 外部の業務
O66: 件
A67: 安全管理 | D67: 事故 | S67: 物品 購入 | AE67: 連絡 事項
D68: 苦情
D69: 紛失
D70: 他

Sheet 5
A1: ソーシャルワーカー室 業務日誌 | AH1: C.O.O | AL1: I.O.O | AP1: Ａ.Ｏ.Ｍ
H3: =曜日!B12 -> 令和3年 | M3: =曜日!C12 -> 8月 | P3: 5日 | S3: （ | T3: =曜日!D7 -> 木 | U3: ） | W3: 作成者 | Z3: ： | AA3: 西舘 翔子
A5: 労務 状況 | D5: 勤務状況 | K5: 西舘 翔子 | P5: 日勤 | T5: 小屋敷 千瑛 | Y5: 日勤 | AC5: 大川 祥子 | AH5: 日勤 | AL5: 吉田 久美子 | AP5: 日勤
K6: 野添 京子 | P6: 日勤
A7: 入退院 状況 | D7: 入院形態 | K7: 東病棟 | Q7: 西病棟 | W7: 北病棟 | AC7: 南病棟 | AI7: 合計 | AO7: 総数
K8: 男性 | N8: 女性 | Q8: 男性 | T8: 女性 | W8: 男性 | Z8: 女性 | AC8: 男性 | AF8: 女性 | AI8: 男性 | AL8: 女性
D9: 任意入院 | K9: 7 | N9: 2 | Q9: 0 | T9: 11 | W9: 21 | Z9: 14 | AC9: 0 | AF9: 3 | AI9: =K9+Q9+W9+AC9 -> 28 | AL9: =N9+T9+Z9+AF9 -> 30 | AO9: =AI13 -> 192
D10: 医療保護入院 | K10: 22 | N10: 19 | Q10: 16 | T10: 19 | W10: 0 | Z10: 0 | AC10: 23 | AF10: 34 | AI10: =K10+Q10+W10+AC10 -> 61 | AL10: =N10+T10+Z10+AF10 -> 72
D11: 措置入院 | K11: 1 | N11: 0 | Q11: 0 | T11: 0 | W11: 0 | Z11: 0 | AC11: 0 | AF11: 0 | AI11: =K11+Q11+W11+AC11 -> 1 | AL11: =N11+T11+Z11+AF11 -> 0
D12: 合計 | K12: =K9+K10+K11 -> 30 | N12: =N9+N10+N11 -> 21 | Q12: =Q9+Q10+Q11 -> 16 | T12: =SUM(T9:V11) -> 30 | W12: =SUM(W9:Y11) -> 21 | Z12: =SUM(Z9:AB11) -> 14 | AC12: =SUM(AC9:AE11) -> 23 | AF12: =SUM(AF9:AH11) -> 37 | AI12: =SUM(K12+Q12+W12+AC12) -> 90 | AL12: =SUM(N12+T12+Z12+AF12) -> 102 | AO12: 人
K13: =K12+N12 -> 51 | Q13: =Q12+T12 -> 46 | W13: =W12+Z12 -> 35 | AC13: =AC12+AF12 -> 60 | AI13: =AI12+AL12 -> 192
F14: 患者様氏名 | N14: 入院形態 | T14: 担当Dr | Y14: 担当SW | AD14: 病棟 | AJ14: 備考欄
D15: 入院 | F15: 荒谷 政藏 | L15: 様 | N15: 医療保護入院 | T15: 深澤隆Dr | Y15: 大川 祥子 | AD15: 東A
F16: 若沢 広志 | L16: 様 | N16: 任意入院 | T16: 田名部茂Dr | Y16: 西舘 翔子 | AD16: 東D
L17: 様
L18: 様
L19: 様
D20: 退院 | F20: 嶋森 みよ子 | L20: 様 | N20: 任意入院 | T20: 深澤隆Dr | Y20: 西舘 翔子 | AD20: 東D
L21: 様
L22: 様
L23: 様
L24: 様
D25: 転棟 ･ 入院形態変更 | F25: 藤原 絵瑠久 | L25: 様 | N25: 任意入院 | T25: 田名部茂Dr | Y25: 西舘 翔子 | AD25: 東D→西A
L26: 様
L27: 様
L28: 様
L29: 様
A30: 患者様 関連 | D30: 患者様氏名 | K30: 担当Dr | P30: 病棟 | S30: 制限内容 | X30: 制限時間 | AC30: 開始日時 | AO30: 備考
D31: 宮崎 宏之 | I31: 様 | K31: 馬渡晃弘Dr | P31: 東A | S31: 終日隔離 | X31: 終日隔離 | AC31: 令和 | AE31: 2 | AF31: 年 | AG31: 5 | AH31: 月 | AI31: 23 | AJ31: 日 | AL31: ： | AN31: ～
D32: 飯田 修子 | I32: 様 | K32: 深澤隆Dr | P32: 東A | S32: 終日隔離 | X32: 終日隔離 | AC32: 令和 | AE32: 3 | AF32: 年 | AG32: 7 | AH32: 月 | AI32: 23 | AJ32: 日 | AL32: ： | AN32: ～
D33: 田端 香織 | I33: 様 | K33: 田名部茂Dr | P33: 東A | S33: 終日隔離 | X33: 終日隔離 | AC33: 令和 | AE33: 3 | AF33: 年 | AG33: 7 | AH33: 月 | AI33: 29 | AJ33: 日 | AL33: ： | AN33: ～
D34: 中村 聡 | I34: 様 | K34: 金泰徳Dr | P34: 東B | S34: 通信制限 | X34: 通信制限 | AC34: 令和 | AE34: 3 | AF34: 年 | AG34: 5 | AH34: 月 | AI34: 31 | AJ34: 日 | AL34: ： | AN34: ～
I35: 様 | AC35: 令和 | AF35: 年 | AH35: 月 | AJ35: 日 | AL35: ： | AN35: ～
I36: 様 | AC36: 令和 | AF36: 年 | AH36: 月 | AJ36: 日 | AL36: ： | AN36: ～
I37: 様 | AC37: 令和 | AF37: 年 | AH37: 月 | AJ37: 日 | AL37: ： | AN37: ～
I38: 様 | AC38: 令和 | AF38: 年 | AH38: 月 | AJ38: 日 | AL38: ： | AN38: ～
I39: 様 | AC39: 令和 | AF39: 年 | AH39: 月 | AJ39: 日 | AL39: ： | AN39: ～
I40: 様 | AC40: 令和 | AF40: 年 | AH40: 月 | AJ40: 日 | AL40: ： | AN40: ～
I41: 様 | AC41: 令和 | AF41: 年 | AH41: 月 | AJ41: 日 | AL41: ： | AN41: ～
I42: 様 | AC42: 令和 | AF42: 年 | AH42: 月 | AJ42: 日 | AL42: ： | AN42: ～
I43: 様 | AC43: 令和 | AF43: 年 | AH43: 月 | AJ43: 日 | AL43: ： | AN43: ～
I44: 様 | AC44: 令和 | AF44: 年 | AH44: 月 | AJ44: 日 | AL44: ： | AN44: ～
I45: 様 | AC45: 令和 | AF45: 年 | AH45: 月 | AJ45: 日 | AL45: ： | AN45: ～
A46: 業務 内容 | D46: 項目 | J46: 患者様氏名 | P46: 担当 | S46: 備考 | Y46: 項目 | AA46: 患者様氏名 | AG46: 内容 | AQ46: 担当
D47: 外 来 患 者 対 応 | F47: 外来患者 対応 | O47: 様 | Y47: 書 類 作 成 完 了 | AF47: 様
O48: 様 | AF48: 様
O49: 様 | AF49: 様
O50: 様 | AF50: 様
O51: 様 | AF51: 様
O52: 様 | AF52: 様
O53: 様 | AF53: 様
D54: 項目 | J54: 患者様氏名 | P54: 担当 | S54: 備考 | AF54: 様
D55: 入 退 院 支 援 | F55: 退院支援 | O55: 様 | AF55: 様
O56: 様 | AF56: 様
O57: 様 | Y57: 項目 | AG57: 件数 | AJ57: 担当 | AM57: 備考
O58: 様 | Y58: 電話対応 | AI58: 件
O59: 様 | Y59: 保健所への届出 | AI59: 件
F60: 退院請求 対応 | O60: 様 | Y60: 項目 | AG60: 内容
O61: 様 | Y61: 通院医療 観察法
F62: 入院患者 対応 | J62: 担当 | M62: 件数 | P62: 備考
O63: 件 | Y63: 認知症疾患 医療ｾﾝﾀｰ
O64: 件
O65: 件 | Y65: 各種会議参加 外部の業務
O66: 件
A67: 安全管理 | D67: 事故 | S67: 物品 購入 | AE67: 連絡 事項
D68: 苦情
D69: 紛失
D70: 他

Sheet 6
A1: ソーシャルワーカー室 業務日誌 | AH1: C.O.O | AL1: I.O.O | AP1: Ａ.Ｏ.Ｍ
H3: =曜日!B12 -> 令和3年 | M3: =曜日!C12 -> 8月 | P3: 6日 | S3: （ | T3: =曜日!D8 -> 金 | U3: ） | W3: 作成者 | Z3: ： | AA3: 西舘 翔子
A5: 労務 状況 | D5: 勤務状況 | K5: 西舘 翔子 | P5: 日勤 | T5: 小屋敷 千瑛 | Y5: 日勤 | AC5: 大川 祥子 | AH5: 日勤 | AL5: 吉田 久美子 | AP5: 日勤
K6: 野添 京子 | P6: 公休
A7: 入退院 状況 | D7: 入院形態 | K7: 東病棟 | Q7: 西病棟 | W7: 北病棟 | AC7: 南病棟 | AI7: 合計 | AO7: 総数
K8: 男性 | N8: 女性 | Q8: 男性 | T8: 女性 | W8: 男性 | Z8: 女性 | AC8: 男性 | AF8: 女性 | AI8: 男性 | AL8: 女性
D9: 任意入院 | K9: 7 | N9: 2 | Q9: 0 | T9: 11 | W9: 21 | Z9: 14 | AC9: 0 | AF9: 3 | AI9: =K9+Q9+W9+AC9 -> 28 | AL9: =N9+T9+Z9+AF9 -> 30 | AO9: =AI13 -> 192
D10: 医療保護入院 | K10: 22 | N10: 19 | Q10: 16 | T10: 19 | W10: 0 | Z10: 0 | AC10: 23 | AF10: 34 | AI10: =K10+Q10+W10+AC10 -> 61 | AL10: =N10+T10+Z10+AF10 -> 72
D11: 措置入院 | K11: 1 | N11: 0 | Q11: 0 | T11: 0 | W11: 0 | Z11: 0 | AC11: 0 | AF11: 0 | AI11: =K11+Q11+W11+AC11 -> 1 | AL11: =N11+T11+Z11+AF11 -> 0
D12: 合計 | K12: =K9+K10+K11 -> 30 | N12: =N9+N10+N11 -> 21 | Q12: =Q9+Q10+Q11 -> 16 | T12: =SUM(T9:V11) -> 30 | W12: =SUM(W9:Y11) -> 21 | Z12: =SUM(Z9:AB11) -> 14 | AC12: =SUM(AC9:AE11) -> 23 | AF12: =SUM(AF9:AH11) -> 37 | AI12: =SUM(K12+Q12+W12+AC12) -> 90 | AL12: =SUM(N12+T12+Z12+AF12) -> 102 | AO12: 人
K13: =K12+N12 -> 51 | Q13: =Q12+T12 -> 46 | W13: =W12+Z12 -> 35 | AC13: =AC12+AF12 -> 60 | AI13: =AI12+AL12 -> 192
F14: 患者様氏名 | N14: 入院形態 | T14: 担当Dr | Y14: 担当SW | AD14: 病棟 | AJ14: 備考欄
D15: 入院 | L15: 様
L16: 様
L17: 様
L18: 様
L19: 様
D20: 退院 | L20: 様
L21: 様
L22: 様
L23: 様
L24: 様
D25: 転棟 ･ 入院形態変更 | L25: 様
L26: 様
L27: 様
L28: 様
L29: 様
A30: 患者様 関連 | D30: 患者様氏名 | K30: 担当Dr | P30: 病棟 | S30: 制限内容 | X30: 制限時間 | AC30: 開始日時 | AO30: 備考
D31: 宮崎 宏之 | I31: 様 | K31: 馬渡晃弘Dr | P31: 東A | S31: 終日隔離 | X31: 終日隔離 | AC31: 令和 | AE31: 2 | AF31: 年 | AG31: 5 | AH31: 月 | AI31: 23 | AJ31: 日 | AL31: ： | AN31: ～
D32: 飯田 修子 | I32: 様 | K32: 深澤隆Dr | P32: 東A | S32: 終日隔離 | X32: 終日隔離 | AC32: 令和 | AE32: 3 | AF32: 年 | AG32: 7 | AH32: 月 | AI32: 23 | AJ32: 日 | AL32: ： | AN32: ～
D33: 田端 香織 | I33: 様 | K33: 田名部茂Dr | P33: 東A | S33: 終日隔離 | X33: 終日隔離 | AC33: 令和 | AE33: 3 | AF33: 年 | AG33: 7 | AH33: 月 | AI33: 29 | AJ33: 日 | AL33: ： | AN33: ～
D34: 中村 聡 | I34: 様 | K34: 金泰徳Dr | P34: 東B | S34: 通信制限 | X34: 通信制限 | AC34: 令和 | AE34: 3 | AF34: 年 | AG34: 5 | AH34: 月 | AI34: 31 | AJ34: 日 | AL34: ： | AN34: ～
I35: 様 | AC35: 令和 | AF35: 年 | AH35: 月 | AJ35: 日 | AL35: ： | AN35: ～
I36: 様 | AC36: 令和 | AF36: 年 | AH36: 月 | AJ36: 日 | AL36: ： | AN36: ～
I37: 様 | AC37: 令和 | AF37: 年 | AH37: 月 | AJ37: 日 | AL37: ： | AN37: ～
I38: 様 | AC38: 令和 | AF38: 年 | AH38: 月 | AJ38: 日 | AL38: ： | AN38: ～
I39: 様 | AC39: 令和 | AF39: 年 | AH39: 月 | AJ39: 日 | AL39: ： | AN39: ～
I40: 様 | AC40: 令和 | AF40: 年 | AH40: 月 | AJ40: 日 | AL40: ： | AN40: ～
I41: 様 | AC41: 令和 | AF41: 年 | AH41: 月 | AJ41: 日 | AL41: ： | AN41: ～
I42: 様 | AC42: 令和 | AF42: 年 | AH42: 月 | AJ42: 日 | AL42: ： | AN42: ～
I43: 様 | AC43: 令和 | AF43: 年 | AH43: 月 | AJ43: 日 | AL43: ： | AN43: ～
I44: 様 | AC44: 令和 | AF44: 年 | AH44: 月 | AJ44: 日 | AL44: ： | AN44: ～
I45: 様 | AC45: 令和 | AF45: 年 | AH45: 月 | AJ45: 日 | AL45: ： | AN45: ～
A46: 業務 内容 | D46: 項目 | J46: 患者様氏名 | P46: 担当 | S46: 備考 | Y46: 項目 | AA46: 患者様氏名 | AG46: 内容 | AQ46: 担当
D47: 外 来 患 者 対 応 | F47: 外来患者 対応 | O47: 様 | Y47: 書 類 作 成 完 了 | AF47: 様
O48: 様 | AF48: 様
O49: 様 | AF49: 様
O50: 様 | AF50: 様
O51: 様 | AF51: 様
O52: 様 | AF52: 様
O53: 様 | AF53: 様
D54: 項目 | J54: 患者様氏名 | P54: 担当 | S54: 備考 | AF54: 様
D55: 入 退 院 支 援 | F55: 退院支援 | O55: 様 | AF55: 様
O56: 様 | AF56: 様
O57: 様 | Y57: 項目 | AG57: 件数 | AJ57: 担当 | AM57: 備考
O58: 様 | Y58: 電話対応 | AI58: 件
O59: 様 | Y59: 保健所への届出 | AI59: 件
F60: 退院請求 対応 | O60: 様 | Y60: 項目 | AG60: 内容
O61: 様 | Y61: 通院医療 観察法
F62: 入院患者 対応 | J62: 担当 | M62: 件数 | P62: 備考
O63: 件 | Y63: 認知症疾患 医療ｾﾝﾀｰ
O64: 件
O65: 件 | Y65: 各種会議参加 外部の業務
O66: 件
A67: 安全管理 | D67: 事故 | S67: 物品 購入 | AE67: 連絡 事項
D68: 苦情
D69: 紛失
D70: 他

Sheet 7
A1: ソーシャルワーカー室 業務日誌 | AH1: C.O.O | AL1: I.O.O | AP1: Ａ.Ｏ.Ｍ
H3: =曜日!B12 -> 令和3年 | M3: =曜日!C12 -> 8月 | P3: 7日 | S3: （ | T3: =曜日!D9 -> 土 | U3: ） | W3: 作成者 | Z3: ： | AA3: 大川 祥子
A5: 労務 状況 | D5: 勤務状況 | K5: 西舘 翔子 | P5: 公休 | T5: 小屋敷 千瑛 | Y5: 日勤 | AC5: 大川 祥子 | AH5: 公休 | AL5: 吉田 久美子 | AP5: 公休
K6: 野添 京子 | P6: 公休
A7: 入退院 状況 | D7: 入院形態 | K7: 東病棟 | Q7: 西病棟 | W7: 北病棟 | AC7: 南病棟 | AI7: 合計 | AO7: 総数
K8: 男性 | N8: 女性 | Q8: 男性 | T8: 女性 | W8: 男性 | Z8: 女性 | AC8: 男性 | AF8: 女性 | AI8: 男性 | AL8: 女性
D9: 任意入院 | K9: 7 | N9: 2 | Q9: 0 | T9: 11 | W9: 21 | Z9: 14 | AC9: 0 | AF9: 3 | AI9: =K9+Q9+W9+AC9 -> 28 | AL9: =N9+T9+Z9+AF9 -> 30 | AO9: =AI13 -> 192
D10: 医療保護入院 | K10: 22 | N10: 19 | Q10: 16 | T10: 19 | W10: 0 | Z10: 0 | AC10: 23 | AF10: 34 | AI10: =K10+Q10+W10+AC10 -> 61 | AL10: =N10+T10+Z10+AF10 -> 72
D11: 措置入院 | K11: 1 | N11: 0 | Q11: 0 | T11: 0 | W11: 0 | Z11: 0 | AC11: 0 | AF11: 0 | AI11: =K11+Q11+W11+AC11 -> 1 | AL11: =N11+T11+Z11+AF11 -> 0
D12: 合計 | K12: =K9+K10+K11 -> 30 | N12: =N9+N10+N11 -> 21 | Q12: =Q9+Q10+Q11 -> 16 | T12: =SUM(T9:V11) -> 30 | W12: =SUM(W9:Y11) -> 21 | Z12: =SUM(Z9:AB11) -> 14 | AC12: =SUM(AC9:AE11) -> 23 | AF12: =SUM(AF9:AH11) -> 37 | AI12: =SUM(K12+Q12+W12+AC12) -> 90 | AL12: =SUM(N12+T12+Z12+AF12) -> 102 | AO12: 人
K13: =K12+N12 -> 51 | Q13: =Q12+T12 -> 46 | W13: =W12+Z12 -> 35 | AC13: =AC12+AF12 -> 60 | AI13: =AI12+AL12 -> 192
F14: 患者様氏名 | N14: 入院形態 | T14: 担当Dr | Y14: 担当SW | AD14: 病棟 | AJ14: 備考欄
D15: 入院 | L15: 様
L16: 様
L17: 様
L18: 様
L19: 様
D20: 退院 | L20: 様
L21: 様
L22: 様
L23: 様
L24: 様
D25: 転棟 ･ 入院形態変更 | L25: 様
L26: 様
L27: 様
L28: 様
L29: 様
A30: 患者様 関連 | D30: 患者様氏名 | K30: 担当Dr | P30: 病棟 | S30: 制限内容 | X30: 制限時間 | AC30: 開始日時 | AO30: 備考
D31: 宮崎 宏之 | I31: 様 | K31: 馬渡晃弘Dr | P31: 東A | S31: 終日隔離 | X31: 終日隔離 | AC31: 令和 | AE31: 2 | AF31: 年 | AG31: 5 | AH31: 月 | AI31: 23 | AJ31: 日 | AL31: ： | AN31: ～
D32: 飯田 修子 | I32: 様 | K32: 深澤隆Dr | P32: 東A | S32: 終日隔離 | X32: 終日隔離 | AC32: 令和 | AE32: 3 | AF32: 年 | AG32: 7 | AH32: 月 | AI32: 23 | AJ32: 日 | AL32: ： | AN32: ～
D33: 田端 香織 | I33: 様 | K33: 田名部茂Dr | P33: 東A | S33: 終日隔離 | X33: 終日隔離 | AC33: 令和 | AE33: 3 | AF33: 年 | AG33: 7 | AH33: 月 | AI33: 29 | AJ33: 日 | AL33: ： | AN33: ～
D34: 中村 聡 | I34: 様 | K34: 金泰徳Dr | P34: 東B | S34: 通信制限 | X34: 通信制限 | AC34: 令和 | AE34: 3 | AF34: 年 | AG34: 5 | AH34: 月 | AI34: 31 | AJ34: 日 | AL34: ： | AN34: ～
I35: 様 | AC35: 令和 | AF35: 年 | AH35: 月 | AJ35: 日 | AL35: ： | AN35: ～
I36: 様 | AC36: 令和 | AF36: 年 | AH36: 月 | AJ36: 日 | AL36: ： | AN36: ～
I37: 様 | AC37: 令和 | AF37: 年 | AH37: 月 | AJ37: 日 | AL37: ： | AN37: ～
I38: 様 | AC38: 令和 | AF38: 年 | AH38: 月 | AJ38: 日 | AL38: ： | AN38: ～
I39: 様 | AC39: 令和 | AF39: 年 | AH39: 月 | AJ39: 日 | AL39: ： | AN39: ～
I40: 様 | AC40: 令和 | AF40: 年 | AH40: 月 | AJ40: 日 | AL40: ： | AN40: ～
I41: 様 | AC41: 令和 | AF41: 年 | AH41: 月 | AJ41: 日 | AL41: ： | AN41: ～
I42: 様 | AC42: 令和 | AF42: 年 | AH42: 月 | AJ42: 日 | AL42: ： | AN42: ～
I43: 様 | AC43: 令和 | AF43: 年 | AH43: 月 | AJ43: 日 | AL43: ： | AN43: ～
I44: 様 | AC44: 令和 | AF44: 年 | AH44: 月 | AJ44: 日 | AL44: ： | AN44: ～
I45: 様 | AC45: 令和 | AF45: 年 | AH45: 月 | AJ45: 日 | AL45: ： | AN45: ～
A46: 業務 内容 | D46: 項目 | J46: 患者様氏名 | P46: 担当 | S46: 備考 | Y46: 項目 | AA46: 患者様氏名 | AG46: 内容 | AQ46: 担当
D47: 外 来 患 者 対 応 | F47: 外来患者 対応 | O47: 様 | Y47: 書 類 作 成 完 了 | AF47: 様
O48: 様 | AF48: 様
O49: 様 | AF49: 様
O50: 様 | AF50: 様
O51: 様 | AF51: 様
O52: 様 | AF52: 様
O53: 様 | AF53: 様
D54: 項目 | J54: 患者様氏名 | P54: 担当 | S54: 備考 | AF54: 様
D55: 入 退 院 支 援 | F55: 退院支援 | O55: 様 | AF55: 様
O56: 様 | AF56: 様
O57: 様 | Y57: 項目 | AG57: 件数 | AJ57: 担当 | AM57: 備考
O58: 様 | Y58: 電話対応 | AI58: 件
O59: 様 | Y59: 保健所への届出 | AI59: 件
F60: 退院請求 対応 | O60: 様 | Y60: 項目 | AG60: 内容
O61: 様 | Y61: 通院医療 観察法
F62: 入院患者 対応 | J62: 担当 | M62: 件数 | P62: 備考
O63: 件 | Y63: 認知症疾患 医療ｾﾝﾀｰ
O64: 件
O65: 件 | Y65: 各種会議参加 外部の業務
O66: 件
A67: 安全管理 | D67: 事故 | S67: 物品 購入 | AE67: 連絡 事項
D68: 苦情
D69: 紛失
D70: 他

Sheet 8
A1: ソーシャルワーカー室 業務日誌 | AH1: C.O.O | AL1: I.O.O | AP1: Ａ.Ｏ.Ｍ
H3: =曜日!B12 -> 令和3年 | M3: =曜日!C12 -> 8月 | P3: 8日 | S3: （ | T3: =曜日!D3 -> 日 | U3: ） | W3: 作成者 | Z3: ： | AA3: 大川 祥子
A5: 労務 状況 | D5: 勤務状況 | K5: 西舘 翔子 | P5: 公休 | T5: 小屋敷 千瑛 | Y5: 公休 | AC5: 大川 祥子 | AH5: 公休 | AL5: 吉田 久美子 | AP5: 公休
K6: 野添 京子 | P6: 公休
A7: 入退院 状況 | D7: 入院形態 | K7: 東病棟 | Q7: 西病棟 | W7: 北病棟 | AC7: 南病棟 | AI7: 合計 | AO7: 総数
K8: 男性 | N8: 女性 | Q8: 男性 | T8: 女性 | W8: 男性 | Z8: 女性 | AC8: 男性 | AF8: 女性 | AI8: 男性 | AL8: 女性
D9: 任意入院 | K9: 7 | N9: 2 | Q9: 0 | T9: 11 | W9: 21 | Z9: 14 | AC9: 0 | AF9: 3 | AI9: =K9+Q9+W9+AC9 -> 28 | AL9: =N9+T9+Z9+AF9 -> 30 | AO9: =AI13 -> 192
D10: 医療保護入院 | K10: 22 | N10: 19 | Q10: 16 | T10: 19 | W10: 0 | Z10: 0 | AC10: 23 | AF10: 34 | AI10: =K10+Q10+W10+AC10 -> 61 | AL10: =N10+T10+Z10+AF10 -> 72
D11: 措置入院 | K11: 1 | N11: 0 | Q11: 0 | T11: 0 | W11: 0 | Z11: 0 | AC11: 0 | AF11: 0 | AI11: =K11+Q11+W11+AC11 -> 1 | AL11: =N11+T11+Z11+AF11 -> 0
D12: 合計 | K12: =K9+K10+K11 -> 30 | N12: =N9+N10+N11 -> 21 | Q12: =Q9+Q10+Q11 -> 16 | T12: =SUM(T9:V11) -> 30 | W12: =SUM(W9:Y11) -> 21 | Z12: =SUM(Z9:AB11) -> 14 | AC12: =SUM(AC9:AE11) -> 23 | AF12: =SUM(AF9:AH11) -> 37 | AI12: =SUM(K12+Q12+W12+AC12) -> 90 | AL12: =SUM(N12+T12+Z12+AF12) -> 102 | AO12: 人
K13: =K12+N12 -> 51 | Q13: =Q12+T12 -> 46 | W13: =W12+Z12 -> 35 | AC13: =AC12+AF12 -> 60 | AI13: =AI12+AL12 -> 192
F14: 患者様氏名 | N14: 入院形態 | T14: 担当Dr | Y14: 担当SW | AD14: 病棟 | AJ14: 備考欄
D15: 入院 | L15: 様
L16: 様
L17: 様
L18: 様
L19: 様
D20: 退院 | L20: 様
L21: 様
L22: 様
L23: 様
L24: 様
D25: 転棟 ･ 入院形態変更 | L25: 様
L26: 様
L27: 様
L28: 様
L29: 様
A30: 患者様 関連 | D30: 患者様氏名 | K30: 担当Dr | P30: 病棟 | S30: 制限内容 | X30: 制限時間 | AC30: 開始日時 | AO30: 備考
D31: 宮崎 宏之 | I31: 様 | K31: 馬渡晃弘Dr | P31: 東A | S31: 終日隔離 | X31: 終日隔離 | AC31: 令和 | AE31: 2 | AF31: 年 | AG31: 5 | AH31: 月 | AI31: 23 | AJ31: 日 | AL31: ： | AN31: ～
D32: 飯田 修子 | I32: 様 | K32: 深澤隆Dr | P32: 東A | S32: 終日隔離 | X32: 終日隔離 | AC32: 令和 | AE32: 3 | AF32: 年 | AG32: 7 | AH32: 月 | AI32: 23 | AJ32: 日 | AL32: ： | AN32: ～
D33: 田端 香織 | I33: 様 | K33: 田名部茂Dr | P33: 東A | S33: 終日隔離 | X33: 終日隔離 | AC33: 令和 | AE33: 3 | AF33: 年 | AG33: 7 | AH33: 月 | AI33: 29 | AJ33: 日 | AL33: ： | AN33: ～
D34: 中村 聡 | I34: 様 | K34: 金泰徳Dr | P34: 東B | S34: 通信制限 | X34: 通信制限 | AC34: 令和 | AE34: 3 | AF34: 年 | AG34: 5 | AH34: 月 | AI34: 31 | AJ34: 日 | AL34: ： | AN34: ～
I35: 様 | AC35: 令和 | AF35: 年 | AH35: 月 | AJ35: 日 | AL35: ： | AN35: ～
I36: 様 | AC36: 令和 | AF36: 年 | AH36: 月 | AJ36: 日 | AL36: ： | AN36: ～
I37: 様 | AC37: 令和 | AF37: 年 | AH37: 月 | AJ37: 日 | AL37: ： | AN37: ～
I38: 様 | AC38: 令和 | AF38: 年 | AH38: 月 | AJ38: 日 | AL38: ： | AN38: ～
I39: 様 | AC39: 令和 | AF39: 年 | AH39: 月 | AJ39: 日 | AL39: ： | AN39: ～
I40: 様 | AC40: 令和 | AF40: 年 | AH40: 月 | AJ40: 日 | AL40: ： | AN40: ～
I41: 様 | AC41: 令和 | AF41: 年 | AH41: 月 | AJ41: 日 | AL41: ： | AN41: ～
I42: 様 | AC42: 令和 | AF42: 年 | AH42: 月 | AJ42: 日 | AL42: ： | AN42: ～
I43: 様 | AC43: 令和 | AF43: 年 | AH43: 月 | AJ43: 日 | AL43: ： | AN43: ～
I44: 様 | AC44: 令和 | AF44: 年 | AH44: 月 | AJ44: 日 | AL44: ： | AN44: ～
I45: 様 | AC45: 令和 | AF45: 年 | AH45: 月 | AJ45: 日 | AL45: ： | AN45: ～
A46: 業務 内容 | D46: 項目 | J46: 患者様氏名 | P46: 担当 | S46: 備考 | Y46: 項目 | AA46: 患者様氏名 | AG46: 内容 | AQ46: 担当
D47: 外 来 患 者 対 応 | F47: 外来患者 対応 | O47: 様 | Y47: 書 類 作 成 完 了 | AF47: 様
O48: 様 | AF48: 様
O49: 様 | AF49: 様
O50: 様 | AF50: 様
O51: 様 | AF51: 様
O52: 様 | AF52: 様
O53: 様 | AF53: 様
D54: 項目 | J54: 患者様氏名 | P54: 担当 | S54: 備考 | AF54: 様
D55: 入 退 院 支 援 | F55: 退院支援 | O55: 様 | AF55: 様
O56: 様 | AF56: 様
O57: 様 | Y57: 項目 | AG57: 件数 | AJ57: 担当 | AM57: 備考
O58: 様 | Y58: 電話対応 | AI58: 件
O59: 様 | Y59: 保健所への届出 | AI59: 件
F60: 退院請求 対応 | O60: 様 | Y60: 項目 | AG60: 内容
O61: 様 | Y61: 通院医療 観察法
F62: 入院患者 対応 | J62: 担当 | M62: 件数 | P62: 備考
O63: 件 | Y63: 認知症疾患 医療ｾﾝﾀｰ
O64: 件
O65: 件 | Y65: 各種会議参加 外部の業務
O66: 件
A67: 安全管理 | D67: 事故 | S67: 物品 購入 | AE67: 連絡 事項
D68: 苦情
D69: 紛失
D70: 他

Sheet 9
A1: ソーシャルワーカー室 業務日誌 | AH1: C.O.O | AL1: I.O.O | AP1: Ａ.Ｏ.Ｍ
H3: =曜日!B12 -> 令和3年 | M3: =曜日!C12 -> 8月 | P3: 9日 | S3: （ | T3: =曜日!D4 -> 月 | U3: ） | W3: 作成者 | Z3: ： | AA3: 大川 祥子
A5: 労務 状況 | D5: 勤務状況 | K5: 西舘 翔子 | P5: 日勤 | T5: 小屋敷 千瑛 | Y5: 日勤 | AC5: 大川 祥子 | AH5: 日勤 | AL5: 吉田 久美子 | AP5: 公休
K6: 野添 京子 | P6: 公休
A7: 入退院 状況 | D7: 入院形態 | K7: 東病棟 | Q7: 西病棟 | W7: 北病棟 | AC7: 南病棟 | AI7: 合計 | AO7: 総数
K8: 男性 | N8: 女性 | Q8: 男性 | T8: 女性 | W8: 男性 | Z8: 女性 | AC8: 男性 | AF8: 女性 | AI8: 男性 | AL8: 女性
D9: 任意入院 | K9: 7 | N9: 3 | Q9: 0 | T9: 10 | W9: 21 | Z9: 14 | AC9: 0 | AF9: 3 | AI9: =K9+Q9+W9+AC9 -> 28 | AL9: =N9+T9+Z9+AF9 -> 30 | AO9: =AI13 -> 192
D10: 医療保護入院 | K10: 21 | N10: 19 | Q10: 17 | T10: 19 | W10: 0 | Z10: 0 | AC10: 23 | AF10: 34 | AI10: =K10+Q10+W10+AC10 -> 61 | AL10: =N10+T10+Z10+AF10 -> 72
D11: 措置入院 | K11: 1 | N11: 0 | Q11: 0 | T11: 0 | W11: 0 | Z11: 0 | AC11: 0 | AF11: 0 | AI11: =K11+Q11+W11+AC11 -> 1 | AL11: =N11+T11+Z11+AF11 -> 0
D12: 合計 | K12: =K9+K10+K11 -> 29 | N12: =N9+N10+N11 -> 22 | Q12: =Q9+Q10+Q11 -> 17 | T12: =SUM(T9:V11) -> 29 | W12: =SUM(W9:Y11) -> 21 | Z12: =SUM(Z9:AB11) -> 14 | AC12: =SUM(AC9:AE11) -> 23 | AF12: =SUM(AF9:AH11) -> 37 | AI12: =SUM(K12+Q12+W12+AC12) -> 90 | AL12: =SUM(N12+T12+Z12+AF12) -> 102 | AO12: 人
K13: =K12+N12 -> 51 | Q13: =Q12+T12 -> 46 | W13: =W12+Z12 -> 35 | AC13: =AC12+AF12 -> 60 | AI13: =AI12+AL12 -> 192
F14: 患者様氏名 | N14: 入院形態 | T14: 担当Dr | Y14: 担当SW | AD14: 病棟 | AJ14: 備考欄
D15: 入院 | L15: 様
L16: 様
L17: 様
L18: 様
L19: 様
D20: 退院 | L20: 様
L21: 様
L22: 様
L23: 様
L24: 様
D25: 転棟 ･ 入院形態変更 | F25: 清水 志野 | L25: 様 | N25: 任意入院 | T25: 田名部茂Dr | Y25: 西舘 翔子 | AJ25: 北→東A
F26: 中村 聡 | L26: 様 | N26: 医療保護入院 | T26: 金泰德Dr | Y26: 西舘 翔子 | AJ26: 東B→西B
F27: 森 ひで | L27: 様 | N27: 任意入院 | T27: 馬渡晃弘Dr | Y27: 小屋敷 千瑛 | AJ27: 西B→北
L28: 様
L29: 様
A30: 患者様 関連 | D30: 患者様氏名 | K30: 担当Dr | P30: 病棟 | S30: 制限内容 | X30: 制限時間 | AC30: 開始日時 | AO30: 備考
D31: 宮崎 宏之 | I31: 様 | K31: 馬渡晃弘Dr | P31: 東A | S31: 終日隔離 | X31: 終日隔離 | AC31: 令和 | AE31: 2 | AF31: 年 | AG31: 5 | AH31: 月 | AI31: 23 | AJ31: 日 | AL31: ： | AN31: ～
D32: 飯田 修子 | I32: 様 | K32: 深澤隆Dr | P32: 東A | S32: 終日隔離 | X32: 終日隔離 | AC32: 令和 | AE32: 3 | AF32: 年 | AG32: 7 | AH32: 月 | AI32: 23 | AJ32: 日 | AL32: ： | AN32: ～
D33: 田端 香織 | I33: 様 | K33: 田名部茂Dr | P33: 東A | S33: 終日隔離 | X33: 終日隔離 | AC33: 令和 | AE33: 3 | AF33: 年 | AG33: 7 | AH33: 月 | AI33: 29 | AJ33: 日 | AL33: ： | AN33: ～
D34: 中村 聡 | I34: 様 | K34: 金泰徳Dr | P34: 東B | S34: 通信制限 | X34: 通信制限 | AC34: 令和 | AE34: 3 | AF34: 年 | AG34: 5 | AH34: 月 | AI34: 31 | AJ34: 日 | AL34: ： | AN34: ～
I35: 様 | AC35: 令和 | AF35: 年 | AH35: 月 | AJ35: 日 | AL35: ： | AN35: ～
I36: 様 | AC36: 令和 | AF36: 年 | AH36: 月 | AJ36: 日 | AL36: ： | AN36: ～
I37: 様 | AC37: 令和 | AF37: 年 | AH37: 月 | AJ37: 日 | AL37: ： | AN37: ～
I38: 様 | AC38: 令和 | AF38: 年 | AH38: 月 | AJ38: 日 | AL38: ： | AN38: ～
I39: 様 | AC39: 令和 | AF39: 年 | AH39: 月 | AJ39: 日 | AL39: ： | AN39: ～
I40: 様 | AC40: 令和 | AF40: 年 | AH40: 月 | AJ40: 日 | AL40: ： | AN40: ～
I41: 様 | AC41: 令和 | AF41: 年 | AH41: 月 | AJ41: 日 | AL41: ： | AN41: ～
I42: 様 | AC42: 令和 | AF42: 年 | AH42: 月 | AJ42: 日 | AL42: ： | AN42: ～
I43: 様 | AC43: 令和 | AF43: 年 | AH43: 月 | AJ43: 日 | AL43: ： | AN43: ～
I44: 様 | AC44: 令和 | AF44: 年 | AH44: 月 | AJ44: 日 | AL44: ： | AN44: ～
I45: 様 | AC45: 令和 | AF45: 年 | AH45: 月 | AJ45: 日 | AL45: ： | AN45: ～
A46: 業務 内容 | D46: 項目 | J46: 患者様氏名 | P46: 担当 | S46: 備考 | Y46: 項目 | AA46: 患者様氏名 | AG46: 内容 | AQ46: 担当
D47: 外 来 患 者 対 応 | F47: 外来患者 対応 | O47: 様 | Y47: 書 類 作 成 完 了 | AF47: 様
O48: 様 | AF48: 様
O49: 様 | AF49: 様
O50: 様 | AF50: 様
O51: 様 | AF51: 様
O52: 様 | AF52: 様
O53: 様 | AF53: 様
D54: 項目 | J54: 患者様氏名 | P54: 担当 | S54: 備考 | AF54: 様
D55: 入 退 院 支 援 | F55: 退院支援 | O55: 様 | AF55: 様
O56: 様 | AF56: 様
O57: 様 | Y57: 項目 | AG57: 件数 | AJ57: 担当 | AM57: 備考
O58: 様 | Y58: 電話対応 | AI58: 件
O59: 様 | Y59: 保健所への届出 | AI59: 件
F60: 退院請求 対応 | O60: 様 | Y60: 項目 | AG60: 内容
O61: 様 | Y61: 通院医療 観察法
F62: 入院患者 対応 | J62: 担当 | M62: 件数 | P62: 備考
O63: 件 | Y63: 認知症疾患 医療ｾﾝﾀｰ
O64: 件
O65: 件 | Y65: 各種会議参加 外部の業務
O66: 件
A67: 安全管理 | D67: 事故 | S67: 物品 購入 | AE67: 連絡 事項
D68: 苦情
D69: 紛失
D70: 他

Sheet 10
A1: ソーシャルワーカー室 業務日誌 | AH1: C.O.O | AL1: I.O.O | AP1: Ａ.Ｏ.Ｍ
H3: =曜日!B12 -> 令和3年 | M3: =曜日!C12 -> 8月 | P3: 10日 | S3: （ | T3: =曜日!D5 -> 火 | U3: ） | W3: 作成者 | Z3: ： | AA3: 大川 祥子
A5: 労務 状況 | D5: 勤務状況 | K5: 西舘 翔子 | P5: 日勤 | T5: 小屋敷 千瑛 | Y5: 日勤 | AC5: 大川 祥子 | AH5: 日勤 | AL5: 吉田 久美子 | AP5: 日勤
K6: 野添 京子 | P6: 日勤
A7: 入退院 状況 | D7: 入院形態 | K7: 東病棟 | Q7: 西病棟 | W7: 北病棟 | AC7: 南病棟 | AI7: 合計 | AO7: 総数
K8: 男性 | N8: 女性 | Q8: 男性 | T8: 女性 | W8: 男性 | Z8: 女性 | AC8: 男性 | AF8: 女性 | AI8: 男性 | AL8: 女性
D9: 任意入院 | K9: 7 | N9: 2 | Q9: 0 | T9: 10 | W9: 21 | Z9: 14 | AC9: 0 | AF9: 3 | AI9: =K9+Q9+W9+AC9 -> 28 | AL9: =N9+T9+Z9+AF9 -> 29 | AO9: =AI13 -> 190
D10: 医療保護入院 | K10: 21 | N10: 18 | Q10: 17 | T10: 19 | W10: 0 | Z10: 0 | AC10: 23 | AF10: 34 | AI10: =K10+Q10+W10+AC10 -> 61 | AL10: =N10+T10+Z10+AF10 -> 71
D11: 措置入院 | K11: 1 | N11: 0 | Q11: 0 | T11: 0 | W11: 0 | Z11: 0 | AC11: 0 | AF11: 0 | AI11: =K11+Q11+W11+AC11 -> 1 | AL11: =N11+T11+Z11+AF11 -> 0
D12: 合計 | K12: =K9+K10+K11 -> 29 | N12: =N9+N10+N11 -> 20 | Q12: =Q9+Q10+Q11 -> 17 | T12: =SUM(T9:V11) -> 29 | W12: =SUM(W9:Y11) -> 21 | Z12: =SUM(Z9:AB11) -> 14 | AC12: =SUM(AC9:AE11) -> 23 | AF12: =SUM(AF9:AH11) -> 37 | AI12: =SUM(K12+Q12+W12+AC12) -> 90 | AL12: =SUM(N12+T12+Z12+AF12) -> 100 | AO12: 人
K13: =K12+N12 -> 49 | Q13: =Q12+T12 -> 46 | W13: =W12+Z12 -> 35 | AC13: =AC12+AF12 -> 60 | AI13: =AI12+AL12 -> 190
F14: 患者様氏名 | N14: 入院形態 | T14: 担当Dr | Y14: 担当SW | AD14: 病棟 | AJ14: 備考欄
D15: 入院 | L15: 様
L16: 様
L17: 様
L18: 様
L19: 様
D20: 退院 | F20: 豊巻 志津子 | L20: 様 | N20: 任意入院 | T20: 田名部茂Dr | Y20: 西舘 翔子 | AD20: 東B
F21: 山田 みつゑ | L21: 様 | N21: 医療保護入院 | T21: 馬渡晃弘Dr | Y21: 大川 祥子 | AD21: 南A
L22: 様
L23: 様
L24: 様
D25: 転棟 ･ 入院形態変更 | F25: 佐々木 博子 | L25: 様 | N25: 医療保護入院 | AJ25: 東C→南A
L26: 様
L27: 様
L28: 様
L29: 様
A30: 患者様 関連 | D30: 患者様氏名 | K30: 担当Dr | P30: 病棟 | S30: 制限内容 | X30: 制限時間 | AC30: 開始日時 | AO30: 備考
D31: 宮崎 宏之 | I31: 様 | K31: 馬渡晃弘Dr | P31: 東A | S31: 終日隔離 | X31: 終日隔離 | AC31: 令和 | AE31: 2 | AF31: 年 | AG31: 5 | AH31: 月 | AI31: 23 | AJ31: 日 | AL31: ： | AN31: ～
D32: 飯田 修子 | I32: 様 | K32: 深澤隆Dr | P32: 東A | S32: 終日隔離 | X32: 終日隔離 | AC32: 令和 | AE32: 3 | AF32: 年 | AG32: 7 | AH32: 月 | AI32: 23 | AJ32: 日 | AL32: ： | AN32: ～
D33: 田端 香織 | I33: 様 | K33: 田名部茂Dr | P33: 東A | S33: 終日隔離 | X33: 終日隔離 | AC33: 令和 | AE33: 3 | AF33: 年 | AG33: 7 | AH33: 月 | AI33: 29 | AJ33: 日 | AL33: ： | AN33: ～
D34: 中村 聡 | I34: 様 | K34: 金泰徳Dr | P34: 東B | S34: 通信制限 | X34: 通信制限 | AC34: 令和 | AE34: 3 | AF34: 年 | AG34: 5 | AH34: 月 | AI34: 31 | AJ34: 日 | AL34: ： | AN34: ～
I35: 様 | AC35: 令和 | AF35: 年 | AH35: 月 | AJ35: 日 | AL35: ： | AN35: ～
I36: 様 | AC36: 令和 | AF36: 年 | AH36: 月 | AJ36: 日 | AL36: ： | AN36: ～
I37: 様 | AC37: 令和 | AF37: 年 | AH37: 月 | AJ37: 日 | AL37: ： | AN37: ～
I38: 様 | AC38: 令和 | AF38: 年 | AH38: 月 | AJ38: 日 | AL38: ： | AN38: ～
I39: 様 | AC39: 令和 | AF39: 年 | AH39: 月 | AJ39: 日 | AL39: ： | AN39: ～
I40: 様 | AC40: 令和 | AF40: 年 | AH40: 月 | AJ40: 日 | AL40: ： | AN40: ～
I41: 様 | AC41: 令和 | AF41: 年 | AH41: 月 | AJ41: 日 | AL41: ： | AN41: ～
I42: 様 | AC42: 令和 | AF42: 年 | AH42: 月 | AJ42: 日 | AL42: ： | AN42: ～
I43: 様 | AC43: 令和 | AF43: 年 | AH43: 月 | AJ43: 日 | AL43: ： | AN43: ～
I44: 様 | AC44: 令和 | AF44: 年 | AH44: 月 | AJ44: 日 | AL44: ： | AN44: ～
I45: 様 | AC45: 令和 | AF45: 年 | AH45: 月 | AJ45: 日 | AL45: ： | AN45: ～
A46: 業務 内容 | D46: 項目 | J46: 患者様氏名 | P46: 担当 | S46: 備考 | Y46: 項目 | AA46: 患者様氏名 | AG46: 内容 | AQ46: 担当
D47: 外 来 患 者 対 応 | F47: 外来患者 対応 | O47: 様 | Y47: 書 類 作 成 完 了 | AF47: 様
O48: 様 | AF48: 様
O49: 様 | AF49: 様
O50: 様 | AF50: 様
O51: 様 | AF51: 様
O52: 様 | AF52: 様
O53: 様 | AF53: 様
D54: 項目 | J54: 患者様氏名 | P54: 担当 | S54: 備考 | AF54: 様
D55: 入 退 院 支 援 | F55: 退院支援 | O55: 様 | AF55: 様
O56: 様 | AF56: 様
O57: 様 | Y57: 項目 | AG57: 件数 | AJ57: 担当 | AM57: 備考
O58: 様 | Y58: 電話対応 | AI58: 件
O59: 様 | Y59: 保健所への届出 | AI59: 件
F60: 退院請求 対応 | O60: 様 | Y60: 項目 | AG60: 内容
O61: 様 | Y61: 通院医療 観察法
F62: 入院患者 対応 | J62: 担当 | M62: 件数 | P62: 備考
O63: 件 | Y63: 認知症疾患 医療ｾﾝﾀｰ
O64: 件
O65: 件 | Y65: 各種会議参加 外部の業務
O66: 件
A67: 安全管理 | D67: 事故 | S67: 物品 購入 | AE67: 連絡 事項
D68: 苦情
D69: 紛失
D70: 他

Sheet 11
A1: ソーシャルワーカー室 業務日誌 | AH1: C.O.O | AL1: I.O.O | AP1: Ａ.Ｏ.Ｍ
H3: =曜日!B12 -> 令和3年 | M3: =曜日!C12 -> 8月 | P3: 11日 | S3: （ | T3: =曜日!D6 -> 水 | U3: ） | W3: 作成者 | Z3: ：
A5: 労務 状況 | D5: 勤務状況 | K5: 西舘 翔子 | T5: 小屋敷 千瑛 | AC5: 大川 祥子 | AL5: 吉田 久美子
K6: 野添 京子
A7: 入退院 状況 | D7: 入院形態 | K7: 東病棟 | Q7: 西病棟 | W7: 北病棟 | AC7: 南病棟 | AI7: 合計 | AO7: 総数
K8: 男性 | N8: 女性 | Q8: 男性 | T8: 女性 | W8: 男性 | Z8: 女性 | AC8: 男性 | AF8: 女性 | AI8: 男性 | AL8: 女性
D9: 任意入院 | AI9: =K9+Q9+W9+AC9 -> 0 | AL9: =N9+T9+Z9+AF9 -> 0 | AO9: =AI13 -> 0
D10: 医療保護入院 | AI10: =K10+Q10+W10+AC10 -> 0 | AL10: =N10+T10+Z10+AF10 -> 0
D11: 措置入院 | AI11: =K11+Q11+W11+AC11 -> 0 | AL11: =N11+T11+Z11+AF11 -> 0
D12: 合計 | K12: =K9+K10+K11 -> 0 | N12: =N9+N10+N11 -> 0 | Q12: =Q9+Q10+Q11 -> 0 | T12: =SUM(T9:V11) -> 0 | W12: =SUM(W9:Y11) -> 0 | Z12: =SUM(Z9:AB11) -> 0 | AC12: =SUM(AC9:AE11) -> 0 | AF12: =SUM(AF9:AH11) -> 0 | AI12: =SUM(K12+Q12+W12+AC12) -> 0 | AL12: =SUM(N12+T12+Z12+AF12) -> 0 | AO12: 人
K13: =K12+N12 -> 0 | Q13: =Q12+T12 -> 0 | W13: =W12+Z12 -> 0 | AC13: =AC12+AF12 -> 0 | AI13: =AI12+AL12 -> 0
F14: 患者様氏名 | N14: 入院形態 | T14: 担当Dr | Y14: 担当SW | AD14: 病棟 | AJ14: 備考欄
D15: 入院 | L15: 様
L16: 様
L17: 様
L18: 様
L19: 様
D20: 退院 | L20: 様
L21: 様
L22: 様
L23: 様
L24: 様
D25: 転棟 ･ 入院形態変更 | L25: 様
L26: 様
L27: 様
L28: 様
L29: 様
A30: 患者様 関連 | D30: 患者様氏名 | K30: 担当Dr | P30: 病棟 | S30: 制限内容 | X30: 制限時間 | AC30: 開始日時 | AO30: 備考
I31: 様 | AC31: 令和 | AF31: 年 | AH31: 月 | AJ31: 日 | AL31: ： | AN31: ～
I32: 様 | AC32: 令和 | AF32: 年 | AH32: 月 | AJ32: 日 | AL32: ： | AN32: ～
I33: 様 | AC33: 令和 | AF33: 年 | AH33: 月 | AJ33: 日 | AL33: ： | AN33: ～
I34: 様 | AC34: 令和 | AF34: 年 | AH34: 月 | AJ34: 日 | AL34: ： | AN34: ～
I35: 様 | AC35: 令和 | AF35: 年 | AH35: 月 | AJ35: 日 | AL35: ： | AN35: ～
I36: 様 | AC36: 令和 | AF36: 年 | AH36: 月 | AJ36: 日 | AL36: ： | AN36: ～
I37: 様 | AC37: 令和 | AF37: 年 | AH37: 月 | AJ37: 日 | AL37: ： | AN37: ～
I38: 様 | AC38: 令和 | AF38: 年 | AH38: 月 | AJ38: 日 | AL38: ： | AN38: ～
I39: 様 | AC39: 令和 | AF39: 年 | AH39: 月 | AJ39: 日 | AL39: ： | AN39: ～
I40: 様 | AC40: 令和 | AF40: 年 | AH40: 月 | AJ40: 日 | AL40: ： | AN40: ～
I41: 様 | AC41: 令和 | AF41: 年 | AH41: 月 | AJ41: 日 | AL41: ： | AN41: ～
I42: 様 | AC42: 令和 | AF42: 年 | AH42: 月 | AJ42: 日 | AL42: ： | AN42: ～
... I45: 様 | AC45: 令和 | AF45: 年 | AH45: 月 | AJ45: 日 | AL45: ： | AN45: ～
A46: 業務 内容 | D46: 項目 | J46: 患者様氏名 | P46: 担当 | S46: 備考 | Y46: 項目 | AA46: 患者様氏名 | AG46: 内容 | AQ46: 担当
D47: 外 来 患 者 対 応 | F47: 外来患者 対応 | O47: 様 | Y47: 書 類 作 成 完 了 | AF47: 様
O48: 様 | AF48: 様
O49: 様 | AF49: 様
O50: 様 | AF50: 様
O51: 様 | AF51: 様
O52: 様 | AF52: 様
O53: 様 | AF53: 様
D54: 項目 | J54: 患者様氏名 | P54: 担当 | S54: 備考 | AF54: 様
D55: 入 退 院 支 援 | F55: 退院支援 | O55: 様 | AF55: 様
O56: 様 | AF56: 様
O57: 様 | Y57: 項目 | AG57: 件数 | AJ57: 担当 | AM57: 備考
O58: 様 | Y58: 電話対応 | AI58: 件
O59: 様 | Y59: 保健所への届出 | AI59: 件
F60: 退院請求 対応 | O60: 様 | Y60: 項目 | AG60: 内容
O61: 様 | Y61: 通院医療 観察法
F62: 入院患者 対応 | J62: 担当 | M62: 件数 | P62: 備考
O63: 件 | Y63: 認知症疾患 医療ｾﾝﾀｰ
O64: 件
O65: 件 | Y65: 各種会議参加 外部の業務
O66: 件
A67: 安全管理 | D67: 事故 | S67: 物品 購入 | AE67: 連絡 事項
D68: 苦情
D69: 紛失
D70: 他

Sheet 12
A1: ソーシャルワーカー室 業務日誌 | AH1: C.O.O | AL1: I.O.O | AP1: Ａ.Ｏ.Ｍ
H3: =曜日!B12 -> 令和3年 | M3: =曜日!C12 -> 8月 | P3: 12日 | S3: （ | T3: =曜日!D7 -> 木 | U3: ） | W3: 作成者 | Z3: ：
A5: 労務 状況 | D5: 勤務状況 | K5: 西舘 翔子 | T5: 小屋敷 千瑛 | AC5: 大川 祥子 | AL5: 吉田 久美子
K6: 野添 京子
A7: 入退院 状況 | D7: 入院形態 | K7: 東病棟 | Q7: 西病棟 | W7: 北病棟 | AC7: 南病棟 | AI7: 合計 | AO7: 総数
K8: 男性 | N8: 女性 | Q8: 男性 | T8: 女性 | W8: 男性 | Z8: 女性 | AC8: 男性 | AF8: 女性 | AI8: 男性 | AL8: 女性
D9: 任意入院 | AI9: =K9+Q9+W9+AC9 -> 0 | AL9: =N9+T9+Z9+AF9 -> 0 | AO9: =AI13 -> 0
D10: 医療保護入院 | AI10: =K10+Q10+W10+AC10 -> 0 | AL10: =N10+T10+Z10+AF10 -> 0
D11: 措置入院 | AI11: =K11+Q11+W11+AC11 -> 0 | AL11: =N11+T11+Z11+AF11 -> 0
D12: 合計 | K12: =K9+K10+K11 -> 0 | N12: =N9+N10+N11 -> 0 | Q12: =Q9+Q10+Q11 -> 0 | T12: =SUM(T9:V11) -> 0 | W12: =SUM(W9:Y11) -> 0 | Z12: =SUM(Z9:AB11) -> 0 | AC12: =SUM(AC9:AE11) -> 0 | AF12: =SUM(AF9:AH11) -> 0 | AI12: =SUM(K12+Q12+W12+AC12) -> 0 | AL12: =SUM(N12+T12+Z12+AF12) -> 0 | AO12: 人
K13: =K12+N12 -> 0 | Q13: =Q12+T12 -> 0 | W13: =W12+Z12 -> 0 | AC13: =AC12+AF12 -> 0 | AI13: =AI12+AL12 -> 0
F14: 患者様氏名 | N14: 入院形態 | T14: 担当Dr | Y14: 担当SW | AD14: 病棟 | AJ14: 備考欄
D15: 入院 | L15: 様
L16: 様
L17: 様
L18: 様
L19: 様
D20: 退院 | L20: 様
L21: 様
L22: 様
L23: 様
L24: 様
D25: 転棟 ･ 入院形態変更 | L25: 様
L26: 様
L27: 様
L28: 様
L29: 様
A30: 患者様 関連 | D30: 患者様氏名 | K30: 担当Dr | P30: 病棟 | S30: 制限内容 | X30: 制限時間 | AC30: 開始日時 | AO30: 備考
I31: 様 | AC31: 令和 | AF31: 年 | AH31: 月 | AJ31: 日 | AL31: ： | AN31: ～
I32: 様 | AC32: 令和 | AF32: 年 | AH32: 月 | AJ32: 日 | AL32: ： | AN32: ～
I33: 様 | AC33: 令和 | AF33: 年 | AH33: 月 | AJ33: 日 | AL33: ： | AN33: ～
I34: 様 | AC34: 令和 | AF34: 年 | AH34: 月 | AJ34: 日 | AL34: ： | AN34: ～
I35: 様 | AC35: 令和 | AF35: 年 | AH35: 月 | AJ35: 日 | AL35: ： | AN35: ～
I36: 様 | AC36: 令和 | AF36: 年 | AH36: 月 | AJ36: 日 | AL36: ： | AN36: ～
I37: 様 | AC37: 令和 | AF37: 年 | AH37: 月 | AJ37: 日 | AL37: ： | AN37: ～
I38: 様 | AC38: 令和 | AF38: 年 | AH38: 月 | AJ38: 日 | AL38: ： | AN38: ～
I39: 様 | AC39: 令和 | AF39: 年 | AH39: 月 | AJ39: 日 | AL39: ： | AN39: ～
I40: 様 | AC40: 令和 | AF40: 年 | AH40: 月 | AJ40: 日 | AL40: ： | AN40: ～
I41: 様 | AC41: 令和 | AF41: 年 | AH41: 月 | AJ41: 日 | AL41: ： | AN41: ～
I42: 様 | AC42: 令和 | AF42: 年 | AH42: 月 | AJ42: 日 | AL42: ： | AN42: ～
... I45: 様 | AC45: 令和 | AF45: 年 | AH45: 月 | AJ45: 日 | AL45: ： | AN45: ～
A46: 業務 内容 | D46: 項目 | J46: 患者様氏名 | P46: 担当 | S46: 備考 | Y46: 項目 | AA46: 患者様氏名 | AG46: 内容 | AQ46: 担当
D47: 外 来 患 者 対 応 | F47: 外来患者 対応 | O47: 様 | Y47: 書 類 作 成 完 了 | AF47: 様
O48: 様 | AF48: 様
O49: 様 | AF49: 様
O50: 様 | AF50: 様
O51: 様 | AF51: 様
O52: 様 | AF52: 様
O53: 様 | AF53: 様
D54: 項目 | J54: 患者様氏名 | P54: 担当 | S54: 備考 | AF54: 様
D55: 入 退 院 支 援 | F55: 退院支援 | O55: 様 | AF55: 様
O56: 様 | AF56: 様
O57: 様 | Y57: 項目 | AG57: 件数 | AJ57: 担当 | AM57: 備考
O58: 様 | Y58: 電話対応 | AI58: 件
O59: 様 | Y59: 保健所への届出 | AI59: 件
F60: 退院請求 対応 | O60: 様 | Y60: 項目 | AG60: 内容
O61: 様 | Y61: 通院医療 観察法
F62: 入院患者 対応 | J62: 担当 | M62: 件数 | P62: 備考
O63: 件 | Y63: 認知症疾患 医療ｾﾝﾀｰ
O64: 件
O65: 件 | Y65: 各種会議参加 外部の業務
O66: 件
A67: 安全管理 | D67: 事故 | S67: 物品 購入 | AE67: 連絡 事項
D68: 苦情
D69: 紛失
D70: 他

Sheet 13
A1: ソーシャルワーカー室 業務日誌 | AH1: C.O.O | AL1: I.O.O | AP1: Ａ.Ｏ.Ｍ
H3: =曜日!B12 -> 令和3年 | M3: =曜日!C12 -> 8月 | P3: 13日 | S3: （ | T3: =曜日!D8 -> 金 | U3: ） | W3: 作成者 | Z3: ：
A5: 労務 状況 | D5: 勤務状況 | K5: 西舘 翔子 | T5: 小屋敷 千瑛 | AC5: 大川 祥子 | AL5: 吉田 久美子
K6: 野添 京子
A7: 入退院 状況 | D7: 入院形態 | K7: 東病棟 | Q7: 西病棟 | W7: 北病棟 | AC7: 南病棟 | AI7: 合計 | AO7: 総数
K8: 男性 | N8: 女性 | Q8: 男性 | T8: 女性 | W8: 男性 | Z8: 女性 | AC8: 男性 | AF8: 女性 | AI8: 男性 | AL8: 女性
D9: 任意入院 | AI9: =K9+Q9+W9+AC9 -> 0 | AL9: =N9+T9+Z9+AF9 -> 0 | AO9: =AI13 -> 0
D10: 医療保護入院 | AI10: =K10+Q10+W10+AC10 -> 0 | AL10: =N10+T10+Z10+AF10 -> 0
D11: 措置入院 | AI11: =K11+Q11+W11+AC11 -> 0 | AL11: =N11+T11+Z11+AF11 -> 0
D12: 合計 | K12: =K9+K10+K11 -> 0 | N12: =N9+N10+N11 -> 0 | Q12: =Q9+Q10+Q11 -> 0 | T12: =SUM(T9:V11) -> 0 | W12: =SUM(W9:Y11) -> 0 | Z12: =SUM(Z9:AB11) -> 0 | AC12: =SUM(AC9:AE11) -> 0 | AF12: =SUM(AF9:AH11) -> 0 | AI12: =SUM(K12+Q12+W12+AC12) -> 0 | AL12: =SUM(N12+T12+Z12+AF12) -> 0 | AO12: 人
K13: =K12+N12 -> 0 | Q13: =Q12+T12 -> 0 | W13: =W12+Z12 -> 0 | AC13: =AC12+AF12 -> 0 | AI13: =AI12+AL12 -> 0
F14: 患者様氏名 | N14: 入院形態 | T14: 担当Dr | Y14: 担当SW | AD14: 病棟 | AJ14: 備考欄
D15: 入院 | L15: 様
L16: 様
L17: 様
L18: 様
L19: 様
D20: 退院 | L20: 様
L21: 様
L22: 様
L23: 様
L24: 様
D25: 転棟 ･ 入院形態変更 | L25: 様
L26: 様
L27: 様
L28: 様
L29: 様
A30: 患者様 関連 | D30: 患者様氏名 | K30: 担当Dr | P30: 病棟 | S30: 制限内容 | X30: 制限時間 | AC30: 開始日時 | AO30: 備考
I31: 様 | AC31: 令和 | AF31: 年 | AH31: 月 | AJ31: 日 | AL31: ： | AN31: ～
I32: 様 | AC32: 令和 | AF32: 年 | AH32: 月 | AJ32: 日 | AL32: ： | AN32: ～
I33: 様 | AC33: 令和 | AF33: 年 | AH33: 月 | AJ33: 日 | AL33: ： | AN33: ～
I34: 様 | AC34: 令和 | AF34: 年 | AH34: 月 | AJ34: 日 | AL34: ： | AN34: ～
I35: 様 | AC35: 令和 | AF35: 年 | AH35: 月 | AJ35: 日 | AL35: ： | AN35: ～
I36: 様 | AC36: 令和 | AF36: 年 | AH36: 月 | AJ36: 日 | AL36: ： | AN36: ～
I37: 様 | AC37: 令和 | AF37: 年 | AH37: 月 | AJ37: 日 | AL37: ： | AN37: ～
I38: 様 | AC38: 令和 | AF38: 年 | AH38: 月 | AJ38: 日 | AL38: ： | AN38: ～
I39: 様 | AC39: 令和 | AF39: 年 | AH39: 月 | AJ39: 日 | AL39: ： | AN39: ～
I40: 様 | AC40: 令和 | AF40: 年 | AH40: 月 | AJ40: 日 | AL40: ： | AN40: ～
I41: 様 | AC41: 令和 | AF41: 年 | AH41: 月 | AJ41: 日 | AL41: ： | AN41: ～
I42: 様 | AC42: 令和 | AF42: 年 | AH42: 月 | AJ42: 日 | AL42: ： | AN42: ～
... I45: 様 | AC45: 令和 | AF45: 年 | AH45: 月 | AJ45: 日 | AL45: ： | AN45: ～
A46: 業務 内容 | D46: 項目 | J46: 患者様氏名 | P46: 担当 | S46: 備考 | Y46: 項目 | AA46: 患者様氏名 | AG46: 内容 | AQ46: 担当
D47: 外 来 患 者 対 応 | F47: 外来患者 対応 | O47: 様 | Y47: 書 類 作 成 完 了 | AF47: 様
O48: 様 | AF48: 様
O49: 様 | AF49: 様
O50: 様 | AF50: 様
O51: 様 | AF51: 様
O52: 様 | AF52: 様
O53: 様 | AF53: 様
D54: 項目 | J54: 患者様氏名 | P54: 担当 | S54: 備考 | AF54: 様
D55: 入 退 院 支 援 | F55: 退院支援 | O55: 様 | AF55: 様
O56: 様 | AF56: 様
O57: 様 | Y57: 項目 | AG57: 件数 | AJ57: 担当 | AM57: 備考
O58: 様 | Y58: 電話対応 | AI58: 件
O59: 様 | Y59: 保健所への届出 | AI59: 件
F60: 退院請求 対応 | O60: 様 | Y60: 項目 | AG60: 内容
O61: 様 | Y61: 通院医療 観察法
F62: 入院患者 対応 | J62: 担当 | M62: 件数 | P62: 備考
O63: 件 | Y63: 認知症疾患 医療ｾﾝﾀｰ
O64: 件
O65: 件 | Y65: 各種会議参加 外部の業務
O66: 件
A67: 安全管理 | D67: 事故 | S67: 物品 購入 | AE67: 連絡 事項
D68: 苦情
D69: 紛失
D70: 他

Sheet 14
A1: ソーシャルワーカー室 業務日誌 | AH1: C.O.O | AL1: I.O.O | AP1: Ａ.Ｏ.Ｍ
H3: =曜日!B12 -> 令和3年 | M3: =曜日!C12 -> 8月 | P3: 14日 | S3: （ | T3: =曜日!D9 -> 土 | U3: ） | W3: 作成者 | Z3: ：
A5: 労務 状況 | D5: 勤務状況 | K5: 西舘 翔子 | T5: 小屋敷 千瑛 | AC5: 大川 祥子 | AL5: 吉田 久美子
K6: 野添 京子
A7: 入退院 状況 | D7: 入院形態 | K7: 東病棟 | Q7: 西病棟 | W7: 北病棟 | AC7: 南病棟 | AI7: 合計 | AO7: 総数
K8: 男性 | N8: 女性 | Q8: 男性 | T8: 女性 | W8: 男性 | Z8: 女性 | AC8: 男性 | AF8: 女性 | AI8: 男性 | AL8: 女性
D9: 任意入院 | AI9: =K9+Q9+W9+AC9 -> 0 | AL9: =N9+T9+Z9+AF9 -> 0 | AO9: =AI13 -> 0
D10: 医療保護入院 | AI10: =K10+Q10+W10+AC10 -> 0 | AL10: =N10+T10+Z10+AF10 -> 0
D11: 措置入院 | AI11: =K11+Q11+W11+AC11 -> 0 | AL11: =N11+T11+Z11+AF11 -> 0
D12: 合計 | K12: =K9+K10+K11 -> 0 | N12: =N9+N10+N11 -> 0 | Q12: =Q9+Q10+Q11 -> 0 | T12: =SUM(T9:V11) -> 0 | W12: =SUM(W9:Y11) -> 0 | Z12: =SUM(Z9:AB11) -> 0 | AC12: =SUM(AC9:AE11) -> 0 | AF12: =SUM(AF9:AH11) -> 0 | AI12: =SUM(K12+Q12+W12+AC12) -> 0 | AL12: =SUM(N12+T12+Z12+AF12) -> 0 | AO12: 人
K13: =K12+N12 -> 0 | Q13: =Q12+T12 -> 0 | W13: =W12+Z12 -> 0 | AC13: =AC12+AF12 -> 0 | AI13: =AI12+AL12 -> 0
F14: 患者様氏名 | N14: 入院形態 | T14: 担当Dr | Y14: 担当SW | AD14: 病棟 | AJ14: 備考欄
D15: 入院 | L15: 様
L16: 様
L17: 様
L18: 様
L19: 様
D20: 退院 | L20: 様
L21: 様
L22: 様
L23: 様
L24: 様
D25: 転棟 ･ 入院形態変更 | L25: 様
L26: 様
L27: 様
L28: 様
L29: 様
A30: 患者様 関連 | D30: 患者様氏名 | K30: 担当Dr | P30: 病棟 | S30: 制限内容 | X30: 制限時間 | AC30: 開始日時 | AO30: 備考
I31: 様 | AC31: 令和 | AF31: 年 | AH31: 月 | AJ31: 日 | AL31: ： | AN31: ～
I32: 様 | AC32: 令和 | AF32: 年 | AH32: 月 | AJ32: 日 | AL32: ： | AN32: ～
I33: 様 | AC33: 令和 | AF33: 年 | AH33: 月 | AJ33: 日 | AL33: ： | AN33: ～
I34: 様 | AC34: 令和 | AF34: 年 | AH34: 月 | AJ34: 日 | AL34: ： | AN34: ～
I35: 様 | AC35: 令和 | AF35: 年 | AH35: 月 | AJ35: 日 | AL35: ： | AN35: ～
I36: 様 | AC36: 令和 | AF36: 年 | AH36: 月 | AJ36: 日 | AL36: ： | AN36: ～
I37: 様 | AC37: 令和 | AF37: 年 | AH37: 月 | AJ37: 日 | AL37: ： | AN37: ～
I38: 様 | AC38: 令和 | AF38: 年 | AH38: 月 | AJ38: 日 | AL38: ： | AN38: ～
I39: 様 | AC39: 令和 | AF39: 年 | AH39: 月 | AJ39: 日 | AL39: ： | AN39: ～
I40: 様 | AC40: 令和 | AF40: 年 | AH40: 月 | AJ40: 日 | AL40: ： | AN40: ～
I41: 様 | AC41: 令和 | AF41: 年 | AH41: 月 | AJ41: 日 | AL41: ： | AN41: ～
I42: 様 | AC42: 令和 | AF42: 年 | AH42: 月 | AJ42: 日 | AL42: ： | AN42: ～
... I45: 様 | AC45: 令和 | AF45: 年 | AH45: 月 | AJ45: 日 | AL45: ： | AN45: ～
A46: 業務 内容 | D46: 項目 | J46: 患者様氏名 | P46: 担当 | S46: 備考 | Y46: 項目 | AA46: 患者様氏名 | AG46: 内容 | AQ46: 担当
D47: 外 来 患 者 対 応 | F47: 外来患者 対応 | O47: 様 | Y47: 書 類 作 成 完 了 | AF47: 様
O48: 様 | AF48: 様
O49: 様 | AF49: 様
O50: 様 | AF50: 様
O51: 様 | AF51: 様
O52: 様 | AF52: 様
O53: 様 | AF53: 様
D54: 項目 | J54: 患者様氏名 | P54: 担当 | S54: 備考 | AF54: 様
D55: 入 退 院 支 援 | F55: 退院支援 | O55: 様 | AF55: 様
O56: 様 | AF56: 様
O57: 様 | Y57: 項目 | AG57: 件数 | AJ57: 担当 | AM57: 備考
O58: 様 | Y58: 電話対応 | AI58: 件
O59: 様 | Y59: 保健所への届出 | AI59: 件
F60: 退院請求 対応 | O60: 様 | Y60: 項目 | AG60: 内容
O61: 様 | Y61: 通院医療 観察法
F62: 入院患者 対応 | J62: 担当 | M62: 件数 | P62: 備考
O63: 件 | Y63: 認知症疾患 医療ｾﾝﾀｰ
O64: 件
O65: 件 | Y65: 各種会議参加 外部の業務
O66: 件
A67: 安全管理 | D67: 事故 | S67: 物品 購入 | AE67: 連絡 事項
D68: 苦情
D69: 紛失
D70: 他

Sheet 15
A1: ソーシャルワーカー室 業務日誌 | AH1: C.O.O | AL1: I.O.O | AP1: Ａ.Ｏ.Ｍ
H3: =曜日!B12 -> 令和3年 | M3: =曜日!C12 -> 8月 | P3: 15日 | S3: （ | T3: =曜日!D3 -> 日 | U3: ） | W3: 作成者 | Z3: ：
A5: 労務 状況 | D5: 勤務状況 | K5: 西舘 翔子 | T5: 小屋敷 千瑛 | AC5: 大川 祥子 | AL5: 吉田 久美子
K6: 野添 京子
A7: 入退院 状況 | D7: 入院形態 | K7: 東病棟 | Q7: 西病棟 | W7: 北病棟 | AC7: 南病棟 | AI7: 合計 | AO7: 総数
K8: 男性 | N8: 女性 | Q8: 男性 | T8: 女性 | W8: 男性 | Z8: 女性 | AC8: 男性 | AF8: 女性 | AI8: 男性 | AL8: 女性
D9: 任意入院 | AI9: =K9+Q9+W9+AC9 -> 0 | AL9: =N9+T9+Z9+AF9 -> 0 | AO9: =AI13 -> 0
D10: 医療保護入院 | AI10: =K10+Q10+W10+AC10 -> 0 | AL10: =N10+T10+Z10+AF10 -> 0
D11: 措置入院 | AI11: =K11+Q11+W11+AC11 -> 0 | AL11: =N11+T11+Z11+AF11 -> 0
D12: 合計 | K12: =K9+K10+K11 -> 0 | N12: =N9+N10+N11 -> 0 | Q12: =Q9+Q10+Q11 -> 0 | T12: =SUM(T9:V11) -> 0 | W12: =SUM(W9:Y11) -> 0 | Z12: =SUM(Z9:AB11) -> 0 | AC12: =SUM(AC9:AE11) -> 0 | AF12: =SUM(AF9:AH11) -> 0 | AI12: =SUM(K12+Q12+W12+AC12) -> 0 | AL12: =SUM(N12+T12+Z12+AF12) -> 0 | AO12: 人
K13: =K12+N12 -> 0 | Q13: =Q12+T12 -> 0 | W13: =W12+Z12 -> 0 | AC13: =AC12+AF12 -> 0 | AI13: =AI12+AL12 -> 0
F14: 患者様氏名 | N14: 入院形態 | T14: 担当Dr | Y14: 担当SW | AD14: 病棟 | AJ14: 備考欄
D15: 入院 | L15: 様
L16: 様
L17: 様
L18: 様
L19: 様
D20: 退院 | L20: 様
L21: 様
L22: 様
L23: 様
L24: 様
D25: 転棟 ･ 入院形態変更 | L25: 様
L26: 様
L27: 様
L28: 様
L29: 様
A30: 患者様 関連 | D30: 患者様氏名 | K30: 担当Dr | P30: 病棟 | S30: 制限内容 | X30: 制限時間 | AC30: 開始日時 | AO30: 備考
I31: 様 | AC31: 令和 | AF31: 年 | AH31: 月 | AJ31: 日 | AL31: ： | AN31: ～
I32: 様 | AC32: 令和 | AF32: 年 | AH32: 月 | AJ32: 日 | AL32: ： | AN32: ～
I33: 様 | AC33: 令和 | AF33: 年 | AH33: 月 | AJ33: 日 | AL33: ： | AN33: ～
I34: 様 | AC34: 令和 | AF34: 年 | AH34: 月 | AJ34: 日 | AL34: ： | AN34: ～
I35: 様 | AC35: 令和 | AF35: 年 | AH35: 月 | AJ35: 日 | AL35: ： | AN35: ～
I36: 様 | AC36: 令和 | AF36: 年 | AH36: 月 | AJ36: 日 | AL36: ： | AN36: ～
I37: 様 | AC37: 令和 | AF37: 年 | AH37: 月 | AJ37: 日 | AL37: ： | AN37: ～
I38: 様 | AC38: 令和 | AF38: 年 | AH38: 月 | AJ38: 日 | AL38: ： | AN38: ～
I39: 様 | AC39: 令和 | AF39: 年 | AH39: 月 | AJ39: 日 | AL39: ： | AN39: ～
I40: 様 | AC40: 令和 | AF40: 年 | AH40: 月 | AJ40: 日 | AL40: ： | AN40: ～
I41: 様 | AC41: 令和 | AF41: 年 | AH41: 月 | AJ41: 日 | AL41: ： | AN41: ～
I42: 様 | AC42: 令和 | AF42: 年 | AH42: 月 | AJ42: 日 | AL42: ： | AN42: ～
... I45: 様 | AC45: 令和 | AF45: 年 | AH45: 月 | AJ45: 日 | AL45: ： | AN45: ～
A46: 業務 内容 | D46: 項目 | J46: 患者様氏名 | P46: 担当 | S46: 備考 | Y46: 項目 | AA46: 患者様氏名 | AG46: 内容 | AQ46: 担当
D47: 外 来 患 者 対 応 | F47: 外来患者 対応 | O47: 様 | Y47: 書 類 作 成 完 了 | AF47: 様
O48: 様 | AF48: 様
O49: 様 | AF49: 様
O50: 様 | AF50: 様
O51: 様 | AF51: 様
O52: 様 | AF52: 様
O53: 様 | AF53: 様
D54: 項目 | J54: 患者様氏名 | P54: 担当 | S54: 備考 | AF54: 様
D55: 入 退 院 支 援 | F55: 退院支援 | O55: 様 | AF55: 様
O56: 様 | AF56: 様
O57: 様 | Y57: 項目 | AG57: 件数 | AJ57: 担当 | AM57: 備考
O58: 様 | Y58: 電話対応 | AI58: 件
O59: 様 | Y59: 保健所への届出 | AI59: 件
F60: 退院請求 対応 | O60: 様 | Y60: 項目 | AG60: 内容
O61: 様 | Y61: 通院医療 観察法
F62: 入院患者 対応 | J62: 担当 | M62: 件数 | P62: 備考
O63: 件 | Y63: 認知症疾患 医療ｾﾝﾀｰ
O64: 件
O65: 件 | Y65: 各種会議参加 外部の業務
O66: 件
A67: 安全管理 | D67: 事故 | S67: 物品 購入 | AE67: 連絡 事項
D68: 苦情
D69: 紛失
D70: 他

Sheet 16
A1: ソーシャルワーカー室 業務日誌 | AH1: C.O.O | AL1: I.O.O | AP1: Ａ.Ｏ.Ｍ
H3: =曜日!B12 -> 令和3年 | M3: =曜日!C12 -> 8月 | P3: 16日 | S3: （ | T3: =曜日!D4 -> 月 | U3: ） | W3: 作成者 | Z3: ：
A5: 労務 状況 | D5: 勤務状況 | K5: 西舘 翔子 | T5: 小屋敷 千瑛 | AC5: 大川 祥子 | AL5: 吉田 久美子
K6: 野添 京子
A7: 入退院 状況 | D7: 入院形態 | K7: 東病棟 | Q7: 西病棟 | W7: 北病棟 | AC7: 南病棟 | AI7: 合計 | AO7: 総数
K8: 男性 | N8: 女性 | Q8: 男性 | T8: 女性 | W8: 男性 | Z8: 女性 | AC8: 男性 | AF8: 女性 | AI8: 男性 | AL8: 女性
D9: 任意入院 | AI9: =K9+Q9+W9+AC9 -> 0 | AL9: =N9+T9+Z9+AF9 -> 0 | AO9: =AI13 -> 0
D10: 医療保護入院 | AI10: =K10+Q10+W10+AC10 -> 0 | AL10: =N10+T10+Z10+AF10 -> 0
D11: 措置入院 | AI11: =K11+Q11+W11+AC11 -> 0 | AL11: =N11+T11+Z11+AF11 -> 0
D12: 合計 | K12: =K9+K10+K11 -> 0 | N12: =N9+N10+N11 -> 0 | Q12: =Q9+Q10+Q11 -> 0 | T12: =SUM(T9:V11) -> 0 | W12: =SUM(W9:Y11) -> 0 | Z12: =SUM(Z9:AB11) -> 0 | AC12: =SUM(AC9:AE11) -> 0 | AF12: =SUM(AF9:AH11) -> 0 | AI12: =SUM(K12+Q12+W12+AC12) -> 0 | AL12: =SUM(N12+T12+Z12+AF12) -> 0 | AO12: 人
K13: =K12+N12 -> 0 | Q13: =Q12+T12 -> 0 | W13: =W12+Z12 -> 0 | AC13: =AC12+AF12 -> 0 | AI13: =AI12+AL12 -> 0
F14: 患者様氏名 | N14: 入院形態 | T14: 担当Dr | Y14: 担当SW | AD14: 病棟 | AJ14: 備考欄
D15: 入院 | L15: 様
L16: 様
L17: 様
L18: 様
L19: 様
D20: 退院 | L20: 様
L21: 様
L22: 様
L23: 様
L24: 様
D25: 転棟 ･ 入院形態変更 | L25: 様
L26: 様
L27: 様
L28: 様
L29: 様
A30: 患者様 関連 | D30: 患者様氏名 | K30: 担当Dr | P30: 病棟 | S30: 制限内容 | X30: 制限時間 | AC30: 開始日時 | AO30: 備考
I31: 様 | AC31: 令和 | AF31: 年 | AH31: 月 | AJ31: 日 | AL31: ： | AN31: ～
I32: 様 | AC32: 令和 | AF32: 年 | AH32: 月 | AJ32: 日 | AL32: ： | AN32: ～
I33: 様 | AC33: 令和 | AF33: 年 | AH33: 月 | AJ33: 日 | AL33: ： | AN33: ～
I34: 様 | AC34: 令和 | AF34: 年 | AH34: 月 | AJ34: 日 | AL34: ： | AN34: ～
I35: 様 | AC35: 令和 | AF35: 年 | AH35: 月 | AJ35: 日 | AL35: ： | AN35: ～
I36: 様 | AC36: 令和 | AF36: 年 | AH36: 月 | AJ36: 日 | AL36: ： | AN36: ～
I37: 様 | AC37: 令和 | AF37: 年 | AH37: 月 | AJ37: 日 | AL37: ： | AN37: ～
I38: 様 | AC38: 令和 | AF38: 年 | AH38: 月 | AJ38: 日 | AL38: ： | AN38: ～
I39: 様 | AC39: 令和 | AF39: 年 | AH39: 月 | AJ39: 日 | AL39: ： | AN39: ～
I40: 様 | AC40: 令和 | AF40: 年 | AH40: 月 | AJ40: 日 | AL40: ： | AN40: ～
I41: 様 | AC41: 令和 | AF41: 年 | AH41: 月 | AJ41: 日 | AL41: ： | AN41: ～
I42: 様 | AC42: 令和 | AF42: 年 | AH42: 月 | AJ42: 日 | AL42: ： | AN42: ～
... I45: 様 | AC45: 令和 | AF45: 年 | AH45: 月 | AJ45: 日 | AL45: ： | AN45: ～
A46: 業務 内容 | D46: 項目 | J46: 患者様氏名 | P46: 担当 | S46: 備考 | Y46: 項目 | AA46: 患者様氏名 | AG46: 内容 | AQ46: 担当
D47: 外 来 患 者 対 応 | F47: 外来患者 対応 | O47: 様 | Y47: 書 類 作 成 完 了 | AF47: 様
O48: 様 | AF48: 様
O49: 様 | AF49: 様
O50: 様 | AF50: 様
O51: 様 | AF51: 様
O52: 様 | AF52: 様
O53: 様 | AF53: 様
D54: 項目 | J54: 患者様氏名 | P54: 担当 | S54: 備考 | AF54: 様
D55: 入 退 院 支 援 | F55: 退院支援 | O55: 様 | AF55: 様
O56: 様 | AF56: 様
O57: 様 | Y57: 項目 | AG57: 件数 | AJ57: 担当 | AM57: 備考
O58: 様 | Y58: 電話対応 | AI58: 件
O59: 様 | Y59: 保健所への届出 | AI59: 件
F60: 退院請求 対応 | O60: 様 | Y60: 項目 | AG60: 内容
O61: 様 | Y61: 通院医療 観察法
F62: 入院患者 対応 | J62: 担当 | M62: 件数 | P62: 備考
O63: 件 | Y63: 認知症疾患 医療ｾﾝﾀｰ
O64: 件
O65: 件 | Y65: 各種会議参加 外部の業務
O66: 件
A67: 安全管理 | D67: 事故 | S67: 物品 購入 | AE67: 連絡 事項
D68: 苦情
D69: 紛失
D70: 他

Sheet 17
A1: ソーシャルワーカー室 業務日誌 | AH1: C.O.O | AL1: I.O.O | AP1: Ａ.Ｏ.Ｍ
H3: =曜日!B12 -> 令和3年 | M3: =曜日!C12 -> 8月 | P3: 17日 | S3: （ | T3: =曜日!D5 -> 火 | U3: ） | W3: 作成者 | Z3: ：
A5: 労務 状況 | D5: 勤務状況 | K5: 西舘 翔子 | T5: 小屋敷 千瑛 | AC5: 大川 祥子 | AL5: 吉田 久美子
K6: 野添 京子
A7: 入退院 状況 | D7: 入院形態 | K7: 東病棟 | Q7: 西病棟 | W7: 北病棟 | AC7: 南病棟 | AI7: 合計 | AO7: 総数
K8: 男性 | N8: 女性 | Q8: 男性 | T8: 女性 | W8: 男性 | Z8: 女性 | AC8: 男性 | AF8: 女性 | AI8: 男性 | AL8: 女性
D9: 任意入院 | AI9: =K9+Q9+W9+AC9 -> 0 | AL9: =N9+T9+Z9+AF9 -> 0 | AO9: =AI13 -> 0
D10: 医療保護入院 | AI10: =K10+Q10+W10+AC10 -> 0 | AL10: =N10+T10+Z10+AF10 -> 0
D11: 措置入院 | AI11: =K11+Q11+W11+AC11 -> 0 | AL11: =N11+T11+Z11+AF11 -> 0
D12: 合計 | K12: =K9+K10+K11 -> 0 | N12: =N9+N10+N11 -> 0 | Q12: =Q9+Q10+Q11 -> 0 | T12: =SUM(T9:V11) -> 0 | W12: =SUM(W9:Y11) -> 0 | Z12: =SUM(Z9:AB11) -> 0 | AC12: =SUM(AC9:AE11) -> 0 | AF12: =SUM(AF9:AH11) -> 0 | AI12: =SUM(K12+Q12+W12+AC12) -> 0 | AL12: =SUM(N12+T12+Z12+AF12) -> 0 | AO12: 人
K13: =K12+N12 -> 0 | Q13: =Q12+T12 -> 0 | W13: =W12+Z12 -> 0 | AC13: =AC12+AF12 -> 0 | AI13: =AI12+AL12 -> 0
F14: 患者様氏名 | N14: 入院形態 | T14: 担当Dr | Y14: 担当SW | AD14: 病棟 | AJ14: 備考欄
D15: 入院 | L15: 様
L16: 様
L17: 様
L18: 様
L19: 様
D20: 退院 | L20: 様
L21: 様
L22: 様
L23: 様
L24: 様
D25: 転棟 ･ 入院形態変更 | L25: 様
L26: 様
L27: 様
L28: 様
L29: 様
A30: 患者様 関連 | D30: 患者様氏名 | K30: 担当Dr | P30: 病棟 | S30: 制限内容 | X30: 制限時間 | AC30: 開始日時 | AO30: 備考
I31: 様 | AC31: 令和 | AF31: 年 | AH31: 月 | AJ31: 日 | AL31: ： | AN31: ～
I32: 様 | AC32: 令和 | AF32: 年 | AH32: 月 | AJ32: 日 | AL32: ： | AN32: ～
I33: 様 | AC33: 令和 | AF33: 年 | AH33: 月 | AJ33: 日 | AL33: ： | AN33: ～
I34: 様 | AC34: 令和 | AF34: 年 | AH34: 月 | AJ34: 日 | AL34: ： | AN34: ～
I35: 様 | AC35: 令和 | AF35: 年 | AH35: 月 | AJ35: 日 | AL35: ： | AN35: ～
I36: 様 | AC36: 令和 | AF36: 年 | AH36: 月 | AJ36: 日 | AL36: ： | AN36: ～
I37: 様 | AC37: 令和 | AF37: 年 | AH37: 月 | AJ37: 日 | AL37: ： | AN37: ～
I38: 様 | AC38: 令和 | AF38: 年 | AH38: 月 | AJ38: 日 | AL38: ： | AN38: ～
I39: 様 | AC39: 令和 | AF39: 年 | AH39: 月 | AJ39: 日 | AL39: ： | AN39: ～
I40: 様 | AC40: 令和 | AF40: 年 | AH40: 月 | AJ40: 日 | AL40: ： | AN40: ～
I41: 様 | AC41: 令和 | AF41: 年 | AH41: 月 | AJ41: 日 | AL41: ： | AN41: ～
I42: 様 | AC42: 令和 | AF42: 年 | AH42: 月 | AJ42: 日 | AL42: ： | AN42: ～
... I45: 様 | AC45: 令和 | AF45: 年 | AH45: 月 | AJ45: 日 | AL45: ： | AN45: ～
A46: 業務 内容 | D46: 項目 | J46: 患者様氏名 | P46: 担当 | S46: 備考 | Y46: 項目 | AA46: 患者様氏名 | AG46: 内容 | AQ46: 担当
D47: 外 来 患 者 対 応 | F47: 外来患者 対応 | O47: 様 | Y47: 書 類 作 成 完 了 | AF47: 様
O48: 様 | AF48: 様
O49: 様 | AF49: 様
O50: 様 | AF50: 様
O51: 様 | AF51: 様
O52: 様 | AF52: 様
O53: 様 | AF53: 様
D54: 項目 | J54: 患者様氏名 | P54: 担当 | S54: 備考 | AF54: 様
D55: 入 退 院 支 援 | F55: 退院支援 | O55: 様 | AF55: 様
O56: 様 | AF56: 様
O57: 様 | Y57: 項目 | AG57: 件数 | AJ57: 担当 | AM57: 備考
O58: 様 | Y58: 電話対応 | AI58: 件
O59: 様 | Y59: 保健所への届出 | AI59: 件
F60: 退院請求 対応 | O60: 様 | Y60: 項目 | AG60: 内容
O61: 様 | Y61: 通院医療 観察法
F62: 入院患者 対応 | J62: 担当 | M62: 件数 | P62: 備考
O63: 件 | Y63: 認知症疾患 医療ｾﾝﾀｰ
O64: 件
O65: 件 | Y65: 各種会議参加 外部の業務
O66: 件
A67: 安全管理 | D67: 事故 | S67: 物品 購入 | AE67: 連絡 事項
D68: 苦情
D69: 紛失
D70: 他

Sheet 18
A1: ソーシャルワーカー室 業務日誌 | AH1: C.O.O | AL1: I.O.O | AP1: Ａ.Ｏ.Ｍ
H3: =曜日!B12 -> 令和3年 | M3: =曜日!C12 -> 8月 | P3: 18日 | S3: （ | T3: =曜日!D6 -> 水 | U3: ） | W3: 作成者 | Z3: ：
A5: 労務 状況 | D5: 勤務状況 | K5: 西舘 翔子 | T5: 小屋敷 千瑛 | AC5: 大川 祥子 | AL5: 吉田 久美子
K6: 野添 京子
A7: 入退院 状況 | D7: 入院形態 | K7: 東病棟 | Q7: 西病棟 | W7: 北病棟 | AC7: 南病棟 | AI7: 合計 | AO7: 総数
K8: 男性 | N8: 女性 | Q8: 男性 | T8: 女性 | W8: 男性 | Z8: 女性 | AC8: 男性 | AF8: 女性 | AI8: 男性 | AL8: 女性
D9: 任意入院 | AI9: =K9+Q9+W9+AC9 -> 0 | AL9: =N9+T9+Z9+AF9 -> 0 | AO9: =AI13 -> 0
D10: 医療保護入院 | AI10: =K10+Q10+W10+AC10 -> 0 | AL10: =N10+T10+Z10+AF10 -> 0
D11: 措置入院 | AI11: =K11+Q11+W11+AC11 -> 0 | AL11: =N11+T11+Z11+AF11 -> 0
D12: 合計 | K12: =K9+K10+K11 -> 0 | N12: =N9+N10+N11 -> 0 | Q12: =Q9+Q10+Q11 -> 0 | T12: =SUM(T9:V11) -> 0 | W12: =SUM(W9:Y11) -> 0 | Z12: =SUM(Z9:AB11) -> 0 | AC12: =SUM(AC9:AE11) -> 0 | AF12: =SUM(AF9:AH11) -> 0 | AI12: =SUM(K12+Q12+W12+AC12) -> 0 | AL12: =SUM(N12+T12+Z12+AF12) -> 0 | AO12: 人
K13: =K12+N12 -> 0 | Q13: =Q12+T12 -> 0 | W13: =W12+Z12 -> 0 | AC13: =AC12+AF12 -> 0 | AI13: =AI12+AL12 -> 0
F14: 患者様氏名 | N14: 入院形態 | T14: 担当Dr | Y14: 担当SW | AD14: 病棟 | AJ14: 備考欄
D15: 入院 | L15: 様
L16: 様
L17: 様
L18: 様
L19: 様
D20: 退院 | L20: 様
L21: 様
L22: 様
L23: 様
L24: 様
D25: 転棟 ･ 入院形態変更 | L25: 様
L26: 様
L27: 様
L28: 様
L29: 様
A30: 患者様 関連 | D30: 患者様氏名 | K30: 担当Dr | P30: 病棟 | S30: 制限内容 | X30: 制限時間 | AC30: 開始日時 | AO30: 備考
I31: 様 | AC31: 令和 | AF31: 年 | AH31: 月 | AJ31: 日 | AL31: ： | AN31: ～
I32: 様 | AC32: 令和 | AF32: 年 | AH32: 月 | AJ32: 日 | AL32: ： | AN32: ～
I33: 様 | AC33: 令和 | AF33: 年 | AH33: 月 | AJ33: 日 | AL33: ： | AN33: ～
I34: 様 | AC34: 令和 | AF34: 年 | AH34: 月 | AJ34: 日 | AL34: ： | AN34: ～
I35: 様 | AC35: 令和 | AF35: 年 | AH35: 月 | AJ35: 日 | AL35: ： | AN35: ～
I36: 様 | AC36: 令和 | AF36: 年 | AH36: 月 | AJ36: 日 | AL36: ： | AN36: ～
I37: 様 | AC37: 令和 | AF37: 年 | AH37: 月 | AJ37: 日 | AL37: ： | AN37: ～
I38: 様 | AC38: 令和 | AF38: 年 | AH38: 月 | AJ38: 日 | AL38: ： | AN38: ～
I39: 様 | AC39: 令和 | AF39: 年 | AH39: 月 | AJ39: 日 | AL39: ： | AN39: ～
I40: 様 | AC40: 令和 | AF40: 年 | AH40: 月 | AJ40: 日 | AL40: ： | AN40: ～
I41: 様 | AC41: 令和 | AF41: 年 | AH41: 月 | AJ41: 日 | AL41: ： | AN41: ～
I42: 様 | AC42: 令和 | AF42: 年 | AH42: 月 | AJ42: 日 | AL42: ： | AN42: ～
... I45: 様 | AC45: 令和 | AF45: 年 | AH45: 月 | AJ45: 日 | AL45: ： | AN45: ～
A46: 業務 内容 | D46: 項目 | J46: 患者様氏名 | P46: 担当 | S46: 備考 | Y46: 項目 | AA46: 患者様氏名 | AG46: 内容 | AQ46: 担当
D47: 外 来 患 者 対 応 | F47: 外来患者 対応 | O47: 様 | Y47: 書 類 作 成 完 了 | AF47: 様
O48: 様 | AF48: 様
O49: 様 | AF49: 様
O50: 様 | AF50: 様
O51: 様 | AF51: 様
O52: 様 | AF52: 様
O53: 様 | AF53: 様
D54: 項目 | J54: 患者様氏名 | P54: 担当 | S54: 備考 | AF54: 様
D55: 入 退 院 支 援 | F55: 退院支援 | O55: 様 | AF55: 様
O56: 様 | AF56: 様
O57: 様 | Y57: 項目 | AG57: 件数 | AJ57: 担当 | AM57: 備考
O58: 様 | Y58: 電話対応 | AI58: 件
O59: 様 | Y59: 保健所への届出 | AI59: 件
F60: 退院請求 対応 | O60: 様 | Y60: 項目 | AG60: 内容
O61: 様 | Y61: 通院医療 観察法
F62: 入院患者 対応 | J62: 担当 | M62: 件数 | P62: 備考
O63: 件 | Y63: 認知症疾患 医療ｾﾝﾀｰ
O64: 件
O65: 件 | Y65: 各種会議参加 外部の業務
O66: 件
A67: 安全管理 | D67: 事故 | S67: 物品 購入 | AE67: 連絡 事項
D68: 苦情
D69: 紛失
D70: 他

Sheet 19
A1: ソーシャルワーカー室 業務日誌 | AH1: C.O.O | AL1: I.O.O | AP1: Ａ.Ｏ.Ｍ
H3: =曜日!B12 -> 令和3年 | M3: =曜日!C12 -> 8月 | P3: 19日 | S3: （ | T3: =曜日!D7 -> 木 | U3: ） | W3: 作成者 | Z3: ：
A5: 労務 状況 | D5: 勤務状況 | K5: 西舘 翔子 | T5: 小屋敷 千瑛 | AC5: 大川 祥子 | AL5: 吉田 久美子
K6: 野添 京子
A7: 入退院 状況 | D7: 入院形態 | K7: 東病棟 | Q7: 西病棟 | W7: 北病棟 | AC7: 南病棟 | AI7: 合計 | AO7: 総数
K8: 男性 | N8: 女性 | Q8: 男性 | T8: 女性 | W8: 男性 | Z8: 女性 | AC8: 男性 | AF8: 女性 | AI8: 男性 | AL8: 女性
D9: 任意入院 | AI9: =K9+Q9+W9+AC9 -> 0 | AL9: =N9+T9+Z9+AF9 -> 0 | AO9: =AI13 -> 0
D10: 医療保護入院 | AI10: =K10+Q10+W10+AC10 -> 0 | AL10: =N10+T10+Z10+AF10 -> 0
D11: 措置入院 | AI11: =K11+Q11+W11+AC11 -> 0 | AL11: =N11+T11+Z11+AF11 -> 0
D12: 合計 | K12: =K9+K10+K11 -> 0 | N12: =N9+N10+N11 -> 0 | Q12: =Q9+Q10+Q11 -> 0 | T12: =SUM(T9:V11) -> 0 | W12: =SUM(W9:Y11) -> 0 | Z12: =SUM(Z9:AB11) -> 0 | AC12: =SUM(AC9:AE11) -> 0 | AF12: =SUM(AF9:AH11) -> 0 | AI12: =SUM(K12+Q12+W12+AC12) -> 0 | AL12: =SUM(N12+T12+Z12+AF12) -> 0 | AO12: 人
K13: =K12+N12 -> 0 | Q13: =Q12+T12 -> 0 | W13: =W12+Z12 -> 0 | AC13: =AC12+AF12 -> 0 | AI13: =AI12+AL12 -> 0
F14: 患者様氏名 | N14: 入院形態 | T14: 担当Dr | Y14: 担当SW | AD14: 病棟 | AJ14: 備考欄
D15: 入院 | L15: 様
L16: 様
L17: 様
L18: 様
L19: 様
D20: 退院 | L20: 様
L21: 様
L22: 様
L23: 様
L24: 様
D25: 転棟 ･ 入院形態変更 | L25: 様
L26: 様
L27: 様
L28: 様
L29: 様
A30: 患者様 関連 | D30: 患者様氏名 | K30: 担当Dr | P30: 病棟 | S30: 制限内容 | X30: 制限時間 | AC30: 開始日時 | AO30: 備考
I31: 様 | AC31: 令和 | AF31: 年 | AH31: 月 | AJ31: 日 | AL31: ： | AN31: ～
I32: 様 | AC32: 令和 | AF32: 年 | AH32: 月 | AJ32: 日 | AL32: ： | AN32: ～
I33: 様 | AC33: 令和 | AF33: 年 | AH33: 月 | AJ33: 日 | AL33: ： | AN33: ～
I34: 様 | AC34: 令和 | AF34: 年 | AH34: 月 | AJ34: 日 | AL34: ： | AN34: ～
I35: 様 | AC35: 令和 | AF35: 年 | AH35: 月 | AJ35: 日 | AL35: ： | AN35: ～
I36: 様 | AC36: 令和 | AF36: 年 | AH36: 月 | AJ36: 日 | AL36: ： | AN36: ～
I37: 様 | AC37: 令和 | AF37: 年 | AH37: 月 | AJ37: 日 | AL37: ： | AN37: ～
I38: 様 | AC38: 令和 | AF38: 年 | AH38: 月 | AJ38: 日 | AL38: ： | AN38: ～
I39: 様 | AC39: 令和 | AF39: 年 | AH39: 月 | AJ39: 日 | AL39: ： | AN39: ～
I40: 様 | AC40: 令和 | AF40: 年 | AH40: 月 | AJ40: 日 | AL40: ： | AN40: ～
I41: 様 | AC41: 令和 | AF41: 年 | AH41: 月 | AJ41: 日 | AL41: ： | AN41: ～
I42: 様 | AC42: 令和 | AF42: 年 | AH42: 月 | AJ42: 日 | AL42: ： | AN42: ～
... I45: 様 | AC45: 令和 | AF45: 年 | AH45: 月 | AJ45: 日 | AL45: ： | AN45: ～
A46: 業務 内容 | D46: 項目 | J46: 患者様氏名 | P46: 担当 | S46: 備考 | Y46: 項目 | AA46: 患者様氏名 | AG46: 内容 | AQ46: 担当
D47: 外 来 患 者 対 応 | F47: 外来患者 対応 | O47: 様 | Y47: 書 類 作 成 完 了 | AF47: 様
O48: 様 | AF48: 様
O49: 様 | AF49: 様
O50: 様 | AF50: 様
O51: 様 | AF51: 様
O52: 様 | AF52: 様
O53: 様 | AF53: 様
D54: 項目 | J54: 患者様氏名 | P54: 担当 | S54: 備考 | AF54: 様
D55: 入 退 院 支 援 | F55: 退院支援 | O55: 様 | AF55: 様
O56: 様 | AF56: 様
O57: 様 | Y57: 項目 | AG57: 件数 | AJ57: 担当 | AM57: 備考
O58: 様 | Y58: 電話対応 | AI58: 件
O59: 様 | Y59: 保健所への届出 | AI59: 件
F60: 退院請求 対応 | O60: 様 | Y60: 項目 | AG60: 内容
O61: 様 | Y61: 通院医療 観察法
F62: 入院患者 対応 | J62: 担当 | M62: 件数 | P62: 備考
O63: 件 | Y63: 認知症疾患 医療ｾﾝﾀｰ
O64: 件
O65: 件 | Y65: 各種会議参加 外部の業務
O66: 件
A67: 安全管理 | D67: 事故 | S67: 物品 購入 | AE67: 連絡 事項
D68: 苦情
D69: 紛失
D70: 他

Sheet 20
A1: ソーシャルワーカー室 業務日誌 | AH1: C.O.O | AL1: I.O.O | AP1: Ａ.Ｏ.Ｍ
H3: =曜日!B12 -> 令和3年 | M3: =曜日!C12 -> 8月 | P3: 20日 | S3: （ | T3: =曜日!D8 -> 金 | U3: ） | W3: 作成者 | Z3: ：
A5: 労務 状況 | D5: 勤務状況 | K5: 西舘 翔子 | T5: 小屋敷 千瑛 | AC5: 大川 祥子 | AL5: 吉田 久美子
K6: 野添 京子
A7: 入退院 状況 | D7: 入院形態 | K7: 東病棟 | Q7: 西病棟 | W7: 北病棟 | AC7: 南病棟 | AI7: 合計 | AO7: 総数
K8: 男性 | N8: 女性 | Q8: 男性 | T8: 女性 | W8: 男性 | Z8: 女性 | AC8: 男性 | AF8: 女性 | AI8: 男性 | AL8: 女性
D9: 任意入院 | AI9: =K9+Q9+W9+AC9 -> 0 | AL9: =N9+T9+Z9+AF9 -> 0 | AO9: =AI13 -> 0
D10: 医療保護入院 | AI10: =K10+Q10+W10+AC10 -> 0 | AL10: =N10+T10+Z10+AF10 -> 0
D11: 措置入院 | AI11: =K11+Q11+W11+AC11 -> 0 | AL11: =N11+T11+Z11+AF11 -> 0
D12: 合計 | K12: =K9+K10+K11 -> 0 | N12: =N9+N10+N11 -> 0 | Q12: =Q9+Q10+Q11 -> 0 | T12: =SUM(T9:V11) -> 0 | W12: =SUM(W9:Y11) -> 0 | Z12: =SUM(Z9:AB11) -> 0 | AC12: =SUM(AC9:AE11) -> 0 | AF12: =SUM(AF9:AH11) -> 0 | AI12: =SUM(K12+Q12+W12+AC12) -> 0 | AL12: =SUM(N12+T12+Z12+AF12) -> 0 | AO12: 人
K13: =K12+N12 -> 0 | Q13: =Q12+T12 -> 0 | W13: =W12+Z12 -> 0 | AC13: =AC12+AF12 -> 0 | AI13: =AI12+AL12 -> 0
F14: 患者様氏名 | N14: 入院形態 | T14: 担当Dr | Y14: 担当SW | AD14: 病棟 | AJ14: 備考欄
D15: 入院 | L15: 様
L16: 様
L17: 様
L18: 様
L19: 様
D20: 退院 | L20: 様
L21: 様
L22: 様
L23: 様
L24: 様
D25: 転棟 ･ 入院形態変更 | L25: 様
L26: 様
L27: 様
L28: 様
L29: 様
A30: 患者様 関連 | D30: 患者様氏名 | K30: 担当Dr | P30: 病棟 | S30: 制限内容 | X30: 制限時間 | AC30: 開始日時 | AO30: 備考
I31: 様 | AC31: 令和 | AF31: 年 | AH31: 月 | AJ31: 日 | AL31: ： | AN31: ～
I32: 様 | AC32: 令和 | AF32: 年 | AH32: 月 | AJ32: 日 | AL32: ： | AN32: ～
I33: 様 | AC33: 令和 | AF33: 年 | AH33: 月 | AJ33: 日 | AL33: ： | AN33: ～
I34: 様 | AC34: 令和 | AF34: 年 | AH34: 月 | AJ34: 日 | AL34: ： | AN34: ～
I35: 様 | AC35: 令和 | AF35: 年 | AH35: 月 | AJ35: 日 | AL35: ： | AN35: ～
I36: 様 | AC36: 令和 | AF36: 年 | AH36: 月 | AJ36: 日 | AL36: ： | AN36: ～
I37: 様 | AC37: 令和 | AF37: 年 | AH37: 月 | AJ37: 日 | AL37: ： | AN37: ～
I38: 様 | AC38: 令和 | AF38: 年 | AH38: 月 | AJ38: 日 | AL38: ： | AN38: ～
I39: 様 | AC39: 令和 | AF39: 年 | AH39: 月 | AJ39: 日 | AL39: ： | AN39: ～
I40: 様 | AC40: 令和 | AF40: 年 | AH40: 月 | AJ40: 日 | AL40: ： | AN40: ～
I41: 様 | AC41: 令和 | AF41: 年 | AH41: 月 | AJ41: 日 | AL41: ： | AN41: ～
I42: 様 | AC42: 令和 | AF42: 年 | AH42: 月 | AJ42: 日 | AL42: ： | AN42: ～
... I45: 様 | AC45: 令和 | AF45: 年 | AH45: 月 | AJ45: 日 | AL45: ： | AN45: ～
A46: 業務 内容 | D46: 項目 | J46: 患者様氏名 | P46: 担当 | S46: 備考 | Y46: 項目 | AA46: 患者様氏名 | AG46: 内容 | AQ46: 担当
D47: 外 来 患 者 対 応 | F47: 外来患者 対応 | O47: 様 | Y47: 書 類 作 成 完 了 | AF47: 様
O48: 様 | AF48: 様
O49: 様 | AF49: 様
O50: 様 | AF50: 様
O51: 様 | AF51: 様
O52: 様 | AF52: 様
O53: 様 | AF53: 様
D54: 項目 | J54: 患者様氏名 | P54: 担当 | S54: 備考 | AF54: 様
D55: 入 退 院 支 援 | F55: 退院支援 | O55: 様 | AF55: 様
O56: 様 | AF56: 様
O57: 様 | Y57: 項目 | AG57: 件数 | AJ57: 担当 | AM57: 備考
O58: 様 | Y58: 電話対応 | AI58: 件
O59: 様 | Y59: 保健所への届出 | AI59: 件
F60: 退院請求 対応 | O60: 様 | Y60: 項目 | AG60: 内容
O61: 様 | Y61: 通院医療 観察法
F62: 入院患者 対応 | J62: 担当 | M62: 件数 | P62: 備考
O63: 件 | Y63: 認知症疾患 医療ｾﾝﾀｰ
O64: 件
O65: 件 | Y65: 各種会議参加 外部の業務
O66: 件
A67: 安全管理 | D67: 事故 | S67: 物品 購入 | AE67: 連絡 事項
D68: 苦情
D69: 紛失
D70: 他

Sheet 21
A1: ソーシャルワーカー室 業務日誌 | AH1: C.O.O | AL1: I.O.O | AP1: Ａ.Ｏ.Ｍ
H3: =曜日!B12 -> 令和3年 | M3: =曜日!C12 -> 8月 | P3: 21日 | S3: （ | T3: =曜日!D9 -> 土 | U3: ） | W3: 作成者 | Z3: ：
A5: 労務 状況 | D5: 勤務状況 | K5: 西舘 翔子 | T5: 小屋敷 千瑛 | AC5: 大川 祥子 | AL5: 吉田 久美子
K6: 野添 京子
A7: 入退院 状況 | D7: 入院形態 | K7: 東病棟 | Q7: 西病棟 | W7: 北病棟 | AC7: 南病棟 | AI7: 合計 | AO7: 総数
K8: 男性 | N8: 女性 | Q8: 男性 | T8: 女性 | W8: 男性 | Z8: 女性 | AC8: 男性 | AF8: 女性 | AI8: 男性 | AL8: 女性
D9: 任意入院 | AI9: =K9+Q9+W9+AC9 -> 0 | AL9: =N9+T9+Z9+AF9 -> 0 | AO9: =AI13 -> 0
D10: 医療保護入院 | AI10: =K10+Q10+W10+AC10 -> 0 | AL10: =N10+T10+Z10+AF10 -> 0
D11: 措置入院 | AI11: =K11+Q11+W11+AC11 -> 0 | AL11: =N11+T11+Z11+AF11 -> 0
D12: 合計 | K12: =K9+K10+K11 -> 0 | N12: =N9+N10+N11 -> 0 | Q12: =Q9+Q10+Q11 -> 0 | T12: =SUM(T9:V11) -> 0 | W12: =SUM(W9:Y11) -> 0 | Z12: =SUM(Z9:AB11) -> 0 | AC12: =SUM(AC9:AE11) -> 0 | AF12: =SUM(AF9:AH11) -> 0 | AI12: =SUM(K12+Q12+W12+AC12) -> 0 | AL12: =SUM(N12+T12+Z12+AF12) -> 0 | AO12: 人
K13: =K12+N12 -> 0 | Q13: =Q12+T12 -> 0 | W13: =W12+Z12 -> 0 | AC13: =AC12+AF12 -> 0 | AI13: =AI12+AL12 -> 0
F14: 患者様氏名 | N14: 入院形態 | T14: 担当Dr | Y14: 担当SW | AD14: 病棟 | AJ14: 備考欄
D15: 入院 | L15: 様
L16: 様
L17: 様
L18: 様
L19: 様
D20: 退院 | L20: 様
L21: 様
L22: 様
L23: 様
L24: 様
D25: 転棟 ･ 入院形態変更 | L25: 様
L26: 様
L27: 様
L28: 様
L29: 様
A30: 患者様 関連 | D30: 患者様氏名 | K30: 担当Dr | P30: 病棟 | S30: 制限内容 | X30: 制限時間 | AC30: 開始日時 | AO30: 備考
I31: 様 | AC31: 令和 | AF31: 年 | AH31: 月 | AJ31: 日 | AL31: ： | AN31: ～
I32: 様 | AC32: 令和 | AF32: 年 | AH32: 月 | AJ32: 日 | AL32: ： | AN32: ～
I33: 様 | AC33: 令和 | AF33: 年 | AH33: 月 | AJ33: 日 | AL33: ： | AN33: ～
I34: 様 | AC34: 令和 | AF34: 年 | AH34: 月 | AJ34: 日 | AL34: ： | AN34: ～
I35: 様 | AC35: 令和 | AF35: 年 | AH35: 月 | AJ35: 日 | AL35: ： | AN35: ～
I36: 様 | AC36: 令和 | AF36: 年 | AH36: 月 | AJ36: 日 | AL36: ： | AN36: ～
I37: 様 | AC37: 令和 | AF37: 年 | AH37: 月 | AJ37: 日 | AL37: ： | AN37: ～
I38: 様 | AC38: 令和 | AF38: 年 | AH38: 月 | AJ38: 日 | AL38: ： | AN38: ～
I39: 様 | AC39: 令和 | AF39: 年 | AH39: 月 | AJ39: 日 | AL39: ： | AN39: ～
I40: 様 | AC40: 令和 | AF40: 年 | AH40: 月 | AJ40: 日 | AL40: ： | AN40: ～
I41: 様 | AC41: 令和 | AF41: 年 | AH41: 月 | AJ41: 日 | AL41: ： | AN41: ～
I42: 様 | AC42: 令和 | AF42: 年 | AH42: 月 | AJ42: 日 | AL42: ： | AN42: ～
... I45: 様 | AC45: 令和 | AF45: 年 | AH45: 月 | AJ45: 日 | AL45: ： | AN45: ～
A46: 業務 内容 | D46: 項目 | J46: 患者様氏名 | P46: 担当 | S46: 備考 | Y46: 項目 | AA46: 患者様氏名 | AG46: 内容 | AQ46: 担当
D47: 外 来 患 者 対 応 | F47: 外来患者 対応 | O47: 様 | Y47: 書 類 作 成 完 了 | AF47: 様
O48: 様 | AF48: 様
O49: 様 | AF49: 様
O50: 様 | AF50: 様
O51: 様 | AF51: 様
O52: 様 | AF52: 様
O53: 様 | AF53: 様
D54: 項目 | J54: 患者様氏名 | P54: 担当 | S54: 備考 | AF54: 様
D55: 入 退 院 支 援 | F55: 退院支援 | O55: 様 | AF55: 様
O56: 様 | AF56: 様
O57: 様 | Y57: 項目 | AG57: 件数 | AJ57: 担当 | AM57: 備考
O58: 様 | Y58: 電話対応 | AI58: 件
O59: 様 | Y59: 保健所への届出 | AI59: 件
F60: 退院請求 対応 | O60: 様 | Y60: 項目 | AG60: 内容
O61: 様 | Y61: 通院医療 観察法
F62: 入院患者 対応 | J62: 担当 | M62: 件数 | P62: 備考
O63: 件 | Y63: 認知症疾患 医療ｾﾝﾀｰ
O64: 件
O65: 件 | Y65: 各種会議参加 外部の業務
O66: 件
A67: 安全管理 | D67: 事故 | S67: 物品 購入 | AE67: 連絡 事項
D68: 苦情
D69: 紛失
D70: 他

Sheet 22
A1: ソーシャルワーカー室 業務日誌 | AH1: C.O.O | AL1: I.O.O | AP1: Ａ.Ｏ.Ｍ
H3: =曜日!B12 -> 令和3年 | M3: =曜日!C12 -> 8月 | P3: 22日 | S3: （ | T3: =曜日!D3 -> 日 | U3: ） | W3: 作成者 | Z3: ：
A5: 労務 状況 | D5: 勤務状況 | K5: 西舘 翔子 | T5: 小屋敷 千瑛 | AC5: 大川 祥子 | AL5: 吉田 久美子
K6: 野添 京子
A7: 入退院 状況 | D7: 入院形態 | K7: 東病棟 | Q7: 西病棟 | W7: 北病棟 | AC7: 南病棟 | AI7: 合計 | AO7: 総数
K8: 男性 | N8: 女性 | Q8: 男性 | T8: 女性 | W8: 男性 | Z8: 女性 | AC8: 男性 | AF8: 女性 | AI8: 男性 | AL8: 女性
D9: 任意入院 | AI9: =K9+Q9+W9+AC9 -> 0 | AL9: =N9+T9+Z9+AF9 -> 0 | AO9: =AI13 -> 0
D10: 医療保護入院 | AI10: =K10+Q10+W10+AC10 -> 0 | AL10: =N10+T10+Z10+AF10 -> 0
D11: 措置入院 | AI11: =K11+Q11+W11+AC11 -> 0 | AL11: =N11+T11+Z11+AF11 -> 0
D12: 合計 | K12: =K9+K10+K11 -> 0 | N12: =N9+N10+N11 -> 0 | Q12: =Q9+Q10+Q11 -> 0 | T12: =SUM(T9:V11) -> 0 | W12: =SUM(W9:Y11) -> 0 | Z12: =SUM(Z9:AB11) -> 0 | AC12: =SUM(AC9:AE11) -> 0 | AF12: =SUM(AF9:AH11) -> 0 | AI12: =SUM(K12+Q12+W12+AC12) -> 0 | AL12: =SUM(N12+T12+Z12+AF12) -> 0 | AO12: 人
K13: =K12+N12 -> 0 | Q13: =Q12+T12 -> 0 | W13: =W12+Z12 -> 0 | AC13: =AC12+AF12 -> 0 | AI13: =AI12+AL12 -> 0
F14: 患者様氏名 | N14: 入院形態 | T14: 担当Dr | Y14: 担当SW | AD14: 病棟 | AJ14: 備考欄
D15: 入院 | L15: 様
L16: 様
L17: 様
L18: 様
L19: 様
D20: 退院 | L20: 様
L21: 様
L22: 様
L23: 様
L24: 様
D25: 転棟 ･ 入院形態変更 | L25: 様
L26: 様
L27: 様
L28: 様
L29: 様
A30: 患者様 関連 | D30: 患者様氏名 | K30: 担当Dr | P30: 病棟 | S30: 制限内容 | X30: 制限時間 | AC30: 開始日時 | AO30: 備考
I31: 様 | AC31: 令和 | AF31: 年 | AH31: 月 | AJ31: 日 | AL31: ： | AN31: ～
I32: 様 | AC32: 令和 | AF32: 年 | AH32: 月 | AJ32: 日 | AL32: ： | AN32: ～
I33: 様 | AC33: 令和 | AF33: 年 | AH33: 月 | AJ33: 日 | AL33: ： | AN33: ～
I34: 様 | AC34: 令和 | AF34: 年 | AH34: 月 | AJ34: 日 | AL34: ： | AN34: ～
I35: 様 | AC35: 令和 | AF35: 年 | AH35: 月 | AJ35: 日 | AL35: ： | AN35: ～
I36: 様 | AC36: 令和 | AF36: 年 | AH36: 月 | AJ36: 日 | AL36: ： | AN36: ～
I37: 様 | AC37: 令和 | AF37: 年 | AH37: 月 | AJ37: 日 | AL37: ： | AN37: ～
I38: 様 | AC38: 令和 | AF38: 年 | AH38: 月 | AJ38: 日 | AL38: ： | AN38: ～
I39: 様 | AC39: 令和 | AF39: 年 | AH39: 月 | AJ39: 日 | AL39: ： | AN39: ～
I40: 様 | AC40: 令和 | AF40: 年 | AH40: 月 | AJ40: 日 | AL40: ： | AN40: ～
I41: 様 | AC41: 令和 | AF41: 年 | AH41: 月 | AJ41: 日 | AL41: ： | AN41: ～
I42: 様 | AC42: 令和 | AF42: 年 | AH42: 月 | AJ42: 日 | AL42: ： | AN42: ～
... I45: 様 | AC45: 令和 | AF45: 年 | AH45: 月 | AJ45: 日 | AL45: ： | AN45: ～
A46: 業務 内容 | D46: 項目 | J46: 患者様氏名 | P46: 担当 | S46: 備考 | Y46: 項目 | AA46: 患者様氏名 | AG46: 内容 | AQ46: 担当
D47: 外 来 患 者 対 応 | F47: 外来患者 対応 | O47: 様 | Y47: 書 類 作 成 完 了 | AF47: 様
O48: 様 | AF48: 様
O49: 様 | AF49: 様
O50: 様 | AF50: 様
O51: 様 | AF51: 様
O52: 様 | AF52: 様
O53: 様 | AF53: 様
D54: 項目 | J54: 患者様氏名 | P54: 担当 | S54: 備考 | AF54: 様
D55: 入 退 院 支 援 | F55: 退院支援 | O55: 様 | AF55: 様
O56: 様 | AF56: 様
O57: 様 | Y57: 項目 | AG57: 件数 | AJ57: 担当 | AM57: 備考
O58: 様 | Y58: 電話対応 | AI58: 件
O59: 様 | Y59: 保健所への届出 | AI59: 件
F60: 退院請求 対応 | O60: 様 | Y60: 項目 | AG60: 内容
O61: 様 | Y61: 通院医療 観察法
F62: 入院患者 対応 | J62: 担当 | M62: 件数 | P62: 備考
O63: 件 | Y63: 認知症疾患 医療ｾﾝﾀｰ
O64: 件
O65: 件 | Y65: 各種会議参加 外部の業務
O66: 件
A67: 安全管理 | D67: 事故 | S67: 物品 購入 | AE67: 連絡 事項
D68: 苦情
D69: 紛失
D70: 他

Sheet 23
A1: ソーシャルワーカー室 業務日誌 | AH1: C.O.O | AL1: I.O.O | AP1: Ａ.Ｏ.Ｍ
H3: =曜日!B12 -> 令和3年 | M3: =曜日!C12 -> 8月 | P3: 23日 | S3: （ | T3: =曜日!D4 -> 月 | U3: ） | W3: 作成者 | Z3: ：
A5: 労務 状況 | D5: 勤務状況 | K5: 西舘 翔子 | T5: 小屋敷 千瑛 | AC5: 大川 祥子 | AL5: 吉田 久美子
K6: 野添 京子
A7: 入退院 状況 | D7: 入院形態 | K7: 東病棟 | Q7: 西病棟 | W7: 北病棟 | AC7: 南病棟 | AI7: 合計 | AO7: 総数
K8: 男性 | N8: 女性 | Q8: 男性 | T8: 女性 | W8: 男性 | Z8: 女性 | AC8: 男性 | AF8: 女性 | AI8: 男性 | AL8: 女性
D9: 任意入院 | AI9: =K9+Q9+W9+AC9 -> 0 | AL9: =N9+T9+Z9+AF9 -> 0 | AO9: =AI13 -> 0
D10: 医療保護入院 | AI10: =K10+Q10+W10+AC10 -> 0 | AL10: =N10+T10+Z10+AF10 -> 0
D11: 措置入院 | AI11: =K11+Q11+W11+AC11 -> 0 | AL11: =N11+T11+Z11+AF11 -> 0
D12: 合計 | K12: =K9+K10+K11 -> 0 | N12: =N9+N10+N11 -> 0 | Q12: =Q9+Q10+Q11 -> 0 | T12: =SUM(T9:V11) -> 0 | W12: =SUM(W9:Y11) -> 0 | Z12: =SUM(Z9:AB11) -> 0 | AC12: =SUM(AC9:AE11) -> 0 | AF12: =SUM(AF9:AH11) -> 0 | AI12: =SUM(K12+Q12+W12+AC12) -> 0 | AL12: =SUM(N12+T12+Z12+AF12) -> 0 | AO12: 人
K13: =K12+N12 -> 0 | Q13: =Q12+T12 -> 0 | W13: =W12+Z12 -> 0 | AC13: =AC12+AF12 -> 0 | AI13: =AI12+AL12 -> 0
F14: 患者様氏名 | N14: 入院形態 | T14: 担当Dr | Y14: 担当SW | AD14: 病棟 | AJ14: 備考欄
D15: 入院 | L15: 様
L16: 様
L17: 様
L18: 様
L19: 様
D20: 退院 | L20: 様
L21: 様
L22: 様
L23: 様
L24: 様
D25: 転棟 ･ 入院形態変更 | L25: 様
L26: 様
L27: 様
L28: 様
L29: 様
A30: 患者様 関連 | D30: 患者様氏名 | K30: 担当Dr | P30: 病棟 | S30: 制限内容 | X30: 制限時間 | AC30: 開始日時 | AO30: 備考
I31: 様 | AC31: 令和 | AF31: 年 | AH31: 月 | AJ31: 日 | AL31: ： | AN31: ～
I32: 様 | AC32: 令和 | AF32: 年 | AH32: 月 | AJ32: 日 | AL32: ： | AN32: ～
I33: 様 | AC33: 令和 | AF33: 年 | AH33: 月 | AJ33: 日 | AL33: ： | AN33: ～
I34: 様 | AC34: 令和 | AF34: 年 | AH34: 月 | AJ34: 日 | AL34: ： | AN34: ～
I35: 様 | AC35: 令和 | AF35: 年 | AH35: 月 | AJ35: 日 | AL35: ： | AN35: ～
I36: 様 | AC36: 令和 | AF36: 年 | AH36: 月 | AJ36: 日 | AL36: ： | AN36: ～
I37: 様 | AC37: 令和 | AF37: 年 | AH37: 月 | AJ37: 日 | AL37: ： | AN37: ～
I38: 様 | AC38: 令和 | AF38: 年 | AH38: 月 | AJ38: 日 | AL38: ： | AN38: ～
I39: 様 | AC39: 令和 | AF39: 年 | AH39: 月 | AJ39: 日 | AL39: ： | AN39: ～
I40: 様 | AC40: 令和 | AF40: 年 | AH40: 月 | AJ40: 日 | AL40: ： | AN40: ～
I41: 様 | AC41: 令和 | AF41: 年 | AH41: 月 | AJ41: 日 | AL41: ： | AN41: ～
I42: 様 | AC42: 令和 | AF42: 年 | AH42: 月 | AJ42: 日 | AL42: ： | AN42: ～
... I45: 様 | AC45: 令和 | AF45: 年 | AH45: 月 | AJ45: 日 | AL45: ： | AN45: ～
A46: 業務 内容 | D46: 項目 | J46: 患者様氏名 | P46: 担当 | S46: 備考 | Y46: 項目 | AA46: 患者様氏名 | AG46: 内容 | AQ46: 担当
D47: 外 来 患 者 対 応 | F47: 外来患者 対応 | O47: 様 | Y47: 書 類 作 成 完 了 | AF47: 様
O48: 様 | AF48: 様
O49: 様 | AF49: 様
O50: 様 | AF50: 様
O51: 様 | AF51: 様
O52: 様 | AF52: 様
O53: 様 | AF53: 様
D54: 項目 | J54: 患者様氏名 | P54: 担当 | S54: 備考 | AF54: 様
D55: 入 退 院 支 援 | F55: 退院支援 | O55: 様 | AF55: 様
O56: 様 | AF56: 様
O57: 様 | Y57: 項目 | AG57: 件数 | AJ57: 担当 | AM57: 備考
O58: 様 | Y58: 電話対応 | AI58: 件
O59: 様 | Y59: 保健所への届出 | AI59: 件
F60: 退院請求 対応 | O60: 様 | Y60: 項目 | AG60: 内容
O61: 様 | Y61: 通院医療 観察法
F62: 入院患者 対応 | J62: 担当 | M62: 件数 | P62: 備考
O63: 件 | Y63: 認知症疾患 医療ｾﾝﾀｰ
O64: 件
O65: 件 | Y65: 各種会議参加 外部の業務
O66: 件
A67: 安全管理 | D67: 事故 | S67: 物品 購入 | AE67: 連絡 事項
D68: 苦情
D69: 紛失
D70: 他

Sheet 24
A1: ソーシャルワーカー室 業務日誌 | AH1: C.O.O | AL1: I.O.O | AP1: Ａ.Ｏ.Ｍ
H3: =曜日!B12 -> 令和3年 | M3: =曜日!C12 -> 8月 | P3: 24日 | S3: （ | T3: =曜日!D5 -> 火 | U3: ） | W3: 作成者 | Z3: ：
A5: 労務 状況 | D5: 勤務状況 | K5: 西舘 翔子 | T5: 小屋敷 千瑛 | AC5: 大川 祥子 | AL5: 吉田 久美子
K6: 野添 京子
A7: 入退院 状況 | D7: 入院形態 | K7: 東病棟 | Q7: 西病棟 | W7: 北病棟 | AC7: 南病棟 | AI7: 合計 | AO7: 総数
K8: 男性 | N8: 女性 | Q8: 男性 | T8: 女性 | W8: 男性 | Z8: 女性 | AC8: 男性 | AF8: 女性 | AI8: 男性 | AL8: 女性
D9: 任意入院 | AI9: =K9+Q9+W9+AC9 -> 0 | AL9: =N9+T9+Z9+AF9 -> 0 | AO9: =AI13 -> 0
D10: 医療保護入院 | AI10: =K10+Q10+W10+AC10 -> 0 | AL10: =N10+T10+Z10+AF10 -> 0
D11: 措置入院 | AI11: =K11+Q11+W11+AC11 -> 0 | AL11: =N11+T11+Z11+AF11 -> 0
D12: 合計 | K12: =K9+K10+K11 -> 0 | N12: =N9+N10+N11 -> 0 | Q12: =Q9+Q10+Q11 -> 0 | T12: =SUM(T9:V11) -> 0 | W12: =SUM(W9:Y11) -> 0 | Z12: =SUM(Z9:AB11) -> 0 | AC12: =SUM(AC9:AE11) -> 0 | AF12: =SUM(AF9:AH11) -> 0 | AI12: =SUM(K12+Q12+W12+AC12) -> 0 | AL12: =SUM(N12+T12+Z12+AF12) -> 0 | AO12: 人
K13: =K12+N12 -> 0 | Q13: =Q12+T12 -> 0 | W13: =W12+Z12 -> 0 | AC13: =AC12+AF12 -> 0 | AI13: =AI12+AL12 -> 0
F14: 患者様氏名 | N14: 入院形態 | T14: 担当Dr | Y14: 担当SW | AD14: 病棟 | AJ14: 備考欄
D15: 入院 | L15: 様
L16: 様
L17: 様
L18: 様
L19: 様
D20: 退院 | L20: 様
L21: 様
L22: 様
L23: 様
L24: 様
D25: 転棟 ･ 入院形態変更 | L25: 様
L26: 様
L27: 様
L28: 様
L29: 様
A30: 患者様 関連 | D30: 患者様氏名 | K30: 担当Dr | P30: 病棟 | S30: 制限内容 | X30: 制限時間 | AC30: 開始日時 | AO30: 備考
I31: 様 | AC31: 令和 | AF31: 年 | AH31: 月 | AJ31: 日 | AL31: ： | AN31: ～
I32: 様 | AC32: 令和 | AF32: 年 | AH32: 月 | AJ32: 日 | AL32: ： | AN32: ～
I33: 様 | AC33: 令和 | AF33: 年 | AH33: 月 | AJ33: 日 | AL33: ： | AN33: ～
I34: 様 | AC34: 令和 | AF34: 年 | AH34: 月 | AJ34: 日 | AL34: ： | AN34: ～
I35: 様 | AC35: 令和 | AF35: 年 | AH35: 月 | AJ35: 日 | AL35: ： | AN35: ～
I36: 様 | AC36: 令和 | AF36: 年 | AH36: 月 | AJ36: 日 | AL36: ： | AN36: ～
I37: 様 | AC37: 令和 | AF37: 年 | AH37: 月 | AJ37: 日 | AL37: ： | AN37: ～
I38: 様 | AC38: 令和 | AF38: 年 | AH38: 月 | AJ38: 日 | AL38: ： | AN38: ～
I39: 様 | AC39: 令和 | AF39: 年 | AH39: 月 | AJ39: 日 | AL39: ： | AN39: ～
I40: 様 | AC40: 令和 | AF40: 年 | AH40: 月 | AJ40: 日 | AL40: ： | AN40: ～
I41: 様 | AC41: 令和 | AF41: 年 | AH41: 月 | AJ41: 日 | AL41: ： | AN41: ～
I42: 様 | AC42: 令和 | AF42: 年 | AH42: 月 | AJ42: 日 | AL42: ： | AN42: ～
... I45: 様 | AC45: 令和 | AF45: 年 | AH45: 月 | AJ45: 日 | AL45: ： | AN45: ～
A46: 業務 内容 | D46: 項目 | J46: 患者様氏名 | P46: 担当 | S46: 備考 | Y46: 項目 | AA46: 患者様氏名 | AG46: 内容 | AQ46: 担当
D47: 外 来 患 者 対 応 | F47: 外来患者 対応 | O47: 様 | Y47: 書 類 作 成 完 了 | AF47: 様
O48: 様 | AF48: 様
O49: 様 | AF49: 様
O50: 様 | AF50: 様
O51: 様 | AF51: 様
O52: 様 | AF52: 様
O53: 様 | AF53: 様
D54: 項目 | J54: 患者様氏名 | P54: 担当 | S54: 備考 | AF54: 様
D55: 入 退 院 支 援 | F55: 退院支援 | O55: 様 | AF55: 様
O56: 様 | AF56: 様
O57: 様 | Y57: 項目 | AG57: 件数 | AJ57: 担当 | AM57: 備考
O58: 様 | Y58: 電話対応 | AI58: 件
O59: 様 | Y59: 保健所への届出 | AI59: 件
F60: 退院請求 対応 | O60: 様 | Y60: 項目 | AG60: 内容
O61: 様 | Y61: 通院医療 観察法
F62: 入院患者 対応 | J62: 担当 | M62: 件数 | P62: 備考
O63: 件 | Y63: 認知症疾患 医療ｾﾝﾀｰ
O64: 件
O65: 件 | Y65: 各種会議参加 外部の業務
O66: 件
A67: 安全管理 | D67: 事故 | S67: 物品 購入 | AE67: 連絡 事項
D68: 苦情
D69: 紛失
D70: 他

Sheet 25
A1: ソーシャルワーカー室 業務日誌 | AH1: C.O.O | AL1: I.O.O | AP1: Ａ.Ｏ.Ｍ
H3: =曜日!B12 -> 令和3年 | M3: =曜日!C12 -> 8月 | P3: 25日 | S3: （ | T3: =曜日!D6 -> 水 | U3: ） | W3: 作成者 | Z3: ：
A5: 労務 状況 | D5: 勤務状況 | K5: 西舘 翔子 | T5: 小屋敷 千瑛 | AC5: 大川 祥子 | AL5: 吉田 久美子
K6: 野添 京子
A7: 入退院 状況 | D7: 入院形態 | K7: 東病棟 | Q7: 西病棟 | W7: 北病棟 | AC7: 南病棟 | AI7: 合計 | AO7: 総数
K8: 男性 | N8: 女性 | Q8: 男性 | T8: 女性 | W8: 男性 | Z8: 女性 | AC8: 男性 | AF8: 女性 | AI8: 男性 | AL8: 女性
D9: 任意入院 | AI9: =K9+Q9+W9+AC9 -> 0 | AL9: =N9+T9+Z9+AF9 -> 0 | AO9: =AI13 -> 0
D10: 医療保護入院 | AI10: =K10+Q10+W10+AC10 -> 0 | AL10: =N10+T10+Z10+AF10 -> 0
D11: 措置入院 | AI11: =K11+Q11+W11+AC11 -> 0 | AL11: =N11+T11+Z11+AF11 -> 0
D12: 合計 | K12: =K9+K10+K11 -> 0 | N12: =N9+N10+N11 -> 0 | Q12: =Q9+Q10+Q11 -> 0 | T12: =SUM(T9:V11) -> 0 | W12: =SUM(W9:Y11) -> 0 | Z12: =SUM(Z9:AB11) -> 0 | AC12: =SUM(AC9:AE11) -> 0 | AF12: =SUM(AF9:AH11) -> 0 | AI12: =SUM(K12+Q12+W12+AC12) -> 0 | AL12: =SUM(N12+T12+Z12+AF12) -> 0 | AO12: 人
K13: =K12+N12 -> 0 | Q13: =Q12+T12 -> 0 | W13: =W12+Z12 -> 0 | AC13: =AC12+AF12 -> 0 | AI13: =AI12+AL12 -> 0
F14: 患者様氏名 | N14: 入院形態 | T14: 担当Dr | Y14: 担当SW | AD14: 病棟 | AJ14: 備考欄
D15: 入院 | L15: 様
L16: 様
L17: 様
L18: 様
L19: 様
D20: 退院 | L20: 様
L21: 様
L22: 様
L23: 様
L24: 様
D25: 転棟 ･ 入院形態変更 | L25: 様
L26: 様
L27: 様
L28: 様
L29: 様
A30: 患者様 関連 | D30: 患者様氏名 | K30: 担当Dr | P30: 病棟 | S30: 制限内容 | X30: 制限時間 | AC30: 開始日時 | AO30: 備考
I31: 様 | AC31: 令和 | AF31: 年 | AH31: 月 | AJ31: 日 | AL31: ： | AN31: ～
I32: 様 | AC32: 令和 | AF32: 年 | AH32: 月 | AJ32: 日 | AL32: ： | AN32: ～
I33: 様 | AC33: 令和 | AF33: 年 | AH33: 月 | AJ33: 日 | AL33: ： | AN33: ～
I34: 様 | AC34: 令和 | AF34: 年 | AH34: 月 | AJ34: 日 | AL34: ： | AN34: ～
I35: 様 | AC35: 令和 | AF35: 年 | AH35: 月 | AJ35: 日 | AL35: ： | AN35: ～
I36: 様 | AC36: 令和 | AF36: 年 | AH36: 月 | AJ36: 日 | AL36: ： | AN36: ～
I37: 様 | AC37: 令和 | AF37: 年 | AH37: 月 | AJ37: 日 | AL37: ： | AN37: ～
I38: 様 | AC38: 令和 | AF38: 年 | AH38: 月 | AJ38: 日 | AL38: ： | AN38: ～
I39: 様 | AC39: 令和 | AF39: 年 | AH39: 月 | AJ39: 日 | AL39: ： | AN39: ～
I40: 様 | AC40: 令和 | AF40: 年 | AH40: 月 | AJ40: 日 | AL40: ： | AN40: ～
I41: 様 | AC41: 令和 | AF41: 年 | AH41: 月 | AJ41: 日 | AL41: ： | AN41: ～
I42: 様 | AC42: 令和 | AF42: 年 | AH42: 月 | AJ42: 日 | AL42: ： | AN42: ～
... I45: 様 | AC45: 令和 | AF45: 年 | AH45: 月 | AJ45: 日 | AL45: ： | AN45: ～
A46: 業務 内容 | D46: 項目 | J46: 患者様氏名 | P46: 担当 | S46: 備考 | Y46: 項目 | AA46: 患者様氏名 | AG46: 内容 | AQ46: 担当
D47: 外 来 患 者 対 応 | F47: 外来患者 対応 | O47: 様 | Y47: 書 類 作 成 完 了 | AF47: 様
O48: 様 | AF48: 様
O49: 様 | AF49: 様
O50: 様 | AF50: 様
O51: 様 | AF51: 様
O52: 様 | AF52: 様
O53: 様 | AF53: 様
D54: 項目 | J54: 患者様氏名 | P54: 担当 | S54: 備考 | AF54: 様
D55: 入 退 院 支 援 | F55: 退院支援 | O55: 様 | AF55: 様
O56: 様 | AF56: 様
O57: 様 | Y57: 項目 | AG57: 件数 | AJ57: 担当 | AM57: 備考
O58: 様 | Y58: 電話対応 | AI58: 件
O59: 様 | Y59: 保健所への届出 | AI59: 件
F60: 退院請求 対応 | O60: 様 | Y60: 項目 | AG60: 内容
O61: 様 | Y61: 通院医療 観察法
F62: 入院患者 対応 | J62: 担当 | M62: 件数 | P62: 備考
O63: 件 | Y63: 認知症疾患 医療ｾﾝﾀｰ
O64: 件
O65: 件 | Y65: 各種会議参加 外部の業務
O66: 件
A67: 安全管理 | D67: 事故 | S67: 物品 購入 | AE67: 連絡 事項
D68: 苦情
D69: 紛失
D70: 他

Sheet 26
A1: ソーシャルワーカー室 業務日誌 | AH1: C.O.O | AL1: I.O.O | AP1: Ａ.Ｏ.Ｍ
H3: =曜日!B12 -> 令和3年 | M3: =曜日!C12 -> 8月 | P3: 26日 | S3: （ | T3: =曜日!D7 -> 木 | U3: ） | W3: 作成者 | Z3: ：
A5: 労務 状況 | D5: 勤務状況 | K5: 西舘 翔子 | T5: 小屋敷 千瑛 | AC5: 大川 祥子 | AL5: 吉田 久美子
K6: 野添 京子
A7: 入退院 状況 | D7: 入院形態 | K7: 東病棟 | Q7: 西病棟 | W7: 北病棟 | AC7: 南病棟 | AI7: 合計 | AO7: 総数
K8: 男性 | N8: 女性 | Q8: 男性 | T8: 女性 | W8: 男性 | Z8: 女性 | AC8: 男性 | AF8: 女性 | AI8: 男性 | AL8: 女性
D9: 任意入院 | AI9: =K9+Q9+W9+AC9 -> 0 | AL9: =N9+T9+Z9+AF9 -> 0 | AO9: =AI13 -> 0
D10: 医療保護入院 | AI10: =K10+Q10+W10+AC10 -> 0 | AL10: =N10+T10+Z10+AF10 -> 0
D11: 措置入院 | AI11: =K11+Q11+W11+AC11 -> 0 | AL11: =N11+T11+Z11+AF11 -> 0
D12: 合計 | K12: =K9+K10+K11 -> 0 | N12: =N9+N10+N11 -> 0 | Q12: =Q9+Q10+Q11 -> 0 | T12: =SUM(T9:V11) -> 0 | W12: =SUM(W9:Y11) -> 0 | Z12: =SUM(Z9:AB11) -> 0 | AC12: =SUM(AC9:AE11) -> 0 | AF12: =SUM(AF9:AH11) -> 0 | AI12: =SUM(K12+Q12+W12+AC12) -> 0 | AL12: =SUM(N12+T12+Z12+AF12) -> 0 | AO12: 人
K13: =K12+N12 -> 0 | Q13: =Q12+T12 -> 0 | W13: =W12+Z12 -> 0 | AC13: =AC12+AF12 -> 0 | AI13: =AI12+AL12 -> 0
F14: 患者様氏名 | N14: 入院形態 | T14: 担当Dr | Y14: 担当SW | AD14: 病棟 | AJ14: 備考欄
D15: 入院 | L15: 様
L16: 様
L17: 様
L18: 様
L19: 様
D20: 退院 | L20: 様
L21: 様
L22: 様
L23: 様
L24: 様
D25: 転棟 ･ 入院形態変更 | L25: 様
L26: 様
L27: 様
L28: 様
L29: 様
A30: 患者様 関連 | D30: 患者様氏名 | K30: 担当Dr | P30: 病棟 | S30: 制限内容 | X30: 制限時間 | AC30: 開始日時 | AO30: 備考
I31: 様 | AC31: 令和 | AF31: 年 | AH31: 月 | AJ31: 日 | AL31: ： | AN31: ～
I32: 様 | AC32: 令和 | AF32: 年 | AH32: 月 | AJ32: 日 | AL32: ： | AN32: ～
I33: 様 | AC33: 令和 | AF33: 年 | AH33: 月 | AJ33: 日 | AL33: ： | AN33: ～
I34: 様 | AC34: 令和 | AF34: 年 | AH34: 月 | AJ34: 日 | AL34: ： | AN34: ～
I35: 様 | AC35: 令和 | AF35: 年 | AH35: 月 | AJ35: 日 | AL35: ： | AN35: ～
I36: 様 | AC36: 令和 | AF36: 年 | AH36: 月 | AJ36: 日 | AL36: ： | AN36: ～
I37: 様 | AC37: 令和 | AF37: 年 | AH37: 月 | AJ37: 日 | AL37: ： | AN37: ～
I38: 様 | AC38: 令和 | AF38: 年 | AH38: 月 | AJ38: 日 | AL38: ： | AN38: ～
I39: 様 | AC39: 令和 | AF39: 年 | AH39: 月 | AJ39: 日 | AL39: ： | AN39: ～
I40: 様 | AC40: 令和 | AF40: 年 | AH40: 月 | AJ40: 日 | AL40: ： | AN40: ～
I41: 様 | AC41: 令和 | AF41: 年 | AH41: 月 | AJ41: 日 | AL41: ： | AN41: ～
I42: 様 | AC42: 令和 | AF42: 年 | AH42: 月 | AJ42: 日 | AL42: ： | AN42: ～
... I45: 様 | AC45: 令和 | AF45: 年 | AH45: 月 | AJ45: 日 | AL45: ： | AN45: ～
A46: 業務 内容 | D46: 項目 | J46: 患者様氏名 | P46: 担当 | S46: 備考 | Y46: 項目 | AA46: 患者様氏名 | AG46: 内容 | AQ46: 担当
D47: 外 来 患 者 対 応 | F47: 外来患者 対応 | O47: 様 | Y47: 書 類 作 成 完 了 | AF47: 様
O48: 様 | AF48: 様
O49: 様 | AF49: 様
O50: 様 | AF50: 様
O51: 様 | AF51: 様
O52: 様 | AF52: 様
O53: 様 | AF53: 様
D54: 項目 | J54: 患者様氏名 | P54: 担当 | S54: 備考 | AF54: 様
D55: 入 退 院 支 援 | F55: 退院支援 | O55: 様 | AF55: 様
O56: 様 | AF56: 様
O57: 様 | Y57: 項目 | AG57: 件数 | AJ57: 担当 | AM57: 備考
O58: 様 | Y58: 電話対応 | AI58: 件
O59: 様 | Y59: 保健所への届出 | AI59: 件
F60: 退院請求 対応 | O60: 様 | Y60: 項目 | AG60: 内容
O61: 様 | Y61: 通院医療 観察法
F62: 入院患者 対応 | J62: 担当 | M62: 件数 | P62: 備考
O63: 件 | Y63: 認知症疾患 医療ｾﾝﾀｰ
O64: 件
O65: 件 | Y65: 各種会議参加 外部の業務
O66: 件
A67: 安全管理 | D67: 事故 | S67: 物品 購入 | AE67: 連絡 事項
D68: 苦情
D69: 紛失
D70: 他

Sheet 27
A1: ソーシャルワーカー室 業務日誌 | AH1: C.O.O | AL1: I.O.O | AP1: Ａ.Ｏ.Ｍ
H3: =曜日!B12 -> 令和3年 | M3: =曜日!C12 -> 8月 | P3: 27日 | S3: （ | T3: =曜日!D8 -> 金 | U3: ） | W3: 作成者 | Z3: ：
A5: 労務 状況 | D5: 勤務状況 | K5: 西舘 翔子 | T5: 小屋敷 千瑛 | AC5: 大川 祥子 | AL5: 吉田 久美子
K6: 野添 京子
A7: 入退院 状況 | D7: 入院形態 | K7: 東病棟 | Q7: 西病棟 | W7: 北病棟 | AC7: 南病棟 | AI7: 合計 | AO7: 総数
K8: 男性 | N8: 女性 | Q8: 男性 | T8: 女性 | W8: 男性 | Z8: 女性 | AC8: 男性 | AF8: 女性 | AI8: 男性 | AL8: 女性
D9: 任意入院 | AI9: =K9+Q9+W9+AC9 -> 0 | AL9: =N9+T9+Z9+AF9 -> 0 | AO9: =AI13 -> 0
D10: 医療保護入院 | AI10: =K10+Q10+W10+AC10 -> 0 | AL10: =N10+T10+Z10+AF10 -> 0
D11: 措置入院 | AI11: =K11+Q11+W11+AC11 -> 0 | AL11: =N11+T11+Z11+AF11 -> 0
D12: 合計 | K12: =K9+K10+K11 -> 0 | N12: =N9+N10+N11 -> 0 | Q12: =Q9+Q10+Q11 -> 0 | T12: =SUM(T9:V11) -> 0 | W12: =SUM(W9:Y11) -> 0 | Z12: =SUM(Z9:AB11) -> 0 | AC12: =SUM(AC9:AE11) -> 0 | AF12: =SUM(AF9:AH11) -> 0 | AI12: =SUM(K12+Q12+W12+AC12) -> 0 | AL12: =SUM(N12+T12+Z12+AF12) -> 0 | AO12: 人
K13: =K12+N12 -> 0 | Q13: =Q12+T12 -> 0 | W13: =W12+Z12 -> 0 | AC13: =AC12+AF12 -> 0 | AI13: =AI12+AL12 -> 0
F14: 患者様氏名 | N14: 入院形態 | T14: 担当Dr | Y14: 担当SW | AD14: 病棟 | AJ14: 備考欄
D15: 入院 | L15: 様
L16: 様
L17: 様
L18: 様
L19: 様
D20: 退院 | L20: 様
L21: 様
L22: 様
L23: 様
L24: 様
D25: 転棟 ･ 入院形態変更 | L25: 様
L26: 様
L27: 様
L28: 様
L29: 様
A30: 患者様 関連 | D30: 患者様氏名 | K30: 担当Dr | P30: 病棟 | S30: 制限内容 | X30: 制限時間 | AC30: 開始日時 | AO30: 備考
I31: 様 | AC31: 令和 | AF31: 年 | AH31: 月 | AJ31: 日 | AL31: ： | AN31: ～
I32: 様 | AC32: 令和 | AF32: 年 | AH32: 月 | AJ32: 日 | AL32: ： | AN32: ～
I33: 様 | AC33: 令和 | AF33: 年 | AH33: 月 | AJ33: 日 | AL33: ： | AN33: ～
I34: 様 | AC34: 令和 | AF34: 年 | AH34: 月 | AJ34: 日 | AL34: ： | AN34: ～
I35: 様 | AC35: 令和 | AF35: 年 | AH35: 月 | AJ35: 日 | AL35: ： | AN35: ～
I36: 様 | AC36: 令和 | AF36: 年 | AH36: 月 | AJ36: 日 | AL36: ： | AN36: ～
I37: 様 | AC37: 令和 | AF37: 年 | AH37: 月 | AJ37: 日 | AL37: ： | AN37: ～
I38: 様 | AC38: 令和 | AF38: 年 | AH38: 月 | AJ38: 日 | AL38: ： | AN38: ～
I39: 様 | AC39: 令和 | AF39: 年 | AH39: 月 | AJ39: 日 | AL39: ： | AN39: ～
I40: 様 | AC40: 令和 | AF40: 年 | AH40: 月 | AJ40: 日 | AL40: ： | AN40: ～
I41: 様 | AC41: 令和 | AF41: 年 | AH41: 月 | AJ41: 日 | AL41: ： | AN41: ～
I42: 様 | AC42: 令和 | AF42: 年 | AH42: 月 | AJ42: 日 | AL42: ： | AN42: ～
... I45: 様 | AC45: 令和 | AF45: 年 | AH45: 月 | AJ45: 日 | AL45: ： | AN45: ～
A46: 業務 内容 | D46: 項目 | J46: 患者様氏名 | P46: 担当 | S46: 備考 | Y46: 項目 | AA46: 患者様氏名 | AG46: 内容 | AQ46: 担当
D47: 外 来 患 者 対 応 | F47: 外来患者 対応 | O47: 様 | Y47: 書 類 作 成 完 了 | AF47: 様
O48: 様 | AF48: 様
O49: 様 | AF49: 様
O50: 様 | AF50: 様
O51: 様 | AF51: 様
O52: 様 | AF52: 様
O53: 様 | AF53: 様
D54: 項目 | J54: 患者様氏名 | P54: 担当 | S54: 備考 | AF54: 様
D55: 入 退 院 支 援 | F55: 退院支援 | O55: 様 | AF55: 様
O56: 様 | AF56: 様
O57: 様 | Y57: 項目 | AG57: 件数 | AJ57: 担当 | AM57: 備考
O58: 様 | Y58: 電話対応 | AI58: 件
O59: 様 | Y59: 保健所への届出 | AI59: 件
F60: 退院請求 対応 | O60: 様 | Y60: 項目 | AG60: 内容
O61: 様 | Y61: 通院医療 観察法
F62: 入院患者 対応 | J62: 担当 | M62: 件数 | P62: 備考
O63: 件 | Y63: 認知症疾患 医療ｾﾝﾀｰ
O64: 件
O65: 件 | Y65: 各種会議参加 外部の業務
O66: 件
A67: 安全管理 | D67: 事故 | S67: 物品 購入 | AE67: 連絡 事項
D68: 苦情
D69: 紛失
D70: 他

Sheet 28
A1: ソーシャルワーカー室 業務日誌 | AH1: C.O.O | AL1: I.O.O | AP1: Ａ.Ｏ.Ｍ
H3: =曜日!B12 -> 令和3年 | M3: =曜日!C12 -> 8月 | P3: 28日 | S3: （ | T3: =曜日!D9 -> 土 | U3: ） | W3: 作成者 | Z3: ：
A5: 労務 状況 | D5: 勤務状況 | K5: 西舘 翔子 | T5: 小屋敷 千瑛 | AC5: 大川 祥子 | AL5: 吉田 久美子
K6: 野添 京子
A7: 入退院 状況 | D7: 入院形態 | K7: 東病棟 | Q7: 西病棟 | W7: 北病棟 | AC7: 南病棟 | AI7: 合計 | AO7: 総数
K8: 男性 | N8: 女性 | Q8: 男性 | T8: 女性 | W8: 男性 | Z8: 女性 | AC8: 男性 | AF8: 女性 | AI8: 男性 | AL8: 女性
D9: 任意入院 | AI9: =K9+Q9+W9+AC9 -> 0 | AL9: =N9+T9+Z9+AF9 -> 0 | AO9: =AI13 -> 0
D10: 医療保護入院 | AI10: =K10+Q10+W10+AC10 -> 0 | AL10: =N10+T10+Z10+AF10 -> 0
D11: 措置入院 | AI11: =K11+Q11+W11+AC11 -> 0 | AL11: =N11+T11+Z11+AF11 -> 0
D12: 合計 | K12: =K9+K10+K11 -> 0 | N12: =N9+N10+N11 -> 0 | Q12: =Q9+Q10+Q11 -> 0 | T12: =SUM(T9:V11) -> 0 | W12: =SUM(W9:Y11) -> 0 | Z12: =SUM(Z9:AB11) -> 0 | AC12: =SUM(AC9:AE11) -> 0 | AF12: =SUM(AF9:AH11) -> 0 | AI12: =SUM(K12+Q12+W12+AC12) -> 0 | AL12: =SUM(N12+T12+Z12+AF12) -> 0 | AO12: 人
K13: =K12+N12 -> 0 | Q13: =Q12+T12 -> 0 | W13: =W12+Z12 -> 0 | AC13: =AC12+AF12 -> 0 | AI13: =AI12+AL12 -> 0
F14: 患者様氏名 | N14: 入院形態 | T14: 担当Dr | Y14: 担当SW | AD14: 病棟 | AJ14: 備考欄
D15: 入院 | L15: 様
L16: 様
L17: 様
L18: 様
L19: 様
D20: 退院 | L20: 様
L21: 様
L22: 様
L23: 様
L24: 様
D25: 転棟 ･ 入院形態変更 | L25: 様
L26: 様
L27: 様
L28: 様
L29: 様
A30: 患者様 関連 | D30: 患者様氏名 | K30: 担当Dr | P30: 病棟 | S30: 制限内容 | X30: 制限時間 | AC30: 開始日時 | AO30: 備考
I31: 様 | AC31: 令和 | AF31: 年 | AH31: 月 | AJ31: 日 | AL31: ： | AN31: ～
I32: 様 | AC32: 令和 | AF32: 年 | AH32: 月 | AJ32: 日 | AL32: ： | AN32: ～
I33: 様 | AC33: 令和 | AF33: 年 | AH33: 月 | AJ33: 日 | AL33: ： | AN33: ～
I34: 様 | AC34: 令和 | AF34: 年 | AH34: 月 | AJ34: 日 | AL34: ： | AN34: ～
I35: 様 | AC35: 令和 | AF35: 年 | AH35: 月 | AJ35: 日 | AL35: ： | AN35: ～
I36: 様 | AC36: 令和 | AF36: 年 | AH36: 月 | AJ36: 日 | AL36: ： | AN36: ～
I37: 様 | AC37: 令和 | AF37: 年 | AH37: 月 | AJ37: 日 | AL37: ： | AN37: ～
I38: 様 | AC38: 令和 | AF38: 年 | AH38: 月 | AJ38: 日 | AL38: ： | AN38: ～
I39: 様 | AC39: 令和 | AF39: 年 | AH39: 月 | AJ39: 日 | AL39: ： | AN39: ～
I40: 様 | AC40: 令和 | AF40: 年 | AH40: 月 | AJ40: 日 | AL40: ： | AN40: ～
I41: 様 | AC41: 令和 | AF41: 年 | AH41: 月 | AJ41: 日 | AL41: ： | AN41: ～
I42: 様 | AC42: 令和 | AF42: 年 | AH42: 月 | AJ42: 日 | AL42: ： | AN42: ～
... I45: 様 | AC45: 令和 | AF45: 年 | AH45: 月 | AJ45: 日 | AL45: ： | AN45: ～
A46: 業務 内容 | D46: 項目 | J46: 患者様氏名 | P46: 担当 | S46: 備考 | Y46: 項目 | AA46: 患者様氏名 | AG46: 内容 | AQ46: 担当
D47: 外 来 患 者 対 応 | F47: 外来患者 対応 | O47: 様 | Y47: 書 類 作 成 完 了 | AF47: 様
O48: 様 | AF48: 様
O49: 様 | AF49: 様
O50: 様 | AF50: 様
O51: 様 | AF51: 様
O52: 様 | AF52: 様
O53: 様 | AF53: 様
D54: 項目 | J54: 患者様氏名 | P54: 担当 | S54: 備考 | AF54: 様
D55: 入 退 院 支 援 | F55: 退院支援 | O55: 様 | AF55: 様
O56: 様 | AF56: 様
O57: 様 | Y57: 項目 | AG57: 件数 | AJ57: 担当 | AM57: 備考
O58: 様 | Y58: 電話対応 | AI58: 件
O59: 様 | Y59: 保健所への届出 | AI59: 件
F60: 退院請求 対応 | O60: 様 | Y60: 項目 | AG60: 内容
O61: 様 | Y61: 通院医療 観察法
F62: 入院患者 対応 | J62: 担当 | M62: 件数 | P62: 備考
O63: 件 | Y63: 認知症疾患 医療ｾﾝﾀｰ
O64: 件
O65: 件 | Y65: 各種会議参加 外部の業務
O66: 件
A67: 安全管理 | D67: 事故 | S67: 物品 購入 | AE67: 連絡 事項
D68: 苦情
D69: 紛失
D70: 他

Sheet 29
A1: ソーシャルワーカー室 業務日誌 | AH1: C.O.O | AL1: I.O.O | AP1: Ａ.Ｏ.Ｍ
H3: =曜日!B12 -> 令和3年 | M3: =曜日!C12 -> 8月 | P3: 29日 | S3: （ | T3: =曜日!D3 -> 日 | U3: ） | W3: 作成者 | Z3: ：
A5: 労務 状況 | D5: 勤務状況 | K5: 西舘 翔子 | T5: 小屋敷 千瑛 | AC5: 大川 祥子 | AL5: 吉田 久美子
K6: 野添 京子
A7: 入退院 状況 | D7: 入院形態 | K7: 東病棟 | Q7: 西病棟 | W7: 北病棟 | AC7: 南病棟 | AI7: 合計 | AO7: 総数
K8: 男性 | N8: 女性 | Q8: 男性 | T8: 女性 | W8: 男性 | Z8: 女性 | AC8: 男性 | AF8: 女性 | AI8: 男性 | AL8: 女性
D9: 任意入院 | AI9: =K9+Q9+W9+AC9 -> 0 | AL9: =N9+T9+Z9+AF9 -> 0 | AO9: =AI13 -> 0
D10: 医療保護入院 | AI10: =K10+Q10+W10+AC10 -> 0 | AL10: =N10+T10+Z10+AF10 -> 0
D11: 措置入院 | AI11: =K11+Q11+W11+AC11 -> 0 | AL11: =N11+T11+Z11+AF11 -> 0
D12: 合計 | K12: =K9+K10+K11 -> 0 | N12: =N9+N10+N11 -> 0 | Q12: =Q9+Q10+Q11 -> 0 | T12: =SUM(T9:V11) -> 0 | W12: =SUM(W9:Y11) -> 0 | Z12: =SUM(Z9:AB11) -> 0 | AC12: =SUM(AC9:AE11) -> 0 | AF12: =SUM(AF9:AH11) -> 0 | AI12: =SUM(K12+Q12+W12+AC12) -> 0 | AL12: =SUM(N12+T12+Z12+AF12) -> 0 | AO12: 人
K13: =K12+N12 -> 0 | Q13: =Q12+T12 -> 0 | W13: =W12+Z12 -> 0 | AC13: =AC12+AF12 -> 0 | AI13: =AI12+AL12 -> 0
F14: 患者様氏名 | N14: 入院形態 | T14: 担当Dr | Y14: 担当SW | AD14: 病棟 | AJ14: 備考欄
D15: 入院 | L15: 様
L16: 様
L17: 様
L18: 様
L19: 様
D20: 退院 | L20: 様
L21: 様
L22: 様
L23: 様
L24: 様
D25: 転棟 ･ 入院形態変更 | L25: 様
L26: 様
L27: 様
L28: 様
L29: 様
A30: 患者様 関連 | D30: 患者様氏名 | K30: 担当Dr | P30: 病棟 | S30: 制限内容 | X30: 制限時間 | AC30: 開始日時 | AO30: 備考
I31: 様 | AC31: 令和 | AF31: 年 | AH31: 月 | AJ31: 日 | AL31: ： | AN31: ～
I32: 様 | AC32: 令和 | AF32: 年 | AH32: 月 | AJ32: 日 | AL32: ： | AN32: ～
I33: 様 | AC33: 令和 | AF33: 年 | AH33: 月 | AJ33: 日 | AL33: ： | AN33: ～
I34: 様 | AC34: 令和 | AF34: 年 | AH34: 月 | AJ34: 日 | AL34: ： | AN34: ～
I35: 様 | AC35: 令和 | AF35: 年 | AH35: 月 | AJ35: 日 | AL35: ： | AN35: ～
I36: 様 | AC36: 令和 | AF36: 年 | AH36: 月 | AJ36: 日 | AL36: ： | AN36: ～
I37: 様 | AC37: 令和 | AF37: 年 | AH37: 月 | AJ37: 日 | AL37: ： | AN37: ～
I38: 様 | AC38: 令和 | AF38: 年 | AH38: 月 | AJ38: 日 | AL38: ： | AN38: ～
I39: 様 | AC39: 令和 | AF39: 年 | AH39: 月 | AJ39: 日 | AL39: ： | AN39: ～
I40: 様 | AC40: 令和 | AF40: 年 | AH40: 月 | AJ40: 日 | AL40: ： | AN40: ～
I41: 様 | AC41: 令和 | AF41: 年 | AH41: 月 | AJ41: 日 | AL41: ： | AN41: ～
I42: 様 | AC42: 令和 | AF42: 年 | AH42: 月 | AJ42: 日 | AL42: ： | AN42: ～
... I45: 様 | AC45: 令和 | AF45: 年 | AH45: 月 | AJ45: 日 | AL45: ： | AN45: ～
A46: 業務 内容 | D46: 項目 | J46: 患者様氏名 | P46: 担当 | S46: 備考 | Y46: 項目 | AA46: 患者様氏名 | AG46: 内容 | AQ46: 担当
D47: 外 来 患 者 対 応 | F47: 外来患者 対応 | O47: 様 | Y47: 書 類 作 成 完 了 | AF47: 様
O48: 様 | AF48: 様
O49: 様 | AF49: 様
O50: 様 | AF50: 様
O51: 様 | AF51: 様
O52: 様 | AF52: 様
O53: 様 | AF53: 様
D54: 項目 | J54: 患者様氏名 | P54: 担当 | S54: 備考 | AF54: 様
D55: 入 退 院 支 援 | F55: 退院支援 | O55: 様 | AF55: 様
O56: 様 | AF56: 様
O57: 様 | Y57: 項目 | AG57: 件数 | AJ57: 担当 | AM57: 備考
O58: 様 | Y58: 電話対応 | AI58: 件
O59: 様 | Y59: 保健所への届出 | AI59: 件
F60: 退院請求 対応 | O60: 様 | Y60: 項目 | AG60: 内容
O61: 様 | Y61: 通院医療 観察法
F62: 入院患者 対応 | J62: 担当 | M62: 件数 | P62: 備考
O63: 件 | Y63: 認知症疾患 医療ｾﾝﾀｰ
O64: 件
O65: 件 | Y65: 各種会議参加 外部の業務
O66: 件
A67: 安全管理 | D67: 事故 | S67: 物品 購入 | AE67: 連絡 事項
D68: 苦情
D69: 紛失
D70: 他

Sheet 30
A1: ソーシャルワーカー室 業務日誌 | AH1: C.O.O | AL1: I.O.O | AP1: Ａ.Ｏ.Ｍ
H3: =曜日!B12 -> 令和3年 | M3: =曜日!C12 -> 8月 | P3: 30日 | S3: （ | T3: =曜日!D4 -> 月 | U3: ） | W3: 作成者 | Z3: ：
A5: 労務 状況 | D5: 勤務状況 | K5: 西舘 翔子 | T5: 小屋敷 千瑛 | AC5: 大川 祥子 | AL5: 吉田 久美子
K6: 野添 京子
A7: 入退院 状況 | D7: 入院形態 | K7: 東病棟 | Q7: 西病棟 | W7: 北病棟 | AC7: 南病棟 | AI7: 合計 | AO7: 総数
K8: 男性 | N8: 女性 | Q8: 男性 | T8: 女性 | W8: 男性 | Z8: 女性 | AC8: 男性 | AF8: 女性 | AI8: 男性 | AL8: 女性
D9: 任意入院 | AI9: =K9+Q9+W9+AC9 -> 0 | AL9: =N9+T9+Z9+AF9 -> 0 | AO9: =AI13 -> 0
D10: 医療保護入院 | AI10: =K10+Q10+W10+AC10 -> 0 | AL10: =N10+T10+Z10+AF10 -> 0
D11: 措置入院 | AI11: =K11+Q11+W11+AC11 -> 0 | AL11: =N11+T11+Z11+AF11 -> 0
D12: 合計 | K12: =K9+K10+K11 -> 0 | N12: =N9+N10+N11 -> 0 | Q12: =Q9+Q10+Q11 -> 0 | T12: =SUM(T9:V11) -> 0 | W12: =SUM(W9:Y11) -> 0 | Z12: =SUM(Z9:AB11) -> 0 | AC12: =SUM(AC9:AE11) -> 0 | AF12: =SUM(AF9:AH11) -> 0 | AI12: =SUM(K12+Q12+W12+AC12) -> 0 | AL12: =SUM(N12+T12+Z12+AF12) -> 0 | AO12: 人
K13: =K12+N12 -> 0 | Q13: =Q12+T12 -> 0 | W13: =W12+Z12 -> 0 | AC13: =AC12+AF12 -> 0 | AI13: =AI12+AL12 -> 0
F14: 患者様氏名 | N14: 入院形態 | T14: 担当Dr | Y14: 担当SW | AD14: 病棟 | AJ14: 備考欄
D15: 入院 | L15: 様
L16: 様
L17: 様
L18: 様
L19: 様
D20: 退院 | L20: 様
L21: 様
L22: 様
L23: 様
L24: 様
D25: 転棟 ･ 入院形態変更 | L25: 様
L26: 様
L27: 様
L28: 様
L29: 様
A30: 患者様 関連 | D30: 患者様氏名 | K30: 担当Dr | P30: 病棟 | S30: 制限内容 | X30: 制限時間 | AC30: 開始日時 | AO30: 備考
I31: 様 | AC31: 令和 | AF31: 年 | AH31: 月 | AJ31: 日 | AL31: ： | AN31: ～
I32: 様 | AC32: 令和 | AF32: 年 | AH32: 月 | AJ32: 日 | AL32: ： | AN32: ～
I33: 様 | AC33: 令和 | AF33: 年 | AH33: 月 | AJ33: 日 | AL33: ： | AN33: ～
I34: 様 | AC34: 令和 | AF34: 年 | AH34: 月 | AJ34: 日 | AL34: ： | AN34: ～
I35: 様 | AC35: 令和 | AF35: 年 | AH35: 月 | AJ35: 日 | AL35: ： | AN35: ～
I36: 様 | AC36: 令和 | AF36: 年 | AH36: 月 | AJ36: 日 | AL36: ： | AN36: ～
I37: 様 | AC37: 令和 | AF37: 年 | AH37: 月 | AJ37: 日 | AL37: ： | AN37: ～
I38: 様 | AC38: 令和 | AF38: 年 | AH38: 月 | AJ38: 日 | AL38: ： | AN38: ～
I39: 様 | AC39: 令和 | AF39: 年 | AH39: 月 | AJ39: 日 | AL39: ： | AN39: ～
I40: 様 | AC40: 令和 | AF40: 年 | AH40: 月 | AJ40: 日 | AL40: ： | AN40: ～
I41: 様 | AC41: 令和 | AF41: 年 | AH41: 月 | AJ41: 日 | AL41: ： | AN41: ～
I42: 様 | AC42: 令和 | AF42: 年 | AH42: 月 | AJ42: 日 | AL42: ： | AN42: ～
... I45: 様 | AC45: 令和 | AF45: 年 | AH45: 月 | AJ45: 日 | AL45: ： | AN45: ～
A46: 業務 内容 | D46: 項目 | J46: 患者様氏名 | P46: 担当 | S46: 備考 | Y46: 項目 | AA46: 患者様氏名 | AG46: 内容 | AQ46: 担当
D47: 外 来 患 者 対 応 | F47: 外来患者 対応 | O47: 様 | Y47: 書 類 作 成 完 了 | AF47: 様
O48: 様 | AF48: 様
O49: 様 | AF49: 様
O50: 様 | AF50: 様
O51: 様 | AF51: 様
O52: 様 | AF52: 様
O53: 様 | AF53: 様
D54: 項目 | J54: 患者様氏名 | P54: 担当 | S54: 備考 | AF54: 様
D55: 入 退 院 支 援 | F55: 退院支援 | O55: 様 | AF55: 様
O56: 様 | AF56: 様
O57: 様 | Y57: 項目 | AG57: 件数 | AJ57: 担当 | AM57: 備考
O58: 様 | Y58: 電話対応 | AI58: 件
O59: 様 | Y59: 保健所への届出 | AI59: 件
F60: 退院請求 対応 | O60: 様 | Y60: 項目 | AG60: 内容
O61: 様 | Y61: 通院医療 観察法
F62: 入院患者 対応 | J62: 担当 | M62: 件数 | P62: 備考
O63: 件 | Y63: 認知症疾患 医療ｾﾝﾀｰ
O64: 件
O65: 件 | Y65: 各種会議参加 外部の業務
O66: 件
A67: 安全管理 | D67: 事故 | S67: 物品 購入 | AE67: 連絡 事項
D68: 苦情
D69: 紛失
D70: 他

Sheet 31
A1: ソーシャルワーカー室 業務日誌 | AH1: C.O.O | AL1: I.O.O | AP1: Ａ.Ｏ.Ｍ
H3: =曜日!B12 -> 令和3年 | M3: =曜日!C12 -> 8月 | P3: 31日 | S3: （ | T3: =曜日!D5 -> 火 | U3: ） | W3: 作成者 | Z3: ：
A5: 労務 状況 | D5: 勤務状況 | K5: 西舘 翔子 | T5: 小屋敷 千瑛 | AC5: 大川 祥子 | AL5: 吉田 久美子
K6: 野添 京子
A7: 入退院 状況 | D7: 入院形態 | K7: 東病棟 | Q7: 西病棟 | W7: 北病棟 | AC7: 南病棟 | AI7: 合計 | AO7: 総数
K8: 男性 | N8: 女性 | Q8: 男性 | T8: 女性 | W8: 男性 | Z8: 女性 | AC8: 男性 | AF8: 女性 | AI8: 男性 | AL8: 女性
D9: 任意入院 | AI9: =K9+Q9+W9+AC9 -> 0 | AL9: =N9+T9+Z9+AF9 -> 0 | AO9: =AI13 -> 0
D10: 医療保護入院 | AI10: =K10+Q10+W10+AC10 -> 0 | AL10: =N10+T10+Z10+AF10 -> 0
D11: 措置入院 | AI11: =K11+Q11+W11+AC11 -> 0 | AL11: =N11+T11+Z11+AF11 -> 0
D12: 合計 | K12: =K9+K10+K11 -> 0 | N12: =N9+N10+N11 -> 0 | Q12: =Q9+Q10+Q11 -> 0 | T12: =SUM(T9:V11) -> 0 | W12: =SUM(W9:Y11) -> 0 | Z12: =SUM(Z9:AB11) -> 0 | AC12: =SUM(AC9:AE11) -> 0 | AF12: =SUM(AF9:AH11) -> 0 | AI12: =SUM(K12+Q12+W12+AC12) -> 0 | AL12: =SUM(N12+T12+Z12+AF12) -> 0 | AO12: 人
K13: =K12+N12 -> 0 | Q13: =Q12+T12 -> 0 | W13: =W12+Z12 -> 0 | AC13: =AC12+AF12 -> 0 | AI13: =AI12+AL12 -> 0
F14: 患者様氏名 | N14: 入院形態 | T14: 担当Dr | Y14: 担当SW | AD14: 病棟 | AJ14: 備考欄
D15: 入院 | L15: 様
L16: 様
L17: 様
L18: 様
L19: 様
D20: 退院 | L20: 様
L21: 様
L22: 様
L23: 様
L24: 様
D25: 転棟 ･ 入院形態変更 | L25: 様
L26: 様
L27: 様
L28: 様
L29: 様
A30: 患者様 関連 | D30: 患者様氏名 | K30: 担当Dr | P30: 病棟 | S30: 制限内容 | X30: 制限時間 | AC30: 開始日時 | AO30: 備考
I31: 様 | AC31: 令和 | AF31: 年 | AH31: 月 | AJ31: 日 | AL31: ： | AN31: ～
I32: 様 | AC32: 令和 | AF32: 年 | AH32: 月 | AJ32: 日 | AL32: ： | AN32: ～
I33: 様 | AC33: 令和 | AF33: 年 | AH33: 月 | AJ33: 日 | AL33: ： | AN33: ～
I34: 様 | AC34: 令和 | AF34: 年 | AH34: 月 | AJ34: 日 | AL34: ： | AN34: ～
I35: 様 | AC35: 令和 | AF35: 年 | AH35: 月 | AJ35: 日 | AL35: ： | AN35: ～
I36: 様 | AC36: 令和 | AF36: 年 | AH36: 月 | AJ36: 日 | AL36: ： | AN36: ～
I37: 様 | AC37: 令和 | AF37: 年 | AH37: 月 | AJ37: 日 | AL37: ： | AN37: ～
I38: 様 | AC38: 令和 | AF38: 年 | AH38: 月 | AJ38: 日 | AL38: ： | AN38: ～
I39: 様 | AC39: 令和 | AF39: 年 | AH39: 月 | AJ39: 日 | AL39: ： | AN39: ～
I40: 様 | AC40: 令和 | AF40: 年 | AH40: 月 | AJ40: 日 | AL40: ： | AN40: ～
I41: 様 | AC41: 令和 | AF41: 年 | AH41: 月 | AJ41: 日 | AL41: ： | AN41: ～
I42: 様 | AC42: 令和 | AF42: 年 | AH42: 月 | AJ42: 日 | AL42: ： | AN42: ～
... I45: 様 | AC45: 令和 | AF45: 年 | AH45: 月 | AJ45: 日 | AL45: ： | AN45: ～
A46: 業務 内容 | D46: 項目 | J46: 患者様氏名 | P46: 担当 | S46: 備考 | Y46: 項目 | AA46: 患者様氏名 | AG46: 内容 | AQ46: 担当
D47: 外 来 患 者 対 応 | F47: 外来患者 対応 | O47: 様 | Y47: 書 類 作 成 完 了 | AF47: 様
O48: 様 | AF48: 様
O49: 様 | AF49: 様
O50: 様 | AF50: 様
O51: 様 | AF51: 様
O52: 様 | AF52: 様
O53: 様 | AF53: 様
D54: 項目 | J54: 患者様氏名 | P54: 担当 | S54: 備考 | AF54: 様
D55: 入 退 院 支 援 | F55: 退院支援 | O55: 様 | AF55: 様
O56: 様 | AF56: 様
O57: 様 | Y57: 項目 | AG57: 件数 | AJ57: 担当 | AM57: 備考
O58: 様 | Y58: 電話対応 | AI58: 件
O59: 様 | Y59: 保健所への届出 | AI59: 件
F60: 退院請求 対応 | O60: 様 | Y60: 項目 | AG60: 内容
O61: 様 | Y61: 通院医療 観察法
F62: 入院患者 対応 | J62: 担当 | M62: 件数 | P62: 備考
O63: 件 | Y63: 認知症疾患 医療ｾﾝﾀｰ
O64: 件
O65: 件 | Y65: 各種会議参加 外部の業務
O66: 件
A67: 安全管理 | D67: 事故 | S67: 物品 購入 | AE67: 連絡 事項
D68: 苦情
D69: 紛失
D70: 他

Sheet 曜日
B2: 曜 日 | F2: 説明書 その月の１日～７日までの曜日を黄色のセルに記入してください。 （例：１日が水曜日の月なら…… １日＝水 ２日＝木 ： ７日＝火
B3: 1日 | C3: = | D3: 日
B4: 2日 | C4: = | D4: 月 | E4: ←
B5: 3日 | C5: = | D5: 火
B6: 4日 | C6: = | D6: 水
B7: 5日 | C7: = | D7: 木
B8: 6日 | C8: = | D8: 金
B9: 7日 | C9: = | D9: 土
B11: 年 月 | F11: 説明書 年・月を入れてください。
B12: 令和3年 | C12: 8月

Sheet 月報1
A1: =曜日!B12 -> 令和3年 | C1: =曜日!C12 -> 8月 | D1: 月次報告 | F1: SW | G1: チーム | I1: 作成者
A3: 人事管理
C4: 定数 | D4: 在籍 | E4: 入職 | F4: 退職 | G4: 特記事項
A5: SW | C5: - | D5: 5 | E5: 0 | F5: 0 | G5: 内、1名パート職員
A6: 総数 | C6: - | D6: =SUM(D5:D5) -> 5 | E6: =SUM(E5:E5) -> 0 | F6: =SUM(F5:F5) -> 0
A8: 労務状況 | C8: 当月末まで
C9: 遅刻 | D9: 早退 | E9: 欠勤 | F9: 有給 | G9: 産・育休 | H9: 病欠 | I9: 忌引き | J9: 業務出張 | K9: 研修出張
A10: 西舘 翔子 | C10: =労務状況!D37 -> 0 | D10: =労務状況!E37 -> 0 | E10: =労務状況!F37 -> 0 | F10: =労務状況!G37 -> 0 | G10: =労務状況!H37 -> 0 | H10: =労務状況!I37 -> 0 | I10: =労務状況!J37 -> 0 | J10: =労務状況!K37 -> 0 | K10: =労務状況!L37 -> 0
A11: 小屋敷 千瑛 | C11: =労務状況!D38 -> 0 | D11: =労務状況!E38 -> 0 | E11: =労務状況!F38 -> 0 | F11: =労務状況!G38 -> 0 | G11: =労務状況!H38 -> 0 | H11: =労務状況!I38 -> 0 | I11: =労務状況!J38 -> 0 | J11: =労務状況!K38 -> 0 | K11: =労務状況!L38 -> 0
A12: 大川 祥子 | C12: =労務状況!D39 -> 0 | D12: =労務状況!E39 -> 0 | E12: =労務状況!F39 -> 0 | F12: =労務状況!G39 -> 0 | G12: =労務状況!H39 -> 0 | H12: =労務状況!I39 -> 0 | I12: =労務状況!J39 -> 0 | J12: =労務状況!K39 -> 0 | K12: =労務状況!L39 -> 0
A13: 吉田 久美子 | C13: =労務状況!D40 -> 0 | D13: =労務状況!E40 -> 0 | E13: =労務状況!F40 -> 0 | F13: =労務状況!G40 -> 0 | G13: =労務状況!H40 -> 0 | H13: =労務状況!I40 -> 0 | I13: =労務状況!J40 -> 0 | J13: =労務状況!K40 -> 0 | K13: =労務状況!L40 -> 0
A14: 野添 京子(パート) | C14: =労務状況!D41 -> 0 | D14: =労務状況!E41 -> 0 | E14: =労務状況!F41 -> 0 | F14: =労務状況!G41 -> 0 | G14: =労務状況!H41 -> 0 | H14: =労務状況!I41 -> 0 | I14: =労務状況!J41 -> 0 | J14: =労務状況!K41 -> 0 | K14: =労務状況!L41 -> 0
C15: =労務状況!D42 -> 0 | D15: =労務状況!E42 -> 0 | E15: =労務状況!F42 -> 0 | F15: =労務状況!G42 -> 0 | G15: =労務状況!H42 -> 0 | H15: =労務状況!I42 -> 0 | I15: =労務状況!J42 -> 0 | J15: =労務状況!K42 -> 0 | K15: =労務状況!L42 -> 0
C16: =労務状況!D43 -> 0 | D16: =労務状況!E43 -> 0 | E16: =労務状況!F43 -> 0 | F16: =労務状況!G43 -> 0 | G16: =労務状況!H43 -> 0 | H16: =労務状況!I43 -> 0 | I16: =労務状況!J43 -> 0 | J16: =労務状況!K43 -> 0 | K16: =労務状況!L43 -> 0
C17: =労務状況!D44 -> 0 | D17: =労務状況!E44 -> 0 | E17: =労務状況!F44 -> 0 | F17: =労務状況!G44 -> 0 | G17: =労務状況!H44 -> 0 | H17: =労務状況!I44 -> 0 | I17: =労務状況!J44 -> 0 | J17: =労務状況!K44 -> 0 | K17: =労務状況!L44 -> 0
A18: 総数 | C18: =C10+C11+C12+C14+C13 -> 0 | D18: =D10+D11+D12+D14+D13 -> 0 | E18: =E10+E11+E12+E14+E13 -> 0 | F18: =F10+F11+F12+F14+F13 -> 0 | G18: =G10+G11+G12+G14+G13 -> 0 | H18: =H10+H11+H12+H14+H13 -> 0 | I18: =I10+I11+I12+I14+I13 -> 0 | J18: =J10+J11+J12+J14+J13 -> 0 | K18: =K10+K11+K12+K14+K13 -> 0
A20: 人材育成
A21: 外部研修・勉強会参加状況
A22: 職員名 | C22: 件数 | D22: 研修名（日にち）
A23: 西舘 翔子
A24: 小屋敷 千瑛
A25: 大川 祥子
A26: 吉田 久美子
A27: 野添 京子(パート)
A29: 内部研修・勉強会参加状況
A30: 職員名 | C30: 件数 | D30: 研修名（日にち）
A31: 西舘 翔子
A32: 小屋敷 千瑛
A33: 大川 祥子
A34: 吉田 久美子
A35: 野添 京子(パート)
A37: 安全管理
C38: 件数 | D38: 内容等
A39: 苦情 | C39: 0
A40: 事故 | C40: 0
A41: 総数 | C41: =SUM(C39:C40) -> 0
A43: 物品管理
C44: 件数 | D44: 特記事項
A45: 物品購入 | C45: 0
A46: 修繕 | C46: 0

Sheet 月報2
A1: 事業進捗状況
A2: 【計画項目】 | B2: 進捗状況・結果・評価
A3: 1 個別支援の充実
A4: 入退院支援 | B4: 入院援助 | E4: =業務遂行状況!AI3 -> 1 | F4: 件
B5: 入院形態の変更 | E5: =業務遂行状況!AI4 -> 31 | F5: 件
B6: 入院患者対応 | E6: =業務遂行状況!AI5 -> 1 | F6: 件
B7: 退院請求対応 | E7: =業務遂行状況!AI6 -> 0 | F7: 件
B8: 退院援助 | E8: =業務遂行状況!AI7 -> 60 | F8: 件
A9: 外来患者対応 | B9: 外来患者対応 | E9: =業務遂行状況!AI8 -> 0 | F9: 件
B10: 通院医療観察法 | E10: =業務遂行状況!AI9 -> 1 | F10: 件
A11: 2 各種制度の管理・手続き
A12: 医師補助業務 | B12: =業務遂行状況!AI10 -> 0 | C12: 件
A13: 保健所への届出 | B13: =業務遂行状況!AI11 -> 0 | C13: 件
A14: 3 チーム医療の連携体制の拡充
A15: 各種会議参加
A16: 外部の業務
A17: 病棟内勉強会の開催（年4回）
A18: 他機関連携
A19: 4 統計処理と情報分析
B20: ＊入退院届けの作成・提出 ＊定期病状報告の作成・提出 ＊保健所提出用月報の作成・提出 ＊入院者一覧(SW室管理用ﾃﾞｰﾀﾍﾞｰｽ)の作成 ＊任意入院者 同意書管理 ＊各種制度(自立支援医療･生活保護･障害者手帳等)の管理票作成
A21: 5 研鑽活動と人材育成の活性化
A22: (1)業務の効率化 | B22: ①マニュアルの整備
B23: ②確実な業務管理と確実な情報共有体制の整備
B24: ③業務整理
A25: （2）スタッフ教育 | B25: ①新人教育
B26: ②外部研修への参加
B27: ③目標管理面接と個別指導
A28: (3)人員確保 | B28: ①施設見学希望者への対応
B29: ②実習生の受け入れ

Sheet 月報3
A1: =曜日!B12 -> 令和3年 | E1: =曜日!C12 -> 8月 | I1: ソーシャルワーカー室業務月報 | AA1: C.O.O | AD1: A.O.M
O4: 記載者：
A5: 入院状況 | I5: 東病棟 | M5: 西病棟 | Q5: 南病棟 | U5: 北病棟 | Y5: 合計
I6: 男性 | K6: 女性 | M6: 男性 | O6: 女性 | Q6: 男性 | S6: 女性 | U6: 男性 | W6: 女性 | Y6: 男性 | AA6: 女性
C7: 任意 | G7: 入院 | Y7: =SUM(I7+M7+Q7+U7) -> 0 | AA7: =SUM(K7+O7+S7+W7) -> 0
G8: 在院 | Y8: =SUM(I8,M8,Q8,U8) -> 0 | AA8: =SUM(K8+O8+S8+W8) -> 0 | AC8: 入院
G9: 退院 | Y9: =SUM(I9+M9+Q9+U9) -> 0 | AA9: =SUM(K9+O9+S9+W9) -> 0 | AD9: =SUM(Y16:AB16) -> 0 | AF9: 名
C10: 医療保護 | G10: 入院 | Y10: =SUM(I10+M10+Q10+U10) -> 0 | AA10: =SUM(K10+O10+S10+W10) -> 0
G11: 在院 | Y11: =SUM(I11+M11+Q11+U11) -> 0 | AA11: =SUM(K11+O11+S11+W11) -> 0 | AC11: 退院
G12: 退院 | Y12: =SUM(I12+M12+Q12+U12) -> 0 | AA12: =SUM(K12+O12+S12+W12) -> 0 | AD12: =SUM(Y18:AB18) -> 0 | AF12: 名
C13: 措置 | G13: 入院 | Y13: =SUM(I13+M13+Q13+U13) -> 0 | AA13: =SUM(K13+O13+S13+W13) -> 0
G14: 在院 | Y14: =SUM(I14+M14+Q14+U14) -> 0 | AA14: =SUM(K14+O14+S14+W14) -> 0 | AC14: 在院数
G15: 退院 | Y15: =SUM(I15+M15+Q15+U15) -> 0 | AA15: =SUM(K15+O15+S15+W15) -> 0 | AD15: =Y17+AA17 -> 0 | AF15: 名
C16: 合計 | G16: 入院 | I16: =SUM(I7+I10+I13) -> 0 | K16: =SUM(K7+K10+K13) -> 0 | M16: =SUM(M7+M10+M13) -> 0 | O16: =SUM(O7+O10+O13) -> 0 | Q16: =SUM(Q7+Q10+Q13) -> 0 | S16: =SUM(S7+S10+S13) -> 0 | U16: =SUM(U7+U10+U13) -> 0 | W16: =SUM(W7+W10+W13) -> 0 | Y16: =SUM(Y7+Y10+Y13) -> 0 | AA16: =SUM(AA7+AA10+AA13) -> 0
G17: 在院 | I17: =SUM(I8+I11+I14) -> 0 | K17: =SUM(K8+K11+K14) -> 0 | M17: =M8+M11+M14 -> 0 | O17: =SUM(O8+O11+O14) -> 0 | Q17: =Q8+Q11+Q14 -> 0 | S17: =SUM(S8+S11+S14) -> 0 | U17: =SUM(U8+U11+U14) -> 0 | W17: =SUM(W8+W11+W14) -> 0 | Y17: =SUM(Y8+Y11+Y14) -> 0 | AA17: =SUM(AA8+AA11+AA14) -> 0
G18: 退院 | I18: =SUM(I9+I12+I15) -> 0 | K18: =SUM(K9+K12+K15) -> 0 | M18: =SUM(M9+M12+M15) -> 0 | O18: =SUM(O9+O12+O15) -> 0 | Q18: =SUM(Q9+Q12+Q15) -> 0 | S18: =SUM(S9+S12+S15) -> 0 | U18: =U9+U12+U15 -> 0 | W18: =SUM(W9+W12+W15) -> 0 | Y18: =I18+M18+Q18+U18 -> 0 | AA18: =SUM(AA9+AA12+AA15) -> 0
C19: 医療保護定期病状報告
C20: 患者様氏名 | H20: 担当SW | K20: 担当医師 | N20: 作成日 | P20: 提出日 | R20: 患者様氏名 | W20: 担当SW | Z20: 担当医師 | AC20: 作成日 | AE20: 提出日
C21: 1
C22: 2
C23: 3
C24: 4
C25: 5
C26: 6
C27: 7
C28: 8 | AH28: 医療保護定期病状報告
C29: 9 | AH29: 計
C30: 10 | AH30: =COUNTA(D21:G30) -> 0 | AI30: 件
C31: 医療保護入退入院届
C32: 患者様氏名 | H32: 担当SW | K32: 担当医師 | N32: 第1項 | T32: 第3項 | Z32: 備考
N33: 入院日 | P33: 作成日 | R33: 提出日 | T33: 入院日 | V33: 作成日 | X33: 提出日
C34: 1
C35: 2
C36: 3
C37: 4
C38: 5
C39: 6
C40: 7
C41: 8
C42: 9
C43: 10
C44: 11
C45: 12
... C53: 20
C54: 21 | AH54: 医療保護入退入院届
C55: 22 | AH55: 第1項 計
C56: 23 | AH56: =COUNTA(N34:O58) -> 0 | AI56: 件
C57: 24 | AH57: 第3項 計
C58: 25 | AH58: =COUNTA(T34:U58) -> 0 | AI58: 件
C59: 入院形態変更状況
C60: 患者様氏名 | H60: 担当SW | K60: 担当医師 | N60: 入院日 | P60: 作成日 | R60: 提出日 | T60: 備考
C61: 1
C62: 2
C63: 3 | AH63: 入院形態変更状況
C64: 4 | AH64: 計
C65: 5 | AH65: =COUNTA(D61:G65) -> 0 | AI65: 件
C66: 医療保護入院退院届
C67: 患者様氏名 | H67: 担当SW | K67: 担当医師 | N67: 退院日 | P67: 提出日 | R67: 転帰
C68: 1
C69: 2
C70: 3
C71: 4
C72: 5
C73: 6
C74: 7
C75: 8
C76: 9
C77: 10
C78: 11
C79: 12
... C84: 17
C85: 18 | AH85: 医療保護入院退院届
C86: 19 | AH86: 計
C87: 20 | AH87: =COUNTA(D68:G87) -> 0 | AI87: 件
C88: 措置入院 入院者
C89: 患者様氏名 | H89: 担当SW | K89: 担当医師 | N89: 入院日 | P89: 提出日 | R89: 患者様氏名 | W89: 担当SW | Z89: 担当医師 | AC89: 入院日 | AE89: 提出日
C90: 1
C91: 2
C92: 3 | AH92: 措置入院 入院者
C93: 4 | AH93: 計
C94: 5 | AH94: =COUNTA(D90:G94) -> 0 | AI94: 件
C95: 措置定期病状報告
C96: 患者様氏名 | H96: 担当SW | K96: 担当医師 | N96: 作成日 | P96: 提出日 | R96: 患者様氏名 | W96: 担当SW | Z96: 担当医師 | AC96: 作成日 | AE96: 提出日
C97: 1
C98: 2
C99: 3 | AH99: 措置定期病状報告
C100: 4 | AH100: 計
C101: 5 | AH101: =COUNTA(D97:G101) -> 0 | AI101: 件
C102: 措置消退届
C103: 患者様氏名 | H103: 担当SW | K103: 担当医師 | N103: 作成日 | P103: 提出日 | R103: 患者様氏名 | W103: 担当SW | Z103: 担当医師 | AC103: 作成日 | AE103: 提出日
C104: 1
C105: 2
C106: 3 | AH106: 措置消退届
C107: 4 | AH107: 計
C108: 5 | AH108: =COUNTA(D104:G108) -> 0 | AI108: 件
C109: 任意入院継続同意書
C110: 患者様氏名 | H110: 担当SW | K110: 担当医師 | N110: 病棟 | R110: 同意日
C111: 1
C112: 2
C113: 3
...

Sheet 労務状況
C1: 労務状況
C2: 氏名 | D2: 労務状況 | E2: 氏名 | F2: 労務状況 | G2: 氏名 | H2: 労務状況 | I2: 氏名 | J2: 労務状況 | K2: 氏名 | L2: 労務状況 | M2: 氏名 | N2: 労務状況 | O2: 氏名 | P2: 労務状況 | Q2: 氏名 | R2: 労務状況
B3: 1 | C3: ='1'!$K$5 -> 西舘 翔子 | D3: ='1'!$P$5 -> 公休 | E3: ='1'!$T$5 -> 小屋敷 千瑛 | F3: ='1'!$Y$5 -> 公休 | G3: ='1'!$AC$5 -> 大川 祥子 | H3: ='1'!$AH$5 -> 公休 | I3: ='1'!$AL$5 -> 吉田 久美子 | J3: ='1'!$AP$5 -> 公休 | K3: ='1'!$K$6 -> 野添 京子 | L3: ='1'!P6 -> 公休 | M3: ='1'!T6 -> 0 | N3: ='1'!Y6 -> 0 | O3: ='1'!AC6 -> 0 | P3: ='1'!AH6 -> 0 | Q3: ='1'!AL6 -> 0 | R3: ='1'!AP6 -> 0
B4: 2 | C4: ='2'!$K$5 -> 西舘 翔子 | D4: ='2'!$P$5 -> 日勤 | E4: ='2'!$T$5 -> 小屋敷 千瑛 | F4: ='2'!$Y$5 -> 公休 | G4: ='2'!$AC$5 -> 大川 祥子 | H4: ='2'!$AH$5 -> 日勤 | I4: ='2'!$AL$5 -> 吉田 久美子 | J4: ='2'!$AP$5 -> 日勤 | K4: ='2'!$K$6 -> 野添 京子 | L4: ='2'!P6 -> 日勤 | M4: ='2'!T6 -> 0 | N4: ='2'!Y6 -> 0 | O4: ='2'!AC6 -> 0 | P4: ='2'!AH6 -> 0 | Q4: ='2'!AL6 -> 0 | R4: ='2'!AP6 -> 0
B5: 3 | C5: ='3'!$K$5 -> 西舘 翔子 | D5: ='3'!$P$5 -> 日勤 | E5: ='3'!$T$5 -> 小屋敷 千瑛 | F5: ='3'!$Y$5 -> 日勤 | G5: ='3'!$AC$5 -> 大川 祥子 | H5: ='3'!$AH$5 -> 日勤 | I5: ='3'!$AL$5 -> 吉田 久美子 | J5: ='3'!$AP$5 -> 日勤 | K5: ='3'!$K$6 -> 野添 京子 | L5: ='3'!P6 -> 日勤 | M5: ='3'!T6 -> 0 | N5: ='3'!Y6 -> 0 | O5: ='3'!AC6 -> 0 | P5: ='3'!AH6 -> 0 | Q5: ='3'!AL6 -> 0 | R5: ='3'!AP6 -> 0
B6: 4 | C6: ='4'!$K$5 -> 西舘 翔子 | D6: ='4'!$P$5 -> 日勤 | E6: ='4'!$T$5 -> 小屋敷 千瑛 | F6: ='4'!$Y$5 -> 日勤 | G6: ='4'!$AC$5 -> 大川 祥子 | H6: ='4'!$AH$5 -> 日勤 | I6: ='4'!$AL$5 -> 吉田 久美子 | J6: ='4'!$AP$5 -> 日勤 | K6: ='4'!$K$6 -> 野添 京子 | L6: ='4'!P6 -> 公休 | M6: ='4'!T6 -> 0 | N6: ='4'!Y6 -> 0 | O6: ='4'!AC6 -> 0 | P6: ='4'!AH6 -> 0 | Q6: ='4'!AL6 -> 0 | R6: ='4'!AP6 -> 0
B7: 5 | C7: ='5'!$K$5 -> 西舘 翔子 | D7: ='5'!$P$5 -> 日勤 | E7: ='5'!$T$5 -> 小屋敷 千瑛 | F7: ='5'!$Y$5 -> 日勤 | G7: ='5'!$AC$5 -> 大川 祥子 | H7: ='5'!$AH$5 -> 日勤 | I7: ='5'!$AL$5 -> 吉田 久美子 | J7: ='5'!$AP$5 -> 日勤 | K7: ='5'!$K$6 -> 野添 京子 | L7: ='5'!P6 -> 日勤 | M7: ='5'!T6 -> 0 | N7: ='5'!Y6 -> 0 | O7: ='5'!AC6 -> 0 | P7: ='5'!AH6 -> 0 | Q7: ='5'!AL6 -> 0 | R7: ='5'!AP6 -> 0
B8: 6 | C8: ='6'!$K$5 -> 西舘 翔子 | D8: ='6'!$P$5 -> 日勤 | E8: ='6'!$T$5 -> 小屋敷 千瑛 | F8: ='6'!$Y$5 -> 日勤 | G8: ='6'!$AC$5 -> 大川 祥子 | H8: ='6'!$AH$5 -> 日勤 | I8: ='6'!$AL$5 -> 吉田 久美子 | J8: ='6'!$AP$5 -> 日勤 | K8: ='6'!$K$6 -> 野添 京子 | L8: ='6'!P6 -> 公休 | M8: ='6'!T6 -> 0 | N8: ='6'!Y6 -> 0 | O8: ='6'!AC6 -> 0 | P8: ='6'!AH6 -> 0 | Q8: ='6'!AL6 -> 0 | R8: ='6'!AP6 -> 0
B9: 7 | C9: ='7'!$K$5 -> 西舘 翔子 | D9: ='7'!$P$5 -> 公休 | E9: ='7'!$T$5 -> 小屋敷 千瑛 | F9: ='7'!$Y$5 -> 日勤 | G9: ='7'!$AC$5 -> 大川 祥子 | H9: ='7'!$AH$5 -> 公休 | I9: ='7'!$AL$5 -> 吉田 久美子 | J9: ='7'!$AP$5 -> 公休 | K9: ='7'!$K$6 -> 野添 京子 | L9: ='7'!P6 -> 公休 | M9: ='7'!T6 -> 0 | N9: ='7'!Y6 -> 0 | O9: ='7'!AC6 -> 0 | P9: ='7'!AH6 -> 0 | Q9: ='7'!AL6 -> 0 | R9: ='7'!AP6 -> 0
B10: 8 | C10: ='8'!$K$5 -> 西舘 翔子 | D10: ='8'!$P$5 -> 公休 | E10: ='8'!$T$5 -> 小屋敷 千瑛 | F10: ='8'!$Y$5 -> 公休 | G10: ='8'!$AC$5 -> 大川 祥子 | H10: ='8'!$AH$5 -> 公休 | I10: ='8'!$AL$5 -> 吉田 久美子 | J10: ='8'!$AP$5 -> 公休 | K10: ='8'!$K$6 -> 野添 京子 | L10: ='8'!P6 -> 公休 | M10: ='8'!T6 -> 0 | N10: ='8'!Y6 -> 0 | O10: ='8'!AC6 -> 0 | P10: ='8'!AH6 -> 0 | Q10: ='8'!AL6 -> 0 | R10: ='8'!AP6 -> 0
B11: 9 | C11: ='9'!$K$5 -> 西舘 翔子 | D11: ='9'!$P$5 -> 日勤 | E11: ='9'!$T$5 -> 小屋敷 千瑛 | F11: ='9'!$Y$5 -> 日勤 | G11: ='9'!$AC$5 -> 大川 祥子 | H11: ='9'!$AH$5 -> 日勤 | I11: ='9'!$AL$5 -> 吉田 久美子 | J11: ='9'!$AP$5 -> 公休 | K11: ='9'!$K$6 -> 野添 京子 | L11: ='9'!P6 -> 公休 | M11: ='9'!T6 -> 0 | N11: ='9'!Y6 -> 0 | O11: ='9'!AC6 -> 0 | P11: ='9'!AH6 -> 0 | Q11: ='9'!AL6 -> 0 | R11: ='9'!AP6 -> 0
B12: 10 | C12: ='10'!$K$5 -> 西舘 翔子 | D12: ='10'!$P$5 -> 日勤 | E12: ='10'!$T$5 -> 小屋敷 千瑛 | F12: ='10'!$Y$5 -> 日勤 | G12: ='10'!$AC$5 -> 大川 祥子 | H12: ='10'!$AH$5 -> 日勤 | I12: ='10'!$AL$5 -> 吉田 久美子 | J12: ='10'!$AP$5 -> 日勤 | K12: ='10'!$K$6 -> 野添 京子 | L12: ='10'!P6 -> 日勤 | M12: ='10'!T6 -> 0 | N12: ='10'!Y6 -> 0 | O12: ='10'!AC6 -> 0 | P12: ='10'!AH6 -> 0 | Q12: ='10'!AL6 -> 0 | R12: ='10'!AP6 -> 0
B13: 11 | C13: ='11'!$K$5 -> 西舘 翔子 | D13: ='11'!$P$5 -> 0 | E13: ='11'!$T$5 -> 小屋敷 千瑛 | F13: ='11'!$Y$5 -> 0 | G13: ='11'!$AC$5 -> 大川 祥子 | H13: ='11'!$AH$5 -> 0 | I13: ='11'!$AL$5 -> 吉田 久美子 | J13: ='11'!$AP$5 -> 0 | K13: ='11'!$K$6 -> 野添 京子 | L13: ='11'!P6 -> 0 | M13: ='11'!T6 -> 0 | N13: ='11'!Y6 -> 0 | O13: ='11'!AC6 -> 0 | P13: ='11'!AH6 -> 0 | Q13: ='11'!AL6 -> 0 | R13: ='11'!AP6 -> 0
B14: 12 | C14: ='12'!$K$5 -> 西舘 翔子 | D14: ='12'!$P$5 -> 0 | E14: ='12'!$T$5 -> 小屋敷 千瑛 | F14: ='12'!$Y$5 -> 0 | G14: ='12'!$AC$5 -> 大川 祥子 | H14: ='12'!$AH$5 -> 0 | I14: ='12'!$AL$5 -> 吉田 久美子 | J14: ='12'!$AP$5 -> 0 | K14: ='12'!$K$6 -> 野添 京子 | L14: ='12'!P6 -> 0 | M14: ='12'!T6 -> 0 | N14: ='12'!Y6 -> 0 | O14: ='12'!AC6 -> 0 | P14: ='12'!AH6 -> 0 | Q14: ='12'!AL6 -> 0 | R14: ='12'!AP6 -> 0
B15: 13 | C15: ='13'!$K$5 -> 西舘 翔子 | D15: ='13'!$P$5 -> 0 | E15: ='13'!$T$5 -> 小屋敷 千瑛 | F15: ='13'!$Y$5 -> 0 | G15: ='13'!$AC$5 -> 大川 祥子 | H15: ='13'!$AH$5 -> 0 | I15: ='13'!$AL$5 -> 吉田 久美子 | J15: ='13'!$AP$5 -> 0 | K15: ='13'!$K$6 -> 野添 京子 | L15: ='13'!P6 -> 0 | M15: ='13'!T6 -> 0 | N15: ='13'!Y6 -> 0 | O15: ='13'!AC6 -> 0 | P15: ='13'!AH6 -> 0 | Q15: ='13'!AL6 -> 0 | R15: ='13'!AP6 -> 0
B16: 14 | C16: ='14'!$K$5 -> 西舘 翔子 | D16: ='14'!$P$5 -> 0 | E16: ='14'!$T$5 -> 小屋敷 千瑛 | F16: ='14'!$Y$5 -> 0 | G16: ='14'!$AC$5 -> 大川 祥子 | H16: ='14'!$AH$5 -> 0 | I16: ='14'!$AL$5 -> 吉田 久美子 | J16: ='14'!$AP$5 -> 0 | K16: ='14'!$K$6 -> 野添 京子 | L16: ='14'!P6 -> 0 | M16: ='14'!T6 -> 0 | N16: ='14'!Y6 -> 0 | O16: ='14'!AC6 -> 0 | P16: ='14'!AH6 -> 0 | Q16: ='14'!AL6 -> 0 | R16: ='14'!AP6 -> 0
B17: 15 | C17: ='15'!$K$5 -> 西舘 翔子 | D17: ='15'!$P$5 -> 0 | E17: ='15'!$T$5 -> 小屋敷 千瑛 | F17: ='15'!$Y$5 -> 0 | G17: ='15'!$AC$5 -> 大川 祥子 | H17: ='15'!$AH$5 -> 0 | I17: ='15'!$AL$5 -> 吉田 久美子 | J17: ='15'!$AP$5 -> 0 | K17: ='15'!$K$6 -> 野添 京子 | L17: ='15'!P6 -> 0 | M17: ='15'!T6 -> 0 | N17: ='15'!Y6 -> 0 | O17: ='15'!AC6 -> 0 | P17: ='15'!AH6 -> 0 | Q17: ='15'!AL6 -> 0 | R17: ='15'!AP6 -> 0
B18: 16 | C18: ='16'!$K$5 -> 西舘 翔子 | D18: ='16'!$P$5 -> 0 | E18: ='16'!$T$5 -> 小屋敷 千瑛 | F18: ='16'!$Y$5 -> 0 | G18: ='16'!$AC$5 -> 大川 祥子 | H18: ='16'!$AH$5 -> 0 | I18: ='16'!$AL$5 -> 吉田 久美子 | J18: ='16'!$AP$5 -> 0 | K18: ='16'!$K$6 -> 野添 京子 | L18: ='16'!P6 -> 0 | M18: ='16'!T6 -> 0 | N18: ='16'!Y6 -> 0 | O18: ='16'!AC6 -> 0 | P18: ='16'!AH6 -> 0 | Q18: ='16'!AL6 -> 0 | R18: ='16'!AP6 -> 0
B19: 17 | C19: ='17'!$K$5 -> 西舘 翔子 | D19: ='17'!$P$5 -> 0 | E19: ='17'!$T$5 -> 小屋敷 千瑛 | F19: ='17'!$Y$5 -> 0 | G19: ='17'!$AC$5 -> 大川 祥子 | H19: ='17'!$AH$5 -> 0 | I19: ='17'!$AL$5 -> 吉田 久美子 | J19: ='17'!$AP$5 -> 0 | K19: ='17'!$K$6 -> 野添 京子 | L19: ='17'!P6 -> 0 | M19: ='17'!T6 -> 0 | N19: ='17'!Y6 -> 0 | O19: ='17'!AC6 -> 0 | P19: ='17'!AH6 -> 0 | Q19: ='17'!AL6 -> 0 | R19: ='17'!AP6 -> 0
B20: 18 | C20: ='18'!$K$5 -> 西舘 翔子 | D20: ='18'!$P$5 -> 0 | E20: ='18'!$T$5 -> 小屋敷 千瑛 | F20: ='18'!$Y$5 -> 0 | G20: ='18'!$AC$5 -> 大川 祥子 | H20: ='18'!$AH$5 -> 0 | I20: ='18'!$AL$5 -> 吉田 久美子 | J20: ='18'!$AP$5 -> 0 | K20: ='18'!$K$6 -> 野添 京子 | L20: ='18'!P6 -> 0 | M20: ='18'!T6 -> 0 | N20: ='18'!Y6 -> 0 | O20: ='18'!AC6 -> 0 | P20: ='18'!AH6 -> 0 | Q20: ='18'!AL6 -> 0 | R20: ='18'!AP6 -> 0
B21: 19 | C21: ='19'!$K$5 -> 西舘 翔子 | D21: ='19'!$P$5 -> 0 | E21: ='19'!$T$5 -> 小屋敷 千瑛 | F21: ='19'!$Y$5 -> 0 | G21: ='19'!$AC$5 -> 大川 祥子 | H21: ='19'!$AH$5 -> 0 | I21: ='19'!$AL$5 -> 吉田 久美子 | J21: ='19'!$AP$5 -> 0 | K21: ='19'!$K$6 -> 野添 京子 | L21: ='19'!P6 -> 0 | M21: ='19'!T6 -> 0 | N21: ='19'!Y6 -> 0 | O21: ='19'!AC6 -> 0 | P21: ='19'!AH6 -> 0 | Q21: ='19'!AL6 -> 0 | R21: ='19'!AP6 -> 0
B22: 20 | C22: ='20'!$K$5 -> 西舘 翔子 | D22: ='20'!$P$5 -> 0 | E22: ='20'!$T$5 -> 小屋敷 千瑛 | F22: ='20'!$Y$5 -> 0 | G22: ='20'!$AC$5 -> 大川 祥子 | H22: ='20'!$AH$5 -> 0 | I22: ='20'!$AL$5 -> 吉田 久美子 | J22: ='20'!$AP$5 -> 0 | K22: ='20'!$K$6 -> 野添 京子 | L22: ='20'!P6 -> 0 | M22: ='20'!T6 -> 0 | N22: ='20'!Y6 -> 0 | O22: ='20'!AC6 -> 0 | P22: ='20'!AH6 -> 0 | Q22: ='20'!AL6 -> 0 | R22: ='20'!AP6 -> 0
B23: 21 | C23: ='21'!$K$5 -> 西舘 翔子 | D23: ='21'!$P$5 -> 0 | E23: ='21'!$T$5 -> 小屋敷 千瑛 | F23: ='21'!$Y$5 -> 0 | G23: ='21'!$AC$5 -> 大川 祥子 | H23: ='21'!$AH$5 -> 0 | I23: ='21'!$AL$5 -> 吉田 久美子 | J23: ='21'!$AP$5 -> 0 | K23: ='21'!$K$6 -> 野添 京子 | L23: ='21'!P6 -> 0 | M23: ='21'!T6 -> 0 | N23: ='21'!Y6 -> 0 | O23: ='21'!AC6 -> 0 | P23: ='21'!AH6 -> 0 | Q23: ='21'!AL6 -> 0 | R23: ='21'!AP6 -> 0
B24: 22 | C24: ='22'!$K$5 -> 西舘 翔子 | D24: ='22'!$P$5 -> 0 | E24: ='22'!$T$5 -> 小屋敷 千瑛 | F24: ='22'!$Y$5 -> 0 | G24: ='22'!$AC$5 -> 大川 祥子 | H24: ='22'!$AH$5 -> 0 | I24: ='22'!$AL$5 -> 吉田 久美子 | J24: ='22'!$AP$5 -> 0 | K24: ='22'!$K$6 -> 野添 京子 | L24: ='22'!P6 -> 0 | M24: ='22'!T6 -> 0 | N24: ='22'!Y6 -> 0 | O24: ='22'!AC6 -> 0 | P24: ='22'!AH6 -> 0 | Q24: ='22'!AL6 -> 0 | R24: ='22'!AP6 -> 0
B25: 23 | C25: ='23'!$K$5 -> 西舘 翔子 | D25: ='23'!$P$5 -> 0 | E25: ='23'!$T$5 -> 小屋敷 千瑛 | F25: ='23'!$Y$5 -> 0 | G25: ='23'!$AC$5 -> 大川 祥子 | H25: ='23'!$AH$5 -> 0 | I25: ='23'!$AL$5 -> 吉田 久美子 | J25: ='23'!$AP$5 -> 0 | K25: ='23'!$K$6 -> 野添 京子 | L25: ='23'!P6 -> 0 | M25: ='23'!T6 -> 0 | N25: ='23'!Y6 -> 0 | O25: ='23'!AC6 -> 0 | P25: ='23'!AH6 -> 0 | Q25: ='23'!AL6 -> 0 | R25: ='23'!AP6 -> 0
B26: 24 | C26: ='24'!$K$5 -> 西舘 翔子 | D26: ='24'!$P$5 -> 0 | E26: ='24'!$T$5 -> 小屋敷 千瑛 | F26: ='24'!$Y$5 -> 0 | G26: ='24'!$AC$5 -> 大川 祥子 | H26: ='24'!$AH$5 -> 0 | I26: ='24'!$AL$5 -> 吉田 久美子 | J26: ='24'!$AP$5 -> 0 | K26: ='24'!$K$6 -> 野添 京子 | L26: ='24'!P6 -> 0 | M26: ='24'!T6 -> 0 | N26: ='24'!Y6 -> 0 | O26: ='24'!AC6 -> 0 | P26: ='24'!AH6 -> 0 | Q26: ='24'!AL6 -> 0 | R26: ='24'!AP6 -> 0
B27: 25 | C27: ='25'!$K$5 -> 西舘 翔子 | D27: ='25'!$P$5 -> 0 | E27: ='25'!$T$5 -> 小屋敷 千瑛 | F27: ='25'!$Y$5 -> 0 | G27: ='25'!$AC$5 -> 大川 祥子 | H27: ='25'!$AH$5 -> 0 | I27: ='25'!$AL$5 -> 吉田 久美子 | J27: ='25'!$AP$5 -> 0 | K27: ='25'!$K$6 -> 野添 京子 | L27: ='25'!P6 -> 0 | M27: ='25'!T6 -> 0 | N27: ='25'!Y6 -> 0 | O27: ='25'!AC6 -> 0 | P27: ='25'!AH6 -> 0 | Q27: ='25'!AL6 -> 0 | R27: ='25'!AP6 -> 0
B28: 26 | C28: ='26'!$K$5 -> 西舘 翔子 | D28: ='26'!$P$5 -> 0 | E28: ='26'!$T$5 -> 小屋敷 千瑛 | F28: ='26'!$Y$5 -> 0 | G28: ='26'!$AC$5 -> 大川 祥子 | H28: ='26'!$AH$5 -> 0 | I28: ='26'!$AL$5 -> 吉田 久美子 | J28: ='26'!$AP$5 -> 0 | K28: ='26'!$K$6 -> 野添 京子 | L28: ='26'!P6 -> 0 | M28: ='26'!T6 -> 0 | N28: ='26'!Y6 -> 0 | O28: ='26'!AC6 -> 0 | P28: ='26'!AH6 -> 0 | Q28: ='26'!AL6 -> 0 | R28: ='26'!AP6 -> 0
B29: 27 | C29: ='27'!$K$5 -> 西舘 翔子 | D29: ='27'!$P$5 -> 0 | E29: ='27'!$T$5 -> 小屋敷 千瑛 | F29: ='27'!$Y$5 -> 0 | G29: ='27'!$AC$5 -> 大川 祥子 | H29: ='27'!$AH$5 -> 0 | I29: ='27'!$AL$5 -> 吉田 久美子 | J29: ='27'!$AP$5 -> 0 | K29: ='27'!$K$6 -> 野添 京子 | L29: ='27'!P6 -> 0 | M29: ='27'!T6 -> 0 | N29: ='27'!Y6 -> 0 | O29: ='27'!AC6 -> 0 | P29: ='27'!AH6 -> 0 | Q29: ='27'!AL6 -> 0 | R29: ='27'!AP6 -> 0
B30: 28 | C30: ='28'!$K$5 -> 西舘 翔子 | D30: ='28'!$P$5 -> 0 | E30: ='28'!$T$5 -> 小屋敷 千瑛 | F30: ='28'!$Y$5 -> 0 | G30: ='28'!$AC$5 -> 大川 祥子 | H30: ='28'!$AH$5 -> 0 | I30: ='28'!$AL$5 -> 吉田 久美子 | J30: ='28'!$AP$5 -> 0 | K30: ='28'!$K$6 -> 野添 京子 | L30: ='28'!P6 -> 0 | M30: ='28'!T6 -> 0 | N30: ='28'!Y6 -> 0 | O30: ='28'!AC6 -> 0 | P30: ='28'!AH6 -> 0 | Q30: ='28'!AL6 -> 0 | R30: ='28'!AP6 -> 0
B31: 29 | C31: ='29'!$K$5 -> 西舘 翔子 | D31: ='29'!$P$5 -> 0 | E31: ='29'!$T$5 -> 小屋敷 千瑛 | F31: ='29'!$Y$5 -> 0 | G31: ='29'!$AC$5 -> 大川 祥子 | H31: ='29'!$AH$5 -> 0 | I31: ='29'!$AL$5 -> 吉田 久美子 | J31: ='29'!$AP$5 -> 0 | K31: ='29'!$K$6 -> 野添 京子 | L31: ='29'!P6 -> 0 | M31: ='29'!T6 -> 0 | N31: ='29'!Y6 -> 0 | O31: ='29'!AC6 -> 0 | P31: ='29'!AH6 -> 0 | Q31: ='29'!AL6 -> 0 | R31: ='29'!AP6 -> 0
B32: 30 | C32: ='30'!$K$5 -> 西舘 翔子 | D32: ='30'!$P$5 -> 0 | E32: ='30'!$T$5 -> 小屋敷 千瑛 | F32: ='30'!$Y$5 -> 0 | G32: ='30'!$AC$5 -> 大川 祥子 | H32: ='30'!$AH$5 -> 0 | I32: ='30'!$AL$5 -> 吉田 久美子 | J32: ='30'!$AP$5 -> 0 | K32: ='30'!$K$6 -> 野添 京子 | L32: ='30'!P6 -> 0 | M32: ='30'!T6 -> 0 | N32: ='30'!Y6 -> 0 | O32: ='30'!AC6 -> 0 | P32: ='30'!AH6 -> 0 | Q32: ='30'!AL6 -> 0 | R32: ='30'!AP6 -> 0
B33: 31 | C33: ='31'!$K$5 -> 西舘 翔子 | D33: ='31'!$P$5 -> 0 | E33: ='31'!$T$5 -> 小屋敷 千瑛 | F33: ='31'!$Y$5 -> 0 | G33: ='31'!$AC$5 -> 大川 祥子 | H33: ='31'!$AH$5 -> 0 | I33: ='31'!$AL$5 -> 吉田 久美子 | J33: ='31'!$AP$5 -> 0 | K33: ='31'!$K$6 -> 野添 京子 | L33: ='31'!P6 -> 0 | M33: ='31'!T6 -> 0 | N33: ='31'!Y6 -> 0 | O33: ='31'!AC6 -> 0 | P33: ='31'!AH6 -> 0 | Q33: ='31'!AL6 -> 0 | R33: ='31'!AP6 -> 0
D36: 遅刻 | E36: 早退 | F36: 欠勤 | G36: 有給 | H36: 産・育休 | I36: 病欠 | J36: 忌引き | K36: 業務出張 | L36: 研修出張
C37: =C3 -> 西舘 翔子 | D37: =COUNTIF($D$3:$D$33,"遅刻") -> 0 | E37: =COUNTIF($D$3:$D$33,"早退") -> 0 | F37: =COUNTIF($D$3:$D$33,"欠勤") -> 0 | G37: =COUNTIF($D$3:$D$33,"有給") -> 0 | H37: =COUNTIF($D$3:$D$33,"産・育休") -> 0 | I37: =COUNTIF($D$3:$D$33,"病欠") -> 0 | J37: =COUNTIF($D$3:$D$33,"忌引き") -> 0 | K37: =COUNTIF($D$3:$D$33,"業務出張") -> 0 | L37: =COUNTIF($D$3:$D$33,"研修出張") -> 0
C38: =E3 -> 小屋敷 千瑛 | D38: =COUNTIF($F$3:$F$33,"遅刻") -> 0 | E38: =COUNTIF($F$3:$F$33,"早退") -> 0 | F38: =COUNTIF($F$3:$F$33,"欠勤") -> 0 | G38: =COUNTIF($F$3:$F$33,"有給") -> 0 | H38: =COUNTIF($F$3:$F$33,"産・育休") -> 0 | I38: =COUNTIF($F$3:$F$33,"病欠") -> 0 | J38: =COUNTIF($F$3:$F$33,"忌引き") -> 0 | K38: =COUNTIF($F$3:$F$33,"業務出張") -> 0 | L38: =COUNTIF($F$3:$F$33,"研修出張") -> 0
C39: =G3 -> 大川 祥子 | D39: =COUNTIF($H$3:$H$33,"遅刻") -> 0 | E39: =COUNTIF($H$3:$H$33,"早退") -> 0 | F39: =COUNTIF($H$3:$H$33,"欠勤") -> 0 | G39: =COUNTIF($H$3:$H$33,"有給") -> 0 | H39: =COUNTIF($H$3:$H$33,"産・育休") -> 0 | I39: =COUNTIF($H$3:$H$33,"病欠") -> 0 | J39: =COUNTIF($H$3:$H$33,"忌引き") -> 0 | K39: =COUNTIF($H$3:$H$33,"業務出張") -> 0 | L39: =COUNTIF($H$3:$H$33,"研修出張") -> 0
C40: =I3 -> 吉田 久美子 | D40: =COUNTIF($J$3:$J$33,"遅刻") -> 0 | E40: =COUNTIF($J$3:$J$33,"早退") -> 0 | F40: =COUNTIF($J$3:$J$33,"欠勤") -> 0 | G40: =COUNTIF($J$3:$J$33,"有給") -> 0 | H40: =COUNTIF($J$3:$J$33,"産・育休") -> 0 | I40: =COUNTIF($J$3:$J$33,"病欠") -> 0 | J40: =COUNTIF($J$3:$J$33,"忌引き") -> 0 | K40: =COUNTIF($J$3:$J$33,"業務出張") -> 0 | L40: =COUNTIF($J$3:$J$33,"研修出張") -> 0
C41: =K3 -> 野添 京子 | D41: =COUNTIF($L$3:$L$33,"遅刻") -> 0 | E41: =COUNTIF($L$3:$L$33,"早退") -> 0 | F41: =COUNTIF($L$3:$L$33,"欠勤") -> 0 | G41: =COUNTIF($L$3:$L$33,"有給") -> 0 | H41: =COUNTIF($L$3:$L$33,"産・育休") -> 0 | I41: =COUNTIF($L$3:$L$33,"病欠") -> 0 | J41: =COUNTIF($L$3:$L$33,"忌引き") -> 0 | K41: =COUNTIF($L$3:$L$33,"業務出張") -> 0 | L41: =COUNTIF($L$3:$L$33,"研修出張") -> 0
C42: =M3 -> 0 | D42: =COUNTIF($N$3:$N$33,"遅刻") -> 0 | E42: =COUNTIF($N$3:$N$33,"早退") -> 0 | F42: =COUNTIF($N$3:$N$33,"欠勤") -> 0 | G42: =COUNTIF($N$3:$N$33,"有給") -> 0 | H42: =COUNTIF($N$3:$N$33,"産・育休") -> 0 | I42: =COUNTIF($N$3:$N$33,"病欠") -> 0 | J42: =COUNTIF($N$3:$N$33,"忌引き") -> 0 | K42: =COUNTIF($N$3:$N$33,"業務出張") -> 0 | L42: =COUNTIF($L$3:$L$33,"研修出張") -> 0
C43: =O3 -> 0 | D43: =COUNTIF($P$3:$P$33,"遅刻") -> 0 | E43: =COUNTIF($P$3:$P$33,"早退") -> 0 | F43: =COUNTIF($P$3:$P$33,"欠勤") -> 0 | G43: =COUNTIF($P$3:$P$33,"有給") -> 0 | H43: =COUNTIF($P$3:$P$33,"産・育休") -> 0 | I43: =COUNTIF($P$3:$P$33,"病欠") -> 0 | J43: =COUNTIF($P$3:$P$33,"忌引き") -> 0 | K43: =COUNTIF($P$3:$P$33,"業務出張") -> 0 | L43: =COUNTIF($L$3:$L$33,"研修出張") -> 0
C44: =Q3 -> 0 | D44: =COUNTIF($R$3:$R$33,"遅刻") -> 0 | E44: =COUNTIF($R$3:$R$33,"早退") -> 0 | F44: =COUNTIF($R$3:$R$33,"欠勤") -> 0 | G44: =COUNTIF($R$3:$R$33,"有給") -> 0 | H44: =COUNTIF($R$3:$R$33,"産・育休") -> 0 | I44: =COUNTIF($R$3:$R$33,"病欠") -> 0 | J44: =COUNTIF($R$3:$R$33,"忌引き") -> 0 | K44: =COUNTIF($R$3:$R$33,"業務出張") -> 0 | L44: =COUNTIF($R$3:$R$33,"研修出張") -> 0

Sheet 業務遂行状況
D2: 1 | E2: 2 | F2: 3 | G2: 4 | H2: 5 | I2: 6 | J2: 7 | K2: 8 | L2: 9 | M2: 10 | N2: 11 | O2: 12 | P2: 13 | Q2: 14 | R2: 15 | S2: 16 | T2: 17 | U2: 18 | V2: 19 | W2: 20 | X2: 21 | Y2: 22 | Z2: 23 | AA2: 24 | AB2: 25 | AC2: 26 | AD2: 27 | AE2: 28 | AF2: 29 | AG2: 30 | AH2: 31 | AI2: 計
B3: 入退院支援 | C3: 入院援助 | D3: =COUNTA('1'!#REF!) -> 1 | E3: =COUNTA('2'!$J$47:$N$51) -> 0 | F3: =COUNTA('3'!$J$47:$N$51) -> 0 | G3: =COUNTA('4'!$J$47:$N$51) -> 0 | H3: =COUNTA('5'!$J$47:$N$51) -> 0 | I3: =COUNTA('6'!$J$47:$N$51) -> 0 | J3: =COUNTA('7'!$J$47:$N$51) -> 0 | K3: =COUNTA('8'!$J$47:$N$51) -> 0 | L3: =COUNTA('9'!$J$47:$N$51) -> 0 | M3: =COUNTA('10'!$J$47:$N$51) -> 0 | N3: =COUNTA('11'!$J$47:$N$51) -> 0 | O3: =COUNTA('12'!$J$47:$N$51) -> 0 | P3: =COUNTA('13'!$J$47:$N$51) -> 0 | Q3: =COUNTA('14'!$J$47:$N$51) -> 0 | R3: =COUNTA('15'!$J$47:$N$51) -> 0 | S3: =COUNTA('16'!$J$47:$N$51) -> 0 | T3: =COUNTA('17'!$J$47:$N$51) -> 0 | U3: =COUNTA('18'!$J$47:$N$51) -> 0 | V3: =COUNTA('19'!$J$47:$N$51) -> 0 | W3: =COUNTA('20'!$J$47:$N$51) -> 0 | X3: =COUNTA('21'!$J$47:$N$51) -> 0 | Y3: =COUNTA('22'!$J$47:$N$51) -> 0 | Z3: =COUNTA('23'!$J$47:$N$51) -> 0 | AA3: =COUNTA('24'!$J$47:$N$51) -> 0 | AB3: =COUNTA('25'!$J$47:$N$51) -> 0 | AC3: =COUNTA('26'!$J$47:$N$51) -> 0 | AD3: =COUNTA('27'!$J$47:$N$51) -> 0 | AE3: =COUNTA('28'!$J$47:$N$51) -> 0 | AF3: =COUNTA('29'!$J$47:$N$51) -> 0 | AG3: =COUNTA('30'!$J$47:$N$51) -> 0 | AH3: =COUNTA('31'!$J$47:$N$51) -> 0 | AI3: =SUM(D3:AH3) -> 1
C4: 入院形態の変更 | D4: =COUNTA('1'!$J$54:$N$54) -> 1 | E4: =COUNTA('2'!$J$52:$N$54) -> 1 | F4: =COUNTA('3'!$J$52:$N$54) -> 1 | G4: =COUNTA('4'!$J$52:$N$54) -> 1 | H4: =COUNTA('5'!$J$52:$N$54) -> 1 | I4: =COUNTA('6'!$J$52:$N$54) -> 1 | J4: =COUNTA('7'!$J$52:$N$54) -> 1 | K4: =COUNTA('8'!$J$52:$N$54) -> 1 | L4: =COUNTA('9'!$J$52:$N$54) -> 1 | M4: =COUNTA('10'!$J$52:$N$54) -> 1 | N4: =COUNTA('11'!$J$52:$N$54) -> 1 | O4: =COUNTA('12'!$J$52:$N$54) -> 1 | P4: =COUNTA('13'!$J$52:$N$54) -> 1 | Q4: =COUNTA('14'!$J$52:$N$54) -> 1 | R4: =COUNTA('15'!$J$52:$N$54) -> 1 | S4: =COUNTA('16'!$J$52:$N$54) -> 1 | T4: =COUNTA('17'!$J$52:$N$54) -> 1 | U4: =COUNTA('18'!$J$52:$N$54) -> 1 | V4: =COUNTA('19'!$J$52:$N$54) -> 1 | W4: =COUNTA('20'!$J$52:$N$54) -> 1 | X4: =COUNTA('21'!$J$52:$N$54) -> 1 | Y4: =COUNTA('22'!$J$52:$N$54) -> 1 | Z4: =COUNTA('23'!$J$52:$N$54) -> 1 | AA4: =COUNTA('24'!$J$52:$N$54) -> 1 | AB4: =COUNTA('25'!$J$52:$N$54) -> 1 | AC4: =COUNTA('26'!$J$52:$N$54) -> 1 | AD4: =COUNTA('27'!$J$52:$N$54) -> 1 | AE4: =COUNTA('28'!$J$52:$N$54) -> 1 | AF4: =COUNTA('29'!$J$52:$N$54) -> 1 | AG4: =COUNTA('30'!$J$52:$N$54) -> 1 | AH4: =COUNTA('31'!$J$52:$N$54) -> 1 | AI4: =SUM(D4:AH4) -> 31
C5: 入院患者対応 | D5: =COUNTA('1'!#REF!) -> 1 | E5: =COUNTA('2'!$J$55:$N$59) -> 0 | F5: =COUNTA('3'!$J$55:$N$59) -> 0 | G5: =COUNTA('4'!$J$55:$N$59) -> 0 | H5: =COUNTA('5'!$J$55:$N$59) -> 0 | I5: =COUNTA('6'!$J$55:$N$59) -> 0 | J5: =COUNTA('7'!$J$55:$N$59) -> 0 | K5: =COUNTA('8'!$J$55:$N$59) -> 0 | L5: =COUNTA('9'!$J$55:$N$59) -> 0 | M5: =COUNTA('10'!$J$55:$N$59) -> 0 | N5: =COUNTA('11'!$J$55:$N$59) -> 0 | O5: =COUNTA('12'!$J$55:$N$59) -> 0 | P5: =COUNTA('13'!$J$55:$N$59) -> 0 | Q5: =COUNTA('14'!$J$55:$N$59) -> 0 | R5: =COUNTA('15'!$J$55:$N$59) -> 0 | S5: =COUNTA('16'!$J$55:$N$59) -> 0 | T5: =COUNTA('17'!$J$55:$N$59) -> 0 | U5: =COUNTA('18'!$J$55:$N$59) -> 0 | V5: =COUNTA('19'!$J$55:$N$59) -> 0 | W5: =COUNTA('20'!$J$55:$N$59) -> 0 | X5: =COUNTA('21'!$J$55:$N$59) -> 0 | Y5: =COUNTA('22'!$J$55:$N$59) -> 0 | Z5: =COUNTA('23'!$J$55:$N$59) -> 0 | AA5: =COUNTA('24'!$J$55:$N$59) -> 0 | AB5: =COUNTA('25'!$J$55:$N$59) -> 0 | AC5: =COUNTA('26'!$J$55:$N$59) -> 0 | AD5: =COUNTA('27'!$J$55:$N$59) -> 0 | AE5: =COUNTA('28'!$J$55:$N$59) -> 0 | AF5: =COUNTA('29'!$J$55:$N$59) -> 0 | AG5: =COUNTA('30'!$J$55:$N$59) -> 0 | AH5: =COUNTA('31'!$J$55:$N$59) -> 0 | AI5: =SUM(D5:AH5) -> 1
C6: 退院請求対応 | D6: =COUNTA('1'!$J$60:$N$61) -> 0 | E6: =COUNTA('2'!$J$60:$N$61) -> 0 | F6: =COUNTA('3'!$J$60:$N$61) -> 0 | G6: =COUNTA('4'!$J$60:$N$61) -> 0 | H6: =COUNTA('5'!$J$60:$N$61) -> 0 | I6: =COUNTA('6'!$J$60:$N$61) -> 0 | J6: =COUNTA('7'!$J$60:$N$61) -> 0 | K6: =COUNTA('8'!$J$60:$N$61) -> 0 | L6: =COUNTA('9'!$J$60:$N$61) -> 0 | M6: =COUNTA('10'!$J$60:$N$61) -> 0 | N6: =COUNTA('11'!$J$60:$N$61) -> 0 | O6: =COUNTA('12'!$J$60:$N$61) -> 0 | P6: =COUNTA('13'!$J$60:$N$61) -> 0 | Q6: =COUNTA('14'!$J$60:$N$61) -> 0 | R6: =COUNTA('15'!$J$60:$N$61) -> 0 | S6: =COUNTA('16'!$J$60:$N$61) -> 0 | T6: =COUNTA('17'!$J$60:$N$61) -> 0 | U6: =COUNTA('18'!$J$60:$N$61) -> 0 | V6: =COUNTA('19'!$J$60:$N$61) -> 0 | W6: =COUNTA('20'!$J$60:$N$61) -> 0 | X6: =COUNTA('21'!$J$60:$N$61) -> 0 | Y6: =COUNTA('22'!$J$60:$N$61) -> 0 | Z6: =COUNTA('23'!$J$60:$N$61) -> 0 | AA6: =COUNTA('24'!$J$60:$N$61) -> 0 | AB6: =COUNTA('25'!$J$60:$N$61) -> 0 | AC6: =COUNTA('26'!$J$60:$N$61) -> 0 | AD6: =COUNTA('27'!$J$60:$N$61) -> 0 | AE6: =COUNTA('28'!$J$60:$N$61) -> 0 | AF6: =COUNTA('29'!$J$60:$N$61) -> 0 | AG6: =COUNTA('30'!$J$60:$N$61) -> 0 | AH6: =COUNTA('31'!$J$60:$N$61) -> 0 | AI6: =SUM(D6:AH6) -> 0
C7: 退院援助 | D7: =COUNTA('1'!$J$55:$N$59) -> 0 | E7: =COUNTA('2'!$J$62:$N$66) -> 2 | F7: =COUNTA('3'!$J$62:$N$66) -> 2 | G7: =COUNTA('4'!$J$62:$N$66) -> 2 | H7: =COUNTA('5'!$J$62:$N$66) -> 2 | I7: =COUNTA('6'!$J$62:$N$66) -> 2 | J7: =COUNTA('7'!$J$62:$N$66) -> 2 | K7: =COUNTA('8'!$J$62:$N$66) -> 2 | L7: =COUNTA('9'!$J$62:$N$66) -> 2 | M7: =COUNTA('10'!$J$62:$N$66) -> 2 | N7: =COUNTA('11'!$J$62:$N$66) -> 2 | O7: =COUNTA('12'!$J$62:$N$66) -> 2 | P7: =COUNTA('13'!$J$62:$N$66) -> 2 | Q7: =COUNTA('14'!$J$62:$N$66) -> 2 | R7: =COUNTA('15'!$J$62:$N$66) -> 2 | S7: =COUNTA('16'!$J$62:$N$66) -> 2 | T7: =COUNTA('17'!$J$62:$N$66) -> 2 | U7: =COUNTA('18'!$J$62:$N$66) -> 2 | V7: =COUNTA('19'!$J$62:$N$66) -> 2 | W7: =COUNTA('20'!$J$62:$N$66) -> 2 | X7: =COUNTA('21'!$J$62:$N$66) -> 2 | Y7: =COUNTA('22'!$J$62:$N$66) -> 2 | Z7: =COUNTA('23'!$J$62:$N$66) -> 2 | AA7: =COUNTA('24'!$J$62:$N$66) -> 2 | AB7: =COUNTA('25'!$J$62:$N$66) -> 2 | AC7: =COUNTA('26'!$J$62:$N$66) -> 2 | AD7: =COUNTA('27'!$J$62:$N$66) -> 2 | AE7: =COUNTA('28'!$J$62:$N$66) -> 2 | AF7: =COUNTA('29'!$J$62:$N$66) -> 2 | AG7: =COUNTA('30'!$J$62:$N$66) -> 2 | AH7: =COUNTA('31'!$J$62:$N$66) -> 2 | AI7: =SUM(D7:AH7) -> 60
B8: 外来患者対応 | C8: 外来患者対応 | D8: =COUNTA('1'!$J$47:$N$53) -> 0 | E8: =COUNTA('2'!$J$67:$N$73) -> 0 | F8: =COUNTA('3'!$J$67:$N$73) -> 0 | G8: =COUNTA('4'!$J$67:$N$73) -> 0 | H8: =COUNTA('5'!$J$67:$N$73) -> 0 | I8: =COUNTA('6'!$J$67:$N$73) -> 0 | J8: =COUNTA('7'!$J$67:$N$73) -> 0 | K8: =COUNTA('8'!$J$67:$N$73) -> 0 | L8: =COUNTA('9'!$J$67:$N$73) -> 0 | M8: =COUNTA('10'!$J$67:$N$73) -> 0 | N8: =COUNTA('11'!$J$67:$N$73) -> 0 | O8: =COUNTA('12'!$J$67:$N$73) -> 0 | P8: =COUNTA('13'!$J$67:$N$73) -> 0 | Q8: =COUNTA('14'!$J$67:$N$73) -> 0 | R8: =COUNTA('15'!$J$67:$N$73) -> 0 | S8: =COUNTA('16'!$J$67:$N$73) -> 0 | T8: =COUNTA('17'!$J$67:$N$73) -> 0 | U8: =COUNTA('18'!$J$67:$N$73) -> 0 | V8: =COUNTA('19'!$J$67:$N$73) -> 0 | W8: =COUNTA('20'!$J$67:$N$73) -> 0 | X8: =COUNTA('21'!$J$67:$N$73) -> 0 | Y8: =COUNTA('22'!$J$67:$N$73) -> 0 | Z8: =COUNTA('23'!$J$67:$N$73) -> 0 | AA8: =COUNTA('24'!$J$67:$N$73) -> 0 | AB8: =COUNTA('25'!$J$67:$N$73) -> 0 | AC8: =COUNTA('26'!$J$67:$N$73) -> 0 | AD8: =COUNTA('27'!$J$67:$N$73) -> 0 | AE8: =COUNTA('28'!$J$67:$N$73) -> 0 | AF8: =COUNTA('29'!$J$67:$N$73) -> 0 | AG8: =COUNTA('30'!$J$67:$N$73) -> 0 | AH8: =COUNTA('31'!$J$67:$N$73) -> 0 | AI8: =SUM(D8:AH8) -> 0
C9: 通院医療観察法 | D9: =COUNTA('1'!#REF!) -> 1 | E9: =COUNTA('2'!$J$74:$N$76) -> 0 | F9: =COUNTA('3'!$J$74:$N$76) -> 0 | G9: =COUNTA('4'!$J$74:$N$76) -> 0 | H9: =COUNTA('5'!$J$74:$N$76) -> 0 | I9: =COUNTA('6'!$J$74:$N$76) -> 0 | J9: =COUNTA('7'!$J$74:$N$76) -> 0 | K9: =COUNTA('8'!$J$74:$N$76) -> 0 | L9: =COUNTA('9'!$J$74:$N$76) -> 0 | M9: =COUNTA('10'!$J$74:$N$76) -> 0 | N9: =COUNTA('11'!$J$74:$N$76) -> 0 | O9: =COUNTA('12'!$J$74:$N$76) -> 0 | P9: =COUNTA('13'!$J$74:$N$76) -> 0 | Q9: =COUNTA('14'!$J$74:$N$76) -> 0 | R9: =COUNTA('15'!$J$74:$N$76) -> 0 | S9: =COUNTA('16'!$J$74:$N$76) -> 0 | T9: =COUNTA('17'!$J$74:$N$76) -> 0 | U9: =COUNTA('18'!$J$74:$N$76) -> 0 | V9: =COUNTA('19'!$J$74:$N$76) -> 0 | W9: =COUNTA('20'!$J$74:$N$76) -> 0 | X9: =COUNTA('21'!$J$74:$N$76) -> 0 | Y9: =COUNTA('22'!$J$74:$N$76) -> 0 | Z9: =COUNTA('23'!$J$74:$N$76) -> 0 | AA9: =COUNTA('24'!$J$74:$N$76) -> 0 | AB9: =COUNTA('25'!$J$74:$N$76) -> 0 | AC9: =COUNTA('26'!$J$74:$N$76) -> 0 | AD9: =COUNTA('27'!$J$74:$N$76) -> 0 | AE9: =COUNTA('28'!$J$74:$N$76) -> 0 | AF9: =COUNTA('29'!$J$74:$N$76) -> 0 | AG9: =COUNTA('30'!$J$74:$N$76) -> 0 | AH9: =COUNTA('31'!$J$74:$N$76) -> 0 | AI9: =SUM(D9:AH9) -> 1
B10: 医師補助業務 | D10: =COUNTA('1'!$AA$47:$AE$56) -> 0 | E10: =COUNTA('2'!$AA$47:$AE$56) -> 0 | F10: =COUNTA('3'!$AA$47:$AE$56) -> 0 | G10: =COUNTA('4'!$AA$47:$AE$56) -> 0 | H10: =COUNTA('5'!$AA$47:$AE$56) -> 0 | I10: =COUNTA('6'!$AA$47:$AE$56) -> 0 | J10: =COUNTA('7'!$AA$47:$AE$56) -> 0 | K10: =COUNTA('8'!$AA$47:$AE$56) -> 0 | L10: =COUNTA('9'!$AA$47:$AE$56) -> 0 | M10: =COUNTA('10'!$AA$47:$AE$56) -> 0 | N10: =COUNTA('11'!$AA$47:$AE$56) -> 0 | O10: =COUNTA('12'!$AA$47:$AE$56) -> 0 | P10: =COUNTA('13'!$AA$47:$AE$56) -> 0 | Q10: =COUNTA('14'!$AA$47:$AE$56) -> 0 | R10: =COUNTA('15'!$AA$47:$AE$56) -> 0 | S10: =COUNTA('16'!$AA$47:$AE$56) -> 0 | T10: =COUNTA('17'!$AA$47:$AE$56) -> 0 | U10: =COUNTA('18'!$AA$47:$AE$56) -> 0 | V10: =COUNTA('19'!$AA$47:$AE$56) -> 0 | W10: =COUNTA('20'!$AA$47:$AE$56) -> 0 | X10: =COUNTA('21'!$AA$47:$AE$56) -> 0 | Y10: =COUNTA('22'!$AA$47:$AE$56) -> 0 | Z10: =COUNTA('23'!$AA$47:$AE$56) -> 0 | AA10: =COUNTA('24'!$AA$47:$AE$56) -> 0 | AB10: =COUNTA('25'!$AA$47:$AE$56) -> 0 | AC10: =COUNTA('26'!$AA$47:$AE$56) -> 0 | AD10: =COUNTA('27'!$AA$47:$AE$56) -> 0 | AE10: =COUNTA('28'!$AA$47:$AE$56) -> 0 | AF10: =COUNTA('29'!$AA$47:$AE$56) -> 0 | AG10: =COUNTA('30'!$AA$47:$AE$56) -> 0 | AH10: =COUNTA('31'!$AA$47:$AE$56) -> 0 | AI10: =SUM(D10:AH10) -> 0
B11: 保健所への届出 | D11: =COUNTA('1'!$AA$57:$AE$66) -> 0 | E11: =COUNTA('2'!$AA$57:$AE$66) -> 0 | F11: =COUNTA('3'!$AA$57:$AE$66) -> 0 | G11: =COUNTA('4'!$AA$57:$AE$66) -> 0 | H11: =COUNTA('5'!$AA$57:$AE$66) -> 0 | I11: =COUNTA('6'!$AA$57:$AE$66) -> 0 | J11: =COUNTA('7'!$AA$57:$AE$66) -> 0 | K11: =COUNTA('8'!$AA$57:$AE$66) -> 0 | L11: =COUNTA('9'!$AA$57:$AE$66) -> 0 | M11: =COUNTA('10'!$AA$57:$AE$66) -> 0 | N11: =COUNTA('11'!$AA$57:$AE$66) -> 0 | O11: =COUNTA('12'!$AA$57:$AE$66) -> 0 | P11: =COUNTA('13'!$AA$57:$AE$66) -> 0 | Q11: =COUNTA('14'!$AA$57:$AE$66) -> 0 | R11: =COUNTA('15'!$AA$57:$AE$66) -> 0 | S11: =COUNTA('16'!$AA$57:$AE$66) -> 0 | T11: =COUNTA('17'!$AA$57:$AE$66) -> 0 | U11: =COUNTA('18'!$AA$57:$AE$66) -> 0 | V11: =COUNTA('19'!$AA$57:$AE$66) -> 0 | W11: =COUNTA('20'!$AA$57:$AE$66) -> 0 | X11: =COUNTA('21'!$AA$57:$AE$66) -> 0 | Y11: =COUNTA('22'!$AA$57:$AE$66) -> 0 | Z11: =COUNTA('23'!$AA$57:$AE$66) -> 0 | AA11: =COUNTA('24'!$AA$57:$AE$66) -> 0 | AB11: =COUNTA('25'!$AA$57:$AE$66) -> 0 | AC11: =COUNTA('26'!$AA$57:$AE$66) -> 0 | AD11: =COUNTA('27'!$AA$57:$AE$66) -> 0 | AE11: =COUNTA('28'!$AA$57:$AE$66) -> 0 | AF11: =COUNTA('29'!$AA$57:$AE$66) -> 0 | AG11: =COUNTA('30'!$AA$57:$AE$66) -> 0 | AH11: =COUNTA('31'!$AA$57:$AE$66) -> 0 | AI11: =SUM(D11:AH11) -> 0
B12: 認知症疾患医療ｾﾝﾀｰ | D12: =COUNTA('1'!#REF!) -> 1 | E12: =COUNTA('2'!$AE$67:$AS$70) -> 1 | F12: =COUNTA('3'!$AE$67:$AS$70) -> 1 | G12: =COUNTA('4'!$AE$67:$AS$70) -> 1 | H12: =COUNTA('5'!$AE$67:$AS$70) -> 1 | I12: =COUNTA('6'!$AE$67:$AS$70) -> 1 | J12: =COUNTA('7'!$AE$67:$AS$70) -> 1 | K12: =COUNTA('8'!$AE$67:$AS$70) -> 1 | L12: =COUNTA('9'!$AE$67:$AS$70) -> 1 | M12: =COUNTA('10'!$AE$67:$AS$70) -> 1 | N12: =COUNTA('11'!$AE$67:$AS$70) -> 1 | O12: =COUNTA('12'!$AE$67:$AS$70) -> 1 | P12: =COUNTA('13'!$AE$67:$AS$70) -> 1 | Q12: =COUNTA('14'!$AE$67:$AS$70) -> 1 | R12: =COUNTA('15'!$AE$67:$AS$70) -> 1 | S12: =COUNTA('16'!$AE$67:$AS$70) -> 1 | T12: =COUNTA('17'!$AE$67:$AS$70) -> 1 | U12: =COUNTA('18'!$AE$67:$AS$70) -> 1 | V12: =COUNTA('19'!$AE$67:$AS$70) -> 1 | W12: =COUNTA('20'!$AE$67:$AS$70) -> 1 | X12: =COUNTA('21'!$AE$67:$AS$70) -> 1 | Y12: =COUNTA('22'!$AE$67:$AS$70) -> 1 | Z12: =COUNTA('23'!$AE$67:$AS$70) -> 1 | AA12: =COUNTA('24'!$AE$67:$AS$70) -> 1 | AB12: =COUNTA('25'!$AE$67:$AS$70) -> 1 | AC12: =COUNTA('26'!$AE$67:$AS$70) -> 1 | AD12: =COUNTA('27'!$AE$67:$AS$70) -> 1 | AE12: =COUNTA('28'!$AE$67:$AS$70) -> 1 | AF12: =COUNTA('29'!$AE$67:$AS$70) -> 1 | AG12: =COUNTA('30'!$AE$67:$AS$70) -> 1 | AH12: =COUNTA('31'!$AE$67:$AS$70) -> 1 | AI12: =SUM(D12:AH12) -> 31
B13: 各種会議参加 | D13: =COUNTA('1'!#REF!) -> 1 | E13: =COUNTA('2'!$AE$71:$AS$73) -> 0 | F13: =COUNTA('3'!$AE$71:$AS$73) -> 0 | G13: =COUNTA('4'!$AE$71:$AS$73) -> 0 | H13: =COUNTA('5'!$AE$71:$AS$73) -> 0 | I13: =COUNTA('6'!$AE$71:$AS$73) -> 0 | J13: =COUNTA('7'!$AE$71:$AS$73) -> 0 | K13: =COUNTA('8'!$AE$71:$AS$73) -> 0 | L13: =COUNTA('9'!$AE$71:$AS$73) -> 0 | M13: =COUNTA('10'!$AE$71:$AS$73) -> 0 | N13: =COUNTA('11'!$AE$71:$AS$73) -> 0 | O13: =COUNTA('12'!$AE$71:$AS$73) -> 0 | P13: =COUNTA('13'!$AE$71:$AS$73) -> 0 | Q13: =COUNTA('14'!$AE$71:$AS$73) -> 0 | R13: =COUNTA('15'!$AE$71:$AS$73) -> 0 | S13: =COUNTA('16'!$AE$71:$AS$73) -> 0 | T13: =COUNTA('17'!$AE$71:$AS$73) -> 0 | U13: =COUNTA('18'!$AE$71:$AS$73) -> 0 | V13: =COUNTA('19'!$AE$71:$AS$73) -> 0 | W13: =COUNTA('20'!$AE$71:$AS$73) -> 0 | X13: =COUNTA('21'!$AE$71:$AS$73) -> 0 | Y13: =COUNTA('22'!$AE$71:$AS$73) -> 0 | Z13: =COUNTA('23'!$AE$71:$AS$73) -> 0 | AA13: =COUNTA('24'!$AE$71:$AS$73) -> 0 | AB13: =COUNTA('25'!$AE$71:$AS$73) -> 0 | AC13: =COUNTA('26'!$AE$71:$AS$73) -> 0 | AD13: =COUNTA('27'!$AE$71:$AS$73) -> 0 | AE13: =COUNTA('28'!$AE$71:$AS$73) -> 0 | AF13: =COUNTA('29'!$AE$71:$AS$73) -> 0 | AG13: =COUNTA('30'!$AE$71:$AS$73) -> 0 | AH13: =COUNTA('31'!$AE$71:$AS$73) -> 0 | AI13: =SUM(D13:AH13) -> 1
B14: 外部の業務 | D14: =COUNTA('1'!#REF!) -> 1 | E14: =COUNTA('2'!$AE$74:$AS$76) -> 0 | F14: =COUNTA('3'!$AE$74:$AS$76) -> 0 | G14: =COUNTA('4'!$AE$74:$AS$76) -> 0 | H14: =COUNTA('5'!$AE$74:$AS$76) -> 0 | I14: =COUNTA('6'!$AE$74:$AS$76) -> 0 | J14: =COUNTA('7'!$AE$74:$AS$76) -> 0 | K14: =COUNTA('8'!$AE$74:$AS$76) -> 0 | L14: =COUNTA('9'!$AE$74:$AS$76) -> 0 | M14: =COUNTA('10'!$AE$74:$AS$76) -> 0 | N14: =COUNTA('11'!$AE$74:$AS$76) -> 0 | O14: =COUNTA('12'!$AE$74:$AS$76) -> 0 | P14: =COUNTA('13'!$AE$74:$AS$76) -> 0 | Q14: =COUNTA('14'!$AE$74:$AS$76) -> 0 | R14: =COUNTA('15'!$AE$74:$AS$76) -> 0 | S14: =COUNTA('16'!$AE$74:$AS$76) -> 0 | T14: =COUNTA('17'!$AE$74:$AS$76) -> 0 | U14: =COUNTA('18'!$AE$74:$AS$76) -> 0 | V14: =COUNTA('19'!$AE$74:$AS$76) -> 0 | W14: =COUNTA('20'!$AE$74:$AS$76) -> 0 | X14: =COUNTA('21'!$AE$74:$AS$76) -> 0 | Y14: =COUNTA('22'!$AE$74:$AS$76) -> 0 | Z14: =COUNTA('23'!$AE$74:$AS$76) -> 0 | AA14: =COUNTA('24'!$AE$74:$AS$76) -> 0 | AB14: =COUNTA('25'!$AE$74:$AS$76) -> 0 | AC14: =COUNTA('26'!$AE$74:$AS$76) -> 0 | AD14: =COUNTA('27'!$AE$74:$AS$76) -> 0 | AE14: =COUNTA('28'!$AE$74:$AS$76) -> 0 | AF14: =COUNTA('29'!$AE$74:$AS$76) -> 0 | AG14: =COUNTA('30'!$AE$74:$AS$76) -> 0 | AH14: =COUNTA('31'!$AE$74:$AS$76) -> 0 | AI14: =SUM(D14:AH14) -> 1

Sheet 入院患者一覧
A1: 入院患者様一覧

Sheet Sheet1

Sheet Sheet2
