Workbook

Sheet 1
B1: クリニック 日 誌 | H1: 令和 | J1: 3 | K1: 年 | L1: 6 | M1: 月 | N1: 1 | O1: 日 | Q1: （ | R1: 火 | S1: ） | V1: COO | Y1: IOO | AB1: AOM
A3: 勤務者名
A4: 中村 恵理子 | G4: 日 | I4: 柳田 美雪 | N4: 日 | Q4: 診察室 | W4: 外来担当医 | Z4: 外来介助者
A5: 石原 恵海 | G5: 日 | I5: 石谷 美代子 | N5: 欠 | Q5: 第１診察室 | U5: 千葉 潜 | Z5: 柳田・石原
A6: 松林 久美子 | G6: 日 | I6: 鳴海 彩香 | N6: 日 | Q6: 第２診察室 | U6: 坂田 優 | Z6: 柳田
B8: 新 | C8: 再 | D8: 精 | E8: 内 | F8: 処 | G8: 患者様氏名 | L8: 新 | M8: 再 | N8: 精 | O8: 内 | P8: 処 | Q8: 患者様氏名 | V8: 新 | W8: 再 | X8: 精 | Y8: 内 | Z8: 処 | AA8: 患者様氏名
A9: 1 | C9: ・ | D9: ・ | F9: 60 | G9: 山崎 新吾 | J9: 様 | K9: 2 | M9: ・ | N9: ・ | P9: 2 | Q9: 奥寺 真理子 | T9: 様 | U9: 3 | W9: ・ | X9: ・ | Z9: 0 | AA9: 石井 佐代子 | AD9: 様
A10: 4 | C10: ・ | D10: ・ | F10: 28 | G10: 杉山 眞紀子 | J10: 様 | K10: 5 | L10: ・ | N10: ・ | P10: 0 | Q10: 犀川 知行 | T10: 様 | U10: 6 | W10: ・ | X10: ・ | Z10: 0 | AA10: 綿貫 啓子 | AD10: 様
A11: 7 | B11: ・ | E11: ・ | F11: 90 | G11: 大澤 裕彦 | J11: 様 | K11: 8 | L11: ・ | N11: ・ | P11: 7 | Q11: 坂本 郁子 | T11: 様 | U11: 9 | W11: ・ | X11: ・ | Z11: 0 | AA11: 大木 久子 | AD11: 様
A12: 10 | C12: ・ | E12: ・ | F12: 28 | G12: 鶴ケ崎 幸子 | J12: 様 | K12: 11 | M12: ・ | N12: ・ | P12: 7 | Q12: 山岡 裕花 | T12: 様 | U12: 12 | W12: ・ | X12: ・ | Z12: 0 | AA12: 萠出 きのゑ | AD12: 様
A13: 13 | C13: ・ | D13: ・ | F13: 28 | G13: 佐藤 市真 | J13: 様 | K13: 14 | M13: ・ | N13: ・ | P13: 30 | Q13: 出町 舜介 | T13: 様 | U13: 15 | W13: ・ | X13: ・ | Z13: 0 | AA13: 萠出 克治 | AD13: 様
A14: 16 | C14: ・ | D14: ・ | F14: 28 | G14: 角 和子 | J14: 様 | K14: 17 | M14: ・ | N14: ・ | P14: 28 | Q14: 吉田 智恵 | T14: 様 | U14: 18 | W14: ・ | X14: ・ | Z14: 0 | AA14: 山口 瑛子 | AD14: 様
A15: 19 | C15: ・ | D15: ・ | F15: 30 | G15: 新美 優美 | J15: 様 | K15: 20 | M15: ・ | N15: ・ | P15: 28 | Q15: 土田 雅代 | T15: 様 | U15: 21 | W15: ・ | X15: ・ | Z15: 0 | AA15: 藪 真弓 | AD15: 様
A16: 22 | C16: ・ | D16: ・ | F16: 28 | G16: 中田 芳枝 | J16: 様 | K16: 23 | M16: ・ | N16: ・ | P16: 28 | Q16: 織笠 祐美 | T16: 様 | U16: 24 | W16: ・ | X16: ・ | Z16: 0 | AA16: 杉元 香奈子 | AD16: 様
A17: 25 | C17: ・ | D17: ・ | F17: 56 | G17: 阿部 セツ子 | J17: 様 | K17: 26 | M17: ・ | N17: ・ | P17: 56 | Q17: 西舘 一明 | T17: 様 | U17: 27 | W17: ・ | X17: ・ | Z17: 0 | AA17: 酒田 朋紀 | AD17: 様
A18: 28 | C18: ・ | D18: ・ | F18: 28 | G18: 野々宮 ミヨ | J18: 様 | K18: 29 | M18: ・ | N18: ・ | P18: 56 | Q18: 松林 アサ | T18: 様 | U18: 30 | W18: ・ | X18: ・ | Z18: 0 | AA18: 工藤 健壽 | AD18: 様
A19: 31 | C19: ・ | D19: ・ | F19: 56 | G19: 山田 啓 | J19: 様 | K19: 32 | M19: ・ | N19: ・ | P19: 14 | Q19: 菅藤 麻美 | T19: 様 | U19: 33 | W19: ・ | X19: ・ | Z19: 0 | AA19: 高村 加津子 | AD19: 様
A20: 34 | C20: ・ | D20: ・ | E20: ・ | F20: 42 | G20: 作田 由美子 | J20: 様 | K20: 35 | M20: ・ | N20: ・ | P20: 28 | Q20: 島 龍太郎 | T20: 様 | U20: 36 | W20: ・ | X20: ・ | Z20: 0 | AA20: 山本 伸子 | AD20: 様
A21: 37 | C21: ・ | D21: ・ | F21: 14 | G21: 阿部 映理華 | J21: 様 | K21: 38 | L21: ・ | N21: ・ | P21: 0 | Q21: 大久保 直将 | T21: 様 | U21: 39 | W21: ・ | X21: ・ | Z21: 0 | AA21: 田口 トシ子 | AD21: 様
A22: 40 | C22: ・ | D22: ・ | F22: 14 | G22: 小比券巻 由美 | J22: 様 | K22: 41 | L22: ・ | N22: ・ | P22: 28 | Q22: 川村 実果 | T22: 様 | U22: 42 | W22: ・ | X22: ・ | Z22: 0 | AA22: 藤田 絢三 | AD22: 様
A23: 43 | C23: ・ | D23: ・ | F23: 0 | G23: 沼山 航 | J23: 様 | K23: 44 | M23: ・ | N23: ・ | P23: 14 | Q23: 熊谷 政治 | T23: 様 | U23: 45 | W23: ・ | X23: ・ | Z23: 0 | AA23: 坂本 政勝 | AD23: 様
A24: 46 | C24: ・ | D24: ・ | F24: 28 | G24: 筒井 紀行 | J24: 様 | K24: 47 | M24: ・ | N24: ・ | P24: 30 | Q24: 蛯名 ハナエ | T24: 様 | U24: 48 | W24: ・ | X24: ・ | Z24: 0 | AA24: 長岡 叶人 | AD24: 様
A25: 49 | C25: ・ | D25: ・ | F25: 30 | G25: 橋本 哲 | J25: 様 | K25: 50 | M25: ・ | N25: ・ | P25: 0 | Q25: 石井 佐代子 | T25: 様 | U25: 51 | W25: ・ | X25: ・ | Z25: 0 | AA25: 水上 民一 | AD25: 様
A26: 52 | C26: ・ | D26: ・ | F26: 0 | G26: 佐藤 ソノ | J26: 様 | K26: 53 | M26: ・ | N26: ・ | T26: 様 | U26: 54 | W26: ・ | X26: ・ | AD26: 様
A27: 外来患者数 | E27: 新： | F27: =COUNTIF(B9:B26,"・")+COUNTIF(L9:L26,"・")+COUNTIF(V9:V26,"・") -> 5 | H27: 名 | I27: 再： | J27: =COUNTIF(C9:C26,"・")+COUNTIF(M9:M26,"・")+COUNTIF(W9:W26,"・") -> 49 | L27: 名 | M27: 計： | N27: =SUM(F27:K27) -> 54 | Q27: 名 | R27: （ | S27: 精： | T27: =COUNTIF(D9:D26,"・")+COUNTIF(N9:N26,"・")+COUNTIF(X9:X26,"・") -> 52 | W27: 名 | X27: ・ | Y27: 内： | Z27: =COUNTIF(E9:E26,"・")+COUNTIF(O9:O26,"・")+COUNTIF(Y9:Y26,"・") -> 3 | AC27: 名 | AD27: ）
A29: 紹介患者様氏名 | F29: 紹介先 | K29: 逆紹介患者様氏名 | P29: 紹介元 | U29: 処置実施者 | AA29: 処置内容
E30: 様 | K30: 犀川 知行 | O30: 様 | P30: えびさわクリニック | Z30: 様
E31: 様 | K31: 坂本 郁子 | O31: 様 | P31: 岡三沢診療所 | Z31: 様
E32: 様 | K32: 川村 実果 | O32: 様 | P32: さくら病院 | Z32: 様
A33: 本日の検査 | F33: 検査内容 | K33: 処置実施者 | P33: 処置内容 | Z33: 様
A34: 大澤 裕彦 | E34: 様 | F34: 血液検査 | K34: 新美 優美 | O34: 様 | P34: エビリファイ400mg 1セット | Z34: 様
A35: 作田 由美子 | E35: 様 | F35: 血液検査 ECG | O35: 様 | Z35: 様
A36: 坂本 郁子 | E36: 様 | F36: CMI | O36: 様 | Z36: 様
A37: 犀川 知行 | E37: 様 | F37: CMI | O37: 様 | U37: 点検項目
A38: 阿部 映理華 | E38: 様 | F38: カウンセリング | O38: 様 | U38: 項目 | Z38: 時間 | AC38: 点検者
A39: 発熱 | F39: 下痢 | K39: 風邪薬 | P39: 男性：19 | U39: 医療廃棄物 | Y39: 0.75 | AB39: 石原 恵海
A40: 0 | F40: 0 | K40: 0 | P40: 女性：33 | U40: 戸締り | Y40: 0.75 | AB40: 中村 恵理子
A42: 備考欄 | C42: （連絡事項・処方変更・その他）
G43: 特記なし
G44: 石原 恵海

Sheet 2
B1: クリニック 日 誌 | H1: 令和 | J1: ='1'!J1 -> 3 | K1: 年 | L1: 6 | M1: 月 | N1: 2 | O1: 日 | Q1: （ | R1: 水 | S1: ） | V1: COO | Y1: IOO | AB1: AOM
A3: 勤務者名
A4: ='1'!A4:F4 -> 中村 恵理子 | G4: 日 | I4: 柳田 美雪 | N4: 日 | Q4: 診察室 | W4: 外来担当医 | Z4: 外来介助者
A5: 石原 恵海 | G5: 日 | I5: 石谷 美代子 | N5: 欠 | Q5: 第１診察室 | U5: 千葉 潜 | Z5: 柳田・石原
A6: 松林 久美子 | G6: 日 | I6: 鳴海 彩香 | N6: 日 | Q6: 第２診察室 | U6: 坂田 優 | Z6: 柳田
B8: 新 | C8: 再 | D8: 精 | E8: 内 | F8: 処 | G8: 患者様氏名 | L8: 新 | M8: 再 | N8: 精 | O8: 内 | P8: 処 | Q8: 患者様氏名 | V8: 新 | W8: 再 | X8: 精 | Y8: 内 | Z8: 処 | AA8: 患者様氏名
A9: 1 | C9: ・ | E9: ・ | F9: 0 | G9: 奈良 治隆 | J9: 様 | K9: 2 | M9: ・ | N9: ・ | P9: 42 | Q9: 板川 京子 | T9: 様 | U9: 3 | W9: ・ | X9: ・ | Z9: 0 | AA9: 山本 伸子 | AD9: 様
A10: 4 | C10: ・ | D10: ・ | F10: 28 | G10: 岩城 芳枝 | J10: 様 | K10: 5 | M10: ・ | N10: ・ | P10: 30 | Q10: 濱中 幸子 | T10: 様 | U10: 6 | W10: ・ | X10: ・ | Z10: 0 | AA10: 沼端 ミセ | AD10: 様
A11: 7 | C11: ・ | D11: ・ | F11: 30 | G11: 葛西 瑛 | J11: 様 | K11: 8 | M11: ・ | N11: ・ | P11: 56 | Q11: 相内 京子 | T11: 様 | U11: 9 | W11: ・ | X11: ・ | Z11: 0 | AA11: 相田 敏子 | AD11: 様
A12: 10 | C12: ・ | D12: ・ | F12: 56 | G12: 冨田 義信 | J12: 様 | K12: 11 | M12: ・ | N12: ・ | P12: 28 | Q12: 中村 美香子 | T12: 様 | U12: 12 | W12: ・ | X12: ・ | Z12: 0 | AA12: 工藤 健壽 | AD12: 様
A13: 13 | C13: ・ | D13: ・ | F13: 30 | G13: 舛谷 哲雄 | J13: 様 | K13: 14 | M13: ・ | N13: ・ | P13: 28 | Q13: 稲本 典子 | T13: 様 | U13: 15 | W13: ・ | X13: ・ | Z13: 0 | AA13: 高村 加津子 | AD13: 様
A14: 16 | C14: ・ | D14: ・ | F14: 28 | G14: 佐々木 英二 | J14: 様 | K14: 17 | M14: ・ | N14: ・ | P14: 14 | Q14: 山本 文紀 | T14: 様 | U14: 18 | W14: ・ | X14: ・ | Z14: 0 | AA14: 田口 トシ子 | AD14: 様
A15: 19 | C15: ・ | D15: ・ | F15: 30 | G15: 舛谷 勝子 | J15: 様 | K15: 20 | M15: ・ | N15: ・ | P15: 14 | Q15: 佐藤 正志 | T15: 様 | U15: 21 | W15: ・ | X15: ・ | Z15: 0 | AA15: 綿貫 啓子 | AD15: 様
A16: 22 | C16: ・ | D16: ・ | F16: 60 | G16: 浄法寺 のり子 | J16: 様 | K16: 23 | M16: ・ | N16: ・ | P16: 14 | Q16: 浦邊 健司 | T16: 様 | U16: 24 | W16: ・ | X16: ・ | Z16: 0 | AA16: 大木 久子 | AD16: 様
A17: 25 | C17: ・ | D17: ・ | F17: 28 | G17: 吉田 和子 | J17: 様 | K17: 26 | M17: ・ | N17: ・ | P17: 0 | Q17: 島 龍太郎 | T17: 様 | U17: 27 | W17: ・ | X17: ・ | Z17: 0 | AA17: 藤田 絢三 | AD17: 様
A18: 28 | C18: ・ | D18: ・ | F18: 28 | G18: 清水 奈緒美 | J18: 様 | K18: 29 | M18: ・ | N18: ・ | P18: 28 | Q18: 藤原 克子 | T18: 様 | U18: 30 | W18: ・ | X18: ・ | Z18: 0 | AA18: 萠出 きのゑ | AD18: 様
A19: 31 | C19: ・ | D19: ・ | F19: 28 | G19: 浅井 真理子 | J19: 様 | K19: 32 | M19: ・ | N19: ・ | P19: 0 | Q19: 冨田 りえ | T19: 様 | U19: 33 | W19: ・ | X19: ・ | Z19: 0 | AA19: 萠出 克治 | AD19: 様
A20: 34 | B20: ・ | D20: ・ | F20: 14 | G20: 附田 優子 | J20: 様 | K20: 35 | M20: ・ | N20: ・ | P20: 0 | Q20: 佐藤 初男 | T20: 様 | U20: 36 | W20: ・ | X20: ・ | Z20: 0 | AA20: 杉山 博子 | AD20: 様
A21: 37 | B21: ・ | D21: ・ | F21: 7 | G21: 末竹 秀子 | J21: 様 | K21: 38 | M21: ・ | N21: ・ | P21: 0 | Q21: 豊川 洋子 | T21: 様 | U21: 39 | W21: ・ | X21: ・ | Z21: 0 | AA21: 山口 瑛子 | AD21: 様
A22: 40 | B22: ・ | D22: ・ | F22: 7 | G22: 種市 邦男 | J22: 様 | K22: 41 | L22: ・ | N22: ・ | P22: 7 | Q22: 千葉 麗真 | T22: 様 | U22: 42 | W22: ・ | X22: ・ | Y22: ・ | Z22: 5 | AA22: 深町 栄美子 | AD22: 様
A23: 43 | B23: ・ | D23: ・ | F23: 0 | G23: 高見 悠 | J23: 様 | K23: 44 | T23: 様 | U23: 45 | AD23: 様
A24: 外来患者数 | E24: 新： | F24: =COUNTIF(B9:B23,"・")+COUNTIF(L9:L23,"・")+COUNTIF(V9:V23,"・") -> 5 | H24: 名 | I24: 再： | J24: =COUNTIF(C9:C23,"・")+COUNTIF(M9:M23,"・")+COUNTIF(W9:W23,"・") -> 38 | L24: 名 | M24: 計： | N24: =SUM(F24:K24) -> 43 | Q24: 名 | R24: （ | S24: 精： | T24: =COUNTIF(D9:D23,"・")+COUNTIF(N9:N23,"・")+COUNTIF(X9:X23,"・") -> 42 | W24: 名 | X24: ・ | Y24: 内： | Z24: =COUNTIF(E9:E23,"・")+COUNTIF(O9:O23,"・")+COUNTIF(Y9:Y23,"・") -> 2 | AC24: 名 | AD24: ）
A26: 紹介患者様氏名 | F26: 紹介先 | K26: 逆紹介患者様氏名 | P26: 紹介元 | U26: 処置実施者 | AA26: 処置内容
A27: 濱中 幸子 | E27: 様 | F27: 戸館内科整形外科医院 | O27: 様 | Z27: 様
A28: 島 龍太郎 | E28: 様 | F28: あらいメンタルクリニック | O28: 様 | Z28: 様
A29: 本日の検査 | F29: 検査内容 | K29: 本日の検査 | P29: 検査内容 | Z29: 様
A30: 附田 優子 | E30: 様 | F30: MMSE HDS-R 血液検査 | K30: 千葉 麗真 | O30: 様 | P30: CMI | Z30: 様
A31: 末竹 秀子 | E31: 様 | F31: CMI | O31: 様 | Z31: 様
A32: 佐々木 英二 | E32: 様 | F32: MMSE HDS-R | O32: 様 | Z32: 様
A33: 高見 悠 | E33: 様 | F33: CMI | O33: 様 | U33: 点検項目
A34: 種市 邦男 | E34: 様 | F34: CMI | O34: 様 | U34: 項目 | Z34: 時間 | AC34: 点検者
A35: 発熱 | F35: 下痢 | K35: 風邪薬 | P35: 男性：16 | U35: 医療廃棄物 | Y35: 0.75 | AB35: 石原 恵海
A36: 0 | F36: 0 | K36: 0 | P36: 女性：27 | U36: 戸締り | Y36: 0.75 | AB36: ='1'!AB40:AD40 -> 中村 恵理子
A38: 備考欄 | C38: （連絡事項・処方変更・その他）
G39: 特になし
G40: 石原

Sheet 3
B1: クリニック 日 誌 | H1: 令和 | J1: ='1'!J1 -> 3 | K1: 年 | L1: 6 | M1: 月 | N1: 3 | O1: 日 | Q1: （ | R1: 木 | S1: ） | V1: COO | Y1: IOO | AB1: AOM
A3: 勤務者名
A4: ='1'!A4:F4 -> 中村 恵理子 | G4: 公 | I4: 柳田 美雪 | N4: 日 | Q4: 診察室 | W4: 外来担当医 | Z4: 外来介助者
A5: 石原 恵海 | G5: 日 | I5: 石谷 美代子 | N5: 欠 | Q5: 第１診察室 | U5: 千葉 潜 | Z5: 石原
A6: 松林 久美子 | G6: 日 | I6: 神 圭輔 | N6: 日 | Q6: 第２診察室 | U6: 深澤 隆 | Z6: 石原
B8: 新 | C8: 再 | D8: 精 | E8: 内 | F8: 処 | G8: 患者様氏名 | L8: 新 | M8: 再 | N8: 精 | O8: 内 | P8: 処 | Q8: 患者様氏名 | V8: 新 | W8: 再 | X8: 精 | Y8: 内 | Z8: 処 | AA8: 患者様氏名
A9: 1 | C9: ・ | D9: ・ | F9: 60 | G9: 田中 幸雄 | J9: 様 | K9: 2 | M9: ・ | N9: ・ | P9: 28 | Q9: 一戸 幸子 | T9: 様 | U9: 3 | W9: ・ | X9: ・ | Z9: 0 | AA9: 瀬川 高雄 | AD9: 様
A10: 4 | C10: ・ | D10: ・ | F10: 5 | G10: 坂本 郁子 | J10: 様 | K10: 5 | M10: ・ | N10: ・ | P10: 28 | Q10: 齊藤 里美 | T10: 様 | U10: 6 | W10: ・ | X10: ・ | Z10: 0 | AA10: 高村 加津子 | AD10: 様
A11: 7 | C11: ・ | D11: ・ | F11: 60 | G11: 簗場 ハギ | J11: 様 | K11: 8 | M11: ・ | N11: ・ | P11: 30 | Q11: 天間 功一 | T11: 様 | U11: 9 | W11: ・ | X11: ・ | Z11: 0 | AA11: 山本 伸子 | AD11: 様
A12: 10 | C12: ・ | D12: ・ | F12: 28 | G12: 野坂 千晶 | J12: 様 | K12: 11 | M12: ・ | N12: ・ | P12: 30 | Q12: 鈴木 英男 | T12: 様 | U12: 12 | W12: ・ | X12: ・ | Z12: 0 | AA12: 綿貫 啓子 | AD12: 様
A13: 13 | C13: ・ | D13: ・ | F13: 12 | G13: 奥寺 真理子 | J13: 様 | K13: 14 | M13: ・ | N13: ・ | P13: 30 | Q13: 奈良 治隆 | T13: 様 | U13: 15 | W13: ・ | X13: ・ | Z13: 0 | AA13: 田口 トシ子 | AD13: 様
A14: 16 | C14: ・ | D14: ・ | F14: 28 | G14: 片桐 惣一郎 | J14: 様 | K14: 17 | M14: ・ | N14: ・ | P14: 28 | Q14: 工藤 喜美子 | T14: 様 | U14: 18 | W14: ・ | X14: ・ | Z14: 0 | AA14: 大木 久子 | AD14: 様
A15: 19 | C15: ・ | D15: ・ | F15: 30 | G15: 野田頭 真由美 | J15: 様 | K15: 20 | M15: ・ | N15: ・ | P15: 30 | Q15: 深沢口 誠 | T15: 様 | U15: 21 | W15: ・ | X15: ・ | Z15: 0 | AA15: 相田 敏子 | AD15: 様
A16: 22 | C16: ・ | D16: ・ | F16: 28 | G16: 山本 美津子 | J16: 様 | K16: 23 | M16: ・ | N16: ・ | P16: 28 | Q16: 西舘 ツル | T16: 様 | U16: 24 | W16: ・ | X16: ・ | Z16: 0 | AA16: 山口 瑛子 | AD16: 様
A17: 25 | C17: ・ | D17: ・ | F17: 28 | G17: 西 和枝 | J17: 様 | K17: 26 | M17: ・ | N17: ・ | P17: 28 | Q17: 中村 ミサ | T17: 様 | U17: 27 | W17: ・ | X17: ・ | Z17: 0 | AA17: 藤田 絢三 | AD17: 様
A18: 28 | C18: ・ | D18: ・ | F18: 28 | G18: 山端 悦子 | J18: 様 | K18: 29 | M18: ・ | N18: ・ | P18: 30 | Q18: 石橋 京子 | T18: 様 | U18: 30 | W18: ・ | X18: ・ | Z18: 0 | AA18: 坂本 政勝 | AD18: 様
A19: 31 | C19: ・ | D19: ・ | F19: 28 | G19: 畑山 みゆき | J19: 様 | K19: 32 | M19: ・ | N19: ・ | P19: 28 | Q19: 大野 みほゑ | T19: 様 | U19: 33 | W19: ・ | X19: ・ | Z19: 0 | AA19: 遠嶋 剛 | AD19: 様
A20: 34 | B20: ・ | D20: ・ | F20: 21 | G20: 花岸 テル | J20: 様 | K20: 35 | M20: ・ | N20: ・ | P20: 28 | Q20: 松館 邦子 | T20: 様 | U20: 36 | W20: ・ | X20: ・ | Z20: 0 | AA20: 遠嶋 千鶴 | AD20: 様
A21: 37 | C21: ・ | D21: ・ | F21: 7 | G21: 中居 敬悦 | J21: 様 | K21: 38 | M21: ・ | N21: ・ | P21: 30 | Q21: 石井 佳奈 | T21: 様 | U21: 39 | W21: ・ | X21: ・ | Z21: 0 | AA21: 西舘 瞳 | AD21: 様
A22: 40 | C22: ・ | D22: ・ | F22: 28 | G22: 柏木 薫 | J22: 様 | K22: 41 | M22: ・ | N22: ・ | P22: 30 | Q22: 藤ケ森 貴美枝 | T22: 様 | U22: 42 | W22: ・ | X22: ・ | Z22: 0 | AA22: 駒澤 キヤ | AD22: 様
A23: 43 | C23: ・ | D23: ・ | F23: 28 | G23: 水上 阿斗 | J23: 様 | K23: 44 | M23: ・ | N23: ・ | P23: 0 | Q23: 松林 香愛 | T23: 様 | U23: 45 | W23: ・ | X23: ・ | Z23: 0 | AA23: 安部 信祥 | AD23: 様
A24: 46 | C24: ・ | D24: ・ | F24: 28 | G24: 平塚 かじこ | J24: 様 | K24: 47 | L24: ・ | N24: ・ | P24: 28 | Q24: ミューズ | T24: 様 | U24: 48 | V24: ・ | X24: ・ | Z24: 28 | AA24: 小泉 智英 | AD24: 様
A25: 49 | B25: ・ | D25: ・ | F25: 0 | G25: 内田 クニコ | J25: 様 | K25: 50 | M25: ・ | N25: ・ | P25: 0 | Q25: 佐々木 政夫 | T25: 様 | U25: 51 | W25: ・ | X25: ・ | Z25: 0 | AA25: 杉元 悠敏 | AD25: 様
A26: 52 | C26: ・ | D26: ・ | F26: 14 | G26: 高成 恵里 | J26: 様 | K26: 53 | M26: ・ | N26: ・ | T26: 様 | U26: 54 | W26: ・ | X26: ・ | AD26: 様
A27: 外来患者数 | E27: 新： | F27: =COUNTIF(B9:B26,"・")+COUNTIF(L9:L26,"・")+COUNTIF(V9:V26,"・") -> 4 | H27: 名 | I27: 再： | J27: =COUNTIF(C9:C26,"・")+COUNTIF(M9:M26,"・")+COUNTIF(W9:W26,"・") -> 50 | L27: 名 | M27: 計： | N27: =SUM(F27:K27) -> 54 | Q27: 名 | R27: （ | S27: 精： | T27: =COUNTIF(D9:D26,"・")+COUNTIF(N9:N26,"・")+COUNTIF(X9:X26,"・") -> 54 | W27: 名 | X27: ・ | Y27: 内： | Z27: =COUNTIF(E9:E26,"・")+COUNTIF(O9:O26,"・")+COUNTIF(Y9:Y26,"・") -> 0 | AC27: 名 | AD27: ）
A29: 紹介患者様氏名 | F29: 紹介先 | K29: 逆紹介患者様氏名 | P29: 紹介元 | U29: 処置実施者 | AA29: 処置内容
E30: 様 | K30: 内田 クニコ | O30: 様 | P30: 三沢市立病院 | Z30: 様
E31: 様 | O31: 様 | Z31: 様
A32: 本日の検査 | F32: 検査内容 | K32: 処置実施者 | P32: 処置内容 | Z32: 様
A33: 内田 クニコ | E33: 様 | F33: HDS-R MMSE | K33: 野田 真由美 | O33: 様 | P33: ハロマンス100mg 1A | Z33: 様
A34: 小泉 智英 | E34: 様 | F34: CMI | K34: 中居 敬悦 | O34: 様 | P34: ハロマンス50mg 1A | Z34: 様
A35: 杉元 悠敏 | E35: 様 | F35: カウンセリング | O35: 様 | Z35: 様
E36: 様 | O36: 様 | U36: 点検項目
E37: 様 | O37: 様 | U37: 項目 | Z37: 時間 | AC37: 点検者
A38: 発熱 | F38: 下痢 | K38: 風邪薬 | P38: 男性：16 | U38: 医療廃棄物 | Y38: 0.75 | AB38: 柳田 美雪
A39: 0 | F39: 0 | K39: 0 | P39: 女性：36 | U39: 戸締り | Y39: 0.75 | AB39: 松林 久美子
A41: 備考欄 | C41: （連絡事項・処方変更・その他）
G42: 特記なし
G43: 恵谷 愛 | AJ43: 恵谷 愛

Sheet 4
B1: クリニック 日 誌 | H1: 令和 | J1: ='1'!J1 -> 3 | K1: 年 | L1: 6 | M1: 月 | N1: 4 | O1: 日 | Q1: （ | R1: 金 | S1: ） | V1: COO | Y1: IOO | AB1: AOM
A3: 勤務者名
A4: ='1'!A4:F4 -> 中村 恵理子 | G4: 日 | I4: 柳田 美雪 | N4: 日 | Q4: 診察室 | W4: 外来担当医 | Z4: 外来介助者
A5: 石原 恵海 | G5: 日 | I5: 石谷 美代子 | N5: 欠 | Q5: 第１診察室 | U5: 金 泰徳 | Z5: 柳田・石原
A6: 松林 久美子 | G6: 日 | Q6: 第２診察室 | U6: 千葉 良 | Z6: 柳田・石原
B8: 新 | C8: 再 | D8: 精 | E8: 内 | F8: 処 | G8: 患者様氏名 | L8: 新 | M8: 再 | N8: 精 | O8: 内 | P8: 処 | Q8: 患者様氏名 | V8: 新 | W8: 再 | X8: 精 | Y8: 内 | Z8: 処 | AA8: 患者様氏名
A9: 1 | C9: ・ | D9: ・ | F9: 60 | G9: 中川原 ちる | J9: 様 | K9: 2 | M9: ・ | N9: ・ | P9: 30 | Q9: 沼端 佑太 | T9: 様 | U9: 3 | W9: ・ | X9: ・ | Z9: 28 | AA9: 千葉 スワ | AD9: 様
A10: 4 | C10: ・ | D10: ・ | F10: 28 | G10: 畑山 栄子 | J10: 様 | K10: 5 | M10: ・ | N10: ・ | P10: 28 | Q10: 望月 恵美子 | T10: 様 | U10: 6 | W10: ・ | X10: ・ | Z10: 30 | AA10: 西舘 美穂子 | AD10: 様
A11: 7 | C11: ・ | D11: ・ | F11: 30 | G11: 角 恵美子 | J11: 様 | K11: 8 | M11: ・ | N11: ・ | P11: 60 | Q11: 小向 サツ | T11: 様 | U11: 9 | W11: ・ | X11: ・ | Z11: 30 | AA11: 坂本 リセ | AD11: 様
A12: 10 | C12: ・ | D12: ・ | F12: 30 | G12: 馬場 トセ子 | J12: 様 | K12: 11 | M12: ・ | N12: ・ | P12: 56 | Q12: 伊藤 和子 | T12: 様 | U12: 12 | W12: ・ | X12: ・ | Z12: 14 | AA12: 高橋 幸喜 | AD12: 様
A13: 13 | C13: ・ | D13: ・ | F13: 28 | G13: 太田 美津 | J13: 様 | K13: 14 | M13: ・ | N13: ・ | P13: 28 | Q13: 林 博子 | T13: 様 | U13: 15 | W13: ・ | X13: ・ | Z13: 28 | AA13: 生平 祥恵 | AD13: 様
A14: 16 | C14: ・ | D14: ・ | F14: 60 | G14: 沼尾 タマエ | J14: 様 | K14: 17 | M14: ・ | N14: ・ | P14: 30 | Q14: 小笠原 とよ | T14: 様 | U14: 18 | W14: ・ | X14: ・ | Z14: 28 | AA14: 水戸 恵子 | AD14: 様
A15: 19 | C15: ・ | D15: ・ | F15: 28 | G15: 畑山 栄美子 | J15: 様 | K15: 20 | M15: ・ | N15: ・ | P15: 35 | Q15: 石田 喜明 | T15: 様 | U15: 21 | W15: ・ | X15: ・ | Z15: 0 | AA15: 舘 優美香 | AD15: 様
A16: 22 | C16: ・ | D16: ・ | F16: 30 | G16: 湊 ツヤ | J16: 様 | K16: 23 | M16: ・ | N16: ・ | P16: 30 | Q16: 森外 鉄雄 | T16: 様 | U16: 24 | W16: ・ | X16: ・ | Z16: 28 | AA16: 鳴海 うめ子 | AD16: 様
A17: 25 | C17: ・ | D17: ・ | F17: 60 | G17: 大久保 和 | J17: 様 | K17: 26 | M17: ・ | N17: ・ | P17: 28 | Q17: 谷地 正男 | T17: 様 | U17: 27 | W17: ・ | X17: ・ | Z17: 28 | AA17: 大釜 美香子 | AD17: 様
A18: 28 | C18: ・ | D18: ・ | F18: 28 | G18: 花松 ナヨ | J18: 様 | K18: 29 | M18: ・ | N18: ・ | P18: 60 | Q18: 中村 キヌ | T18: 様 | U18: 30 | W18: ・ | X18: ・ | Z18: 14 | AA18: 久保 沙保里 | AD18: 様
A19: 31 | C19: ・ | D19: ・ | F19: 14 | G19: 黒澤 慎一郎 | J19: 様 | K19: 32 | M19: ・ | N19: ・ | P19: 28 | Q19: 長根 謙二 | T19: 様 | U19: 33 | W19: ・ | X19: ・ | Z19: 30 | AA19: 松尾 雄 | AD19: 様
A20: 34 | C20: ・ | D20: ・ | F20: 30 | G20: 山口 陽子 | J20: 様 | K20: 35 | M20: ・ | N20: ・ | P20: 14 | Q20: 前田 チヤ | T20: 様 | U20: 36 | W20: ・ | X20: ・ | Z20: 21 | AA20: 山田 淳一 | AD20: 様
... A27: 55 | C27: ・ | D27: ・ | F27: 30 | G27: 黒川 日々人 | J27: 様 | K27: 56 | M27: ・ | N27: ・ | P27: 0 | Q27: 瀬川 高雄 | T27: 様 | U27: 57 | W27: ・ | X27: ・ | Z27: 0 | AA27: 大木 久子 | AD27: 様
A28: 58 | B28: ・ | D28: ・ | F28: 7 | G28: 附田 華凜 | J28: 様 | K28: 59 | M28: ・ | N28: ・ | P28: 0 | Q28: 綿貫 啓子 | T28: 様 | U28: 60 | W28: ・ | X28: ・ | Z28: 0 | AA28: 深町 栄美子 | AD28: 様
A29: 61 | C29: ・ | E29: ・ | F29: 14 | G29: 坂田 優 | J29: 様 | K29: 62 | M29: ・ | N29: ・ | P29: 0 | Q29: 山本 伸子 | T29: 様 | U29: 63 | W29: ・ | X29: ・ | Z29: 0 | AA29: 田口 トシ子 | AD29: 様
A30: 64 | C30: ・ | D30: ・ | F30: 0 | G30: 佐々木 札子 | J30: 様 | K30: 65 | M30: ・ | N30: ・ | P30: 0 | Q30: 山本 美津子 | T30: 様 | U30: 66 | W30: ・ | X30: ・ | Z30: 0 | AA30: 高村 加津子 | AD30: 様
A31: 67 | C31: ・ | D31: ・ | F31: 0 | G31: 坂田 イミ | J31: 様 | K31: 68 | L31: ・ | N31: ・ | P31: 14 | Q31: 今井 くによ | T31: 様 | U31: 69 | AD31: 様
A32: 外来患者数 | E32: 新： | F32: =COUNTIF(B9:B31,"・")+COUNTIF(L9:L31,"・")+COUNTIF(V9:V31,"・") -> 2 | H32: 名 | I32: 再： | J32: =COUNTIF(C9:C31,"・")+COUNTIF(M9:M31,"・")+COUNTIF(W9:W31,"・") -> 66 | L32: 名 | M32: 計： | N32: =SUM(F32:K32) -> 68 | Q32: 名 | R32: （ | S32: 精： | T32: =COUNTIF(D9:D31,"・")+COUNTIF(N9:N31,"・")+COUNTIF(X9:X31,"・") -> 67 | W32: 名 | X32: ・ | Y32: 内： | Z32: =COUNTIF(E9:E31,"・")+COUNTIF(O9:O31,"・")+COUNTIF(Y9:Y31,"・") -> 1 | AC32: 名 | AD32: ）
A34: 紹介患者様氏名 | F34: 紹介先 | K34: 逆紹介患者様氏名 | P34: 紹介元 | U34: 処置実施者 | AA34: 処置内容
E35: 様 | O35: 様 | Z35: 様
A36: 本日の検査 | F36: 検査内容 | K36: 処置実施者 | P36: 処置内容 | Z36: 様
A37: 今井 くによ | E37: 様 | F37: HDS-R・MMSE | O37: 様 | Z37: 様
E38: 様 | O38: 様 | U38: 点検項目
E39: 様 | O39: 様 | U39: 項目 | Z39: 時間 | AC39: 点検者
A40: 発熱 | F40: 下痢 | K40: 風邪薬 | P40: 男性：16 | U40: 医療廃棄物 | Y40: 0.75 | AB40: 柳田 美雪
A41: 0 | F41: 0 | K41: 0 | P41: 女性：52 | U41: 戸締り | Y41: 0.75 | AB41: ='1'!AB40:AD40 -> 中村 恵理子
A43: 備考欄 | C43: （連絡事項・処方変更・その他）
G44: 特記なし
G45: 柳田

Sheet 5
B1: クリニック 日 誌 | H1: 令和 | J1: ='1'!J1 -> 3 | K1: 年 | L1: 6 | M1: 月 | N1: 5 | O1: 日 | Q1: （ | S1: ） | V1: COO | Y1: IOO | AB1: AOM
A3: 勤務者名
A4: ='1'!A4:F4 -> 中村 恵理子 | G4: 日 | I4: 柳田 美雪 | N4: 日 | Q4: 診察室 | W4: 外来担当医 | Z4: 外来介助者
A5: 石原 恵海 | G5: 日 | I5: 石谷 美代子 | N5: 欠 | Q5: 第１診察室 | U5: 千葉 潜 | Z5: 柳田・石原
A6: 松林 久美子 | G6: 日 | Q6: 第２診察室 | U6: 坂田 優 | Z6: 柳田
B8: 新 | C8: 再 | D8: 精 | E8: 内 | F8: 処 | G8: 患者様氏名 | L8: 新 | M8: 再 | N8: 精 | O8: 内 | P8: 処 | Q8: 患者様氏名 | V8: 新 | W8: 再 | X8: 精 | Y8: 内 | Z8: 処 | AA8: 患者様氏名
A9: 1 | J9: 様 | K9: 2 | T9: 様 | U9: 3 | AD9: 様
A10: 4 | J10: 様 | K10: 5 | T10: 様 | U10: 6 | AD10: 様
A11: 7 | J11: 様 | K11: 8 | T11: 様 | U11: 9 | AD11: 様
A12: 10 | J12: 様 | K12: 11 | T12: 様 | U12: 12 | AD12: 様
A13: 13 | J13: 様 | K13: 14 | T13: 様 | U13: 15 | AD13: 様
A14: 16 | J14: 様 | K14: 17 | T14: 様 | U14: 18 | AD14: 様
A15: 19 | J15: 様 | K15: 20 | T15: 様 | U15: 21 | AD15: 様
A16: 22 | J16: 様 | K16: 23 | T16: 様 | U16: 24 | AD16: 様
A17: 25 | J17: 様 | K17: 26 | T17: 様 | U17: 27 | AD17: 様
A18: 28 | J18: 様 | K18: 29 | T18: 様 | U18: 30 | AD18: 様
A19: 31 | J19: 様 | K19: 32 | T19: 様 | U19: 33 | AD19: 様
A20: 34 | J20: 様 | K20: 35 | T20: 様 | U20: 36 | AD20: 様
... A33: 73 | J33: 様 | K33: 74 | T33: 様 | U33: 75 | AD33: 様
A34: 外来患者数 | E34: 新： | F34: =COUNTIF(B9:B33,"・")+COUNTIF(L9:L33,"・")+COUNTIF(V9:V33,"・") -> 0 | H34: 名 | I34: 再： | J34: =COUNTIF(C9:C33,"・")+COUNTIF(M9:M33,"・")+COUNTIF(W9:W33,"・") -> 0 | L34: 名 | M34: 計： | N34: =SUM(F34:K34) -> 0 | Q34: 名 | R34: （ | S34: 精： | T34: =COUNTIF(D9:D33,"・")+COUNTIF(N9:N33,"・")+COUNTIF(X9:X33,"・") -> 0 | W34: 名 | X34: ・ | Y34: 内： | Z34: =COUNTIF(E9:E33,"・")+COUNTIF(O9:O33,"・")+COUNTIF(Y9:Y33,"・") -> 0 | AC34: 名 | AD34: ）
A36: 紹介患者様氏名 | F36: 紹介先 | K36: 逆紹介患者様氏名 | P36: 紹介元 | U36: 処置実施者 | AA36: 処置内容
E37: 様 | O37: 様 | Z37: 様
E38: 様 | O38: 様 | Z38: 様
E39: 様 | O39: 様 | Z39: 様
E40: 様 | O40: 様 | Z40: 様
E41: 様 | O41: 様 | Z41: 様
A42: 本日の検査 | F42: 検査内容 | K42: 処置実施者 | P42: 処置内容 | Z42: 様
E43: 様 | O43: 様 | Z43: 様
E44: 様 | O44: 様 | Z44: 様
E45: 様 | O45: 様 | Z45: 様
E46: 様 | O46: 様 | U46: 点検項目
E47: 様 | O47: 様 | U47: 項目 | Z47: 時間 | AC47: 点検者
A48: 発熱 | F48: 下痢 | K48: 風邪薬 | P48: 男性： | U48: 医療廃棄物 | Y48: 0.75
A49: 0 | F49: 0 | K49: 0 | P49: 女性： | U49: 戸締り | Y49: 0.75 | AB49: ='1'!AB40:AD40 -> 中村 恵理子
A51: 備考欄 | C51: （連絡事項・処方変更・その他）

Sheet 6
B1: クリニック 日 誌 | H1: 令和 | J1: ='1'!J1 -> 3 | K1: 年 | L1: 6 | M1: 月 | N1: 6 | O1: 日 | Q1: （ | S1: ） | V1: COO | Y1: IOO | AB1: AOM
A3: 勤務者名
A4: 中村 恵理子 | G4: 日 | I4: 柳田 美雪 | N4: 日 | Q4: 診察室 | W4: 外来担当医 | Z4: 外来介助者
A5: 石原 恵海 | G5: 日 | I5: 石谷 美代子 | N5: 欠 | Q5: 第１診察室 | U5: 千葉 潜 | Z5: 柳田・石原
A6: 松林 久美子 | G6: 日 | Q6: 第２診察室 | U6: 坂田 優 | Z6: 柳田
B8: 新 | C8: 再 | D8: 精 | E8: 内 | F8: 処 | G8: 患者様氏名 | L8: 新 | M8: 再 | N8: 精 | O8: 内 | P8: 処 | Q8: 患者様氏名 | V8: 新 | W8: 再 | X8: 精 | Y8: 内 | Z8: 処 | AA8: 患者様氏名
A9: 1 | J9: 様 | K9: 2 | T9: 様 | U9: 3 | AD9: 様
A10: 4 | J10: 様 | K10: 5 | T10: 様 | U10: 6 | AD10: 様
A11: 7 | J11: 様 | K11: 8 | T11: 様 | U11: 9 | AD11: 様
A12: 10 | J12: 様 | K12: 11 | T12: 様 | U12: 12 | AD12: 様
A13: 13 | J13: 様 | K13: 14 | T13: 様 | U13: 15 | AD13: 様
A14: 16 | J14: 様 | K14: 17 | T14: 様 | U14: 18 | AD14: 様
A15: 19 | J15: 様 | K15: 20 | T15: 様 | U15: 21 | AD15: 様
A16: 22 | J16: 様 | K16: 23 | T16: 様 | U16: 24 | AD16: 様
A17: 25 | J17: 様 | K17: 26 | T17: 様 | U17: 27 | AD17: 様
A18: 28 | J18: 様 | K18: 29 | T18: 様 | U18: 30 | AD18: 様
A19: 31 | J19: 様 | K19: 32 | T19: 様 | U19: 33 | AD19: 様
A20: 34 | J20: 様 | K20: 35 | T20: 様 | U20: 36 | AD20: 様
... A33: 73 | J33: 様 | K33: 74 | T33: 様 | U33: 75 | AD33: 様
A34: 外来患者数 | E34: 新： | F34: =COUNTIF(B9:B33,"・")+COUNTIF(L9:L33,"・")+COUNTIF(V9:V33,"・") -> 0 | H34: 名 | I34: 再： | J34: =COUNTIF(C9:C33,"・")+COUNTIF(M9:M33,"・")+COUNTIF(W9:W33,"・") -> 0 | L34: 名 | M34: 計： | N34: =SUM(F34:K34) -> 0 | Q34: 名 | R34: （ | S34: 精： | T34: =COUNTIF(D9:D33,"・")+COUNTIF(N9:N33,"・")+COUNTIF(X9:X33,"・") -> 0 | W34: 名 | X34: ・ | Y34: 内： | Z34: =COUNTIF(E9:E33,"・")+COUNTIF(O9:O33,"・")+COUNTIF(Y9:Y33,"・") -> 0 | AC34: 名 | AD34: ）
A36: 紹介患者様氏名 | F36: 紹介先 | K36: 逆紹介患者様氏名 | P36: 紹介元 | U36: 処置実施者 | AA36: 処置内容
E37: 様 | O37: 様 | Z37: 様
E38: 様 | O38: 様 | Z38: 様
E39: 様 | O39: 様 | Z39: 様
E40: 様 | O40: 様 | Z40: 様
E41: 様 | O41: 様 | Z41: 様
A42: 本日の検査 | F42: 検査内容 | K42: 処置実施者 | P42: 処置内容 | Z42: 様
E43: 様 | O43: 様 | Z43: 様
E44: 様 | O44: 様 | Z44: 様
E45: 様 | O45: 様 | Z45: 様
E46: 様 | O46: 様 | U46: 点検項目
E47: 様 | O47: 様 | U47: 項目 | Z47: 時間 | AC47: 点検者
A48: 発熱 | F48: 下痢 | K48: 風邪薬 | P48: 男性： | U48: 医療廃棄物 | Y48: 0.75
A49: 0 | F49: 0 | K49: 0 | P49: 女性： | U49: 戸締り | Y49: 0.75 | AB49: 中村 恵理子
A51: 備考欄 | C51: （連絡事項・処方変更・その他）

Sheet 7
B1: クリニック 日 誌 | H1: 令和 | J1: ='6'!J1 -> 3 | K1: 年 | L1: 6 | M1: 月 | N1: 7 | O1: 日 | Q1: （ | R1: 月 | S1: ） | V1: COO | Y1: IOO | AB1: AOM
A3: 勤務者名
A4: ='6'!A4:F4 -> 中村 恵理子 | G4: 日 | I4: 柳田 美雪 | N4: 年 | Q4: 診察室 | W4: 外来担当医 | Z4: 外来介助者
A5: 石原 恵海 | G5: 日 | I5: 石谷 美代子 | N5: 欠 | Q5: 第１診察室 | U5: 千葉 潜 | Z5: 石原
A6: 松林 久美子 | G6: 日 | Q6: 第２診察室 | U6: 坂田 優 | Z6: 恵谷
B8: 新 | C8: 再 | D8: 精 | E8: 内 | F8: 処 | G8: 患者様氏名 | L8: 新 | M8: 再 | N8: 精 | O8: 内 | P8: 処 | Q8: 患者様氏名 | V8: 新 | W8: 再 | X8: 精 | Y8: 内 | Z8: 処 | AA8: 患者様氏名
A9: 1 | C9: ・ | E9: ・ | F9: 28 | G9: 奥 功 | J9: 様 | K9: 2 | L9: ・ | N9: ・ | P9: 7 | Q9: 奈良 涼花 | T9: 様 | U9: 3 | W9: ・ | X9: ・ | Z9: 0 | AA9: 工藤 健壽 | AD9: 様
A10: 4 | C10: ・ | D10: ・ | F10: 28 | G10: 吉村 直樹 | J10: 様 | K10: 5 | M10: ・ | N10: ・ | P10: 30 | Q10: 古田 桃香 | T10: 様 | U10: 6 | W10: ・ | X10: ・ | Z10: 0 | AA10: 高村 加津子 | AD10: 様
A11: 7 | C11: ・ | D11: ・ | F11: 56 | G11: 新堂 麻美 | J11: 様 | K11: 8 | M11: ・ | N11: ・ | P11: 0 | Q11: 蛯沢 鈴音波 | T11: 様 | U11: 9 | W11: ・ | X11: ・ | Z11: 0 | AA11: 田口 トシ子 | AD11: 様
A12: 10 | C12: ・ | D12: ・ | F12: 28 | G12: 酒井 昌子 | J12: 様 | K12: 11 | M12: ・ | N12: ・ | P12: 7 | Q12: 木村 羽美 | T12: 様 | U12: 12 | W12: ・ | X12: ・ | Z12: 0 | AA12: 沼端 ミセ | AD12: 様
A13: 13 | C13: ・ | D13: ・ | F13: 28 | G13: 瀬川 高雄 | J13: 様 | K13: 14 | M13: ・ | N13: ・ | P13: 30 | Q13: 原田 涼 | T13: 様 | U13: 15 | W13: ・ | X13: ・ | Z13: 0 | AA13: 大木 久子 | AD13: 様
A14: 16 | C14: ・ | D14: ・ | F14: 28 | G14: 大村 恵美 | J14: 様 | K14: 17 | M14: ・ | N14: ・ | P14: 14 | Q14: 小橋 詩音 | T14: 様 | U14: 18 | W14: ・ | X14: ・ | Z14: 0 | AA14: 藤田 絢三 | AD14: 様
A15: 19 | B15: ・ | D15: ・ | F15: 28 | G15: 木村 幸雄 | J15: 様 | K15: 20 | M15: ・ | N15: ・ | P15: 30 | Q15: 成田 祐折 | T15: 様 | U15: 21 | W15: ・ | X15: ・ | Z15: 0 | AA15: 萠出 克治 | AD15: 様
A16: 22 | C16: ・ | D16: ・ | F16: 60 | G16: 宮内 タミエ | J16: 様 | K16: 23 | M16: ・ | N16: ・ | P16: 30 | Q16: 小泉 秀腎 | T16: 様 | U16: 24 | W16: ・ | X16: ・ | Z16: 0 | AA16: 萠出 きのゑ | AD16: 様
A17: 25 | C17: ・ | D17: ・ | F17: 35 | G17: 田中 成典 | J17: 様 | K17: 26 | M17: ・ | N17: ・ | P17: 30 | Q17: 山崎 友雅 | T17: 様 | U17: 27 | W17: ・ | X17: ・ | Z17: 0 | AA17: 杉山 博子 | AD17: 様
A18: 28 | C18: ・ | E18: ・ | F18: 14 | G18: 作田 由美子 | J18: 様 | K18: 29 | M18: ・ | N18: ・ | P18: 30 | Q18: 赤石 栞菜 | T18: 様 | U18: 30 | W18: ・ | X18: ・ | Z18: 0 | AA18: 山口 瑛子 | AD18: 様
A19: 31 | C19: ・ | D19: ・ | F19: 28 | G19: 野田頭 郁美 | J19: 様 | K19: 32 | M19: ・ | N19: ・ | P19: 30 | Q19: 天間 貴那 | T19: 様 | U19: 33 | W19: ・ | X19: ・ | Z19: 0 | AA19: 相田 敏子 | AD19: 様
A20: 34 | C20: ・ | D20: ・ | F20: 56 | G20: 尾田 きよ子 | J20: 様 | K20: 35 | M20: ・ | N20: ・ | P20: 30 | Q20: 遠藤 侑人 | T20: 様 | U20: 36 | W20: ・ | X20: ・ | Z20: 0 | AA20: 深町 栄美子 | AD20: 様
A21: 37 | C21: ・ | D21: ・ | F21: 56 | G21: 佐藤 直子 | J21: 様 | K21: 38 | M21: ・ | N21: ・ | P21: 30 | Q21: 寺下 香澄 | T21: 様 | U21: 39 | W21: ・ | X21: ・ | Z21: 0 | AA21: 坂本 政勝 | AD21: 様
A22: 40 | C22: ・ | D22: ・ | F22: 56 | G22: 浄法寺 フメ | J22: 様 | K22: 41 | M22: ・ | N22: ・ | P22: 30 | Q22: 水上 楓稀 | T22: 様 | U22: 42 | W22: ・ | X22: ・ | Z22: 0 | AA22: 渡辺 クニ | AD22: 様
A23: 43 | C23: ・ | D23: ・ | F23: 28 | G23: 右近 楓 | J23: 様 | K23: 44 | M23: ・ | N23: ・ | P23: 30 | Q23: 船水 大夢 | T23: 様 | U23: 45 | W23: ・ | X23: ・ | Z23: 0 | AA23: 遠嶋 剛 | AD23: 様
A24: 46 | C24: ・ | D24: ・ | F24: 28 | G24: 川村 みせ | J24: 様 | K24: 47 | M24: ・ | N24: ・ | P24: 28 | Q24: 似鳥 勝枝 | T24: 様 | U24: 48 | W24: ・ | X24: ・ | Z24: 0 | AA24: 遠嶋 千鶴 | AD24: 様
A25: 49 | C25: ・ | D25: ・ | F25: 28 | G25: 沖澤 考 | J25: 様 | K25: 50 | M25: ・ | N25: ・ | P25: 28 | Q25: 種市 正子 | T25: 様 | U25: 51 | W25: ・ | X25: ・ | Z25: 0 | AA25: 藪 真弓 | AD25: 様
A26: 52 | C26: ・ | E26: ・ | F26: 7 | G26: 坂田 佳子 | J26: 様 | K26: 53 | M26: ・ | N26: ・ | P26: 56 | Q26: 熊谷 雪子 | T26: 様 | U26: 54 | W26: ・ | X26: ・ | Z26: 56 | AA26: 鈴木 健一 | AD26: 様
A27: 55 | B27: ・ | D27: ・ | F27: 28 | G27: 山田 孝雄 | J27: 様 | K27: 56 | M27: ・ | N27: ・ | P27: 0 | Q27: 小笠原 由美子 | T27: 様 | U27: 57 | W27: ・ | X27: ・ | Z27: 28 | AA27: 成田 純広 | AD27: 様
A28: 58 | C28: ・ | D28: ・ | E28: ・ | F28: 14 | G28: 佐藤 勇夫 | J28: 様 | K28: 59 | M28: ・ | N28: ・ | P28: 56 | Q28: 小向 浩子 | T28: 様 | U28: 60 | W28: ・ | X28: ・ | Z28: 28 | AA28: 加賀 遥大 | AD28: 様
A29: 61 | C29: ・ | D29: ・ | F29: 28 | G29: 山縣 堅一 | J29: 様 | K29: 62 | M29: ・ | N29: ・ | P29: 14 | Q29: 馬場 一彦 | T29: 様 | U29: 63 | W29: ・ | X29: ・ | Z29: 84 | AA29: 早坂 タキ | AD29: 様
A30: 64 | C30: ・ | D30: ・ | F30: 28 | G30: 最上 チエ | J30: 様 | K30: 65 | M30: ・ | N30: ・ | P30: 28 | Q30: 新山 雄斗 | T30: 様 | U30: 66 | W30: ・ | X30: ・ | Z30: 0 | AA30: 中村 としゑ | AD30: 様
A31: 67 | C31: ・ | D31: ・ | F31: 56 | G31: 山崎 ケイ | J31: 様 | K31: 68 | M31: ・ | N31: ・ | P31: 0 | Q31: 中居 敬悦 | T31: 様 | U31: 69 | AD31: 様
A32: 外来患者数 | E32: 新： | F32: =COUNTIF(B9:B31,"・")+COUNTIF(L9:L31,"・")+COUNTIF(V9:V31,"・") -> 3 | H32: 名 | I32: 再： | J32: =COUNTIF(C9:C31,"・")+COUNTIF(M9:M31,"・")+COUNTIF(W9:W31,"・") -> 65 | L32: 名 | M32: 計： | N32: =SUM(F32:K32) -> 68 | Q32: 名 | R32: （ | S32: 精： | T32: =COUNTIF(D9:D31,"・")+COUNTIF(N9:N31,"・")+COUNTIF(X9:X31,"・") -> 65 | W32: 名 | X32: ・ | Y32: 内： | Z32: =COUNTIF(E9:E31,"・")+COUNTIF(O9:O31,"・")+COUNTIF(Y9:Y31,"・") -> 4 | AC32: 名 | AD32: ）
A34: 紹介患者様氏名 | F34: 紹介先 | K34: 逆紹介患者様氏名 | P34: 紹介元 | U34: 処置実施者 | AA34: 処置内容
A35: 佐藤 勇男 | E35: 様 | F35: みちのく記念病院 | K35: 木村 幸雄 | O35: 様 | P35: 十和田中央病院 | Z35: 様
E36: 様 | K36: 山田 孝雄 | O36: 様 | P36: 高松病院 | Z36: 様
A37: 本日の検査 | F37: 検査内容 | K37: 処置実施者 | P37: 処置内容 | Z37: 様
A38: 奥 功 | E38: 様 | F38: 血液検査 | K38: 酒井 昌子 | O38: 様 | P38: ハロマンス100mg 1A | Z38: 様
A39: 佐藤 勇男 | E39: 様 | F39: 血液検査 | K39: 小笠原 由美子 | O39: 様 | P39: エビリファイ400mg 1セット | Z39: 様
A40: 坂田 佳子 | E40: 様 | F40: 血液検査 | O40: 様 | Z40: 様
E41: 様 | O41: 様 | U41: 点検項目
E42: 様 | O42: 様 | U42: 項目 | Z42: 時間 | AC42: 点検者
A43: 発熱 | F43: 下痢 | K43: 風邪薬 | P43: 男性：31 | U43: 医療廃棄物 | Y43: 0.75 | AB43: 石原 恵海
A44: 0 | F44: 0 | K44: 0 | P44: 女性：37 | U44: 戸締り | Y44: 0.75 | AB44: 松林 久美子
A46: 備考欄 | C46: （連絡事項・処方変更・その他）
G47: 特になし
G48: 石原

Sheet 8
B1: クリニック 日 誌 | H1: 令和 | J1: ='6'!J1 -> 3 | K1: 年 | L1: 6 | M1: 月 | N1: 8 | O1: 日 | Q1: （ | R1: 火 | S1: ） | V1: COO | Y1: IOO | AB1: AOM
A3: 勤務者名
A4: ='7'!A4:F4 -> 中村 恵理子 | G4: 日 | I4: 柳田 美雪 | N4: 年 | Q4: 診察室 | W4: 外来担当医 | Z4: 外来介助者
A5: 石原 恵海 | G5: 日 | I5: 石谷 美代子 | N5: 欠 | Q5: 第１診察室 | U5: 千葉 潜 | Z5: 石原
A6: 松林 久美子 | G6: 日 | I6: 神 圭輔 | N6: 日 | Q6: 第２診察室 | U6: 坂田 優 | Z6: 石原
B8: 新 | C8: 再 | D8: 精 | E8: 内 | F8: 処 | G8: 患者様氏名 | L8: 新 | M8: 再 | N8: 精 | O8: 内 | P8: 処 | Q8: 患者様氏名 | V8: 新 | W8: 再 | X8: 精 | Y8: 内 | Z8: 処 | AA8: 患者様氏名
A9: 1 | C9: ・ | D9: ・ | F9: 0 | G9: 島 龍太郎 | J9: 様 | K9: 2 | M9: ・ | N9: ・ | P9: 28 | Q9: 駒澤 キヤ | T9: 様 | U9: 3 | W9: ・ | X9: ・ | Z9: 0 | AA9: 藤田 絢三 | AD9: 様
A10: 4 | C10: ・ | D10: ・ | F10: 15 | G10: 綿貫 啓子 | J10: 様 | K10: 5 | M10: ・ | N10: ・ | P10: 28 | Q10: 石原 トシ | T10: 様 | U10: 6 | W10: ・ | X10: ・ | Z10: 0 | AA10: 萠出 きのゑ | AD10: 様
A11: 7 | C11: ・ | D11: ・ | F11: 28 | G11: 鈴木 寛二 | J11: 様 | K11: 8 | M11: ・ | N11: ・ | P11: 0 | Q11: 舛谷 勝子 | T11: 様 | U11: 9 | W11: ・ | X11: ・ | Z11: 0 | AA11: 萠出 克治 | AD11: 様
A12: 10 | C12: ・ | D12: ・ | F12: 28 | G12: 遠嶋 千鶴 | J12: 様 | K12: 11 | M12: ・ | N12: ・ | P12: 28 | Q12: 吉田 めぐみ | T12: 様 | U12: 12 | W12: ・ | X12: ・ | Z12: 0 | AA12: 山口 瑛子 | AD12: 様
A13: 13 | C13: ・ | D13: ・ | F13: 28 | G13: 大森 直樹 | J13: 様 | K13: 14 | M13: ・ | N13: ・ | P13: 28 | Q13: 吉田 末治 | T13: 様 | U13: 15 | W13: ・ | X13: ・ | Z13: 0 | AA13: 藪 真弓 | AD13: 様
A14: 16 | C14: ・ | D14: ・ | F14: 28 | G14: 沼辺 勝夫 | J14: 様 | K14: 17 | M14: ・ | N14: ・ | P14: 28 | Q14: 三上 朋子 | T14: 様 | U14: 18 | W14: ・ | X14: ・ | Z14: 0 | AA14: 石井 佐代子 | AD14: 様
A15: 19 | C15: ・ | D15: ・ | F15: 28 | G15: 土橋 和子 | J15: 様 | K15: 20 | M15: ・ | N15: ・ | P15: 56 | Q15: 小川 サクラ | T15: 様 | U15: 21 | W15: ・ | X15: ・ | Z15: 28 | AA15: 工藤 健壽 | AD15: 様
A16: 22 | C16: ・ | D16: ・ | F16: 28 | G16: 熊谷 貴之 | J16: 様 | K16: 23 | M16: ・ | N16: ・ | P16: 28 | Q16: 天間 ミツエ | T16: 様 | U16: 24 | W16: ・ | X16: ・ | Z16: 28 | AA16: 高村 加津子 | AD16: 様
A17: 25 | C17: ・ | D17: ・ | F17: 30 | G17: 對馬 穣 | J17: 様 | K17: 26 | M17: ・ | N17: ・ | P17: 28 | Q17: 大澤 哲也 | T17: 様 | U17: 27 | W17: ・ | X17: ・ | Z17: 0 | AA17: 田口 トシ子 | AD17: 様
A18: 28 | C18: ・ | D18: ・ | F18: 28 | G18: 住吉 鉄男 | J18: 様 | K18: 29 | M18: ・ | N18: ・ | P18: 28 | Q18: 井崎 恭子 | T18: 様 | U18: 30 | W18: ・ | X18: ・ | Z18: 0 | AA18: 酒田 朋紀 | AD18: 様
A19: 31 | C19: ・ | D19: ・ | F19: 28 | G19: 関川 隆子 | J19: 様 | K19: 32 | M19: ・ | N19: ・ | P19: 28 | Q19: 石岡 裕子 | T19: 様 | U19: 33 | W19: ・ | X19: ・ | Z19: 0 | AA19: 大木 久子 | AD19: 様
A20: 34 | C20: ・ | D20: ・ | F20: 28 | G20: 鈴木 勝子 | J20: 様 | K20: 35 | M20: ・ | N20: ・ | P20: 28 | Q20: 中谷 幸夫 | T20: 様 | U20: 36 | W20: ・ | X20: ・ | Z20: 0 | AA20: 杉元 香奈子 | AD20: 様
... A22: 40 | C22: ・ | D22: ・ | F22: 56 | G22: 吉田 佑子 | J22: 様 | K22: 41 | M22: ・ | N22: ・ | P22: 28 | Q22: 佐々木 令子 | T22: 様 | U22: 42 | W22: ・ | X22: ・ | Z22: 0 | AA22: 坂本 佳之 | AD22: 様
A23: 43 | C23: ・ | D23: ・ | F23: 56 | G23: 榊 重志 | J23: 様 | K23: 44 | M23: ・ | N23: ・ | P23: 14 | Q23: 坂本 郁子 | T23: 様 | U23: 45 | V23: ・ | X23: ・ | Z23: 30 | AA23: 松山 日向 | AD23: 様
A24: 46 | C24: ・ | D24: ・ | F24: 28 | G24: 種市 優子 | J24: 様 | K24: 47 | M24: ・ | N24: ・ | P24: 14 | Q24: 野々宮 重美 | T24: 様 | U24: 48 | W24: ・ | X24: ・ | Z24: 14 | AA24: 藤川 雅之 | AD24: 様
A25: 49 | C25: ・ | D25: ・ | F25: 56 | G25: 武内 隆三 | J25: 様 | K25: 50 | M25: ・ | N25: ・ | P25: 28 | Q25: 菅野 愛菜 | T25: 様 | U25: 51 | W25: ・ | X25: ・ | Z25: 28 | AA25: 沖澤 咲妃 | AD25: 様
A26: 52 | C26: ・ | D26: ・ | F26: 28 | G26: 三浦 年男 | J26: 様 | K26: 53 | M26: ・ | N26: ・ | P26: 28 | Q26: 浄法寺 ミツエ | T26: 様 | U26: 54 | W26: ・ | X26: ・ | Z26: 14 | AA26: 小栗 佳子 | AD26: 様
A27: 55 | C27: ・ | D27: ・ | F27: 28 | G27: 山田 秀徳 | J27: 様 | K27: 56 | M27: ・ | N27: ・ | P27: 28 | Q27: 佐々木 富雄 | T27: 様 | U27: 57 | W27: ・ | X27: ・ | Z27: 30 | AA27: 尾形 志津香 | AD27: 様
A28: 58 | C28: ・ | D28: ・ | F28: 28 | G28: 大下内 テル | J28: 様 | K28: 59 | M28: ・ | N28: ・ | P28: 28 | Q28: 柿本 美津 | T28: 様 | U28: 60 | W28: ・ | X28: ・ | Z28: 0 | AA28: 佐々木 政夫 | AD28: 様
A29: 61 | C29: ・ | D29: ・ | F29: 23 | G29: 小笠原 彩子 | J29: 様 | K29: 62 | M29: ・ | N29: ・ | P29: 30 | Q29: 針田 朋江 | T29: 様 | U29: 63 | W29: ・ | X29: ・ | Z29: 0 | AA29: 水上 民一 | AD29: 様
A30: 64 | C30: ・ | D30: ・ | F30: 28 | G30: 小西 徳仁 | J30: 様 | K30: 65 | T30: 様 | U30: 66 | AD30: 様
A31: 外来患者数 | E31: 新： | F31: =COUNTIF(B9:B30,"・")+COUNTIF(L9:L30,"・")+COUNTIF(V9:V30,"・") -> 1 | H31: 名 | I31: 再： | J31: =COUNTIF(C9:C30,"・")+COUNTIF(M9:M30,"・")+COUNTIF(W9:W30,"・") -> 63 | L31: 名 | M31: 計： | N31: =SUM(F31:K31) -> 64 | Q31: 名 | R31: （ | S31: 精： | T31: =COUNTIF(D9:D30,"・")+COUNTIF(N9:N30,"・")+COUNTIF(X9:X30,"・") -> 64 | W31: 名 | X31: ・ | Y31: 内： | Z31: =COUNTIF(E9:E30,"・")+COUNTIF(O9:O30,"・")+COUNTIF(Y9:Y30,"・") -> 0 | AC31: 名 | AD31: ）
A33: 紹介患者様氏名 | F33: 紹介先 | K33: 逆紹介患者様氏名 | P33: 紹介元 | U33: 処置実施者 | AA33: 処置内容
E34: 様 | O34: 様 | Z34: 様
A35: 本日の検査 | F35: 検査内容 | K35: 処置実施者 | P35: 処置内容 | Z35: 様
A36: 大森 直樹 | E36: 様 | F36: 血液検査 | K36: 鈴木 寛二 | O36: 様 | P36: ゼプリオン150㎎ 1セット | Z36: 様
A37: 鈴木 勝子 | E37: 様 | F37: 血液検査 | O37: 様 | Z37: 様
A38: 武内 隆三 | E38: 様 | F38: 血液検査 | O38: 様 | Z38: 様
A39: 駒澤 キヤ | E39: 様 | F39: 血液検査 | O39: 様 | U39: 点検項目
A40: 吉田 佑子 | E40: 様 | F40: 血液検査 | O40: 様 | U40: 項目 | Z40: 時間 | AC40: 点検者
A41: 発熱 | F41: 下痢 | K41: 風邪薬 | P41: 男性：27 | U41: 医療廃棄物 | Y41: 0.75 | AB41: 石原 恵海
A42: 0 | F42: 0 | K42: 0 | P42: 女性：37 | U42: 戸締り | Y42: 0.75 | AB42: 松林 久美子
A44: 備考欄 | C44: （連絡事項・処方変更・その他）
G45: 特になし
G46: 石原

Sheet 9
B1: クリニック 日 誌 | H1: 令和 | J1: ='6'!J1 -> 3 | K1: 年 | L1: 6 | M1: 月 | N1: 9 | O1: 日 | Q1: （ | R1: 水 | S1: ） | V1: COO | Y1: IOO | AB1: AOM
A3: 勤務者名
A4: ='6'!A4:F4 -> 中村 恵理子 | G4: 日 | I4: 柳田 美雪 | N4: 日 | Q4: 診察室 | W4: 外来担当医 | Z4: 外来介助者
A5: 石原 恵海 | G5: 日 | I5: 石谷 美代子 | N5: 欠 | Q5: 第１診察室 | U5: 千葉 潜 | Z5: 石原
A6: 松林 久美子 | G6: 日 | I6: 堀 安由美 | N6: 日 | Q6: 第２診察室 | U6: 坂田 優 | Z6: 恵谷
B8: 新 | C8: 再 | D8: 精 | E8: 内 | F8: 処 | G8: 患者様氏名 | L8: 新 | M8: 再 | N8: 精 | O8: 内 | P8: 処 | Q8: 患者様氏名 | V8: 新 | W8: 再 | X8: 精 | Y8: 内 | Z8: 処 | AA8: 患者様氏名
A9: 1 | C9: ・ | D9: ・ | F9: 30 | G9: 小笠原 雅義 | J9: 様 | K9: 2 | M9: ・ | N9: ・ | P9: 30 | Q9: 角 茜莉 | T9: 様 | U9: 3 | W9: ・ | X9: ・ | Z9: 0 | AA9: 工藤 健壽 | AD9: 様
A10: 4 | C10: ・ | D10: ・ | F10: 28 | G10: 角 正一郎 | J10: 様 | K10: 5 | M10: ・ | N10: ・ | P10: 28 | Q10: 沖田 千喜子 | T10: 様 | U10: 6 | W10: ・ | X10: ・ | Z10: 0 | AA10: 高村 加津子 | AD10: 様
A11: 7 | C11: ・ | D11: ・ | F11: 56 | G11: 種市 紀子 | J11: 様 | K11: 8 | M11: ・ | N11: ・ | P11: 28 | Q11: 吹越 幸子 | T11: 様 | U11: 9 | W11: ・ | X11: ・ | Z11: 0 | AA11: 山本 伸子 | AD11: 様
A12: 10 | C12: ・ | D12: ・ | F12: 42 | G12: 種市 悦子 | J12: 様 | K12: 11 | M12: ・ | N12: ・ | P12: 30 | Q12: 藤原 チイ | T12: 様 | U12: 12 | W12: ・ | X12: ・ | Z12: 28 | AA12: 田口 トシ子 | AD12: 様
A13: 13 | C13: ・ | D13: ・ | F13: 56 | G13: 滝田 正治 | J13: 様 | K13: 14 | L13: ・ | N13: ・ | P13: 0 | Q13: 五代儀 禮子 | T13: 様 | U13: 15 | W13: ・ | X13: ・ | Z13: 0 | AA13: 綿貫 啓子 | AD13: 様
A14: 16 | C14: ・ | D14: ・ | F14: 28 | G14: 水上 民一 | J14: 様 | K14: 17 | M14: ・ | N14: ・ | P14: 28 | Q14: 松林 朋子 | T14: 様 | U14: 18 | W14: ・ | X14: ・ | Z14: 0 | AA14: 沼端 ミセ | AD14: 様
A15: 19 | C15: ・ | D15: ・ | F15: 30 | G15: 飯田 昭子 | J15: 様 | K15: 20 | M15: ・ | N15: ・ | P15: 28 | Q15: 赤沼 信克 | T15: 様 | U15: 21 | W15: ・ | X15: ・ | Z15: 0 | AA15: 山口 瑛子 | AD15: 様
A16: 22 | C16: ・ | D16: ・ | F16: 56 | G16: 川村 ふさ | J16: 様 | K16: 23 | M16: ・ | N16: ・ | P16: 28 | Q16: 種市 スエ | T16: 様 | U16: 24 | W16: ・ | X16: ・ | Z16: 0 | AA16: 深町 栄美子 | AD16: 様
A17: 25 | C17: ・ | D17: ・ | F17: 14 | G17: 佐藤 有紗 | J17: 様 | K17: 26 | M17: ・ | N17: ・ | P17: 30 | Q17: 菅原 百合子 | T17: 様 | U17: 27 | W17: ・ | X17: ・ | Z17: 0 | AA17: 大木 久子 | AD17: 様
A18: 28 | C18: ・ | D18: ・ | F18: 56 | G18: 宮古 月菜 | J18: 様 | K18: 29 | M18: ・ | N18: ・ | P18: 28 | Q18: 高山 かぢ子 | T18: 様 | U18: 30 | W18: ・ | X18: ・ | Z18: 0 | AA18: 藤田 絢三 | AD18: 様
A19: 31 | C19: ・ | D19: ・ | F19: 28 | G19: 貝塚 一忠 | J19: 様 | K19: 32 | M19: ・ | N19: ・ | P19: 28 | Q19: 沼尾 弘美 | T19: 様 | U19: 33 | W19: ・ | X19: ・ | Z19: 0 | AA19: 萠出 きのゑ | AD19: 様
A20: 34 | C20: ・ | D20: ・ | F20: 28 | G20: 岡山 キミ | J20: 様 | K20: 35 | M20: ・ | N20: ・ | P20: 90 | Q20: 吉田 ヒデ | T20: 様 | U20: 36 | W20: ・ | X20: ・ | Z20: 0 | AA20: 萠出 克治 | AD20: 様
A21: 37 | C21: ・ | D21: ・ | F21: 28 | G21: 石井 佐代子 | J21: 様 | K21: 38 | M21: ・ | N21: ・ | P21: 28 | Q21: 原田 千鴻 | T21: 様 | U21: 39 | W21: ・ | X21: ・ | Z21: 0 | AA21: 豊川 洋子 | AD21: 様
A22: 40 | C22: ・ | D22: ・ | F22: 30 | G22: 相内 京子 | J22: 様 | K22: 41 | M22: ・ | N22: ・ | P22: 28 | Q22: 宮崎 真一 | T22: 様 | U22: 42 | W22: ・ | X22: ・ | Z22: 0 | AA22: 杉山 博子 | AD22: 様
A23: 43 | C23: ・ | D23: ・ | F23: 28 | G23: 浦田 きよみ | J23: 様 | K23: 44 | M23: ・ | N23: ・ | P23: 28 | Q23: 佐々木 りせ子 | T23: 様 | U23: 45 | W23: ・ | X23: ・ | Z23: 0 | AA23: 石ケ谷 數子 | AD23: 様
A24: 46 | C24: ・ | D24: ・ | F24: 30 | G24: 佐藤 務 | J24: 様 | K24: 47 | M24: ・ | N24: ・ | P24: 14 | Q24: 末竹 秀子 | T24: 様 | U24: 48 | W24: ・ | X24: ・ | Z24: 0 | AA24: 相田 敏子 | AD24: 様
A25: 49 | C25: ・ | D25: ・ | F25: 28 | G25: 川久保 一茂 | J25: 様 | K25: 50 | M25: ・ | N25: ・ | P25: 14 | Q25: 川村 魁人 | T25: 様 | U25: 51 | W25: ・ | X25: ・ | Z25: 0 | AA25: 瀬川 高雄 | AD25: 様
... A32: 70 | C32: ・ | D32: ・ | F32: 28 | G32: 阿部 勝廣 | J32: 様 | K32: 71 | M32: ・ | N32: ・ | P32: 0 | Q32: 佐藤 初男 | T32: 様 | U32: 72 | W32: ・ | X32: ・ | Z32: 28 | AA32: 工藤 幸子 | AD32: 様
A33: 73 | C33: ・ | D33: ・ | F33: 28 | G33: 花田 裕二朗 | J33: 様 | K33: 74 | M33: ・ | N33: ・ | P33: 30 | Q33: 瀬間 義大 | T33: 様 | U33: 75 | AD33: 様
A34: 外来患者数 | E34: 新： | F34: =COUNTIF(B9:B33,"・")+COUNTIF(L9:L33,"・")+COUNTIF(V9:V33,"・") -> 1 | H34: 名 | I34: 再： | J34: =COUNTIF(C9:C33,"・")+COUNTIF(M9:M33,"・")+COUNTIF(W9:W33,"・") -> 73 | L34: 名 | M34: 計： | N34: =SUM(F34:K34) -> 74 | Q34: 名 | R34: （ | S34: 精： | T34: =COUNTIF(D9:D33,"・")+COUNTIF(N9:N33,"・")+COUNTIF(X9:X33,"・") -> 74 | W34: 名 | X34: ・ | Y34: 内： | Z34: =COUNTIF(E9:E33,"・")+COUNTIF(O9:O33,"・")+COUNTIF(Y9:Y33,"・") -> 0 | AC34: 名 | AD34: ）
A36: 紹介患者様氏名 | F36: 紹介先 | K36: 逆紹介患者様氏名 | P36: 紹介元 | U36: 処置実施者 | AA36: 処置内容
E37: 様 | O37: 様 | Z37: 様
A38: 本日の検査 | F38: 検査内容 | K38: 処置実施者 | P38: 処置内容 | Z38: 様
A39: 高村 加津子 | E39: 様 | F39: 血液検査 | K39: 川村 魁人 | O39: 様 | P39: ハロマンス(100) 1A | Z39: 様
A40: 五代儀 禮子 | E40: 様 | F40: HDS-R MMSE 血液検査 | O40: 様 | Z40: 様
A41: 赤沼 信克 | E41: 様 | F41: 血液検査 | O41: 様 | Z41: 様
A42: 沖田 千喜子 | E42: 様 | F42: 血液検査 | O42: 様 | U42: 点検項目
E43: 様 | O43: 様 | U43: 項目 | Z43: 時間 | AC43: 点検者
A44: 発熱 | F44: 下痢 | K44: 風邪薬 | P44: 男性：29 | U44: 医療廃棄物 | Y44: 0.75 | AB44: 石原 恵海
A45: 0 | F45: 0 | K45: 0 | P45: 女性：45 | U45: 戸締り | Y45: 0.75 | AB45: ='6'!AB49:AD49 -> 中村 恵理子
A47: 備考欄 | C47: （連絡事項・処方変更・その他）
G48: 特になし
G49: 石原

Sheet 10
B1: クリニック 日 誌 | H1: 令和 | J1: ='6'!J1 -> 3 | K1: 年 | L1: 6 | M1: 月 | N1: 10 | O1: 日 | Q1: （ | R1: 木 | S1: ） | V1: COO | Y1: IOO | AB1: AOM
A3: 勤務者名
A4: ='6'!A4:F4 -> 中村 恵理子 | G4: 日 | I4: 柳田 美雪 | N4: 年 | Q4: 診察室 | W4: 外来担当医 | Z4: 外来介助者
A5: 石原 恵海 | G5: 日 | I5: 石谷 美代子 | N5: 欠 | Q5: 第１診察室 | U5: 千葉/馬渡 | Z5: 石原
A6: 松林 久美子 | G6: 日 | Q6: 第２診察室
B8: 新 | C8: 再 | D8: 精 | E8: 内 | F8: 処 | G8: 患者様氏名 | L8: 新 | M8: 再 | N8: 精 | O8: 内 | P8: 処 | Q8: 患者様氏名 | V8: 新 | W8: 再 | X8: 精 | Y8: 内 | Z8: 処 | AA8: 患者様氏名
A9: 1 | C9: ・ | D9: ・ | F9: 35 | G9: 日下 勉 | J9: 様 | K9: 2 | M9: ・ | N9: ・ | P9: 28 | Q9: 沼山 かおる | T9: 様 | U9: 3 | W9: ・ | X9: ・ | Z9: 0 | AA9: 工藤 健壽 | AD9: 様
A10: 4 | C10: ・ | D10: ・ | F10: 30 | G10: 戸村 節子 | J10: 様 | K10: 5 | M10: ・ | N10: ・ | P10: 56 | Q10: 金ケ崎 眞子 | T10: 様 | U10: 6 | W10: ・ | X10: ・ | Z10: 0 | AA10: 高村 加津子 | AD10: 様
A11: 7 | C11: ・ | D11: ・ | F11: 30 | G11: 小比類巻 栄子 | J11: 様 | K11: 8 | M11: ・ | N11: ・ | P11: 28 | Q11: 清野 ヨシエ | T11: 様 | U11: 9 | W11: ・ | X11: ・ | Z11: 0 | AA11: 山口 瑛子 | AD11: 様
A12: 10 | C12: ・ | D12: ・ | F12: 30 | G12: 冨田 扶美子 | J12: 様 | K12: 11 | M12: ・ | N12: ・ | P12: 28 | Q12: 長谷地 トキ | T12: 様 | U12: 12 | W12: ・ | X12: ・ | Z12: 0 | AA12: 綿貫 啓子 | AD12: 様
A13: 13 | C13: ・ | D13: ・ | F13: 28 | G13: 小笠原 光俊 | J13: 様 | K13: 14 | M13: ・ | N13: ・ | P13: 28 | Q13: 島名 恵子 | T13: 様 | U13: 15 | W13: ・ | X13: ・ | Z13: 0 | AA13: 田口 トシ子 | AD13: 様
A14: 16 | C14: ・ | D14: ・ | F14: 28 | G14: 市川 エミ子 | J14: 様 | K14: 17 | M14: ・ | N14: ・ | P14: 30 | Q14: 舛田 良子 | T14: 様 | U14: 18 | W14: ・ | X14: ・ | Z14: 0 | AA14: 瀬川 高雄 | AD14: 様
A15: 19 | C15: ・ | D15: ・ | F15: 28 | G15: 川原 明 | J15: 様 | K15: 20 | M15: ・ | N15: ・ | P15: 7 | Q15: 中居 敬悦 | T15: 様 | U15: 21 | W15: ・ | X15: ・ | Z15: 0 | AA15: 大木 久子 | AD15: 様
A16: 22 | C16: ・ | D16: ・ | F16: 28 | G16: 安村 恵 | J16: 様 | K16: 23 | M16: ・ | N16: ・ | P16: 30 | Q16: 沼山 裕一 | T16: 様 | U16: 24 | W16: ・ | X16: ・ | Z16: 0 | AA16: 藤田 絢三 | AD16: 様
A17: 25 | C17: ・ | D17: ・ | F17: 28 | G17: 小鷹 聡 | J17: 様 | K17: 26 | M17: ・ | N17: ・ | P17: 28 | Q17: 鷹架 イチ | T17: 様 | U17: 27 | W17: ・ | X17: ・ | Z17: 0 | AA17: 相田 敏子 | AD17: 様
A18: 28 | C18: ・ | D18: ・ | F18: 14 | G18: 織笠 勝男 | J18: 様 | K18: 29 | M18: ・ | N18: ・ | P18: 30 | Q18: 遠藤 ひとみ | T18: 様 | U18: 30 | W18: ・ | X18: ・ | Z18: 0 | AA18: 坂本 政勝 | AD18: 様
A19: 31 | C19: ・ | D19: ・ | F19: 28 | G19: 長谷川 友和 | J19: 様 | K19: 32 | M19: ・ | N19: ・ | P19: 32 | Q19: 櫻田 清志 | T19: 様 | U19: 33 | W19: ・ | X19: ・ | Z19: 0 | AA19: 佐々木 政夫 | AD19: 様
A20: 34 | C20: ・ | D20: ・ | F20: 28 | G20: 中村 のり子 | J20: 様 | K20: 35 | M20: ・ | N20: ・ | P20: 28 | Q20: 小笠原 由美子 | T20: 様 | U20: 36 | W20: ・ | X20: ・ | Z20: 0 | AA20: 山本 伸子 | AD20: 様
... A23: 43 | C23: ・ | D23: ・ | F23: 30 | G23: 馬場 ハツヨ | J23: 様 | K23: 44 | M23: ・ | N23: ・ | P23: 30 | Q23: 佐々木 榮 | T23: 様 | U23: 45 | W23: ・ | X23: ・ | Z23: 0 | AA23: 安部 信祥 | AD23: 様
A24: 46 | C24: ・ | D24: ・ | F24: 28 | G24: 太田 志緒 | J24: 様 | K24: 47 | M24: ・ | N24: ・ | P24: 14 | Q24: 小原 哲哉 | T24: 様 | U24: 48 | V24: ・ | X24: ・ | Z24: 0 | AA24: 苅谷 勝俊 | AD24: 様
A25: 49 | C25: ・ | D25: ・ | F25: 30 | G25: 小笠原 琴葉 | J25: 様 | K25: 50 | M25: ・ | N25: ・ | P25: 28 | Q25: 村上 トクヱ | T25: 様 | U25: 51 | V25: ・ | X25: ・ | Z25: 14 | AA25: 狩野 智 | AD25: 様
A26: 52 | C26: ・ | D26: ・ | F26: 28 | G26: 野々宮 俊江 | J26: 様 | K26: 53 | M26: ・ | N26: ・ | P26: 0 | Q26: 橘 大進 | T26: 様 | U26: 54 | AD26: 様
A27: 外来患者数 | E27: 新： | F27: =COUNTIF(B9:B26,"・")+COUNTIF(L9:L26,"・")+COUNTIF(V9:V26,"・") -> 2 | H27: 名 | I27: 再： | J27: =COUNTIF(C9:C26,"・")+COUNTIF(M9:M26,"・")+COUNTIF(W9:W26,"・") -> 51 | L27: 名 | M27: 計： | N27: =SUM(F27:K27) -> 53 | Q27: 名 | R27: （ | S27: 精： | T27: =COUNTIF(D9:D26,"・")+COUNTIF(N9:N26,"・")+COUNTIF(X9:X26,"・") -> 53 | W27: 名 | X27: ・ | Y27: 内： | Z27: =COUNTIF(E9:E26,"・")+COUNTIF(O9:O26,"・")+COUNTIF(Y9:Y26,"・") -> 0 | AC27: 名 | AD27: ）
A29: 紹介患者様氏名 | F29: 紹介先 | K29: 逆紹介患者様氏名 | P29: 紹介元 | U29: 処置実施者 | AA29: 処置内容
E30: 様 | O30: 様 | Z30: 様
E31: 様 | O31: 様 | Z31: 様
A32: 本日の検査 | F32: 検査内容 | K32: 処置実施者 | P32: 処置内容 | Z32: 様
A33: 小比類巻 栄子 | E33: 様 | F33: 血液検査 | O33: 様 | Z33: 様
A34: 冨田 扶美子 | E34: 様 | F34: 血液検査 | O34: 様 | Z34: 様
A35: 橘 大進 | E35: 様 | F35: AQ | O35: 様 | Z35: 様
A36: 狩野 智 | E36: 様 | F36: CMI 血液検査 | O36: 様 | U36: 点検項目
A37: 苅谷 勝俊 | E37: 様 | F37: HDS-R MMSE | O37: 様 | U37: 項目 | Z37: 時間 | AC37: 点検者
A38: 発熱 | F38: 下痢 | K38: 風邪薬 | P38: 男性：22 | U38: 医療廃棄物 | Y38: 0.75 | AB38: 恵谷 愛
A39: 0 | F39: 0 | K39: 0 | P39: 女性：32 | U39: 戸締り | Y39: 0.75 | AB39: 松林 久美子
A41: 備考欄 | C41: （連絡事項・処方変更・その他）
G42: 特記なし
G43: 恵谷 愛

Sheet 11
B1: クリニック 日 誌 | H1: 令和 | J1: ='6'!J1 -> 3 | K1: 年 | L1: 6 | M1: 月 | N1: 11 | O1: 日 | Q1: （ | R1: 金 | S1: ） | V1: COO | Y1: IOO | AB1: AOM
A3: 勤務者名
A4: ='6'!A4:F4 -> 中村 恵理子 | G4: 日 | I4: 柳田 美雪 | N4: 年 | Q4: 診察室 | W4: 外来担当医 | Z4: 外来介助者
A5: 石原 恵海 | G5: 日 | I5: 石谷 美代子 | N5: 欠 | Q5: 第１診察室 | U5: 金 泰徳 | Z5: 石原
A6: 松林 久美子 | G6: 日 | Q6: 第２診察室 | U6: 千葉 良 | Z6: 石原
B8: 新 | C8: 再 | D8: 精 | E8: 内 | F8: 処 | G8: 患者様氏名 | L8: 新 | M8: 再 | N8: 精 | O8: 内 | P8: 処 | Q8: 患者様氏名 | V8: 新 | W8: 再 | X8: 精 | Y8: 内 | Z8: 処 | AA8: 患者様氏名
A9: 1 | C9: ・ | D9: ・ | F9: 28 | G9: 中村 善治 | J9: 様 | K9: 2 | M9: ・ | N9: ・ | P9: 14 | Q9: 高島 輝子 | T9: 様 | U9: 3 | W9: ・ | X9: ・ | Z9: 0 | AA9: 中川原 いさ | AD9: 様
A10: 4 | C10: ・ | D10: ・ | F10: 30 | G10: 根岸 十三 | J10: 様 | K10: 5 | M10: ・ | N10: ・ | P10: 35 | Q10: 吉田 浩 | T10: 様 | U10: 6 | W10: ・ | X10: ・ | Z10: 0 | AA10: 山本 伸子 | AD10: 様
A11: 7 | C11: ・ | D11: ・ | F11: 42 | G11: 柳平 ミセ | J11: 様 | K11: 8 | L11: ・ | N11: ・ | P11: 7 | Q11: 鶴ケ崎 智香 | T11: 様 | U11: 9 | W11: ・ | X11: ・ | Z11: 0 | AA11: 綿貫 啓子 | AD11: 様
A12: 10 | C12: ・ | D12: ・ | F12: 30 | G12: 佐々木 光政 | J12: 様 | K12: 11 | M12: ・ | N12: ・ | P12: 30 | Q12: 増沢 修一 | T12: 様 | U12: 12 | W12: ・ | X12: ・ | Z12: 0 | AA12: 瀬川 高雄 | AD12: 様
A13: 13 | C13: ・ | D13: ・ | F13: 30 | G13: 萠出 きのゑ | J13: 様 | K13: 14 | M13: ・ | N13: ・ | P13: 30 | Q13: 冨田 未歩 | T13: 様 | U13: 15 | W13: ・ | X13: ・ | Z13: 0 | AA13: 山口 瑛子 | AD13: 様
A14: 16 | C14: ・ | D14: ・ | F14: 42 | G14: 杉山 博子 | J14: 様 | K14: 17 | M14: ・ | N14: ・ | P14: 0 | Q14: 小西 チヨ | T14: 様 | U14: 18 | W14: ・ | X14: ・ | Z14: 0 | AA14: 沼端 ミセ | AD14: 様
A15: 19 | C15: ・ | D15: ・ | F15: 28 | G15: 大平 陸 | J15: 様 | K15: 20 | M15: ・ | N15: ・ | P15: 28 | Q15: 長峯 チエ | T15: 様 | U15: 21 | W15: ・ | X15: ・ | Z15: 0 | AA15: 千葉 スワ | AD15: 様
A16: 22 | C16: ・ | D16: ・ | F16: 60 | G16: 一戸 ヒデ | J16: 様 | K16: 23 | M16: ・ | N16: ・ | P16: 30 | Q16: 種市 典子 | T16: 様 | U16: 24 | W16: ・ | X16: ・ | Z16: 0 | AA16: 工藤 健壽 | AD16: 様
A17: 25 | C17: ・ | D17: ・ | F17: 14 | G17: 藤田 絢三 | J17: 様 | K17: 26 | M17: ・ | N17: ・ | P17: 60 | Q17: 道場 とみゑ | T17: 様 | U17: 27 | W17: ・ | X17: ・ | Z17: 0 | AA17: 高村 加津子 | AD17: 様
A18: 28 | C18: ・ | D18: ・ | F18: 28 | G18: 岩間 ツネ | J18: 様 | K18: 29 | M18: ・ | N18: ・ | P18: 30 | Q18: 畑内 幸子 | T18: 様 | U18: 30 | W18: ・ | X18: ・ | Z18: 0 | AA18: 田口 トシ子 | AD18: 様
A19: 31 | C19: ・ | D19: ・ | F19: 28 | G19: 伊藤 よし子 | J19: 様 | K19: 32 | M19: ・ | N19: ・ | P19: 28 | Q19: 新戸部 ミヨ | T19: 様 | U19: 33 | W19: ・ | X19: ・ | Z19: 0 | AA19: 深町 栄美子 | AD19: 様
A20: 34 | C20: ・ | D20: ・ | F20: 60 | G20: 類家 せき | J20: 様 | K20: 35 | M20: ・ | N20: ・ | P20: 63 | Q20: 小泉 進 | T20: 様 | U20: 36 | W20: ・ | X20: ・ | Z20: 0 | AA20: 大木 久子 | AD20: 様
A21: 37 | C21: ・ | D21: ・ | F21: 28 | G21: 川村 妙子 | J21: 様 | K21: 38 | M21: ・ | N21: ・ | P21: 42 | Q21: 堤 富美子 | T21: 様 | U21: 39 | W21: ・ | X21: ・ | Z21: 0 | AA21: 萠出 克治 | AD21: 様
A22: 40 | C22: ・ | D22: ・ | F22: 30 | G22: 久保 トク | J22: 様 | K22: 41 | M22: ・ | N22: ・ | P22: 28 | Q22: 苅谷 れい子 | T22: 様 | U22: 42 | W22: ・ | X22: ・ | Z22: 0 | AA22: 渡辺 クニ | AD22: 様
A23: 43 | C23: ・ | D23: ・ | F23: 28 | G23: 舩山 ゆかり | J23: 様 | K23: 44 | M23: ・ | N23: ・ | P23: 30 | Q23: 高橋 千佳 | T23: 様 | U23: 45 | W23: ・ | X23: ・ | Z23: 0 | AA23: 石井 佐代子 | AD23: 様
... A32: 70 | C32: ・ | D32: ・ | F32: 60 | G32: 十枝内 一希 | J32: 様 | K32: 71 | M32: ・ | N32: ・ | P32: 21 | Q32: 熊野 富美子 | T32: 様 | U32: 72 | W32: ・ | X32: ・ | Z32: 30 | AA32: 能登谷 鑑 | AD32: 様
A33: 73 | C33: ・ | D33: ・ | F33: 42 | G33: 山辺 博彦 | J33: 様 | K33: 74 | M33: ・ | N33: ・ | P33: 30 | Q33: 古山 瑞桔 | T33: 様 | U33: 75 | AD33: 様
A34: 外来患者数 | E34: 新： | F34: =COUNTIF(B9:B33,"・")+COUNTIF(L9:L33,"・")+COUNTIF(V9:V33,"・") -> 1 | H34: 名 | I34: 再： | J34: =COUNTIF(C9:C33,"・")+COUNTIF(M9:M33,"・")+COUNTIF(W9:W33,"・") -> 73 | L34: 名 | M34: 計： | N34: =SUM(F34:K34) -> 74 | Q34: 名 | R34: （ | S34: 精： | T34: =COUNTIF(D9:D33,"・")+COUNTIF(N9:N33,"・")+COUNTIF(X9:X33,"・") -> 74 | W34: 名 | X34: ・ | Y34: 内： | Z34: =COUNTIF(E9:E33,"・")+COUNTIF(O9:O33,"・")+COUNTIF(Y9:Y33,"・") -> 0 | AC34: 名 | AD34: ）
A36: 紹介患者様氏名 | F36: 紹介先 | K36: 逆紹介患者様氏名 | P36: 紹介元 | U36: 処置実施者 | AA36: 処置内容
A37: 小西 チヨ | E37: 様 | F37: 三沢市立病院 | O37: 様 | Z37: 様
E38: 様 | O38: 様 | Z38: 様
A39: 本日の検査 | F39: 検査内容 | K39: 処置実施者 | P39: 処置内容 | Z39: 様
A40: 山本 キヨ | E40: 様 | F40: HDS-R MMSE | K40: 鶴ケ崎 智香 | O40: 様 | P40: ソリタ500ｍｌ+アスコルビン1A+ダイビタミックス1A | Z40: 様
E41: 様 | Z41: 様
E42: 様 | O42: 様 | U42: 点検項目
E43: 様 | O43: 様 | U43: 項目 | Z43: 時間 | AC43: 点検者
A44: 発熱 | F44: 下痢 | K44: 風邪薬 | P44: 男性： | U44: 医療廃棄物 | Y44: 0.75 | AB44: 恵谷 愛
A45: 0 | F45: 0 | K45: 0 | P45: 女性： | U45: 戸締り | Y45: 0.75 | AB45: 松林 久美子
A47: 備考欄 | C47: （連絡事項・処方変更・その他）
G48: 特になし
G49: 石原

Sheet 12
B1: クリニック 日 誌 | H1: 令和 | J1: ='6'!J1 -> 3 | K1: 年 | L1: 6 | M1: 月 | N1: 12 | O1: 日 | Q1: （ | S1: ） | V1: COO | Y1: IOO | AB1: AOM
A3: 勤務者名
A4: ='6'!A4:F4 -> 中村 恵理子 | G4: 日 | I4: 柳田 美雪 | N4: 日 | Q4: 診察室 | W4: 外来担当医 | Z4: 外来介助者
A5: 石原 恵海 | G5: 日 | I5: 石谷 美代子 | N5: 欠 | Q5: 第１診察室 | U5: 千葉 潜 | Z5: 柳田・石原
A6: 松林 久美子 | G6: 日 | Q6: 第２診察室 | U6: 坂田 優 | Z6: 柳田
B8: 新 | C8: 再 | D8: 精 | E8: 内 | F8: 処 | G8: 患者様氏名 | L8: 新 | M8: 再 | N8: 精 | O8: 内 | P8: 処 | Q8: 患者様氏名 | V8: 新 | W8: 再 | X8: 精 | Y8: 内 | Z8: 処 | AA8: 患者様氏名
A9: 1 | J9: 様 | K9: 2 | T9: 様 | U9: 3 | AD9: 様
A10: 4 | J10: 様 | K10: 5 | T10: 様 | U10: 6 | AD10: 様
A11: 7 | J11: 様 | K11: 8 | T11: 様 | U11: 9 | AD11: 様
A12: 10 | J12: 様 | K12: 11 | T12: 様 | U12: 12 | AD12: 様
A13: 13 | J13: 様 | K13: 14 | T13: 様 | U13: 15 | AD13: 様
A14: 16 | J14: 様 | K14: 17 | T14: 様 | U14: 18 | AD14: 様
A15: 19 | J15: 様 | K15: 20 | T15: 様 | U15: 21 | AD15: 様
A16: 22 | J16: 様 | K16: 23 | T16: 様 | U16: 24 | AD16: 様
A17: 25 | J17: 様 | K17: 26 | T17: 様 | U17: 27 | AD17: 様
A18: 28 | J18: 様 | K18: 29 | T18: 様 | U18: 30 | AD18: 様
A19: 31 | J19: 様 | K19: 32 | T19: 様 | U19: 33 | AD19: 様
A20: 34 | J20: 様 | K20: 35 | T20: 様 | U20: 36 | AD20: 様
... A33: 73 | J33: 様 | K33: 74 | T33: 様 | U33: 75 | AD33: 様
A34: 外来患者数 | E34: 新： | F34: =COUNTIF(B9:B33,"・")+COUNTIF(L9:L33,"・")+COUNTIF(V9:V33,"・") -> 0 | H34: 名 | I34: 再： | J34: =COUNTIF(C9:C33,"・")+COUNTIF(M9:M33,"・")+COUNTIF(W9:W33,"・") -> 0 | L34: 名 | M34: 計： | N34: =SUM(F34:K34) -> 0 | Q34: 名 | R34: （ | S34: 精： | T34: =COUNTIF(D9:D33,"・")+COUNTIF(N9:N33,"・")+COUNTIF(X9:X33,"・") -> 0 | W34: 名 | X34: ・ | Y34: 内： | Z34: =COUNTIF(E9:E33,"・")+COUNTIF(O9:O33,"・")+COUNTIF(Y9:Y33,"・") -> 0 | AC34: 名 | AD34: ）
A36: 紹介患者様氏名 | F36: 紹介先 | K36: 逆紹介患者様氏名 | P36: 紹介元 | U36: 処置実施者 | AA36: 処置内容
E37: 様 | O37: 様 | Z37: 様
E38: 様 | O38: 様 | Z38: 様
E39: 様 | O39: 様 | Z39: 様
E40: 様 | O40: 様 | Z40: 様
E41: 様 | O41: 様 | Z41: 様
A42: 本日の検査 | F42: 検査内容 | K42: 処置実施者 | P42: 処置内容 | Z42: 様
E43: 様 | O43: 様 | Z43: 様
E44: 様 | O44: 様 | Z44: 様
E45: 様 | O45: 様 | Z45: 様
E46: 様 | O46: 様 | U46: 点検項目
E47: 様 | O47: 様 | U47: 項目 | Z47: 時間 | AC47: 点検者
A48: 発熱 | F48: 下痢 | K48: 風邪薬 | P48: 男性： | U48: 医療廃棄物 | Y48: 0.75
A49: 0 | F49: 0 | K49: 0 | P49: 女性： | U49: 戸締り | Y49: 0.75 | AB49: ='6'!AB49:AD49 -> 中村 恵理子
A51: 備考欄 | C51: （連絡事項・処方変更・その他）

Sheet 13
B1: クリニック 日 誌 | H1: 令和 | J1: ='6'!J1 -> 3 | K1: 年 | L1: 6 | M1: 月 | N1: 13 | O1: 日 | Q1: （ | S1: ） | V1: COO | Y1: IOO | AB1: AOM
A3: 勤務者名
A4: ='6'!A4:F4 -> 中村 恵理子 | G4: 日 | I4: 柳田 美雪 | N4: 日 | Q4: 診察室 | W4: 外来担当医 | Z4: 外来介助者
A5: 石原 恵海 | G5: 日 | I5: 石谷 美代子 | N5: 欠 | Q5: 第１診察室 | U5: 千葉 潜 | Z5: 柳田・石原
A6: 松林 久美子 | G6: 日 | Q6: 第２診察室 | U6: 坂田 優 | Z6: 柳田
B8: 新 | C8: 再 | D8: 精 | E8: 内 | F8: 処 | G8: 患者様氏名 | L8: 新 | M8: 再 | N8: 精 | O8: 内 | P8: 処 | Q8: 患者様氏名 | V8: 新 | W8: 再 | X8: 精 | Y8: 内 | Z8: 処 | AA8: 患者様氏名
A9: 1 | J9: 様 | K9: 2 | T9: 様 | U9: 3 | AD9: 様
A10: 4 | J10: 様 | K10: 5 | T10: 様 | U10: 6 | AD10: 様
A11: 7 | J11: 様 | K11: 8 | T11: 様 | U11: 9 | AD11: 様
A12: 10 | J12: 様 | K12: 11 | T12: 様 | U12: 12 | AD12: 様
A13: 13 | J13: 様 | K13: 14 | T13: 様 | U13: 15 | AD13: 様
A14: 16 | J14: 様 | K14: 17 | T14: 様 | U14: 18 | AD14: 様
A15: 19 | J15: 様 | K15: 20 | T15: 様 | U15: 21 | AD15: 様
A16: 22 | J16: 様 | K16: 23 | T16: 様 | U16: 24 | AD16: 様
A17: 25 | J17: 様 | K17: 26 | T17: 様 | U17: 27 | AD17: 様
A18: 28 | J18: 様 | K18: 29 | T18: 様 | U18: 30 | AD18: 様
A19: 31 | J19: 様 | K19: 32 | T19: 様 | U19: 33 | AD19: 様
A20: 34 | J20: 様 | K20: 35 | T20: 様 | U20: 36 | AD20: 様
... A33: 73 | J33: 様 | K33: 74 | T33: 様 | U33: 75 | AD33: 様
A34: 外来患者数 | E34: 新： | F34: =COUNTIF(B9:B33,"・")+COUNTIF(L9:L33,"・")+COUNTIF(V9:V33,"・") -> 0 | H34: 名 | I34: 再： | J34: =COUNTIF(C9:C33,"・")+COUNTIF(M9:M33,"・")+COUNTIF(W9:W33,"・") -> 0 | L34: 名 | M34: 計： | N34: =SUM(F34:K34) -> 0 | Q34: 名 | R34: （ | S34: 精： | T34: =COUNTIF(D9:D33,"・")+COUNTIF(N9:N33,"・")+COUNTIF(X9:X33,"・") -> 0 | W34: 名 | X34: ・ | Y34: 内： | Z34: =COUNTIF(E9:E33,"・")+COUNTIF(O9:O33,"・")+COUNTIF(Y9:Y33,"・") -> 0 | AC34: 名 | AD34: ）
A36: 紹介患者様氏名 | F36: 紹介先 | K36: 逆紹介患者様氏名 | P36: 紹介元 | U36: 処置実施者 | AA36: 処置内容
E37: 様 | O37: 様 | Z37: 様
E38: 様 | O38: 様 | Z38: 様
E39: 様 | O39: 様 | Z39: 様
E40: 様 | O40: 様 | Z40: 様
E41: 様 | O41: 様 | Z41: 様
A42: 本日の検査 | F42: 検査内容 | K42: 処置実施者 | P42: 処置内容 | Z42: 様
E43: 様 | O43: 様 | Z43: 様
E44: 様 | O44: 様 | Z44: 様
E45: 様 | O45: 様 | Z45: 様
E46: 様 | O46: 様 | U46: 点検項目
E47: 様 | O47: 様 | U47: 項目 | Z47: 時間 | AC47: 点検者
A48: 発熱 | F48: 下痢 | K48: 風邪薬 | P48: 男性： | U48: 医療廃棄物 | Y48: 0.75
A49: 0 | F49: 0 | K49: 0 | P49: 女性： | U49: 戸締り | Y49: 0.75 | AB49: ='6'!AB49:AD49 -> 中村 恵理子
A51: 備考欄 | C51: （連絡事項・処方変更・その他）

Sheet 14
B1: クリニック 日 誌 | H1: 令和 | J1: ='6'!J1 -> 3 | K1: 年 | L1: 6 | M1: 月 | N1: 14 | O1: 日 | Q1: （ | R1: 月 | S1: ） | V1: COO | Y1: IOO | AB1: AOM
A3: 勤務者名
A4: ='6'!A4:F4 -> 中村 恵理子 | G4: 日 | I4: 柳田 美雪 | N4: 日 | Q4: 診察室 | W4: 外来担当医 | Z4: 外来介助者
A5: 石原 恵海 | G5: 日 | I5: 石谷 美代子 | N5: 欠 | Q5: 第１診察室 | U5: 千葉 潜 | Z5: 柳田・石原
A6: 松林 久美子 | G6: 日 | I6: 鳴海 彩香 | N6: 日 | Q6: 第２診察室 | U6: 坂田 優 | Z6: 柳田
B8: 新 | C8: 再 | D8: 精 | E8: 内 | F8: 処 | G8: 患者様氏名 | L8: 新 | M8: 再 | N8: 精 | O8: 内 | P8: 処 | Q8: 患者様氏名 | V8: 新 | W8: 再 | X8: 精 | Y8: 内 | Z8: 処 | AA8: 患者様氏名
A9: 1 | C9: ・ | E9: ・ | F9: 7 | G9: 宮崎 倫子 | J9: 様 | K9: 2 | M9: ・ | N9: ・ | P9: 56 | Q9: 窪田 清正 | T9: 様 | U9: 3 | W9: ・ | X9: ・ | Z9: 0 | AA9: 佐々木 ヨシ | AD9: 様
A10: 4 | C10: ・ | D10: ・ | F10: 28 | G10: 沼山 詩織 | J10: 様 | K10: 5 | M10: ・ | N10: ・ | P10: 28 | Q10: 沼山 明 | T10: 様 | U10: 6 | W10: ・ | X10: ・ | Z10: 0 | AA10: 高村 加津子 | AD10: 様
A11: 7 | C11: ・ | D11: ・ | F11: 5 | G11: 佐々木 令子 | J11: 様 | K11: 8 | M11: ・ | N11: ・ | P11: 56 | Q11: 野月 良江 | T11: 様 | U11: 9 | W11: ・ | X11: ・ | Z11: 0 | AA11: 沼端 ミセ | AD11: 様
A12: 10 | C12: ・ | D12: ・ | F12: 56 | G12: 山本 鉄弥 | J12: 様 | K12: 11 | M12: ・ | N12: ・ | P12: 42 | Q12: 花岸 良子 | T12: 様 | U12: 12 | W12: ・ | X12: ・ | Z12: 0 | AA12: 瀬川 高雄 | AD12: 様
A13: 13 | C13: ・ | D13: ・ | F13: 56 | G13: 和泉 貴雄 | J13: 様 | K13: 14 | M13: ・ | N13: ・ | P13: 28 | Q13: 林 礼子 | T13: 様 | U13: 15 | W13: ・ | X13: ・ | Z13: 0 | AA13: 深町 栄美子 | AD13: 様
A14: 16 | C14: ・ | D14: ・ | F14: 28 | G14: 河村 ミエ | J14: 様 | K14: 17 | M14: ・ | N14: ・ | P14: 30 | Q14: 割澤 夏子 | T14: 様 | U14: 18 | W14: ・ | X14: ・ | Z14: 0 | AA14: 萠出 克治 | AD14: 様
A15: 19 | C15: ・ | D15: ・ | F15: 14 | G15: 中崎 哲也 | J15: 様 | K15: 20 | M15: ・ | N15: ・ | P15: 14 | Q15: 蛯名 亜果音 | T15: 様 | U15: 21 | W15: ・ | X15: ・ | Z15: 0 | AA15: 萠出 きのゑ | AD15: 様
A16: 22 | C16: ・ | E16: ・ | F16: 60 | G16: 相内 照美 | J16: 様 | K16: 23 | M16: ・ | N16: ・ | P16: 0 | Q16: 竹内 瞳 | T16: 様 | U16: 24 | W16: ・ | X16: ・ | Z16: 0 | AA16: 山口 瑛子 | AD16: 様
A17: 25 | C17: ・ | D17: ・ | F17: 60 | G17: 和野 祥子 | J17: 様 | K17: 26 | M17: ・ | N17: ・ | P17: 28 | Q17: 大下内 英子 | T17: 様 | U17: 27 | W17: ・ | X17: ・ | Z17: 0 | AA17: 酒井 昌子 | AD17: 様
A18: 28 | C18: ・ | D18: ・ | F18: 14 | G18: 川村 武史 | J18: 様 | K18: 29 | M18: ・ | O18: ・ | P18: 5 | Q18: 小笠原 雅義 | T18: 様 | U18: 30 | W18: ・ | X18: ・ | Z18: 0 | AA18: 坂本 政勝 | AD18: 様
A19: 31 | C19: ・ | D19: ・ | F19: 28 | G19: 澤谷 翔太 | J19: 様 | K19: 32 | M19: ・ | N19: ・ | P19: 14 | Q19: 狩野 智 | T19: 様 | U19: 33 | W19: ・ | X19: ・ | Z19: 0 | AA19: 田口 トシ子 | AD19: 様
A20: 34 | C20: ・ | D20: ・ | F20: 14 | G20: 遠嶋 剛 | J20: 様 | K20: 35 | M20: ・ | N20: ・ | P20: 28 | Q20: 駒形 克斗 | T20: 様 | U20: 36 | W20: ・ | X20: ・ | Z20: 0 | AA20: 大木 久子 | AD20: 様
A21: 37 | C21: ・ | D21: ・ | F21: 14 | G21: 高橋 樹里杏 | J21: 様 | K21: 38 | M21: ・ | N21: ・ | P21: 28 | Q21: 工藤 敏子 | T21: 様 | U21: 39 | W21: ・ | X21: ・ | Z21: 0 | AA21: 藤田 絢三 | AD21: 様
A22: 40 | C22: ・ | D22: ・ | F22: 28 | G22: 稲部 亮子 | J22: 様 | K22: 41 | M22: ・ | N22: ・ | P22: 10 | Q22: 土橋 翔吾 | T22: 様 | U22: 42 | W22: ・ | X22: ・ | Z22: 0 | AA22: 杉山 博子 | AD22: 様
A23: 43 | B23: ・ | D23: ・ | F23: 14 | G23: 野坂 玲緒 | J23: 様 | K23: 44 | M23: ・ | N23: ・ | P23: 30 | Q23: 藤原 光子 | T23: 様 | U23: 45 | W23: ・ | X23: ・ | Z23: 0 | AA23: 相田 敏子 | AD23: 様
A24: 46 | C24: ・ | D24: ・ | F24: 28 | G24: 土岐 文枝 | J24: 様 | K24: 47 | M24: ・ | N24: ・ | P24: 30 | Q24: 村松 真由美 | T24: 様 | U24: 48 | W24: ・ | X24: ・ | Z24: 0 | AA24: 渡辺 クニ | AD24: 様
A25: 49 | C25: ・ | D25: ・ | F25: 30 | G25: 近藤 祥也 | J25: 様 | K25: 50 | M25: ・ | N25: ・ | P25: 30 | Q25: 星 歩 | T25: 様 | U25: 51 | W25: ・ | X25: ・ | Z25: 0 | AA25: 中村 としゑ | AD25: 様
A26: 52 | C26: ・ | D26: ・ | F26: 0 | G26: 寺下 香澄 | J26: 様 | K26: 53 | L26: ・ | N26: ・ | P26: 28 | Q26: 指田 日菜子 | T26: 様 | U26: 54 | W26: ・ | X26: ・ | Z26: 30 | AA26: 木村 健一 | AD26: 様
A27: 55 | C27: ・ | D27: ・ | F27: 30 | G27: 柏木 霞邑 | J27: 様 | K27: 56 | M27: ・ | N27: ・ | P27: 30 | Q27: 奈良 涼花 | T27: 様 | U27: 57 | W27: ・ | X27: ・ | Z27: 30 | AA27: 樋口 敦也 | AD27: 様
A28: 58 | C28: ・ | D28: ・ | F28: 30 | G28: 増田 大和 | J28: 様 | K28: 59 | M28: ・ | N28: ・ | P28: 7 | Q28: 木村 羽美 | T28: 様 | U28: 60 | V28: ・ | X28: ・ | Z28: 28 | AA28: 野呂 結花 | AD28: 様
A29: 61 | C29: ・ | D29: ・ | F29: 30 | G29: 井石 大雅 | J29: 様 | K29: 62 | M29: ・ | N29: ・ | P29: 30 | Q29: 乙部 孝太 | T29: 様 | U29: 63 | W29: ・ | X29: ・ | Z29: 0 | AA29: 中居 敬悦 | AD29: 様
A30: 64 | C30: ・ | D30: ・ | F30: 14 | G30: 大西 真紀子 | J30: 様 | K30: 65 | T30: 様 | U30: 66 | AD30: 様
A31: 外来患者数 | E31: 新： | F31: =COUNTIF(B9:B30,"・")+COUNTIF(L9:L30,"・")+COUNTIF(V9:V30,"・") -> 3 | H31: 名 | I31: 再： | J31: =COUNTIF(C9:C30,"・")+COUNTIF(M9:M30,"・")+COUNTIF(W9:W30,"・") -> 61 | L31: 名 | M31: 計： | N31: =SUM(F31:K31) -> 64 | Q31: 名 | R31: （ | S31: 精： | T31: =COUNTIF(D9:D30,"・")+COUNTIF(N9:N30,"・")+COUNTIF(X9:X30,"・") -> 61 | W31: 名 | X31: ・ | Y31: 内： | Z31: =COUNTIF(E9:E30,"・")+COUNTIF(O9:O30,"・")+COUNTIF(Y9:Y30,"・") -> 3 | AC31: 名 | AD31: ）
A33: 紹介患者様氏名 | F33: 紹介先 | K33: 逆紹介患者様氏名 | P33: 紹介元 | U33: 処置実施者 | AA33: 処置内容
E34: 様 | K34: 野坂 玲緒 | O34: 様 | P34: 鈴木小児科内科クリニック | Z34: 様
A35: 本日の検査 | F35: 検査内容 | K35: 処置実施者 | P35: 処置内容 | Z35: 様
A36: 山本 鉄弥 | E36: 様 | F36: 血液検査 | K36: 蛯名 亜果音 | O36: 様 | P36: ソリタ500ｍｌ+アスコルビン1A+ダイビタミックス1A | Z36: 様
A37: 野坂 玲緒 | E37: 様 | F37: CMI | O37: 様 | Z37: 様
A38: 寺下 香澄 | E38: 様 | F38: 血液検査 | O38: 様 | Z38: 様
A39: 指田 日菜子 | E39: 様 | F39: CMI | O39: 様 | U39: 点検項目
A40: 野呂 結花 | E40: 様 | F40: CMI | O40: 様 | U40: 項目 | Z40: 時間 | AC40: 点検者
A41: 発熱 | F41: 下痢 | K41: 風邪薬 | P41: 男性：24 | U41: 医療廃棄物 | Y41: 0.75 | AB41: 石原 恵海
A42: 0 | F42: 0 | K42: 0 | P42: 女性：40 | U42: 戸締り | Y42: 0.75 | AB42: ='6'!AB49:AD49 -> 中村 恵理子
A44: 備考欄 | C44: （連絡事項・処方変更・その他）
G45: 特になし
G46: 石原

Sheet 15
B1: クリニック 日 誌 | H1: 令和 | J1: ='6'!J1 -> 3 | K1: 年 | L1: 6 | M1: 月 | N1: 15 | O1: 日 | Q1: （ | R1: 火 | S1: ） | V1: COO | Y1: IOO | AB1: AOM
A3: 勤務者名
A4: ='6'!A4:F4 -> 中村 恵理子 | G4: 日 | I4: 柳田 美雪 | N4: 日 | Q4: 診察室 | W4: 外来担当医 | Z4: 外来介助者
A5: 石原 恵海 | G5: 日 | I5: 石谷 美代子 | N5: 欠 | Q5: 第１診察室 | U5: 千葉 潜 | Z5: 柳田・石原
A6: 松林 久美子 | G6: 日 | I6: 鳴海 彩香 | N6: 日 | Q6: 第２診察室 | U6: 坂田 優 | Z6: 柳田
B8: 新 | C8: 再 | D8: 精 | E8: 内 | F8: 処 | G8: 患者様氏名 | L8: 新 | M8: 再 | N8: 精 | O8: 内 | P8: 処 | Q8: 患者様氏名 | V8: 新 | W8: 再 | X8: 精 | Y8: 内 | Z8: 処 | AA8: 患者様氏名
A9: 1 | C9: ・ | D9: ・ | F9: 28 | G9: 中村 文博 | J9: 様 | K9: 2 | L9: ・ | N9: ・ | P9: 7 | Q9: 武内 愛翔 | T9: 様 | U9: 3 | W9: ・ | X9: ・ | Z9: 0 | AA9: 山本 伸子 | AD9: 様
A10: 4 | C10: ・ | D10: ・ | F10: 28 | G10: 笹森 綾香 | J10: 様 | K10: 5 | M10: ・ | O10: ・ | P10: 0 | Q10: 宮崎 倫子 | T10: 様 | U10: 6 | W10: ・ | X10: ・ | Z10: 0 | AA10: 藤田 絢三 | AD10: 様
A11: 7 | C11: ・ | D11: ・ | F11: 60 | G11: 佐々木 美津江 | J11: 様 | K11: 8 | M11: ・ | N11: ・ | P11: 28 | Q11: 室山 外志高 | T11: 様 | U11: 9 | W11: ・ | X11: ・ | Z11: 0 | AA11: 藪 真弓 | AD11: 様
A12: 10 | C12: ・ | D12: ・ | F12: 30 | G12: 田村 とよ | J12: 様 | K12: 11 | M12: ・ | N12: ・ | P12: 7 | Q12: 山岡 裕花 | T12: 様 | U12: 12 | W12: ・ | X12: ・ | Z12: 0 | AA12: 綿貫 啓子 | AD12: 様
A13: 13 | C13: ・ | D13: ・ | F13: 28 | G13: 小橋 裕見子 | J13: 様 | K13: 14 | M13: ・ | N13: ・ | P13: 28 | Q13: 張田 智恵子 | T13: 様 | U13: 15 | W13: ・ | X13: ・ | Z13: 0 | AA13: 山口 瑛子 | AD13: 様
A14: 16 | C14: ・ | D14: ・ | F14: 30 | G14: 中村 ミヤ | J14: 様 | K14: 17 | M14: ・ | N14: ・ | P14: 28 | Q14: 冨田 勝政 | T14: 様 | U14: 18 | W14: ・ | X14: ・ | Z14: 0 | AA14: 石井 佐代子 | AD14: 様
A15: 19 | C15: ・ | D15: ・ | F15: 28 | G15: 高野 信 | J15: 様 | K15: 20 | M15: ・ | N15: ・ | P15: 28 | Q15: 高成 恵里 | T15: 様 | U15: 21 | W15: ・ | X15: ・ | Z15: 0 | AA15: 萠出 きのゑ | AD15: 様
A16: 22 | C16: ・ | D16: ・ | F16: 14 | G16: 小比類巻 由美子 | J16: 様 | K16: 23 | M16: ・ | N16: ・ | P16: 28 | Q16: 倉舘 トワ | T16: 様 | U16: 24 | W16: ・ | X16: ・ | Z16: 0 | AA16: 萠出 克治 | AD16: 様
A17: 25 | C17: ・ | D17: ・ | F17: 30 | G17: 村岡 述夫 | J17: 様 | K17: 26 | M17: ・ | N17: ・ | P17: 28 | Q17: 佐藤 留五郎 | T17: 様 | U17: 27 | W17: ・ | X17: ・ | Z17: 0 | AA17: 坂本 政勝 | AD17: 様
A18: 28 | C18: ・ | D18: ・ | F18: 28 | G18: 高根 あつ子 | J18: 様 | K18: 29 | M18: ・ | N18: ・ | P18: 28 | Q18: 木村 久子 | T18: 様 | U18: 30 | W18: ・ | X18: ・ | Z18: 0 | AA18: 坂本 佳之 | AD18: 様
A19: 31 | C19: ・ | D19: ・ | F19: 30 | G19: 中村 鐐一 | J19: 様 | K19: 32 | M19: ・ | N19: ・ | P19: 56 | Q19: 織笠 ユミ | T19: 様 | U19: 33 | W19: ・ | X19: ・ | Z19: 0 | AA19: 工藤 健壽 | AD19: 様
A20: 34 | C20: ・ | D20: ・ | F20: 15 | G20: 阿部 映理華 | J20: 様 | K20: 35 | M20: ・ | N20: ・ | P20: 28 | Q20: 荻野 健太郎 | T20: 様 | U20: 36 | W20: ・ | X20: ・ | Z20: 0 | AA20: 高村 加津子 | AD20: 様
A21: 37 | C21: ・ | D21: ・ | F21: 30 | G21: 石ケ谷 數子 | J21: 様 | K21: 38 | M21: ・ | N21: ・ | P21: 28 | Q21: 本間 由香 | T21: 様 | U21: 39 | W21: ・ | X21: ・ | Z21: 0 | AA21: 田口 トシ子 | AD21: 様
A22: 40 | C22: ・ | D22: ・ | F22: 28 | G22: 蛯名 忍 | J22: 様 | K22: 41 | L22: ・ | N22: ・ | P22: 30 | Q22: 若林 靖子 | T22: 様 | U22: 42 | W22: ・ | X22: ・ | Z22: 0 | AA22: 酒田 朋紀 | AD22: 様
A23: 43 | C23: ・ | D23: ・ | F23: 28 | G23: 佐々木 七海 | J23: 様 | K23: 44 | M23: ・ | N23: ・ | P23: 28 | Q23: 沼田 トキ | T23: 様 | U23: 45 | W23: ・ | X23: ・ | Z23: 28 | AA23: 大木 久子 | AD23: 様
A24: 46 | C24: ・ | D24: ・ | F24: 28 | G24: 渡辺 美歌子 | J24: 様 | K24: 47 | M24: ・ | N24: ・ | P24: 28 | Q24: 立花 アキ子 | T24: 様 | U24: 48 | W24: ・ | X24: ・ | Z24: 28 | AA24: 長南 のぞみ | AD24: 様
A25: 49 | C25: ・ | D25: ・ | F25: 14 | G25: 奥寺 真理子 | J25: 様 | K25: 50 | M25: ・ | N25: ・ | P25: 28 | Q25: 馬場 悠 | T25: 様 | U25: 51 | W25: ・ | X25: ・ | Z25: 28 | AA25: 大森 きみ | AD25: 様
A26: 52 | B26: ・ | D26: ・ | F26: 0 | G26: 関川 節 | J26: 様 | K26: 53 | M26: ・ | N26: ・ | P26: 28 | Q26: 岩舘 タツ | T26: 様 | U26: 54 | W26: ・ | X26: ・ | Z26: 28 | AA26: 河村 幸祐 | AD26: 様
A27: 55 | B27: ・ | D27: ・ | F27: 10 | G27: 沼田 由貴 | J27: 様 | K27: 56 | M27: ・ | N27: ・ | P27: 28 | Q27: 相田 敏子 | T27: 様 | U27: 57 | V27: ・ | X27: ・ | Z27: 7 | AA27: 武内 愛翔 | AD27: 様
A28: 58 | C28: ・ | D28: ・ | F28: 0 | G28: 蛯名 亜果音 | J28: 様 | K28: 59 | M28: ・ | N28: ・ | P28: 14 | Q28: 佐々木 令子 | T28: 様 | U28: 60 | W28: ・ | X28: ・ | Z28: 6 | AA28: 佐藤 ソノ | AD28: 様
A29: 61 | C29: ・ | D29: ・ | F29: 14 | G29: 熊谷 政治 | J29: 様 | K29: 62 | M29: ・ | N29: ・ | P29: 30 | Q29: 野川 安雄 | T29: 様 | U29: 63 | W29: ・ | X29: ・ | Z29: 22 | AA29: 蒔田 輝美 | AD29: 様
A30: 64 | C30: ・ | D30: ・ | F30: 28 | G30: 蛯名 由美子 | J30: 様 | K30: 65 | M30: ・ | N30: ・ | P30: 28 | Q30: 小平 由紀夫 | T30: 様 | U30: 66 | W30: ・ | X30: ・ | Z30: 60 | AA30: 坂岡 亮 | AD30: 様
A31: 67 | C31: ・ | D31: ・ | F31: 28 | G31: 蛯沢 陽祐 | J31: 様 | K31: 68 | M31: ・ | N31: ・ | P31: 15 | Q31: 高松 美由紀 | T31: 様 | U31: 69 | W31: ・ | X31: ・ | Z31: 30 | AA31: 堤 学 | AD31: 様
A32: 70 | C32: ・ | D32: ・ | F32: 0 | G32: 水上 民一 | J32: 様 | K32: 71 | M32: ・ | N32: ・ | P32: 0 | Q32: 柏木 薫 | T32: 様 | U32: 72 | AD32: 様
A33: 外来患者数 | E33: 新： | F33: =COUNTIF(B9:B32,"・")+COUNTIF(L9:L32,"・")+COUNTIF(V9:V32,"・") -> 5 | H33: 名 | I33: 再： | J33: =COUNTIF(C9:C32,"・")+COUNTIF(M9:M32,"・")+COUNTIF(W9:W32,"・") -> 66 | L33: 名 | M33: 計： | N33: =SUM(F33:K33) -> 71 | Q33: 名 | R33: （ | S33: 精： | T33: =COUNTIF(D9:D32,"・")+COUNTIF(N9:N32,"・")+COUNTIF(X9:X32,"・") -> 70 | W33: 名 | X33: ・ | Y33: 内： | Z33: =COUNTIF(E9:E32,"・")+COUNTIF(O9:O32,"・")+COUNTIF(Y9:Y32,"・") -> 1 | AC33: 名 | AD33: ）
A35: 紹介患者様氏名 | F35: 紹介先 | K35: 逆紹介患者様氏名 | P35: 紹介元 | U35: 本日の検査 | AA35: 検査内容
E36: 様 | O36: 様 | U36: 柏木 薫 | Z36: 様 | AA36: カウンセリング
A37: 本日の検査 | F37: 検査内容 | K37: 処置実施者 | P37: 処置内容 | Z37: 様
A38: 田村 とよ | E38: 様 | F38: 血液検査 | K38: 宮崎 倫子 | O38: 様 | P38: ソリタ500ｍｌ+ダイビタ1A ﾗｸﾃｯｸ500ｍｌ メイロン2A側管 | Z38: 様
A39: 中村 鐐一 | E39: 様 | F39: 血液検査 | Z39: 様
A40: 阿部 映理華 | E40: 様 | F40: カウンセリング | K40: 蛯名 亜果音 | O40: 様 | P40: ソリタ500ｍｌ+アスコルビン1A+ダイビタミックス1A | Z40: 様
A41: 関川 節 | E41: 様 | F41: HDS-R MMSE | U41: 点検項目
A42: 沼田 由貴 | E42: 様 | F42: CMI | O42: 様 | U42: 項目 | Z42: 時間 | AC42: 点検者
A43: 発熱 | F43: 下痢 | K43: 風邪薬 | P43: 男性：24 | U43: 医療廃棄物 | Y43: 0.75 | AB43: 石原 恵海
A44: 0 | F44: 0 | K44: 0 | P44: 女性：47 | U44: 戸締り | Y44: 0.75 | AB44: ='6'!AB49:AD49 -> 中村 恵理子
A46: 備考欄 | C46: （連絡事項・処方変更・その他）
G47: 特になし
G48: 石原

Sheet 16
B1: クリニック 日 誌 | H1: 令和 | J1: ='6'!J1 -> 3 | K1: 年 | L1: 6 | M1: 月 | N1: 16 | O1: 日 | Q1: （ | R1: 水 | S1: ） | V1: COO | Y1: IOO | AB1: AOM
A3: 勤務者名
A4: ='6'!A4:F4 -> 中村 恵理子 | G4: 日 | I4: 柳田 美雪 | N4: 日 | Q4: 診察室 | W4: 外来担当医 | Z4: 外来介助者
A5: 石原 恵海 | G5: 日 | I5: 石谷 美代子 | N5: 欠 | Q5: 第１診察室 | U5: 千葉 潜 | Z5: 柳田・石原
A6: 松林 久美子 | G6: 日 | I6: 鳴海 彩香 | N6: 日 | Q6: 第２診察室 | U6: 坂田 優 | Z6: 柳田
B8: 新 | C8: 再 | D8: 精 | E8: 内 | F8: 処 | G8: 患者様氏名 | L8: 新 | M8: 再 | N8: 精 | O8: 内 | P8: 処 | Q8: 患者様氏名 | V8: 新 | W8: 再 | X8: 精 | Y8: 内 | Z8: 処 | AA8: 患者様氏名
A9: 1 | C9: ・ | D9: ・ | F9: 30 | G9: 和田 成人 | J9: 様 | K9: 2 | M9: ・ | N9: ・ | P9: 28 | Q9: 成田 尚子 | T9: 様 | U9: 3 | W9: ・ | X9: ・ | Z9: 0 | AA9: 葛西 正人 | AD9: 様
A10: 4 | C10: ・ | D10: ・ | F10: 28 | G10: 本間 きよ | J10: 様 | K10: 5 | M10: ・ | N10: ・ | P10: 28 | Q10: 箕輪 麻紀子 | T10: 様 | U10: 6 | W10: ・ | X10: ・ | Z10: 0 | AA10: 綿貫 啓子 | AD10: 様
A11: 7 | C11: ・ | D11: ・ | F11: 30 | G11: 小林 きよ | J11: 様 | K11: 8 | M11: ・ | N11: ・ | P11: 28 | Q11: 神田 輝子 | T11: 様 | U11: 9 | W11: ・ | X11: ・ | Z11: 0 | AA11: 山口 映子 | AD11: 様
A12: 10 | C12: ・ | D12: ・ | F12: 28 | G12: 松林 望美 | J12: 様 | K12: 11 | M12: ・ | N12: ・ | P12: 28 | Q12: 塚田 敏子 | T12: 様 | U12: 12 | W12: ・ | X12: ・ | Z12: 0 | AA12: 工藤 健壽 | AD12: 様
A13: 13 | C13: ・ | D13: ・ | F13: 28 | G13: 戸田 文子 | J13: 様 | K13: 14 | M13: ・ | N13: ・ | P13: 30 | Q13: 佐々木 政夫 | T13: 様 | U13: 15 | W13: ・ | X13: ・ | Z13: 0 | AA13: 高村 加津子 | AD13: 様
A14: 16 | C14: ・ | D14: ・ | F14: 28 | G14: 類家 つさ | J14: 様 | K14: 17 | M14: ・ | N14: ・ | P14: 30 | Q14: 赤川 美紀 | T14: 様 | U14: 18 | W14: ・ | X14: ・ | Z14: 0 | AA14: 萠出 きのゑ | AD14: 様
A15: 19 | C15: ・ | D15: ・ | F15: 56 | G15: 菊地 礼子 | J15: 様 | K15: 20 | M15: ・ | N15: ・ | P15: 0 | Q15: 沼尾 弘美 | T15: 様 | U15: 21 | W15: ・ | X15: ・ | Z15: 0 | AA15: 萠出 克治 | AD15: 様
A16: 22 | C16: ・ | D16: ・ | F16: 28 | G16: 榎林 真実 | J16: 様 | K16: 23 | M16: ・ | N16: ・ | P16: 28 | Q16: 深澤 光良 | T16: 様 | U16: 24 | W16: ・ | X16: ・ | Z16: 0 | AA16: 石ケ谷 數子 | AD16: 様
A17: 25 | C17: ・ | D17: ・ | F17: 28 | G17: 島貫 香央里 | J17: 様 | K17: 26 | M17: ・ | N17: ・ | P17: 28 | Q17: 深澤 友子 | T17: 様 | U17: 27 | W17: ・ | X17: ・ | Z17: 0 | AA17: 瀬川 高雄 | AD17: 様
A18: 28 | C18: ・ | D18: ・ | F18: 30 | G18: 齊藤 繭介 | J18: 様 | K18: 29 | M18: ・ | N18: ・ | P18: 28 | Q18: 神 芽依 | T18: 様 | U18: 30 | W18: ・ | X18: ・ | Z18: 0 | AA18: 沼端 ミセ | AD18: 様
A19: 31 | C19: ・ | D19: ・ | F19: 30 | G19: 山本 金雄 | J19: 様 | K19: 32 | M19: ・ | N19: ・ | P19: 30 | Q19: 小山 誠 | T19: 様 | U19: 33 | W19: ・ | X19: ・ | Z19: 0 | AA19: 田口 トシ子 | AD19: 様
A20: 34 | C20: ・ | D20: ・ | F20: 28 | G20: 竹内 くみ子 | J20: 様 | K20: 35 | M20: ・ | N20: ・ | P20: 14 | Q20: 原田 悠紀 | T20: 様 | U20: 36 | W20: ・ | X20: ・ | Z20: 0 | AA20: 大木 久子 | AD20: 様
... A25: 49 | C25: ・ | D25: ・ | F25: 28 | G25: 豊川 洋子 | J25: 様 | K25: 50 | M25: ・ | N25: ・ | P25: 14 | Q25: 山本 文紀 | T25: 様 | U25: 51 | W25: ・ | X25: ・ | Z25: 30 | AA25: 小坂 和美 | AD25: 様
A26: 52 | C26: ・ | D26: ・ | F26: 30 | G26: 深町 栄美子 | J26: 様 | K26: 53 | M26: ・ | N26: ・ | P26: 30 | Q26: 成田 文枝 | T26: 様 | U26: 54 | V26: ・ | X26: ・ | Z26: 0 | AA26: 樋口 良子 | AD26: 様
A27: 55 | C27: ・ | D27: ・ | F27: 30 | G27: 伊藤 哲也 | J27: 様 | K27: 56 | M27: ・ | N27: ・ | P27: 28 | Q27: 高橋 キミエ | T27: 様 | U27: 57 | W27: ・ | X27: ・ | Z27: 28 | AA27: 新堂 伸子 | AD27: 様
A28: 58 | C28: ・ | D28: ・ | F28: 14 | G28: 佐藤 正志 | J28: 様 | K28: 59 | M28: ・ | N28: ・ | P28: 14 | Q28: 浦邊 健司 | T28: 様 | U28: 60 | W28: ・ | X28: ・ | Z28: 42 | AA28: 相坂 遥 | AD28: 様
A29: 61 | C29: ・ | D29: ・ | F29: 28 | G29: 菊地 真美 | J29: 様 | K29: 62 | M29: ・ | N29: ・ | P29: 28 | Q29: 石橋 貞子 | T29: 様 | U29: 63 | W29: ・ | X29: ・ | Z29: 30 | AA29: 小松 亮太 | AD29: 様
A30: 64 | C30: ・ | D30: ・ | F30: 42 | G30: 村舘 博輝 | J30: 様 | K30: 65 | M30: ・ | N30: ・ | P30: 14 | Q30: 大橋 一男 | T30: 様 | U30: 66 | W30: ・ | X30: ・ | Z30: 0 | AA30: 佐々木 令子 | AD30: 様
A31: 67 | C31: ・ | D31: ・ | F31: 0 | G31: 佐藤 初男 | J31: 様 | K31: 68 | M31: ・ | N31: ・ | P31: 21 | Q31: 浪岡 淳哉 | T31: 様 | U31: 69 | AD31: 様
A32: 外来患者数 | E32: 新： | F32: =COUNTIF(B9:B31,"・")+COUNTIF(L9:L31,"・")+COUNTIF(V9:V31,"・") -> 1 | H32: 名 | I32: 再： | J32: =COUNTIF(C9:C31,"・")+COUNTIF(M9:M31,"・")+COUNTIF(W9:W31,"・") -> 67 | L32: 名 | M32: 計： | N32: =SUM(F32:K32) -> 68 | Q32: 名 | R32: （ | S32: 精： | T32: =COUNTIF(D9:D31,"・")+COUNTIF(N9:N31,"・")+COUNTIF(X9:X31,"・") -> 68 | W32: 名 | X32: ・ | Y32: 内： | Z32: =COUNTIF(E9:E31,"・")+COUNTIF(O9:O31,"・")+COUNTIF(Y9:Y31,"・") -> 0 | AC32: 名 | AD32: ）
A34: 紹介患者様氏名 | F34: 紹介先 | K34: 逆紹介患者様氏名 | P34: 紹介元 | U34: 処置実施者 | AA34: 処置内容
E35: 様 | O35: 様 | Z35: 様
A36: 本日の検査 | F36: 検査内容 | K36: 処置実施者 | P36: 処置内容 | Z36: 様
A37: 齊藤 繭介 | E37: 様 | F37: 血液検査 | O37: 様 | Z37: 様
A38: 中村 美千代 | E38: 様 | F38: 血液検査 | O38: 様 | Z38: 様
A39: 原田 悠紀 | E39: 様 | F39: カウンセリング | O39: 様 | Z39: 様
E40: 様 | O40: 様 | U40: 点検項目
E41: 様 | O41: 様 | U41: 項目 | Z41: 時間 | AC41: 点検者
A42: 発熱 | F42: 下痢 | K42: 風邪薬 | P42: 男性：24 | U42: 医療廃棄物 | Y42: 0.75 | AB42: 石原 恵海
A43: 0 | F43: 0 | K43: 0 | P43: 女性：44 | U43: 戸締り | Y43: 0.75 | AB43: ='6'!AB49:AD49 -> 中村 恵理子
A45: 備考欄 | C45: （連絡事項・処方変更・その他）
G46: 特になし
G47: 石原

Sheet 17
B1: クリニック 日 誌 | H1: 令和 | J1: ='6'!J1 -> 3 | K1: 年 | L1: 6 | M1: 月 | N1: 17 | O1: 日 | Q1: （ | R1: 木 | S1: ） | V1: COO | Y1: IOO | AB1: AOM
A3: 勤務者名
A4: ='6'!A4:F4 -> 中村 恵理子 | G4: 日 | I4: 柳田 美雪 | N4: 日 | Q4: 診察室 | W4: 外来担当医 | Z4: 外来介助者
A5: 石原 恵海 | G5: 日 | I5: 神 圭輔 | N5: 日 | Q5: 第１診察室 | U5: 千葉 潜 | Z5: 柳田・石原
A6: 松林 久美子 | G6: 日 | I6: 鳴海 彩香 | N6: 日 | Q6: 第２診察室 | U6: 金 泰徳 | Z6: 柳田・石原
B8: 新 | C8: 再 | D8: 精 | E8: 内 | F8: 処 | G8: 患者様氏名 | L8: 新 | M8: 再 | N8: 精 | O8: 内 | P8: 処 | Q8: 患者様氏名 | V8: 新 | W8: 再 | X8: 精 | Y8: 内 | Z8: 処 | AA8: 患者様氏名
A9: 1 | C9: ・ | D9: ・ | F9: 28 | G9: 豊川 美智子 | J9: 様 | K9: 2 | M9: ・ | N9: ・ | P9: 30 | Q9: 高橋 茜 | T9: 様 | U9: 3 | W9: ・ | X9: ・ | Z9: 0 | AA9: 西舘 瞳 | AD9: 様
A10: 4 | C10: ・ | D10: ・ | F10: 28 | G10: 豊川 清人 | J10: 様 | K10: 5 | M10: ・ | N10: ・ | P10: 28 | Q10: 種市 莉奈 | T10: 様 | U10: 6 | W10: ・ | X10: ・ | Z10: 0 | AA10: 森 スエ子 | AD10: 様
A11: 7 | C11: ・ | D11: ・ | F11: 28 | G11: 坂本 隆志 | J11: 様 | K11: 8 | M11: ・ | N11: ・ | P11: 30 | Q11: 沼山 寛子 | T11: 様 | U11: 9 | W11: ・ | X11: ・ | Z11: 0 | AA11: 山本 雅江 | AD11: 様
A12: 10 | C12: ・ | E12: ・ | F12: 30 | G12: 佐々木 春夫 | J12: 様 | K12: 11 | M12: ・ | N12: ・ | P12: 0 | Q12: 沼山 裕一 | T12: 様 | U12: 12 | W12: ・ | X12: ・ | Z12: 0 | AA12: 安部 信祥 | AD12: 様
A13: 13 | C13: ・ | D13: ・ | F13: 28 | G13: 町屋 睦子 | J13: 様 | K13: 14 | M13: ・ | N13: ・ | P13: 30 | Q13: 花岸 テル | T13: 様 | U13: 15 | W13: ・ | X13: ・ | Z13: 0 | AA13: 佐々木 政夫 | AD13: 様
A14: 16 | C14: ・ | D14: ・ | F14: 28 | G14: 妻神 京子 | J14: 様 | K14: 17 | M14: ・ | N14: ・ | P14: 28 | Q14: 小笠原 千恵子 | T14: 様 | U14: 18 | W14: ・ | X14: ・ | Z14: 0 | AA14: 瀬川 高雄 | AD14: 様
A15: 19 | C15: ・ | D15: ・ | F15: 28 | G15: 鈴木 洋光 | J15: 様 | K15: 20 | M15: ・ | N15: ・ | P15: 28 | Q15: 小笠原 秀男 | T15: 様 | U15: 21 | W15: ・ | X15: ・ | Z15: 0 | AA15: 藤田 絢三 | AD15: 様
A16: 22 | C16: ・ | D16: ・ | F16: 28 | G16: 木村 タキ | J16: 様 | K16: 23 | M16: ・ | N16: ・ | P16: 7 | Q16: 中居 敬悦 | T16: 様 | U16: 24 | W16: ・ | X16: ・ | Z16: 0 | AA16: 相田 敏子 | AD16: 様
A17: 25 | C17: ・ | D17: ・ | F17: 30 | G17: 山本 光豊 | J17: 様 | K17: 26 | M17: ・ | N17: ・ | P17: 28 | Q17: 松林 祐 | T17: 様 | U17: 27 | W17: ・ | X17: ・ | Z17: 0 | AA17: 工藤 健壽 | AD17: 様
A18: 28 | C18: ・ | D18: ・ | F18: 28 | G18: 杉元 香菜子 | J18: 様 | K18: 29 | L18: ・ | N18: ・ | P18: 30 | Q18: 櫻井 あい | T18: 様 | U18: 30 | W18: ・ | X18: ・ | Z18: 0 | AA18: 山口 瑛子 | AD18: 様
A19: 31 | C19: ・ | D19: ・ | F19: 57 | G19: 山本 ハナコ | J19: 様 | K19: 32 | L19: ・ | N19: ・ | P19: 30 | Q19: 太田 文子 | T19: 様 | U19: 33 | W19: ・ | X19: ・ | Z19: 0 | AA19: 綿貫 啓子 | AD19: 様
A20: 34 | C20: ・ | D20: ・ | F20: 28 | G20: 鎌田 祐輔 | J20: 様 | K20: 35 | L20: ・ | N20: ・ | P20: 30 | Q20: 大下 邦子 | T20: 様 | U20: 36 | W20: ・ | X20: ・ | Z20: 0 | AA20: 大木 久子 | AD20: 様
A21: 37 | C21: ・ | D21: ・ | F21: 90 | G21: 工藤 ハルヱ | J21: 様 | K21: 38 | M21: ・ | N21: ・ | P21: 56 | Q21: 横田 トキ | T21: 様 | U21: 39 | W21: ・ | X21: ・ | Z21: 0 | AA21: 高村 加津子 | AD21: 様
A22: 40 | C22: ・ | D22: ・ | F22: 28 | G22: 石久保 香織 | J22: 様 | K22: 41 | M22: ・ | N22: ・ | P22: 56 | Q22: 古里 イサ | T22: 様 | U22: 42 | W22: ・ | X22: ・ | Z22: 0 | AA22: 田口 トシ子 | AD22: 様
A23: 43 | C23: ・ | D23: ・ | F23: 30 | G23: 古澤 博美 | J23: 様 | K23: 44 | M23: ・ | N23: ・ | P23: 42 | Q23: 高橋 優子 | T23: 様 | U23: 45 | W23: ・ | X23: ・ | Z23: 0 | AA23: 坂本 政勝 | AD23: 様
A24: 46 | C24: ・ | D24: ・ | F24: 23 | G24: 田辺 京子 | J24: 様 | K24: 47 | M24: ・ | N24: ・ | P24: 56 | Q24: 堀内 兼博 | T24: 様 | U24: 48 | W24: ・ | X24: ・ | Z24: 0 | AA24: 山本 伸子 | AD24: 様
A25: 49 | C25: ・ | D25: ・ | F25: 0 | G25: 杉元 悠敏 | J25: 様 | K25: 50 | M25: ・ | N25: ・ | P25: 4 | Q25: 小笠原 雅義 | T25: 様 | U25: 51 | AD25: 様
A26: 外来患者数 | E26: 新： | F26: =COUNTIF(B9:B25,"・")+COUNTIF(L9:L25,"・")+COUNTIF(V9:V25,"・") -> 3 | H26: 名 | I26: 再： | J26: =COUNTIF(C9:C25,"・")+COUNTIF(M9:M25,"・")+COUNTIF(W9:W25,"・") -> 47 | L26: 名 | M26: 計： | N26: =SUM(F26:K26) -> 50 | Q26: 名 | R26: （ | S26: 精： | T26: =COUNTIF(D9:D25,"・")+COUNTIF(N9:N25,"・")+COUNTIF(X9:X25,"・") -> 49 | W26: 名 | X26: ・ | Y26: 内： | Z26: =COUNTIF(E9:E25,"・")+COUNTIF(O9:O25,"・")+COUNTIF(Y9:Y25,"・") -> 1 | AC26: 名 | AD26: ）
A28: 紹介患者様氏名 | F28: 紹介先 | K28: 逆紹介患者様氏名 | P28: 紹介元 | U28: 処置実施者 | AA28: 処置内容
E29: 様 | K29: 太田 文子 | O29: 様 | P29: 五戸総合病院 | Z29: 様
A30: 本日の検査 | F30: 検査内容 | K30: 処置実施者 | P30: 処置内容 | Z30: 様
A31: 櫻井 あい | E31: 様 | F31: HDS-R・MMSE | O31: 様 | Z31: 様
A32: 太田 文子 | E32: 様 | F32: HDS-R・MMSE | O32: 様 | Z32: 様
E33: 様 | O33: 様 | U33: 点検項目
E34: 様 | O34: 様 | U34: 項目 | Z34: 時間 | AC34: 点検者
A35: 発熱 | F35: 下痢 | K35: 風邪薬 | P35: 男性：19 | U35: 医療廃棄物 | Y35: 0.75 | AB35: 柳田 美雪
A36: 0 | F36: 0 | K36: 0 | P36: 女性：31 | U36: 戸締り | Y36: 0.75 | AB36: ='6'!AB49:AD49 -> 中村 恵理子
A38: 備考欄 | C38: （連絡事項・処方変更・その他）
G39: 特記なし
G40: 柳田

Sheet 18
B1: クリニック 日 誌 | H1: 令和 | J1: ='6'!J1 -> 3 | K1: 年 | L1: 6 | M1: 月 | N1: 18 | O1: 日 | Q1: （ | R1: 金 | S1: ） | V1: COO | Y1: IOO | AB1: AOM
A3: 勤務者名
A4: ='6'!A4:F4 -> 中村 恵理子 | G4: 日 | I4: 柳田 美雪 | N4: 日 | Q4: 診察室 | W4: 外来担当医 | Z4: 外来介助者
A5: 石原 恵海 | G5: 日 | I5: 石谷 美代子 | N5: 欠 | Q5: 第１診察室 | U5: 金 泰徳 | Z5: 柳田・石原
A6: 松林 久美子 | G6: 日 | Q6: 第２診察室 | U6: 千葉 良 | Z6: 柳田
B8: 新 | C8: 再 | D8: 精 | E8: 内 | F8: 処 | G8: 患者様氏名 | L8: 新 | M8: 再 | N8: 精 | O8: 内 | P8: 処 | Q8: 患者様氏名 | V8: 新 | W8: 再 | X8: 精 | Y8: 内 | Z8: 処 | AA8: 患者様氏名
A9: 1 | C9: ・ | D9: ・ | F9: 28 | G9: 冨田 崇 | J9: 様 | K9: 2 | M9: ・ | N9: ・ | P9: 56 | Q9: 遠藤 勝也 | T9: 様 | U9: 3 | W9: ・ | X9: ・ | Z9: 0 | AA9: 萠出 きのえ | AD9: 様
A10: 4 | C10: ・ | D10: ・ | F10: 60 | G10: 境 庸夫 | J10: 様 | K10: 5 | M10: ・ | N10: ・ | P10: 30 | Q10: 岩部 日出夫 | T10: 様 | U10: 6 | W10: ・ | X10: ・ | Z10: 0 | AA10: 萠出 克治 | AD10: 様
A11: 7 | C11: ・ | D11: ・ | F11: 30 | G11: 吉田 俊一 | J11: 様 | K11: 8 | M11: ・ | N11: ・ | P11: 28 | Q11: 後藤 美里 | T11: 様 | U11: 9 | W11: ・ | X11: ・ | Z11: 0 | AA11: 藪 真弓 | AD11: 様
A12: 10 | C12: ・ | D12: ・ | F12: 28 | G12: 高田 奈緒美 | J12: 様 | K12: 11 | M12: ・ | N12: ・ | P12: 60 | Q12: 伊藤 勝吉 | T12: 様 | U12: 12 | W12: ・ | X12: ・ | Z12: 0 | AA12: 山本 伸子 | AD12: 様
A13: 13 | C13: ・ | D13: ・ | F13: 28 | G13: 山本 ハナ | J13: 様 | K13: 14 | M13: ・ | N13: ・ | P13: 30 | Q13: 沖沢 重治 | T13: 様 | U13: 15 | W13: ・ | X13: ・ | Z13: 0 | AA13: 深町 栄美子 | AD13: 様
A14: 16 | C14: ・ | D14: ・ | F14: 30 | G14: 藤田 予里 | J14: 様 | K14: 17 | M14: ・ | N14: ・ | P14: 0 | Q14: 磯谷 善正 | T14: 様 | U14: 18 | W14: ・ | X14: ・ | Z14: 0 | AA14: 瀬川 高雄 | AD14: 様
A15: 19 | C15: ・ | D15: ・ | F15: 28 | G15: 今井 くによ | J15: 様 | K15: 20 | M15: ・ | N15: ・ | P15: 0 | Q15: 西村 真砂子 | T15: 様 | U15: 21 | W15: ・ | X15: ・ | Z15: 0 | AA15: 沼端 ミセ | AD15: 様
A16: 22 | C16: ・ | D16: ・ | F16: 7 | G16: 古田 真 | J16: 様 | K16: 23 | M16: ・ | N16: ・ | P16: 21 | Q16: 久保 沙保里 | T16: 様 | U16: 24 | W16: ・ | X16: ・ | Z16: 0 | AA16: 池田 アエ | AD16: 様
A17: 25 | C17: ・ | D17: ・ | F17: 7 | G17: 古田 留美子 | J17: 様 | K17: 26 | M17: ・ | N17: ・ | P17: 90 | Q17: 今田 則夫 | T17: 様 | U17: 27 | W17: ・ | X17: ・ | Z17: 0 | AA17: 佐々木 すぢ江 | AD17: 様
A18: 28 | B18: ・ | D18: ・ | F18: 30 | G18: 中村 正 | J18: 様 | K18: 29 | M18: ・ | N18: ・ | P18: 30 | Q18: 小笠原 康太 | T18: 様 | U18: 30 | W18: ・ | X18: ・ | Z18: 0 | AA18: 稲本 典子 | AD18: 様
A19: 31 | C19: ・ | D19: ・ | F19: 28 | G19: 中村 としゑ | J19: 様 | K19: 32 | M19: ・ | N19: ・ | P19: 10 | Q19: 佐々木 晴香 | T19: 様 | U19: 33 | W19: ・ | X19: ・ | Z19: 0 | AA19: 千葉 スワ | AD19: 様
A20: 34 | C20: ・ | D20: ・ | F20: 20 | G20: 木村 トシ | J20: 様 | K20: 35 | M20: ・ | N20: ・ | P20: 10 | Q20: 野澤 杏莉 | T20: 様 | U20: 36 | W20: ・ | X20: ・ | Z20: 0 | AA20: 工藤 健壽 | AD20: 様
A21: 37 | C21: ・ | D21: ・ | F21: 28 | G21: 大森 光江 | J21: 様 | K21: 38 | M21: ・ | N21: ・ | P21: 30 | Q21: 市澤 梨央 | T21: 様 | U21: 39 | W21: ・ | X21: ・ | Z21: 0 | AA21: 綿貫 啓子 | AD21: 様
A22: 40 | C22: ・ | D22: ・ | F22: 60 | G22: 山本 ミワ | J22: 様 | K22: 41 | M22: ・ | N22: ・ | P22: 30 | Q22: 上久保 翔惺 | T22: 様 | U22: 42 | W22: ・ | X22: ・ | Z22: 0 | AA22: 藤田 絢三 | AD22: 様
A23: 43 | C23: ・ | D23: ・ | F23: 28 | G23: 齊藤 鈴美香 | J23: 様 | K23: 44 | M23: ・ | N23: ・ | P23: 30 | Q23: 附田 華凜 | T23: 様 | U23: 45 | W23: ・ | X23: ・ | Z23: 0 | AA23: 杉山 博子 | AD23: 様
A24: 46 | C24: ・ | D24: ・ | F24: 28 | G24: 種市 サクラ | J24: 様 | K24: 47 | M24: ・ | N24: ・ | P24: 30 | Q24: 高城 琉壱 | T24: 様 | U24: 48 | W24: ・ | X24: ・ | Z24: 0 | AA24: 渡辺 クニ | AD24: 様
A25: 49 | C25: ・ | D25: ・ | F25: 30 | G25: 江渡 きゑ | J25: 様 | K25: 50 | M25: ・ | N25: ・ | P25: 21 | Q25: 鶴ケ崎 智香 | T25: 様 | U25: 51 | W25: ・ | X25: ・ | Z25: 0 | AA25: 坂本 政勝 | AD25: 様
A26: 52 | C26: ・ | D26: ・ | F26: 30 | G26: 佐々木 久美子 | J26: 様 | K26: 53 | M26: ・ | N26: ・ | P26: 30 | Q26: 高橋 鮎美 | T26: 様 | U26: 54 | W26: ・ | X26: ・ | Z26: 0 | AA26: 山口 瑛子 | AD26: 様
A27: 55 | B27: ・ | D27: ・ | F27: 30 | G27: 久保田 由美 | J27: 様 | K27: 56 | L27: ・ | N27: ・ | P27: 28 | Q27: 堀合 由子 | T27: 様 | U27: 57 | V27: ・ | X27: ・ | Z27: 21 | AA27: 冨田 綾子 | AD27: 様
A28: 58 | C28: ・ | D28: ・ | F28: 0 | G28: 山本 美津子 | J28: 様 | K28: 59 | T28: 様 | U28: 60 | AD28: 様
A29: 外来患者数 | E29: 新： | F29: =COUNTIF(B9:B28,"・")+COUNTIF(L9:L28,"・")+COUNTIF(V9:V28,"・") -> 4 | H29: 名 | I29: 再： | J29: =COUNTIF(C9:C28,"・")+COUNTIF(M9:M28,"・")+COUNTIF(W9:W28,"・") -> 54 | L29: 名 | M29: 計： | N29: =SUM(F29:K29) -> 58 | Q29: 名 | R29: （ | S29: 精： | T29: =COUNTIF(D9:D28,"・")+COUNTIF(N9:N28,"・")+COUNTIF(X9:X28,"・") -> 58 | W29: 名 | X29: ・ | Y29: 内： | Z29: =COUNTIF(E9:E28,"・")+COUNTIF(O9:O28,"・")+COUNTIF(Y9:Y28,"・") -> 0 | AC29: 名 | AD29: ）
A31: 紹介患者様氏名 | F31: 紹介先 | K31: 逆紹介患者様氏名 | P31: 紹介元 | U31: 処置実施者 | AA31: 処置内容
E32: 様 | K32: 堀合 由子 | O32: 様 | P32: みさわクリニック | Z32: 様
E33: 様 | O33: 様 | Z33: 様
A34: 本日の検査 | F34: 検査内容 | K34: 処置実施者 | P34: 処置内容 | Z34: 様
A35: 小笠原 康太 | E35: 様 | F35: 血液検査 | O35: 様 | Z35: 様
A36: 冨田 綾子 | E36: 様 | F36: HDS-R MMSE 血液検査 | O36: 様 | Z36: 様
A37: 堀合 由子 | E37: 様 | F37: HDS-R MMSE | O37: 様 | Z37: 様
E38: 様 | O38: 様 | U38: 点検項目
E39: 様 | O39: 様 | U39: 項目 | Z39: 時間 | AC39: 点検者
A40: 発熱 | F40: 下痢 | K40: 風邪薬 | P40: 男性：19 | U40: 医療廃棄物 | Y40: 0.75 | AB40: 柳田 美雪
A41: 0 | F41: 0 | K41: 0 | P41: 女性：39 | U41: 戸締り | Y41: 0.75 | AB41: ='6'!AB49:AD49 -> 中村 恵理子
A43: 備考欄 | C43: （連絡事項・処方変更・その他）
G44: 特記なし
G45: 柳田 美雪

Sheet 20
B1: クリニック 日 誌 | H1: 令和 | J1: ='6'!J1 -> 3 | K1: 年 | L1: 6 | M1: 月 | N1: 20 | O1: 日 | Q1: （ | S1: ） | V1: COO | Y1: IOO | AB1: AOM
A3: 勤務者名
A4: ='6'!A4:F4 -> 中村 恵理子 | G4: 日 | I4: 柳田 美雪 | N4: 日 | Q4: 診察室 | W4: 外来担当医 | Z4: 外来介助者
A5: 石原 恵海 | G5: 日 | I5: 石谷 美代子 | N5: 欠 | Q5: 第１診察室 | U5: 千葉 潜 | Z5: 柳田・石原
A6: 松林 久美子 | G6: 日 | Q6: 第２診察室 | U6: 坂田 優 | Z6: 柳田
B8: 新 | C8: 再 | D8: 精 | E8: 内 | F8: 処 | G8: 患者様氏名 | L8: 新 | M8: 再 | N8: 精 | O8: 内 | P8: 処 | Q8: 患者様氏名 | V8: 新 | W8: 再 | X8: 精 | Y8: 内 | Z8: 処 | AA8: 患者様氏名
A9: 1 | J9: 様 | K9: 2 | T9: 様 | U9: 3 | AD9: 様
A10: 4 | J10: 様 | K10: 5 | T10: 様 | U10: 6 | AD10: 様
A11: 7 | J11: 様 | K11: 8 | T11: 様 | U11: 9 | AD11: 様
A12: 10 | J12: 様 | K12: 11 | T12: 様 | U12: 12 | AD12: 様
A13: 13 | J13: 様 | K13: 14 | T13: 様 | U13: 15 | AD13: 様
A14: 16 | J14: 様 | K14: 17 | T14: 様 | U14: 18 | AD14: 様
A15: 19 | J15: 様 | K15: 20 | T15: 様 | U15: 21 | AD15: 様
A16: 22 | J16: 様 | K16: 23 | T16: 様 | U16: 24 | AD16: 様
A17: 25 | J17: 様 | K17: 26 | T17: 様 | U17: 27 | AD17: 様
A18: 28 | J18: 様 | K18: 29 | T18: 様 | U18: 30 | AD18: 様
A19: 31 | J19: 様 | K19: 32 | T19: 様 | U19: 33 | AD19: 様
A20: 34 | J20: 様 | K20: 35 | T20: 様 | U20: 36 | AD20: 様
... A33: 73 | J33: 様 | K33: 74 | T33: 様 | U33: 75 | AD33: 様
A34: 外来患者数 | E34: 新： | F34: =COUNTIF(B9:B33,"・")+COUNTIF(L9:L33,"・")+COUNTIF(V9:V33,"・") -> 0 | H34: 名 | I34: 再： | J34: =COUNTIF(C9:C33,"・")+COUNTIF(M9:M33,"・")+COUNTIF(W9:W33,"・") -> 0 | L34: 名 | M34: 計： | N34: =SUM(F34:K34) -> 0 | Q34: 名 | R34: （ | S34: 精： | T34: =COUNTIF(D9:D33,"・")+COUNTIF(N9:N33,"・")+COUNTIF(X9:X33,"・") -> 0 | W34: 名 | X34: ・ | Y34: 内： | Z34: =COUNTIF(E9:E33,"・")+COUNTIF(O9:O33,"・")+COUNTIF(Y9:Y33,"・") -> 0 | AC34: 名 | AD34: ）
A36: 紹介患者様氏名 | F36: 紹介先 | K36: 逆紹介患者様氏名 | P36: 紹介元 | U36: 処置実施者 | AA36: 処置内容
E37: 様 | O37: 様 | Z37: 様
E38: 様 | O38: 様 | Z38: 様
E39: 様 | O39: 様 | Z39: 様
E40: 様 | O40: 様 | Z40: 様
E41: 様 | O41: 様 | Z41: 様
A42: 本日の検査 | F42: 検査内容 | K42: 処置実施者 | P42: 処置内容 | Z42: 様
E43: 様 | O43: 様 | Z43: 様
E44: 様 | O44: 様 | Z44: 様
E45: 様 | O45: 様 | Z45: 様
E46: 様 | O46: 様 | U46: 点検項目
E47: 様 | O47: 様 | U47: 項目 | Z47: 時間 | AC47: 点検者
A48: 発熱 | F48: 下痢 | K48: 風邪薬 | P48: 男性： | U48: 医療廃棄物 | Y48: 0.75
A49: 0 | F49: 0 | K49: 0 | P49: 女性： | U49: 戸締り | Y49: 0.75 | AB49: ='6'!AB49:AD49 -> 中村 恵理子
A51: 備考欄 | C51: （連絡事項・処方変更・その他）

Sheet 21
B1: クリニック 日 誌 | H1: 令和 | J1: ='6'!J1 -> 3 | K1: 年 | L1: 6 | M1: 月 | N1: 21 | O1: 日 | Q1: （ | R1: 月 | S1: ） | V1: COO | Y1: IOO | AB1: AOM
A3: 勤務者名
A4: ='6'!A4:F4 -> 中村 恵理子 | G4: 日 | I4: 柳田 美雪 | N4: 日 | Q4: 診察室 | W4: 外来担当医 | Z4: 外来介助者
A5: 石原 恵海 | G5: 日 | I5: 石谷 美代子 | N5: 欠 | Q5: 第１診察室 | U5: 馬渡/千葉 良 | Z5: 柳田・石原
A6: 松林 久美子 | G6: 日 | Q6: 第２診察室 | U6: 坂田 優 | Z6: 柳田
B8: 新 | C8: 再 | D8: 精 | E8: 内 | F8: 処 | G8: 患者様氏名 | L8: 新 | M8: 再 | N8: 精 | O8: 内 | P8: 処 | Q8: 患者様氏名 | V8: 新 | W8: 再 | X8: 精 | Y8: 内 | Z8: 処 | AA8: 患者様氏名
A9: 1 | C9: ・ | E9: ・ | F9: 14 | G9: 宮崎 倫子 | J9: 様 | K9: 2 | M9: ・ | N9: ・ | P9: 28 | Q9: 大野 政彦 | T9: 様 | U9: 3 | W9: ・ | X9: ・ | Z9: 0 | AA9: 藪 真弓 | AD9: 様
A10: 4 | C10: ・ | D10: ・ | F10: 14 | G10: 馬場 一彦 | J10: 様 | K10: 5 | M10: ・ | N10: ・ | P10: 0 | Q10: 沼山 貴哉 | T10: 様 | U10: 6 | W10: ・ | X10: ・ | Z10: 0 | AA10: 瀬川 高雄 | AD10: 様
A11: 7 | C11: ・ | D11: ・ | F11: 56 | G11: 田嶋 十三雄 | J11: 様 | K11: 8 | M11: ・ | N11: ・ | P11: 5 | Q11: 松林 朋子 | T11: 様 | U11: 9 | W11: ・ | X11: ・ | Z11: 0 | AA11: 酒井 昌子 | AD11: 様
A12: 10 | C12: ・ | D12: ・ | F12: 28 | G12: 渡部 節子 | J12: 様 | K12: 11 | M12: ・ | N12: ・ | P12: 28 | Q12: 山田 義勝 | T12: 様 | U12: 12 | W12: ・ | X12: ・ | Z12: 0 | AA12: 工藤 健壽 | AD12: 様
A13: 13 | C13: ・ | D13: ・ | F13: 56 | G13: 松橋 顕 | J13: 様 | K13: 14 | M13: ・ | N13: ・ | P13: 28 | Q13: 沼端 ミセ | T13: 様 | U13: 15 | W13: ・ | X13: ・ | Z13: 0 | AA13: 高村 加津子 | AD13: 様
A14: 16 | C14: ・ | E14: ・ | F14: 60 | G14: 横山 光子 | J14: 様 | K14: 17 | L14: ・ | N14: ・ | P14: 28 | Q14: 高田 キミヨ | T14: 様 | U14: 18 | W14: ・ | X14: ・ | Z14: 0 | AA14: 田口 トシ子 | AD14: 様
A15: 19 | C15: ・ | D15: ・ | F15: 28 | G15: 附田 亜矢子 | J15: 様 | K15: 20 | M15: ・ | N15: ・ | P15: 0 | Q15: 中村 克仁 | T15: 様 | U15: 21 | W15: ・ | X15: ・ | Z15: 0 | AA15: 深町 栄美子 | AD15: 様
A16: 22 | C16: ・ | D16: ・ | F16: 56 | G16: 古川 忍 | J16: 様 | K16: 23 | M16: ・ | N16: ・ | P16: 56 | Q16: 山本 篤史 | T16: 様 | U16: 24 | W16: ・ | X16: ・ | Z16: 0 | AA16: 萠出 克治 | AD16: 様
A17: 25 | C17: ・ | D17: ・ | F17: 28 | G17: 橋端 みゆき | J17: 様 | K17: 26 | M17: ・ | N17: ・ | P17: 56 | Q17: 奈良 和 | T17: 様 | U17: 27 | W17: ・ | X17: ・ | Z17: 0 | AA17: 萠出 きのゑ | AD17: 様
A18: 28 | C18: ・ | D18: ・ | F18: 56 | G18: 村松 朋恵 | J18: 様 | K18: 29 | M18: ・ | N18: ・ | P18: 56 | Q18: 吉田 ヤツヨ | T18: 様 | U18: 30 | W18: ・ | X18: ・ | Z18: 0 | AA18: 綿貫 啓子 | AD18: 様
A19: 31 | C19: ・ | D19: ・ | F19: 30 | G19: 家沢 亜希子 | J19: 様 | K19: 32 | M19: ・ | N19: ・ | P19: 28 | Q19: 沢村 まさえ | T19: 様 | U19: 33 | W19: ・ | X19: ・ | Z19: 0 | AA19: 大木 久子 | AD19: 様
A20: 34 | C20: ・ | D20: ・ | F20: 30 | G20: 関口 潤也 | J20: 様 | K20: 35 | M20: ・ | N20: ・ | P20: 56 | Q20: 長峯 ちよ | T20: 様 | U20: 36 | W20: ・ | X20: ・ | Z20: 0 | AA20: 山口 瑛子 | AD20: 様
A21: 37 | C21: ・ | D21: ・ | F21: 28 | G21: 石田 あい | J21: 様 | K21: 38 | M21: ・ | N21: ・ | P21: 28 | Q21: 工藤 彩海 | T21: 様 | U21: 39 | W21: ・ | X21: ・ | Z21: 0 | AA21: 相田 敏子 | AD21: 様
A22: 40 | C22: ・ | D22: ・ | F22: 28 | G22: 土橋 翔吾 | J22: 様 | K22: 41 | M22: ・ | N22: ・ | P22: 28 | Q22: 森川 司 | T22: 様 | U22: 42 | W22: ・ | X22: ・ | Z22: 0 | AA22: 藤田 絢三 | AD22: 様
A23: 43 | C23: ・ | D23: ・ | F23: 56 | G23: 原 徳五郎 | J23: 様 | K23: 44 | M23: ・ | N23: ・ | P23: 28 | Q23: 星川 和子 | T23: 様 | U23: 45 | W23: ・ | X23: ・ | Z23: 0 | AA23: 渡辺 クニ | AD23: 様
A24: 46 | C24: ・ | D24: ・ | F24: 28 | G24: 小向 克也 | J24: 様 | K24: 47 | M24: ・ | N24: ・ | P24: 28 | Q24: 岩森 美奈 | T24: 様 | U24: 48 | W24: ・ | X24: ・ | Z24: 0 | AA24: 杉山 博子 | AD24: 様
A25: 49 | C25: ・ | D25: ・ | F25: 56 | G25: 福田 ミキ | J25: 様 | K25: 50 | M25: ・ | N25: ・ | P25: 28 | Q25: 吉田 路代 | T25: 様 | U25: 51 | W25: ・ | X25: ・ | Z25: 0 | AA25: 坂本 政勝 | AD25: 様
A26: 52 | C26: ・ | D26: ・ | F26: 14 | G26: 沖澤 孝 | J26: 様 | K26: 53 | M26: ・ | N26: ・ | P26: 28 | Q26: 沼山 裕樹 | T26: 様 | U26: 54 | W26: ・ | X26: ・ | Z26: 0 | AA26: 中居 敬悦 | AD26: 様
... A28: 58 | C28: ・ | D28: ・ | F28: 14 | G28: 小原 哲哉 | J28: 様 | K28: 59 | M28: ・ | N28: ・ | P28: 28 | Q28: 椛本 友菜 | T28: 様 | U28: 60 | W28: ・ | X28: ・ | Z28: 28 | AA28: 加藤 匠 | AD28: 様
A29: 61 | B29: ・ | D29: ・ | F29: 0 | G29: 山口 由紀 | J29: 様 | K29: 62 | M29: ・ | N29: ・ | P29: 30 | Q29: 石久保 燿斗 | T29: 様 | U29: 63 | W29: ・ | X29: ・ | Z29: 30 | AA29: 二宮 実里 | AD29: 様
A30: 64 | C30: ・ | D30: ・ | F30: 7 | G30: 竹内 愛翔 | J30: 様 | K30: 65 | M30: ・ | N30: ・ | P30: 30 | Q30: 木村 羽美 | T30: 様 | U30: 66 | W30: ・ | X30: ・ | Z30: 30 | AA30: 船場 颯太 | AD30: 様
A31: 67 | C31: ・ | D31: ・ | F31: 0 | G31: 奈良 涼花 | J31: 様 | K31: 68 | M31: ・ | N31: ・ | P31: 30 | Q31: 沼山 祥寛 | T31: 様 | U31: 69 | W31: ・ | X31: ・ | Z31: 30 | AA31: 高田 煌 | AD31: 様
A32: 70 | C32: ・ | D32: ・ | F32: 84 | G32: 間山 久美子 | J32: 様 | K32: 71 | M32: ・ | N32: ・ | P32: 28 | Q32: 木村 豊之 | T32: 様 | U32: 72 | W32: ・ | X32: ・ | Z32: 0 | AA32: 佐藤 恵理子 | AD32: 様
A33: 73 | C33: ・ | D33: ・ | F33: 56 | G33: 瀧野 ミヤ | J33: 様 | K33: 74 | M33: ・ | N33: ・ | P33: 28 | Q33: 市澤 純子 | T33: 様 | U33: 75 | W33: ・ | X33: ・ | Z33: 28 | AA33: 佐藤 直樹 | AD33: 様
A34: 外来患者数 | E34: 新： | F34: =COUNTIF(B9:B33,"・")+COUNTIF(L9:L33,"・")+COUNTIF(V9:V33,"・") -> 2 | H34: 名 | I34: 再： | J34: =COUNTIF(C9:C33,"・")+COUNTIF(M9:M33,"・")+COUNTIF(W9:W33,"・") -> 73 | L34: 名 | M34: 計： | N34: =SUM(F34:K34) -> 75 | Q34: 名 | R34: （ | S34: 精： | T34: =COUNTIF(D9:D33,"・")+COUNTIF(N9:N33,"・")+COUNTIF(X9:X33,"・") -> 73 | W34: 名 | X34: ・ | Y34: 内： | Z34: =COUNTIF(E9:E33,"・")+COUNTIF(O9:O33,"・")+COUNTIF(Y9:Y33,"・") -> 2 | AC34: 名 | AD34: ）
A36: 紹介患者様氏名 | F36: 紹介先 | K36: 逆紹介患者様氏名 | P36: 紹介元 | U36: 処置実施者 | AA36: 処置内容
E37: 様 | K37: 高田 キミヨ | O37: 様 | P37: 三沢市立病院 | Z37: 様
A38: 本日の検査 | F38: 検査内容 | K38: 処置実施者 | P38: 処置内容 | Z38: 様
A39: 福田 ミキ | E39: 様 | F39: 血液検査 | K39: 小向 克也 | O39: 様 | P39: ｾﾞﾌﾟﾘｵﾝ150mg | Z39: 様
A40: 高田 キミヨ | E40: 様 | F40: HDS-R MMSE 血液検査 | O40: 様 | Z40: 様
A41: 吉田 ヤツヨ | E41: 様 | F41: HDS-R MMSE 血液検査 | O41: 様 | Z41: 様
E42: 様 | O42: 様 | U42: 点検項目
E43: 様 | O43: 様 | U43: 項目 | Z43: 時間 | AC43: 点検者
A44: 発熱 | F44: 下痢 | K44: 風邪薬 | P44: 男性：31 | U44: 医療廃棄物 | Y44: 0.75 | AB44: 石原 恵海
A45: 0 | F45: 0 | K45: 0 | P45: 女性：44 | U45: 戸締り | Y45: 0.75 | AB45: 松林 久美子
A47: 備考欄 | C47: （連絡事項・処方変更・その他）
G48: 特になし
G49: 石原

Sheet 22
B1: クリニック 日 誌 | H1: 令和 | J1: ='6'!J1 -> 3 | K1: 年 | L1: 6 | M1: 月 | N1: 22 | O1: 日 | Q1: （ | R1: 火 | S1: ） | V1: COO | Y1: IOO | AB1: AOM
A3: 勤務者名
A4: ='6'!A4:F4 -> 中村 恵理子 | G4: 日 | I4: 柳田 美雪 | N4: 日 | Q4: 診察室 | W4: 外来担当医 | Z4: 外来介助者
A5: 石原 恵海 | G5: 日 | I5: 石谷 美代子 | N5: 欠 | Q5: 第１診察室 | U5: 千葉 潜 | Z5: 柳田・石原
A6: 松林 久美子 | G6: 日 | Q6: 第２診察室 | U6: 坂田 優 | Z6: 柳田
B8: 新 | C8: 再 | D8: 精 | E8: 内 | F8: 処 | G8: 患者様氏名 | L8: 新 | M8: 再 | N8: 精 | O8: 内 | P8: 処 | Q8: 患者様氏名 | V8: 新 | W8: 再 | X8: 精 | Y8: 内 | Z8: 処 | AA8: 患者様氏名
A9: 1 | C9: ・ | D9: ・ | F9: 28 | G9: 大竹 紀美子 | J9: 様 | K9: 2 | M9: ・ | N9: ・ | P9: 42 | Q9: 前田 米藏 | T9: 様 | U9: 3 | W9: ・ | X9: ・ | Z9: 0 | AA9: 藤田 絢三 | AD9: 様
A10: 4 | C10: ・ | D10: ・ | F10: 30 | G10: 小又 清二 | J10: 様 | K10: 5 | M10: ・ | N10: ・ | P10: 42 | Q10: 二本松 富美子 | T10: 様 | U10: 6 | W10: ・ | X10: ・ | Z10: 0 | AA10: 萠出 きのゑ | AD10: 様
A11: 7 | C11: ・ | D11: ・ | F11: 56 | G11: 石田 晥 | J11: 様 | K11: 8 | M11: ・ | N11: ・ | P11: 28 | Q11: 橋本 英治 | T11: 様 | U11: 9 | W11: ・ | X11: ・ | Z11: 0 | AA11: 萠出 克治 | AD11: 様
A12: 10 | C12: ・ | D12: ・ | F12: 28 | G12: 濱田 志美 | J12: 様 | K12: 11 | M12: ・ | N12: ・ | P12: 14 | Q12: 坂本 郁子 | T12: 様 | U12: 12 | W12: ・ | X12: ・ | Z12: 0 | AA12: 山口 瑛子 | AD12: 様
A13: 13 | C13: ・ | D13: ・ | F13: 28 | G13: 大塚 弘志 | J13: 様 | K13: 14 | M13: ・ | N13: ・ | P13: 30 | Q13: 西山 節子 | T13: 様 | U13: 15 | W13: ・ | X13: ・ | Z13: 0 | AA13: 石井 佐代子 | AD13: 様
A14: 16 | C14: ・ | D14: ・ | F14: 28 | G14: 対馬 まき子 | J14: 様 | K14: 17 | M14: ・ | N14: ・ | P14: 56 | Q14: 本間 昇 | T14: 様 | U14: 18 | W14: ・ | X14: ・ | Z14: 0 | AA14: 山崎 ミドリ | AD14: 様
A15: 19 | C15: ・ | D15: ・ | F15: 30 | G15: 浦田 ミサ | J15: 様 | K15: 20 | M15: ・ | N15: ・ | P15: 42 | Q15: 吉崎 正代 | T15: 様 | U15: 21 | W15: ・ | X15: ・ | Z15: 0 | AA15: 藪 真弓 | AD15: 様
A16: 22 | C16: ・ | D16: ・ | F16: 28 | G16: 鳴海 穂波 | J16: 様 | K16: 23 | M16: ・ | N16: ・ | P16: 30 | Q16: 鈴木 正記 | T16: 様 | U16: 24 | W16: ・ | X16: ・ | Z16: 0 | AA16: 工藤 健壽 | AD16: 様
A17: 25 | C17: ・ | D17: ・ | F17: 28 | G17: 伊沢 リワ | J17: 様 | K17: 26 | M17: ・ | N17: ・ | P17: 28 | Q17: 工藤 希和子 | T17: 様 | U17: 27 | W17: ・ | X17: ・ | Z17: 0 | AA17: 高村 加津子 | AD17: 様
A18: 28 | C18: ・ | D18: ・ | F18: 28 | G18: 太田 広枝 | J18: 様 | K18: 29 | M18: ・ | N18: ・ | P18: 28 | Q18: 浄法寺 美有 | T18: 様 | U18: 30 | W18: ・ | X18: ・ | Z18: 0 | AA18: 石ケ谷 數子 | AD18: 様
A19: 31 | C19: ・ | D19: ・ | F19: 28 | G19: 成田 秀之 | J19: 様 | K19: 32 | M19: ・ | N19: ・ | P19: 28 | Q19: 木滝 三彦 | T19: 様 | U19: 33 | W19: ・ | X19: ・ | Z19: 0 | AA19: 坂本 佳之 | AD19: 様
A20: 34 | C20: ・ | D20: ・ | F20: 28 | G20: 成田 キヌエ | J20: 様 | K20: 35 | M20: ・ | N20: ・ | P20: 30 | Q20: 高橋 喬 | T20: 様 | U20: 36 | W20: ・ | X20: ・ | Z20: 0 | AA20: 田口 トシ子 | AD20: 様
... A31: 67 | C31: ・ | D31: ・ | F31: 28 | G31: 相馬 理奈 | J31: 様 | K31: 68 | M31: ・ | N31: ・ | P31: 28 | Q31: 藤川 雅之 | T31: 様 | U31: 69 | W31: ・ | X31: ・ | Z31: 28 | AA31: 佐藤 初男 | AD31: 様
A32: 70 | C32: ・ | D32: ・ | G32: 南 英文 | J32: 様 | K32: 71 | M32: ・ | N32: ・ | P32: 28 | Q32: 川村 一也 | T32: 様 | U32: 72 | V32: ・ | X32: ・ | Z32: 0 | AA32: 佐々木 健 | AD32: 様
A33: 外来患者数 | E33: 新： | F33: =COUNTIF(B9:B31,"・")+COUNTIF(L9:L31,"・")+COUNTIF(V9:V31,"・") -> 0 | H33: 名 | I33: 再： | J33: =COUNTIF(C9:C32,"・")+COUNTIF(M9:M32,"・")+COUNTIF(W9:W32,"・") -> 71 | L33: 名 | M33: 計： | N33: =SUM(F33:K33) -> 71 | Q33: 名 | R33: （ | S33: 精： | T33: =COUNTIF(D9:D32,"・")+COUNTIF(N9:N32,"・")+COUNTIF(X9:X32,"・") -> 72 | W33: 名 | X33: ・ | Y33: 内： | Z33: =COUNTIF(E9:E31,"・")+COUNTIF(O9:O31,"・")+COUNTIF(Y9:Y31,"・") -> 0 | AC33: 名 | AD33: ）
A35: 紹介患者様氏名 | F35: 紹介先 | K35: 逆紹介患者様氏名 | P35: 紹介元 | U35: 処置実施者 | AA35: 処置内容
E36: 様 | O36: 様 | Z36: 様
A37: 本日の検査 | F37: 検査内容 | K37: 処置実施者 | P37: 処置内容 | Z37: 様
E38: 様 | K38: 野田 菊枝 | O38: 様 | P38: ｾﾞﾌﾟﾘｵﾝ100mg 1セット | Z38: 様
E39: 様 | K39: 川村 魁人 | O39: 様 | P39: ハロマンス(100) 1A | Z39: 様
E40: 様 | O40: 様 | U40: 点検項目
E41: 様 | O41: 様 | U41: 項目 | Z41: 時間 | AC41: 点検者
A42: 発熱 | F42: 下痢 | K42: 風邪薬 | P42: 男性：32 | U42: 医療廃棄物 | Y42: 0.75 | AB42: 石原 恵海
A43: 0 | F43: 0 | K43: 0 | P43: 女性：40 | U43: 戸締り | Y43: 0.75 | AB43: 松林 久美子
A45: 備考欄 | C45: （連絡事項・処方変更・その他）
G46: 特になし
G47: 石原

Sheet 23
B1: クリニック 日 誌 | H1: 令和 | J1: ='6'!J1 -> 3 | K1: 年 | L1: 6 | M1: 月 | N1: 23 | O1: 日 | Q1: （ | R1: 水 | S1: ） | V1: COO | Y1: IOO | AB1: AOM
A3: 勤務者名
A4: ='6'!A4:F4 -> 中村 恵理子 | G4: 日 | I4: 柳田 美雪 | N4: 日 | Q4: 診察室 | W4: 外来担当医 | Z4: 外来介助者
A5: 石原 恵海 | G5: 日 | I5: 石谷 美代子 | N5: 欠 | Q5: 第１診察室 | U5: 千葉 潜 | Z5: 柳田・石原
A6: 松林 久美子 | G6: 日 | I6: 堀 安由美 | N6: 日 | Q6: 第２診察室 | U6: 坂田 優 | Z6: 柳田
B8: 新 | C8: 再 | D8: 精 | E8: 内 | F8: 処 | G8: 患者様氏名 | L8: 新 | M8: 再 | N8: 精 | O8: 内 | P8: 処 | Q8: 患者様氏名 | V8: 新 | W8: 再 | X8: 精 | Y8: 内 | Z8: 処 | AA8: 患者様氏名
A9: 1 | C9: ・ | D9: ・ | F9: 42 | G9: 附田 富貴子 | J9: 様 | K9: 2 | M9: ・ | N9: ・ | P9: 28 | Q9: 岡本 光男 | T9: 様 | U9: 3 | W9: ・ | X9: ・ | Z9: 0 | AA9: 山本 伸子 | AD9: 様
A10: 4 | C10: ・ | D10: ・ | F10: 37 | G10: 石橋 力也 | J10: 様 | K10: 5 | M10: ・ | N10: ・ | P10: 30 | Q10: 中市 マツエ | T10: 様 | U10: 6 | W10: ・ | X10: ・ | Z10: 0 | AA10: 沼端 ミセ | AD10: 様
A11: 7 | C11: ・ | D11: ・ | F11: 28 | G11: 白取 イツ子 | J11: 様 | K11: 8 | M11: ・ | N11: ・ | P11: 14 | Q11: 佐藤 有紗 | T11: 様 | U11: 9 | W11: ・ | X11: ・ | Z11: 0 | AA11: 山口 瑛子 | AD11: 様
A12: 10 | C12: ・ | D12: ・ | F12: 30 | G12: 小比類巻 千和子 | J12: 様 | K12: 11 | M12: ・ | N12: ・ | P12: 28 | Q12: 馬場 真由美 | T12: 様 | U12: 12 | W12: ・ | X12: ・ | Z12: 0 | AA12: 深町 栄美子 | AD12: 様
A13: 13 | C13: ・ | D13: ・ | F13: 28 | G13: 渡辺 クニ | J13: 様 | K13: 14 | M13: ・ | N13: ・ | P13: 28 | Q13: 丸谷 美香 | T13: 様 | U13: 15 | W13: ・ | X13: ・ | Z13: 0 | AA13: 萠出 きのゑ | AD13: 様
A14: 16 | C14: ・ | D14: ・ | F14: 28 | G14: 安部 信祥 | J14: 様 | K14: 17 | M14: ・ | N14: ・ | P14: 28 | Q14: 駒澤 眞次 | T14: 様 | U14: 18 | W14: ・ | X14: ・ | Z14: 0 | AA14: 萠出 克治 | AD14: 様
A15: 19 | C15: ・ | D15: ・ | F15: 28 | G15: 中野渡 節子 | J15: 様 | K15: 20 | M15: ・ | N15: ・ | P15: 28 | Q15: 冨岡 寿紀 | T15: 様 | U15: 21 | W15: ・ | X15: ・ | Z15: 0 | AA15: 豊川 洋子 | AD15: 様
A16: 22 | C16: ・ | D16: ・ | F16: 28 | G16: 齊藤 満寿男 | J16: 様 | K16: 23 | M16: ・ | N16: ・ | P16: 56 | Q16: 古間木 義美 | T16: 様 | U16: 24 | W16: ・ | X16: ・ | Z16: 0 | AA16: 瀬川 高雄 | AD16: 様
A17: 25 | C17: ・ | D17: ・ | F17: 56 | G17: 大村 千鶴子 | J17: 様 | K17: 26 | M17: ・ | N17: ・ | P17: 42 | Q17: 平野 晶子 | T17: 様 | U17: 27 | W17: ・ | X17: ・ | Z17: 0 | AA17: 工藤 健壽 | AD17: 様
A18: 28 | C18: ・ | D18: ・ | F18: 28 | G18: 中村 久美子 | J18: 様 | K18: 29 | M18: ・ | N18: ・ | P18: 28 | Q18: 綿貫 啓子 | T18: 様 | U18: 30 | W18: ・ | X18: ・ | Z18: 0 | AA18: 高村 加津子 | AD18: 様
A19: 31 | C19: ・ | D19: ・ | F19: 28 | G19: 濤岡 定四郎 | J19: 様 | K19: 32 | M19: ・ | N19: ・ | P19: 28 | Q19: 浪岡 ヒデ | T19: 様 | U19: 33 | W19: ・ | X19: ・ | Z19: 0 | AA19: 田口 トシ子 | AD19: 様
A20: 34 | C20: ・ | D20: ・ | F20: 28 | G20: 古田 テル子 | J20: 様 | K20: 35 | M20: ・ | N20: ・ | P20: 14 | Q20: 沼田 由貴 | T20: 様 | U20: 36 | W20: ・ | X20: ・ | Z20: 0 | AA20: 大木 久子 | AD20: 様
... A22: 40 | C22: ・ | D22: ・ | F22: 28 | G22: 清野 栄子 | J22: 様 | K22: 41 | M22: ・ | N22: ・ | P22: 28 | Q22: 野村 隆一 | T22: 様 | U22: 42 | W22: ・ | X22: ・ | Z22: 0 | AA22: 相田 敏子 | AD22: 様
A23: 43 | C23: ・ | E23: ・ | F23: 0 | G23: 柳田 美雪 | J23: 様 | K23: 44 | M23: ・ | N23: ・ | P23: 28 | Q23: 三村 幸喜 | T23: 様 | U23: 45 | W23: ・ | X23: ・ | Z23: 0 | AA23: 坂本 政勝 | AD23: 様
A24: 46 | C24: ・ | E24: ・ | F24: 0 | G24: 村山 義信 | J24: 様 | K24: 47 | M24: ・ | N24: ・ | P24: 28 | Q24: 柏葉 信子 | T24: 様 | U24: 48 | W24: ・ | X24: ・ | Z24: 0 | AA24: 杉山 博子 | AD24: 様
A25: 49 | C25: ・ | D25: ・ | F25: 28 | G25: 沼尾 千春 | J25: 様 | K25: 50 | M25: ・ | N25: ・ | P25: 14 | Q25: 菅藤 麻美 | T25: 様 | U25: 51 | W25: ・ | X25: ・ | Z25: 0 | AA25: 犀川 知行 | AD25: 様
A26: 52 | C26: ・ | D26: ・ | F26: 28 | G26: 菊地 成年 | J26: 様 | K26: 53 | M26: ・ | N26: ・ | P26: 28 | Q26: 末竹 秀子 | T26: 様 | U26: 54 | W26: ・ | X26: ・ | Z26: 0 | AA26: 山辺 晴輝 | AD26: 様
A27: 55 | C27: ・ | D27: ・ | F27: 28 | G27: 鍛冶場 裕 | J27: 様 | K27: 56 | M27: ・ | N27: ・ | P27: 28 | Q27: 小西 豊美 | T27: 様 | U27: 57 | W27: ・ | X27: ・ | Z27: 28 | AA27: 下田 末五郎 | AD27: 様
A28: 58 | B28: ・ | D28: ・ | F28: 28 | G28: 藤原 洋 | J28: 様 | K28: 59 | M28: ・ | N28: ・ | P28: 28 | Q28: 坂田 佳織 | T28: 様 | U28: 60 | W28: ・ | X28: ・ | Z28: 28 | AA28: 下田 守雄 | AD28: 様
A29: 61 | C29: ・ | D29: ・ | F29: 28 | G29: 角 節子 | J29: 様 | K29: 62 | M29: ・ | N29: ・ | P29: 14 | Q29: 小笠原 菜摘 | T29: 様 | U29: 63 | W29: ・ | X29: ・ | Z29: 30 | AA29: 種市 日出男 | AD29: 様
A30: 64 | C30: ・ | D30: ・ | F30: 28 | G30: 濤岡 ゆかり | J30: 様 | K30: 65 | M30: ・ | N30: ・ | P30: 42 | Q30: シャムズ バスミナ | T30: 様 | U30: 66 | W30: ・ | X30: ・ | Z30: 30 | AA30: 木村 めぐみ | AD30: 様
A31: 67 | C31: ・ | D31: ・ | F31: 30 | G31: 木村 朋子 | J31: 様 | K31: 68 | M31: ・ | N31: ・ | P31: 28 | Q31: 須藤 直子 | T31: 様 | U31: 69 | W31: ・ | X31: ・ | Z31: 28 | AA31: 大渡 信光 | AD31: 様
A32: 70 | C32: ・ | D32: ・ | F32: 60 | G32: 駒澤 喜一 | J32: 様 | K32: 71 | T32: 様 | U32: 72 | AD32: 様
A33: 外来患者数 | E33: 新： | F33: =COUNTIF(B9:B32,"・")+COUNTIF(L9:L32,"・")+COUNTIF(V9:V32,"・") -> 1 | H33: 名 | I33: 再： | J33: =COUNTIF(C9:C32,"・")+COUNTIF(M9:M32,"・")+COUNTIF(W9:W32,"・") -> 69 | L33: 名 | M33: 計： | N33: =SUM(F33:K33) -> 70 | Q33: 名 | R33: （ | S33: 精： | T33: =COUNTIF(D9:D32,"・")+COUNTIF(N9:N32,"・")+COUNTIF(X9:X32,"・") -> 68 | W33: 名 | X33: ・ | Y33: 内： | Z33: =COUNTIF(E9:E32,"・")+COUNTIF(O9:O32,"・")+COUNTIF(Y9:Y32,"・") -> 2 | AC33: 名 | AD33: ）
A35: 紹介患者様氏名 | F35: 紹介先 | K35: 逆紹介患者様氏名 | P35: 紹介元 | U35: 処置実施者 | AA35: 処置内容
E36: 様 | K36: 藤原 洋 | O36: 様 | P36: メンタルクリニックいたばし | Z36: 様
A37: 本日の検査 | F37: 検査内容 | K37: 処置実施者 | P37: 処置内容 | Z37: 様
A38: 中村 久美子 | E38: 様 | F38: 血液検査 | O38: 様 | Z38: 様
A39: 村山 義信 | E39: 様 | F39: 血液検査 | O39: 様 | Z39: 様
A40: 柳田 美雪 | E40: 様 | F40: 血液検査 | O40: 様 | Z40: 様
A41: 犀川 知行 | E41: 様 | F41: WAIS | O41: 様 | U41: 点検項目
A42: 山辺 晴輝 | E42: 様 | F42: WAIS | O42: 様 | U42: 項目 | Z42: 時間 | AC42: 点検者
A43: 発熱 | F43: 下痢 | K43: 風邪薬 | P43: 男性：26 | U43: 医療廃棄物 | Y43: 0.75 | AB43: 石原 恵海
A44: 0 | F44: 0 | K44: 0 | P44: 女性：44 | U44: 戸締り | Y44: 0.75 | AB44: 松林 久美子
A46: 備考欄 | C46: （連絡事項・処方変更・その他）
G47: 特になし
G48: 石原

Sheet 24
B1: クリニック 日 誌 | H1: 令和 | J1: ='6'!J1 -> 3 | K1: 年 | L1: 6 | M1: 月 | N1: 24 | O1: 日 | Q1: （ | R1: 水 | S1: ） | V1: COO | Y1: IOO | AB1: AOM
A3: 勤務者名
A4: ='6'!A4:F4 -> 中村 恵理子 | G4: 日 | I4: 柳田 美雪 | N4: 日 | Q4: 診察室 | W4: 外来担当医 | Z4: 外来介助者
A5: 石原 恵海 | G5: 日 | I5: 石谷 美代子 | N5: 欠 | Q5: 第１診察室 | U5: 千葉 潜 | Z5: 石原
A6: 松林 久美子 | G6: 日 | Q6: 第２診察室
B8: 新 | C8: 再 | D8: 精 | E8: 内 | F8: 処 | G8: 患者様氏名 | L8: 新 | M8: 再 | N8: 精 | O8: 内 | P8: 処 | Q8: 患者様氏名 | V8: 新 | W8: 再 | X8: 精 | Y8: 内 | Z8: 処 | AA8: 患者様氏名
A9: 1 | C9: ・ | D9: ・ | F9: 28 | G9: 二又 安子 | J9: 様 | K9: 2 | M9: ・ | N9: ・ | P9: 30 | Q9: 坂本 丈夫 | T9: 様 | U9: 3 | W9: ・ | X9: ・ | Z9: 0 | AA9: 西舘 瞳 | AD9: 様
A10: 4 | C10: ・ | D10: ・ | F10: 28 | G10: 中平 陽香 | J10: 様 | K10: 5 | M10: ・ | N10: ・ | P10: 14 | Q10: 木村 健 | T10: 様 | U10: 6 | W10: ・ | X10: ・ | Z10: 0 | AA10: 工藤 健壽 | AD10: 様
A11: 7 | C11: ・ | D11: ・ | F11: 28 | G11: 太田 明子 | J11: 様 | K11: 8 | M11: ・ | N11: ・ | P11: 56 | Q11: 相内 太子 | T11: 様 | U11: 9 | W11: ・ | X11: ・ | Z11: 0 | AA11: 山口 瑛子 | AD11: 様
A12: 10 | C12: ・ | D12: ・ | F12: 14 | G12: 織笠 勝男 | J12: 様 | K12: 11 | M12: ・ | N12: ・ | P12: 8 | Q12: 山本 ハナ | T12: 様 | U12: 12 | W12: ・ | X12: ・ | Z12: 0 | AA12: 山本 伸子 | AD12: 様
A13: 13 | C13: ・ | D13: ・ | F13: 28 | G13: 山田 代志弘 | J13: 様 | K13: 14 | M13: ・ | N13: ・ | P13: 0 | Q13: 大久保 直将 | T13: 様 | U13: 15 | W13: ・ | X13: ・ | Z13: 0 | AA13: 田口 トシ子 | AD13: 様
A14: 16 | C14: ・ | D14: ・ | F14: 30 | G14: 石岡 正利 | J14: 様 | K14: 17 | M14: ・ | N14: ・ | P14: 7 | Q14: 中居 敬悦 | T14: 様 | U14: 18 | W14: ・ | X14: ・ | Z14: 0 | AA14: 綿貫 啓子 | AD14: 様
A15: 19 | C15: ・ | D15: ・ | F15: 30 | G15: 田村 美津子 | J15: 様 | K15: 20 | M15: ・ | N15: ・ | P15: 14 | Q15: 五代儀 禮子 | T15: 様 | U15: 21 | W15: ・ | X15: ・ | Z15: 0 | AA15: 藤田 絢三 | AD15: 様
A16: 22 | C16: ・ | D16: ・ | F16: 90 | G16: 東峯 光喜 | J16: 様 | K16: 23 | L16: ・ | N16: ・ | P16: 30 | Q16: 野上 秀美 | T16: 様 | U16: 24 | W16: ・ | X16: ・ | Z16: 0 | AA16: 瀬川 高雄 | AD16: 様
A17: 25 | C17: ・ | D17: ・ | F17: 28 | G17: 馬場 トシ | J17: 様 | K17: 26 | M17: ・ | N17: ・ | P17: 30 | Q17: 横浜 秀一 | T17: 様 | U17: 27 | W17: ・ | X17: ・ | Z17: 0 | AA17: 相田 敏子 | AD17: 様
A18: 28 | C18: ・ | D18: ・ | F18: 30 | G18: 久保 典子 | J18: 様 | K18: 29 | M18: ・ | N18: ・ | P18: 30 | Q18: 河原崎 キヨエ | T18: 様 | U18: 30 | W18: ・ | X18: ・ | Z18: 0 | AA18: 大木 久子 | AD18: 様
A19: 31 | C19: ・ | D19: ・ | F19: 28 | G19: 新山 優衣 | J19: 様 | K19: 32 | M19: ・ | N19: ・ | P19: 30 | Q19: 鈴木 愛子 | T19: 様 | U19: 33 | W19: ・ | X19: ・ | Z19: 0 | AA19: 高村 加津子 | AD19: 様
A20: 34 | C20: ・ | D20: ・ | F20: 28 | G20: 橋本 豊彦 | J20: 様 | K20: 35 | M20: ・ | N20: ・ | P20: 28 | Q20: 柴田 葉子 | T20: 様 | U20: 36 | W20: ・ | X20: ・ | Z20: 0 | AA20: 坂本 政勝 | AD20: 様
A21: 37 | C21: ・ | D21: ・ | F21: 30 | G21: 小向 忍 | J21: 様 | K21: 38 | M21: ・ | N21: ・ | P21: 28 | Q21: 和田 春奈 | T21: 様 | U21: 39 | W21: ・ | X21: ・ | Z21: 0 | AA21: 酒田 朋紀 | AD21: 様
A22: 40 | B22: ・ | D22: ・ | F22: 28 | G22: 中山 慎也 | J22: 様 | K22: 41 | L22: ・ | N22: ・ | P22: 7 | Q22: 江尻 祐衣 | T22: 様 | U22: 42 | W22: ・ | X22: ・ | Z22: 0 | AA22: 駒澤 キヤ | AD22: 様
A23: 43 | B23: ・ | D23: ・ | F23: 7 | G23: 佐々木 未悠 | J23: 様 | K23: 44 | L23: ・ | N23: ・ | P23: 0 | Q23: 濤岡 すみ | T23: 様 | U23: 45 | W23: ・ | X23: ・ | Z23: 0 | AA23: 安部 信祥 | AD23: 様
A24: 46 | C24: ・ | D24: ・ | F24: 0 | G24: 橘 大進 | J24: 様 | K24: 47 | L24: ・ | N24: ・ | P24: 0 | Q24: 平尾 柊人 | T24: 様 | U24: 48 | V24: ・ | X24: ・ | Z24: 7 | AA24: 熊野 忠明 | AD24: 様
A25: 外来患者数 | E25: 新： | F25: =COUNTIF(B9:B24,"・")+COUNTIF(L9:L24,"・")+COUNTIF(V9:V24,"・") -> 7 | H25: 名 | I25: 再： | J25: =COUNTIF(C9:C24,"・")+COUNTIF(M9:M24,"・")+COUNTIF(W9:W24,"・") -> 41 | L25: 名 | M25: 計： | N25: =SUM(F25:K25) -> 48 | Q25: 名 | R25: （ | S25: 精： | T25: =COUNTIF(D9:D24,"・")+COUNTIF(N9:N24,"・")+COUNTIF(X9:X24,"・") -> 48 | W25: 名 | X25: ・ | Y25: 内： | Z25: =COUNTIF(E9:E24,"・")+COUNTIF(O9:O24,"・")+COUNTIF(Y9:Y24,"・") -> 0 | AC25: 名 | AD25: ）
A27: 紹介患者様氏名 | F27: 紹介先 | K27: 逆紹介患者様氏名 | P27: 紹介元 | U27: 処置実施者 | AA27: 処置内容
E28: 様 | K28: 熊野 忠明 | O28: 様 | P28: まつぞのクリニック | Z28: 様
A29: 本日の検査 | F29: 検査内容 | K29: 処置実施者 | P29: 処置内容 | Z29: 様
A30: 坂本 丈夫 | E30: 様 | F30: 血液検査 | O30: 様 | Z30: 様
A31: 大久保 直将 | E31: 様 | F31: WAIS | O31: 様 | Z31: 様
A32: 太田 明子 | E32: 様 | F32: 血液検査 | O32: 様 | Z32: 様
A33: 橘 大進 | E33: 様 | F33: WAIS | O33: 様 | U33: 点検項目
E34: 様 | O34: 様 | U34: 項目 | Z34: 時間 | AC34: 点検者
A35: 発熱 | F35: 下痢 | K35: 風邪薬 | P35: 男性：22 | U35: 医療廃棄物 | Y35: 0.75 | AB35: 柳田 美雪
A36: 0 | F36: 0 | K36: 0 | P36: 女性：26 | U36: 戸締り | Y36: 0.75 | AB36: ='6'!AB49:AD49 -> 中村 恵理子
A38: 備考欄 | C38: （連絡事項・処方変更・その他）
G39: 特記なし
G40: 柳田

Sheet 25
B1: クリニック 日 誌 | H1: 令和 | J1: ='6'!J1 -> 3 | K1: 年 | L1: 6 | M1: 月 | N1: 25 | O1: 日 | Q1: （ | S1: ） | V1: COO | Y1: IOO | AB1: AOM
A3: 勤務者名
A4: ='6'!A4:F4 -> 中村 恵理子 | G4: 日 | I4: 柳田 美雪 | N4: 日 | Q4: 診察室 | W4: 外来担当医 | Z4: 外来介助者
A5: 石原 恵海 | G5: 日 | I5: 石谷 美代子 | N5: 欠 | Q5: 第１診察室 | U5: 千葉 潜 | Z5: 柳田・石原
A6: 松林 久美子 | G6: 日 | Q6: 第２診察室 | U6: 坂田 優 | Z6: 柳田
B8: 新 | C8: 再 | D8: 精 | E8: 内 | F8: 処 | G8: 患者様氏名 | L8: 新 | M8: 再 | N8: 精 | O8: 内 | P8: 処 | Q8: 患者様氏名 | V8: 新 | W8: 再 | X8: 精 | Y8: 内 | Z8: 処 | AA8: 患者様氏名
A9: 1 | C9: ・ | D9: ・ | J9: 様 | K9: 2 | M9: ・ | N9: ・ | T9: 様 | U9: 3 | W9: ・ | X9: ・ | AD9: 様
A10: 4 | C10: ・ | D10: ・ | J10: 様 | K10: 5 | M10: ・ | N10: ・ | T10: 様 | U10: 6 | W10: ・ | X10: ・ | AD10: 様
A11: 7 | C11: ・ | D11: ・ | J11: 様 | K11: 8 | M11: ・ | N11: ・ | T11: 様 | U11: 9 | W11: ・ | X11: ・ | AD11: 様
A12: 10 | C12: ・ | D12: ・ | J12: 様 | K12: 11 | M12: ・ | N12: ・ | T12: 様 | U12: 12 | W12: ・ | X12: ・ | AD12: 様
A13: 13 | C13: ・ | D13: ・ | J13: 様 | K13: 14 | M13: ・ | N13: ・ | T13: 様 | U13: 15 | W13: ・ | X13: ・ | AD13: 様
A14: 16 | C14: ・ | D14: ・ | J14: 様 | K14: 17 | M14: ・ | N14: ・ | T14: 様 | U14: 18 | W14: ・ | X14: ・ | AD14: 様
A15: 19 | C15: ・ | D15: ・ | J15: 様 | K15: 20 | M15: ・ | N15: ・ | T15: 様 | U15: 21 | W15: ・ | X15: ・ | AD15: 様
A16: 22 | C16: ・ | D16: ・ | J16: 様 | K16: 23 | M16: ・ | N16: ・ | T16: 様 | U16: 24 | W16: ・ | X16: ・ | AD16: 様
A17: 25 | C17: ・ | D17: ・ | J17: 様 | K17: 26 | M17: ・ | N17: ・ | T17: 様 | U17: 27 | W17: ・ | X17: ・ | AD17: 様
A18: 28 | C18: ・ | D18: ・ | J18: 様 | K18: 29 | M18: ・ | N18: ・ | T18: 様 | U18: 30 | W18: ・ | X18: ・ | AD18: 様
A19: 31 | C19: ・ | D19: ・ | J19: 様 | K19: 32 | M19: ・ | N19: ・ | T19: 様 | U19: 33 | W19: ・ | X19: ・ | AD19: 様
A20: 34 | C20: ・ | D20: ・ | J20: 様 | K20: 35 | M20: ・ | N20: ・ | T20: 様 | U20: 36 | W20: ・ | X20: ・ | AD20: 様
... A25: 49 | C25: ・ | D25: ・ | J25: 様 | K25: 50 | M25: ・ | N25: ・ | T25: 様 | U25: 51 | W25: ・ | X25: ・ | AD25: 様
A26: 52 | J26: 様 | K26: 53 | T26: 様 | U26: 54 | AD26: 様
A27: 55 | J27: 様 | K27: 56 | T27: 様 | U27: 57 | AD27: 様
A28: 58 | J28: 様 | K28: 59 | T28: 様 | U28: 60 | AD28: 様
A29: 61 | J29: 様 | K29: 62 | T29: 様 | U29: 63 | AD29: 様
A30: 64 | J30: 様 | K30: 65 | T30: 様 | U30: 66 | AD30: 様
A31: 67 | J31: 様 | K31: 68 | T31: 様 | U31: 69 | AD31: 様
A32: 70 | J32: 様 | K32: 71 | T32: 様 | U32: 72 | AD32: 様
A33: 73 | J33: 様 | K33: 74 | T33: 様 | U33: 75 | AD33: 様
A34: 外来患者数 | E34: 新： | F34: =COUNTIF(B9:B33,"・")+COUNTIF(L9:L33,"・")+COUNTIF(V9:V33,"・") -> 0 | H34: 名 | I34: 再： | J34: =COUNTIF(C9:C33,"・")+COUNTIF(M9:M33,"・")+COUNTIF(W9:W33,"・") -> 51 | L34: 名 | M34: 計： | N34: =SUM(F34:K34) -> 51 | Q34: 名 | R34: （ | S34: 精： | T34: =COUNTIF(D9:D33,"・")+COUNTIF(N9:N33,"・")+COUNTIF(X9:X33,"・") -> 51 | W34: 名 | X34: ・ | Y34: 内： | Z34: =COUNTIF(E9:E33,"・")+COUNTIF(O9:O33,"・")+COUNTIF(Y9:Y33,"・") -> 0 | AC34: 名 | AD34: ）
A36: 紹介患者様氏名 | F36: 紹介先 | K36: 逆紹介患者様氏名 | P36: 紹介元 | U36: 処置実施者 | AA36: 処置内容
E37: 様 | O37: 様 | Z37: 様
E38: 様 | O38: 様 | Z38: 様
E39: 様 | O39: 様 | Z39: 様
E40: 様 | O40: 様 | Z40: 様
E41: 様 | O41: 様 | Z41: 様
A42: 本日の検査 | F42: 検査内容 | K42: 処置実施者 | P42: 処置内容 | Z42: 様
E43: 様 | O43: 様 | Z43: 様
E44: 様 | O44: 様 | Z44: 様
E45: 様 | O45: 様 | Z45: 様
E46: 様 | O46: 様 | U46: 点検項目
E47: 様 | O47: 様 | U47: 項目 | Z47: 時間 | AC47: 点検者
A48: 発熱 | F48: 下痢 | K48: 風邪薬 | P48: 男性： | U48: 医療廃棄物 | Y48: 0.75 | AB48: 柳田美雪
A49: 0 | F49: 0 | K49: 0 | P49: 女性： | U49: 戸締り | Y49: 0.75 | AB49: ='6'!AB49:AD49 -> 中村 恵理子
A51: 備考欄 | C51: （連絡事項・処方変更・その他）

Sheet 26
B1: クリニック 日 誌 | H1: 令和 | J1: ='6'!J1 -> 3 | K1: 年 | L1: 6 | M1: 月 | N1: 26 | O1: 日 | Q1: （ | S1: ） | V1: COO | Y1: IOO | AB1: AOM
A3: 勤務者名
A4: ='6'!A4:F4 -> 中村 恵理子 | G4: 日 | I4: 柳田 美雪 | N4: 日 | Q4: 診察室 | W4: 外来担当医 | Z4: 外来介助者
A5: 石原 恵海 | G5: 日 | I5: 石谷 美代子 | N5: 欠 | Q5: 第１診察室 | U5: 千葉 潜 | Z5: 柳田・恵谷
A6: 松林 久美子 | G6: 日 | Q6: 第２診察室 | U6: 坂田 優 | Z6: 柳田
B8: 新 | C8: 再 | D8: 精 | E8: 内 | F8: 処 | G8: 患者様氏名 | L8: 新 | M8: 再 | N8: 精 | O8: 内 | P8: 処 | Q8: 患者様氏名 | V8: 新 | W8: 再 | X8: 精 | Y8: 内 | Z8: 処 | AA8: 患者様氏名
A9: 1 | J9: 様 | K9: 2 | T9: 様 | U9: 3 | AD9: 様
A10: 4 | J10: 様 | K10: 5 | T10: 様 | U10: 6 | AD10: 様
A11: 7 | J11: 様 | K11: 8 | T11: 様 | U11: 9 | AD11: 様
A12: 10 | J12: 様 | K12: 11 | T12: 様 | U12: 12 | AD12: 様
A13: 13 | J13: 様 | K13: 14 | T13: 様 | U13: 15 | AD13: 様
A14: 16 | J14: 様 | K14: 17 | T14: 様 | U14: 18 | AD14: 様
A15: 19 | J15: 様 | K15: 20 | T15: 様 | U15: 21 | AD15: 様
A16: 22 | J16: 様 | K16: 23 | T16: 様 | U16: 24 | AD16: 様
A17: 25 | J17: 様 | K17: 26 | T17: 様 | U17: 27 | AD17: 様
A18: 28 | J18: 様 | K18: 29 | T18: 様 | U18: 30 | AD18: 様
A19: 31 | J19: 様 | K19: 32 | T19: 様 | U19: 33 | AD19: 様
A20: 34 | J20: 様 | K20: 35 | T20: 様 | U20: 36 | AD20: 様
... A33: 73 | J33: 様 | K33: 74 | T33: 様 | U33: 75 | AD33: 様
A34: 外来患者数 | E34: 新： | F34: =COUNTIF(B9:B33,"・")+COUNTIF(L9:L33,"・")+COUNTIF(V9:V33,"・") -> 0 | H34: 名 | I34: 再： | J34: =COUNTIF(C9:C33,"・")+COUNTIF(M9:M33,"・")+COUNTIF(W9:W33,"・") -> 0 | L34: 名 | M34: 計： | N34: =SUM(F34:K34) -> 0 | Q34: 名 | R34: （ | S34: 精： | T34: =COUNTIF(D9:D33,"・")+COUNTIF(N9:N33,"・")+COUNTIF(X9:X33,"・") -> 0 | W34: 名 | X34: ・ | Y34: 内： | Z34: =COUNTIF(E9:E33,"・")+COUNTIF(O9:O33,"・")+COUNTIF(Y9:Y33,"・") -> 0 | AC34: 名 | AD34: ）
A36: 紹介患者様氏名 | F36: 紹介先 | K36: 逆紹介患者様氏名 | P36: 紹介元 | U36: 処置実施者 | AA36: 処置内容
E37: 様 | O37: 様 | Z37: 様
E38: 様 | O38: 様 | Z38: 様
E39: 様 | O39: 様 | Z39: 様
E40: 様 | O40: 様 | Z40: 様
E41: 様 | O41: 様 | Z41: 様
A42: 本日の検査 | F42: 検査内容 | K42: 処置実施者 | P42: 処置内容 | Z42: 様
E43: 様 | O43: 様 | Z43: 様
E44: 様 | O44: 様 | Z44: 様
E45: 様 | O45: 様 | Z45: 様
E46: 様 | O46: 様 | U46: 点検項目
E47: 様 | O47: 様 | U47: 項目 | Z47: 時間 | AC47: 点検者
A48: 発熱 | F48: 下痢 | K48: 風邪薬 | P48: 男性： | U48: 医療廃棄物 | Y48: 0.75 | AB48: 柳田美雪
A49: 0 | F49: 0 | K49: 0 | P49: 女性： | U49: 戸締り | Y49: 0.75 | AB49: ='6'!AB49:AD49 -> 中村 恵理子
A51: 備考欄 | C51: （連絡事項・処方変更・その他）

Sheet 27
B1: クリニック 日 誌 | H1: 令和 | J1: ='6'!J1 -> 3 | K1: 年 | L1: 6 | M1: 月 | N1: 27 | O1: 日 | Q1: （ | S1: ） | V1: COO | Y1: IOO | AB1: AOM
A3: 勤務者名
A4: ='6'!A4:F4 -> 中村 恵理子 | G4: 日 | I4: 柳田 美雪 | N4: 日 | Q4: 診察室 | W4: 外来担当医 | Z4: 外来介助者
A5: 石原 恵海 | G5: 日 | I5: 石谷 美代子 | N5: 欠 | Q5: 第１診察室 | U5: 千葉 潜
A6: 松林 久美子 | G6: 日 | Q6: 第２診察室 | U6: 坂田 優 | Z6: 柳田
B8: 新 | C8: 再 | D8: 精 | E8: 内 | F8: 処 | G8: 患者様氏名 | L8: 新 | M8: 再 | N8: 精 | O8: 内 | P8: 処 | Q8: 患者様氏名 | V8: 新 | W8: 再 | X8: 精 | Y8: 内 | Z8: 処 | AA8: 患者様氏名
A9: 1 | J9: 様 | K9: 2 | T9: 様 | U9: 3 | AD9: 様
A10: 4 | J10: 様 | K10: 5 | T10: 様 | U10: 6 | AD10: 様
A11: 7 | J11: 様 | K11: 8 | T11: 様 | U11: 9 | AD11: 様
A12: 10 | J12: 様 | K12: 11 | T12: 様 | U12: 12 | AD12: 様
A13: 13 | J13: 様 | K13: 14 | T13: 様 | U13: 15 | AD13: 様
A14: 16 | J14: 様 | K14: 17 | T14: 様 | U14: 18 | AD14: 様
A15: 19 | J15: 様 | K15: 20 | T15: 様 | U15: 21 | AD15: 様
A16: 22 | J16: 様 | K16: 23 | T16: 様 | U16: 24 | AD16: 様
A17: 25 | J17: 様 | K17: 26 | T17: 様 | U17: 27 | AD17: 様
A18: 28 | J18: 様 | K18: 29 | T18: 様 | U18: 30 | AD18: 様
A19: 31 | J19: 様 | K19: 32 | T19: 様 | U19: 33 | AD19: 様
A20: 34 | J20: 様 | K20: 35 | T20: 様 | U20: 36 | AD20: 様
... A33: 73 | J33: 様 | K33: 74 | T33: 様 | U33: 75 | AD33: 様
A34: 外来患者数 | E34: 新： | F34: =COUNTIF(B9:B33,"・")+COUNTIF(L9:L33,"・")+COUNTIF(V9:V33,"・") -> 0 | H34: 名 | I34: 再： | J34: =COUNTIF(C9:C33,"・")+COUNTIF(M9:M33,"・")+COUNTIF(W9:W33,"・") -> 0 | L34: 名 | M34: 計： | N34: =SUM(F34:K34) -> 0 | Q34: 名 | R34: （ | S34: 精： | T34: =COUNTIF(D9:D33,"・")+COUNTIF(N9:N33,"・")+COUNTIF(X9:X33,"・") -> 0 | W34: 名 | X34: ・ | Y34: 内： | Z34: =COUNTIF(E9:E33,"・")+COUNTIF(O9:O33,"・")+COUNTIF(Y9:Y33,"・") -> 0 | AC34: 名 | AD34: ）
A36: 紹介患者様氏名 | F36: 紹介先 | K36: 逆紹介患者様氏名 | P36: 紹介元 | U36: 処置実施者 | AA36: 処置内容
E37: 様 | O37: 様 | Z37: 様
E38: 様 | O38: 様 | Z38: 様
E39: 様 | O39: 様 | Z39: 様
E40: 様 | O40: 様 | Z40: 様
E41: 様 | O41: 様 | Z41: 様
A42: 本日の検査 | F42: 検査内容 | K42: 処置実施者 | P42: 処置内容 | Z42: 様
E43: 様 | O43: 様 | Z43: 様
E44: 様 | O44: 様 | Z44: 様
E45: 様 | O45: 様 | Z45: 様
E46: 様 | O46: 様 | U46: 点検項目
E47: 様 | O47: 様 | U47: 項目 | Z47: 時間 | AC47: 点検者
A48: 発熱 | F48: 下痢 | K48: 風邪薬 | P48: 男性： | U48: 医療廃棄物 | Y48: 0.75 | AB48: 柳田美雪
A49: 0 | F49: 0 | K49: 0 | P49: 女性： | U49: 戸締り | Y49: 0.75 | AB49: ='6'!AB49:AD49 -> 中村 恵理子
A51: 備考欄 | C51: （連絡事項・処方変更・その他）

Sheet 28
B1: クリニック 日 誌 | H1: 令和 | J1: ='6'!J1 -> 3 | K1: 年 | L1: 6 | M1: 月 | N1: 28 | O1: 日 | Q1: （ | S1: ） | V1: COO | Y1: IOO | AB1: AOM
A3: 勤務者名
A4: ='6'!A4:F4 -> 中村 恵理子 | G4: 日 | I4: 柳田 美雪 | N4: 日 | Q4: 診察室 | W4: 外来担当医 | Z4: 外来介助者
A5: 石原 恵海 | G5: 日 | I5: 石谷 美代子 | N5: 欠 | Q5: 第１診察室 | U5: 千葉 潜
A6: 松林 久美子 | G6: 日 | Q6: 第２診察室 | U6: 坂田 優 | Z6: 柳田
B8: 新 | C8: 再 | D8: 精 | E8: 内 | F8: 処 | G8: 患者様氏名 | L8: 新 | M8: 再 | N8: 精 | O8: 内 | P8: 処 | Q8: 患者様氏名 | V8: 新 | W8: 再 | X8: 精 | Y8: 内 | Z8: 処 | AA8: 患者様氏名
A9: 1 | J9: 様 | K9: 2 | T9: 様 | U9: 3 | AD9: 様
A10: 4 | J10: 様 | K10: 5 | T10: 様 | U10: 6 | AD10: 様
A11: 7 | J11: 様 | K11: 8 | T11: 様 | U11: 9 | AD11: 様
A12: 10 | J12: 様 | K12: 11 | T12: 様 | U12: 12 | AD12: 様
A13: 13 | J13: 様 | K13: 14 | T13: 様 | U13: 15 | AD13: 様
A14: 16 | J14: 様 | K14: 17 | T14: 様 | U14: 18 | AD14: 様
A15: 19 | J15: 様 | K15: 20 | T15: 様 | U15: 21 | AD15: 様
A16: 22 | J16: 様 | K16: 23 | T16: 様 | U16: 24 | AD16: 様
A17: 25 | J17: 様 | K17: 26 | T17: 様 | U17: 27 | AD17: 様
A18: 28 | J18: 様 | K18: 29 | T18: 様 | U18: 30 | AD18: 様
A19: 31 | J19: 様 | K19: 32 | T19: 様 | U19: 33 | AD19: 様
A20: 34 | J20: 様 | K20: 35 | T20: 様 | U20: 36 | AD20: 様
... A33: 73 | J33: 様 | K33: 74 | T33: 様 | U33: 75 | AD33: 様
A34: 外来患者数 | E34: 新： | F34: =COUNTIF(B9:B33,"・")+COUNTIF(L9:L33,"・")+COUNTIF(V9:V33,"・") -> 0 | H34: 名 | I34: 再： | J34: =COUNTIF(C9:C33,"・")+COUNTIF(M9:M33,"・")+COUNTIF(W9:W33,"・") -> 0 | L34: 名 | M34: 計： | N34: =SUM(F34:K34) -> 0 | Q34: 名 | R34: （ | S34: 精： | T34: =COUNTIF(D9:D33,"・")+COUNTIF(N9:N33,"・")+COUNTIF(X9:X33,"・") -> 0 | W34: 名 | X34: ・ | Y34: 内： | Z34: =COUNTIF(E9:E33,"・")+COUNTIF(O9:O33,"・")+COUNTIF(Y9:Y33,"・") -> 0 | AC34: 名 | AD34: ）
A36: 紹介患者様氏名 | F36: 紹介先 | K36: 逆紹介患者様氏名 | P36: 紹介元 | U36: 処置実施者 | AA36: 処置内容
E37: 様 | O37: 様 | Z37: 様
E38: 様 | O38: 様 | Z38: 様
E39: 様 | O39: 様 | Z39: 様
E40: 様 | O40: 様 | Z40: 様
E41: 様 | O41: 様 | Z41: 様
A42: 本日の検査 | F42: 検査内容 | K42: 処置実施者 | P42: 処置内容 | Z42: 様
E43: 様 | O43: 様 | Z43: 様
E44: 様 | O44: 様 | Z44: 様
E45: 様 | O45: 様 | Z45: 様
E46: 様 | O46: 様 | U46: 点検項目
E47: 様 | O47: 様 | U47: 項目 | Z47: 時間 | AC47: 点検者
A48: 発熱 | F48: 下痢 | K48: 風邪薬 | P48: 男性： | U48: 医療廃棄物 | Y48: 0.75 | AB48: 柳田美雪
A49: 0 | F49: 0 | K49: 0 | P49: 女性： | U49: 戸締り | Y49: 0.75 | AB49: ='6'!AB49:AD49 -> 中村 恵理子
A51: 備考欄 | C51: （連絡事項・処方変更・その他）

Sheet 29
B1: クリニック 日 誌 | H1: 令和 | J1: ='6'!J1 -> 3 | K1: 年 | L1: 6 | M1: 月 | N1: 29 | O1: 日 | Q1: （ | S1: ） | V1: COO | Y1: IOO | AB1: AOM
A3: 勤務者名
A4: ='6'!A4:F4 -> 中村 恵理子 | G4: 日 | I4: 柳田 美雪 | N4: 日 | Q4: 診察室 | W4: 外来担当医 | Z4: 外来介助者
A5: 石原 恵海 | G5: 日 | I5: 石谷 美代子 | N5: 欠 | Q5: 第１診察室 | U5: 千葉 潜 | Z5: 柳田・石原
A6: 松林 久美子 | G6: 日 | Q6: 第２診察室 | U6: 坂田 優 | Z6: 柳田
B8: 新 | C8: 再 | D8: 精 | E8: 内 | F8: 処 | G8: 患者様氏名 | L8: 新 | M8: 再 | N8: 精 | O8: 内 | P8: 処 | Q8: 患者様氏名 | V8: 新 | W8: 再 | X8: 精 | Y8: 内 | Z8: 処 | AA8: 患者様氏名
A9: 1 | J9: 様 | K9: 2 | T9: 様 | U9: 3 | AD9: 様
A10: 4 | J10: 様 | K10: 5 | T10: 様 | U10: 6 | AD10: 様
A11: 7 | J11: 様 | K11: 8 | T11: 様 | U11: 9 | AD11: 様
A12: 10 | J12: 様 | K12: 11 | T12: 様 | U12: 12 | AD12: 様
A13: 13 | J13: 様 | K13: 14 | T13: 様 | U13: 15 | AD13: 様
A14: 16 | J14: 様 | K14: 17 | T14: 様 | U14: 18 | AD14: 様
A15: 19 | J15: 様 | K15: 20 | T15: 様 | U15: 21 | AD15: 様
A16: 22 | J16: 様 | K16: 23 | T16: 様 | U16: 24 | AD16: 様
A17: 25 | J17: 様 | K17: 26 | T17: 様 | U17: 27 | AD17: 様
A18: 28 | J18: 様 | K18: 29 | T18: 様 | U18: 30 | AD18: 様
A19: 31 | J19: 様 | K19: 32 | T19: 様 | U19: 33 | AD19: 様
A20: 34 | J20: 様 | K20: 35 | T20: 様 | U20: 36 | AD20: 様
... A33: 73 | J33: 様 | K33: 74 | T33: 様 | U33: 75 | AD33: 様
A34: 外来患者数 | E34: 新： | F34: =COUNTIF(B9:B33,"・")+COUNTIF(L9:L33,"・")+COUNTIF(V9:V33,"・") -> 0 | H34: 名 | I34: 再： | J34: =COUNTIF(C9:C33,"・")+COUNTIF(M9:M33,"・")+COUNTIF(W9:W33,"・") -> 0 | L34: 名 | M34: 計： | N34: =SUM(F34:K34) -> 0 | Q34: 名 | R34: （ | S34: 精： | T34: =COUNTIF(D9:D33,"・")+COUNTIF(N9:N33,"・")+COUNTIF(X9:X33,"・") -> 0 | W34: 名 | X34: ・ | Y34: 内： | Z34: =COUNTIF(E9:E33,"・")+COUNTIF(O9:O33,"・")+COUNTIF(Y9:Y33,"・") -> 0 | AC34: 名 | AD34: ）
A36: 紹介患者様氏名 | F36: 紹介先 | K36: 逆紹介患者様氏名 | P36: 紹介元 | U36: 処置実施者 | AA36: 処置内容
E37: 様 | O37: 様 | Z37: 様
E38: 様 | O38: 様 | Z38: 様
E39: 様 | O39: 様 | Z39: 様
E40: 様 | O40: 様 | Z40: 様
E41: 様 | O41: 様 | Z41: 様
A42: 本日の検査 | F42: 検査内容 | K42: 処置実施者 | P42: 処置内容 | Z42: 様
E43: 様 | O43: 様 | Z43: 様
E44: 様 | O44: 様 | Z44: 様
E45: 様 | O45: 様 | Z45: 様
E46: 様 | O46: 様 | U46: 点検項目
E47: 様 | O47: 様 | U47: 項目 | Z47: 時間 | AC47: 点検者
A48: 発熱 | F48: 下痢 | K48: 風邪薬 | P48: 男性： | U48: 医療廃棄物 | Y48: 0.75 | AB48: 柳田美雪
A49: 0 | F49: 0 | K49: 0 | P49: 女性： | U49: 戸締り | Y49: 0.75 | AB49: ='6'!AB49:AD49 -> 中村 恵理子
A51: 備考欄 | C51: （連絡事項・処方変更・その他）

Sheet 30
B1: クリニック 日 誌 | H1: 令和 | J1: ='6'!J1 -> 3 | K1: 年 | L1: 6 | M1: 月 | N1: 30 | O1: 日 | Q1: （ | S1: ） | V1: COO | Y1: IOO | AB1: AOM
A3: 勤務者名
A4: ='6'!A4:F4 -> 中村 恵理子 | G4: 日 | I4: 柳田 美雪 | N4: 日 | Q4: 診察室 | W4: 外来担当医 | Z4: 外来介助者
A5: 石原 恵海 | G5: 日 | I5: 石谷 美代子 | N5: 欠 | Q5: 第１診察室 | U5: 千葉 潜
A6: 松林 久美子 | G6: 日 | Q6: 第２診察室 | U6: 坂田 優 | Z6: 柳田
B8: 新 | C8: 再 | D8: 精 | E8: 内 | F8: 処 | G8: 患者様氏名 | L8: 新 | M8: 再 | N8: 精 | O8: 内 | P8: 処 | Q8: 患者様氏名 | V8: 新 | W8: 再 | X8: 精 | Y8: 内 | Z8: 処 | AA8: 患者様氏名
A9: 1 | J9: 様 | K9: 2 | T9: 様 | U9: 3 | AD9: 様
A10: 4 | J10: 様 | K10: 5 | T10: 様 | U10: 6 | AD10: 様
A11: 7 | J11: 様 | K11: 8 | T11: 様 | U11: 9 | AD11: 様
A12: 10 | J12: 様 | K12: 11 | T12: 様 | U12: 12 | AD12: 様
A13: 13 | J13: 様 | K13: 14 | T13: 様 | U13: 15 | AD13: 様
A14: 16 | J14: 様 | K14: 17 | T14: 様 | U14: 18 | AD14: 様
A15: 19 | J15: 様 | K15: 20 | T15: 様 | U15: 21 | AD15: 様
A16: 22 | J16: 様 | K16: 23 | T16: 様 | U16: 24 | AD16: 様
A17: 25 | J17: 様 | K17: 26 | T17: 様 | U17: 27 | AD17: 様
A18: 28 | J18: 様 | K18: 29 | T18: 様 | U18: 30 | AD18: 様
A19: 31 | J19: 様 | K19: 32 | T19: 様 | U19: 33 | AD19: 様
A20: 34 | J20: 様 | K20: 35 | T20: 様 | U20: 36 | AD20: 様
... A33: 73 | J33: 様 | K33: 74 | T33: 様 | U33: 75 | AD33: 様
A34: 外来患者数 | E34: 新： | F34: =COUNTIF(B9:B33,"・")+COUNTIF(L9:L33,"・")+COUNTIF(V9:V33,"・") -> 0 | H34: 名 | I34: 再： | J34: =COUNTIF(C9:C33,"・")+COUNTIF(M9:M33,"・")+COUNTIF(W9:W33,"・") -> 0 | L34: 名 | M34: 計： | N34: =SUM(F34:K34) -> 0 | Q34: 名 | R34: （ | S34: 精： | T34: =COUNTIF(D9:D33,"・")+COUNTIF(N9:N33,"・")+COUNTIF(X9:X33,"・") -> 0 | W34: 名 | X34: ・ | Y34: 内： | Z34: =COUNTIF(E9:E33,"・")+COUNTIF(O9:O33,"・")+COUNTIF(Y9:Y33,"・") -> 0 | AC34: 名 | AD34: ）
A36: 紹介患者様氏名 | F36: 紹介先 | K36: 逆紹介患者様氏名 | P36: 紹介元 | U36: 処置実施者 | AA36: 処置内容
E37: 様 | O37: 様 | Z37: 様
E38: 様 | O38: 様 | Z38: 様
E39: 様 | O39: 様 | Z39: 様
E40: 様 | O40: 様 | Z40: 様
E41: 様 | O41: 様 | Z41: 様
A42: 本日の検査 | F42: 検査内容 | K42: 処置実施者 | P42: 処置内容 | Z42: 様
E43: 様 | O43: 様 | Z43: 様
E44: 様 | O44: 様 | Z44: 様
E45: 様 | O45: 様 | Z45: 様
E46: 様 | O46: 様 | U46: 点検項目
E47: 様 | O47: 様 | U47: 項目 | Z47: 時間 | AC47: 点検者
A48: 発熱 | F48: 下痢 | K48: 風邪薬 | P48: 男性： | U48: 医療廃棄物 | Y48: 0.75 | AB48: 柳田美雪
A49: 0 | F49: 0 | K49: 0 | P49: 女性： | U49: 戸締り | Y49: 0.75 | AB49: ='6'!AB49:AD49 -> 中村 恵理子
A51: 備考欄 | C51: （連絡事項・処方変更・その他）

Sheet 31
B1: クリニック 日 誌 | H1: 令和 | J1: ='6'!J1 -> 3 | K1: 年 | L1: 6 | M1: 月 | N1: 31 | O1: 日 | Q1: （ | S1: ） | V1: COO | Y1: IOO | AB1: AOM
A3: 勤務者名
A4: ='6'!A4:F4 -> 中村 恵理子 | G4: 日 | I4: 柳田 美雪 | N4: 日 | Q4: 診察室 | W4: 外来担当医 | Z4: 外来介助者
A5: 石原 恵海 | G5: 日 | I5: 石谷 美代子 | N5: 欠 | Q5: 第１診察室 | U5: 千葉 潜
A6: 松林 久美子 | G6: 日 | Q6: 第２診察室 | U6: 坂田 優 | Z6: 柳田
B8: 新 | C8: 再 | D8: 精 | E8: 内 | F8: 処 | G8: 患者様氏名 | L8: 新 | M8: 再 | N8: 精 | O8: 内 | P8: 処 | Q8: 患者様氏名 | V8: 新 | W8: 再 | X8: 精 | Y8: 内 | Z8: 処 | AA8: 患者様氏名
A9: 1 | J9: 様 | K9: 2 | T9: 様 | U9: 3 | AD9: 様
A10: 4 | J10: 様 | K10: 5 | T10: 様 | U10: 6 | AD10: 様
A11: 7 | J11: 様 | K11: 8 | T11: 様 | U11: 9 | AD11: 様
A12: 10 | J12: 様 | K12: 11 | T12: 様 | U12: 12 | AD12: 様
A13: 13 | J13: 様 | K13: 14 | T13: 様 | U13: 15 | AD13: 様
A14: 16 | J14: 様 | K14: 17 | T14: 様 | U14: 18 | AD14: 様
A15: 19 | J15: 様 | K15: 20 | T15: 様 | U15: 21 | AD15: 様
A16: 22 | J16: 様 | K16: 23 | T16: 様 | U16: 24 | AD16: 様
A17: 25 | J17: 様 | K17: 26 | T17: 様 | U17: 27 | AD17: 様
A18: 28 | J18: 様 | K18: 29 | T18: 様 | U18: 30 | AD18: 様
A19: 31 | J19: 様 | K19: 32 | T19: 様 | U19: 33 | AD19: 様
A20: 34 | J20: 様 | K20: 35 | T20: 様 | U20: 36 | AD20: 様
... A33: 73 | J33: 様 | K33: 74 | T33: 様 | U33: 75 | AD33: 様
A34: 外来患者数 | E34: 新： | F34: =COUNTIF(B9:B33,"・")+COUNTIF(L9:L33,"・")+COUNTIF(V9:V33,"・") -> 0 | H34: 名 | I34: 再： | J34: =COUNTIF(C9:C33,"・")+COUNTIF(M9:M33,"・")+COUNTIF(W9:W33,"・") -> 0 | L34: 名 | M34: 計： | N34: =SUM(F34:K34) -> 0 | Q34: 名 | R34: （ | S34: 精： | T34: =COUNTIF(D9:D33,"・")+COUNTIF(N9:N33,"・")+COUNTIF(X9:X33,"・") -> 0 | W34: 名 | X34: ・ | Y34: 内： | Z34: =COUNTIF(E9:E33,"・")+COUNTIF(O9:O33,"・")+COUNTIF(Y9:Y33,"・") -> 0 | AC34: 名 | AD34: ）
A36: 紹介患者様氏名 | F36: 紹介先 | K36: 逆紹介患者様氏名 | P36: 紹介元 | U36: 処置実施者 | AA36: 処置内容
E37: 様 | O37: 様 | Z37: 様
E38: 様 | O38: 様 | Z38: 様
E39: 様 | O39: 様 | Z39: 様
E40: 様 | O40: 様 | Z40: 様
E41: 様 | O41: 様 | Z41: 様
A42: 本日の検査 | F42: 検査内容 | K42: 処置実施者 | P42: 処置内容 | Z42: 様
E43: 様 | O43: 様 | Z43: 様
E44: 様 | O44: 様 | Z44: 様
E45: 様 | O45: 様 | Z45: 様
E46: 様 | O46: 様 | U46: 点検項目
E47: 様 | O47: 様 | U47: 項目 | Z47: 時間 | AC47: 点検者
A48: 発熱 | F48: 下痢 | K48: 風邪薬 | P48: 男性： | U48: 医療廃棄物 | Y48: 0.75 | AB48: 柳田美雪
A49: 0 | F49: 0 | K49: 0 | P49: 女性： | U49: 戸締り | Y49: 0.75 | AB49: ='6'!AB49:AD49 -> 中村 恵理子
A51: 備考欄 | C51: （連絡事項・処方変更・その他）

Sheet Sheet1
L1: 6
I5: 石谷 美代子 | N5: 欠 | U5: 千葉 潜
A6: 松林 久美子 | G6: 日 | U6: 坂田 優 | Z6: 柳田

Sheet 互換性レポート
B1: クリニック 日 誌 | H1: 令和 | J1: 元 | K1: 年 | L1: 6 | M1: 月 | N1: 2 | O1: 日 | Q1: （ | S1: ） | V1: COO | Y1: IOO | AB1: AOM
A3: 勤務者名
A4: 小笠原 恵理子 | G4: 日 | I4: 柳田 美雪 | N4: 日 | Q4: 診察室 | W4: 外来担当医 | Z4: 外来介助者
I5: 石谷 美代子 | N5: 欠 | Q5: 第１診察室 | U5: 千葉 潜 | Z5: 柳田・恵谷
A6: 松林 久美子 | G6: 日 | Q6: 第２診察室 | U6: 坂田 優 | Z6: 柳田
B8: 新 | C8: 再 | D8: 精 | E8: 内 | F8: 処 | G8: 患者様氏名 | L8: 新 | M8: 再 | N8: 精 | O8: 内 | P8: 処 | Q8: 患者様氏名 | V8: 新 | W8: 再 | X8: 精 | Y8: 内 | Z8: 処 | AA8: 患者様氏名
A9: 1 | C9: ・ | D9: ・ | F9: 28 | G9: 織笠 祐美 | J9: 様 | K9: 2 | M9: ・ | N9: ・ | P9: 28 | Q9: 蒔苗 美穂子 | T9: 様 | U9: 3 | W9: ・ | X9: ・ | Z9: 30 | AA9: 小笠原 とよ | AD9: 様
A10: 4 | C10: ・ | D10: ・ | F10: 30 | G10: 山口 陽子 | J10: 様 | K10: 5 | M10: ・ | N10: ・ | P10: 30 | Q10: 伊藤 和子 | T10: 様 | U10: 6 | W10: ・ | X10: ・ | Z10: 7 | AA10: 生平 祥恵 | AD10: 様
A11: 7 | C11: ・ | D11: ・ | F11: 30 | G11: 畑山 栄子 | J11: 様 | K11: 8 | M11: ・ | N11: ・ | P11: 30 | Q11: 小林 昭治 | T11: 様 | U11: 9 | W11: ・ | X11: ・ | Z11: 28 | AA11: 千葉 スワ | AD11: 様
A12: 10 | C12: ・ | D12: ・ | F12: 30 | G12: 野田 恵美 | J12: 様 | K12: 11 | M12: ・ | N12: ・ | P12: 30 | Q12: 高橋 千佳 | T12: 様 | U12: 12 | V12: ・ | X12: ・ | Z12: 30 | AA12: 安藤 クニ | AD12: 様
A13: 13 | C13: ・ | D13: ・ | F13: 28 | G13: 中村 ノリ子 | J13: 様 | K13: 14 | L13: ・ | N13: ・ | P13: 0 | Q13: 川村 俊行 | T13: 様 | U13: 15 | W13: ・ | X13: ・ | Z13: 21 | AA13: 小林 稔 | AD13: 様
A14: 16 | C14: ・ | D14: ・ | F14: 0 | G14: 工藤 隆斗 | J14: 様 | K14: 17 | M14: ・ | N14: ・ | P14: 30 | Q14: 中川原 いさ | T14: 様 | U14: 18 | V14: ・ | X14: ・ | Z14: 14 | AA14: 福士 チエ | AD14: 様
A15: 19 | C15: ・ | D15: ・ | F15: 30 | G15: 沼尾 タマエ | J15: 様 | K15: 20 | M15: ・ | N15: ・ | P15: 63 | Q15: 今田 則夫 | T15: 様 | U15: 21 | W15: ・ | X15: ・ | Z15: 28 | AA15: 市川 太祐 | AD15: 様
A16: 22 | C16: ・ | D16: ・ | F16: 30 | G16: 馬場 トセ子 | J16: 様 | K16: 23 | M16: ・ | N16: ・ | P16: 7 | Q16: 千葉 あいり | T16: 様 | U16: 24 | W16: ・ | X16: ・ | Z16: 30 | AA16: 西野 謙三 | AD16: 様
A17: 25 | C17: ・ | D17: ・ | F17: 28 | G17: 長根 謙二 | J17: 様 | K17: 26 | M17: ・ | N17: ・ | P17: 60 | Q17: 尾崎 良夫 | T17: 様 | U17: 27 | W17: ・ | X17: ・ | Z17: 30 | AA17: 佐々木 則子 | AD17: 様
A18: 28 | C18: ・ | D18: ・ | F18: 60 | G18: 小野 俊幸 | J18: 様 | K18: 29 | M18: ・ | N18: ・ | P18: 60 | Q18: 宮里 ミネ | T18: 様 | U18: 30 | W18: ・ | X18: ・ | Z18: 30 | AA18: 角 汰一 | AD18: 様
A19: 31 | C19: ・ | D19: ・ | F19: 0 | G19: 大久保 瑠七 | J19: 様 | K19: 32 | M19: ・ | N19: ・ | P19: 21 | Q19: 丸谷 美香 | T19: 様 | U19: 33 | W19: ・ | X19: ・ | Z19: 60 | AA19: 月館 ユリ | AD19: 様
A20: 34 | C20: ・ | D20: ・ | F20: 60 | G20: 浪岡 モミ | J20: 様 | K20: 35 | M20: ・ | N20: ・ | P20: 30 | Q20: 佐々木 札子 | T20: 様 | U20: 36 | W20: ・ | X20: ・ | Z20: 30 | AA20: 渡辺 愛子 | AD20: 様
A21: 37 | C21: ・ | D21: ・ | F21: 30 | G21: 袴田 紀子 | J21: 様 | K21: 38 | M21: ・ | N21: ・ | P21: 30 | Q21: 国分 トシ子 | T21: 様 | U21: 39 | W21: ・ | X21: ・ | Z21: 21 | AA21: 熊野 富美子 | AD21: 様
A22: 40 | C22: ・ | D22: ・ | F22: 30 | G22: 小比券巻 興一 | J22: 様 | K22: 41 | M22: ・ | N22: ・ | P22: 30 | Q22: 長嶺 孝 | T22: 様 | U22: 42 | W22: ・ | X22: ・ | Z22: 21 | AA22: 山田 淳一 | AD22: 様
A23: 43 | C23: ・ | D23: ・ | F23: 30 | G23: 井上 憲昭 | J23: 様 | K23: 44 | M23: ・ | N23: ・ | P23: 30 | Q23: 起田 妙子 | T23: 様 | U23: 45 | W23: ・ | X23: ・ | Z23: 30 | AA23: 小坂 和美 | AD23: 様
A24: 46 | C24: ・ | D24: ・ | F24: 30 | G24: 山谷 光都 | J24: 様 | K24: 47 | M24: ・ | N24: ・ | P24: 30 | Q24: 伊藤 和子 | T24: 様 | U24: 48 | W24: ・ | X24: ・ | Z24: 0 | AA24: 林 成信 | AD24: 様
A25: 49 | C25: ・ | D25: ・ | F25: 0 | G25: 工藤 健壽 | J25: 様 | K25: 50 | M25: ・ | N25: ・ | P25: 0 | Q25: 深町 栄美子 | T25: 様 | U25: 51 | W25: ・ | X25: ・ | Z25: 0 | AA25: 北村 イウ子 | AD25: 様
A26: 52 | C26: ・ | D26: ・ | F26: 0 | G26: 瀬川 高雄 | J26: 様 | K26: 53 | M26: ・ | N26: ・ | P26: 0 | Q26: 工藤 富雄 | T26: 様 | U26: 54 | W26: ・ | X26: ・ | Z26: 0 | AA26: 高村 加津子 | AD26: 様
A27: 55 | C27: ・ | D27: ・ | F27: 0 | G27: 萠出 克治 | J27: 様 | K27: 56 | T27: 様 | U27: 57 | AD27: 様
A28: 外来患者数 | E28: 新： | F28: =COUNTIF(B9:B27,"・")+COUNTIF(L9:L27,"・")+COUNTIF(V9:V27,"・") -> 3 | H28: 名 | I28: 再： | J28: =COUNTIF(C9:C27,"・")+COUNTIF(M9:M27,"・")+COUNTIF(W9:W27,"・") -> 52 | L28: 名 | M28: 計： | N28: =SUM(F28:K28) -> 55 | Q28: 名 | R28: （ | S28: 精： | T28: =COUNTIF(D9:D27,"・")+COUNTIF(N9:N27,"・")+COUNTIF(X9:X27,"・") -> 55 | W28: 名 | X28: ・ | Y28: 内： | Z28: =COUNTIF(E9:E27,"・")+COUNTIF(O9:O27,"・")+COUNTIF(Y9:Y27,"・") -> 0 | AC28: 名 | AD28: ）
A30: 紹介患者様氏名 | F30: 紹介先 | K30: 逆紹介患者様氏名 | P30: 紹介元 | U30: 処置実施者 | AA30: 処置内容
E31: 様 | K31: 安藤 クニ | O31: 様 | P31: 三沢中央病院 | Z31: 様
A32: 本日の検査 | F32: 検査内容 | K32: 処置実施者 | P32: 処置内容 | Z32: 様
A33: 工藤 隆斗 | E33: 様 | F33: 血液検査 | O33: 様 | Z33: 様
E34: 様 | O34: 様 | Z34: 様
E35: 様 | O35: 様 | Z35: 様
E36: 様 | O36: 様 | U36: 点検項目
E37: 様 | O37: 様 | U37: 項目 | Z37: 時間 | AC37: 点検者
A38: 発熱 | F38: 下痢 | K38: 風邪薬 | P38: 男性：21 | U38: 医療廃棄物 | Y38: 0.75 | AB38: 柳田美雪
A39: 0 | K39: 0 | U39: 戸締り | Y39: 0.75 | AB39: 小笠原恵理子
A41: 備考欄 | C41: （連絡事項・処方変更・その他）
G42: 特記なし
G43: 柳田

Sheet 曜日
A1: 曜日 | E1: 説明書 その月の１日～７日までの曜日を黄色のセルに記入してください。 （例：１日が水曜日の月なら…… １日＝水 ２日＝木 ： ７日＝火 | L1: 6
A2: 1日 | B2: = | C2: 日
A3: 2日 | B3: = | C3: 月 | D3: ←
A4: 3日 | B4: = | C4: 火
A5: 4日 | B5: = | C5: 水 | I5: 石谷 美代子 | N5: 欠 | U5: 千葉 潜
A6: 松林 久美子 | B6: = | C6: 木 | U6: 坂田 優 | Z6: 柳田
A7: 6日 | B7: = | C7: 金
A8: 7日 | B8: = | C8: 土
A10: 年 | B10: 月 | E10: 説明書 年・月を入れてください。
A11: 1 | B11: 12 | D11: ←
