Workbook

Sheet 1
B1: クリニック 日 誌 | H1: 令和 | J1: 3 | K1: 年 | L1: 4 | M1: 月 | N1: 1 | O1: 日 | Q1: （ | R1: 木 | S1: ） | V1: COO | Y1: IOO | AB1: AOM
A3: 勤務者名
A4: 中村 恵理子 | G4: 年休 | I4: 柳田 美雪 | N4: 日 | Q4: 診察室 | W4: 外来担当医 | Z4: 外来介助者
A5: 石原 恵海 | G5: 日 | I5: 石谷 美代子 | N5: 日 | Q5: 第１診察室 | U5: 千葉 潜 | Z5: 柳田・石原
A6: 神 圭輔 | G6: 日 | Q6: 第２診察室 | U6: 深澤 隆 | Z6: 柳田・石原
B8: 新 | C8: 再 | D8: 精 | E8: 内 | F8: 処 | G8: 患者様氏名 | L8: 新 | M8: 再 | N8: 精 | O8: 内 | P8: 処 | Q8: 患者様氏名 | V8: 新 | W8: 再 | X8: 精 | Y8: 内 | Z8: 処 | AA8: 患者様氏名
A9: 1 | C9: ・ | D9: ・ | F9: 30 | G9: 酒井 昌子 | J9: 様 | K9: 2 | M9: ・ | N9: ・ | P9: 28 | Q9: 二又 安子 | T9: 様 | U9: 3 | W9: ・ | X9: ・ | Z9: 0 | AA9: 西舘 瞳 | AD9: 様
A10: 4 | C10: ・ | D10: ・ | F10: 28 | G10: 相内 太子 | J10: 様 | K10: 5 | M10: ・ | N10: ・ | P10: 30 | Q10: 横浜 秀一 | T10: 様 | U10: 6 | W10: ・ | X10: ・ | Z10: 0 | AA10: 大村 千鶴子 | AD10: 様
A11: 7 | C11: ・ | D11: ・ | F11: 14 | G11: 武良 ミセ | J11: 様 | K11: 8 | M11: ・ | N11: ・ | P11: 28 | Q11: 木村 健 | T11: 様 | U11: 9 | W11: ・ | X11: ・ | Z11: 0 | AA11: 稲本 典子 | AD11: 様
A12: 10 | C12: ・ | D12: ・ | F12: 8 | G12: 山崎 要四郎 | J12: 様 | K12: 11 | M12: ・ | N12: ・ | P12: 60 | Q12: 月館 ユリ | T12: 様 | U12: 12 | W12: ・ | X12: ・ | Z12: 0 | AA12: 工藤 健壽 | AD12: 様
A13: 13 | C13: ・ | D13: ・ | F13: 28 | G13: 中村 善治 | J13: 様 | K13: 14 | M13: ・ | N13: ・ | P13: 28 | Q13: 宮古 克弘 | T13: 様 | U13: 15 | W13: ・ | X13: ・ | Z13: 0 | AA13: 大木 久子 | AD13: 様
A14: 16 | C14: ・ | D14: ・ | F14: 28 | G14: 舘 優美香 | J14: 様 | K14: 17 | M14: ・ | N14: ・ | P14: 60 | Q14: 玉澤 善治 | T14: 様 | U14: 18 | W14: ・ | X14: ・ | Z14: 0 | AA14: 田口 トシ子 | AD14: 様
A15: 19 | C15: ・ | D15: ・ | F15: 28 | G15: 橋本 イチ | J15: 様 | K15: 20 | M15: ・ | N15: ・ | P15: 60 | Q15: 市川 由雄 | T15: 様 | U15: 21 | W15: ・ | X15: ・ | Z15: 0 | AA15: 高村 加津子 | AD15: 様
A16: 22 | C16: ・ | D16: ・ | F16: 30 | G16: 坂本 丈夫 | J16: 様 | K16: 23 | M16: ・ | N16: ・ | P16: 30 | Q16: 鈴木 愛子 | T16: 様 | U16: 24 | W16: ・ | X16: ・ | Z16: 0 | AA16: 坂本 政勝 | AD16: 様
A17: 25 | C17: ・ | D17: ・ | F17: 28 | G17: 高橋 田鶴子 | J17: 様 | K17: 26 | M17: ・ | N17: ・ | P17: 60 | Q17: 馬場 貴子 | T17: 様 | U17: 27 | W17: ・ | X17: ・ | Z17: 0 | AA17: 瀬川 高雄 | AD17: 様
A18: 28 | C18: ・ | D18: ・ | F18: 28 | G18: 山田 代志弘 | J18: 様 | K18: 29 | M18: ・ | N18: ・ | P18: 30 | Q18: 河原崎 キヨエ | T18: 様 | U18: 30 | W18: ・ | X18: ・ | Z18: 0 | AA18: 藤田 絢三 | AD18: 様
A19: 31 | C19: ・ | D19: ・ | F19: 7 | G19: 中居 敬悦 | J19: 様 | K19: 32 | M19: ・ | N19: ・ | P19: 28 | Q19: 柴田 葉子 | T19: 様 | U19: 33 | W19: ・ | X19: ・ | Z19: 0 | AA19: 山口 瑛子 | AD19: 様
A20: 34 | C20: ・ | D20: ・ | F20: 56 | G20: 山崎 ミドリ | J20: 様 | K20: 35 | M20: ・ | N20: ・ | P20: 14 | Q20: 大野 みほゑ | T20: 様 | U20: 36 | W20: ・ | X20: ・ | Z20: 0 | AA20: 坂本 佳之 | AD20: 様
... A26: 52 | C26: ・ | D26: ・ | F26: 35 | G26: 日下 勉 | J26: 様 | K26: 53 | M26: ・ | N26: ・ | P26: 30 | Q26: 藤ケ森 貴美枝 | T26: 様 | U26: 54 | W26: ・ | X26: ・ | Z26: 0 | AA26: 梅津 禮子 | AD26: 様
A27: 55 | C27: ・ | D27: ・ | F27: 28 | G27: 坂本 隆志 | J27: 様 | K27: 56 | M27: ・ | N27: ・ | P27: 30 | Q27: 松林 香愛 | T27: 様 | U27: 57 | W27: ・ | Y27: ・ | Z27: 90 | AA27: 深澤 隆 | AD27: 様
A28: 58 | C28: ・ | D28: ・ | F28: 14 | G28: 織笠 勝男 | J28: 様 | K28: 59 | L28: ・ | N28: ・ | P28: 30 | Q28: 新美 優美 | T28: 様 | U28: 60 | V28: ・ | X28: ・ | Z28: 28 | AA28: 石井 佳奈 | AD28: 様
A29: 61 | C29: ・ | D29: ・ | F29: 30 | G29: 哘 典子 | J29: 様 | K29: 62 | M29: ・ | N29: ・ | P29: 28 | Q29: 中平 陽香 | T29: 様 | U29: 63 | W29: ・ | X29: ・ | Z29: 0 | AA29: 柳谷 よし | AD29: 様
A30: 外来患者数 | E30: 新： | F30: =COUNTIF(B9:B29,"・")+COUNTIF(L9:L29,"・")+COUNTIF(V9:V29,"・") -> 2 | H30: 名 | I30: 再： | J30: =COUNTIF(C9:C29,"・")+COUNTIF(M9:M29,"・")+COUNTIF(W9:W29,"・") -> 61 | L30: 名 | M30: 計： | N30: =SUM(F30:K30) -> 63 | Q30: 名 | R30: （ | S30: 精： | T30: =COUNTIF(D9:D29,"・")+COUNTIF(N9:N29,"・")+COUNTIF(X9:X29,"・") -> 62 | W30: 名 | X30: ・ | Y30: 内： | Z30: =COUNTIF(E9:E29,"・")+COUNTIF(O9:O29,"・")+COUNTIF(Y9:Y29,"・") -> 1 | AC30: 名 | AD30: ）
A32: 紹介患者様氏名 | F32: 紹介先 | K32: 逆紹介患者様氏名 | P32: 紹介元 | U32: 処置実施者 | AA32: 処置内容
E33: 様 | O33: 様 | Z33: 様
A34: 本日の検査 | F34: 検査内容 | K34: 処置実施者 | P34: 処置内容 | Z34: 様
E35: 様 | O35: 様 | U35: 点検項目
E36: 様 | O36: 様 | U36: 項目 | Z36: 時間 | AC36: 点検者
A37: 発熱 | F37: 下痢 | K37: 風邪薬 | P37: 男性：25 | U37: 医療廃棄物 | Y37: 0.75 | AB37: 石原 恵海
A38: 0 | F38: 0 | K38: 0 | P38: 女性：38 | U38: 戸締り | Y38: 0.75 | AB38: 石谷 美代子
A40: 備考欄 | C40: （連絡事項・処方変更・その他）
G41: 特になし
G42: 石原

Sheet 2
B1: クリニック 日 誌 | H1: 令和 | J1: ='1'!J1 -> 3 | K1: 年 | L1: 4 | M1: 月 | N1: 2 | O1: 日 | Q1: （ | R1: 金 | S1: ） | V1: COO | Y1: IOO | AB1: AOM
A3: 勤務者名
A4: ='1'!A4:F4 -> 中村 恵理子 | G4: 年休 | I4: 柳田 美雪 | N4: 日 | Q4: 診察室 | W4: 外来担当医 | Z4: 外来介助者
A5: 石原 恵海 | G5: 日 | I5: 石谷 美代子 | N5: 日 | Q5: 第１診察室 | U5: 金 泰徳 | Z5: 柳田・石原
A6: 神 圭輔 | G6: 日 | Q6: 第２診察室 | U6: 千葉 良 | Z6: 柳田・石原
B8: 新 | C8: 再 | D8: 精 | E8: 内 | F8: 処 | G8: 患者様氏名 | L8: 新 | M8: 再 | N8: 精 | O8: 内 | P8: 処 | Q8: 患者様氏名 | V8: 新 | W8: 再 | X8: 精 | Y8: 内 | Z8: 処 | AA8: 患者様氏名
A9: 1 | C9: ・ | D9: ・ | F9: 30 | G9: 市川 晃 | J9: 様 | K9: 2 | M9: ・ | N9: ・ | P9: 0 | Q9: 綿貫 啓子 | T9: 様 | U9: 3 | W9: ・ | X9: ・ | Z9: 0 | AA9: 千葉 スワ | AD9: 様
A10: 4 | C10: ・ | D10: ・ | F10: 28 | G10: 川村 幸雄 | J10: 様 | K10: 5 | M10: ・ | N10: ・ | P10: 0 | Q10: 坂本 佳之 | T10: 様 | U10: 6 | W10: ・ | X10: ・ | Z10: 0 | AA10: 工藤 健壽 | AD10: 様
A11: 7 | C11: ・ | D11: ・ | F11: 30 | G11: 角 恵美子 | J11: 様 | K11: 8 | M11: ・ | N11: ・ | P11: 0 | Q11: 坂本 政勝 | T11: 様 | U11: 9 | W11: ・ | X11: ・ | Z11: 0 | AA11: 林 成信 | AD11: 様
A12: 10 | C12: ・ | D12: ・ | F12: 14 | G12: 内藤 浩宜 | J12: 様 | K12: 11 | M12: ・ | N12: ・ | P12: 30 | Q12: 増田 大和 | T12: 様 | U12: 12 | W12: ・ | X12: ・ | Z12: 0 | AA12: 田口 トシ子 | AD12: 様
A13: 13 | C13: ・ | D13: ・ | F13: 42 | G13: 袴田 紀子 | J13: 様 | K13: 14 | M13: ・ | N13: ・ | P13: 0 | Q13: 遠嶋 剛 | T13: 様 | U13: 15 | W13: ・ | X13: ・ | Z13: 0 | AA13: 高村 加津子 | AD13: 様
A14: 16 | C14: ・ | D14: ・ | F14: 30 | G14: 田中 嘉信 | J14: 様 | K14: 17 | M14: ・ | N14: ・ | P14: 0 | Q14: 遠嶋 千鶴 | T14: 様 | U14: 18 | W14: ・ | X14: ・ | Z14: 0 | AA14: 山本 伸子 | AD14: 様
A15: 19 | C15: ・ | D15: ・ | F15: 30 | G15: 沼端 佑太 | J15: 様 | K15: 20 | M15: ・ | N15: ・ | P15: 30 | Q15: 吹越 琉寧 | T15: 様 | U15: 21 | W15: ・ | X15: ・ | Z15: 0 | AA15: 深町 栄美子 | AD15: 様
A16: 22 | C16: ・ | D16: ・ | F16: 0 | G16: 吉田 さゆり | J16: 様 | K16: 23 | M16: ・ | N16: ・ | P16: 56 | Q16: 加藤 英俊 | T16: 様 | U16: 24 | W16: ・ | X16: ・ | Z16: 0 | AA16: 萠出 きのゑ | AD16: 様
A17: 25 | C17: ・ | D17: ・ | F17: 30 | G17: 中村 ひで子 | J17: 様 | K17: 26 | M17: ・ | N17: ・ | P17: 28 | Q17: 高田 奈緒美 | T17: 様 | U17: 27 | W17: ・ | X17: ・ | Z17: 0 | AA17: 萠出 克治 | AD17: 様
A18: 28 | C18: ・ | D18: ・ | F18: 28 | G18: 舩山 ゆかり | J18: 様 | K18: 29 | M18: ・ | N18: ・ | P18: 28 | Q18: 齊藤 鈴美香 | T18: 様 | U18: 30 | W18: ・ | X18: ・ | Z18: 0 | AA18: 沼端 ミセ | AD18: 様
A19: 31 | C19: ・ | D19: ・ | F19: 30 | G19: 前畑 清子 | J19: 様 | K19: 32 | M19: ・ | N19: ・ | P19: 28 | Q19: 新山 光浩 | T19: 様 | U19: 33 | W19: ・ | X19: ・ | Z19: 0 | AA19: 瀬川 高雄 | AD19: 様
A20: 34 | C20: ・ | D20: ・ | F20: 30 | G20: 小林 昭治 | J20: 様 | K20: 35 | M20: ・ | N20: ・ | P20: 60 | Q20: 遠藤 晴美 | T20: 様 | U20: 36 | W20: ・ | X20: ・ | Z20: 0 | AA20: 葛西 正人 | AD20: 様
... A25: 49 | C25: ・ | D25: ・ | F25: 28 | G25: 安部 信祥 | J25: 様 | K25: 50 | M25: ・ | N25: ・ | P25: 30 | Q25: 坂本 リセ | T25: 様 | U25: 51 | W25: ・ | X25: ・ | Z25: 0 | AA25: 杉山 博子 | AD25: 様
A26: 52 | B26: ・ | D26: ・ | F26: 30 | G26: 種市 典子 | J26: 様 | K26: 53 | M26: ・ | N26: ・ | P26: 30 | Q26: 浄法寺 七海 | T26: 様 | U26: 54 | W26: ・ | X26: ・ | Z26: 30 | AA26: 蛯名 海斗 | AD26: 様
A27: 55 | C27: ・ | D27: ・ | F27: 30 | G27: 渕上 紗那奈 | J27: 様 | K27: 56 | M27: ・ | N27: ・ | P27: 30 | Q27: 高梨 晃亮 | T27: 様 | U27: 57 | W27: ・ | X27: ・ | Z27: 30 | AA27: 齊藤 千鶴 | AD27: 様
A28: 58 | C28: ・ | D28: ・ | F28: 30 | G28: 山本 美津子 | J28: 様 | K28: 59 | M28: ・ | N28: ・ | P28: 30 | Q28: 土橋 烈 | T28: 様 | U28: 60 | W28: ・ | X28: ・ | Z28: 30 | AA28: 木村 トメ | AD28: 様
A29: 61 | C29: ・ | D29: ・ | F29: 30 | G29: 高城 琉壱 | J29: 様 | K29: 62 | M29: ・ | N29: ・ | P29: 28 | Q29: 小林 稔 | T29: 様 | U29: 63 | W29: ・ | X29: ・ | Z29: 1 | AA29: 久保 沙央里 | AD29: 様
A30: 64 | C30: ・ | D30: ・ | F30: 21 | G30: 山田 淳一 | J30: 様 | K30: 65 | T30: 様 | U30: 66 | AD30: 様
A31: 外来患者数 | E31: 新： | F31: =COUNTIF(B9:B30,"・")+COUNTIF(L9:L30,"・")+COUNTIF(V9:V30,"・") -> 1 | H31: 名 | I31: 再： | J31: =COUNTIF(C9:C30,"・")+COUNTIF(M9:M30,"・")+COUNTIF(W9:W30,"・") -> 63 | L31: 名 | M31: 計： | N31: =SUM(F31:K31) -> 64 | Q31: 名 | R31: （ | S31: 精： | T31: =COUNTIF(D9:D30,"・")+COUNTIF(N9:N30,"・")+COUNTIF(X9:X30,"・") -> 64 | W31: 名 | X31: ・ | Y31: 内： | Z31: =COUNTIF(E9:E30,"・")+COUNTIF(O9:O30,"・")+COUNTIF(Y9:Y30,"・") -> 0 | AC31: 名 | AD31: ）
A33: 紹介患者様氏名 | F33: 紹介先 | K33: 逆紹介患者様氏名 | P33: 紹介元 | U33: 処置実施者 | AA33: 処置内容
E34: 様 | K34: 種市 典子 | O34: 様 | P34: 三沢中央病院 | Z34: 様
A35: 本日の検査 | F35: 検査内容 | K35: 処置実施者 | P35: 処置内容 | Z35: 様
A36: 種市 典子 | E36: 様 | F36: HDS-R,MMSE | O36: 様 | Z36: 様
A37: 吹越 琉寧 | E37: 様 | F37: 血液検査 | O37: 様 | Z37: 様
E38: 様 | O38: 様 | U38: 点検項目
E39: 様 | O39: 様 | U39: 項目 | Z39: 時間 | AC39: 点検者
A40: 発熱 | F40: 下痢 | K40: 風邪薬 | P40: 男性：27 | U40: 医療廃棄物 | Y40: 0.75 | AB40: 石原 恵海
A41: 0 | F41: 0 | K41: 0 | P41: 女性：37 | U41: 戸締り | Y41: 0.75 | AB41: 神 圭輔
A43: 備考欄 | C43: （連絡事項・処方変更・その他）
G44: 特になし
G45: 石原

Sheet 3
B1: クリニック 日 誌 | H1: 令和 | J1: ='1'!J1 -> 3 | K1: 年 | L1: 4 | M1: 月 | N1: 3 | O1: 日 | Q1: （ | S1: ） | V1: COO | Y1: IOO | AB1: AOM
A3: 勤務者名
A4: ='1'!A4:F4 -> 中村 恵理子 | G4: 日 | I4: 柳田 美雪 | N4: 日 | Q4: 診察室 | W4: 外来担当医 | Z4: 外来介助者
A5: 石原 恵海 | G5: 日 | I5: 石谷 美代子 | Q5: 第１診察室 | Z5: 柳田・石原
Q6: 第２診察室
B8: 新 | C8: 再 | D8: 精 | E8: 内 | F8: 処 | G8: 患者様氏名 | L8: 新 | M8: 再 | N8: 精 | O8: 内 | P8: 処 | Q8: 患者様氏名 | V8: 新 | W8: 再 | X8: 精 | Y8: 内 | Z8: 処 | AA8: 患者様氏名
A9: 1 | J9: 様 | K9: 2 | T9: 様 | U9: 3 | AD9: 様
A10: 4 | J10: 様 | K10: 5 | T10: 様 | U10: 6 | AD10: 様
A11: 7 | J11: 様 | K11: 8 | T11: 様 | U11: 9 | AD11: 様
A12: 10 | J12: 様 | K12: 11 | T12: 様 | U12: 12 | AD12: 様
A13: 13 | J13: 様 | K13: 14 | T13: 様 | U13: 15 | AD13: 様
A14: 16 | J14: 様 | K14: 17 | T14: 様 | U14: 18 | AD14: 様
A15: 19 | J15: 様 | K15: 20 | T15: 様 | U15: 21 | AD15: 様
A16: 22 | J16: 様 | K16: 23 | T16: 様 | U16: 24 | AD16: 様
A17: 25 | J17: 様 | K17: 26 | T17: 様 | U17: 27 | AD17: 様
A18: 28 | J18: 様 | K18: 29 | T18: 様 | U18: 30 | AD18: 様
A19: 31 | J19: 様 | K19: 32 | T19: 様 | U19: 33 | AD19: 様
A20: 34 | J20: 様 | K20: 35 | T20: 様 | U20: 36 | AD20: 様
... A33: 73 | J33: 様 | K33: 74 | T33: 様 | U33: 75 | AD33: 様
A34: 外来患者数 | E34: 新： | F34: =COUNTIF(B9:B33,"・")+COUNTIF(L9:L33,"・")+COUNTIF(V9:V33,"・") -> 0 | H34: 名 | I34: 再： | J34: =COUNTIF(C9:C33,"・")+COUNTIF(M9:M33,"・")+COUNTIF(W9:W33,"・") -> 0 | L34: 名 | M34: 計： | N34: =SUM(F34:K34) -> 0 | Q34: 名 | R34: （ | S34: 精： | T34: =COUNTIF(D9:D33,"・")+COUNTIF(N9:N33,"・")+COUNTIF(X9:X33,"・") -> 0 | W34: 名 | X34: ・ | Y34: 内： | Z34: =COUNTIF(E9:E33,"・")+COUNTIF(O9:O33,"・")+COUNTIF(Y9:Y33,"・") -> 0 | AC34: 名 | AD34: ）
A36: 紹介患者様氏名 | F36: 紹介先 | K36: 逆紹介患者様氏名 | P36: 紹介元 | U36: 処置実施者 | AA36: 処置内容
E37: 様 | O37: 様 | Z37: 様
E38: 様 | O38: 様 | Z38: 様
E39: 様 | O39: 様 | Z39: 様
E40: 様 | O40: 様 | Z40: 様
E41: 様 | O41: 様 | Z41: 様
A42: 本日の検査 | F42: 検査内容 | K42: 処置実施者 | P42: 処置内容 | Z42: 様
E43: 様 | O43: 様 | Z43: 様
E44: 様 | O44: 様 | Z44: 様
E45: 様 | O45: 様 | Z45: 様
E46: 様 | O46: 様 | U46: 点検項目
E47: 様 | O47: 様 | U47: 項目 | Z47: 時間 | AC47: 点検者
A48: 発熱 | F48: 下痢 | K48: 風邪薬 | P48: 男性： | U48: 医療廃棄物 | Y48: 0.75
A49: 0 | F49: 0 | K49: 0 | P49: 女性： | U49: 戸締り | Y49: 0.75 | AB49: ='1'!AB38:AD38 -> 石谷 美代子
A51: 備考欄 | C51: （連絡事項・処方変更・その他）

Sheet 4
B1: クリニック 日 誌 | H1: 令和 | J1: ='1'!J1 -> 3 | K1: 年 | L1: 4 | M1: 月 | N1: 4 | O1: 日 | Q1: （ | S1: ） | V1: COO | Y1: IOO | AB1: AOM
A3: 勤務者名
A4: ='1'!A4:F4 -> 中村 恵理子 | G4: 日 | I4: 柳田 美雪 | N4: 日 | Q4: 診察室 | W4: 外来担当医 | Z4: 外来介助者
A5: 石原 恵海 | G5: 日 | I5: 石谷 美代子 | Q5: 第１診察室 | Z5: 柳田・石原
Q6: 第２診察室
B8: 新 | C8: 再 | D8: 精 | E8: 内 | F8: 処 | G8: 患者様氏名 | L8: 新 | M8: 再 | N8: 精 | O8: 内 | P8: 処 | Q8: 患者様氏名 | V8: 新 | W8: 再 | X8: 精 | Y8: 内 | Z8: 処 | AA8: 患者様氏名
A9: 1 | J9: 様 | K9: 2 | T9: 様 | U9: 3 | AD9: 様
A10: 4 | J10: 様 | K10: 5 | T10: 様 | U10: 6 | AD10: 様
A11: 7 | J11: 様 | K11: 8 | T11: 様 | U11: 9 | AD11: 様
A12: 10 | J12: 様 | K12: 11 | T12: 様 | U12: 12 | AD12: 様
A13: 13 | J13: 様 | K13: 14 | T13: 様 | U13: 15 | AD13: 様
A14: 16 | J14: 様 | K14: 17 | T14: 様 | U14: 18 | AD14: 様
A15: 19 | J15: 様 | K15: 20 | T15: 様 | U15: 21 | AD15: 様
A16: 22 | J16: 様 | K16: 23 | T16: 様 | U16: 24 | AD16: 様
A17: 25 | J17: 様 | K17: 26 | T17: 様 | U17: 27 | AD17: 様
A18: 28 | J18: 様 | K18: 29 | T18: 様 | U18: 30 | AD18: 様
A19: 31 | J19: 様 | K19: 32 | T19: 様 | U19: 33 | AD19: 様
A20: 34 | J20: 様 | K20: 35 | T20: 様 | U20: 36 | AD20: 様
... A33: 73 | J33: 様 | K33: 74 | T33: 様 | U33: 75 | AD33: 様
A34: 外来患者数 | E34: 新： | F34: =COUNTIF(B9:B33,"・")+COUNTIF(L9:L33,"・")+COUNTIF(V9:V33,"・") -> 0 | H34: 名 | I34: 再： | J34: =COUNTIF(C9:C33,"・")+COUNTIF(M9:M33,"・")+COUNTIF(W9:W33,"・") -> 0 | L34: 名 | M34: 計： | N34: =SUM(F34:K34) -> 0 | Q34: 名 | R34: （ | S34: 精： | T34: =COUNTIF(D9:D33,"・")+COUNTIF(N9:N33,"・")+COUNTIF(X9:X33,"・") -> 0 | W34: 名 | X34: ・ | Y34: 内： | Z34: =COUNTIF(E9:E33,"・")+COUNTIF(O9:O33,"・")+COUNTIF(Y9:Y33,"・") -> 0 | AC34: 名 | AD34: ）
A36: 紹介患者様氏名 | F36: 紹介先 | K36: 逆紹介患者様氏名 | P36: 紹介元 | U36: 処置実施者 | AA36: 処置内容
E37: 様 | O37: 様 | Z37: 様
E38: 様 | O38: 様 | Z38: 様
E39: 様 | O39: 様 | Z39: 様
E40: 様 | O40: 様 | Z40: 様
E41: 様 | O41: 様 | Z41: 様
A42: 本日の検査 | F42: 検査内容 | K42: 処置実施者 | P42: 処置内容 | Z42: 様
E43: 様 | O43: 様 | Z43: 様
E44: 様 | O44: 様 | Z44: 様
E45: 様 | O45: 様 | Z45: 様
E46: 様 | O46: 様 | U46: 点検項目
E47: 様 | O47: 様 | U47: 項目 | Z47: 時間 | AC47: 点検者
A48: 発熱 | F48: 下痢 | K48: 風邪薬 | P48: 男性： | U48: 医療廃棄物 | Y48: 0.75
A49: 0 | F49: 0 | K49: 0 | P49: 女性： | U49: 戸締り | Y49: 0.75 | AB49: ='1'!AB38:AD38 -> 石谷 美代子
A51: 備考欄 | C51: （連絡事項・処方変更・その他）

Sheet 5
B1: クリニック 日 誌 | H1: 令和 | J1: ='1'!J1 -> 3 | K1: 年 | L1: 4 | M1: 月 | N1: 5 | O1: 日 | Q1: （ | R1: 月 | S1: ） | V1: COO | Y1: IOO | AB1: AOM
A3: 勤務者名
A4: ='1'!A4:F4 -> 中村 恵理子 | G4: 有休 | I4: 柳田 美雪 | N4: 日 | Q4: 診察室 | W4: 外来担当医 | Z4: 外来介助者
A5: 石原 恵海 | G5: 日 | I5: 石谷 美代子 | N5: 欠 | Q5: 第１診察室 | U5: 馬渡 晃弘 | Z5: 柳田・石原
A6: 鳴海 彩香 | G6: 日 | I6: 神 圭輔 | N6: 日 | Q6: 第２診察室 | U6: 千葉 良 | Z6: 柳田・石原
B8: 新 | C8: 再 | D8: 精 | E8: 内 | F8: 処 | G8: 患者様氏名 | L8: 新 | M8: 再 | N8: 精 | O8: 内 | P8: 処 | Q8: 患者様氏名 | V8: 新 | W8: 再 | X8: 精 | Y8: 内 | Z8: 処 | AA8: 患者様氏名
A9: 1 | C9: ・ | D9: ・ | F9: 60 | G9: 浄法寺 のり子 | J9: 様 | K9: 2 | M9: ・ | N9: ・ | P9: 56 | Q9: 花岸 良子 | T9: 様 | U9: 3 | W9: ・ | X9: ・ | Z9: 0 | AA9: 中村 としゑ | AD9: 様
A10: 4 | C10: ・ | D10: ・ | F10: 60 | G10: 宮内 タミエ | J10: 様 | K10: 5 | M10: ・ | N10: ・ | P10: 20 | Q10: 岡 真弓 | T10: 様 | U10: 6 | W10: ・ | X10: ・ | Z10: 0 | AA10: 工藤 健壽 | AD10: 様
A11: 7 | C11: ・ | D11: ・ | F11: 35 | G11: 吉村 直樹 | J11: 様 | K11: 8 | M11: ・ | N11: ・ | P11: 28 | Q11: 工藤 敏子 | T11: 様 | U11: 9 | W11: ・ | X11: ・ | Z11: 0 | AA11: 大木 久子 | AD11: 様
A12: 10 | C12: ・ | D12: ・ | F12: 21 | G12: 松橋 顕 | J12: 様 | K12: 11 | M12: ・ | N12: ・ | P12: 56 | Q12: 久慈 早苗 | T12: 様 | U12: 12 | W12: ・ | X12: ・ | Z12: 0 | AA12: 田口 トシ子 | AD12: 様
A13: 13 | C13: ・ | D13: ・ | F13: 35 | G13: 大村 恵美 | J13: 様 | K13: 14 | M13: ・ | N13: ・ | P13: 14 | Q13: 小原 哲也 | T13: 様 | U13: 15 | W13: ・ | X13: ・ | Z13: 0 | AA13: 高村 加津子 | AD13: 様
A14: 16 | C14: ・ | D14: ・ | F14: 21 | G14: 橋場 みゆき | J14: 様 | K14: 17 | M14: ・ | N14: ・ | P14: 60 | Q14: 遠藤 陽介 | T14: 様 | U14: 18 | W14: ・ | X14: ・ | Z14: 0 | AA14: 深町 栄美子 | AD14: 様
A15: 19 | C15: ・ | D15: ・ | F15: 60 | G15: 相内 照美 | J15: 様 | K15: 20 | M15: ・ | N15: ・ | P15: 42 | Q15: 槻舘 浩子 | T15: 様 | U15: 21 | W15: ・ | X15: ・ | Z15: 0 | AA15: 沼端 ミセ | AD15: 様
A16: 22 | C16: ・ | D16: ・ | F16: 0 | G16: 萠出 克治 | J16: 様 | K16: 23 | M16: ・ | N16: ・ | P16: 56 | Q16: 山崎 ケイ | T16: 様 | U16: 24 | W16: ・ | X16: ・ | Z16: 0 | AA16: 杉山 博子 | AD16: 様
A17: 25 | C17: ・ | D17: ・ | F17: 56 | G17: 蛯名 ナミエ | J17: 様 | K17: 26 | M17: ・ | N17: ・ | P17: 14 | Q17: 蛯名 亜果音 | T17: 様 | U17: 27 | W17: ・ | X17: ・ | Z17: 0 | AA17: 瀬川 高雄 | AD17: 様
A18: 28 | C18: ・ | D18: ・ | F18: 56 | G18: 古里 順子 | J18: 様 | K18: 29 | M18: ・ | N18: ・ | P18: 21 | Q18: 佐藤 直樹 | T18: 様 | U18: 30 | W18: ・ | X18: ・ | Z18: 0 | AA18: 萠出 きのゑ | AD18: 様
A19: 31 | C19: ・ | D19: ・ | F19: 90 | G19: 太田 悟樹 | J19: 様 | K19: 32 | M19: ・ | N19: ・ | P19: 28 | Q19: 星 幸 | T19: 様 | U19: 33 | W19: ・ | X19: ・ | Z19: 0 | AA19: 萠出 克治 | AD19: 様
A20: 34 | C20: ・ | D20: ・ | F20: 30 | G20: 江渡 野乃花 | J20: 様 | K20: 35 | M20: ・ | N20: ・ | P20: 28 | Q20: 星 歩 | T20: 様 | U20: 36 | W20: ・ | X20: ・ | Z20: 0 | AA20: 藤田 絢三 | AD20: 様
A21: 37 | C21: ・ | D21: ・ | F21: 14 | G21: 遠嶋 剛 | J21: 様 | K21: 38 | L21: ・ | N21: ・ | P21: 8 | Q21: 小泉 秀賢 | T21: 様 | U21: 39 | W21: ・ | X21: ・ | Z21: 0 | AA21: 綿貫 啓子 | AD21: 様
A22: 40 | C22: ・ | D22: ・ | F22: 30 | G22: 飯田 昭子 | J22: 様 | K22: 41 | L22: ・ | N22: ・ | P22: 14 | Q22: 大下内 英子 | T22: 様 | U22: 42 | W22: ・ | X22: ・ | Z22: 0 | AA22: 山口 瑛子 | AD22: 様
A23: 43 | C23: ・ | D23: ・ | F23: 28 | G23: 大野 政彦 | J23: 様 | K23: 44 | L23: ・ | N23: ・ | P23: 0 | Q23: 小比類巻 キサ | T23: 様 | U23: 45 | W23: ・ | X23: ・ | Z23: 0 | AA23: 遠嶋 千鶴 | AD23: 様
A24: 46 | C24: ・ | D24: ・ | F24: 28 | G24: 似鳥 勝枝 | J24: 様 | K24: 47 | L24: ・ | N24: ・ | P24: 0 | Q24: 竹内 瞳 | T24: 様 | U24: 48 | W24: ・ | X24: ・ | Z24: 0 | AA24: 坂本 政勝 | AD24: 様
A25: 49 | C25: ・ | D25: ・ | F25: 0 | G25: 山崎 要四郎 | J25: 様 | K25: 50 | M25: ・ | N25: ・ | P25: 30 | Q25: 蛯沢 鈴音波 | T25: 様 | U25: 51 | W25: ・ | X25: ・ | Z25: 0 | AA25: 坂本 佳之 | AD25: 様
A26: 52 | C26: ・ | D26: ・ | F26: 28 | G26: 三村 幸喜 | J26: 様 | K26: 53 | M26: ・ | N26: ・ | P26: 30 | Q26: 沼山 祥寛 | T26: 様 | U26: 54 | W26: ・ | X26: ・ | Z26: 30 | AA26: 石久保 耀斗 | AD26: 様
A27: 55 | C27: ・ | D27: ・ | F27: 30 | G27: 猪越 陽 | J27: 様 | K27: 56 | M27: ・ | N27: ・ | P27: 30 | Q27: 土橋 颯良 | T27: 様 | U27: 57 | W27: ・ | X27: ・ | Z27: 30 | AA27: 上久保 翔惺 | AD27: 様
A28: 58 | B28: ・ | D28: ・ | F28: 30 | G28: 織笠 将志 | J28: 様 | K28: 59 | M28: ・ | N28: ・ | P28: 0 | Q28: 安部 信祥 | T28: 様 | U28: 60 | W28: ・ | X28: ・ | Z28: 30 | AA28: 飯田 昭子 | AD28: 様
A29: 61 | C29: ・ | D29: ・ | F29: 0 | G29: 藪 真弓 | J29: 様 | K29: 62 | M29: ・ | N29: ・ | P29: 0 | Q29: 中居 敬悦 | T29: 様 | U29: 63 | W29: ・ | X29: ・ | Z29: 0 | AA29: 佐々木 ヨシ | AD29: 様
A30: 64 | J30: 様 | K30: 65 | T30: 様 | U30: 66 | AD30: 様
A31: 67 | J31: 様 | K31: 68 | T31: 様 | U31: 69 | AD31: 様
A32: 70 | J32: 様 | K32: 71 | T32: 様 | U32: 72 | AD32: 様
A33: 73 | J33: 様 | K33: 74 | T33: 様 | U33: 75 | AD33: 様
A34: 外来患者数 | E34: 新： | F34: =COUNTIF(B9:B33,"・")+COUNTIF(L9:L33,"・")+COUNTIF(V9:V33,"・") -> 5 | H34: 名 | I34: 再： | J34: =COUNTIF(C9:C33,"・")+COUNTIF(M9:M33,"・")+COUNTIF(W9:W33,"・") -> 58 | L34: 名 | M34: 計： | N34: =SUM(F34:K34) -> 63 | Q34: 名 | R34: （ | S34: 精： | T34: =COUNTIF(D9:D33,"・")+COUNTIF(N9:N33,"・")+COUNTIF(X9:X33,"・") -> 63 | W34: 名 | X34: ・ | Y34: 内： | Z34: =COUNTIF(E9:E33,"・")+COUNTIF(O9:O33,"・")+COUNTIF(Y9:Y33,"・") -> 0 | AC34: 名 | AD34: ）
A36: 紹介患者様氏名 | F36: 紹介先 | K36: 逆紹介患者様氏名 | P36: 紹介元 | U36: 処置実施者 | AA36: 処置内容
A37: 山崎 要四郎 | E37: 様 | F37: 青南病院 | O37: 様 | Z37: 様
A38: 蛯名 亜果音 | E38: 様 | F38: 水戸メンタル駅前分院 | O38: 様 | Z38: 様
E39: 様 | O39: 様 | Z39: 様
E40: 様 | O40: 様 | Z40: 様
E41: 様 | O41: 様 | Z41: 様
A42: 本日の検査 | F42: 検査内容 | K42: 処置実施者 | P42: 処置内容 | Z42: 様
A43: 大下内 英子 | E43: 様 | F43: HDS-R MMSE | K43: 三村 幸喜 | O43: 様 | P43: セプリオン150mg | Z43: 様
A44: 小比類巻 キサ | E44: 様 | F44: HDS-R MMSE 血液検査 | O44: 様 | Z44: 様
A45: 竹内 瞳 | E45: 様 | F45: CMI | O45: 様 | Z45: 様
E46: 様 | O46: 様 | U46: 点検項目
E47: 様 | O47: 様 | U47: 項目 | Z47: 時間 | AC47: 点検者
A48: 発熱 | F48: 下痢 | K48: 風邪薬 | P48: 男性： | U48: 医療廃棄物 | Y48: 0.75 | AB48: 恵谷 愛
A49: 0 | F49: 0 | K49: 0 | P49: 女性： | U49: 戸締り | Y49: 0.75 | AB49: 神 圭輔
A51: 備考欄 | C51: （連絡事項・処方変更・その他）
A53: 特記なし
G54: 恵谷 愛

Sheet 6
B1: クリニック 日 誌 | H1: 令和 | J1: ='1'!J1 -> 3 | K1: 年 | L1: 4 | M1: 月 | N1: 6 | O1: 日 | Q1: （ | R1: 火 | S1: ） | V1: COO | Y1: IOO | AB1: AOM
A3: 勤務者名
A4: 中村 恵理子 | G4: 有休 | I4: 柳田 美雪 | N4: 日 | Q4: 診察室 | W4: 外来担当医 | Z4: 外来介助者
A5: 石原 恵海 | G5: 日 | I5: 石谷 美代子 | N5: 日 | Q5: 第１診察室 | U5: 千葉 潜 | Z5: 石原
A6: 鳴海 彩香 | G6: 日 | I6: 神 圭輔 | N6: 日 | Q6: 第２診察室 | U6: 坂田 優 | Z6: 柳田
B8: 新 | C8: 再 | D8: 精 | E8: 内 | F8: 処 | G8: 患者様氏名 | L8: 新 | M8: 再 | N8: 精 | O8: 内 | P8: 処 | Q8: 患者様氏名 | V8: 新 | W8: 再 | X8: 精 | Y8: 内 | Z8: 処 | AA8: 患者様氏名
A9: 1 | C9: ・ | D9: ・ | E9: ・ | F9: 28 | G9: 岡本 光男 | J9: 様 | K9: 2 | M9: ・ | N9: ・ | P9: 28 | Q9: 沼尾 千春 | T9: 様 | U9: 3 | W9: ・ | X9: ・ | Z9: 14 | AA9: ハント 一美 | AD9: 様
A10: 4 | C10: ・ | D10: ・ | F10: 28 | G10: 杉山 真紀子 | J10: 様 | K10: 5 | M10: ・ | N10: ・ | P10: 14 | Q10: 小比券巻 由美 | T10: 様 | U10: 6 | W10: ・ | X10: ・ | Z10: 7 | AA10: 松林 朋子 | AD10: 様
A11: 7 | C11: ・ | D11: ・ | F11: 28 | G11: 小橋 裕見子 | J11: 様 | K11: 8 | M11: ・ | N11: ・ | P11: 28 | Q11: 岸 明香里 | T11: 様 | U11: 9 | W11: ・ | X11: ・ | Z11: 30 | AA11: 秋村 夏帆 | AD11: 様
A12: 10 | C12: ・ | D12: ・ | F12: 28 | G12: 田中 真由美 | J12: 様 | K12: 11 | M12: ・ | N12: ・ | P12: 42 | Q12: 古谷 京子 | T12: 様 | U12: 12 | W12: ・ | X12: ・ | Z12: 7 | AA12: 沖澤 咲妃 | AD12: 様
A13: 13 | C13: ・ | D13: ・ | F13: 28 | G13: 三浦 年男 | J13: 様 | K13: 14 | M13: ・ | N13: ・ | P13: 56 | Q13: 西舘 一明 | T13: 様 | U13: 15 | W13: ・ | X13: ・ | Z13: 7 | AA13: 熊谷 政治 | AD13: 様
A14: 16 | C14: ・ | D14: ・ | F14: 28 | G14: 橋本 豊彦 | J14: 様 | K14: 17 | M14: ・ | N14: ・ | P14: 28 | Q14: 吉田 智恵 | T14: 様 | U14: 18 | V14: ・ | X14: ・ | Z14: 28 | AA14: 川村 一也 | AD14: 様
A15: 19 | C15: ・ | D15: ・ | F15: 28 | G15: 佐々木 英二 | J15: 様 | K15: 20 | M15: ・ | N15: ・ | P15: 30 | Q15: 出町 舜介 | T15: 様 | U15: 21 | W15: ・ | X15: ・ | Z15: 28 | AA15: 小西 徳仁 | AD15: 様
A16: 22 | C16: ・ | D16: ・ | F16: 28 | G16: 吉田 めぐみ | J16: 様 | K16: 23 | M16: ・ | N16: ・ | P16: 30 | Q16: 織笠 祐美 | T16: 様 | U16: 24 | W16: ・ | X16: ・ | Z16: 28 | AA16: 吉田 末治 | AD16: 様
A17: 25 | C17: ・ | D17: ・ | F17: 42 | G17: 古川 ミキ | J17: 様 | K17: 26 | M17: ・ | N17: ・ | P17: 35 | Q17: 沼田 トキ | T17: 様 | U17: 27 | W17: ・ | X17: ・ | Z17: 30 | AA17: 松尾 雄 | AD17: 様
A18: 28 | C18: ・ | D18: ・ | F18: 56 | G18: 山田 啓 | J18: 様 | K18: 29 | M18: ・ | N18: ・ | P18: 28 | Q18: 石岡 裕子 | T18: 様 | U18: 30 | W18: ・ | X18: ・ | Z18: 0 | AA18: 石井 佐代子 | AD18: 様
A19: 31 | C19: ・ | D19: ・ | F19: 28 | G19: 熊崎 ユウ子 | J19: 様 | K19: 32 | M19: ・ | N19: ・ | P19: 28 | Q19: 土田 雅代 | T19: 様 | U19: 33 | W19: ・ | X19: ・ | Z19: 0 | AA19: 古間木 義美 | AD19: 様
A20: 34 | C20: ・ | D20: ・ | F20: 28 | G20: 中村 ミサ | J20: 様 | K20: 35 | M20: ・ | N20: ・ | P20: 28 | Q20: 河村 幸祐 | T20: 様 | U20: 36 | W20: ・ | X20: ・ | Z20: 0 | AA20: 工藤 健壽 | AD20: 様
A21: 37 | C21: ・ | D21: ・ | F21: 28 | G21: 田辺 京子 | J21: 様 | K21: 38 | M21: ・ | N21: ・ | P21: 8 | Q21: 丸谷 美香 | T21: 様 | U21: 39 | W21: ・ | X21: ・ | Z21: 0 | AA21: 綿貫 啓子 | AD21: 様
A22: 40 | C22: ・ | D22: ・ | F22: 14 | G22: 西 和枝 | J22: 様 | K22: 41 | M22: ・ | N22: ・ | P22: 42 | Q22: 大木 久子 | T22: 様 | U22: 42 | W22: ・ | X22: ・ | Z22: 0 | AA22: 田口 トシ子 | AD22: 様
A23: 43 | C23: ・ | D23: ・ | F23: 28 | G23: 畑山 みゆき | J23: 様 | K23: 44 | M23: ・ | N23: ・ | P23: 30 | Q23: 松尾 雄 | T23: 様 | U23: 45 | W23: ・ | X23: ・ | Z23: 0 | AA23: 山口 瑛子 | AD23: 様
A24: 46 | C24: ・ | D24: ・ | F24: 14 | G24: 右近 楓 | J24: 様 | K24: 47 | M24: ・ | N24: ・ | P24: 42 | Q24: 沼岡 和子 | T24: 様 | U24: 48 | W24: ・ | X24: ・ | Z24: 0 | AA24: 萠出 きのゑ | AD24: 様
A25: 49 | C25: ・ | D25: ・ | F25: 28 | G25: 尾形 志津香 | J25: 様 | K25: 50 | M25: ・ | N25: ・ | P25: 42 | Q25: 工藤 利子 | T25: 様 | U25: 51 | W25: ・ | X25: ・ | Z25: 0 | AA25: 萠出 克治 | AD25: 様
A26: 52 | C26: ・ | D26: ・ | F26: 56 | G26: 山本 トヨ | J26: 様 | K26: 53 | M26: ・ | N26: ・ | P26: 30 | Q26: 木村 めぐみ | T26: 様 | U26: 54 | W26: ・ | X26: ・ | Z26: 0 | AA26: 藤田 絢三 | AD26: 様
... A29: 61 | C29: ・ | D29: ・ | F29: 0 | G29: 長岡 叶人 | J29: 様 | K29: 62 | M29: ・ | N29: ・ | P29: 0 | Q29: 佐藤 ソノ | T29: 様 | U29: 63 | W29: ・ | X29: ・ | Z29: 0 | AA29: 水上 民一 | AD29: 様
A30: 外来患者数 | E30: 新： | F30: =COUNTIF(B9:B29,"・")+COUNTIF(L9:L29,"・")+COUNTIF(V9:V29,"・") -> 1 | H30: 名 | I30: 再： | J30: =COUNTIF(C9:C29,"・")+COUNTIF(M9:M29,"・")+COUNTIF(W9:W29,"・") -> 62 | L30: 名 | M30: 計： | N30: =SUM(F30:K30) -> 63 | Q30: 名 | R30: （ | S30: 精： | T30: =COUNTIF(D9:D29,"・")+COUNTIF(N9:N29,"・")+COUNTIF(X9:X29,"・") -> 63 | W30: 名 | X30: ・ | Y30: 内： | Z30: =COUNTIF(E9:E29,"・")+COUNTIF(O9:O29,"・")+COUNTIF(Y9:Y29,"・") -> 1 | AC30: 名 | AD30: ）
A32: 紹介患者様氏名 | F32: 紹介先 | K32: 逆紹介患者様氏名 | P32: 紹介元 | U32: 処置実施者 | AA32: 処置内容
A33: 秋村 夏帆 | E33: 様 | F33: 千代田メンタルクリニック | O33: 様 | Z33: 様
A34: 本日の検査 | F34: 検査内容 | K34: 処置実施者 | P34: 処置内容 | Z34: 様
A35: 大木 久子 | E35: 様 | F35: HDS-R MMSE | K35: 岡本 光男 | O35: 様 | P35: インフル・COVID19検査 | Z35: 様
A36: 畑山 みゆき | E36: 様 | F36: 血液検査 | O36: 様 | Z36: 様
A37: 松林 朋子 | E37: 様 | F37: 血液検査 | O37: 様 | Z37: 様
E38: 様 | O38: 様 | U38: 点検項目
E39: 様 | O39: 様 | U39: 項目 | Z39: 時間 | AC39: 点検者
A40: 発熱 | F40: 下痢 | K40: 風邪薬 | P40: 男性：22 | U40: 医療廃棄物 | Y40: 0.75 | AB40: 恵谷 愛
A41: 0 | F41: 0 | K41: 0 | P41: 女性：41 | U41: 戸締り | Y41: 0.75 | AB41: 石谷 美代子
A43: 備考欄 | C43: （連絡事項・処方変更・その他）
G44: 特記なし
G45: 柳田

Sheet 7
B1: クリニック 日 誌 | H1: 令和 | J1: ='6'!J1 -> 3 | K1: 年 | L1: 4 | M1: 月 | N1: 7 | O1: 日 | Q1: （ | S1: ） | V1: COO | Y1: IOO | AB1: AOM
A3: 勤務者名
A4: ='6'!A4:F4 -> 中村 恵理子 | G4: 有休 | I4: 柳田 美雪 | N4: 日 | Q4: 診察室 | W4: 外来担当医 | Z4: 外来介助者
A5: 石原 恵海 | G5: 年 | I5: 石谷 美代子 | N5: 早 | Q5: 第１診察室 | U5: 千葉 潜 | Z5: 柳田
A6: 神 圭輔 | G6: 日 | Q6: 第２診察室 | U6: 坂田 優 | Z6: 柳田
B8: 新 | C8: 再 | D8: 精 | E8: 内 | F8: 処 | G8: 患者様氏名 | L8: 新 | M8: 再 | N8: 精 | O8: 内 | P8: 処 | Q8: 患者様氏名 | V8: 新 | W8: 再 | X8: 精 | Y8: 内 | Z8: 処 | AA8: 患者様氏名
A9: 1 | C9: ・ | D9: ・ | F9: 17 | G9: 岩城 芳枝 | J9: 様 | K9: 2 | M9: ・ | N9: ・ | P9: 42 | Q9: 磯谷 ツル | T9: 様 | U9: 3 | W9: ・ | X9: ・ | Z9: 0 | AA9: 工藤 健壽 | AD9: 様
A10: 4 | C10: ・ | D10: ・ | F10: 28 | G10: 清野 栄子 | J10: 様 | K10: 5 | M10: ・ | N10: ・ | P10: 30 | Q10: 角 茜莉 | T10: 様 | U10: 6 | W10: ・ | X10: ・ | Z10: 0 | AA10: 大木 久子 | AD10: 様
A11: 7 | C11: ・ | D11: ・ | F11: 21 | G11: 松林 望美 | J11: 様 | K11: 8 | M11: ・ | N11: ・ | P11: 42 | Q11: 塚田 敏子 | T11: 様 | U11: 9 | W11: ・ | X11: ・ | Z11: 0 | AA11: 田口 トシ子 | AD11: 様
A12: 10 | C12: ・ | D12: ・ | F12: 15 | G12: 水上 民一 | J12: 様 | K12: 11 | M12: ・ | N12: ・ | P12: 30 | Q12: 藤原 チイ | T12: 様 | U12: 12 | W12: ・ | X12: ・ | Z12: 0 | AA12: 高村 加津子 | AD12: 様
A13: 13 | C13: ・ | D13: ・ | F13: 56 | G13: 阿部 セツ子 | J13: 様 | K13: 14 | M13: ・ | N13: ・ | P13: 28 | Q13: 駒澤 眞次 | T13: 様 | U13: 15 | W13: ・ | X13: ・ | Z13: 0 | AA13: 山本 伸子 | AD13: 様
A14: 16 | C14: ・ | D14: ・ | F14: 60 | G14: 舛谷 哲雄 | J14: 様 | K14: 17 | M14: ・ | N14: ・ | P14: 28 | Q14: 一戸 幸子 | T14: 様 | U14: 18 | W14: ・ | X14: ・ | Z14: 0 | AA14: 深町 栄美子 | AD14: 様
A15: 19 | C15: ・ | D15: ・ | F15: 60 | G15: 舛谷 勝子 | J15: 様 | K15: 20 | M15: ・ | N15: ・ | P15: 12 | Q15: 蛯名 亜果音 | T15: 様 | U15: 21 | W15: ・ | X15: ・ | Z15: 0 | AA15: 豊川 洋子 | AD15: 様
A16: 22 | C16: ・ | D16: ・ | F16: 28 | G16: 吉田 和子 | J16: 様 | K16: 23 | M16: ・ | N16: ・ | P16: 21 | Q16: 綿貫 啓子 | T16: 様 | U16: 24 | W16: ・ | X16: ・ | Z16: 0 | AA16: 沼端 ミセ | AD16: 様
A17: 25 | C17: ・ | D17: ・ | F17: 28 | G17: 山本 美津子 | J17: 様 | K17: 26 | M17: ・ | N17: ・ | P17: 56 | Q17: 相内 京子 | T17: 様 | U17: 27 | W17: ・ | X17: ・ | Z17: 0 | AA17: 山口 瑛子 | AD17: 様
A18: 28 | C18: ・ | D18: ・ | F18: 0 | G18: 石ケ谷 數子 | J18: 様 | K18: 29 | M18: ・ | N18: ・ | P18: 42 | Q18: 舘花 嘉久 | T18: 様 | U18: 30 | W18: ・ | X18: ・ | Z18: 0 | AA18: 瀬川 高雄 | AD18: 様
A19: 31 | C19: ・ | D19: ・ | F19: 30 | G19: 奥寺 真理子 | J19: 様 | K19: 32 | M19: ・ | N19: ・ | P19: 14 | Q19: 稲本 典子 | T19: 様 | U19: 33 | W19: ・ | X19: ・ | Z19: 0 | AA19: 藤田 絢三 | AD19: 様
A20: 34 | C20: ・ | D20: ・ | F20: 30 | G20: 相内 京子 | J20: 様 | K20: 35 | M20: ・ | N20: ・ | P20: 21 | Q20: 下田 守雄 | T20: 様 | U20: 36 | W20: ・ | X20: ・ | Z20: 0 | AA20: 萠出 きのゑ | AD20: 様
... A24: 46 | C24: ・ | D24: ・ | F24: 30 | G24: 和田 春奈 | J24: 様 | K24: 47 | M24: ・ | N24: ・ | P24: 28 | Q24: 石橋 貞子 | T24: 様 | U24: 48 | W24: ・ | X24: ・ | Z24: 0 | AA24: 杉山 博子 | AD24: 様
A25: 49 | C25: ・ | D25: ・ | F25: 14 | G25: 中村 実樹 | J25: 様 | K25: 50 | M25: ・ | N25: ・ | P25: 14 | Q25: 佐藤 正志 | T25: 様 | U25: 51 | V25: ・ | X25: ・ | Z25: 14 | AA25: 村岡 述夫 | AD25: 様
A26: 52 | C26: ・ | D26: ・ | F26: 42 | G26: 高橋 キミエ | J26: 様 | K26: 53 | M26: ・ | N26: ・ | P26: 35 | Q26: 中野渡 雄 | T26: 様 | U26: 54 | W26: ・ | X26: ・ | Z26: 30 | AA26: 相坂 遥 | AD26: 様
A27: 55 | C27: ・ | D27: ・ | F27: 14 | G27: 浦邊 健司 | J27: 様 | K27: 56 | M27: ・ | N27: ・ | P27: 0 | Q27: 町屋 自由 | T27: 様 | U27: 57 | W27: ・ | X27: ・ | Z27: 35 | AA27: 瀬間 義大 | AD27: 様
A28: 58 | C28: ・ | D28: ・ | F28: 29 | G28: 宮古 克弘 | J28: 様 | K28: 59 | M28: ・ | N28: ・ | P28: 28 | Q28: 藤原 克子 | T28: 様 | U28: 60 | W28: ・ | X28: ・ | Z28: 51 | AA28: 大渡 信光 | AD28: 様
A29: 61 | C29: ・ | D29: ・ | F29: 14 | G29: 山本 文紀 | J29: 様 | K29: 62 | M29: ・ | N29: ・ | P29: 35 | Q29: 松林 佑 | T29: 様 | U29: 63 | W29: ・ | X29: ・ | Z29: 42 | AA29: 鹿糠 泰裕 | AD29: 様
A30: 64 | C30: ・ | D30: ・ | F30: 42 | G30: 阿部 勝廣 | J30: 様 | K30: 65 | M30: ・ | O30: ・ | P30: 0 | Q30: 沼山 寛子 | T30: 様 | U30: 66 | V30: ・ | Y30: ・ | Z30: 5 | AA30: 佐藤 鑛治 | AD30: 様
A31: 67 | C31: ・ | D31: ・ | F31: 0 | G31: 橋本 英治 | J31: 様 | K31: 68 | T31: 様 | U31: 69 | AD31: 様
A32: 外来患者数 | E32: 新： | F32: =COUNTIF(B9:B31,"・")+COUNTIF(L9:L31,"・")+COUNTIF(V9:V31,"・") -> 2 | H32: 名 | I32: 再： | J32: =COUNTIF(C9:C31,"・")+COUNTIF(M9:M31,"・")+COUNTIF(W9:W31,"・") -> 65 | L32: 名 | M32: 計： | N32: =SUM(F32:K32) -> 67 | Q32: 名 | R32: （ | S32: 精： | T32: =COUNTIF(D9:D31,"・")+COUNTIF(N9:N31,"・")+COUNTIF(X9:X31,"・") -> 65 | W32: 名 | X32: ・ | Y32: 内： | Z32: =COUNTIF(E9:E31,"・")+COUNTIF(O9:O31,"・")+COUNTIF(Y9:Y31,"・") -> 2 | AC32: 名 | AD32: ）
A34: 紹介患者様氏名 | F34: 紹介先 | K34: 逆紹介患者様氏名 | P34: 紹介元 | U34: 処置実施者 | AA34: 処置内容
E35: 様 | O35: 様 | Z35: 様
A36: 本日の検査 | F36: 検査内容 | K36: 処置実施者 | P36: 検査内容 | Z36: 様
A37: 舛谷 哲雄 | E37: 様 | F37: 血液検査 | K37: 村岡 述夫 | O37: 様 | P37: HDS-R MMSE | Z37: 様
A38: 舛谷 勝子 | E38: 様 | F38: 血液検査 | K38: 橋本 英治 | O38: 様 | P38: AQ | Z38: 様
A39: 佐藤 鑛治 | E39: 様 | F39: 血液検査 | O39: 様 | Z39: 様
A40: 鹿糠 泰裕 | E40: 様 | F40: 血液検査 | O40: 様 | U40: 点検項目
A41: 綿貫 啓子 | E41: 様 | F41: HDS-R MMSE | O41: 様 | U41: 項目 | Z41: 時間 | AC41: 点検者
A42: 発熱 | F42: 下痢 | K42: 風邪薬 | P42: 男性： | U42: 医療廃棄物 | Y42: 0.75 | AB42: 柳田 美雪
A43: 0 | F43: 0 | K43: 0 | P43: 女性： | U43: 戸締り | Y43: 0.75 | AB43: 神 圭輔
A45: 備考欄 | C45: （連絡事項・処方変更・その他）
G46: 特記なし
G47: 柳田 美雪

Sheet 8
B1: クリニック 日 誌 | H1: 令和 | J1: ='6'!J1 -> 3 | K1: 年 | L1: 4 | M1: 月 | N1: 8 | O1: 日 | Q1: （ | R1: 木 | S1: ） | V1: COO | Y1: IOO | AB1: AOM
A3: 勤務者名
A4: ='7'!A4:F4 -> 中村 恵理子 | G4: 有休 | I4: 柳田 美雪 | N4: 日 | Q4: 診察室 | W4: 外来担当医 | Z4: 外来介助者
A5: 石原 恵海 | G5: 日 | I5: 石谷 美代子 | N5: 日 | Q5: 第１診察室 | U5: 千葉 潜 | Z5: 柳田・石原
A6: 神 圭輔 | G6: 日 | Q6: 第２診察室 | U6: 田名部 茂 | Z6: 柳田・石原
B8: 新 | C8: 再 | D8: 精 | E8: 内 | F8: 処 | G8: 患者様氏名 | L8: 新 | M8: 再 | N8: 精 | O8: 内 | P8: 処 | Q8: 患者様氏名 | V8: 新 | W8: 再 | X8: 精 | Y8: 内 | Z8: 処 | AA8: 患者様氏名
A9: 1 | C9: ・ | D9: ・ | F9: 60 | G9: 田中 幸雄 | J9: 様 | K9: 2 | M9: ・ | N9: ・ | P9: 35 | Q9: 河村 義徳 | T9: 様 | U9: 3 | W9: ・ | X9: ・ | Z9: 0 | AA9: 工藤 健壽 | AD9: 様
A10: 4 | C10: ・ | D10: ・ | F10: 60 | G10: 簗場 ハギ | J10: 様 | K10: 5 | M10: ・ | N10: ・ | P10: 42 | Q10: 久保田 操 | T10: 様 | U10: 6 | W10: ・ | X10: ・ | Z10: 0 | AA10: 大木 久子 | AD10: 様
A11: 7 | C11: ・ | D11: ・ | F11: 28 | G11: 妻神 京子 | J11: 様 | K11: 8 | M11: ・ | N11: ・ | P11: 30 | Q11: 天間 功一 | T11: 様 | U11: 9 | W11: ・ | X11: ・ | Z11: 0 | AA11: 田口 トシ子 | AD11: 様
A12: 10 | C12: ・ | D12: ・ | F12: 30 | G12: 沼山 裕一 | J12: 様 | K12: 11 | M12: ・ | N12: ・ | P12: 30 | Q12: 鈴木 英男 | T12: 様 | U12: 12 | W12: ・ | X12: ・ | Z12: 0 | AA12: 高村 加津子 | AD12: 様
A13: 13 | C13: ・ | D13: ・ | F13: 28 | G13: 野坂 千晶 | J13: 様 | K13: 14 | M13: ・ | N13: ・ | P13: 56 | Q13: 石橋 京子 | T13: 様 | U13: 15 | W13: ・ | X13: ・ | Z13: 0 | AA13: 坂本 政勝 | AD13: 様
A14: 16 | C14: ・ | D14: ・ | F14: 56 | G14: 田村 一重 | J14: 様 | K14: 17 | M14: ・ | N14: ・ | P14: 35 | Q14: 中村 佳奈 | T14: 様 | U14: 18 | W14: ・ | X14: ・ | Z14: 0 | AA14: 瀬川 高雄 | AD14: 様
A15: 19 | C15: ・ | D15: ・ | F15: 28 | G15: 島名 恵子 | J15: 様 | K15: 20 | M15: ・ | N15: ・ | P15: 30 | Q15: 山田 晶子 | T15: 様 | U15: 21 | W15: ・ | X15: ・ | Z15: 0 | AA15: 藤田 絢三 | AD15: 様
A16: 22 | C16: ・ | D16: ・ | F16: 7 | G16: 中居 敬悦 | J16: 様 | K16: 23 | M16: ・ | N16: ・ | P16: 30 | Q16: 関川 悦子 | T16: 様 | U16: 24 | W16: ・ | X16: ・ | Z16: 0 | AA16: 山口 瑛子 | AD16: 様
A17: 25 | C17: ・ | D17: ・ | F17: 28 | G17: 太田 美津 | J17: 様 | K17: 26 | M17: ・ | N17: ・ | P17: 35 | Q17: 久保田 ツヨ | T17: 様 | U17: 27 | W17: ・ | X17: ・ | Z17: 0 | AA17: 綿貫 啓子 | AD17: 様
A18: 28 | C18: ・ | D18: ・ | F18: 30 | G18: 古澤 博美 | J18: 様 | K18: 29 | M18: ・ | N18: ・ | P18: 35 | Q18: 坂岡 サダ | T18: 様 | U18: 30 | W18: ・ | X18: ・ | Z18: 0 | AA18: 坂本 佳之 | AD18: 様
A19: 31 | C19: ・ | D19: ・ | F19: 30 | G19: 野田頭 真由美 | J19: 様 | K19: 32 | M19: ・ | N19: ・ | P19: 30 | Q19: 深沢口 誠 | T19: 様 | U19: 33 | W19: ・ | X19: ・ | Z19: 0 | AA19: 遠嶋 剛 | AD19: 様
A20: 34 | C20: ・ | D20: ・ | F20: 28 | G20: 片桐 惣一郎 | J20: 様 | K20: 35 | M20: ・ | N20: ・ | P20: 35 | Q20: 工藤 サヨ | T20: 様 | U20: 36 | W20: ・ | X20: ・ | Z20: 0 | AA20: 遠嶋 千鶴 | AD20: 様
A21: 37 | C21: ・ | D21: ・ | F21: 28 | G21: 齊藤 里美 | J21: 様 | K21: 38 | M21: ・ | N21: ・ | P21: 30 | Q21: 杉元 悠敏 | T21: 様 | U21: 39 | W21: ・ | X21: ・ | Z21: 0 | AA21: 西舘 瞳 | AD21: 様
A22: 40 | B22: ・ | D22: ・ | F22: 14 | G22: 木村 正子 | J22: 様 | K22: 41 | M22: ・ | N22: ・ | P22: 28 | Q22: 西舘 ツル | T22: 様 | U22: 42 | W22: ・ | X22: ・ | Z22: 21 | AA22: 沼尾 弘美 | AD22: 様
A23: 43 | C23: ・ | D23: ・ | F23: 0 | G23: 武良 ミセ | J23: 様 | K23: 44 | M23: ・ | N23: ・ | P23: 35 | Q23: 下浅 光敬 | T23: 様 | U23: 45 | W23: ・ | X23: ・ | Z23: 30 | AA23: 奈良 治隆 | AD23: 様
A24: 46 | C24: ・ | D24: ・ | F24: 14 | G24: 土井 健一 | J24: 様 | K24: 47 | M24: ・ | N24: ・ | P24: 30 | Q24: 四戸 水晶 | T24: 様 | U24: 48 | W24: ・ | X24: ・ | Z24: 28 | AA24: 岩井 純子 | AD24: 様
A25: 49 | C25: ・ | D25: ・ | F25: 35 | G25: 沖津 善昭 | J25: 様 | K25: 50 | L25: ・ | N25: ・ | P25: 28 | Q25: 水上 阿斗 | T25: 様 | U25: 51 | W25: ・ | X25: ・ | Z25: 0 | AA25: 佐藤 初男 | AD25: 様
A26: 52 | C26: ・ | D26: ・ | F26: 0 | G26: 山本 美津子 | J26: 様 | K26: 53 | L26: ・ | N26: ・ | P26: 28 | Q26: 澤口 聡 | T26: 様 | U26: 54 | AD26: 様
A27: 外来患者数 | E27: 新： | F27: =COUNTIF(B9:B26,"・")+COUNTIF(L9:L26,"・")+COUNTIF(V9:V26,"・") -> 3 | H27: 名 | I27: 再： | J27: =COUNTIF(C9:C26,"・")+COUNTIF(M9:M26,"・")+COUNTIF(W9:W26,"・") -> 50 | L27: 名 | M27: 計： | N27: =SUM(F27:K27) -> 53 | Q27: 名 | R27: （ | S27: 精： | T27: =COUNTIF(D9:D26,"・")+COUNTIF(N9:N26,"・")+COUNTIF(X9:X26,"・") -> 53 | W27: 名 | X27: ・ | Y27: 内： | Z27: =COUNTIF(E9:E26,"・")+COUNTIF(O9:O26,"・")+COUNTIF(Y9:Y26,"・") -> 0 | AC27: 名 | AD27: ）
A29: 紹介患者様氏名 | F29: 紹介先 | K29: 逆紹介患者様氏名 | P29: 紹介元 | U29: 処置実施者 | AA29: 処置内容
A30: 土井 健一 | E30: 様 | F30: まつぞのクリニック | K30: 水上 阿斗 | O30: 様 | P30: 八戸赤十字病院 | Z30: 様
A31: 関川 悦子 | E31: 様 | F31: 転居のため宛名なし | K31: 木村 正子 | O31: 様 | P31: こんの医院 | Z31: 様
E32: 様 | K32: 澤口 聡 | O32: 様 | P32: 青南病院 | Z32: 様
A33: 本日の検査 | F33: 検査内容 | K33: 処置実施者 | P33: 処置内容 | Z33: 様
A34: 沖津 善昭 | E34: 様 | F34: 血液検査 | K34: 中居 敬悦 | O34: 様 | P34: ハロマンス50mg1A | Z34: 様
A35: 澤口 聡 | E35: 様 | F35: CMI | K35: 野田頭 真由美 | O35: 様 | P35: ハロマンス100mg1A | Z35: 様
E36: 様 | O36: 様 | U36: 点検項目
E37: 様 | O37: 様 | U37: 項目 | Z37: 時間 | AC37: 点検者
A38: 発熱 | F38: 下痢 | K38: 風邪薬 | P38: 男性：23 | U38: 医療廃棄物 | Y38: 0.75 | AB38: 柳田 美雪
A39: 0 | F39: 0 | K39: 0 | P39: 女性：30 | U39: 戸締り | Y39: 0.75 | AB39: 石谷 美代子
A41: 備考欄 | C41: （連絡事項・処方変更・その他）
G42: 特記なし
G43: 柳田

Sheet 9
B1: クリニック 日 誌 | H1: 令和 | J1: ='6'!J1 -> 3 | K1: 年 | L1: 4 | M1: 月 | N1: 9 | O1: 日 | Q1: （ | R1: 金 | S1: ） | V1: COO | Y1: IOO | AB1: AOM
A3: 勤務者名
A4: ='6'!A4:F4 -> 中村 恵理子 | G4: 年休 | I4: 柳田 美雪 | N4: 日 | Q4: 診察室 | W4: 外来担当医 | Z4: 外来介助者
A5: 石原 恵海 | G5: 日 | I5: 石谷 美代子 | N5: 日 | Q5: 第１診察室 | U5: 金 泰徳 | Z5: 柳田・石原
A6: 神 圭輔 | G6: 日 | Q6: 第２診察室 | U6: 千葉 良 | Z6: 柳田・石原
B8: 新 | C8: 再 | D8: 精 | E8: 内 | F8: 処 | G8: 患者様氏名 | L8: 新 | M8: 再 | N8: 精 | O8: 内 | P8: 処 | Q8: 患者様氏名 | V8: 新 | W8: 再 | X8: 精 | Y8: 内 | Z8: 処 | AA8: 患者様氏名
A9: 1 | C9: ・ | D9: ・ | F9: 56 | G9: 遠藤 勝也 | J9: 様 | K9: 2 | M9: ・ | N9: ・ | P9: 60 | Q9: 山本 ミワ | T9: 様 | U9: 3 | W9: ・ | X9: ・ | Z9: 0 | AA9: 中川原 いさ | AD9: 様
A10: 4 | C10: ・ | D10: ・ | F10: 60 | G10: 中川原 ちる | J10: 様 | K10: 5 | M10: ・ | N10: ・ | P10: 28 | Q10: 花松 ナヨ | T10: 様 | U10: 6 | W10: ・ | X10: ・ | Z10: 0 | AA10: 一戸 紀子 | AD10: 様
A11: 7 | C11: ・ | D11: ・ | F11: 28 | G11: 馬場 トセ子 | J11: 様 | K11: 8 | M11: ・ | N11: ・ | P11: 30 | Q11: 山口 陽子 | T11: 様 | U11: 9 | W11: ・ | X11: ・ | Z11: 0 | AA11: 藤田 絢三 | AD11: 様
A12: 10 | C12: ・ | D12: ・ | F12: 28 | G12: 畑山 栄美子 | J12: 様 | K12: 11 | M12: ・ | N12: ・ | P12: 56 | Q12: 伊藤 和子 | T12: 様 | U12: 12 | W12: ・ | X12: ・ | Z12: 0 | AA12: 山口 瑛子 | AD12: 様
A13: 13 | C13: ・ | D13: ・ | F13: 60 | G13: 沼尾 タマエ | J13: 様 | K13: 14 | M13: ・ | N13: ・ | P13: 60 | Q13: 尾崎 良夫 | T13: 様 | U13: 15 | W13: ・ | X13: ・ | Z13: 0 | AA13: 綿貫 啓子 | AD13: 様
A14: 16 | C14: ・ | D14: ・ | F14: 28 | G14: 佐藤 晴子 | J14: 様 | K14: 17 | M14: ・ | N14: ・ | P14: 30 | Q14: 前田 チヤ | T14: 様 | U14: 18 | W14: ・ | X14: ・ | Z14: 0 | AA14: 山本 伸子 | AD14: 様
A15: 19 | C15: ・ | D15: ・ | F15: 30 | G15: 望月 恵美子 | J15: 様 | K15: 20 | M15: ・ | N15: ・ | P15: 28 | Q15: 林 博子 | T15: 様 | U15: 21 | W15: ・ | X15: ・ | Z15: 0 | AA15: 深町 栄美子 | AD15: 様
A16: 22 | C16: ・ | D16: ・ | F16: 60 | G16: 大久保 和 | J16: 様 | K16: 23 | M16: ・ | N16: ・ | P16: 60 | Q16: 小向 サツ | T16: 様 | U16: 24 | W16: ・ | X16: ・ | Z16: 0 | AA16: 萠出 きのゑ | AD16: 様
A17: 25 | C17: ・ | D17: ・ | F17: 28 | G17: 畑山 栄子 | J17: 様 | K17: 26 | M17: ・ | N17: ・ | P17: 63 | Q17: 小泉 進 | T17: 様 | U17: 27 | W17: ・ | X17: ・ | Z17: 0 | AA17: 萠出 克治 | AD17: 様
A18: 28 | C18: ・ | D18: ・ | F18: 28 | G18: 黒澤 慎一郎 | J18: 様 | K18: 29 | M18: ・ | N18: ・ | P18: 30 | Q18: 小笠原 とよ | T18: 様 | U18: 30 | W18: ・ | X18: ・ | Z18: 0 | AA18: 沼端 ミセ | AD18: 様
A19: 31 | C19: ・ | D19: ・ | F19: 28 | G19: 吉田 美樹 | J19: 様 | K19: 32 | M19: ・ | N19: ・ | P19: 28 | Q19: 長根 謙二 | T19: 様 | U19: 33 | W19: ・ | X19: ・ | Z19: 0 | AA19: 瀬川 高雄 | AD19: 様
A20: 34 | C20: ・ | D20: ・ | F20: 28 | G20: 新堂 則子 | J20: 様 | K20: 35 | M20: ・ | N20: ・ | P20: 30 | Q20: 谷地 正男 | T20: 様 | U20: 36 | W20: ・ | X20: ・ | Z20: 0 | AA20: 坂本 佳之 | AD20: 様
... A32: 70 | C32: ・ | D32: ・ | F32: 30 | G32: 大坂 公子 | J32: 様 | K32: 71 | M32: ・ | N32: ・ | P32: 28 | Q32: 中村 トメ | T32: 様 | U32: 72 | W32: ・ | X32: ・ | Z32: 30 | AA32: 三上 桜 | AD32: 様
A33: 外来患者数 | E33: 新： | F33: =COUNTIF(B9:B32,"・")+COUNTIF(L9:L32,"・")+COUNTIF(V9:V32,"・") -> 0 | H33: 名 | I33: 再： | J33: =COUNTIF(C9:C32,"・")+COUNTIF(M9:M32,"・")+COUNTIF(W9:W32,"・") -> 72 | L33: 名 | M33: 計： | N33: =SUM(F33:K33) -> 72 | Q33: 名 | R33: （ | S33: 精： | T33: =COUNTIF(D9:D32,"・")+COUNTIF(N9:N32,"・")+COUNTIF(X9:X32,"・") -> 72 | W33: 名 | X33: ・ | Y33: 内： | Z33: =COUNTIF(E9:E32,"・")+COUNTIF(O9:O32,"・")+COUNTIF(Y9:Y32,"・") -> 0 | AC33: 名 | AD33: ）
A35: 紹介患者様氏名 | F35: 紹介先 | K35: 逆紹介患者様氏名 | P35: 紹介元 | U35: 処置実施者 | AA35: 処置内容
A36: 古田 真 | E36: 様 | F36: 青南病院 | O36: 様 | Z36: 様
A37: 本日の検査 | F37: 検査内容 | K37: 処置実施者 | P37: 処置内容 | Z37: 様
E38: 様 | O38: 様 | U38: 点検項目
E39: 様 | O39: 様 | U39: 項目 | Z39: 時間 | AC39: 点検者
A40: 発熱 | F40: 下痢 | K40: 風邪薬 | P40: 男性：21 | U40: 医療廃棄物 | Y40: 0.75 | AB40: 柳田 美雪
A41: 0 | F41: 0 | K41: 0 | P41: 女性：50 | U41: 戸締り | Y41: 0.75 | AB41: ='6'!AB41:AD41 -> 石谷 美代子
A43: 備考欄 | C43: （連絡事項・処方変更・その他）
A44: 古田 真 様 | G44: 主病名 最重度知的障害 3人同胞の第2子。保育園で言葉の遅れを指摘される。小学校
A45: （再診・精神） | G45: は、特別支援学級に通学。小学校6年生から八戸養護学校に移り、平成29年4月より七戸養
G46: 護学校に通学していた。これまでにも何度か児童相談所に保護されているが、詳細は不明。
G47: 衝動性、興奮、自傷行為があり、平成29年5月19日に当院を初診し薬物治療を行っていた。
G48: 公園で暴れて居合わせた人物に暴力行為があり、警察介入し令和元年10月15日～同年11
G49: 月14日まで入院歴がある。退院後は、当院にて通院加療を継続している。定期通院は、両親
G50: 付添いのもと行われていたが、本日、通所施設、三沢市障害福祉課の職員より両親からの
G51: 暴力行為、ネグレクトの報告があり、警察と児童相談所も介入しているが、児童相談所は、
G52: 訪問を拒否されているためか対応が遅いとのこと。相談員が作成した写真と三沢市障害福祉
G53: 課、介護福祉課、児童相談所のケース会議資料の情報を金医師が確認。また、母、古田留
G54: 美子は当院通院中であり、不安障害で加療中だが理解力に乏しい。金医師が緊急性が高い
G55: と判断し青南病院へ紹介し入院となる。
G56: 柳田

Sheet 10
B1: クリニック 日 誌 | H1: 令和 | J1: ='6'!J1 -> 3 | K1: 年 | L1: 4 | M1: 月 | N1: 10 | O1: 日 | Q1: （ | S1: ） | V1: COO | Y1: IOO | AB1: AOM
A3: 勤務者名
A4: ='6'!A4:F4 -> 中村 恵理子 | G4: 日 | I4: 柳田 美雪 | N4: 日 | Q4: 診察室 | W4: 外来担当医 | Z4: 外来介助者
A5: 石原 恵海 | G5: 日 | I5: 石谷 美代子 | Q5: 第１診察室 | Z5: 柳田・石原
Q6: 第２診察室
B8: 新 | C8: 再 | D8: 精 | E8: 内 | F8: 処 | G8: 患者様氏名 | L8: 新 | M8: 再 | N8: 精 | O8: 内 | P8: 処 | Q8: 患者様氏名 | V8: 新 | W8: 再 | X8: 精 | Y8: 内 | Z8: 処 | AA8: 患者様氏名
A9: 1 | J9: 様 | K9: 2 | T9: 様 | U9: 3 | AD9: 様
A10: 4 | J10: 様 | K10: 5 | T10: 様 | U10: 6 | AD10: 様
A11: 7 | J11: 様 | K11: 8 | T11: 様 | U11: 9 | AD11: 様
A12: 10 | J12: 様 | K12: 11 | T12: 様 | U12: 12 | AD12: 様
A13: 13 | J13: 様 | K13: 14 | T13: 様 | U13: 15 | AD13: 様
A14: 16 | J14: 様 | K14: 17 | T14: 様 | U14: 18 | AD14: 様
A15: 19 | J15: 様 | K15: 20 | T15: 様 | U15: 21 | AD15: 様
A16: 22 | J16: 様 | K16: 23 | T16: 様 | U16: 24 | AD16: 様
A17: 25 | J17: 様 | K17: 26 | T17: 様 | U17: 27 | AD17: 様
A18: 28 | J18: 様 | K18: 29 | T18: 様 | U18: 30 | AD18: 様
A19: 31 | J19: 様 | K19: 32 | T19: 様 | U19: 33 | AD19: 様
A20: 34 | J20: 様 | K20: 35 | T20: 様 | U20: 36 | AD20: 様
... A33: 73 | J33: 様 | K33: 74 | T33: 様 | U33: 75 | AD33: 様
A34: 外来患者数 | E34: 新： | F34: =COUNTIF(B9:B33,"・")+COUNTIF(L9:L33,"・")+COUNTIF(V9:V33,"・") -> 0 | H34: 名 | I34: 再： | J34: =COUNTIF(C9:C33,"・")+COUNTIF(M9:M33,"・")+COUNTIF(W9:W33,"・") -> 0 | L34: 名 | M34: 計： | N34: =SUM(F34:K34) -> 0 | Q34: 名 | R34: （ | S34: 精： | T34: =COUNTIF(D9:D33,"・")+COUNTIF(N9:N33,"・")+COUNTIF(X9:X33,"・") -> 0 | W34: 名 | X34: ・ | Y34: 内： | Z34: =COUNTIF(E9:E33,"・")+COUNTIF(O9:O33,"・")+COUNTIF(Y9:Y33,"・") -> 0 | AC34: 名 | AD34: ）
A36: 紹介患者様氏名 | F36: 紹介先 | K36: 逆紹介患者様氏名 | P36: 紹介元 | U36: 処置実施者 | AA36: 処置内容
E37: 様 | O37: 様 | Z37: 様
E38: 様 | O38: 様 | Z38: 様
E39: 様 | O39: 様 | Z39: 様
E40: 様 | O40: 様 | Z40: 様
E41: 様 | O41: 様 | Z41: 様
A42: 本日の検査 | F42: 検査内容 | K42: 処置実施者 | P42: 処置内容 | Z42: 様
E43: 様 | O43: 様 | Z43: 様
E44: 様 | O44: 様 | Z44: 様
E45: 様 | O45: 様 | Z45: 様
E46: 様 | O46: 様 | U46: 点検項目
E47: 様 | O47: 様 | U47: 項目 | Z47: 時間 | AC47: 点検者
A48: 発熱 | F48: 下痢 | K48: 風邪薬 | P48: 男性： | U48: 医療廃棄物 | Y48: 0.75
A49: 0 | F49: 0 | K49: 0 | P49: 女性： | U49: 戸締り | Y49: 0.75 | AB49: ='6'!AB41:AD41 -> 石谷 美代子
A51: 備考欄 | C51: （連絡事項・処方変更・その他）

Sheet 11
B1: クリニック 日 誌 | H1: 令和 | J1: ='6'!J1 -> 3 | K1: 年 | L1: 4 | M1: 月 | N1: 11 | O1: 日 | Q1: （ | S1: ） | V1: COO | Y1: IOO | AB1: AOM
A3: 勤務者名
A4: ='6'!A4:F4 -> 中村 恵理子 | G4: 日 | I4: 柳田 美雪 | N4: 日 | Q4: 診察室 | W4: 外来担当医 | Z4: 外来介助者
A5: 石原 恵海 | G5: 日 | I5: 石谷 美代子 | Q5: 第１診察室 | Z5: 柳田・石原
Q6: 第２診察室
B8: 新 | C8: 再 | D8: 精 | E8: 内 | F8: 処 | G8: 患者様氏名 | L8: 新 | M8: 再 | N8: 精 | O8: 内 | P8: 処 | Q8: 患者様氏名 | V8: 新 | W8: 再 | X8: 精 | Y8: 内 | Z8: 処 | AA8: 患者様氏名
A9: 1 | J9: 様 | K9: 2 | T9: 様 | U9: 3 | AD9: 様
A10: 4 | J10: 様 | K10: 5 | T10: 様 | U10: 6 | AD10: 様
A11: 7 | J11: 様 | K11: 8 | T11: 様 | U11: 9 | AD11: 様
A12: 10 | J12: 様 | K12: 11 | T12: 様 | U12: 12 | AD12: 様
A13: 13 | J13: 様 | K13: 14 | T13: 様 | U13: 15 | AD13: 様
A14: 16 | J14: 様 | K14: 17 | T14: 様 | U14: 18 | AD14: 様
A15: 19 | J15: 様 | K15: 20 | T15: 様 | U15: 21 | AD15: 様
A16: 22 | J16: 様 | K16: 23 | T16: 様 | U16: 24 | AD16: 様
A17: 25 | J17: 様 | K17: 26 | T17: 様 | U17: 27 | AD17: 様
A18: 28 | J18: 様 | K18: 29 | T18: 様 | U18: 30 | AD18: 様
A19: 31 | J19: 様 | K19: 32 | T19: 様 | U19: 33 | AD19: 様
A20: 34 | J20: 様 | K20: 35 | T20: 様 | U20: 36 | AD20: 様
... A33: 73 | J33: 様 | K33: 74 | T33: 様 | U33: 75 | AD33: 様
A34: 外来患者数 | E34: 新： | F34: =COUNTIF(B9:B33,"・")+COUNTIF(L9:L33,"・")+COUNTIF(V9:V33,"・") -> 0 | H34: 名 | I34: 再： | J34: =COUNTIF(C9:C33,"・")+COUNTIF(M9:M33,"・")+COUNTIF(W9:W33,"・") -> 0 | L34: 名 | M34: 計： | N34: =SUM(F34:K34) -> 0 | Q34: 名 | R34: （ | S34: 精： | T34: =COUNTIF(D9:D33,"・")+COUNTIF(N9:N33,"・")+COUNTIF(X9:X33,"・") -> 0 | W34: 名 | X34: ・ | Y34: 内： | Z34: =COUNTIF(E9:E33,"・")+COUNTIF(O9:O33,"・")+COUNTIF(Y9:Y33,"・") -> 0 | AC34: 名 | AD34: ）
A36: 紹介患者様氏名 | F36: 紹介先 | K36: 逆紹介患者様氏名 | P36: 紹介元 | U36: 処置実施者 | AA36: 処置内容
E37: 様 | O37: 様 | Z37: 様
E38: 様 | O38: 様 | Z38: 様
E39: 様 | O39: 様 | Z39: 様
E40: 様 | O40: 様 | Z40: 様
E41: 様 | O41: 様 | Z41: 様
A42: 本日の検査 | F42: 検査内容 | K42: 処置実施者 | P42: 処置内容 | Z42: 様
E43: 様 | O43: 様 | Z43: 様
E44: 様 | O44: 様 | Z44: 様
E45: 様 | O45: 様 | Z45: 様
E46: 様 | O46: 様 | U46: 点検項目
E47: 様 | O47: 様 | U47: 項目 | Z47: 時間 | AC47: 点検者
A48: 発熱 | F48: 下痢 | K48: 風邪薬 | P48: 男性： | U48: 医療廃棄物 | Y48: 0.75
A49: 0 | F49: 0 | K49: 0 | P49: 女性： | U49: 戸締り | Y49: 0.75 | AB49: ='6'!AB41:AD41 -> 石谷 美代子
A51: 備考欄 | C51: （連絡事項・処方変更・その他）

Sheet 12
B1: クリニック 日 誌 | H1: 令和 | J1: ='6'!J1 -> 3 | K1: 年 | L1: 4 | M1: 月 | N1: 12 | O1: 日 | Q1: （ | R1: 月 | S1: ） | V1: COO | Y1: IOO | AB1: AOM
A3: 勤務者名
A4: ='6'!A4:F4 -> 中村 恵理子 | G4: 有休 | I4: 柳田 美雪 | N4: 日 | Q4: 診察室 | W4: 外来担当医 | Z4: 外来介助者
A5: 石原 恵海 | G5: 日 | I5: 石谷 美代子 | N5: 欠 | Q5: 第１診察室 | U5: 馬渡 晃弘 | Z5: 柳田・石原
A6: 神 圭輔 | G6: 日 | I6: 鳴海 彩香 | N6: 日 | Q6: 第２診察室 | U6: 千葉 良 | Z6: 柳田・石原
B8: 新 | C8: 再 | D8: 精 | E8: 内 | F8: 処 | G8: 患者様氏名 | L8: 新 | M8: 再 | N8: 精 | O8: 内 | P8: 処 | Q8: 患者様氏名 | V8: 新 | W8: 再 | X8: 精 | Y8: 内 | Z8: 処 | AA8: 患者様氏名
A9: 1 | C9: ・ | E9: ・ | F9: 7 | G9: 佐藤 鑛治 | J9: 様 | K9: 2 | M9: ・ | N9: ・ | P9: 56 | Q9: 熊谷 雪子 | T9: 様 | U9: 3 | W9: ・ | X9: ・ | Z9: 56 | AA9: 鈴木 健一 | AD9: 様
A10: 4 | C10: ・ | D10: ・ | F10: 56 | G10: 新堂 麻美 | J10: 様 | K10: 5 | M10: ・ | N10: ・ | P10: 56 | Q10: 小向 浩子 | T10: 様 | U10: 6 | W10: ・ | X10: ・ | Z10: 60 | AA10: 星川 和子 | AD10: 様
A11: 7 | C11: ・ | D11: ・ | F11: 84 | G11: 藤嶋 かおり | J11: 様 | K11: 8 | M11: ・ | N11: ・ | P11: 28 | Q11: 成田 純広 | T11: 様 | U11: 9 | V11: ・ | X11: ・ | Z11: 28 | AA11: 土岐 文江 | AD11: 様
A12: 10 | C12: ・ | D12: ・ | F12: 28 | G12: 佐藤 直子 | J12: 様 | K12: 11 | M12: ・ | N12: ・ | P12: 28 | Q12: 加賀 遥大 | T12: 様 | U12: 12 | W12: ・ | X12: ・ | Z12: 0 | AA12: 竹内 瞳 | AD12: 様
A13: 13 | C13: ・ | D13: ・ | F13: 28 | G13: 酒井 昌子 | J13: 様 | K13: 14 | M13: ・ | N13: ・ | P13: 28 | Q13: 山縣 堅一 | T13: 様 | U13: 15 | W13: ・ | X13: ・ | Z13: 28 | AA13: 新山 雄斗 | AD13: 様
A14: 16 | C14: ・ | D14: ・ | F14: 56 | G14: 尾田 きよ子 | J14: 様 | K14: 17 | M14: ・ | N14: ・ | P14: 0 | Q14: 小笠原 由美子 | T14: 様 | U14: 18 | W14: ・ | X14: ・ | Z14: 14 | AA14: 大西 真紀子 | AD14: 様
A15: 19 | C15: ・ | D15: ・ | F15: 7 | G15: 右近 楓 | J15: 様 | K15: 20 | M15: ・ | N15: ・ | P15: 30 | Q15: 成田 彩美 | T15: 様 | U15: 21 | W15: ・ | X15: ・ | Z15: 30 | AA15: 木村 健一 | AD15: 様
A16: 22 | C16: ・ | D16: ・ | F16: 56 | G16: 浄法寺 フメ | J16: 様 | K16: 23 | M16: ・ | N16: ・ | P16: 0 | Q16: 小比券巻 キサ | T16: 様 | U16: 24 | V16: ・ | X16: ・ | Z16: 3 | AA16: 小野寺 百合子 | AD16: 様
A17: 25 | C17: ・ | D17: ・ | F17: 0 | G17: 堀川 明博 | J17: 様 | K17: 26 | M17: ・ | N17: ・ | P17: 0 | Q17: 吉田 りよ | T17: 様 | U17: 27 | W17: ・ | X17: ・ | Z17: 0 | AA17: 米内山 善江 | AD17: 様
A18: 28 | C18: ・ | D18: ・ | F18: 28 | G18: 川村 みせ | J18: 様 | K18: 29 | M18: ・ | N18: ・ | P18: 0 | Q18: 野坂 裕子 | T18: 様 | U18: 30 | W18: ・ | X18: ・ | Z18: 30 | AA18: 野坂 翔 | AD18: 様
A19: 31 | C19: ・ | D19: ・ | F19: 18 | G19: 久保 沙保里 | J19: 様 | K19: 32 | M19: ・ | N19: ・ | P19: 30 | Q19: 宮古 克弘 | T19: 様 | U19: 33 | W19: ・ | X19: ・ | Z19: 30 | AA19: 古田 桃香 | AD19: 様
A20: 34 | C20: ・ | D20: ・ | F20: 0 | G20: 大木 久子 | J20: 様 | K20: 35 | M20: ・ | N20: ・ | P20: 0 | Q20: 萠出 克治 | T20: 様 | U20: 36 | W20: ・ | X20: ・ | Z20: 30 | AA20: 成田 祐折 | AD20: 様
A21: 37 | C21: ・ | D21: ・ | F21: 0 | G21: 田口 トシ子 | J21: 様 | K21: 38 | M21: ・ | N21: ・ | P21: 0 | Q21: 藤田 絢三 | T21: 様 | U21: 39 | W21: ・ | X21: ・ | Z21: 30 | AA21: 赤石 栞菜 | AD21: 様
A22: 40 | C22: ・ | D22: ・ | F22: 0 | G22: 高村 加津子 | J22: 様 | K22: 41 | M22: ・ | N22: ・ | P22: 0 | Q22: 綿貫 啓子 | T22: 様 | U22: 42 | W22: ・ | X22: ・ | Z22: 30 | AA22: 小泉 秀賢 | AD22: 様
A23: 43 | C23: ・ | D23: ・ | F23: 0 | G23: 深町 栄美子 | J23: 様 | K23: 44 | M23: ・ | N23: ・ | P23: 0 | Q23: 山口 瑛子 | T23: 様 | U23: 45 | W23: ・ | X23: ・ | Z23: 30 | AA23: 遠藤 侑人 | AD23: 様
A24: 46 | C24: ・ | D24: ・ | F24: 0 | G24: 沼端 ミセ | J24: 様 | K24: 47 | M24: ・ | N24: ・ | P24: 0 | Q24: 酒井 昌子 | T24: 様 | U24: 48 | W24: ・ | X24: ・ | Z24: 30 | AA24: 寺下 香澄 | AD24: 様
A25: 49 | C25: ・ | D25: ・ | F25: 0 | G25: 杉山 博子 | J25: 様 | K25: 50 | M25: ・ | N25: ・ | P25: 0 | Q25: 坂本 佳之 | T25: 様 | U25: 51 | W25: ・ | X25: ・ | Z25: 30 | AA25: 野澤 杏莉 | AD25: 様
A26: 52 | C26: ・ | D26: ・ | F26: 0 | G26: 瀬川 高雄 | J26: 様 | K26: 53 | M26: ・ | N26: ・ | P26: 0 | Q26: 坂本 政勝 | T26: 様 | U26: 54 | W26: ・ | X26: ・ | Z26: 30 | AA26: 水上 楓稀 | AD26: 様
A27: 55 | C27: ・ | D27: ・ | F27: 0 | G27: 萠出 きのゑ | J27: 様 | K27: 56 | M27: ・ | N27: ・ | P27: 0 | Q27: 原 トモエ | T27: 様 | U27: 57 | W27: ・ | X27: ・ | Z27: 0 | AA27: 大下内 英子 | AD27: 様
A28: 58 | C28: ・ | D28: ・ | F28: 0 | G28: 中居 敬悦 | J28: 様 | K28: 59 | M28: ・ | N28: ・ | P28: 0 | Q28: 渡辺 クニ | T28: 様 | U28: 60 | W28: ・ | X28: ・ | Z28: 0 | AA28: 安部 信祥 | AD28: 様
A29: 外来患者数 | E29: 新： | F29: =COUNTIF(B9:B28,"・")+COUNTIF(L9:L28,"・")+COUNTIF(V9:V28,"・") -> 2 | H29: 名 | I29: 再： | J29: =COUNTIF(C9:C28,"・")+COUNTIF(M9:M28,"・")+COUNTIF(W9:W28,"・") -> 58 | L29: 名 | M29: 計： | N29: =SUM(F29:K29) -> 60 | Q29: 名 | R29: （ | S29: 精： | T29: =COUNTIF(D9:D28,"・")+COUNTIF(N9:N28,"・")+COUNTIF(X9:X28,"・") -> 59 | W29: 名 | X29: ・ | Y29: 内： | Z29: =COUNTIF(E9:E28,"・")+COUNTIF(O9:O28,"・")+COUNTIF(Y9:Y28,"・") -> 1 | AC29: 名 | AD29: ）
A31: 紹介患者様氏名 | F31: 紹介先 | K31: 逆紹介患者様氏名 | P31: 紹介元 | U31: 本日の検査 | AA31: 検査内容
E32: 様 | K32: 小野寺 百合子 | O32: 様 | P32: 十和田市立中央病院 | U32: 小野寺 百合子 | Z32: 様 | AA32: CMI
E33: 様 | K33: 土岐 文江 | O33: 様 | P33: ひぐちクリニック | Z33: 様
A34: 本日の検査 | F34: 検査内容 | K34: 処置実施者 | P34: 処置内容 | Z34: 様
A35: 藤嶋 かおり | E35: 様 | F35: 血液検査 | K35: 酒井 昌子 | O35: 様 | P35: ハロマンス(100㎎) 1A | Z35: 様
A36: 堀川 明博 | E36: 様 | F36: ADAS | K36: 小笠原 由美子 | O36: 様 | P36: エビリファイ400mg | Z36: 様
A37: 竹内 瞳 | E37: 様 | F37: ASRS AQ | O37: 様 | Z37: 様
A38: 土岐 文枝 | E38: 様 | F38: CMI | O38: 様 | U38: 点検項目
A39: 米内山 善江 | E39: 様 | F39: CMI | O39: 様 | U39: 項目 | Z39: 時間 | AC39: 点検者
A40: 発熱 | F40: 下痢 | K40: 風邪薬 | P40: 男性： | U40: 医療廃棄物 | Y40: 0.75 | AB40: 石原 恵海
A41: 0 | F41: 0 | K41: 0 | P41: 女性： | U41: 戸締り | Y41: 0.75 | AB41: 神 圭輔
A43: 備考欄 | C43: （連絡事項・処方変更・その他）
G44: 特になし
G45: 石原

Sheet 13
B1: クリニック 日 誌 | H1: 令和 | J1: ='6'!J1 -> 3 | K1: 年 | L1: 4 | M1: 月 | N1: 13 | O1: 日 | Q1: （ | R1: 火 | S1: ） | V1: COO | Y1: IOO | AB1: AOM
A3: 勤務者名
A4: ='6'!A4:F4 -> 中村 恵理子 | G4: 有休 | I4: 柳田 美雪 | N4: 日 | Q4: 診察室 | W4: 外来担当医 | Z4: 外来介助者
A5: 石原 恵海 | G5: 日 | I5: 石谷 美代子 | N5: 日 | Q5: 第１診察室 | U5: 千葉 潜 | Z5: 柳田・石原
A6: 神 圭輔 | G6: 日 | I6: 鳴海 彩香 | N6: 日 | Q6: 第２診察室 | U6: 坂田 優 | Z6: 柳田・石原
B8: 新 | C8: 再 | D8: 精 | E8: 内 | F8: 処 | G8: 患者様氏名 | L8: 新 | M8: 再 | N8: 精 | O8: 内 | P8: 処 | Q8: 患者様氏名 | V8: 新 | W8: 再 | X8: 精 | Y8: 内 | Z8: 処 | AA8: 患者様氏名
A9: 1 | C9: ・ | D9: ・ | F9: 30 | G9: 向井 ヒロ子 | J9: 様 | K9: 2 | M9: ・ | N9: ・ | P9: 28 | Q9: 石原 とし | T9: 様 | U9: 3 | W9: ・ | X9: ・ | Z9: 0 | AA9: 石井 佐代子 | AD9: 様
A10: 4 | C10: ・ | D10: ・ | F10: 56 | G10: 榊 重志 | J10: 様 | K10: 5 | M10: ・ | N10: ・ | P10: 28 | Q10: 工藤 健壽 | T10: 様 | U10: 6 | W10: ・ | X10: ・ | Z10: 0 | AA10: 山口 瑛子 | AD10: 様
A11: 7 | C11: ・ | D11: ・ | F11: 56 | G11: 吉田 佑子 | J11: 様 | K11: 8 | M11: ・ | N11: ・ | P11: 28 | Q11: 鈴木 寛二 | T11: 様 | U11: 9 | W11: ・ | X11: ・ | Z11: 0 | AA11: 萠出 克治 | AD11: 様
A12: 10 | C12: ・ | D12: ・ | F12: 28 | G12: 鈴木 勝子 | J12: 様 | K12: 11 | M12: ・ | N12: ・ | P12: 28 | Q12: 遠嶋 千鶴 | T12: 様 | U12: 12 | W12: ・ | X12: ・ | Z12: 0 | AA12: 萠出 きのゑ | AD12: 様
A13: 13 | C13: ・ | D13: ・ | F13: 28 | G13: 関川 隆子 | J13: 様 | K13: 14 | M13: ・ | N13: ・ | P13: 28 | Q13: 天間 ミツエ | T13: 様 | U13: 15 | W13: ・ | X13: ・ | Z13: 0 | AA13: 藤田 絢三 | AD13: 様
A14: 16 | C14: ・ | D14: ・ | F14: 56 | G14: 武内 隆三 | J14: 様 | K14: 17 | M14: ・ | N14: ・ | P14: 28 | Q14: 三上 朋子 | T14: 様 | U14: 18 | W14: ・ | X14: ・ | Z14: 0 | AA14: 大木 久子 | AD14: 様
A15: 19 | C15: ・ | D15: ・ | F15: 28 | G15: 岩舘 タツ | J15: 様 | K15: 20 | M15: ・ | N15: ・ | P15: 56 | Q15: 小川 サクラ | T15: 様 | U15: 21 | W15: ・ | X15: ・ | Z15: 0 | AA15: 田口 トシ子 | AD15: 様
A16: 22 | C16: ・ | D16: ・ | F16: 30 | G16: 中村 ミヤ | J16: 様 | K16: 23 | M16: ・ | N16: ・ | P16: 28 | Q16: 大森 まみ | T16: 様 | U16: 24 | W16: ・ | X16: ・ | Z16: 0 | AA16: 綿貫 啓子 | AD16: 様
A17: 25 | C17: ・ | D17: ・ | E17: ・ | F17: 28 | G17: 中村 鐐一 | J17: 様 | K17: 26 | M17: ・ | N17: ・ | P17: 30 | Q17: 武井 ツセ | T17: 様 | U17: 27 | W17: ・ | X17: ・ | Z17: 0 | AA17: 杉元 香奈子 | AD17: 様
A18: 28 | C18: ・ | D18: ・ | F18: 28 | G18: 種市 優子 | J18: 様 | K18: 29 | M18: ・ | N18: ・ | P18: 28 | Q18: 中谷 幸夫 | T18: 様 | U18: 30 | W18: ・ | X18: ・ | Z18: 0 | AA18: 坂本 政勝 | AD18: 様
A19: 31 | C19: ・ | D19: ・ | F19: 28 | G19: 土橋 和子 | J19: 様 | K19: 32 | M19: ・ | N19: ・ | P19: 28 | Q19: 井崎 恭子 | T19: 様 | U19: 33 | W19: ・ | X19: ・ | Z19: 0 | AA19: 遠嶋 剛 | AD19: 様
A20: 34 | B20: ・ | D20: ・ | F20: 7 | G20: 木滝 三彦 | J20: 様 | K20: 35 | M20: ・ | N20: ・ | P20: 28 | Q20: 高橋 ゆり子 | T20: 様 | U20: 36 | W20: ・ | X20: ・ | Z20: 0 | AA20: 遠嶋 千鶴 | AD20: 様
A21: 37 | C21: ・ | D21: ・ | F21: 56 | G21: 熊谷 貴之 | J21: 様 | K21: 38 | M21: ・ | N21: ・ | P21: 28 | Q21: 住吉 鉄男 | T21: 様 | U21: 39 | W21: ・ | X21: ・ | Z21: 0 | AA21: 坂本 佳之 | AD21: 様
A22: 40 | C22: ・ | D22: ・ | F22: 0 | G22: 野田 吉範 | J22: 様 | K22: 41 | M22: ・ | N22: ・ | P22: 14 | Q22: 松林 朋子 | T22: 様 | U22: 42 | W22: ・ | X22: ・ | Z22: 28 | AA22: 山崎 敦子 | AD22: 様
A23: 43 | C23: ・ | D23: ・ | F23: 28 | G23: 大森 直樹 | J23: 様 | K23: 44 | M23: ・ | N23: ・ | P23: 30 | Q23: 半澤 令 | T23: 様 | U23: 45 | W23: ・ | X23: ・ | Z23: 28 | AA23: 菅野 愛菜 | AD23: 様
A24: 46 | C24: ・ | D24: ・ | F24: 28 | G24: 中田 芳枝 | J24: 様 | K24: 47 | M24: ・ | N24: ・ | P24: 28 | Q24: 浄法寺 ミツエ | T24: 様 | U24: 48 | W24: ・ | X24: ・ | Z24: 7 | AA24: 山岡 裕花 | AD24: 様
A25: 49 | C25: ・ | D25: ・ | F25: 28 | G25: 藤田 拓海 | J25: 様 | K25: 50 | M25: ・ | N25: ・ | P25: 7 | Q25: 熊谷 政治 | T25: 様 | U25: 51 | W25: ・ | X25: ・ | Z25: 60 | AA25: 一戸 千春 | AD25: 様
A26: 52 | C26: ・ | D26: ・ | F26: 28 | G26: 小笠原 彩子 | J26: 様 | K26: 53 | M26: ・ | N26: ・ | P26: 28 | Q26: 柿本 美津 | T26: 様 | U26: 54 | W26: ・ | X26: ・ | Z26: 14 | AA26: 一戸 隆暢 | AD26: 様
A27: 55 | C27: ・ | D27: ・ | F27: 7 | G27: 沖澤 咲妃 | J27: 様 | K27: 56 | M27: ・ | N27: ・ | P27: 30 | Q27: 針田 朋絵 | T27: 様 | U27: 57 | W27: ・ | X27: ・ | Z27: 28 | AA27: 駒澤 キヤ | AD27: 様
A28: 58 | C28: ・ | D28: ・ | F28: 13 | G28: 土岐 文江 | J28: 様 | K28: 59 | M28: ・ | N28: ・ | P28: 30 | Q28: 野崎 丈大 | T28: 様 | U28: 60 | W28: ・ | X28: ・ | Z28: 0 | AA28: 藪 真弓 | AD28: 様
A29: 61 | C29: ・ | D29: ・ | F29: 28 | G29: 高村 加津子 | J29: 様 | K29: 62 | M29: ・ | N29: ・ | P29: 28 | Q29: 大下内 テル | T29: 様 | U29: 63 | W29: ・ | X29: ・ | Z29: 0 | AA29: 水上 民一 | AD29: 様
A30: 64 | C30: ・ | D30: ・ | F30: 28 | G30: 佐々木 富雄 | J30: 様 | K30: 65 | M30: ・ | N30: ・ | P30: 0 | Q30: 沢村 まさえ | T30: 様 | U30: 66 | W30: ・ | X30: ・ | AD30: 様
A31: 外来患者数 | E31: 新： | F31: =COUNTIF(B9:B30,"・")+COUNTIF(L9:L30,"・")+COUNTIF(V9:V30,"・") -> 1 | H31: 名 | I31: 再： | J31: =COUNTIF(C9:C30,"・")+COUNTIF(M9:M30,"・")+COUNTIF(W9:W30,"・") -> 65 | L31: 名 | M31: 計： | N31: =SUM(F31:K31) -> 66 | Q31: 名 | R31: （ | S31: 精： | T31: =COUNTIF(D9:D30,"・")+COUNTIF(N9:N30,"・")+COUNTIF(X9:X30,"・") -> 66 | W31: 名 | X31: ・ | Y31: 内： | Z31: =COUNTIF(E9:E30,"・")+COUNTIF(O9:O30,"・")+COUNTIF(Y9:Y30,"・") -> 1 | AC31: 名 | AD31: ）
A33: 紹介患者様氏名 | F33: 紹介先 | K33: 逆紹介患者様氏名 | P33: 紹介元 | U33: 処置実施者 | AA33: 処置内容
A34: 山崎 敦子 | E34: 様 | F34: つがる総合病院 | K34: 木滝 三彦 | O34: 様 | P34: ひぐちクリニック | Z34: 様
A35: 本日の検査 | F35: 検査内容 | K35: 処置実施者 | P35: 処置内容 | Z35: 様
A36: 中村 鐐一 | E36: 様 | F36: 血液検査 | K36: 鈴木 寛二 | O36: 様 | P36: ｾﾞﾌﾟﾘｵﾝ150mg | Z36: 様
A37: 藪 真弓 | E37: 様 | F37: Ror | O37: 様 | Z37: 様
A38: 木滝 三彦 | E38: 様 | F38: CMI | O38: 様 | Z38: 様
E39: 様 | O39: 様 | U39: 点検項目
E40: 様 | O40: 様 | U40: 項目 | Z40: 時間 | AC40: 点検者
A41: 発熱 | F41: 下痢 | K41: 風邪薬 | P41: 男性：24 | U41: 医療廃棄物 | Y41: 0.75 | AB41: 石原 恵海
A42: 0 | F42: 0 | K42: 0 | P42: 女性：41 | U42: 戸締り | Y42: 0.75 | AB42: 神 圭輔
A44: 備考欄 | C44: （連絡事項・処方変更・その他）
G45: 特になし
G46: 石原

Sheet 14
B1: クリニック 日 誌 | H1: 令和 | J1: ='6'!J1 -> 3 | K1: 年 | L1: 4 | M1: 月 | N1: 14 | O1: 日 | Q1: （ | R1: 水 | S1: ） | V1: COO | Y1: IOO | AB1: AOM
A3: 勤務者名
A4: ='6'!A4:F4 -> 中村 恵理子 | G4: 有休 | I4: 柳田 美雪 | N4: 日 | Q4: 診察室 | W4: 外来担当医 | Z4: 外来介助者
A5: 石原 恵海 | G5: 日 | I5: 石谷 美代子 | N5: 日 | Q5: 第１診察室 | U5: 千葉 潜 | Z5: 柳田・石原
A6: 神 圭輔 | G6: 日 | I6: 鳴海 彩香 | N6: 日 | Q6: 第２診察室 | U6: 坂田 優 | Z6: 柳田・石原
B8: 新 | C8: 再 | D8: 精 | E8: 内 | F8: 処 | G8: 患者様氏名 | L8: 新 | M8: 再 | N8: 精 | O8: 内 | P8: 処 | Q8: 患者様氏名 | V8: 新 | W8: 再 | X8: 精 | Y8: 内 | Z8: 処 | AA8: 患者様氏名
A9: 1 | C9: ・ | D9: ・ | F9: 28 | G9: 角 正一郎 | J9: 様 | K9: 2 | M9: ・ | N9: ・ | P9: 28 | Q9: 沖田 千喜子 | T9: 様 | U9: 3 | W9: ・ | X9: ・ | Z9: 27 | AA9: 鈴木 勝子 | AD9: 様
A10: 4 | C10: ・ | D10: ・ | F10: 42 | G10: 川口 凌矢 | J10: 様 | K10: 5 | M10: ・ | N10: ・ | P10: 42 | Q10: 山口 瑛子 | T10: 様 | U10: 6 | W10: ・ | X10: ・ | Z10: 5 | AA10: 町屋 ヤエ | AD10: 様
A11: 7 | C11: ・ | D11: ・ | F11: 56 | G11: 種市 紀子 | J11: 様 | K11: 8 | M11: ・ | N11: ・ | P11: 30 | Q11: 佐々木 政夫 | T11: 様 | U11: 9 | W11: ・ | X11: ・ | Z11: 28 | AA11: 渡邊 唯 | AD11: 様
A12: 10 | C12: ・ | D12: ・ | F12: 30 | G12: 小笠原 雅義 | J12: 様 | K12: 11 | M12: ・ | N12: ・ | P12: 28 | Q12: 赤沼 信克 | T12: 様 | U12: 12 | W12: ・ | X12: ・ | Z12: 14 | AA12: 丸谷 美香 | AD12: 様
A13: 13 | C13: ・ | E13: ・ | F13: 56 | G13: 滝田 正治 | J13: 様 | K13: 14 | M13: ・ | N13: ・ | P13: 28 | Q13: 工藤 幸子 | T13: 様 | U13: 15 | W13: ・ | X13: ・ | Z13: 28 | AA13: 吹越 幸子 | AD13: 様
A14: 16 | C14: ・ | D14: ・ | F14: 30 | G14: 梅津 禮子 | J14: 様 | K14: 17 | M14: ・ | N14: ・ | P14: 14 | Q14: 原田 悠紀 | T14: 様 | U14: 18 | W14: ・ | X14: ・ | Z14: 28 | AA14: 藤川 雅之 | AD14: 様
A15: 19 | C15: ・ | D15: ・ | F15: 28 | G15: 内田 昌子 | J15: 様 | K15: 20 | M15: ・ | N15: ・ | P15: 14 | Q15: 昆 早葵子 | T15: 様 | U15: 21 | W15: ・ | X15: ・ | Z15: 28 | AA15: 蛯沢 陽祐 | AD15: 様
A16: 22 | C16: ・ | D16: ・ | F16: 60 | G16: 北向 アサ | J16: 様 | K16: 23 | M16: ・ | N16: ・ | P16: 28 | Q16: 種市 スエ | T16: 様 | U16: 24 | W16: ・ | X16: ・ | Z16: 28 | AA16: 赤沼 拓朗 | AD16: 様
A17: 25 | C17: ・ | D17: ・ | F17: 56 | G17: 川村 ふさ | J17: 様 | K17: 26 | M17: ・ | N17: ・ | P17: 28 | Q17: 原田 千鴻 | T17: 様 | U17: 27 | W17: ・ | X17: ・ | Z17: 0 | AA17: 千葉 スワ | AD17: 様
A18: 28 | C18: ・ | D18: ・ | F18: 30 | G18: 佐藤 務 | J18: 様 | K18: 29 | M18: ・ | N18: ・ | P18: 28 | Q18: 佐々木 りせ子 | T18: 様 | U18: 30 | W18: ・ | X18: ・ | Z18: 0 | AA18: 山本 伸子 | AD18: 様
A19: 31 | C19: ・ | D19: ・ | F19: 28 | G19: 貝塚 一忠 | J19: 様 | K19: 32 | M19: ・ | N19: ・ | P19: 28 | Q19: 田口 トシ子 | T19: 様 | U19: 33 | W19: ・ | X19: ・ | Z19: 0 | AA19: 深町 栄美子 | AD19: 様
A20: 34 | C20: ・ | D20: ・ | F20: 28 | G20: 西澤 智穂 | J20: 様 | K20: 35 | M20: ・ | N20: ・ | P20: 14 | Q20: 菅藤 麻美 | T20: 様 | U20: 36 | W20: ・ | X20: ・ | Z20: 0 | AA20: 豊川 洋子 | AD20: 様
A21: 37 | C21: ・ | D21: ・ | F21: 28 | G21: 浦田 きよみ | J21: 様 | K21: 38 | M21: ・ | N21: ・ | P21: 30 | Q21: 菅原 百合子 | T21: 様 | U21: 39 | W21: ・ | X21: ・ | Z21: 0 | AA21: 沼端 ミセ | AD21: 様
A22: 40 | C22: ・ | D22: ・ | F22: 28 | G22: 小鷹 聡 | J22: 様 | K22: 41 | M22: ・ | N22: ・ | P22: 28 | Q22: 高山 かぢ子 | T22: 様 | U22: 42 | W22: ・ | X22: ・ | Z22: 0 | AA22: 石ケ谷 數子 | AD22: 様
A23: 43 | C23: ・ | D23: ・ | F23: 28 | G23: 石井 佐代子 | J23: 様 | K23: 44 | M23: ・ | N23: ・ | P23: 0 | Q23: 遠嶋 剛 | T23: 様 | U23: 45 | W23: ・ | X23: ・ | Z23: 0 | AA23: 瀬川 高雄 | AD23: 様
A24: 46 | C24: ・ | D24: ・ | F24: 14 | G24: 阿部 映理華 | J24: 様 | K24: 47 | M24: ・ | N24: ・ | P24: 0 | Q24: 遠嶋 千鶴 | T24: 様 | U24: 48 | W24: ・ | X24: ・ | Z24: 0 | AA24: 藤田 絢三 | AD24: 様
A25: 49 | C25: ・ | D25: ・ | F25: 60 | G25: 松森 俊雄 | J25: 様 | K25: 50 | M25: ・ | N25: ・ | P25: 0 | Q25: 大木 久子 | T25: 様 | U25: 51 | W25: ・ | X25: ・ | Z25: 0 | AA25: 綿貫 啓子 | AD25: 様
... A27: 55 | C27: ・ | D27: ・ | F27: 28 | G27: 岡山 キミ | J27: 様 | K27: 56 | M27: ・ | N27: ・ | P27: 0 | Q27: 高村 加津子 | T27: 様 | U27: 57 | W27: ・ | X27: ・ | Z27: 0 | AA27: 萠出 きのゑ | AD27: 様
A28: 58 | C28: ・ | D28: ・ | F28: 0 | G28: 杉山 博子 | J28: 様 | K28: 59 | L28: ・ | N28: ・ | P28: 7 | Q28: 天間 英輝 | T28: 様 | U28: 60 | V28: ・ | X28: ・ | Z28: 0 | AA28: 佐々木 七海 | AD28: 様
A29: 外来患者数 | E29: 新： | F29: =COUNTIF(B9:B28,"・")+COUNTIF(L9:L28,"・")+COUNTIF(V9:V28,"・") -> 2 | H29: 名 | I29: 再： | J29: =COUNTIF(C9:C28,"・")+COUNTIF(M9:M28,"・")+COUNTIF(W9:W28,"・") -> 58 | L29: 名 | M29: 計： | N29: =SUM(F29:K29) -> 60 | Q29: 名 | R29: （ | S29: 精： | T29: =COUNTIF(D9:D28,"・")+COUNTIF(N9:N28,"・")+COUNTIF(X9:X28,"・") -> 59 | W29: 名 | X29: ・ | Y29: 内： | Z29: =COUNTIF(E9:E28,"・")+COUNTIF(O9:O28,"・")+COUNTIF(Y9:Y28,"・") -> 1 | AC29: 名 | AD29: ）
A31: 紹介患者様氏名 | F31: 紹介先 | K31: 逆紹介患者様氏名 | P31: 紹介元 | U31: 処置実施者 | AA31: 処置内容
E32: 様 | K32: 佐々木 七海 | O32: 様 | P32: 三沢市立病院 | Z32: 様
A33: 本日の検査 | F33: 検査内容 | K33: 処置実施者 | P33: 処置内容 | Z33: 様
A34: 阿部 映理華 | E34: 様 | F34: カウンセリング | O34: 様 | Z34: 様
A35: 滝田 正治 | E35: 様 | F35: 血液検査 | O35: 様 | Z35: 様
A36: 原田 悠紀 | E36: 様 | F36: カウンセリング | O36: 様 | Z36: 様
A37: 佐々木 七海 | E37: 様 | F37: CMI | O37: 様 | U37: 点検項目
A38: 天間 英輝 | E38: 様 | F38: CMI | O38: 様 | U38: 項目 | Z38: 時間 | AC38: 点検者
A39: 発熱 | F39: 下痢 | K39: 風邪薬 | P39: 男性：21 | U39: 医療廃棄物 | Y39: 0.75 | AB39: 石原 恵海
A40: 0 | F40: 0 | K40: 0 | P40: 女性：39 | U40: 戸締り | Y40: 0.75 | AB40: 神 圭輔
A42: 備考欄 | C42: （連絡事項・処方変更・その他）
A44: 千葉 スワ（85） | G44: 11：50昼食摂取後、デイケア室にて転倒している。本人椅子に引っかかったと話しているが
A45: デイサービス利用者 | G45: スタッフ呼びかけに反応悪く、起き上がれなかったことから、柳田SGMへ報告。
A46: 主病名：ATD | G46: 血圧は99/60ｍｍHｇ、脈拍57回/分で、坂田Dr診察実施。脳梗塞疑い及び心房細動疑い。
G47: 救急搬送にて三沢市立三沢病院へ搬送。その後情報提供があり、脳梗塞ではなく、
G48: 右肩関節の骨折と診断。入院はせず4週間程のギブス固定を行なったとのこと。
G49: デイスタッフよりご家族へ連絡し状況報告済。

Sheet 15
B1: クリニック 日 誌 | H1: 令和 | J1: ='6'!J1 -> 3 | K1: 年 | L1: 4 | M1: 月 | N1: 15 | O1: 日 | Q1: （ | R1: 木 | S1: ） | V1: COO | Y1: IOO | AB1: AOM
A3: 勤務者名
A4: ='6'!A4:F4 -> 中村 恵理子 | G4: 有休 | I4: 柳田 美雪 | N4: 日 | Q4: 診察室 | W4: 外来担当医 | Z4: 外来介助者
A5: 石原 恵海 | G5: 日 | I5: 石谷 美代子 | N5: 日 | Q5: 第１診察室 | U5: 千葉 潜 | Z5: 柳田・石原
A6: 鳴海 彩香 | G6: 日 | Q6: 第２診察室 | U6: 馬渡 晃弘 | Z6: 柳田・石原
B8: 新 | C8: 再 | D8: 精 | E8: 内 | F8: 処 | G8: 患者様氏名 | L8: 新 | M8: 再 | N8: 精 | O8: 内 | P8: 処 | Q8: 患者様氏名 | V8: 新 | W8: 再 | X8: 精 | Y8: 内 | Z8: 処 | AA8: 患者様氏名
A9: 1 | C9: ・ | D9: ・ | F9: 12 | G9: 竹下 ミツ子 | J9: 様 | K9: 2 | M9: ・ | N9: ・ | P9: 30 | Q9: 遠藤 ひとみ | T9: 様 | U9: 3 | W9: ・ | X9: ・ | Z9: 0 | AA9: 西舘 瞳 | AD9: 様
A10: 4 | C10: ・ | D10: ・ | F10: 30 | G10: 川久保 一茂 | J10: 様 | K10: 5 | M10: ・ | N10: ・ | P10: 14 | Q10: 川村 魁人 | T10: 様 | U10: 6 | W10: ・ | X10: ・ | Z10: 0 | AA10: 大木 久子 | AD10: 様
A11: 7 | C11: ・ | D11: ・ | F11: 28 | G11: 沼山 かおる | J11: 様 | K11: 8 | M11: ・ | N11: ・ | P11: 30 | Q11: 新山 まき子 | T11: 様 | U11: 9 | W11: ・ | X11: ・ | Z11: 0 | AA11: 瀬川 高雄 | AD11: 様
A12: 10 | C12: ・ | D12: ・ | F12: 7 | G12: 中居 敬悦 | J12: 様 | K12: 11 | M12: ・ | N12: ・ | P12: 30 | Q12: 小比券巻 栄子 | T12: 様 | U12: 12 | W12: ・ | X12: ・ | Z12: 0 | AA12: 藤田 絢三 | AD12: 様
A13: 13 | C13: ・ | D13: ・ | F13: 14 | G13: 織笠 勝男 | J13: 様 | K13: 14 | M13: ・ | N13: ・ | P13: 30 | Q13: 佐々木 春夫 | T13: 様 | U13: 15 | W13: ・ | X13: ・ | Z13: 0 | AA13: 山口 瑛子 | AD13: 様
A14: 16 | C14: ・ | D14: ・ | F14: 30 | G14: 馬場 ハツヨ | J14: 様 | K14: 17 | M14: ・ | N14: ・ | P14: 30 | Q14: 戸村 節子 | T14: 様 | U14: 18 | W14: ・ | X14: ・ | Z14: 0 | AA14: 山本 伸子 | AD14: 様
A15: 19 | C15: ・ | D15: ・ | F15: 28 | G15: 武良 ミセ | J15: 様 | K15: 20 | M15: ・ | N15: ・ | P15: 28 | Q15: 冨田 扶美子 | T15: 様 | U15: 21 | W15: ・ | X15: ・ | Z15: 0 | AA15: 遠嶋 剛 | AD15: 様
A16: 22 | C16: ・ | D16: ・ | F16: 14 | G16: 太田 志緒 | J16: 様 | K16: 23 | M16: ・ | N16: ・ | P16: 28 | Q16: 長谷川 友和 | T16: 様 | U16: 24 | W16: ・ | X16: ・ | Z16: 0 | AA16: 遠嶋 千鶴 | AD16: 様
A17: 25 | C17: ・ | D17: ・ | F17: 30 | G17: 小笠原 琴葉 | J17: 様 | K17: 26 | M17: ・ | N17: ・ | P17: 14 | Q17: 町屋 自由 | T17: 様 | U17: 27 | W17: ・ | X17: ・ | Z17: 0 | AA17: 坂本 佳之 | AD17: 様
A18: 28 | C18: ・ | D18: ・ | F18: 28 | G18: 中村 ノリ子 | J18: 様 | K18: 29 | M18: ・ | N18: ・ | P18: 21 | Q18: 大野 みほゑ | T18: 様 | U18: 30 | W18: ・ | X18: ・ | Z18: 0 | AA18: 工藤 健壽 | AD18: 様
A19: 31 | C19: ・ | D19: ・ | F19: 28 | G19: 野々宮 俊江 | J19: 様 | K19: 32 | M19: ・ | N19: ・ | P19: 30 | Q19: 川守田 智恵子 | T19: 様 | U19: 33 | W19: ・ | X19: ・ | Z19: 0 | AA19: 田口 トシ子 | AD19: 様
A20: 34 | C20: ・ | D20: ・ | F20: 30 | G20: 高橋 茜 | J20: 様 | K20: 35 | M20: ・ | N20: ・ | P20: 28 | Q20: 小笠原 由美子 | T20: 様 | U20: 36 | W20: ・ | X20: ・ | Z20: 0 | AA20: 高村 加津子 | AD20: 様
... A22: 40 | C22: ・ | D22: ・ | F22: 28 | G22: 長谷地 トキ | J22: 様 | K22: 41 | M22: ・ | N22: ・ | P22: 60 | Q22: 櫻田 清志 | T22: 様 | U22: 42 | W22: ・ | X22: ・ | Z22: 14 | AA22: 加藤 匠 | AD22: 様
A23: 43 | C23: ・ | D23: ・ | F23: 30 | G23: 舛田 良子 | J23: 様 | K23: 44 | M23: ・ | N23: ・ | P23: 28 | Q23: 小笠原 光俊 | T23: 様 | U23: 45 | V23: ・ | X23: ・ | Z23: 0 | AA23: 宮古 アツ | AD23: 様
A24: 46 | C24: ・ | D24: ・ | F24: 28 | G24: 鷹架 イチ | J24: 様 | K24: 47 | M24: ・ | N24: ・ | P24: 14 | Q24: 村上 トクヱ | T24: 様 | U24: 48 | V24: ・ | X24: ・ | Z24: 28 | AA24: 種市 正子 | AD24: 様
A25: 49 | C25: ・ | D25: ・ | F25: 60 | G25: 一戸 ヒデ | J25: 様 | K25: 50 | M25: ・ | N25: ・ | P25: 0 | Q25: 大南 友紀 | T25: 様 | U25: 51 | W25: ・ | X25: ・ | Z25: 0 | AA25: 古川 トシ | AD25: 様
A26: 外来患者数 | E26: 新： | F26: =COUNTIF(B9:B25,"・")+COUNTIF(L9:L25,"・")+COUNTIF(V9:V25,"・") -> 2 | H26: 名 | I26: 再： | J26: =COUNTIF(C9:C25,"・")+COUNTIF(M9:M25,"・")+COUNTIF(W9:W25,"・") -> 49 | L26: 名 | M26: 計： | N26: =SUM(F26:K26) -> 51 | Q26: 名 | R26: （ | S26: 精： | T26: =COUNTIF(D9:D25,"・")+COUNTIF(N9:N25,"・")+COUNTIF(X9:X25,"・") -> 51 | W26: 名 | X26: ・ | Y26: 内： | Z26: =COUNTIF(E9:E25,"・")+COUNTIF(O9:O25,"・")+COUNTIF(Y9:Y25,"・") -> 0 | AC26: 名 | AD26: ）
A28: 紹介患者様氏名 | F28: 紹介先 | K28: 逆紹介患者様氏名 | P28: 紹介元 | U28: 処置実施者 | AA28: 処置内容
E29: 様 | K29: 宮古 アツ | O29: 様 | P29: 岡三沢診療所 | Z29: 様
A30: 本日の検査 | F30: 検査内容 | K30: 処置実施者 | P30: 処置内容 | Z30: 様
A31: 佐々木 春夫 | E31: 様 | F31: 血液検査 | K31: 川村 魁人 | O31: 様 | P31: ハロマンス100mg 1A | Z31: 様
E32: 様 | O32: 様 | U32: 点検項目
E33: 様 | O33: 様 | U33: 項目 | Z33: 時間 | AC33: 点検者
A34: 発熱 | F34: 下痢 | K34: 風邪薬 | P34: 男性：16 | U34: 医療廃棄物 | Y34: 0.75 | AB34: 石原 恵海
A35: 0 | F35: 0 | K35: 0 | P35: 女性：35 | U35: 戸締り | Y35: 0.75 | AB35: ='6'!AB41:AD41 -> 石谷 美代子
A37: 備考欄 | C37: （連絡事項・処方変更・その他）
G38: 特になし
G39: 石原

Sheet 16
B1: クリニック 日 誌 | H1: 令和 | J1: ='6'!J1 -> 3 | K1: 年 | L1: 4 | M1: 月 | N1: 16 | O1: 日 | Q1: （ | R1: 金 | S1: ） | V1: COO | Y1: IOO | AB1: AOM
A3: 勤務者名
A4: ='6'!A4:F4 -> 中村 恵理子 | G4: 日 | I4: 柳田 美雪 | N4: 日 | Q4: 診察室 | W4: 外来担当医 | Z4: 外来介助者
A5: 石原 恵海 | G5: 日 | I5: 石谷 美代子 | N5: 欠 | Q5: 第１診察室 | U5: 金 泰徳 | Z5: 柳田・石原
A6: 鳴海 彩香 | G6: 日 | I6: 松林 久美子 | N6: 日 | Q6: 第２診察室 | U6: 千葉 良 | Z6: 柳田・石原
B8: 新 | C8: 再 | D8: 精 | E8: 内 | F8: 処 | G8: 患者様氏名 | L8: 新 | M8: 再 | N8: 精 | O8: 内 | P8: 処 | Q8: 患者様氏名 | V8: 新 | W8: 再 | X8: 精 | Y8: 内 | Z8: 処 | AA8: 患者様氏名
A9: 1 | C9: ・ | D9: ・ | F9: 28 | G9: 伊藤 よし子 | J9: 様 | K9: 2 | M9: ・ | N9: ・ | P9: 30 | Q9: 藤田 絢三 | T9: 様 | U9: 3 | W9: ・ | X9: ・ | Z9: 0 | AA9: 工藤 健壽 | AD9: 様
A10: 4 | C10: ・ | D10: ・ | F10: 30 | G10: 藤田 予里 | J10: 様 | K10: 5 | M10: ・ | N10: ・ | P10: 28 | Q10: 大平 陸 | T10: 様 | U10: 6 | W10: ・ | X10: ・ | Z10: 0 | AA10: 大木 久子 | AD10: 様
A11: 7 | C11: ・ | D11: ・ | F11: 14 | G11: 内藤 浩宜 | J11: 様 | K11: 8 | M11: ・ | N11: ・ | P11: 0 | Q11: 橋本 英治 | T11: 様 | U11: 9 | W11: ・ | X11: ・ | Z11: 0 | AA11: 高村 加津子 | AD11: 様
A12: 10 | C12: ・ | D12: ・ | F12: 30 | G12: 佐々木 光政 | J12: 様 | K12: 11 | M12: ・ | N12: ・ | P12: 0 | Q12: 江刺家 たか | T12: 様 | U12: 12 | W12: ・ | X12: ・ | Z12: 0 | AA12: 山本 伸子 | AD12: 様
A13: 13 | C13: ・ | D13: ・ | F13: 30 | G13: 山本 キヨ | J13: 様 | K13: 14 | M13: ・ | N13: ・ | P13: 30 | Q13: 冨田 未歩 | T13: 様 | U13: 15 | W13: ・ | X13: ・ | Z13: 0 | AA13: 深町 栄美子 | AD13: 様
A14: 16 | C14: ・ | D14: ・ | F14: 28 | G14: 川村 妙子 | J14: 様 | K14: 17 | M14: ・ | N14: ・ | P14: 30 | Q14: 増沢 修一 | T14: 様 | U14: 18 | W14: ・ | X14: ・ | Z14: 30 | AA14: 萠出 きのゑ | AD14: 様
A15: 19 | C15: ・ | D15: ・ | F15: 30 | G15: 田中 喜代志 | J15: 様 | K15: 20 | M15: ・ | N15: ・ | P15: 42 | Q15: 杉村 義雄 | T15: 様 | U15: 21 | W15: ・ | X15: ・ | Z15: 0 | AA15: 萠出 克治 | AD15: 様
A16: 22 | C16: ・ | D16: ・ | F16: 28 | G16: 柳平 ミセ | J16: 様 | K16: 23 | M16: ・ | N16: ・ | P16: 14 | Q16: 種市 典子 | T16: 様 | U16: 24 | W16: ・ | X16: ・ | Z16: 0 | AA16: 沼端 ミセ | AD16: 様
A17: 25 | C17: ・ | D17: ・ | F17: 60 | G17: 岡沼 ミチ | J17: 様 | K17: 26 | M17: ・ | N17: ・ | P17: 28 | Q17: 西村 真砂子 | T17: 様 | U17: 27 | W17: ・ | X17: ・ | Z17: 0 | AA17: 瀬川 高雄 | AD17: 様
A18: 28 | C18: ・ | D18: ・ | F18: 30 | G18: 根岸 ナミ | J18: 様 | K18: 29 | M18: ・ | N18: ・ | P18: 28 | Q18: 佐々木 優那 | T18: 様 | U18: 30 | W18: ・ | X18: ・ | Z18: 0 | AA18: 渡辺 クニ | AD18: 様
A19: 31 | C19: ・ | D19: ・ | F19: 30 | G19: 齊藤 繭介 | J19: 様 | K19: 32 | M19: ・ | N19: ・ | P19: 30 | Q19: 苅谷 れい子 | T19: 様 | U19: 33 | W19: ・ | X19: ・ | Z19: 0 | AA19: 山口 瑛子 | AD19: 様
A20: 34 | C20: ・ | D20: ・ | F20: 21 | G20: 柏木 チヤ子 | J20: 様 | K20: 35 | M20: ・ | N20: ・ | P20: 60 | Q20: 二ッ森 アサ | T20: 様 | U20: 36 | W20: ・ | X20: ・ | Z20: 0 | AA20: 杉山 博子 | AD20: 様
... A23: 43 | C23: ・ | D23: ・ | F23: 28 | G23: 林 真紀子 | J23: 様 | K23: 44 | M23: ・ | N23: ・ | P23: 60 | Q23: 道場 とみゑ | T23: 様 | U23: 45 | W23: ・ | X23: ・ | Z23: 0 | AA23: 遠嶋 千鶴 | AD23: 様
A24: 46 | C24: ・ | D24: ・ | F24: 30 | G24: 久保 トク | J24: 様 | K24: 47 | L24: ・ | N24: ・ | P24: 7 | Q24: 西舘 由惟 | T24: 様 | U24: 48 | W24: ・ | X24: ・ | Z24: 0 | AA24: 坂本 政勝 | AD24: 様
A25: 49 | C25: ・ | D25: ・ | F25: 30 | G25: 船場 颯太 | J25: 様 | K25: 50 | M25: ・ | N25: ・ | P25: 30 | Q25: 井石 大雅 | T25: 様 | U25: 51 | W25: ・ | X25: ・ | Z25: 0 | AA25: 坂本 佳之 | AD25: 様
A26: 52 | C26: ・ | D26: ・ | F26: 30 | G26: 志田 詩音 | J26: 様 | K26: 53 | M26: ・ | N26: ・ | P26: 28 | Q26: 高橋 鮎美 | T26: 様 | U26: 54 | W26: ・ | X26: ・ | Z26: 0 | AA26: 山本 美津子 | AD26: 様
A27: 55 | C27: ・ | D27: ・ | F27: 30 | G27: 高橋 千佳 | J27: 様 | K27: 56 | M27: ・ | N27: ・ | P27: 28 | Q27: 山田 秀徳 | T27: 様 | U27: 57 | W27: ・ | X27: ・ | Z27: 0 | AA27: 稲本 典子 | AD27: 様
A28: 58 | C28: ・ | D28: ・ | F28: 28 | G28: 川口 千明 | J28: 様 | K28: 59 | M28: ・ | N28: ・ | P28: 0 | Q28: 吉澤 太郎 | T28: 様 | U28: 60 | V28: ・ | X28: ・ | Z28: 28 | AA28: 長嶺 チエ | AD28: 様
A29: 外来患者数 | E29: 新： | F29: =COUNTIF(B9:B28,"・")+COUNTIF(L9:L28,"・")+COUNTIF(V9:V28,"・") -> 2 | H29: 名 | I29: 再： | J29: =COUNTIF(C9:C28,"・")+COUNTIF(M9:M28,"・")+COUNTIF(W9:W28,"・") -> 58 | L29: 名 | M29: 計： | N29: =SUM(F29:K29) -> 60 | Q29: 名 | R29: （ | S29: 精： | T29: =COUNTIF(D9:D28,"・")+COUNTIF(N9:N28,"・")+COUNTIF(X9:X28,"・") -> 60 | W29: 名 | X29: ・ | Y29: 内： | Z29: =COUNTIF(E9:E28,"・")+COUNTIF(O9:O28,"・")+COUNTIF(Y9:Y28,"・") -> 0 | AC29: 名 | AD29: ）
A31: 紹介患者様氏名 | F31: 紹介先 | K31: 逆紹介患者様氏名 | P31: 紹介元 | U31: 処置実施者 | AA31: 処置内容
E32: 様 | K32: 長嶺 チエ | O32: 様 | P32: 高松病院 | Z32: 様
A33: 本日の検査 | F33: 検査内容 | K33: 処置実施者 | P33: 処置内容 | Z33: 様
A34: 橋本 英治 | E34: 様 | F34: WAIS | O34: 様 | Z34: 様
A35: 吉澤 太郎 | E35: 様 | F35: WAIS | O35: 様 | Z35: 様
A36: 長嶺 チエ | E36: 様 | F36: HDS-R MMSE | O36: 様 | Z36: 様
E37: 様 | O37: 様 | U37: 点検項目
E38: 様 | O38: 様 | U38: 項目 | Z38: 時間 | AC38: 点検者
A39: 発熱 | F39: 下痢 | K39: 風邪薬 | P39: 男性：20 | U39: 医療廃棄物 | Y39: 0.75 | AB39: 石原 恵海
A40: 0 | F40: 0 | K40: 0 | P40: 女性：40 | U40: 戸締り | Y40: 0.75 | AB40: 中村 恵理子
A42: 備考欄 | C42: （連絡事項・処方変更・その他）
G43: 特になし
G44: 石原

Sheet 17
B1: クリニック 日 誌 | H1: 令和 | J1: ='6'!J1 -> 3 | K1: 年 | L1: 4 | M1: 月 | N1: 17 | O1: 日 | Q1: （ | S1: ） | V1: COO | Y1: IOO | AB1: AOM
A3: 勤務者名
A4: ='6'!A4:F4 -> 中村 恵理子 | G4: 日 | I4: 柳田 美雪 | N4: 日 | Q4: 診察室 | W4: 外来担当医 | Z4: 外来介助者
A5: 石原 恵海 | G5: 日 | I5: 石谷 美代子 | Q5: 第１診察室 | Z5: 柳田・石原
Q6: 第２診察室
B8: 新 | C8: 再 | D8: 精 | E8: 内 | F8: 処 | G8: 患者様氏名 | L8: 新 | M8: 再 | N8: 精 | O8: 内 | P8: 処 | Q8: 患者様氏名 | V8: 新 | W8: 再 | X8: 精 | Y8: 内 | Z8: 処 | AA8: 患者様氏名
A9: 1 | J9: 様 | K9: 2 | T9: 様 | U9: 3 | AD9: 様
A10: 4 | J10: 様 | K10: 5 | T10: 様 | U10: 6 | AD10: 様
A11: 7 | J11: 様 | K11: 8 | T11: 様 | U11: 9 | AD11: 様
A12: 10 | J12: 様 | K12: 11 | T12: 様 | U12: 12 | AD12: 様
A13: 13 | J13: 様 | K13: 14 | T13: 様 | U13: 15 | AD13: 様
A14: 16 | J14: 様 | K14: 17 | T14: 様 | U14: 18 | AD14: 様
A15: 19 | J15: 様 | K15: 20 | T15: 様 | U15: 21 | AD15: 様
A16: 22 | J16: 様 | K16: 23 | T16: 様 | U16: 24 | AD16: 様
A17: 25 | J17: 様 | K17: 26 | T17: 様 | U17: 27 | AD17: 様
A18: 28 | J18: 様 | K18: 29 | T18: 様 | U18: 30 | AD18: 様
A19: 31 | J19: 様 | K19: 32 | T19: 様 | U19: 33 | AD19: 様
A20: 34 | J20: 様 | K20: 35 | T20: 様 | U20: 36 | AD20: 様
... A33: 73 | J33: 様 | K33: 74 | T33: 様 | U33: 75 | AD33: 様
A34: 外来患者数 | E34: 新： | F34: =COUNTIF(B9:B33,"・")+COUNTIF(L9:L33,"・")+COUNTIF(V9:V33,"・") -> 0 | H34: 名 | I34: 再： | J34: =COUNTIF(C9:C33,"・")+COUNTIF(M9:M33,"・")+COUNTIF(W9:W33,"・") -> 0 | L34: 名 | M34: 計： | N34: =SUM(F34:K34) -> 0 | Q34: 名 | R34: （ | S34: 精： | T34: =COUNTIF(D9:D33,"・")+COUNTIF(N9:N33,"・")+COUNTIF(X9:X33,"・") -> 0 | W34: 名 | X34: ・ | Y34: 内： | Z34: =COUNTIF(E9:E33,"・")+COUNTIF(O9:O33,"・")+COUNTIF(Y9:Y33,"・") -> 0 | AC34: 名 | AD34: ）
A36: 紹介患者様氏名 | F36: 紹介先 | K36: 逆紹介患者様氏名 | P36: 紹介元 | U36: 処置実施者 | AA36: 処置内容
E37: 様 | O37: 様 | Z37: 様
E38: 様 | O38: 様 | Z38: 様
E39: 様 | O39: 様 | Z39: 様
E40: 様 | O40: 様 | Z40: 様
E41: 様 | O41: 様 | Z41: 様
A42: 本日の検査 | F42: 検査内容 | K42: 処置実施者 | P42: 処置内容 | Z42: 様
E43: 様 | O43: 様 | Z43: 様
E44: 様 | O44: 様 | Z44: 様
E45: 様 | O45: 様 | Z45: 様
E46: 様 | O46: 様 | U46: 点検項目
E47: 様 | O47: 様 | U47: 項目 | Z47: 時間 | AC47: 点検者
A48: 発熱 | F48: 下痢 | K48: 風邪薬 | P48: 男性： | U48: 医療廃棄物 | Y48: 0.75
A49: 0 | F49: 0 | K49: 0 | P49: 女性： | U49: 戸締り | Y49: 0.75 | AB49: ='6'!AB41:AD41 -> 石谷 美代子
A51: 備考欄 | C51: （連絡事項・処方変更・その他）

Sheet 18
B1: クリニック 日 誌 | H1: 令和 | J1: ='6'!J1 -> 3 | K1: 年 | L1: 4 | M1: 月 | N1: 18 | O1: 日 | Q1: （ | S1: ） | V1: COO | Y1: IOO | AB1: AOM
A3: 勤務者名
A4: ='6'!A4:F4 -> 中村 恵理子 | G4: 日 | I4: 柳田 美雪 | N4: 日 | Q4: 診察室 | W4: 外来担当医 | Z4: 外来介助者
A5: 石原 恵海 | G5: 日 | I5: 石谷 美代子 | Q5: 第１診察室 | Z5: 柳田・石原
Q6: 第２診察室
B8: 新 | C8: 再 | D8: 精 | E8: 内 | F8: 処 | G8: 患者様氏名 | L8: 新 | M8: 再 | N8: 精 | O8: 内 | P8: 処 | Q8: 患者様氏名 | V8: 新 | W8: 再 | X8: 精 | Y8: 内 | Z8: 処 | AA8: 患者様氏名
A9: 1 | J9: 様 | K9: 2 | T9: 様 | U9: 3 | AD9: 様
A10: 4 | J10: 様 | K10: 5 | T10: 様 | U10: 6 | AD10: 様
A11: 7 | J11: 様 | K11: 8 | T11: 様 | U11: 9 | AD11: 様
A12: 10 | J12: 様 | K12: 11 | T12: 様 | U12: 12 | AD12: 様
A13: 13 | J13: 様 | K13: 14 | T13: 様 | U13: 15 | AD13: 様
A14: 16 | J14: 様 | K14: 17 | T14: 様 | U14: 18 | AD14: 様
A15: 19 | J15: 様 | K15: 20 | T15: 様 | U15: 21 | AD15: 様
A16: 22 | J16: 様 | K16: 23 | T16: 様 | U16: 24 | AD16: 様
A17: 25 | J17: 様 | K17: 26 | T17: 様 | U17: 27 | AD17: 様
A18: 28 | J18: 様 | K18: 29 | T18: 様 | U18: 30 | AD18: 様
A19: 31 | J19: 様 | K19: 32 | T19: 様 | U19: 33 | AD19: 様
A20: 34 | J20: 様 | K20: 35 | T20: 様 | U20: 36 | AD20: 様
... A33: 73 | J33: 様 | K33: 74 | T33: 様 | U33: 75 | AD33: 様
A34: 外来患者数 | E34: 新： | F34: =COUNTIF(B9:B33,"・")+COUNTIF(L9:L33,"・")+COUNTIF(V9:V33,"・") -> 0 | H34: 名 | I34: 再： | J34: =COUNTIF(C9:C33,"・")+COUNTIF(M9:M33,"・")+COUNTIF(W9:W33,"・") -> 0 | L34: 名 | M34: 計： | N34: =SUM(F34:K34) -> 0 | Q34: 名 | R34: （ | S34: 精： | T34: =COUNTIF(D9:D33,"・")+COUNTIF(N9:N33,"・")+COUNTIF(X9:X33,"・") -> 0 | W34: 名 | X34: ・ | Y34: 内： | Z34: =COUNTIF(E9:E33,"・")+COUNTIF(O9:O33,"・")+COUNTIF(Y9:Y33,"・") -> 0 | AC34: 名 | AD34: ）
A36: 紹介患者様氏名 | F36: 紹介先 | K36: 逆紹介患者様氏名 | P36: 紹介元 | U36: 処置実施者 | AA36: 処置内容
E37: 様 | O37: 様 | Z37: 様
E38: 様 | O38: 様 | Z38: 様
E39: 様 | O39: 様 | Z39: 様
E40: 様 | O40: 様 | Z40: 様
E41: 様 | O41: 様 | Z41: 様
A42: 本日の検査 | F42: 検査内容 | K42: 処置実施者 | P42: 処置内容 | Z42: 様
E43: 様 | O43: 様 | Z43: 様
E44: 様 | O44: 様 | Z44: 様
E45: 様 | O45: 様 | Z45: 様
E46: 様 | O46: 様 | U46: 点検項目
E47: 様 | O47: 様 | U47: 項目 | Z47: 時間 | AC47: 点検者
A48: 発熱 | F48: 下痢 | K48: 風邪薬 | P48: 男性： | U48: 医療廃棄物 | Y48: 0.75
A49: 0 | F49: 0 | K49: 0 | P49: 女性： | U49: 戸締り | Y49: 0.75 | AB49: ='6'!AB41:AD41 -> 石谷 美代子
A51: 備考欄 | C51: （連絡事項・処方変更・その他）

Sheet 19
B1: クリニック 日 誌 | H1: 令和 | J1: ='6'!J1 -> 3 | K1: 年 | L1: 4 | M1: 月 | N1: 19 | O1: 日 | Q1: （ | R1: 月 | S1: ） | V1: COO | Y1: IOO | AB1: AOM
A3: 勤務者名
A4: ='6'!A4:F4 -> 中村 恵理子 | G4: 日 | I4: 柳田 美雪 | N4: 日 | Q4: 診察室 | W4: 外来担当医 | Z4: 外来介助者
A5: 石原 恵海 | G5: 日 | I5: 石谷 美代子 | N5: 欠 | Q5: 第１診察室 | U5: 馬渡 晃弘 | Z5: 柳田・石原
A6: 神 圭輔 | G6: 日 | I6: 松林 久美子 | N6: 日 | Q6: 第２診察室 | U6: 千葉 良 | Z6: 柳田・石原
B8: 新 | C8: 再 | D8: 精 | E8: 内 | F8: 処 | G8: 患者様氏名 | L8: 新 | M8: 再 | N8: 精 | O8: 内 | P8: 処 | Q8: 患者様氏名 | V8: 新 | W8: 再 | X8: 精 | Y8: 内 | Z8: 処 | AA8: 患者様氏名
A9: 1 | B9: ・ | E9: ・ | F9: 0 | G9: 坂田 佳子 | J9: 様 | K9: 2 | M9: ・ | N9: ・ | P9: 14 | Q9: 遠嶋 剛 | T9: 様 | U9: 3 | W9: ・ | X9: ・ | Z9: 0 | AA9: 藪 真弓 | AD9: 様
A10: 4 | B10: ・ | D10: ・ | F10: 28 | G10: 立花 幸子 | J10: 様 | K10: 5 | M10: ・ | N10: ・ | P10: 28 | Q10: 瀬川 高雄 | T10: 様 | U10: 6 | W10: ・ | X10: ・ | Z10: 0 | AA10: 安部 信祥 | AD10: 様
A11: 7 | B11: ・ | D11: ・ | F11: 7 | G11: 舩水 大夢 | J11: 様 | K11: 8 | M11: ・ | N11: ・ | P11: 28 | Q11: 土橋 翔吾 | T11: 様 | U11: 9 | W11: ・ | X11: ・ | Z11: 0 | AA11: 大木 久子 | AD11: 様
A12: 10 | C12: ・ | D12: ・ | F12: 90 | G12: 小泉 キセ | J12: 様 | K12: 11 | M12: ・ | N12: ・ | P12: 56 | Q12: 窪田 清正 | T12: 様 | U12: 12 | W12: ・ | X12: ・ | Z12: 0 | AA12: 工藤 健壽 | AD12: 様
A13: 13 | C13: ・ | D13: ・ | F13: 56 | G13: 和泉 貴雄 | J13: 様 | K13: 14 | M13: ・ | N13: ・ | P13: 28 | Q13: 沼山 明 | T13: 様 | U13: 15 | W13: ・ | X13: ・ | Z13: 0 | AA13: 田口 トシ子 | AD13: 様
A14: 16 | C14: ・ | D14: ・ | F14: 28 | G14: 川原 明 | J14: 様 | K14: 17 | M14: ・ | N14: ・ | P14: 28 | Q14: 割澤 夏子 | T14: 様 | U14: 18 | W14: ・ | X14: ・ | Z14: 0 | AA14: 深町 栄美子 | AD14: 様
A15: 19 | C15: ・ | D15: ・ | F15: 49 | G15: 田中 成典 | J15: 様 | K15: 20 | M15: ・ | N15: ・ | P15: 28 | Q15: 大下内 栄子 | T15: 様 | U15: 21 | W15: ・ | X15: ・ | Z15: 0 | AA15: 沼端 ミセ | AD15: 様
A16: 22 | C16: ・ | D16: ・ | F16: 30 | G16: 関口 潤也 | J16: 様 | K16: 23 | M16: ・ | N16: ・ | P16: 21 | Q16: 小原 哲哉 | T16: 様 | U16: 24 | W16: ・ | X16: ・ | Z16: 0 | AA16: 杉山 博子 | AD16: 様
A17: 25 | C17: ・ | D17: ・ | F17: 6 | G17: 沼山 詩織 | J17: 様 | K17: 26 | M17: ・ | N17: ・ | P17: 56 | Q17: 山本 ハナコ | T17: 様 | U17: 27 | W17: ・ | X17: ・ | Z17: 0 | AA17: 高村 加津子 | AD17: 様
A18: 28 | C18: ・ | D18: ・ | F18: 28 | G18: 林 礼子 | J18: 様 | K18: 29 | M18: ・ | N18: ・ | P18: 28 | Q18: 工藤 敏子 | T18: 様 | U18: 30 | W18: ・ | X18: ・ | Z18: 0 | AA18: 萠出 きのゑ | AD18: 様
A19: 31 | C19: ・ | D19: ・ | F19: 28 | G19: 織笠 政志 | J19: 様 | K19: 32 | M19: ・ | N19: ・ | P19: 28 | Q19: 駒形 克斗 | T19: 様 | U19: 33 | W19: ・ | X19: ・ | Z19: 0 | AA19: 萠出 克治 | AD19: 様
A20: 34 | C20: ・ | D20: ・ | F20: 28 | G20: 澤谷 翔太 | J20: 様 | K20: 35 | M20: ・ | N20: ・ | P20: 35 | Q20: 畠山 由美子 | T20: 様 | U20: 36 | W20: ・ | X20: ・ | Z20: 0 | AA20: 藤田 絢三 | AD20: 様
A21: 37 | C21: ・ | D21: ・ | F21: 60 | G21: 和野 祥子 | J21: 様 | K21: 38 | M21: ・ | N21: ・ | P21: 28 | Q21: 沼山 裕樹 | T21: 様 | U21: 39 | W21: ・ | X21: ・ | Z21: 0 | AA21: 綿貫 啓子 | AD21: 様
A22: 40 | C22: ・ | D22: ・ | F22: 40 | G22: 杉村 義雄 | J22: 様 | K22: 41 | M22: ・ | N22: ・ | P22: 14 | Q22: 沼山 貴哉 | T22: 様 | U22: 42 | W22: ・ | X22: ・ | Z22: 0 | AA22: 山口 瑛子 | AD22: 様
A23: 43 | C23: ・ | D23: ・ | F23: 30 | G23: 藤原 光子 | J23: 様 | K23: 44 | M23: ・ | N23: ・ | P23: 0 | Q23: 山本 文子 | T23: 様 | U23: 45 | W23: ・ | X23: ・ | Z23: 0 | AA23: 渡辺 クニ | AD23: 様
A24: 46 | C24: ・ | D24: ・ | F24: 90 | G24: 関川 進也 | J24: 様 | K24: 47 | M24: ・ | N24: ・ | P24: 30 | Q24: 横沢 美羽 | T24: 様 | U24: 48 | W24: ・ | X24: ・ | Z24: 0 | AA24: 酒井 昌子 | AD24: 様
A25: 49 | B25: ・ | D25: ・ | F25: 28 | G25: 成田 マツエ | J25: 様 | K25: 50 | M25: ・ | N25: ・ | P25: 30 | Q25: 三上 小春 | T25: 様 | U25: 51 | W25: ・ | X25: ・ | Z25: 0 | AA25: 坂本 佳之 | AD25: 様
A26: 52 | B26: ・ | D26: ・ | F26: 7 | G26: 沖澤 孝 | J26: 様 | K26: 53 | M26: ・ | N26: ・ | P26: 7 | Q26: 伊藤 絆永 | T26: 様 | U26: 54 | W26: ・ | X26: ・ | Z26: 0 | AA26: 中村 としゑ | AD26: 様
A27: 55 | C27: ・ | D27: ・ | F27: 30 | G27: 樋口 敦也 | J27: 様 | K27: 56 | M27: ・ | N27: ・ | P27: 21 | Q27: 山崎 友雅 | T27: 様 | U27: 57 | W27: ・ | X27: ・ | Z27: 0 | AA27: 遠嶋 千鶴 | AD27: 様
A28: 58 | C28: ・ | D28: ・ | F28: 56 | G28: 山本 鉄弥 | J28: 様 | K28: 59 | M28: ・ | N28: ・ | P28: 30 | Q28: 岩脇 利旺 | T28: 様 | U28: 60 | W28: ・ | X28: ・ | Z28: 0 | AA28: 坂本 政勝 | AD28: 様
A29: 61 | C29: ・ | D29: ・ | F29: 7 | G29: 蛯名 亜果音 | J29: 様 | K29: 62 | M29: ・ | N29: ・ | P29: 30 | Q29: 二宮 実里 | T29: 様 | U29: 63 | W29: ・ | X29: ・ | Z29: 20 | AA29: 神山 元良 | AD29: 様
A30: 64 | C30: ・ | D30: ・ | F30: 0 | G30: 中居 敬悦 | J30: 様 | K30: 65 | M30: ・ | N30: ・ | P30: 30 | Q30: 坂本 鈴々 | T30: 様 | U30: 66 | AD30: 様
A31: 外来患者数 | E31: 新： | F31: =COUNTIF(B9:B30,"・")+COUNTIF(L9:L30,"・")+COUNTIF(V9:V30,"・") -> 5 | H31: 名 | I31: 再： | J31: =COUNTIF(C9:C30,"・")+COUNTIF(M9:M30,"・")+COUNTIF(W9:W30,"・") -> 60 | L31: 名 | M31: 計： | N31: =SUM(F31:K31) -> 65 | Q31: 名 | R31: （ | S31: 精： | T31: =COUNTIF(D9:D30,"・")+COUNTIF(N9:N30,"・")+COUNTIF(X9:X30,"・") -> 64 | W31: 名 | X31: ・ | Y31: 内： | Z31: =COUNTIF(E9:E30,"・")+COUNTIF(O9:O30,"・")+COUNTIF(Y9:Y30,"・") -> 1 | AC31: 名 | AD31: ）
A33: 紹介患者様氏名 | F33: 紹介先 | K33: 逆紹介患者様氏名 | P33: 紹介元 | U33: 処置実施者 | AA33: 処置内容
E34: 様 | K34: 立花 幸子 | O34: 様 | P34: 須崎耳鼻咽喉科医院 | Z34: 様
E35: 様 | K35: 成田 マツエ | O35: 様 | P35: おいらせ病院 | Z35: 様
A36: 本日の検査 | F36: 検査内容 | K36: 処置実施者 | P36: 処置内容 | Z36: 様
A37: 成田 マツヱ | E37: 様 | F37: HDS-R MMSE | O37: 様 | Z37: 様
A38: 横沢 美羽 | E38: 様 | F38: 血液検査 | O38: 様 | U38: 点検項目
A39: 沖澤 孝 | E39: 様 | F39: 血液検査 CMI | O39: 様 | U39: 項目 | Z39: 時間 | AC39: 点検者
A40: 発熱 | F40: 下痢 | K40: 風邪薬 | P40: 男性：32 | U40: 医療廃棄物 | Y40: 0.75 | AB40: 石原 恵海
A41: 0 | F41: 0 | K41: 0 | P41: 女性：33 | U41: 戸締り | Y41: 0.75 | AB41: 中村 恵理子
A43: 備考欄 | C43: （連絡事項・処方変更・その他）
G44: 特になし
G45: 石原

Sheet 20
B1: クリニック 日 誌 | H1: 令和 | J1: ='6'!J1 -> 3 | K1: 年 | L1: 4 | M1: 月 | N1: 20 | O1: 日 | Q1: （ | R1: 火 | S1: ） | V1: COO | Y1: IOO | AB1: AOM
A3: 勤務者名
A4: ='6'!A4:F4 -> 中村 恵理子 | G4: 日 | I4: 柳田 美雪 | N4: 日 | Q4: 診察室 | W4: 外来担当医 | Z4: 外来介助者
A5: 石原 恵海 | G5: 日 | I5: 石谷 美代子 | N5: 欠 | Q5: 第１診察室 | U5: 千葉 潜 | Z5: 柳田・石原
A6: 神 圭輔 | G6: 日 | I6: 松林 久美子 | N6: 日 | Q6: 第２診察室 | U6: 坂田 優 | Z6: 柳田・石原
B8: 新 | C8: 再 | D8: 精 | E8: 内 | F8: 処 | G8: 患者様氏名 | L8: 新 | M8: 再 | N8: 精 | O8: 内 | P8: 処 | Q8: 患者様氏名 | V8: 新 | W8: 再 | X8: 精 | Y8: 内 | Z8: 処 | AA8: 患者様氏名
A9: 1 | C9: ・ | D9: ・ | F9: 28 | G9: 中村 文博 | J9: 様 | K9: 2 | L9: ・ | O9: ・ | P9: 0 | Q9: 奥 功 | T9: 様 | U9: 3 | W9: ・ | X9: ・ | Z9: 0 | AA9: 工藤 健壽 | AD9: 様
A10: 4 | C10: ・ | D10: ・ | F10: 42 | G10: 作田 由美子 | J10: 様 | K10: 5 | L10: ・ | N10: ・ | P10: 7 | Q10: 藤田 理恵 | T10: 様 | U10: 6 | W10: ・ | X10: ・ | Z10: 0 | AA10: 綿貫 啓子 | AD10: 様
A11: 7 | C11: ・ | D11: ・ | F11: 28 | G11: 笹森 綾香 | J11: 様 | K11: 8 | M11: ・ | N11: ・ | P11: 28 | Q11: 冨田 勝政 | T11: 様 | U11: 9 | W11: ・ | X11: ・ | Z11: 0 | AA11: 高村 加津子 | AD11: 様
A12: 10 | C12: ・ | D12: ・ | F12: 28 | G12: 佐々木 美津江 | J12: 様 | K12: 11 | M12: ・ | N12: ・ | P12: 30 | Q12: 前田 米藏 | T12: 様 | U12: 12 | W12: ・ | X12: ・ | Z12: 0 | AA12: 田口 トシ子 | AD12: 様
A13: 13 | C13: ・ | D13: ・ | F13: 30 | G13: 小松 亮太 | J13: 様 | K13: 14 | M13: ・ | N13: ・ | P13: 7 | Q13: 山岡 裕花 | T13: 様 | U13: 15 | W13: ・ | X13: ・ | Z13: 0 | AA13: 山口 瑛子 | AD13: 様
A14: 16 | C14: ・ | D14: ・ | F14: 30 | G14: 村岡 述夫 | J14: 様 | K14: 17 | M14: ・ | N14: ・ | P14: 18 | Q14: 木村 久子 | T14: 様 | U14: 18 | W14: ・ | X14: ・ | Z14: 0 | AA14: 萠出 克治 | AD14: 様
A15: 19 | C15: ・ | D15: ・ | F15: 30 | G15: 田村 とよ | J15: 様 | K15: 20 | M15: ・ | N15: ・ | P15: 28 | Q15: 倉舘 トワ | T15: 様 | U15: 21 | W15: ・ | X15: ・ | Z15: 0 | AA15: 萠出 きのゑ | AD15: 様
A16: 22 | C16: ・ | D16: ・ | F16: 28 | G16: 高野 信 | J16: 様 | K16: 23 | M16: ・ | N16: ・ | P16: 21 | Q16: 小栗 佳子 | T16: 様 | U16: 24 | W16: ・ | X16: ・ | Z16: 0 | AA16: 藤田 絢三 | AD16: 様
A17: 25 | C17: ・ | D17: ・ | F17: 28 | G17: 高根 あつ子 | J17: 様 | K17: 26 | M17: ・ | N17: ・ | P17: 28 | Q17: 本間 由香 | T17: 様 | U17: 27 | W17: ・ | X17: ・ | Z17: 0 | AA17: 山本 伸子 | AD17: 様
A18: 28 | C18: ・ | D18: ・ | F18: 30 | G18: 小比類巻 由美 | J18: 様 | K18: 29 | M18: ・ | N18: ・ | P18: 28 | Q18: 高松 美由紀 | T18: 様 | U18: 30 | W18: ・ | X18: ・ | Z18: 0 | AA18: 長岡 叶人 | AD18: 様
A19: 31 | C19: ・ | E19: ・ | F19: 7 | G19: 佐藤 鑛二 | J19: 様 | K19: 32 | M19: ・ | N19: ・ | P19: 7 | Q19: 沖澤 咲妃 | T19: 様 | U19: 33 | W19: ・ | X19: ・ | Z19: 0 | AA19: 坂本 政勝 | AD19: 様
A20: 34 | C20: ・ | D20: ・ | F20: 0 | G20: 大橋 ミサ | J20: 様 | K20: 35 | M20: ・ | N20: ・ | P20: 14 | Q20: 島 龍太朗 | T20: 様 | U20: 36 | W20: ・ | X20: ・ | Z20: 0 | AA20: 大木 久子 | AD20: 様
A21: 37 | C21: ・ | D21: ・ | F21: 28 | G21: 佐々木 七海 | J21: 様 | K21: 38 | M21: ・ | N21: ・ | P21: 28 | Q21: 立花 アキ子 | T21: 様 | U21: 39 | W21: ・ | X21: ・ | Z21: 0 | AA21: 坂本 佳之 | AD21: 様
A22: 40 | C22: ・ | D22: ・ | F22: 28 | G22: 木村 正子 | J22: 様 | K22: 41 | M22: ・ | N22: ・ | P22: 30 | Q22: 佐藤 ソノ | T22: 様 | U22: 42 | W22: ・ | X22: ・ | Z22: 0 | AA22: 石ケ谷 數子 | AD22: 様
A23: 43 | C23: ・ | D23: ・ | F23: 28 | G23: 渡辺 美歌子 | J23: 様 | K23: 44 | M23: ・ | N23: ・ | P23: 28 | Q23: 馬場 悠 | T23: 様 | U23: 45 | W23: ・ | X23: ・ | Z23: 0 | AA23: 石井 佐代子 | AD23: 様
A24: 46 | C24: ・ | D24: ・ | F24: 28 | G24: 小栗 健太郎 | J24: 様 | K24: 47 | M24: ・ | N24: ・ | P24: 7 | Q24: 木滝 三彦 | T24: 様 | U24: 48 | W24: ・ | X24: ・ | Z24: 0 | AA24: 池田 アエ | AD24: 様
A25: 49 | B25: ・ | D25: ・ | F25: 0 | G25: 戸室 将也 | J25: 様 | K25: 50 | M25: ・ | N25: ・ | P25: 90 | Q25: 小坂 良治 | T25: 様 | U25: 51 | W25: ・ | X25: ・ | Z25: 0 | AA25: 水上 民一 | AD25: 様
A26: 52 | C26: ・ | D26: ・ | F26: 28 | G26: 蛯名 由香子 | J26: 様 | K26: 53 | M26: ・ | N26: ・ | P26: 7 | Q26: 熊谷 政治 | T26: 様 | U26: 54 | W26: ・ | X26: ・ | Z26: 60 | AA26: 坂岡 亮 | AD26: 様
A27: 55 | C27: ・ | D27: ・ | E27: ・ | F27: 24 | G27: 蒔田 輝美 | J27: 様 | K27: 56 | M27: ・ | N27: ・ | P27: 30 | Q27: 野川 安雄 | T27: 様 | U27: 57 | W27: ・ | X27: ・ | Z27: 56 | AA27: 織笠 ユミ | AD27: 様
A28: 58 | C28: ・ | D28: ・ | F28: 20 | G28: 堤 学 | J28: 様 | K28: 59 | M28: ・ | N28: ・ | P28: 28 | Q28: 佐藤 喜子 | T28: 様 | U28: 60 | AD28: 様
A29: 外来患者数 | E29: 新： | F29: =COUNTIF(B9:B28,"・")+COUNTIF(L9:L28,"・")+COUNTIF(V9:V28,"・") -> 3 | H29: 名 | I29: 再： | J29: =COUNTIF(C9:C28,"・")+COUNTIF(M9:M28,"・")+COUNTIF(W9:W28,"・") -> 56 | L29: 名 | M29: 計： | N29: =SUM(F29:K29) -> 59 | Q29: 名 | R29: （ | S29: 精： | T29: =COUNTIF(D9:D28,"・")+COUNTIF(N9:N28,"・")+COUNTIF(X9:X28,"・") -> 57 | W29: 名 | X29: ・ | Y29: 内： | Z29: =COUNTIF(E9:E28,"・")+COUNTIF(O9:O28,"・")+COUNTIF(Y9:Y28,"・") -> 3 | AC29: 名 | AD29: ）
A31: 紹介患者様氏名 | F31: 紹介先 | K31: 逆紹介患者様氏名 | P31: 紹介元 | U31: 処置実施者 | AA31: 処置内容
A32: 大橋 ミサ | E32: 様 | F32: 青南病院 | O32: 様 | Z32: 様
A33: 本日の検査 | F33: 検査内容 | K33: 処置実施者 | P33: 処置内容 | Z33: 様
A34: 大橋 ミサ | E34: 様 | F34: 血液検査 | O34: 様 | Z34: 様
A35: 笹森 綾香 | E35: 様 | F35: 血液検査 | O35: 様 | Z35: 様
A36: 村岡 述夫 | E36: 様 | F36: 血液検査 | O36: 様 | Z36: 様
A37: 奥 功 | E37: 様 | F37: 血液検査 | O37: 様 | U37: 点検項目
A38: 蒔田 輝美 | E38: 様 | F38: 血液検査 | O38: 様 | U38: 項目 | Z38: 時間 | AC38: 点検者
A39: 発熱 | F39: 下痢 | K39: 風邪薬 | P39: 男性：25 | U39: 医療廃棄物 | Y39: 0.75 | AB39: 石原 恵海
A40: 0 | F40: 0 | K40: 0 | P40: 女性：34 | U40: 戸締り | Y40: 0.75 | AB40: 中村 恵理子
A42: 備考欄 | C42: （連絡事項・処方変更・その他）
A44: 大橋 ミサ様（86歳） | G44: 妄想性障害にて当院通院中。入所中施設より幻覚・幻聴一日に頻回と情報提供有。
A45: （精神通院患者） | G45: 「呼んでいるので家に帰らねばならない」と訴え玄関まで行く。夜間が多い。
G46: 外に出ていきすぐ保護されることが頻回になった。荷物を振り回すなどの粗暴行為もあり。
G47: 施設介護も限界で症状はエスカレート状態。入院加療による薬剤調整の必要ありと判断。
G48: 家族の希望で前回入院した青南病院へ21日入院の運びとなる。
G49: 石原

Sheet 21
B1: クリニック 日 誌 | H1: 令和 | J1: ='6'!J1 -> 3 | K1: 年 | L1: 4 | M1: 月 | N1: 21 | O1: 日 | Q1: （ | R1: 水 | S1: ） | V1: COO | Y1: IOO | AB1: AOM
A3: 勤務者名
A4: ='6'!A4:F4 -> 中村 恵理子 | G4: 日 | I4: 柳田 美雪 | N4: 日 | Q4: 診察室 | W4: 外来担当医 | Z4: 外来介助者
A5: 石原 恵海 | G5: 日 | I5: 石谷 美代子 | N5: 欠 | Q5: 第１診察室 | U5: 千葉 潜 | Z5: 柳田・石原
A6: 鳴海 彩香 | G6: 日 | I6: 神 圭輔 | N6: 日 | Q6: 第２診察室 | U6: 坂田 優 | Z6: 柳田・石原
B8: 新 | C8: 再 | D8: 精 | E8: 内 | F8: 処 | G8: 患者様氏名 | L8: 新 | M8: 再 | N8: 精 | O8: 内 | P8: 処 | Q8: 患者様氏名 | V8: 新 | W8: 再 | X8: 精 | Y8: 内 | Z8: 処 | AA8: 患者様氏名
A9: 1 | C9: ・ | D9: ・ | F9: 28 | G9: 蛯名 忍 | J9: 様 | K9: 2 | M9: ・ | N9: ・ | P9: 30 | Q9: 葛西 瑛 | T9: 様 | U9: 3 | W9: ・ | X9: ・ | Z9: 14 | AA9: 山本 文紀 | AD9: 様
A10: 4 | C10: ・ | D10: ・ | F10: 28 | G10: 島貫 香央里 | J10: 様 | K10: 5 | M10: ・ | N10: ・ | P10: 30 | Q10: 小林 きよ | T10: 様 | U10: 6 | W10: ・ | X10: ・ | Z10: 30 | AA10: 河村 孝子 | AD10: 様
A11: 7 | C11: ・ | D11: ・ | F11: 3 | G11: 綿貫 啓子 | J11: 様 | K11: 8 | M11: ・ | N11: ・ | P11: 7 | Q11: 天間 英輝 | T11: 様 | U11: 9 | W11: ・ | X11: ・ | Z11: 30 | AA11: 赤川 美紀 | AD11: 様
A12: 10 | C12: ・ | D12: ・ | F12: 42 | G12: 清水 奈緒美 | J12: 様 | K12: 11 | M12: ・ | N12: ・ | P12: 28 | Q12: 菊地 真美 | T12: 様 | U12: 12 | W12: ・ | X12: ・ | Z12: 28 | AA12: 箕輪 真紀子 | AD12: 様
A13: 13 | C13: ・ | D13: ・ | F13: 90 | G13: 新堂 マツ | J13: 様 | K13: 14 | M13: ・ | N13: ・ | P13: 56 | Q13: 堀内 兼博 | T13: 様 | U13: 15 | W13: ・ | X13: ・ | Z13: 28 | AA13: 稲本 典子 | AD13: 様
A14: 16 | C14: ・ | D14: ・ | F14: 60 | G14: 中村 美千代 | J14: 様 | K14: 17 | M14: ・ | N14: ・ | P14: 7 | Q14: 浦邊 健司 | T14: 様 | U14: 18 | W14: ・ | X14: ・ | Z14: 42 | AA14: 板川 京子 | AD14: 様
A15: 19 | C15: ・ | D15: ・ | F15: 28 | G15: 豊川 洋子 | J15: 様 | K15: 20 | M15: ・ | N15: ・ | P15: 28 | Q15: 佐藤 正志 | T15: 様 | U15: 21 | W15: ・ | X15: ・ | Z15: 28 | AA15: 成田 尚子 | AD15: 様
A16: 22 | C16: ・ | D16: ・ | F16: 28 | G16: 山本 伸子 | J16: 様 | K16: 23 | M16: ・ | N16: ・ | P16: 28 | Q16: 新堂 伸子 | T16: 様 | U16: 24 | W16: ・ | X16: ・ | Z16: 28 | AA16: 榎林 真実 | AD16: 様
A17: 25 | C17: ・ | D17: ・ | F17: 30 | G17: 深町 栄美子 | J17: 様 | K17: 26 | M17: ・ | N17: ・ | P17: 28 | Q17: 石橋 貞子 | T17: 様 | U17: 27 | V17: ・ | X17: ・ | Z17: 7 | AA17: 小笠原 菜摘 | AD17: 様
A18: 28 | C18: ・ | D18: ・ | F18: 28 | G18: 竹内 くみ子 | J18: 様 | K18: 29 | M18: ・ | N18: ・ | P18: 14 | Q18: 中村 実樹 | T18: 様 | U18: 30 | W18: ・ | X18: ・ | Z18: 42 | AA18: 村舘 博輝 | AD18: 様
A19: 31 | C19: ・ | D19: ・ | F19: 30 | G19: 山本 金雄 | J19: 様 | K19: 32 | M19: ・ | N19: ・ | P19: 28 | Q19: 神田 輝子 | T19: 様 | U19: 33 | W19: ・ | X19: ・ | Z19: 0 | AA19: 工藤 健壽 | AD19: 様
A20: 34 | C20: ・ | D20: ・ | F20: 56 | G20: 菊地 礼子 | J20: 様 | K20: 35 | M20: ・ | N20: ・ | P20: 28 | Q20: 深澤 光良 | T20: 様 | U20: 36 | W20: ・ | X20: ・ | Z20: 0 | AA20: 大木 久子 | AD20: 様
A21: 37 | C21: ・ | D21: ・ | F21: 28 | G21: 類家 つさ | J21: 様 | K21: 38 | M21: ・ | N21: ・ | P21: 28 | Q21: 深澤 友子 | T21: 様 | U21: 39 | W21: ・ | X21: ・ | Z21: 0 | AA21: 田口 トシ子 | AD21: 様
A22: 40 | C22: ・ | D22: ・ | F22: 28 | G22: 中野渡 節子 | J22: 様 | K22: 41 | M22: ・ | N22: ・ | P22: 28 | Q22: 工藤 喜美子 | T22: 様 | U22: 42 | W22: ・ | X22: ・ | Z22: 0 | AA22: 高村 加津子 | AD22: 様
A23: 43 | C23: ・ | D23: ・ | F23: 28 | G23: 戸田 文子 | J23: 様 | K23: 44 | M23: ・ | N23: ・ | P23: 30 | Q23: 鈴木 智恵子 | T23: 様 | U23: 45 | W23: ・ | X23: ・ | Z23: 0 | AA23: 沼端 ミセ | AD23: 様
A24: 46 | C24: ・ | D24: ・ | F24: 30 | G24: 和田 成人 | J24: 様 | K24: 47 | M24: ・ | N24: ・ | P24: 28 | Q24: 神 芽衣 | T24: 様 | U24: 48 | W24: ・ | X24: ・ | Z24: 0 | AA24: 山口 瑛子 | AD24: 様
A25: 49 | C25: ・ | D25: ・ | F25: 0 | G25: 萠出 克治 | J25: 様 | K25: 50 | M25: ・ | N25: ・ | P25: 0 | Q25: 瀬川 高雄 | T25: 様 | U25: 51 | W25: ・ | X25: ・ | Z25: 0 | AA25: 石ケ谷 數子 | AD25: 様
A26: 52 | C26: ・ | D26: ・ | F26: 0 | G26: 萠出 きのゑ | J26: 様 | K26: 53 | M26: ・ | N26: ・ | P26: 0 | Q26: 坂本 政勝 | T26: 様 | U26: 54 | V26: ・ | X26: ・ | Z26: 21 | AA26: 佐々木 政子 | AD26: 様
A27: 55 | C27: ・ | D27: ・ | F27: 0 | G27: 米内山 善江 | J27: 様 | K27: 56 | T27: 様 | U27: 57 | AD27: 様
A28: 外来患者数 | E28: 新： | F28: =COUNTIF(B9:B27,"・")+COUNTIF(L9:L27,"・")+COUNTIF(V9:V27,"・") -> 2 | H28: 名 | I28: 再： | J28: =COUNTIF(C9:C27,"・")+COUNTIF(M9:M27,"・")+COUNTIF(W9:W27,"・") -> 53 | L28: 名 | M28: 計： | N28: =SUM(F28:K28) -> 55 | Q28: 名 | R28: （ | S28: 精： | T28: =COUNTIF(D9:D27,"・")+COUNTIF(N9:N27,"・")+COUNTIF(X9:X27,"・") -> 55 | W28: 名 | X28: ・ | Y28: 内： | Z28: =COUNTIF(E9:E27,"・")+COUNTIF(O9:O27,"・")+COUNTIF(Y9:Y27,"・") -> 0 | AC28: 名 | AD28: ）
A30: 紹介患者様氏名 | F30: 紹介先 | K30: 逆紹介患者様氏名 | P30: 紹介元 | U30: 処置実施者 | AA30: 処置内容
E31: 様 | K31: 佐々木 政子 | O31: 様 | P31: 六戸町国民健康保険診療所 | Z31: 様
A32: 本日の検査 | F32: 検査内容 | K32: 処置実施者 | P32: 処置内容 | Z32: 様
A33: 和田 成人 | E33: 様 | F33: 血液検査 | O33: 様 | Z33: 様
A34: 赤川 美紀 | E34: 様 | F34: 血液検査 | O34: 様 | Z34: 様
A35: 佐々木 政子 | E35: 様 | F35: 血液検査 HDS-R MMSE | O35: 様 | Z35: 様
A36: 米内山 善江 | E36: 様 | F36: AQ | O36: 様 | U36: 点検項目
A37: 小笠原 菜摘 | E37: 様 | F37: CMI | O37: 様 | U37: 項目 | Z37: 時間 | AC37: 点検者
A38: 発熱 | F38: 下痢 | K38: 風邪薬 | P38: 男性：15 | U38: 医療廃棄物 | Y38: 0.75 | AB38: 石原 恵海
A39: 0 | F39: 0 | K39: 0 | P39: 女性：40 | U39: 戸締り | Y39: 0.75 | AB39: 中村 恵理子
A41: 備考欄 | C41: （連絡事項・処方変更・その他）
G42: 特になし
G43: 石原

Sheet 22
B1: クリニック 日 誌 | H1: 令和 | J1: ='6'!J1 -> 3 | K1: 年 | L1: 4 | M1: 月 | N1: 22 | O1: 日 | Q1: （ | S1: ） | V1: COO | Y1: IOO | AB1: AOM
A3: 勤務者名
A4: ='6'!A4:F4 -> 中村 恵理子 | G4: 日 | I4: 柳田 美雪 | N4: 日 | Q4: 診察室 | W4: 外来担当医 | Z4: 外来介助者
A5: 石原 恵海 | G5: 日 | I5: 石谷 美代子 | N5: 欠 | Q5: 第１診察室 | Z5: 柳田・石原
A6: 鳴海 彩香 | G6: 日 | I6: 松林 久美子 | N6: 日 | Q6: 第２診察室
B8: 新 | C8: 再 | D8: 精 | E8: 内 | F8: 処 | G8: 患者様氏名 | L8: 新 | M8: 再 | N8: 精 | O8: 内 | P8: 処 | Q8: 患者様氏名 | V8: 新 | W8: 再 | X8: 精 | Y8: 内 | Z8: 処 | AA8: 患者様氏名
A9: 1 | C9: ・ | D9: ・ | J9: 様 | K9: 2 | M9: ・ | N9: ・ | T9: 様 | U9: 3 | W9: ・ | X9: ・ | AD9: 様
A10: 4 | C10: ・ | D10: ・ | J10: 様 | K10: 5 | M10: ・ | N10: ・ | T10: 様 | U10: 6 | W10: ・ | X10: ・ | AD10: 様
A11: 7 | C11: ・ | D11: ・ | J11: 様 | K11: 8 | M11: ・ | N11: ・ | T11: 様 | U11: 9 | W11: ・ | X11: ・ | AD11: 様
A12: 10 | C12: ・ | D12: ・ | J12: 様 | K12: 11 | M12: ・ | N12: ・ | T12: 様 | U12: 12 | W12: ・ | X12: ・ | AD12: 様
A13: 13 | C13: ・ | D13: ・ | J13: 様 | K13: 14 | M13: ・ | N13: ・ | T13: 様 | U13: 15 | W13: ・ | X13: ・ | AD13: 様
A14: 16 | C14: ・ | D14: ・ | J14: 様 | K14: 17 | M14: ・ | N14: ・ | T14: 様 | U14: 18 | W14: ・ | X14: ・ | AD14: 様
A15: 19 | C15: ・ | D15: ・ | J15: 様 | K15: 20 | M15: ・ | N15: ・ | T15: 様 | U15: 21 | W15: ・ | X15: ・ | AD15: 様
A16: 22 | C16: ・ | D16: ・ | J16: 様 | K16: 23 | M16: ・ | N16: ・ | T16: 様 | U16: 24 | W16: ・ | X16: ・ | AD16: 様
A17: 25 | C17: ・ | D17: ・ | J17: 様 | K17: 26 | M17: ・ | N17: ・ | T17: 様 | U17: 27 | W17: ・ | X17: ・ | AD17: 様
A18: 28 | C18: ・ | D18: ・ | J18: 様 | K18: 29 | M18: ・ | N18: ・ | T18: 様 | U18: 30 | W18: ・ | X18: ・ | AD18: 様
A19: 31 | C19: ・ | D19: ・ | J19: 様 | K19: 32 | M19: ・ | N19: ・ | T19: 様 | U19: 33 | W19: ・ | X19: ・ | AD19: 様
A20: 34 | C20: ・ | D20: ・ | J20: 様 | K20: 35 | M20: ・ | N20: ・ | T20: 様 | U20: 36 | W20: ・ | X20: ・ | AD20: 様
... A29: 61 | C29: ・ | D29: ・ | J29: 様 | K29: 62 | M29: ・ | N29: ・ | T29: 様 | U29: 63 | W29: ・ | X29: ・ | AD29: 様
A30: 64 | J30: 様 | K30: 65 | T30: 様 | U30: 66 | AD30: 様
A31: 67 | J31: 様 | K31: 68 | T31: 様 | U31: 69 | AD31: 様
A32: 70 | J32: 様 | K32: 71 | T32: 様 | U32: 72 | AD32: 様
A33: 73 | J33: 様 | K33: 74 | T33: 様 | U33: 75 | AD33: 様
A34: 外来患者数 | E34: 新： | F34: =COUNTIF(B9:B33,"・")+COUNTIF(L9:L33,"・")+COUNTIF(V9:V33,"・") -> 0 | H34: 名 | I34: 再： | J34: =COUNTIF(C9:C33,"・")+COUNTIF(M9:M33,"・")+COUNTIF(W9:W33,"・") -> 63 | L34: 名 | M34: 計： | N34: =SUM(F34:K34) -> 63 | Q34: 名 | R34: （ | S34: 精： | T34: =COUNTIF(D9:D33,"・")+COUNTIF(N9:N33,"・")+COUNTIF(X9:X33,"・") -> 63 | W34: 名 | X34: ・ | Y34: 内： | Z34: =COUNTIF(E9:E33,"・")+COUNTIF(O9:O33,"・")+COUNTIF(Y9:Y33,"・") -> 0 | AC34: 名 | AD34: ）
A36: 紹介患者様氏名 | F36: 紹介先 | K36: 逆紹介患者様氏名 | P36: 紹介元 | U36: 処置実施者 | AA36: 処置内容
E37: 様 | O37: 様 | Z37: 様
E38: 様 | O38: 様 | Z38: 様
E39: 様 | O39: 様 | Z39: 様
E40: 様 | O40: 様 | Z40: 様
E41: 様 | O41: 様 | Z41: 様
A42: 本日の検査 | F42: 検査内容 | K42: 処置実施者 | P42: 処置内容 | Z42: 様
E43: 様 | O43: 様 | Z43: 様
E44: 様 | O44: 様 | Z44: 様
E45: 様 | O45: 様 | Z45: 様
E46: 様 | O46: 様 | U46: 点検項目
E47: 様 | O47: 様 | U47: 項目 | Z47: 時間 | AC47: 点検者
A48: 発熱 | F48: 下痢 | K48: 風邪薬 | P48: 男性： | U48: 医療廃棄物 | Y48: 0.75
A49: 0 | F49: 0 | K49: 0 | P49: 女性： | U49: 戸締り | Y49: 0.75 | AB49: ='6'!AB41:AD41 -> 石谷 美代子
A51: 備考欄 | C51: （連絡事項・処方変更・その他）

Sheet 23
B1: クリニック 日 誌 | H1: 令和 | J1: ='6'!J1 -> 3 | K1: 年 | L1: 4 | M1: 月 | N1: 23 | O1: 日 | Q1: （ | S1: ） | V1: COO | Y1: IOO | AB1: AOM
A3: 勤務者名
A4: ='6'!A4:F4 -> 中村 恵理子 | G4: 日 | I4: 柳田 美雪 | N4: 休 | Q4: 診察室 | W4: 外来担当医 | Z4: 外来介助者
A5: 石原 恵海 | G5: 日 | I5: 石谷 美代子 | N5: 欠 | Q5: 第１診察室 | Z5: 柳田・石原
A6: 鳴海 彩香 | G6: 日 | I6: 松林 久美子 | N6: 日 | Q6: 第２診察室
B8: 新 | C8: 再 | D8: 精 | E8: 内 | F8: 処 | G8: 患者様氏名 | L8: 新 | M8: 再 | N8: 精 | O8: 内 | P8: 処 | Q8: 患者様氏名 | V8: 新 | W8: 再 | X8: 精 | Y8: 内 | Z8: 処 | AA8: 患者様氏名
A9: 1 | C9: ・ | D9: ・ | J9: 様 | K9: 2 | M9: ・ | N9: ・ | T9: 様 | U9: 3 | W9: ・ | X9: ・ | AD9: 様
A10: 4 | C10: ・ | D10: ・ | J10: 様 | K10: 5 | M10: ・ | N10: ・ | T10: 様 | U10: 6 | W10: ・ | X10: ・ | AD10: 様
A11: 7 | C11: ・ | D11: ・ | J11: 様 | K11: 8 | M11: ・ | N11: ・ | T11: 様 | U11: 9 | W11: ・ | X11: ・ | AD11: 様
A12: 10 | C12: ・ | D12: ・ | J12: 様 | K12: 11 | M12: ・ | N12: ・ | T12: 様 | U12: 12 | W12: ・ | X12: ・ | AD12: 様
A13: 13 | C13: ・ | D13: ・ | J13: 様 | K13: 14 | M13: ・ | N13: ・ | T13: 様 | U13: 15 | W13: ・ | X13: ・ | AD13: 様
A14: 16 | C14: ・ | D14: ・ | J14: 様 | K14: 17 | M14: ・ | N14: ・ | T14: 様 | U14: 18 | W14: ・ | X14: ・ | AD14: 様
A15: 19 | C15: ・ | D15: ・ | J15: 様 | K15: 20 | M15: ・ | N15: ・ | T15: 様 | U15: 21 | W15: ・ | X15: ・ | AD15: 様
A16: 22 | C16: ・ | D16: ・ | J16: 様 | K16: 23 | M16: ・ | N16: ・ | T16: 様 | U16: 24 | W16: ・ | X16: ・ | AD16: 様
A17: 25 | C17: ・ | D17: ・ | J17: 様 | K17: 26 | M17: ・ | N17: ・ | T17: 様 | U17: 27 | W17: ・ | X17: ・ | AD17: 様
A18: 28 | C18: ・ | D18: ・ | J18: 様 | K18: 29 | M18: ・ | N18: ・ | T18: 様 | U18: 30 | W18: ・ | X18: ・ | AD18: 様
A19: 31 | C19: ・ | D19: ・ | J19: 様 | K19: 32 | M19: ・ | N19: ・ | T19: 様 | U19: 33 | W19: ・ | X19: ・ | AD19: 様
A20: 34 | C20: ・ | D20: ・ | J20: 様 | K20: 35 | M20: ・ | N20: ・ | T20: 様 | U20: 36 | W20: ・ | X20: ・ | AD20: 様
... A29: 61 | C29: ・ | D29: ・ | J29: 様 | K29: 62 | M29: ・ | N29: ・ | T29: 様 | U29: 63 | W29: ・ | X29: ・ | AD29: 様
A30: 64 | J30: 様 | K30: 65 | T30: 様 | U30: 66 | AD30: 様
A31: 67 | J31: 様 | K31: 68 | T31: 様 | U31: 69 | AD31: 様
A32: 70 | J32: 様 | K32: 71 | T32: 様 | U32: 72 | AD32: 様
A33: 73 | J33: 様 | K33: 74 | T33: 様 | U33: 75 | AD33: 様
A34: 外来患者数 | E34: 新： | F34: =COUNTIF(B9:B33,"・")+COUNTIF(L9:L33,"・")+COUNTIF(V9:V33,"・") -> 0 | H34: 名 | I34: 再： | J34: =COUNTIF(C9:C33,"・")+COUNTIF(M9:M33,"・")+COUNTIF(W9:W33,"・") -> 63 | L34: 名 | M34: 計： | N34: =SUM(F34:K34) -> 63 | Q34: 名 | R34: （ | S34: 精： | T34: =COUNTIF(D9:D33,"・")+COUNTIF(N9:N33,"・")+COUNTIF(X9:X33,"・") -> 63 | W34: 名 | X34: ・ | Y34: 内： | Z34: =COUNTIF(E9:E33,"・")+COUNTIF(O9:O33,"・")+COUNTIF(Y9:Y33,"・") -> 0 | AC34: 名 | AD34: ）
A36: 紹介患者様氏名 | F36: 紹介先 | K36: 逆紹介患者様氏名 | P36: 紹介元 | U36: 処置実施者 | AA36: 処置内容
E37: 様 | O37: 様 | Z37: 様
E38: 様 | O38: 様 | Z38: 様
E39: 様 | O39: 様 | Z39: 様
E40: 様 | O40: 様 | Z40: 様
E41: 様 | O41: 様 | Z41: 様
A42: 本日の検査 | F42: 検査内容 | K42: 処置実施者 | P42: 処置内容 | Z42: 様
E43: 様 | O43: 様 | Z43: 様
E44: 様 | O44: 様 | Z44: 様
E45: 様 | O45: 様 | Z45: 様
E46: 様 | O46: 様 | U46: 点検項目
E47: 様 | O47: 様 | U47: 項目 | Z47: 時間 | AC47: 点検者
A48: 発熱 | F48: 下痢 | K48: 風邪薬 | P48: 男性： | U48: 医療廃棄物 | Y48: 0.75
A49: 0 | F49: 0 | K49: 0 | P49: 女性： | U49: 戸締り | Y49: 0.75 | AB49: ='6'!AB41:AD41 -> 石谷 美代子
A51: 備考欄 | C51: （連絡事項・処方変更・その他）

Sheet 24
B1: クリニック 日 誌 | H1: 令和 | J1: ='6'!J1 -> 3 | K1: 年 | L1: 4 | M1: 月 | N1: 24 | O1: 日 | Q1: （ | S1: ） | V1: COO | Y1: IOO | AB1: AOM
A3: 勤務者名
A4: ='6'!A4:F4 -> 中村 恵理子 | G4: 日 | I4: 柳田 美雪 | N4: 日 | Q4: 診察室 | W4: 外来担当医 | Z4: 外来介助者
A5: 石原 恵海 | G5: 日 | I5: 石谷 美代子 | Q5: 第１診察室 | Z5: 柳田・石原
Q6: 第２診察室
B8: 新 | C8: 再 | D8: 精 | E8: 内 | F8: 処 | G8: 患者様氏名 | L8: 新 | M8: 再 | N8: 精 | O8: 内 | P8: 処 | Q8: 患者様氏名 | V8: 新 | W8: 再 | X8: 精 | Y8: 内 | Z8: 処 | AA8: 患者様氏名
A9: 1 | J9: 様 | K9: 2 | T9: 様 | U9: 3 | AD9: 様
A10: 4 | J10: 様 | K10: 5 | T10: 様 | U10: 6 | AD10: 様
A11: 7 | J11: 様 | K11: 8 | T11: 様 | U11: 9 | AD11: 様
A12: 10 | J12: 様 | K12: 11 | T12: 様 | U12: 12 | AD12: 様
A13: 13 | J13: 様 | K13: 14 | T13: 様 | U13: 15 | AD13: 様
A14: 16 | J14: 様 | K14: 17 | T14: 様 | U14: 18 | AD14: 様
A15: 19 | J15: 様 | K15: 20 | T15: 様 | U15: 21 | AD15: 様
A16: 22 | J16: 様 | K16: 23 | T16: 様 | U16: 24 | AD16: 様
A17: 25 | J17: 様 | K17: 26 | T17: 様 | U17: 27 | AD17: 様
A18: 28 | J18: 様 | K18: 29 | T18: 様 | U18: 30 | AD18: 様
A19: 31 | J19: 様 | K19: 32 | T19: 様 | U19: 33 | AD19: 様
A20: 34 | J20: 様 | K20: 35 | T20: 様 | U20: 36 | AD20: 様
... A33: 73 | J33: 様 | K33: 74 | T33: 様 | U33: 75 | AD33: 様
A34: 外来患者数 | E34: 新： | F34: =COUNTIF(B9:B33,"・")+COUNTIF(L9:L33,"・")+COUNTIF(V9:V33,"・") -> 0 | H34: 名 | I34: 再： | J34: =COUNTIF(C9:C33,"・")+COUNTIF(M9:M33,"・")+COUNTIF(W9:W33,"・") -> 0 | L34: 名 | M34: 計： | N34: =SUM(F34:K34) -> 0 | Q34: 名 | R34: （ | S34: 精： | T34: =COUNTIF(D9:D33,"・")+COUNTIF(N9:N33,"・")+COUNTIF(X9:X33,"・") -> 0 | W34: 名 | X34: ・ | Y34: 内： | Z34: =COUNTIF(E9:E33,"・")+COUNTIF(O9:O33,"・")+COUNTIF(Y9:Y33,"・") -> 0 | AC34: 名 | AD34: ）
A36: 紹介患者様氏名 | F36: 紹介先 | K36: 逆紹介患者様氏名 | P36: 紹介元 | U36: 処置実施者 | AA36: 処置内容
E37: 様 | O37: 様 | Z37: 様
E38: 様 | O38: 様 | Z38: 様
E39: 様 | O39: 様 | Z39: 様
E40: 様 | O40: 様 | Z40: 様
E41: 様 | O41: 様 | Z41: 様
A42: 本日の検査 | F42: 検査内容 | K42: 処置実施者 | P42: 処置内容 | Z42: 様
E43: 様 | O43: 様 | Z43: 様
E44: 様 | O44: 様 | Z44: 様
E45: 様 | O45: 様 | Z45: 様
E46: 様 | O46: 様 | U46: 点検項目
E47: 様 | O47: 様 | U47: 項目 | Z47: 時間 | AC47: 点検者
A48: 発熱 | F48: 下痢 | K48: 風邪薬 | P48: 男性： | U48: 医療廃棄物 | Y48: 0.75
A49: 0 | F49: 0 | K49: 0 | P49: 女性： | U49: 戸締り | Y49: 0.75 | AB49: ='6'!AB41:AD41 -> 石谷 美代子
A51: 備考欄 | C51: （連絡事項・処方変更・その他）

Sheet 25
B1: クリニック 日 誌 | H1: 令和 | J1: ='6'!J1 -> 3 | K1: 年 | L1: 4 | M1: 月 | N1: 25 | O1: 日 | Q1: （ | S1: ） | V1: COO | Y1: IOO | AB1: AOM
A3: 勤務者名
A4: ='6'!A4:F4 -> 中村 恵理子 | G4: 日 | I4: 柳田 美雪 | N4: 日 | Q4: 診察室 | W4: 外来担当医 | Z4: 外来介助者
A5: 石原 恵海 | G5: 日 | I5: 石谷 美代子 | Q5: 第１診察室 | Z5: 柳田・石原
Q6: 第２診察室
B8: 新 | C8: 再 | D8: 精 | E8: 内 | F8: 処 | G8: 患者様氏名 | L8: 新 | M8: 再 | N8: 精 | O8: 内 | P8: 処 | Q8: 患者様氏名 | V8: 新 | W8: 再 | X8: 精 | Y8: 内 | Z8: 処 | AA8: 患者様氏名
A9: 1 | J9: 様 | K9: 2 | T9: 様 | U9: 3 | AD9: 様
A10: 4 | J10: 様 | K10: 5 | T10: 様 | U10: 6 | AD10: 様
A11: 7 | J11: 様 | K11: 8 | T11: 様 | U11: 9 | AD11: 様
A12: 10 | J12: 様 | K12: 11 | T12: 様 | U12: 12 | AD12: 様
A13: 13 | J13: 様 | K13: 14 | T13: 様 | U13: 15 | AD13: 様
A14: 16 | J14: 様 | K14: 17 | T14: 様 | U14: 18 | AD14: 様
A15: 19 | J15: 様 | K15: 20 | T15: 様 | U15: 21 | AD15: 様
A16: 22 | J16: 様 | K16: 23 | T16: 様 | U16: 24 | AD16: 様
A17: 25 | J17: 様 | K17: 26 | T17: 様 | U17: 27 | AD17: 様
A18: 28 | J18: 様 | K18: 29 | T18: 様 | U18: 30 | AD18: 様
A19: 31 | J19: 様 | K19: 32 | T19: 様 | U19: 33 | AD19: 様
A20: 34 | J20: 様 | K20: 35 | T20: 様 | U20: 36 | AD20: 様
... A33: 73 | J33: 様 | K33: 74 | T33: 様 | U33: 75 | AD33: 様
A34: 外来患者数 | E34: 新： | F34: =COUNTIF(B9:B33,"・")+COUNTIF(L9:L33,"・")+COUNTIF(V9:V33,"・") -> 0 | H34: 名 | I34: 再： | J34: =COUNTIF(C9:C33,"・")+COUNTIF(M9:M33,"・")+COUNTIF(W9:W33,"・") -> 0 | L34: 名 | M34: 計： | N34: =SUM(F34:K34) -> 0 | Q34: 名 | R34: （ | S34: 精： | T34: =COUNTIF(D9:D33,"・")+COUNTIF(N9:N33,"・")+COUNTIF(X9:X33,"・") -> 0 | W34: 名 | X34: ・ | Y34: 内： | Z34: =COUNTIF(E9:E33,"・")+COUNTIF(O9:O33,"・")+COUNTIF(Y9:Y33,"・") -> 0 | AC34: 名 | AD34: ）
A36: 紹介患者様氏名 | F36: 紹介先 | K36: 逆紹介患者様氏名 | P36: 紹介元 | U36: 処置実施者 | AA36: 処置内容
E37: 様 | O37: 様 | Z37: 様
E38: 様 | O38: 様 | Z38: 様
E39: 様 | O39: 様 | Z39: 様
E40: 様 | O40: 様 | Z40: 様
E41: 様 | O41: 様 | Z41: 様
A42: 本日の検査 | F42: 検査内容 | K42: 処置実施者 | P42: 処置内容 | Z42: 様
E43: 様 | O43: 様 | Z43: 様
E44: 様 | O44: 様 | Z44: 様
E45: 様 | O45: 様 | Z45: 様
E46: 様 | O46: 様 | U46: 点検項目
E47: 様 | O47: 様 | U47: 項目 | Z47: 時間 | AC47: 点検者
A48: 発熱 | F48: 下痢 | K48: 風邪薬 | P48: 男性： | U48: 医療廃棄物 | Y48: 0.75 | AB48: 柳田美雪
A49: 0 | F49: 0 | K49: 0 | P49: 女性： | U49: 戸締り | Y49: 0.75 | AB49: ='6'!AB41:AD41 -> 石谷 美代子
A51: 備考欄 | C51: （連絡事項・処方変更・その他）

Sheet 26
B1: クリニック 日 誌 | H1: 令和 | J1: ='6'!J1 -> 3 | K1: 年 | L1: 4 | M1: 月 | N1: 26 | O1: 日 | Q1: （ | S1: ） | V1: COO | Y1: IOO | AB1: AOM
A3: 勤務者名
A4: ='6'!A4:F4 -> 中村 恵理子 | G4: 日 | I4: 柳田 美雪 | N4: 日 | Q4: 診察室 | W4: 外来担当医 | Z4: 外来介助者
A5: 石原 恵海 | G5: 日 | I5: 石谷 美代子 | Q5: 第１診察室 | Z5: 柳田・恵谷
Q6: 第２診察室
B8: 新 | C8: 再 | D8: 精 | E8: 内 | F8: 処 | G8: 患者様氏名 | L8: 新 | M8: 再 | N8: 精 | O8: 内 | P8: 処 | Q8: 患者様氏名 | V8: 新 | W8: 再 | X8: 精 | Y8: 内 | Z8: 処 | AA8: 患者様氏名
A9: 1 | J9: 様 | K9: 2 | T9: 様 | U9: 3 | AD9: 様
A10: 4 | J10: 様 | K10: 5 | T10: 様 | U10: 6 | AD10: 様
A11: 7 | J11: 様 | K11: 8 | T11: 様 | U11: 9 | AD11: 様
A12: 10 | J12: 様 | K12: 11 | T12: 様 | U12: 12 | AD12: 様
A13: 13 | J13: 様 | K13: 14 | T13: 様 | U13: 15 | AD13: 様
A14: 16 | J14: 様 | K14: 17 | T14: 様 | U14: 18 | AD14: 様
A15: 19 | J15: 様 | K15: 20 | T15: 様 | U15: 21 | AD15: 様
A16: 22 | J16: 様 | K16: 23 | T16: 様 | U16: 24 | AD16: 様
A17: 25 | J17: 様 | K17: 26 | T17: 様 | U17: 27 | AD17: 様
A18: 28 | J18: 様 | K18: 29 | T18: 様 | U18: 30 | AD18: 様
A19: 31 | J19: 様 | K19: 32 | T19: 様 | U19: 33 | AD19: 様
A20: 34 | J20: 様 | K20: 35 | T20: 様 | U20: 36 | AD20: 様
... A33: 73 | J33: 様 | K33: 74 | T33: 様 | U33: 75 | AD33: 様
A34: 外来患者数 | E34: 新： | F34: =COUNTIF(B9:B33,"・")+COUNTIF(L9:L33,"・")+COUNTIF(V9:V33,"・") -> 0 | H34: 名 | I34: 再： | J34: =COUNTIF(C9:C33,"・")+COUNTIF(M9:M33,"・")+COUNTIF(W9:W33,"・") -> 0 | L34: 名 | M34: 計： | N34: =SUM(F34:K34) -> 0 | Q34: 名 | R34: （ | S34: 精： | T34: =COUNTIF(D9:D33,"・")+COUNTIF(N9:N33,"・")+COUNTIF(X9:X33,"・") -> 0 | W34: 名 | X34: ・ | Y34: 内： | Z34: =COUNTIF(E9:E33,"・")+COUNTIF(O9:O33,"・")+COUNTIF(Y9:Y33,"・") -> 0 | AC34: 名 | AD34: ）
A36: 紹介患者様氏名 | F36: 紹介先 | K36: 逆紹介患者様氏名 | P36: 紹介元 | U36: 処置実施者 | AA36: 処置内容
E37: 様 | O37: 様 | Z37: 様
E38: 様 | O38: 様 | Z38: 様
E39: 様 | O39: 様 | Z39: 様
E40: 様 | O40: 様 | Z40: 様
E41: 様 | O41: 様 | Z41: 様
A42: 本日の検査 | F42: 検査内容 | K42: 処置実施者 | P42: 処置内容 | Z42: 様
E43: 様 | O43: 様 | Z43: 様
E44: 様 | O44: 様 | Z44: 様
E45: 様 | O45: 様 | Z45: 様
E46: 様 | O46: 様 | U46: 点検項目
E47: 様 | O47: 様 | U47: 項目 | Z47: 時間 | AC47: 点検者
A48: 発熱 | F48: 下痢 | K48: 風邪薬 | P48: 男性： | U48: 医療廃棄物 | Y48: 0.75 | AB48: 柳田美雪
A49: 0 | F49: 0 | K49: 0 | P49: 女性： | U49: 戸締り | Y49: 0.75 | AB49: ='6'!AB41:AD41 -> 石谷 美代子
A51: 備考欄 | C51: （連絡事項・処方変更・その他）

Sheet 27
B1: クリニック 日 誌 | H1: 令和 | J1: ='6'!J1 -> 3 | K1: 年 | L1: 4 | M1: 月 | N1: 27 | O1: 日 | Q1: （ | S1: ） | V1: COO | Y1: IOO | AB1: AOM
A3: 勤務者名
A4: ='6'!A4:F4 -> 中村 恵理子 | G4: 日 | I4: 柳田 美雪 | N4: 日 | Q4: 診察室 | W4: 外来担当医 | Z4: 外来介助者
A5: 石原 恵海 | G5: 日 | I5: 石谷 美代子 | Q5: 第１診察室
Q6: 第２診察室
B8: 新 | C8: 再 | D8: 精 | E8: 内 | F8: 処 | G8: 患者様氏名 | L8: 新 | M8: 再 | N8: 精 | O8: 内 | P8: 処 | Q8: 患者様氏名 | V8: 新 | W8: 再 | X8: 精 | Y8: 内 | Z8: 処 | AA8: 患者様氏名
A9: 1 | J9: 様 | K9: 2 | T9: 様 | U9: 3 | AD9: 様
A10: 4 | J10: 様 | K10: 5 | T10: 様 | U10: 6 | AD10: 様
A11: 7 | J11: 様 | K11: 8 | T11: 様 | U11: 9 | AD11: 様
A12: 10 | J12: 様 | K12: 11 | T12: 様 | U12: 12 | AD12: 様
A13: 13 | J13: 様 | K13: 14 | T13: 様 | U13: 15 | AD13: 様
A14: 16 | J14: 様 | K14: 17 | T14: 様 | U14: 18 | AD14: 様
A15: 19 | J15: 様 | K15: 20 | T15: 様 | U15: 21 | AD15: 様
A16: 22 | J16: 様 | K16: 23 | T16: 様 | U16: 24 | AD16: 様
A17: 25 | J17: 様 | K17: 26 | T17: 様 | U17: 27 | AD17: 様
A18: 28 | J18: 様 | K18: 29 | T18: 様 | U18: 30 | AD18: 様
A19: 31 | J19: 様 | K19: 32 | T19: 様 | U19: 33 | AD19: 様
A20: 34 | J20: 様 | K20: 35 | T20: 様 | U20: 36 | AD20: 様
... A33: 73 | J33: 様 | K33: 74 | T33: 様 | U33: 75 | AD33: 様
A34: 外来患者数 | E34: 新： | F34: =COUNTIF(B9:B33,"・")+COUNTIF(L9:L33,"・")+COUNTIF(V9:V33,"・") -> 0 | H34: 名 | I34: 再： | J34: =COUNTIF(C9:C33,"・")+COUNTIF(M9:M33,"・")+COUNTIF(W9:W33,"・") -> 0 | L34: 名 | M34: 計： | N34: =SUM(F34:K34) -> 0 | Q34: 名 | R34: （ | S34: 精： | T34: =COUNTIF(D9:D33,"・")+COUNTIF(N9:N33,"・")+COUNTIF(X9:X33,"・") -> 0 | W34: 名 | X34: ・ | Y34: 内： | Z34: =COUNTIF(E9:E33,"・")+COUNTIF(O9:O33,"・")+COUNTIF(Y9:Y33,"・") -> 0 | AC34: 名 | AD34: ）
A36: 紹介患者様氏名 | F36: 紹介先 | K36: 逆紹介患者様氏名 | P36: 紹介元 | U36: 処置実施者 | AA36: 処置内容
E37: 様 | O37: 様 | Z37: 様
E38: 様 | O38: 様 | Z38: 様
E39: 様 | O39: 様 | Z39: 様
E40: 様 | O40: 様 | Z40: 様
E41: 様 | O41: 様 | Z41: 様
A42: 本日の検査 | F42: 検査内容 | K42: 処置実施者 | P42: 処置内容 | Z42: 様
E43: 様 | O43: 様 | Z43: 様
E44: 様 | O44: 様 | Z44: 様
E45: 様 | O45: 様 | Z45: 様
E46: 様 | O46: 様 | U46: 点検項目
E47: 様 | O47: 様 | U47: 項目 | Z47: 時間 | AC47: 点検者
A48: 発熱 | F48: 下痢 | K48: 風邪薬 | P48: 男性： | U48: 医療廃棄物 | Y48: 0.75 | AB48: 柳田美雪
A49: 0 | F49: 0 | K49: 0 | P49: 女性： | U49: 戸締り | Y49: 0.75 | AB49: ='6'!AB41:AD41 -> 石谷 美代子
A51: 備考欄 | C51: （連絡事項・処方変更・その他）

Sheet 28
B1: クリニック 日 誌 | H1: 令和 | J1: ='6'!J1 -> 3 | K1: 年 | L1: 4 | M1: 月 | N1: 28 | O1: 日 | Q1: （ | S1: ） | V1: COO | Y1: IOO | AB1: AOM
A3: 勤務者名
A4: ='6'!A4:F4 -> 中村 恵理子 | G4: 日 | I4: 柳田 美雪 | N4: 日 | Q4: 診察室 | W4: 外来担当医 | Z4: 外来介助者
A5: 石原 恵海 | G5: 日 | I5: 石谷 美代子 | Q5: 第１診察室
Q6: 第２診察室
B8: 新 | C8: 再 | D8: 精 | E8: 内 | F8: 処 | G8: 患者様氏名 | L8: 新 | M8: 再 | N8: 精 | O8: 内 | P8: 処 | Q8: 患者様氏名 | V8: 新 | W8: 再 | X8: 精 | Y8: 内 | Z8: 処 | AA8: 患者様氏名
A9: 1 | J9: 様 | K9: 2 | T9: 様 | U9: 3 | AD9: 様
A10: 4 | J10: 様 | K10: 5 | T10: 様 | U10: 6 | AD10: 様
A11: 7 | J11: 様 | K11: 8 | T11: 様 | U11: 9 | AD11: 様
A12: 10 | J12: 様 | K12: 11 | T12: 様 | U12: 12 | AD12: 様
A13: 13 | J13: 様 | K13: 14 | T13: 様 | U13: 15 | AD13: 様
A14: 16 | J14: 様 | K14: 17 | T14: 様 | U14: 18 | AD14: 様
A15: 19 | J15: 様 | K15: 20 | T15: 様 | U15: 21 | AD15: 様
A16: 22 | J16: 様 | K16: 23 | T16: 様 | U16: 24 | AD16: 様
A17: 25 | J17: 様 | K17: 26 | T17: 様 | U17: 27 | AD17: 様
A18: 28 | J18: 様 | K18: 29 | T18: 様 | U18: 30 | AD18: 様
A19: 31 | J19: 様 | K19: 32 | T19: 様 | U19: 33 | AD19: 様
A20: 34 | J20: 様 | K20: 35 | T20: 様 | U20: 36 | AD20: 様
... A33: 73 | J33: 様 | K33: 74 | T33: 様 | U33: 75 | AD33: 様
A34: 外来患者数 | E34: 新： | F34: =COUNTIF(B9:B33,"・")+COUNTIF(L9:L33,"・")+COUNTIF(V9:V33,"・") -> 0 | H34: 名 | I34: 再： | J34: =COUNTIF(C9:C33,"・")+COUNTIF(M9:M33,"・")+COUNTIF(W9:W33,"・") -> 0 | L34: 名 | M34: 計： | N34: =SUM(F34:K34) -> 0 | Q34: 名 | R34: （ | S34: 精： | T34: =COUNTIF(D9:D33,"・")+COUNTIF(N9:N33,"・")+COUNTIF(X9:X33,"・") -> 0 | W34: 名 | X34: ・ | Y34: 内： | Z34: =COUNTIF(E9:E33,"・")+COUNTIF(O9:O33,"・")+COUNTIF(Y9:Y33,"・") -> 0 | AC34: 名 | AD34: ）
A36: 紹介患者様氏名 | F36: 紹介先 | K36: 逆紹介患者様氏名 | P36: 紹介元 | U36: 処置実施者 | AA36: 処置内容
E37: 様 | O37: 様 | Z37: 様
E38: 様 | O38: 様 | Z38: 様
E39: 様 | O39: 様 | Z39: 様
E40: 様 | O40: 様 | Z40: 様
E41: 様 | O41: 様 | Z41: 様
A42: 本日の検査 | F42: 検査内容 | K42: 処置実施者 | P42: 処置内容 | Z42: 様
E43: 様 | O43: 様 | Z43: 様
E44: 様 | O44: 様 | Z44: 様
E45: 様 | O45: 様 | Z45: 様
E46: 様 | O46: 様 | U46: 点検項目
E47: 様 | O47: 様 | U47: 項目 | Z47: 時間 | AC47: 点検者
A48: 発熱 | F48: 下痢 | K48: 風邪薬 | P48: 男性： | U48: 医療廃棄物 | Y48: 0.75 | AB48: 柳田美雪
A49: 0 | F49: 0 | K49: 0 | P49: 女性： | U49: 戸締り | Y49: 0.75 | AB49: ='6'!AB41:AD41 -> 石谷 美代子
A51: 備考欄 | C51: （連絡事項・処方変更・その他）

Sheet 29
B1: クリニック 日 誌 | H1: 令和 | J1: ='6'!J1 -> 3 | K1: 年 | L1: 4 | M1: 月 | N1: 29 | O1: 日 | Q1: （ | S1: ） | V1: COO | Y1: IOO | AB1: AOM
A3: 勤務者名
A4: ='6'!A4:F4 -> 中村 恵理子 | G4: 日 | I4: 柳田 美雪 | N4: 日 | Q4: 診察室 | W4: 外来担当医 | Z4: 外来介助者
A5: 石原 恵海 | G5: 日 | I5: 石谷 美代子 | Q5: 第１診察室 | Z5: 柳田・石原
Q6: 第２診察室
B8: 新 | C8: 再 | D8: 精 | E8: 内 | F8: 処 | G8: 患者様氏名 | L8: 新 | M8: 再 | N8: 精 | O8: 内 | P8: 処 | Q8: 患者様氏名 | V8: 新 | W8: 再 | X8: 精 | Y8: 内 | Z8: 処 | AA8: 患者様氏名
A9: 1 | J9: 様 | K9: 2 | T9: 様 | U9: 3 | AD9: 様
A10: 4 | J10: 様 | K10: 5 | T10: 様 | U10: 6 | AD10: 様
A11: 7 | J11: 様 | K11: 8 | T11: 様 | U11: 9 | AD11: 様
A12: 10 | J12: 様 | K12: 11 | T12: 様 | U12: 12 | AD12: 様
A13: 13 | J13: 様 | K13: 14 | T13: 様 | U13: 15 | AD13: 様
A14: 16 | J14: 様 | K14: 17 | T14: 様 | U14: 18 | AD14: 様
A15: 19 | J15: 様 | K15: 20 | T15: 様 | U15: 21 | AD15: 様
A16: 22 | J16: 様 | K16: 23 | T16: 様 | U16: 24 | AD16: 様
A17: 25 | J17: 様 | K17: 26 | T17: 様 | U17: 27 | AD17: 様
A18: 28 | J18: 様 | K18: 29 | T18: 様 | U18: 30 | AD18: 様
A19: 31 | J19: 様 | K19: 32 | T19: 様 | U19: 33 | AD19: 様
A20: 34 | J20: 様 | K20: 35 | T20: 様 | U20: 36 | AD20: 様
... A33: 73 | J33: 様 | K33: 74 | T33: 様 | U33: 75 | AD33: 様
A34: 外来患者数 | E34: 新： | F34: =COUNTIF(B9:B33,"・")+COUNTIF(L9:L33,"・")+COUNTIF(V9:V33,"・") -> 0 | H34: 名 | I34: 再： | J34: =COUNTIF(C9:C33,"・")+COUNTIF(M9:M33,"・")+COUNTIF(W9:W33,"・") -> 0 | L34: 名 | M34: 計： | N34: =SUM(F34:K34) -> 0 | Q34: 名 | R34: （ | S34: 精： | T34: =COUNTIF(D9:D33,"・")+COUNTIF(N9:N33,"・")+COUNTIF(X9:X33,"・") -> 0 | W34: 名 | X34: ・ | Y34: 内： | Z34: =COUNTIF(E9:E33,"・")+COUNTIF(O9:O33,"・")+COUNTIF(Y9:Y33,"・") -> 0 | AC34: 名 | AD34: ）
A36: 紹介患者様氏名 | F36: 紹介先 | K36: 逆紹介患者様氏名 | P36: 紹介元 | U36: 処置実施者 | AA36: 処置内容
E37: 様 | O37: 様 | Z37: 様
E38: 様 | O38: 様 | Z38: 様
E39: 様 | O39: 様 | Z39: 様
E40: 様 | O40: 様 | Z40: 様
E41: 様 | O41: 様 | Z41: 様
A42: 本日の検査 | F42: 検査内容 | K42: 処置実施者 | P42: 処置内容 | Z42: 様
E43: 様 | O43: 様 | Z43: 様
E44: 様 | O44: 様 | Z44: 様
E45: 様 | O45: 様 | Z45: 様
E46: 様 | O46: 様 | U46: 点検項目
E47: 様 | O47: 様 | U47: 項目 | Z47: 時間 | AC47: 点検者
A48: 発熱 | F48: 下痢 | K48: 風邪薬 | P48: 男性： | U48: 医療廃棄物 | Y48: 0.75 | AB48: 柳田美雪
A49: 0 | F49: 0 | K49: 0 | P49: 女性： | U49: 戸締り | Y49: 0.75 | AB49: ='6'!AB41:AD41 -> 石谷 美代子
A51: 備考欄 | C51: （連絡事項・処方変更・その他）

Sheet 30
B1: クリニック 日 誌 | H1: 令和 | J1: ='6'!J1 -> 3 | K1: 年 | L1: 4 | M1: 月 | N1: 30 | O1: 日 | Q1: （ | S1: ） | V1: COO | Y1: IOO | AB1: AOM
A3: 勤務者名
A4: ='6'!A4:F4 -> 中村 恵理子 | G4: 日 | I4: 柳田 美雪 | N4: 日 | Q4: 診察室 | W4: 外来担当医 | Z4: 外来介助者
A5: 石原 恵海 | G5: 日 | I5: 石谷 美代子 | Q5: 第１診察室
Q6: 第２診察室
B8: 新 | C8: 再 | D8: 精 | E8: 内 | F8: 処 | G8: 患者様氏名 | L8: 新 | M8: 再 | N8: 精 | O8: 内 | P8: 処 | Q8: 患者様氏名 | V8: 新 | W8: 再 | X8: 精 | Y8: 内 | Z8: 処 | AA8: 患者様氏名
A9: 1 | J9: 様 | K9: 2 | T9: 様 | U9: 3 | AD9: 様
A10: 4 | J10: 様 | K10: 5 | T10: 様 | U10: 6 | AD10: 様
A11: 7 | J11: 様 | K11: 8 | T11: 様 | U11: 9 | AD11: 様
A12: 10 | J12: 様 | K12: 11 | T12: 様 | U12: 12 | AD12: 様
A13: 13 | J13: 様 | K13: 14 | T13: 様 | U13: 15 | AD13: 様
A14: 16 | J14: 様 | K14: 17 | T14: 様 | U14: 18 | AD14: 様
A15: 19 | J15: 様 | K15: 20 | T15: 様 | U15: 21 | AD15: 様
A16: 22 | J16: 様 | K16: 23 | T16: 様 | U16: 24 | AD16: 様
A17: 25 | J17: 様 | K17: 26 | T17: 様 | U17: 27 | AD17: 様
A18: 28 | J18: 様 | K18: 29 | T18: 様 | U18: 30 | AD18: 様
A19: 31 | J19: 様 | K19: 32 | T19: 様 | U19: 33 | AD19: 様
A20: 34 | J20: 様 | K20: 35 | T20: 様 | U20: 36 | AD20: 様
... A33: 73 | J33: 様 | K33: 74 | T33: 様 | U33: 75 | AD33: 様
A34: 外来患者数 | E34: 新： | F34: =COUNTIF(B9:B33,"・")+COUNTIF(L9:L33,"・")+COUNTIF(V9:V33,"・") -> 0 | H34: 名 | I34: 再： | J34: =COUNTIF(C9:C33,"・")+COUNTIF(M9:M33,"・")+COUNTIF(W9:W33,"・") -> 0 | L34: 名 | M34: 計： | N34: =SUM(F34:K34) -> 0 | Q34: 名 | R34: （ | S34: 精： | T34: =COUNTIF(D9:D33,"・")+COUNTIF(N9:N33,"・")+COUNTIF(X9:X33,"・") -> 0 | W34: 名 | X34: ・ | Y34: 内： | Z34: =COUNTIF(E9:E33,"・")+COUNTIF(O9:O33,"・")+COUNTIF(Y9:Y33,"・") -> 0 | AC34: 名 | AD34: ）
A36: 紹介患者様氏名 | F36: 紹介先 | K36: 逆紹介患者様氏名 | P36: 紹介元 | U36: 処置実施者 | AA36: 処置内容
E37: 様 | O37: 様 | Z37: 様
E38: 様 | O38: 様 | Z38: 様
E39: 様 | O39: 様 | Z39: 様
E40: 様 | O40: 様 | Z40: 様
E41: 様 | O41: 様 | Z41: 様
A42: 本日の検査 | F42: 検査内容 | K42: 処置実施者 | P42: 処置内容 | Z42: 様
E43: 様 | O43: 様 | Z43: 様
E44: 様 | O44: 様 | Z44: 様
E45: 様 | O45: 様 | Z45: 様
E46: 様 | O46: 様 | U46: 点検項目
E47: 様 | O47: 様 | U47: 項目 | Z47: 時間 | AC47: 点検者
A48: 発熱 | F48: 下痢 | K48: 風邪薬 | P48: 男性： | U48: 医療廃棄物 | Y48: 0.75 | AB48: 柳田美雪
A49: 0 | F49: 0 | K49: 0 | P49: 女性： | U49: 戸締り | Y49: 0.75 | AB49: ='6'!AB41:AD41 -> 石谷 美代子
A51: 備考欄 | C51: （連絡事項・処方変更・その他）

Sheet 31
B1: クリニック 日 誌 | H1: 令和 | J1: ='6'!J1 -> 3 | K1: 年 | L1: 4 | M1: 月 | N1: 31 | O1: 日 | Q1: （ | S1: ） | V1: COO | Y1: IOO | AB1: AOM
A3: 勤務者名
A4: ='6'!A4:F4 -> 中村 恵理子 | G4: 日 | I4: 柳田 美雪 | N4: 日 | Q4: 診察室 | W4: 外来担当医 | Z4: 外来介助者
A5: 石原 恵海 | G5: 日 | I5: 石谷 美代子 | Q5: 第１診察室
Q6: 第２診察室
B8: 新 | C8: 再 | D8: 精 | E8: 内 | F8: 処 | G8: 患者様氏名 | L8: 新 | M8: 再 | N8: 精 | O8: 内 | P8: 処 | Q8: 患者様氏名 | V8: 新 | W8: 再 | X8: 精 | Y8: 内 | Z8: 処 | AA8: 患者様氏名
A9: 1 | J9: 様 | K9: 2 | T9: 様 | U9: 3 | AD9: 様
A10: 4 | J10: 様 | K10: 5 | T10: 様 | U10: 6 | AD10: 様
A11: 7 | J11: 様 | K11: 8 | T11: 様 | U11: 9 | AD11: 様
A12: 10 | J12: 様 | K12: 11 | T12: 様 | U12: 12 | AD12: 様
A13: 13 | J13: 様 | K13: 14 | T13: 様 | U13: 15 | AD13: 様
A14: 16 | J14: 様 | K14: 17 | T14: 様 | U14: 18 | AD14: 様
A15: 19 | J15: 様 | K15: 20 | T15: 様 | U15: 21 | AD15: 様
A16: 22 | J16: 様 | K16: 23 | T16: 様 | U16: 24 | AD16: 様
A17: 25 | J17: 様 | K17: 26 | T17: 様 | U17: 27 | AD17: 様
A18: 28 | J18: 様 | K18: 29 | T18: 様 | U18: 30 | AD18: 様
A19: 31 | J19: 様 | K19: 32 | T19: 様 | U19: 33 | AD19: 様
A20: 34 | J20: 様 | K20: 35 | T20: 様 | U20: 36 | AD20: 様
... A33: 73 | J33: 様 | K33: 74 | T33: 様 | U33: 75 | AD33: 様
A34: 外来患者数 | E34: 新： | F34: =COUNTIF(B9:B33,"・")+COUNTIF(L9:L33,"・")+COUNTIF(V9:V33,"・") -> 0 | H34: 名 | I34: 再： | J34: =COUNTIF(C9:C33,"・")+COUNTIF(M9:M33,"・")+COUNTIF(W9:W33,"・") -> 0 | L34: 名 | M34: 計： | N34: =SUM(F34:K34) -> 0 | Q34: 名 | R34: （ | S34: 精： | T34: =COUNTIF(D9:D33,"・")+COUNTIF(N9:N33,"・")+COUNTIF(X9:X33,"・") -> 0 | W34: 名 | X34: ・ | Y34: 内： | Z34: =COUNTIF(E9:E33,"・")+COUNTIF(O9:O33,"・")+COUNTIF(Y9:Y33,"・") -> 0 | AC34: 名 | AD34: ）
A36: 紹介患者様氏名 | F36: 紹介先 | K36: 逆紹介患者様氏名 | P36: 紹介元 | U36: 処置実施者 | AA36: 処置内容
E37: 様 | O37: 様 | Z37: 様
E38: 様 | O38: 様 | Z38: 様
E39: 様 | O39: 様 | Z39: 様
E40: 様 | O40: 様 | Z40: 様
E41: 様 | O41: 様 | Z41: 様
A42: 本日の検査 | F42: 検査内容 | K42: 処置実施者 | P42: 処置内容 | Z42: 様
E43: 様 | O43: 様 | Z43: 様
E44: 様 | O44: 様 | Z44: 様
E45: 様 | O45: 様 | Z45: 様
E46: 様 | O46: 様 | U46: 点検項目
E47: 様 | O47: 様 | U47: 項目 | Z47: 時間 | AC47: 点検者
A48: 発熱 | F48: 下痢 | K48: 風邪薬 | P48: 男性： | U48: 医療廃棄物 | Y48: 0.75 | AB48: 柳田美雪
A49: 0 | F49: 0 | K49: 0 | P49: 女性： | U49: 戸締り | Y49: 0.75 | AB49: ='6'!AB41:AD41 -> 石谷 美代子
A51: 備考欄 | C51: （連絡事項・処方変更・その他）

Sheet Sheet1
L1: 4
I5: 石谷 美代子

Sheet 互換性レポート
B1: クリニック 日 誌 | H1: 令和 | J1: 元 | K1: 年 | L1: 4 | M1: 月 | N1: 2 | O1: 日 | Q1: （ | S1: ） | V1: COO | Y1: IOO | AB1: AOM
A3: 勤務者名
A4: 小笠原 恵理子 | G4: 日 | I4: 柳田 美雪 | N4: 日 | Q4: 診察室 | W4: 外来担当医 | Z4: 外来介助者
I5: 石谷 美代子 | N5: 日 | Q5: 第１診察室 | U5: 金 | Z5: 柳田・恵谷
Q6: 第２診察室 | U6: 千葉 良 | Z6: 柳田・恵谷
B8: 新 | C8: 再 | D8: 精 | E8: 内 | F8: 処 | G8: 患者様氏名 | L8: 新 | M8: 再 | N8: 精 | O8: 内 | P8: 処 | Q8: 患者様氏名 | V8: 新 | W8: 再 | X8: 精 | Y8: 内 | Z8: 処 | AA8: 患者様氏名
A9: 1 | C9: ・ | D9: ・ | F9: 28 | G9: 織笠 祐美 | J9: 様 | K9: 2 | M9: ・ | N9: ・ | P9: 28 | Q9: 蒔苗 美穂子 | T9: 様 | U9: 3 | W9: ・ | X9: ・ | Z9: 30 | AA9: 小笠原 とよ | AD9: 様
A10: 4 | C10: ・ | D10: ・ | F10: 30 | G10: 山口 陽子 | J10: 様 | K10: 5 | M10: ・ | N10: ・ | P10: 30 | Q10: 伊藤 和子 | T10: 様 | U10: 6 | W10: ・ | X10: ・ | Z10: 7 | AA10: 生平 祥恵 | AD10: 様
A11: 7 | C11: ・ | D11: ・ | F11: 30 | G11: 畑山 栄子 | J11: 様 | K11: 8 | M11: ・ | N11: ・ | P11: 30 | Q11: 小林 昭治 | T11: 様 | U11: 9 | W11: ・ | X11: ・ | Z11: 28 | AA11: 千葉 スワ | AD11: 様
A12: 10 | C12: ・ | D12: ・ | F12: 30 | G12: 野田 恵美 | J12: 様 | K12: 11 | M12: ・ | N12: ・ | P12: 30 | Q12: 高橋 千佳 | T12: 様 | U12: 12 | V12: ・ | X12: ・ | Z12: 30 | AA12: 安藤 クニ | AD12: 様
A13: 13 | C13: ・ | D13: ・ | F13: 28 | G13: 中村 ノリ子 | J13: 様 | K13: 14 | L13: ・ | N13: ・ | P13: 0 | Q13: 川村 俊行 | T13: 様 | U13: 15 | W13: ・ | X13: ・ | Z13: 21 | AA13: 小林 稔 | AD13: 様
A14: 16 | C14: ・ | D14: ・ | F14: 0 | G14: 工藤 隆斗 | J14: 様 | K14: 17 | M14: ・ | N14: ・ | P14: 30 | Q14: 中川原 いさ | T14: 様 | U14: 18 | V14: ・ | X14: ・ | Z14: 14 | AA14: 福士 チエ | AD14: 様
A15: 19 | C15: ・ | D15: ・ | F15: 30 | G15: 沼尾 タマエ | J15: 様 | K15: 20 | M15: ・ | N15: ・ | P15: 63 | Q15: 今田 則夫 | T15: 様 | U15: 21 | W15: ・ | X15: ・ | Z15: 28 | AA15: 市川 太祐 | AD15: 様
A16: 22 | C16: ・ | D16: ・ | F16: 30 | G16: 馬場 トセ子 | J16: 様 | K16: 23 | M16: ・ | N16: ・ | P16: 7 | Q16: 千葉 あいり | T16: 様 | U16: 24 | W16: ・ | X16: ・ | Z16: 30 | AA16: 西野 謙三 | AD16: 様
A17: 25 | C17: ・ | D17: ・ | F17: 28 | G17: 長根 謙二 | J17: 様 | K17: 26 | M17: ・ | N17: ・ | P17: 60 | Q17: 尾崎 良夫 | T17: 様 | U17: 27 | W17: ・ | X17: ・ | Z17: 30 | AA17: 佐々木 則子 | AD17: 様
A18: 28 | C18: ・ | D18: ・ | F18: 60 | G18: 小野 俊幸 | J18: 様 | K18: 29 | M18: ・ | N18: ・ | P18: 60 | Q18: 宮里 ミネ | T18: 様 | U18: 30 | W18: ・ | X18: ・ | Z18: 30 | AA18: 角 汰一 | AD18: 様
A19: 31 | C19: ・ | D19: ・ | F19: 0 | G19: 大久保 瑠七 | J19: 様 | K19: 32 | M19: ・ | N19: ・ | P19: 21 | Q19: 丸谷 美香 | T19: 様 | U19: 33 | W19: ・ | X19: ・ | Z19: 60 | AA19: 月館 ユリ | AD19: 様
A20: 34 | C20: ・ | D20: ・ | F20: 60 | G20: 浪岡 モミ | J20: 様 | K20: 35 | M20: ・ | N20: ・ | P20: 30 | Q20: 佐々木 札子 | T20: 様 | U20: 36 | W20: ・ | X20: ・ | Z20: 30 | AA20: 渡辺 愛子 | AD20: 様
A21: 37 | C21: ・ | D21: ・ | F21: 30 | G21: 袴田 紀子 | J21: 様 | K21: 38 | M21: ・ | N21: ・ | P21: 30 | Q21: 国分 トシ子 | T21: 様 | U21: 39 | W21: ・ | X21: ・ | Z21: 21 | AA21: 熊野 富美子 | AD21: 様
A22: 40 | C22: ・ | D22: ・ | F22: 30 | G22: 小比券巻 興一 | J22: 様 | K22: 41 | M22: ・ | N22: ・ | P22: 30 | Q22: 長嶺 孝 | T22: 様 | U22: 42 | W22: ・ | X22: ・ | Z22: 21 | AA22: 山田 淳一 | AD22: 様
A23: 43 | C23: ・ | D23: ・ | F23: 30 | G23: 井上 憲昭 | J23: 様 | K23: 44 | M23: ・ | N23: ・ | P23: 30 | Q23: 起田 妙子 | T23: 様 | U23: 45 | W23: ・ | X23: ・ | Z23: 30 | AA23: 小坂 和美 | AD23: 様
A24: 46 | C24: ・ | D24: ・ | F24: 30 | G24: 山谷 光都 | J24: 様 | K24: 47 | M24: ・ | N24: ・ | P24: 30 | Q24: 伊藤 和子 | T24: 様 | U24: 48 | W24: ・ | X24: ・ | Z24: 0 | AA24: 林 成信 | AD24: 様
A25: 49 | C25: ・ | D25: ・ | F25: 0 | G25: 工藤 健壽 | J25: 様 | K25: 50 | M25: ・ | N25: ・ | P25: 0 | Q25: 深町 栄美子 | T25: 様 | U25: 51 | W25: ・ | X25: ・ | Z25: 0 | AA25: 北村 イウ子 | AD25: 様
A26: 52 | C26: ・ | D26: ・ | F26: 0 | G26: 瀬川 高雄 | J26: 様 | K26: 53 | M26: ・ | N26: ・ | P26: 0 | Q26: 工藤 富雄 | T26: 様 | U26: 54 | W26: ・ | X26: ・ | Z26: 0 | AA26: 高村 加津子 | AD26: 様
A27: 55 | C27: ・ | D27: ・ | F27: 0 | G27: 萠出 克治 | J27: 様 | K27: 56 | T27: 様 | U27: 57 | AD27: 様
A28: 外来患者数 | E28: 新： | F28: =COUNTIF(B9:B27,"・")+COUNTIF(L9:L27,"・")+COUNTIF(V9:V27,"・") -> 3 | H28: 名 | I28: 再： | J28: =COUNTIF(C9:C27,"・")+COUNTIF(M9:M27,"・")+COUNTIF(W9:W27,"・") -> 52 | L28: 名 | M28: 計： | N28: =SUM(F28:K28) -> 55 | Q28: 名 | R28: （ | S28: 精： | T28: =COUNTIF(D9:D27,"・")+COUNTIF(N9:N27,"・")+COUNTIF(X9:X27,"・") -> 55 | W28: 名 | X28: ・ | Y28: 内： | Z28: =COUNTIF(E9:E27,"・")+COUNTIF(O9:O27,"・")+COUNTIF(Y9:Y27,"・") -> 0 | AC28: 名 | AD28: ）
A30: 紹介患者様氏名 | F30: 紹介先 | K30: 逆紹介患者様氏名 | P30: 紹介元 | U30: 処置実施者 | AA30: 処置内容
E31: 様 | K31: 安藤 クニ | O31: 様 | P31: 三沢中央病院 | Z31: 様
A32: 本日の検査 | F32: 検査内容 | K32: 処置実施者 | P32: 処置内容 | Z32: 様
A33: 工藤 隆斗 | E33: 様 | F33: 血液検査 | O33: 様 | Z33: 様
E34: 様 | O34: 様 | Z34: 様
E35: 様 | O35: 様 | Z35: 様
E36: 様 | O36: 様 | U36: 点検項目
E37: 様 | O37: 様 | U37: 項目 | Z37: 時間 | AC37: 点検者
A38: 発熱 | F38: 下痢 | K38: 風邪薬 | P38: 男性：21 | U38: 医療廃棄物 | Y38: 0.75 | AB38: 柳田美雪
A39: 0 | F39: 下痢 | K39: 0 | P39: 男性：22 | U39: 戸締り | Y39: 0.75 | AB39: 小笠原恵理子
A41: 備考欄 | C41: （連絡事項・処方変更・その他）
G42: 特記なし
G43: 柳田

Sheet 曜日
A1: 曜日 | E1: 説明書 その月の１日～７日までの曜日を黄色のセルに記入してください。 （例：１日が水曜日の月なら…… １日＝水 ２日＝木 ： ７日＝火 | L1: 4
A2: 1日 | B2: = | C2: 日
A3: 2日 | B3: = | C3: 月 | D3: ←
A4: 3日 | B4: = | C4: 火
A5: 4日 | B5: = | C5: 水 | I5: 石谷 美代子
A6: 5日 | B6: = | C6: 木
A7: 6日 | B7: = | C7: 金
A8: 7日 | B8: = | C8: 土
A10: 年 | B10: 月 | E10: 説明書 年・月を入れてください。
A11: 1 | B11: 12 | D11: ←
