Workbook

Sheet 1
A1: ソーシャルワーカー室 業務日誌 | AH1: C.O.O | AL1: I.O.O | AP1: Ａ.Ｏ.Ｍ
H3: =曜日!B12 -> 令和2年 | M3: =曜日!C12 -> 9月 | P3: 1日 | S3: （ | T3: =曜日!D3 -> 火 | U3: ） | W3: 作成者 | Z3: ： | AA3: 西舘 翔子
A5: 労務 状況 | D5: 勤務状況 | K5: 西舘 翔子 | P5: 日勤 | T5: 小屋敷 千瑛 | Y5: 日勤 | AC5: 大川 祥子 | AH5: 日勤
A7: 入退院 状況 | D7: 入院形態 | K7: 東病棟 | Q7: 西病棟 | W7: 北病棟 | AC7: 南病棟 | AI7: 合計 | AO7: 総数
K8: 男性 | N8: 女性 | Q8: 男性 | T8: 女性 | W8: 男性 | Z8: 女性 | AC8: 男性 | AF8: 女性 | AI8: 男性 | AL8: 女性
D9: 任意入院 | K9: 5 | N9: 2 | Q9: 2 | T9: 6 | W9: 22 | Z9: 13 | AC9: 1 | AF9: 1 | AI9: =K9+Q9+W9+AC9 -> 30 | AL9: =N9+T9+Z9+AF9 -> 22 | AO9: =AI13 -> 185
D10: 医療保護入院 | K10: 23 | N10: 14 | Q10: 17 | T10: 17 | W10: 0 | Z10: 0 | AC10: 31 | AF10: 29 | AI10: =K10+Q10+W10+AC10 -> 71 | AL10: =N10+T10+Z10+AF10 -> 60
D11: 措置入院 | K11: 2 | N11: 0 | Q11: 0 | T11: 0 | W11: 0 | Z11: 0 | AC11: 0 | AF11: 0 | AI11: =K11+Q11+W11+AC11 -> 2 | AL11: =N11+T11+Z11+AF11 -> 0
D12: 合計 | K12: =K9+K10+K11 -> 30 | N12: =N9+N10+N11 -> 16 | Q12: =Q9+Q10+Q11 -> 19 | T12: =SUM(T9:V11) -> 23 | W12: =SUM(W9:Y11) -> 22 | Z12: =SUM(Z9:AB11) -> 13 | AC12: =SUM(AC9:AE11) -> 32 | AF12: =SUM(AF9:AH11) -> 30 | AI12: =SUM(K12+Q12+W12+AC12) -> 103 | AL12: =SUM(N12+T12+Z12+AF12) -> 82 | AO12: 人
K13: =K12+N12 -> 46 | Q13: =Q12+T12 -> 42 | W13: =W12+Z12 -> 35 | AC13: =AC12+AF12 -> 62 | AI13: =AI12+AL12 -> 185
F14: 患者様氏名 | N14: 入院形態 | T14: 担当Dr | Y14: 担当SW | AD14: 病棟 | AJ14: 備考欄
D15: 入院 | F15: 向谷地 忠 | L15: 様 | N15: 医療保護入院 | T15: 深澤隆Dr | Y15: 小屋敷 千瑛 | AD15: 東D
F16: 手塚 辰昭 | L16: 様 | N16: 医療保護入院 | T16: 馬渡晃弘Dr | Y16: 大川 祥子 | AD16: 東D
L17: 様
L18: 様
L19: 様
D20: 退院 | L20: 様
L21: 様
L22: 様
L23: 様
L24: 様
D25: 転棟 ･ 入院形態変更 | F25: 上田 恭子 | L25: 様 | N25: 医療保護入院 | T25: 馬渡晃弘Dr | Y25: 大川 祥子 | AD25: 東合→南D
F26: 中村 寿昭 | L26: 様 | N26: 任意入院 | T26: 田名部茂Dr | Y26: 小屋敷 千瑛 | AD26: 医保→任意 | AJ26: 入院形態変更
L27: 様
L28: 様
L29: 様
A30: 患者様 関連 | D30: 患者様氏名 | K30: 担当Dr | P30: 病棟 | S30: 制限内容 | X30: 制限時間 | AC30: 開始日時 | AO30: 備考
D31: 宮崎 宏之 | I31: 様 | K31: 馬渡晃弘Dr | P31: 東A | S31: 終日隔離 | X31: 終日隔離 | AC31: 令和 | AE31: 2 | AF31: 年 | AG31: 5 | AH31: 月 | AI31: 23 | AJ31: 日 | AL31: ： | AN31: ～
D32: 沖田 康夫 | I32: 様 | K32: 金泰徳Dr | P32: 東C | S32: 身体拘束 | X32: 身体拘束 | AC32: 令和 | AE32: 2 | AF32: 年 | AG32: 7 | AH32: 月 | AI32: 22 | AJ32: 日 | AL32: ： | AN32: ～
D33: 鹿原 良三 | I33: 様 | K33: 深澤隆Dr | P33: 東A | S33: 身体拘束 | X33: 身体拘束 | AC33: 令和 | AE33: 2 | AF33: 年 | AG33: 7 | AH33: 月 | AI33: 31 | AJ33: 日 | AL33: ： | AN33: ～
D34: 澤口 利香 | I34: 様 | K34: 深澤隆Dr | P34: 東A | S34: 身体拘束 | X34: 身体拘束 | AC34: 令和 | AE34: 2 | AF34: 年 | AG34: 8 | AH34: 月 | AI34: 11 | AJ34: 日 | AL34: ： | AN34: ～
D35: 袴田 将志 | I35: 様 | K35: 田名部茂Dr | P35: 東A | S35: 終日隔離 | X35: 終日隔離 | AC35: 令和 | AE35: 2 | AF35: 年 | AG35: 8 | AH35: 月 | AI35: 22 | AJ35: 日 | AL35: ： | AN35: ～
I36: 様 | AC36: 平成 | AF36: 年 | AH36: 月 | AJ36: 日 | AL36: ： | AN36: ～
I37: 様 | AC37: 平成 | AF37: 年 | AH37: 月 | AJ37: 日 | AL37: ： | AN37: ～
I38: 様 | AC38: 平成 | AF38: 年 | AH38: 月 | AJ38: 日 | AL38: ： | AN38: ～
I39: 様 | AC39: 平成 | AF39: 年 | AH39: 月 | AJ39: 日 | AL39: ： | AN39: ～
I40: 様 | AC40: 平成 | AF40: 年 | AH40: 月 | AJ40: 日 | AL40: ： | AN40: ～
I41: 様 | AC41: 平成 | AF41: 年 | AH41: 月 | AJ41: 日 | AL41: ： | AN41: ～
I42: 様 | AC42: 平成 | AF42: 年 | AH42: 月 | AJ42: 日 | AL42: ： | AN42: ～
I43: 様 | AC43: 平成 | AF43: 年 | AH43: 月 | AJ43: 日 | AL43: ： | AN43: ～
...

Sheet 2
A1: ソーシャルワーカー室 業務日誌 | AH1: C.O.O | AL1: I.O.O | AP1: Ａ.Ｏ.Ｍ
H3: =曜日!B12 -> 令和2年 | M3: =曜日!C12 -> 9月 | P3: 2日 | S3: （ | T3: =曜日!D4 -> 水 | U3: ） | W3: 作成者 | Z3: ： | AA3: 西舘 翔子
A5: 労務 状況 | D5: 勤務状況 | K5: 西舘 翔子 | P5: 日勤 | T5: 小屋敷 千瑛 | Y5: 欠勤 | AC5: 大川 祥子 | AH5: 日勤
A7: 入退院 状況 | D7: 入院形態 | K7: 東病棟 | Q7: 西病棟 | W7: 北病棟 | AC7: 南病棟 | AI7: 合計 | AO7: 総数
K8: 男性 | N8: 女性 | Q8: 男性 | T8: 女性 | W8: 男性 | Z8: 女性 | AC8: 男性 | AF8: 女性 | AI8: 男性 | AL8: 女性
D9: 任意入院 | K9: 5 | N9: 3 | Q9: 1 | T9: 6 | W9: 23 | Z9: 13 | AC9: 1 | AF9: 1 | AI9: =K9+Q9+W9+AC9 -> 30 | AL9: =N9+T9+Z9+AF9 -> 23 | AO9: =AI13 -> 188
D10: 医療保護入院 | K10: 24 | N10: 15 | Q10: 17 | T10: 17 | W10: 0 | Z10: 0 | AC10: 31 | AF10: 29 | AI10: =K10+Q10+W10+AC10 -> 72 | AL10: =N10+T10+Z10+AF10 -> 61
D11: 措置入院 | K11: 2 | N11: 0 | Q11: 0 | T11: 0 | W11: 0 | Z11: 0 | AC11: 0 | AF11: 0 | AI11: =K11+Q11+W11+AC11 -> 2 | AL11: =N11+T11+Z11+AF11 -> 0
D12: 合計 | K12: =K9+K10+K11 -> 31 | N12: =N9+N10+N11 -> 18 | Q12: =Q9+Q10+Q11 -> 18 | T12: =SUM(T9:V11) -> 23 | W12: =SUM(W9:Y11) -> 23 | Z12: =SUM(Z9:AB11) -> 13 | AC12: =SUM(AC9:AE11) -> 32 | AF12: =SUM(AF9:AH11) -> 30 | AI12: =SUM(K12+Q12+W12+AC12) -> 104 | AL12: =SUM(N12+T12+Z12+AF12) -> 84 | AO12: 人
K13: =K12+N12 -> 49 | Q13: =Q12+T12 -> 41 | W13: =W12+Z12 -> 36 | AC13: =AC12+AF12 -> 62 | AI13: =AI12+AL12 -> 188
F14: 患者様氏名 | N14: 入院形態 | T14: 担当Dr | Y14: 担当SW | AD14: 病棟 | AJ14: 備考欄
D15: 入院 | F15: 戸耒 茂 | L15: 様 | N15: 医療保護入院 | T15: 金泰德Dr | Y15: 大川 祥子 | AD15: 東A
F16: 若沢 理子 | L16: 様 | N16: 任意入院 | T16: 田名部茂Dr | Y16: 西舘 翔子 | AD16: 東A
F17: 河原木 きみゑ | L17: 様 | N17: 医療保護入院 | T17: 金泰德Dr | Y17: 大川 祥子 | AD17: 東A
L18: 様
L19: 様
D20: 退院 | L20: 様
L21: 様
L22: 様
L23: 様
L24: 様
D25: 転棟 ･ 入院形態変更 | F25: 中村 寿昭 | L25: 様 | N25: 任意入院 | T25: 田名部茂Dr | Y25: 小屋敷 千瑛 | AD25: 西B→北
L26: 様
L27: 様
L28: 様
L29: 様
A30: 患者様 関連 | D30: 患者様氏名 | K30: 担当Dr | P30: 病棟 | S30: 制限内容 | X30: 制限時間 | AC30: 開始日時 | AO30: 備考
D31: 宮崎 宏之 | I31: 様 | K31: 馬渡晃弘Dr | P31: 東A | S31: 終日隔離 | X31: 終日隔離 | AC31: 令和 | AE31: 2 | AF31: 年 | AG31: 5 | AH31: 月 | AI31: 23 | AJ31: 日 | AL31: ： | AN31: ～
D32: 沖田 康夫 | I32: 様 | K32: 金泰徳Dr | P32: 東C | S32: 身体拘束 | X32: 身体拘束 | AC32: 令和 | AE32: 2 | AF32: 年 | AG32: 7 | AH32: 月 | AI32: 22 | AJ32: 日 | AL32: ： | AN32: ～
D33: 鹿原 良三 | I33: 様 | K33: 深澤隆Dr | P33: 東A | S33: 身体拘束 | X33: 身体拘束 | AC33: 令和 | AE33: 2 | AF33: 年 | AG33: 7 | AH33: 月 | AI33: 31 | AJ33: 日 | AL33: ： | AN33: ～
D34: 澤口 利香 | I34: 様 | K34: 深澤隆Dr | P34: 東A | S34: 身体拘束 | X34: 身体拘束 | AC34: 令和 | AE34: 2 | AF34: 年 | AG34: 8 | AH34: 月 | AI34: 11 | AJ34: 日 | AL34: ： | AN34: ～
D35: 袴田 将志 | I35: 様 | K35: 田名部茂Dr | P35: 東A | S35: 終日隔離 | X35: 終日隔離 | AC35: 令和 | AE35: 2 | AF35: 年 | AG35: 8 | AH35: 月 | AI35: 22 | AJ35: 日 | AL35: ： | AN35: ～
I36: 様 | AC36: 平成 | AF36: 年 | AH36: 月 | AJ36: 日 | AL36: ： | AN36: ～
I37: 様 | AC37: 平成 | AF37: 年 | AH37: 月 | AJ37: 日 | AL37: ： | AN37: ～
I38: 様 | AC38: 平成 | AF38: 年 | AH38: 月 | AJ38: 日 | AL38: ： | AN38: ～
I39: 様 | AC39: 平成 | AF39: 年 | AH39: 月 | AJ39: 日 | AL39: ： | AN39: ～
I40: 様 | AC40: 平成 | AF40: 年 | AH40: 月 | AJ40: 日 | AL40: ： | AN40: ～
I41: 様 | AC41: 平成 | AF41: 年 | AH41: 月 | AJ41: 日 | AL41: ： | AN41: ～
I42: 様 | AC42: 平成 | AF42: 年 | AH42: 月 | AJ42: 日 | AL42: ： | AN42: ～
I43: 様 | AC43: 平成 | AF43: 年 | AH43: 月 | AJ43: 日 | AL43: ： | AN43: ～
...

Sheet 3
A1: ソーシャルワーカー室 業務日誌 | AH1: C.O.O | AL1: I.O.O | AP1: Ａ.Ｏ.Ｍ
H3: =曜日!B12 -> 令和2年 | M3: =曜日!C12 -> 9月 | P3: 3日 | S3: （ | T3: =曜日!D5 -> 木 | U3: ） | W3: 作成者 | Z3: ： | AA3: 西舘 翔子
A5: 労務 状況 | D5: 勤務状況 | K5: 西舘 翔子 | P5: 日勤 | T5: 小屋敷 千瑛 | Y5: 日勤 | AC5: 大川 祥子 | AH5: 日勤
A7: 入退院 状況 | D7: 入院形態 | K7: 東病棟 | Q7: 西病棟 | W7: 北病棟 | AC7: 南病棟 | AI7: 合計 | AO7: 総数
K8: 男性 | N8: 女性 | Q8: 男性 | T8: 女性 | W8: 男性 | Z8: 女性 | AC8: 男性 | AF8: 女性 | AI8: 男性 | AL8: 女性
D9: 任意入院 | K9: 5 | N9: 3 | Q9: 1 | T9: 6 | W9: 23 | Z9: 13 | AC9: 1 | AF9: 1 | AI9: =K9+Q9+W9+AC9 -> 30 | AL9: =N9+T9+Z9+AF9 -> 23 | AO9: =AI13 -> 187
D10: 医療保護入院 | K10: 24 | N10: 13 | Q10: 17 | T10: 17 | W10: 0 | Z10: 0 | AC10: 31 | AF10: 29 | AI10: =K10+Q10+W10+AC10 -> 72 | AL10: =N10+T10+Z10+AF10 -> 59
D11: 措置入院 | K11: 3 | N11: 0 | Q11: 0 | T11: 0 | W11: 0 | Z11: 0 | AC11: 0 | AF11: 0 | AI11: =K11+Q11+W11+AC11 -> 3 | AL11: =N11+T11+Z11+AF11 -> 0
D12: 合計 | K12: =K9+K10+K11 -> 32 | N12: =N9+N10+N11 -> 16 | Q12: =Q9+Q10+Q11 -> 18 | T12: =SUM(T9:V11) -> 23 | W12: =SUM(W9:Y11) -> 23 | Z12: =SUM(Z9:AB11) -> 13 | AC12: =SUM(AC9:AE11) -> 32 | AF12: =SUM(AF9:AH11) -> 30 | AI12: =SUM(K12+Q12+W12+AC12) -> 105 | AL12: =SUM(N12+T12+Z12+AF12) -> 82 | AO12: 人
K13: =K12+N12 -> 48 | Q13: =Q12+T12 -> 41 | W13: =W12+Z12 -> 36 | AC13: =AC12+AF12 -> 62 | AI13: =AI12+AL12 -> 187
F14: 患者様氏名 | N14: 入院形態 | T14: 担当Dr | Y14: 担当SW | AD14: 病棟 | AJ14: 備考欄
D15: 入院 | F15: 音喜多 秀男 | L15: 様 | N15: 医療保護入院 | T15: 深澤隆Dr | Y15: 大川 祥子 | AD15: 東C
F16: 長瀬 伸也 | L16: 様 | N16: 措置入院 | T16: 田名部茂Dr | Y16: 西舘 翔子 | AD16: 東A
L17: 様
L18: 様
L19: 様
D20: 退院 | F20: 宮古 みゆき | L20: 様 | N20: 医療保護入院 | T20: 馬渡晃弘Dr | Y20: 小屋敷 千瑛 | AD20: 西B
F21: 石田 信幸 | L21: 様 | N21: 任意入院 | T21: 田名部茂Dr | Y21: 西舘 翔子 | AD21: 西A
F22: 石藤 ツヱ | L22: 様 | N22: 医療保護入院 | T22: 馬渡晃弘Dr | Y22: 小屋敷 千瑛 | AD22: 東合
L23: 様
L24: 様
D25: 転棟 ･ 入院形態変更 | F25: 井畑 芳則 | L25: 様 | N25: 医療保護入院 | T25: 金泰德Dr | Y25: 西舘 翔子 | AD25: 東B→西B
F26: 小田 沙也加 | L26: 様 | N26: 医療保護入院 | T26: 深澤隆Dr | Y26: 西舘 翔子 | AD26: 東B→西B
F27: 山田 晃大 | L27: 様 | N27: 任意入院 | T27: 馬渡晃弘Dr | Y27: 西舘 翔子 | AD27: 西B | AJ27: 医保→任意
L28: 様
L29: 様
A30: 患者様 関連 | D30: 患者様氏名 | K30: 担当Dr | P30: 病棟 | S30: 制限内容 | X30: 制限時間 | AC30: 開始日時 | AO30: 備考
D31: 宮崎 宏之 | I31: 様 | K31: 馬渡晃弘Dr | P31: 東A | S31: 終日隔離 | X31: 終日隔離 | AC31: 令和 | AE31: 2 | AF31: 年 | AG31: 5 | AH31: 月 | AI31: 23 | AJ31: 日 | AL31: ： | AN31: ～
D32: 沖田 康夫 | I32: 様 | K32: 金泰徳Dr | P32: 東C | S32: 身体拘束 | X32: 身体拘束 | AC32: 令和 | AE32: 2 | AF32: 年 | AG32: 7 | AH32: 月 | AI32: 22 | AJ32: 日 | AL32: ： | AN32: ～
D33: 鹿原 良三 | I33: 様 | K33: 深澤隆Dr | P33: 東A | S33: 身体拘束 | X33: 身体拘束 | AC33: 令和 | AE33: 2 | AF33: 年 | AG33: 7 | AH33: 月 | AI33: 31 | AJ33: 日 | AL33: ： | AN33: ～
D34: 澤口 利香 | I34: 様 | K34: 深澤隆Dr | P34: 東A | S34: 身体拘束 | X34: 身体拘束 | AC34: 令和 | AE34: 2 | AF34: 年 | AG34: 8 | AH34: 月 | AI34: 11 | AJ34: 日 | AL34: ： | AN34: ～
D35: 袴田 将志 | I35: 様 | K35: 田名部茂Dr | P35: 東A | S35: 終日隔離 | X35: 終日隔離 | AC35: 令和 | AE35: 2 | AF35: 年 | AG35: 8 | AH35: 月 | AI35: 22 | AJ35: 日 | AL35: ： | AN35: ～
I36: 様 | AC36: 平成 | AF36: 年 | AH36: 月 | AJ36: 日 | AL36: ： | AN36: ～
I37: 様 | AC37: 平成 | AF37: 年 | AH37: 月 | AJ37: 日 | AL37: ： | AN37: ～
I38: 様 | AC38: 平成 | AF38: 年 | AH38: 月 | AJ38: 日 | AL38: ： | AN38: ～
I39: 様 | AC39: 平成 | AF39: 年 | AH39: 月 | AJ39: 日 | AL39: ： | AN39: ～
I40: 様 | AC40: 平成 | AF40: 年 | AH40: 月 | AJ40: 日 | AL40: ： | AN40: ～
I41: 様 | AC41: 平成 | AF41: 年 | AH41: 月 | AJ41: 日 | AL41: ： | AN41: ～
I42: 様 | AC42: 平成 | AF42: 年 | AH42: 月 | AJ42: 日 | AL42: ： | AN42: ～
I43: 様 | AC43: 平成 | AF43: 年 | AH43: 月 | AJ43: 日 | AL43: ： | AN43: ～
...

Sheet 4
A1: ソーシャルワーカー室 業務日誌 | AH1: C.O.O | AL1: I.O.O | AP1: Ａ.Ｏ.Ｍ
H3: =曜日!B12 -> 令和2年 | M3: =曜日!C12 -> 9月 | P3: 4日 | S3: （ | T3: =曜日!D6 -> 金 | U3: ） | W3: 作成者 | Z3: ： | AA3: 西舘 翔子
A5: 労務 状況 | D5: 勤務状況 | K5: 西舘 翔子 | P5: 日勤 | T5: 小屋敷 千瑛 | Y5: 日勤 | AC5: 大川 祥子 | AH5: 日勤
A7: 入退院 状況 | D7: 入院形態 | K7: 東病棟 | Q7: 西病棟 | W7: 北病棟 | AC7: 南病棟 | AI7: 合計 | AO7: 総数
K8: 男性 | N8: 女性 | Q8: 男性 | T8: 女性 | W8: 男性 | Z8: 女性 | AC8: 男性 | AF8: 女性 | AI8: 男性 | AL8: 女性
D9: 任意入院 | K9: 4 | N9: 3 | Q9: 1 | T9: 6 | W9: 23 | Z9: 13 | AC9: 1 | AF9: 1 | AI9: =K9+Q9+W9+AC9 -> 29 | AL9: =N9+T9+Z9+AF9 -> 23 | AO9: =AI13 -> 186
D10: 医療保護入院 | K10: 23 | N10: 14 | Q10: 17 | T10: 17 | W10: 0 | Z10: 0 | AC10: 32 | AF10: 28 | AI10: =K10+Q10+W10+AC10 -> 72 | AL10: =N10+T10+Z10+AF10 -> 59
D11: 措置入院 | K11: 3 | N11: 0 | Q11: 0 | T11: 0 | W11: 0 | Z11: 0 | AC11: 0 | AF11: 0 | AI11: =K11+Q11+W11+AC11 -> 3 | AL11: =N11+T11+Z11+AF11 -> 0
D12: 合計 | K12: =K9+K10+K11 -> 30 | N12: =N9+N10+N11 -> 17 | Q12: =Q9+Q10+Q11 -> 18 | T12: =SUM(T9:V11) -> 23 | W12: =SUM(W9:Y11) -> 23 | Z12: =SUM(Z9:AB11) -> 13 | AC12: =SUM(AC9:AE11) -> 33 | AF12: =SUM(AF9:AH11) -> 29 | AI12: =SUM(K12+Q12+W12+AC12) -> 104 | AL12: =SUM(N12+T12+Z12+AF12) -> 82 | AO12: 人
K13: =K12+N12 -> 47 | Q13: =Q12+T12 -> 41 | W13: =W12+Z12 -> 36 | AC13: =AC12+AF12 -> 62 | AI13: =AI12+AL12 -> 186
F14: 患者様氏名 | N14: 入院形態 | T14: 担当Dr | Y14: 担当SW | AD14: 病棟 | AJ14: 備考欄
D15: 入院 | F15: 岡村 トミ | L15: 様 | N15: 医療保護入院 | T15: 馬渡晃弘Dr | Y15: 大川 祥子 | AD15: 東C
L16: 様
L17: 様
L18: 様
L19: 様
D20: 退院 | F20: 甲地 茂子 | L20: 様 | N20: 医療保護入院 | T20: 金泰德Dr | Y20: 大川 祥子 | AD20: 南B
F21: 木村 高広 | L21: 様 | N21: 任意入院 | T21: 馬渡晃弘Dr | Y21: 西舘 翔子 | AD21: 東D
L22: 様
L23: 様
L24: 様
D25: 転棟 ･ 入院形態変更 | F25: 新井 敏広 | L25: 様 | N25: 医療保護入院 | T25: 深澤隆Dr | Y25: 大川 祥子 | AD25: 東C→南A
L26: 様
L27: 様
L28: 様
L29: 様
A30: 患者様 関連 | D30: 患者様氏名 | K30: 担当Dr | P30: 病棟 | S30: 制限内容 | X30: 制限時間 | AC30: 開始日時 | AO30: 備考
D31: 宮崎 宏之 | I31: 様 | K31: 馬渡晃弘Dr | P31: 東A | S31: 終日隔離 | X31: 終日隔離 | AC31: 令和 | AE31: 2 | AF31: 年 | AG31: 5 | AH31: 月 | AI31: 23 | AJ31: 日 | AL31: ： | AN31: ～
D32: 沖田 康夫 | I32: 様 | K32: 金泰徳Dr | P32: 東C | S32: 身体拘束 | X32: 身体拘束 | AC32: 令和 | AE32: 2 | AF32: 年 | AG32: 7 | AH32: 月 | AI32: 22 | AJ32: 日 | AL32: ： | AN32: ～
D33: 鹿原 良三 | I33: 様 | K33: 深澤隆Dr | P33: 東A | S33: 身体拘束 | X33: 身体拘束 | AC33: 令和 | AE33: 2 | AF33: 年 | AG33: 7 | AH33: 月 | AI33: 31 | AJ33: 日 | AL33: ： | AN33: ～
D34: 澤口 利香 | I34: 様 | K34: 深澤隆Dr | P34: 東A | S34: 身体拘束 | X34: 身体拘束 | AC34: 令和 | AE34: 2 | AF34: 年 | AG34: 8 | AH34: 月 | AI34: 11 | AJ34: 日 | AL34: ： | AN34: ～
D35: 袴田 将志 | I35: 様 | K35: 田名部茂Dr | P35: 東A | S35: 終日隔離 | X35: 終日隔離 | AC35: 令和 | AE35: 2 | AF35: 年 | AG35: 8 | AH35: 月 | AI35: 22 | AJ35: 日 | AL35: ： | AN35: ～
I36: 様 | AC36: 平成 | AF36: 年 | AH36: 月 | AJ36: 日 | AL36: ： | AN36: ～
I37: 様 | AC37: 平成 | AF37: 年 | AH37: 月 | AJ37: 日 | AL37: ： | AN37: ～
I38: 様 | AC38: 平成 | AF38: 年 | AH38: 月 | AJ38: 日 | AL38: ： | AN38: ～
I39: 様 | AC39: 平成 | AF39: 年 | AH39: 月 | AJ39: 日 | AL39: ： | AN39: ～
I40: 様 | AC40: 平成 | AF40: 年 | AH40: 月 | AJ40: 日 | AL40: ： | AN40: ～
I41: 様 | AC41: 平成 | AF41: 年 | AH41: 月 | AJ41: 日 | AL41: ： | AN41: ～
I42: 様 | AC42: 平成 | AF42: 年 | AH42: 月 | AJ42: 日 | AL42: ： | AN42: ～
I43: 様 | AC43: 平成 | AF43: 年 | AH43: 月 | AJ43: 日 | AL43: ： | AN43: ～
...

Sheet 5
A1: ソーシャルワーカー室 業務日誌 | AH1: C.O.O | AL1: I.O.O | AP1: Ａ.Ｏ.Ｍ
H3: =曜日!B12 -> 令和2年 | M3: =曜日!C12 -> 9月 | P3: 5日 | S3: （ | T3: =曜日!D7 -> 土 | U3: ） | W3: 作成者 | Z3: ： | AA3: 西舘 翔子
A5: 労務 状況 | D5: 勤務状況 | K5: 西舘 翔子 | P5: 日勤 | T5: 小屋敷 千瑛 | Y5: 日勤 | AC5: 大川 祥子 | AH5: 公休
A7: 入退院 状況 | D7: 入院形態 | K7: 東病棟 | Q7: 西病棟 | W7: 北病棟 | AC7: 南病棟 | AI7: 合計 | AO7: 総数
K8: 男性 | N8: 女性 | Q8: 男性 | T8: 女性 | W8: 男性 | Z8: 女性 | AC8: 男性 | AF8: 女性 | AI8: 男性 | AL8: 女性
D9: 任意入院 | K9: 4 | N9: 3 | Q9: 0 | T9: 6 | W9: 24 | Z9: 13 | AC9: 1 | AF9: 1 | AI9: =K9+Q9+W9+AC9 -> 29 | AL9: =N9+T9+Z9+AF9 -> 23 | AO9: =AI13 -> 186
D10: 医療保護入院 | K10: 22 | N10: 14 | Q10: 18 | T10: 17 | W10: 0 | Z10: 0 | AC10: 32 | AF10: 28 | AI10: =K10+Q10+W10+AC10 -> 72 | AL10: =N10+T10+Z10+AF10 -> 59
D11: 措置入院 | K11: 3 | N11: 0 | Q11: 0 | T11: 0 | W11: 0 | Z11: 0 | AC11: 0 | AF11: 0 | AI11: =K11+Q11+W11+AC11 -> 3 | AL11: =N11+T11+Z11+AF11 -> 0
D12: 合計 | K12: =K9+K10+K11 -> 29 | N12: =N9+N10+N11 -> 17 | Q12: =Q9+Q10+Q11 -> 18 | T12: =SUM(T9:V11) -> 23 | W12: =SUM(W9:Y11) -> 24 | Z12: =SUM(Z9:AB11) -> 13 | AC12: =SUM(AC9:AE11) -> 33 | AF12: =SUM(AF9:AH11) -> 29 | AI12: =SUM(K12+Q12+W12+AC12) -> 104 | AL12: =SUM(N12+T12+Z12+AF12) -> 82 | AO12: 人
K13: =K12+N12 -> 46 | Q13: =Q12+T12 -> 41 | W13: =W12+Z12 -> 37 | AC13: =AC12+AF12 -> 62 | AI13: =AI12+AL12 -> 186
F14: 患者様氏名 | N14: 入院形態 | T14: 担当Dr | Y14: 担当SW | AD14: 病棟 | AJ14: 備考欄
D15: 入院 | L15: 様
L16: 様
L17: 様
L18: 様
L19: 様
D20: 退院 | L20: 様
L21: 様
L22: 様
L23: 様
L24: 様
D25: 転棟 ･ 入院形態変更 | F25: 山田 晃大 | L25: 様 | N25: 任意入院 | T25: 馬渡晃弘Dr | Y25: 西舘 翔子 | AD25: 西B→北
F26: 八木田 勝則 | L26: 様 | N26: 医療保護入院 | T26: 馬渡晃弘Dr | Y26: 小屋敷 千瑛 | AD26: 東B→西B
L27: 様
L28: 様
L29: 様
A30: 患者様 関連 | D30: 患者様氏名 | K30: 担当Dr | P30: 病棟 | S30: 制限内容 | X30: 制限時間 | AC30: 開始日時 | AO30: 備考
D31: 宮崎 宏之 | I31: 様 | K31: 馬渡晃弘Dr | P31: 東A | S31: 終日隔離 | X31: 終日隔離 | AC31: 令和 | AE31: 2 | AF31: 年 | AG31: 5 | AH31: 月 | AI31: 23 | AJ31: 日 | AL31: ： | AN31: ～
D32: 沖田 康夫 | I32: 様 | K32: 金泰徳Dr | P32: 東C | S32: 身体拘束 | X32: 身体拘束 | AC32: 令和 | AE32: 2 | AF32: 年 | AG32: 7 | AH32: 月 | AI32: 22 | AJ32: 日 | AL32: ： | AN32: ～
D33: 鹿原 良三 | I33: 様 | K33: 深澤隆Dr | P33: 東A | S33: 身体拘束 | X33: 身体拘束 | AC33: 令和 | AE33: 2 | AF33: 年 | AG33: 7 | AH33: 月 | AI33: 31 | AJ33: 日 | AL33: ： | AN33: ～
D34: 澤口 利香 | I34: 様 | K34: 深澤隆Dr | P34: 東A | S34: 身体拘束 | X34: 身体拘束 | AC34: 令和 | AE34: 2 | AF34: 年 | AG34: 8 | AH34: 月 | AI34: 11 | AJ34: 日 | AL34: ： | AN34: ～
D35: 袴田 将志 | I35: 様 | K35: 田名部茂Dr | P35: 東A | S35: 終日隔離 | X35: 終日隔離 | AC35: 令和 | AE35: 2 | AF35: 年 | AG35: 8 | AH35: 月 | AI35: 22 | AJ35: 日 | AL35: ： | AN35: ～
I36: 様 | AC36: 平成 | AF36: 年 | AH36: 月 | AJ36: 日 | AL36: ： | AN36: ～
I37: 様 | AC37: 平成 | AF37: 年 | AH37: 月 | AJ37: 日 | AL37: ： | AN37: ～
I38: 様 | AC38: 平成 | AF38: 年 | AH38: 月 | AJ38: 日 | AL38: ： | AN38: ～
I39: 様 | AC39: 平成 | AF39: 年 | AH39: 月 | AJ39: 日 | AL39: ： | AN39: ～
I40: 様 | AC40: 平成 | AF40: 年 | AH40: 月 | AJ40: 日 | AL40: ： | AN40: ～
I41: 様 | AC41: 平成 | AF41: 年 | AH41: 月 | AJ41: 日 | AL41: ： | AN41: ～
I42: 様 | AC42: 平成 | AF42: 年 | AH42: 月 | AJ42: 日 | AL42: ： | AN42: ～
I43: 様 | AC43: 平成 | AF43: 年 | AH43: 月 | AJ43: 日 | AL43: ： | AN43: ～
...

Sheet 6
A1: ソーシャルワーカー室 業務日誌 | AH1: C.O.O | AL1: I.O.O | AP1: Ａ.Ｏ.Ｍ
H3: =曜日!B12 -> 令和2年 | M3: =曜日!C12 -> 9月 | P3: 6日 | S3: （ | T3: =曜日!D8 -> 日 | U3: ） | W3: 作成者 | Z3: ： | AA3: 大川 祥子
A5: 労務 状況 | D5: 勤務状況 | K5: 西舘 翔子 | P5: 公休 | T5: 小屋敷 千瑛 | Y5: 公休 | AC5: 大川 祥子 | AH5: 公休
A7: 入退院 状況 | D7: 入院形態 | K7: 東病棟 | Q7: 西病棟 | W7: 北病棟 | AC7: 南病棟 | AI7: 合計 | AO7: 総数
K8: 男性 | N8: 女性 | Q8: 男性 | T8: 女性 | W8: 男性 | Z8: 女性 | AC8: 男性 | AF8: 女性 | AI8: 男性 | AL8: 女性
D9: 任意入院 | K9: 4 | N9: 3 | Q9: 0 | T9: 6 | W9: 24 | Z9: 13 | AC9: 1 | AF9: 1 | AI9: =K9+Q9+W9+AC9 -> 29 | AL9: =N9+T9+Z9+AF9 -> 23 | AO9: =AI13 -> 186
D10: 医療保護入院 | K10: 22 | N10: 14 | Q10: 18 | T10: 17 | W10: 0 | Z10: 0 | AC10: 32 | AF10: 28 | AI10: =K10+Q10+W10+AC10 -> 72 | AL10: =N10+T10+Z10+AF10 -> 59
D11: 措置入院 | K11: 3 | N11: 0 | Q11: 0 | T11: 0 | W11: 0 | Z11: 0 | AC11: 0 | AF11: 0 | AI11: =K11+Q11+W11+AC11 -> 3 | AL11: =N11+T11+Z11+AF11 -> 0
D12: 合計 | K12: =K9+K10+K11 -> 29 | N12: =N9+N10+N11 -> 17 | Q12: =Q9+Q10+Q11 -> 18 | T12: =SUM(T9:V11) -> 23 | W12: =SUM(W9:Y11) -> 24 | Z12: =SUM(Z9:AB11) -> 13 | AC12: =SUM(AC9:AE11) -> 33 | AF12: =SUM(AF9:AH11) -> 29 | AI12: =SUM(K12+Q12+W12+AC12) -> 104 | AL12: =SUM(N12+T12+Z12+AF12) -> 82 | AO12: 人
K13: =K12+N12 -> 46 | Q13: =Q12+T12 -> 41 | W13: =W12+Z12 -> 37 | AC13: =AC12+AF12 -> 62 | AI13: =AI12+AL12 -> 186
F14: 患者様氏名 | N14: 入院形態 | T14: 担当Dr | Y14: 担当SW | AD14: 病棟 | AJ14: 備考欄
D15: 入院 | L15: 様
L16: 様
L17: 様
L18: 様
L19: 様
D20: 退院 | L20: 様
L21: 様
L22: 様
L23: 様
L24: 様
D25: 転棟 ･ 入院形態変更 | L25: 様
L26: 様
L27: 様
L28: 様
L29: 様
A30: 患者様 関連 | D30: 患者様氏名 | K30: 担当Dr | P30: 病棟 | S30: 制限内容 | X30: 制限時間 | AC30: 開始日時 | AO30: 備考
D31: 宮崎 宏之 | I31: 様 | K31: 馬渡晃弘Dr | P31: 東A | S31: 終日隔離 | X31: 終日隔離 | AC31: 令和 | AE31: 2 | AF31: 年 | AG31: 5 | AH31: 月 | AI31: 23 | AJ31: 日 | AL31: ： | AN31: ～
D32: 沖田 康夫 | I32: 様 | K32: 金泰徳Dr | P32: 東C | S32: 身体拘束 | X32: 身体拘束 | AC32: 令和 | AE32: 2 | AF32: 年 | AG32: 7 | AH32: 月 | AI32: 22 | AJ32: 日 | AL32: ： | AN32: ～
D33: 鹿原 良三 | I33: 様 | K33: 深澤隆Dr | P33: 東A | S33: 身体拘束 | X33: 身体拘束 | AC33: 令和 | AE33: 2 | AF33: 年 | AG33: 7 | AH33: 月 | AI33: 31 | AJ33: 日 | AL33: ： | AN33: ～
D34: 澤口 利香 | I34: 様 | K34: 深澤隆Dr | P34: 東A | S34: 身体拘束 | X34: 身体拘束 | AC34: 令和 | AE34: 2 | AF34: 年 | AG34: 8 | AH34: 月 | AI34: 11 | AJ34: 日 | AL34: ： | AN34: ～
D35: 袴田 将志 | I35: 様 | K35: 田名部茂Dr | P35: 東A | S35: 終日隔離 | X35: 終日隔離 | AC35: 令和 | AE35: 2 | AF35: 年 | AG35: 8 | AH35: 月 | AI35: 22 | AJ35: 日 | AL35: ： | AN35: ～
I36: 様 | AC36: 平成 | AF36: 年 | AH36: 月 | AJ36: 日 | AL36: ： | AN36: ～
I37: 様 | AC37: 平成 | AF37: 年 | AH37: 月 | AJ37: 日 | AL37: ： | AN37: ～
I38: 様 | AC38: 平成 | AF38: 年 | AH38: 月 | AJ38: 日 | AL38: ： | AN38: ～
I39: 様 | AC39: 平成 | AF39: 年 | AH39: 月 | AJ39: 日 | AL39: ： | AN39: ～
I40: 様 | AC40: 平成 | AF40: 年 | AH40: 月 | AJ40: 日 | AL40: ： | AN40: ～
I41: 様 | AC41: 平成 | AF41: 年 | AH41: 月 | AJ41: 日 | AL41: ： | AN41: ～
I42: 様 | AC42: 平成 | AF42: 年 | AH42: 月 | AJ42: 日 | AL42: ： | AN42: ～
I43: 様 | AC43: 平成 | AF43: 年 | AH43: 月 | AJ43: 日 | AL43: ： | AN43: ～
...

Sheet 7
A1: ソーシャルワーカー室 業務日誌 | AH1: C.O.O | AL1: I.O.O | AP1: Ａ.Ｏ.Ｍ
H3: =曜日!B12 -> 令和2年 | M3: =曜日!C12 -> 9月 | P3: 7日 | S3: （ | T3: =曜日!D9 -> 月 | U3: ） | W3: 作成者 | Z3: ： | AA3: 大川 祥子
A5: 労務 状況 | D5: 勤務状況 | K5: 西舘 翔子 | P5: 日勤 | T5: 小屋敷 千瑛 | Y5: 公休 | AC5: 大川 祥子 | AH5: 日勤
A7: 入退院 状況 | D7: 入院形態 | K7: 東病棟 | Q7: 西病棟 | W7: 北病棟 | AC7: 南病棟 | AI7: 合計 | AO7: 総数
K8: 男性 | N8: 女性 | Q8: 男性 | T8: 女性 | W8: 男性 | Z8: 女性 | AC8: 男性 | AF8: 女性 | AI8: 男性 | AL8: 女性
D9: 任意入院 | K9: 4 | N9: 3 | Q9: 0 | T9: 6 | W9: 24 | Z9: 13 | AC9: 1 | AF9: 1 | AI9: =K9+Q9+W9+AC9 -> 29 | AL9: =N9+T9+Z9+AF9 -> 23 | AO9: =AI13 -> 185
D10: 医療保護入院 | K10: 21 | N10: 14 | Q10: 18 | T10: 17 | W10: 0 | Z10: 0 | AC10: 32 | AF10: 28 | AI10: =K10+Q10+W10+AC10 -> 71 | AL10: =N10+T10+Z10+AF10 -> 59
D11: 措置入院 | K11: 3 | N11: 0 | Q11: 0 | T11: 0 | W11: 0 | Z11: 0 | AC11: 0 | AF11: 0 | AI11: =K11+Q11+W11+AC11 -> 3 | AL11: =N11+T11+Z11+AF11 -> 0
D12: 合計 | K12: =K9+K10+K11 -> 28 | N12: =N9+N10+N11 -> 17 | Q12: =Q9+Q10+Q11 -> 18 | T12: =SUM(T9:V11) -> 23 | W12: =SUM(W9:Y11) -> 24 | Z12: =SUM(Z9:AB11) -> 13 | AC12: =SUM(AC9:AE11) -> 33 | AF12: =SUM(AF9:AH11) -> 29 | AI12: =SUM(K12+Q12+W12+AC12) -> 103 | AL12: =SUM(N12+T12+Z12+AF12) -> 82 | AO12: 人
K13: =K12+N12 -> 45 | Q13: =Q12+T12 -> 41 | W13: =W12+Z12 -> 37 | AC13: =AC12+AF12 -> 62 | AI13: =AI12+AL12 -> 185
F14: 患者様氏名 | N14: 入院形態 | T14: 担当Dr | Y14: 担当SW | AD14: 病棟 | AJ14: 備考欄
D15: 入院 | L15: 様
L16: 様
L17: 様
L18: 様
L19: 様
D20: 退院 | F20: 杉山 千廣 | L20: 様 | N20: 医療保護入院 | T20: 深澤隆Dr | Y20: 大川 祥子 | AD20: 南C
L21: 様
L22: 様
L23: 様
L24: 様
D25: 転棟 ･ 入院形態変更 | F25: 向谷地 忠 | L25: 様 | N25: 医療保護入院 | T25: 深澤隆Dr | Y25: 西舘 翔子 | AD25: 東B→南A
L26: 様
L27: 様
L28: 様
L29: 様
A30: 患者様 関連 | D30: 患者様氏名 | K30: 担当Dr | P30: 病棟 | S30: 制限内容 | X30: 制限時間 | AC30: 開始日時 | AO30: 備考
D31: 宮崎 宏之 | I31: 様 | K31: 馬渡晃弘Dr | P31: 東A | S31: 終日隔離 | X31: 終日隔離 | AC31: 令和 | AE31: 2 | AF31: 年 | AG31: 5 | AH31: 月 | AI31: 23 | AJ31: 日 | AL31: ： | AN31: ～
D32: 沖田 康夫 | I32: 様 | K32: 金泰徳Dr | P32: 東C | S32: 身体拘束 | X32: 身体拘束 | AC32: 令和 | AE32: 2 | AF32: 年 | AG32: 7 | AH32: 月 | AI32: 22 | AJ32: 日 | AL32: ： | AN32: ～
D33: 鹿原 良三 | I33: 様 | K33: 深澤隆Dr | P33: 東A | S33: 身体拘束 | X33: 身体拘束 | AC33: 令和 | AE33: 2 | AF33: 年 | AG33: 7 | AH33: 月 | AI33: 31 | AJ33: 日 | AL33: ： | AN33: ～
D34: 澤口 利香 | I34: 様 | K34: 深澤隆Dr | P34: 東A | S34: 身体拘束 | X34: 身体拘束 | AC34: 令和 | AE34: 2 | AF34: 年 | AG34: 8 | AH34: 月 | AI34: 11 | AJ34: 日 | AL34: ： | AN34: ～
D35: 袴田 将志 | I35: 様 | K35: 田名部茂Dr | P35: 東A | S35: 終日隔離 | X35: 終日隔離 | AC35: 令和 | AE35: 2 | AF35: 年 | AG35: 8 | AH35: 月 | AI35: 22 | AJ35: 日 | AL35: ： | AN35: ～
I36: 様 | AC36: 平成 | AF36: 年 | AH36: 月 | AJ36: 日 | AL36: ： | AN36: ～
I37: 様 | AC37: 平成 | AF37: 年 | AH37: 月 | AJ37: 日 | AL37: ： | AN37: ～
I38: 様 | AC38: 平成 | AF38: 年 | AH38: 月 | AJ38: 日 | AL38: ： | AN38: ～
I39: 様 | AC39: 平成 | AF39: 年 | AH39: 月 | AJ39: 日 | AL39: ： | AN39: ～
I40: 様 | AC40: 平成 | AF40: 年 | AH40: 月 | AJ40: 日 | AL40: ： | AN40: ～
I41: 様 | AC41: 平成 | AF41: 年 | AH41: 月 | AJ41: 日 | AL41: ： | AN41: ～
I42: 様 | AC42: 平成 | AF42: 年 | AH42: 月 | AJ42: 日 | AL42: ： | AN42: ～
I43: 様 | AC43: 平成 | AF43: 年 | AH43: 月 | AJ43: 日 | AL43: ： | AN43: ～
...

Sheet 8
A1: ソーシャルワーカー室 業務日誌 | AH1: C.O.O | AL1: I.O.O | AP1: Ａ.Ｏ.Ｍ
H3: =曜日!B12 -> 令和2年 | M3: =曜日!C12 -> 9月 | P3: 8日 | S3: （ | T3: =曜日!D3 -> 火 | U3: ） | W3: 作成者 | Z3: ： | AA3: 大川 祥子
A5: 労務 状況 | D5: 勤務状況 | K5: 西舘 翔子 | P5: 日勤 | T5: 小屋敷 千瑛 | Y5: 日勤 | AC5: 大川 祥子 | AH5: 日勤
A7: 入退院 状況 | D7: 入院形態 | K7: 東病棟 | Q7: 西病棟 | W7: 北病棟 | AC7: 南病棟 | AI7: 合計 | AO7: 総数
K8: 男性 | N8: 女性 | Q8: 男性 | T8: 女性 | W8: 男性 | Z8: 女性 | AC8: 男性 | AF8: 女性 | AI8: 男性 | AL8: 女性
D9: 任意入院 | K9: 4 | N9: 3 | Q9: 0 | T9: 6 | W9: 24 | Z9: 13 | AC9: 1 | AF9: 1 | AI9: =K9+Q9+W9+AC9 -> 29 | AL9: =N9+T9+Z9+AF9 -> 23 | AO9: =AI13 -> 186
D10: 医療保護入院 | K10: 21 | N10: 15 | Q10: 18 | T10: 17 | W10: 0 | Z10: 0 | AC10: 32 | AF10: 28 | AI10: =K10+Q10+W10+AC10 -> 71 | AL10: =N10+T10+Z10+AF10 -> 60
D11: 措置入院 | K11: 3 | N11: 0 | Q11: 0 | T11: 0 | W11: 0 | Z11: 0 | AC11: 0 | AF11: 0 | AI11: =K11+Q11+W11+AC11 -> 3 | AL11: =N11+T11+Z11+AF11 -> 0
D12: 合計 | K12: =K9+K10+K11 -> 28 | N12: =N9+N10+N11 -> 18 | Q12: =Q9+Q10+Q11 -> 18 | T12: =SUM(T9:V11) -> 23 | W12: =SUM(W9:Y11) -> 24 | Z12: =SUM(Z9:AB11) -> 13 | AC12: =SUM(AC9:AE11) -> 33 | AF12: =SUM(AF9:AH11) -> 29 | AI12: =SUM(K12+Q12+W12+AC12) -> 103 | AL12: =SUM(N12+T12+Z12+AF12) -> 83 | AO12: 人
K13: =K12+N12 -> 46 | Q13: =Q12+T12 -> 41 | W13: =W12+Z12 -> 37 | AC13: =AC12+AF12 -> 62 | AI13: =AI12+AL12 -> 186
F14: 患者様氏名 | N14: 入院形態 | T14: 担当Dr | Y14: 担当SW | AD14: 病棟 | AJ14: 備考欄
D15: 入院 | F15: 大久保 恵 | L15: 様 | N15: 医療保護入院 | T15: 馬渡晃弘Dr | Y15: 西舘 翔子 | AD15: 東A
L16: 様
L17: 様
L18: 様
L19: 様
D20: 退院 | L20: 様
L21: 様
L22: 様
L23: 様
L24: 様
D25: 転棟 ･ 入院形態変更 | L25: 様
L26: 様
L27: 様
L28: 様
L29: 様
A30: 患者様 関連 | D30: 患者様氏名 | K30: 担当Dr | P30: 病棟 | S30: 制限内容 | X30: 制限時間 | AC30: 開始日時 | AO30: 備考
D31: 宮崎 宏之 | I31: 様 | K31: 馬渡晃弘Dr | P31: 東A | S31: 終日隔離 | X31: 終日隔離 | AC31: 令和 | AE31: 2 | AF31: 年 | AG31: 5 | AH31: 月 | AI31: 23 | AJ31: 日 | AL31: ： | AN31: ～
D32: 沖田 康夫 | I32: 様 | K32: 金泰徳Dr | P32: 東C | S32: 身体拘束 | X32: 身体拘束 | AC32: 令和 | AE32: 2 | AF32: 年 | AG32: 7 | AH32: 月 | AI32: 22 | AJ32: 日 | AL32: ： | AN32: ～
D33: 鹿原 良三 | I33: 様 | K33: 深澤隆Dr | P33: 東A | S33: 身体拘束 | X33: 身体拘束 | AC33: 令和 | AE33: 2 | AF33: 年 | AG33: 7 | AH33: 月 | AI33: 31 | AJ33: 日 | AL33: ： | AN33: ～ | AO33: 解除
D34: 澤口 利香 | I34: 様 | K34: 深澤隆Dr | P34: 東A | S34: 身体拘束 | X34: 身体拘束 | AC34: 令和 | AE34: 2 | AF34: 年 | AG34: 8 | AH34: 月 | AI34: 11 | AJ34: 日 | AL34: ： | AN34: ～
D35: 袴田 将志 | I35: 様 | K35: 田名部茂Dr | P35: 東A | S35: 終日隔離 | X35: 終日隔離 | AC35: 令和 | AE35: 2 | AF35: 年 | AG35: 8 | AH35: 月 | AI35: 22 | AJ35: 日 | AL35: ： | AN35: ～
I36: 様 | AC36: 平成 | AF36: 年 | AH36: 月 | AJ36: 日 | AL36: ： | AN36: ～
I37: 様 | AC37: 平成 | AF37: 年 | AH37: 月 | AJ37: 日 | AL37: ： | AN37: ～
I38: 様 | AC38: 平成 | AF38: 年 | AH38: 月 | AJ38: 日 | AL38: ： | AN38: ～
I39: 様 | AC39: 平成 | AF39: 年 | AH39: 月 | AJ39: 日 | AL39: ： | AN39: ～
I40: 様 | AC40: 平成 | AF40: 年 | AH40: 月 | AJ40: 日 | AL40: ： | AN40: ～
I41: 様 | AC41: 平成 | AF41: 年 | AH41: 月 | AJ41: 日 | AL41: ： | AN41: ～
I42: 様 | AC42: 平成 | AF42: 年 | AH42: 月 | AJ42: 日 | AL42: ： | AN42: ～
I43: 様 | AC43: 平成 | AF43: 年 | AH43: 月 | AJ43: 日 | AL43: ： | AN43: ～
...

Sheet 9
A1: ソーシャルワーカー室 業務日誌 | AH1: C.O.O | AL1: I.O.O | AP1: Ａ.Ｏ.Ｍ
H3: =曜日!B12 -> 令和2年 | M3: =曜日!C12 -> 9月 | P3: 9日 | S3: （ | T3: =曜日!D4 -> 水 | U3: ） | W3: 作成者 | Z3: ： | AA3: 大川 祥子
A5: 労務 状況 | D5: 勤務状況 | K5: 西舘 翔子 | P5: 日勤 | T5: 小屋敷 千瑛 | Y5: 日勤 | AC5: 大川 祥子 | AH5: 日勤
A7: 入退院 状況 | D7: 入院形態 | K7: 東病棟 | Q7: 西病棟 | W7: 北病棟 | AC7: 南病棟 | AI7: 合計 | AO7: 総数
K8: 男性 | N8: 女性 | Q8: 男性 | T8: 女性 | W8: 男性 | Z8: 女性 | AC8: 男性 | AF8: 女性 | AI8: 男性 | AL8: 女性
D9: 任意入院 | K9: 4 | N9: 3 | Q9: 0 | T9: 6 | W9: 24 | Z9: 13 | AC9: 1 | AF9: 1 | AI9: =K9+Q9+W9+AC9 -> 29 | AL9: =N9+T9+Z9+AF9 -> 23 | AO9: =AI13 -> 187
D10: 医療保護入院 | K10: 22 | N10: 16 | Q10: 18 | T10: 16 | W10: 0 | Z10: 0 | AC10: 32 | AF10: 28 | AI10: =K10+Q10+W10+AC10 -> 72 | AL10: =N10+T10+Z10+AF10 -> 60
D11: 措置入院 | K11: 3 | N11: 0 | Q11: 0 | T11: 0 | W11: 0 | Z11: 0 | AC11: 0 | AF11: 0 | AI11: =K11+Q11+W11+AC11 -> 3 | AL11: =N11+T11+Z11+AF11 -> 0
D12: 合計 | K12: =K9+K10+K11 -> 29 | N12: =N9+N10+N11 -> 19 | Q12: =Q9+Q10+Q11 -> 18 | T12: =SUM(T9:V11) -> 22 | W12: =SUM(W9:Y11) -> 24 | Z12: =SUM(Z9:AB11) -> 13 | AC12: =SUM(AC9:AE11) -> 33 | AF12: =SUM(AF9:AH11) -> 29 | AI12: =SUM(K12+Q12+W12+AC12) -> 104 | AL12: =SUM(N12+T12+Z12+AF12) -> 83 | AO12: 人
K13: =K12+N12 -> 48 | Q13: =Q12+T12 -> 40 | W13: =W12+Z12 -> 37 | AC13: =AC12+AF12 -> 62 | AI13: =AI12+AL12 -> 187
F14: 患者様氏名 | N14: 入院形態 | T14: 担当Dr | Y14: 担当SW | AD14: 病棟 | AJ14: 備考欄
D15: 入院 | F15: 沼畑 勲 | L15: 様 | N15: 医療保護入院 | T15: 深澤隆Dr | Y15: 小屋敷 千瑛 | AD15: 東C
L16: 様
L17: 様
L18: 様
L19: 様
D20: 退院 | L20: 様
L21: 様
L22: 様
L23: 様
L24: 様
D25: 転棟 ･ 入院形態変更 | F25: 東野 愛 | L25: 様 | N25: 医療保護入院 | T25: 金泰德Dr | Y25: 西舘 翔子 | AD25: 西B→東A
L26: 様
L27: 様
L28: 様
L29: 様
A30: 患者様 関連 | D30: 患者様氏名 | K30: 担当Dr | P30: 病棟 | S30: 制限内容 | X30: 制限時間 | AC30: 開始日時 | AO30: 備考
D31: 宮崎 宏之 | I31: 様 | K31: 馬渡晃弘Dr | P31: 東A | S31: 終日隔離 | X31: 終日隔離 | AC31: 令和 | AE31: 2 | AF31: 年 | AG31: 5 | AH31: 月 | AI31: 23 | AJ31: 日 | AL31: ： | AN31: ～
D32: 沖田 康夫 | I32: 様 | K32: 金泰徳Dr | P32: 東C | S32: 身体拘束 | X32: 身体拘束 | AC32: 令和 | AE32: 2 | AF32: 年 | AG32: 7 | AH32: 月 | AI32: 22 | AJ32: 日 | AL32: ： | AN32: ～
D33: 澤口 利香 | I33: 様 | K33: 深澤隆Dr | P33: 東A | S33: 身体拘束 | X33: 身体拘束 | AC33: 令和 | AE33: 2 | AF33: 年 | AG33: 8 | AH33: 月 | AI33: 11 | AJ33: 日 | AL33: ： | AN33: ～
D34: 袴田 将志 | I34: 様 | K34: 田名部茂Dr | P34: 東A | S34: 時間隔離 | X34: 時間隔離 | AC34: 令和 | AE34: 2 | AF34: 年 | AG34: 9 | AH34: 月 | AI34: 9 | AJ34: 日 | AL34: ： | AN34: ～ | AO34: 時間隔離へ変更
I35: 様 | AC35: 令和 | AF35: 年 | AH35: 月 | AJ35: 日 | AL35: ： | AN35: ～
I36: 様 | AC36: 平成 | AF36: 年 | AH36: 月 | AJ36: 日 | AL36: ： | AN36: ～
I37: 様 | AC37: 平成 | AF37: 年 | AH37: 月 | AJ37: 日 | AL37: ： | AN37: ～
I38: 様 | AC38: 平成 | AF38: 年 | AH38: 月 | AJ38: 日 | AL38: ： | AN38: ～
I39: 様 | AC39: 平成 | AF39: 年 | AH39: 月 | AJ39: 日 | AL39: ： | AN39: ～
I40: 様 | AC40: 平成 | AF40: 年 | AH40: 月 | AJ40: 日 | AL40: ： | AN40: ～
I41: 様 | AC41: 平成 | AF41: 年 | AH41: 月 | AJ41: 日 | AL41: ： | AN41: ～
I42: 様 | AC42: 平成 | AF42: 年 | AH42: 月 | AJ42: 日 | AL42: ： | AN42: ～
I43: 様 | AC43: 平成 | AF43: 年 | AH43: 月 | AJ43: 日 | AL43: ： | AN43: ～
...

Sheet 10
A1: ソーシャルワーカー室 業務日誌 | AH1: C.O.O | AL1: I.O.O | AP1: Ａ.Ｏ.Ｍ
H3: =曜日!B12 -> 令和2年 | M3: =曜日!C12 -> 9月 | P3: 10日 | S3: （ | T3: =曜日!D5 -> 木 | U3: ） | W3: 作成者 | Z3: ： | AA3: 大川 祥子
A5: 労務 状況 | D5: 勤務状況 | K5: 西舘 翔子 | P5: 日勤 | T5: 小屋敷 千瑛 | Y5: 日勤 | AC5: 大川 祥子 | AH5: 日勤
A7: 入退院 状況 | D7: 入院形態 | K7: 東病棟 | Q7: 西病棟 | W7: 北病棟 | AC7: 南病棟 | AI7: 合計 | AO7: 総数
K8: 男性 | N8: 女性 | Q8: 男性 | T8: 女性 | W8: 男性 | Z8: 女性 | AC8: 男性 | AF8: 女性 | AI8: 男性 | AL8: 女性
D9: 任意入院 | K9: 5 | N9: 3 | Q9: 0 | T9: 7 | W9: 24 | Z9: 13 | AC9: 1 | AF9: 1 | AI9: =K9+Q9+W9+AC9 -> 30 | AL9: =N9+T9+Z9+AF9 -> 24 | AO9: =AI13 -> 189
D10: 医療保護入院 | K10: 22 | N10: 16 | Q10: 18 | T10: 16 | W10: 0 | Z10: 0 | AC10: 32 | AF10: 28 | AI10: =K10+Q10+W10+AC10 -> 72 | AL10: =N10+T10+Z10+AF10 -> 60
D11: 措置入院 | K11: 3 | N11: 0 | Q11: 0 | T11: 0 | W11: 0 | Z11: 0 | AC11: 0 | AF11: 0 | AI11: =K11+Q11+W11+AC11 -> 3 | AL11: =N11+T11+Z11+AF11 -> 0
D12: 合計 | K12: =K9+K10+K11 -> 30 | N12: =N9+N10+N11 -> 19 | Q12: =Q9+Q10+Q11 -> 18 | T12: =SUM(T9:V11) -> 23 | W12: =SUM(W9:Y11) -> 24 | Z12: =SUM(Z9:AB11) -> 13 | AC12: =SUM(AC9:AE11) -> 33 | AF12: =SUM(AF9:AH11) -> 29 | AI12: =SUM(K12+Q12+W12+AC12) -> 105 | AL12: =SUM(N12+T12+Z12+AF12) -> 84 | AO12: 人
K13: =K12+N12 -> 49 | Q13: =Q12+T12 -> 41 | W13: =W12+Z12 -> 37 | AC13: =AC12+AF12 -> 62 | AI13: =AI12+AL12 -> 189
F14: 患者様氏名 | N14: 入院形態 | T14: 担当Dr | Y14: 担当SW | AD14: 病棟 | AJ14: 備考欄
D15: 入院 | F15: 藤井 純子 | L15: 様 | N15: 任意入院 | T15: 安ヶ平忠也Dr | Y15: 小屋敷 千瑛 | AD15: 西A
F16: 田代 浩太 | L16: 様 | N16: 任意入院 | T16: 田名部茂Dr | Y16: 大川 祥子 | AD16: 東A
F17: 松本 貴四郎 | L17: 様 | N17: 医療保護入院 | T17: 深澤隆Dr | Y17: 大川 祥子 | AD17: 東C
L18: 様
L19: 様
D20: 退院 | F20: 馬渡 満芳 | L20: 様 | N20: 医療保護入院 | T20: 馬渡晃弘Dr | Y20: 大川 祥子 | AD20: 南C
L21: 様
L22: 様
L23: 様
L24: 様
D25: 転棟 ･ 入院形態変更 | F25: 馬場 貞蔵 | L25: 様 | N25: 医療保護入院 | AD25: 東Ｃ→南Ｃ
L26: 様
L27: 様
L28: 様
L29: 様
A30: 患者様 関連 | D30: 患者様氏名 | K30: 担当Dr | P30: 病棟 | S30: 制限内容 | X30: 制限時間 | AC30: 開始日時 | AO30: 備考
D31: 宮崎 宏之 | I31: 様 | K31: 馬渡晃弘Dr | P31: 東A | S31: 終日隔離 | X31: 終日隔離 | AC31: 令和 | AE31: 2 | AF31: 年 | AG31: 5 | AH31: 月 | AI31: 23 | AJ31: 日 | AL31: ： | AN31: ～
D32: 沖田 康夫 | I32: 様 | K32: 金泰徳Dr | P32: 東C | S32: 身体拘束 | X32: 身体拘束 | AC32: 令和 | AE32: 2 | AF32: 年 | AG32: 7 | AH32: 月 | AI32: 22 | AJ32: 日 | AL32: ： | AN32: ～
D33: 澤口 利香 | I33: 様 | K33: 深澤隆Dr | P33: 東A | S33: 身体拘束 | X33: 身体拘束 | AC33: 令和 | AE33: 2 | AF33: 年 | AG33: 8 | AH33: 月 | AI33: 11 | AJ33: 日 | AL33: ： | AN33: ～
D34: 袴田 将志 | I34: 様 | K34: 田名部茂Dr | P34: 東A | S34: 時間隔離 | X34: 時間隔離 | AC34: 令和 | AE34: 2 | AF34: 年 | AG34: 9 | AH34: 月 | AI34: 9 | AJ34: 日 | AL34: ： | AN34: ～
I35: 様 | AC35: 平成 | AF35: 年 | AH35: 月 | AJ35: 日 | AL35: ： | AN35: ～
I36: 様 | AC36: 平成 | AF36: 年 | AH36: 月 | AJ36: 日 | AL36: ： | AN36: ～
I37: 様 | AC37: 平成 | AF37: 年 | AH37: 月 | AJ37: 日 | AL37: ： | AN37: ～
I38: 様 | AC38: 平成 | AF38: 年 | AH38: 月 | AJ38: 日 | AL38: ： | AN38: ～
I39: 様 | AC39: 平成 | AF39: 年 | AH39: 月 | AJ39: 日 | AL39: ： | AN39: ～
I40: 様 | AC40: 平成 | AF40: 年 | AH40: 月 | AJ40: 日 | AL40: ： | AN40: ～
I41: 様 | AC41: 平成 | AF41: 年 | AH41: 月 | AJ41: 日 | AL41: ： | AN41: ～
I42: 様 | AC42: 平成 | AF42: 年 | AH42: 月 | AJ42: 日 | AL42: ： | AN42: ～
I43: 様 | AC43: 平成 | AF43: 年 | AH43: 月 | AJ43: 日 | AL43: ： | AN43: ～
...

Sheet 11
A1: ソーシャルワーカー室 業務日誌 | AH1: C.O.O | AL1: I.O.O | AP1: Ａ.Ｏ.Ｍ
H3: =曜日!B12 -> 令和2年 | M3: =曜日!C12 -> 9月 | P3: 11日 | S3: （ | T3: =曜日!D6 -> 金 | U3: ） | W3: 作成者 | Z3: ： | AA3: 大川 祥子
A5: 労務 状況 | D5: 勤務状況 | K5: 西舘 翔子 | P5: 日勤 | T5: 小屋敷 千瑛 | Y5: 日勤 | AC5: 大川 祥子 | AH5: 日勤
A7: 入退院 状況 | D7: 入院形態 | K7: 東病棟 | Q7: 西病棟 | W7: 北病棟 | AC7: 南病棟 | AI7: 合計 | AO7: 総数
K8: 男性 | N8: 女性 | Q8: 男性 | T8: 女性 | W8: 男性 | Z8: 女性 | AC8: 男性 | AF8: 女性 | AI8: 男性 | AL8: 女性
D9: 任意入院 | K9: 6 | N9: 3 | Q9: 0 | T9: 7 | W9: 24 | Z9: 13 | AC9: 1 | AF9: 1 | AI9: =K9+Q9+W9+AC9 -> 31 | AL9: =N9+T9+Z9+AF9 -> 24 | AO9: =AI13 -> 190
D10: 医療保護入院 | K10: 22 | N10: 16 | Q10: 18 | T10: 16 | W10: 0 | Z10: 0 | AC10: 32 | AF10: 28 | AI10: =K10+Q10+W10+AC10 -> 72 | AL10: =N10+T10+Z10+AF10 -> 60
D11: 措置入院 | K11: 3 | N11: 0 | Q11: 0 | T11: 0 | W11: 0 | Z11: 0 | AC11: 0 | AF11: 0 | AI11: =K11+Q11+W11+AC11 -> 3 | AL11: =N11+T11+Z11+AF11 -> 0
D12: 合計 | K12: =K9+K10+K11 -> 31 | N12: =N9+N10+N11 -> 19 | Q12: =Q9+Q10+Q11 -> 18 | T12: =SUM(T9:V11) -> 23 | W12: =SUM(W9:Y11) -> 24 | Z12: =SUM(Z9:AB11) -> 13 | AC12: =SUM(AC9:AE11) -> 33 | AF12: =SUM(AF9:AH11) -> 29 | AI12: =SUM(K12+Q12+W12+AC12) -> 106 | AL12: =SUM(N12+T12+Z12+AF12) -> 84 | AO12: 人
K13: =K12+N12 -> 50 | Q13: =Q12+T12 -> 41 | W13: =W12+Z12 -> 37 | AC13: =AC12+AF12 -> 62 | AI13: =AI12+AL12 -> 190
F14: 患者様氏名 | N14: 入院形態 | T14: 担当Dr | Y14: 担当SW | AD14: 病棟 | AJ14: 備考欄
D15: 入院 | F15: 島 龍太郎 | L15: 様 | N15: 任意入院 | T15: 田名部茂Dr | Y15: 西舘 翔子 | AD15: 東D
L16: 様
L17: 様
L18: 様
L19: 様
D20: 退院 | L20: 様
L21: 様
L22: 様
L23: 様
L24: 様
D25: 転棟 ･ 入院形態変更 | L25: 様
L26: 様
L27: 様
L28: 様
L29: 様
A30: 患者様 関連 | D30: 患者様氏名 | K30: 担当Dr | P30: 病棟 | S30: 制限内容 | X30: 制限時間 | AC30: 開始日時 | AO30: 備考
D31: 宮崎 宏之 | I31: 様 | K31: 馬渡晃弘Dr | P31: 東A | S31: 終日隔離 | X31: 終日隔離 | AC31: 令和 | AE31: 2 | AF31: 年 | AG31: 5 | AH31: 月 | AI31: 23 | AJ31: 日 | AL31: ： | AN31: ～
D32: 沖田 康夫 | I32: 様 | K32: 金泰徳Dr | P32: 東C | S32: 身体拘束 | X32: 身体拘束 | AC32: 令和 | AE32: 2 | AF32: 年 | AG32: 7 | AH32: 月 | AI32: 22 | AJ32: 日 | AL32: ： | AN32: ～
D33: 澤口 利香 | I33: 様 | K33: 深澤隆Dr | P33: 東A | S33: 身体拘束 | X33: 身体拘束 | AC33: 令和 | AE33: 2 | AF33: 年 | AG33: 8 | AH33: 月 | AI33: 11 | AJ33: 日 | AL33: ： | AN33: ～
D34: 袴田 将志 | I34: 様 | K34: 田名部茂Dr | P34: 東A | S34: 時間隔離 | X34: 時間隔離 | AC34: 令和 | AE34: 2 | AF34: 年 | AG34: 9 | AH34: 月 | AI34: 9 | AJ34: 日 | AL34: ： | AN34: ～
I35: 様 | AC35: 平成 | AF35: 年 | AH35: 月 | AJ35: 日 | AL35: ： | AN35: ～
I36: 様 | AC36: 平成 | AF36: 年 | AH36: 月 | AJ36: 日 | AL36: ： | AN36: ～
I37: 様 | AC37: 平成 | AF37: 年 | AH37: 月 | AJ37: 日 | AL37: ： | AN37: ～
I38: 様 | AC38: 平成 | AF38: 年 | AH38: 月 | AJ38: 日 | AL38: ： | AN38: ～
I39: 様 | AC39: 平成 | AF39: 年 | AH39: 月 | AJ39: 日 | AL39: ： | AN39: ～
I40: 様 | AC40: 平成 | AF40: 年 | AH40: 月 | AJ40: 日 | AL40: ： | AN40: ～
I41: 様 | AC41: 平成 | AF41: 年 | AH41: 月 | AJ41: 日 | AL41: ： | AN41: ～
I42: 様 | AC42: 平成 | AF42: 年 | AH42: 月 | AJ42: 日 | AL42: ： | AN42: ～
I43: 様 | AC43: 平成 | AF43: 年 | AH43: 月 | AJ43: 日 | AL43: ： | AN43: ～
...

Sheet 12
A1: ソーシャルワーカー室 業務日誌 | AH1: C.O.O | AL1: I.O.O | AP1: Ａ.Ｏ.Ｍ
H3: =曜日!B12 -> 令和2年 | M3: =曜日!C12 -> 9月 | P3: 12日 | S3: （ | T3: =曜日!D7 -> 土 | U3: ） | W3: 作成者 | Z3: ： | AA3: 西舘 翔子
A5: 労務 状況 | D5: 勤務状況 | K5: 西舘 翔子 | P5: 日勤 | T5: 小屋敷 千瑛 | Y5: 公休 | AC5: 大川 祥子 | AH5: 公休
A7: 入退院 状況 | D7: 入院形態 | K7: 東病棟 | Q7: 西病棟 | W7: 北病棟 | AC7: 南病棟 | AI7: 合計 | AO7: 総数
K8: 男性 | N8: 女性 | Q8: 男性 | T8: 女性 | W8: 男性 | Z8: 女性 | AC8: 男性 | AF8: 女性 | AI8: 男性 | AL8: 女性
D9: 任意入院 | K9: 6 | N9: 3 | Q9: 0 | T9: 7 | W9: 24 | Z9: 13 | AC9: 1 | AF9: 1 | AI9: =K9+Q9+W9+AC9 -> 31 | AL9: =N9+T9+Z9+AF9 -> 24 | AO9: =AI13 -> 190
D10: 医療保護入院 | K10: 22 | N10: 16 | Q10: 18 | T10: 16 | W10: 0 | Z10: 0 | AC10: 32 | AF10: 28 | AI10: =K10+Q10+W10+AC10 -> 72 | AL10: =N10+T10+Z10+AF10 -> 60
D11: 措置入院 | K11: 3 | N11: 0 | Q11: 0 | T11: 0 | W11: 0 | Z11: 0 | AC11: 0 | AF11: 0 | AI11: =K11+Q11+W11+AC11 -> 3 | AL11: =N11+T11+Z11+AF11 -> 0
D12: 合計 | K12: =K9+K10+K11 -> 31 | N12: =N9+N10+N11 -> 19 | Q12: =Q9+Q10+Q11 -> 18 | T12: =SUM(T9:V11) -> 23 | W12: =SUM(W9:Y11) -> 24 | Z12: =SUM(Z9:AB11) -> 13 | AC12: =SUM(AC9:AE11) -> 33 | AF12: =SUM(AF9:AH11) -> 29 | AI12: =SUM(K12+Q12+W12+AC12) -> 106 | AL12: =SUM(N12+T12+Z12+AF12) -> 84 | AO12: 人
K13: =K12+N12 -> 50 | Q13: =Q12+T12 -> 41 | W13: =W12+Z12 -> 37 | AC13: =AC12+AF12 -> 62 | AI13: =AI12+AL12 -> 190
F14: 患者様氏名 | N14: 入院形態 | T14: 担当Dr | Y14: 担当SW | AD14: 病棟 | AJ14: 備考欄
D15: 入院 | L15: 様
L16: 様
L17: 様
L18: 様
L19: 様
D20: 退院 | L20: 様
L21: 様
L22: 様
L23: 様
L24: 様
D25: 転棟 ･ 入院形態変更 | L25: 様
L26: 様
L27: 様
L28: 様
L29: 様
A30: 患者様 関連 | D30: 患者様氏名 | K30: 担当Dr | P30: 病棟 | S30: 制限内容 | X30: 制限時間 | AC30: 開始日時 | AO30: 備考
D31: 宮崎 宏之 | I31: 様 | K31: 馬渡晃弘Dr | P31: 東A | S31: 終日隔離 | X31: 終日隔離 | AC31: 令和 | AE31: 2 | AF31: 年 | AG31: 5 | AH31: 月 | AI31: 23 | AJ31: 日 | AL31: ： | AN31: ～
D32: 沖田 康夫 | I32: 様 | K32: 金泰徳Dr | P32: 東C | S32: 身体拘束 | X32: 身体拘束 | AC32: 令和 | AE32: 2 | AF32: 年 | AG32: 7 | AH32: 月 | AI32: 22 | AJ32: 日 | AL32: ： | AN32: ～
D33: 澤口 利香 | I33: 様 | K33: 深澤隆Dr | P33: 東A | S33: 身体拘束 | X33: 身体拘束 | AC33: 令和 | AE33: 2 | AF33: 年 | AG33: 8 | AH33: 月 | AI33: 11 | AJ33: 日 | AL33: ： | AN33: ～
D34: 袴田 将志 | I34: 様 | K34: 田名部茂Dr | P34: 東A | S34: 時間隔離 | X34: 時間隔離 | AC34: 令和 | AE34: 2 | AF34: 年 | AG34: 9 | AH34: 月 | AI34: 9 | AJ34: 日 | AL34: ： | AN34: ～
I35: 様 | AC35: 平成 | AF35: 年 | AH35: 月 | AJ35: 日 | AL35: ： | AN35: ～
I36: 様 | AC36: 平成 | AF36: 年 | AH36: 月 | AJ36: 日 | AL36: ： | AN36: ～
I37: 様 | AC37: 平成 | AF37: 年 | AH37: 月 | AJ37: 日 | AL37: ： | AN37: ～
I38: 様 | AC38: 平成 | AF38: 年 | AH38: 月 | AJ38: 日 | AL38: ： | AN38: ～
I39: 様 | AC39: 平成 | AF39: 年 | AH39: 月 | AJ39: 日 | AL39: ： | AN39: ～
I40: 様 | AC40: 平成 | AF40: 年 | AH40: 月 | AJ40: 日 | AL40: ： | AN40: ～
I41: 様 | AC41: 平成 | AF41: 年 | AH41: 月 | AJ41: 日 | AL41: ： | AN41: ～
I42: 様 | AC42: 平成 | AF42: 年 | AH42: 月 | AJ42: 日 | AL42: ： | AN42: ～
I43: 様 | AC43: 平成 | AF43: 年 | AH43: 月 | AJ43: 日 | AL43: ： | AN43: ～
...

Sheet 13
A1: ソーシャルワーカー室 業務日誌 | AH1: C.O.O | AL1: I.O.O | AP1: Ａ.Ｏ.Ｍ
H3: =曜日!B12 -> 令和2年 | M3: =曜日!C12 -> 9月 | P3: 13日 | S3: （ | T3: =曜日!D8 -> 日 | U3: ） | W3: 作成者 | Z3: ： | AA3: 小屋敷 千瑛
A5: 労務 状況 | D5: 勤務状況 | K5: 西舘 翔子 | P5: 公休 | T5: 小屋敷 千瑛 | Y5: 公休 | AC5: 大川 祥子 | AH5: 公休
A7: 入退院 状況 | D7: 入院形態 | K7: 東病棟 | Q7: 西病棟 | W7: 北病棟 | AC7: 南病棟 | AI7: 合計 | AO7: 総数
K8: 男性 | N8: 女性 | Q8: 男性 | T8: 女性 | W8: 男性 | Z8: 女性 | AC8: 男性 | AF8: 女性 | AI8: 男性 | AL8: 女性
D9: 任意入院 | K9: 6 | N9: 3 | Q9: 0 | T9: 7 | W9: 24 | Z9: 13 | AC9: 1 | AF9: 1 | AI9: =K9+Q9+W9+AC9 -> 31 | AL9: =N9+T9+Z9+AF9 -> 24 | AO9: =AI13 -> 189
D10: 医療保護入院 | K10: 21 | N10: 16 | Q10: 18 | T10: 16 | W10: 0 | Z10: 0 | AC10: 32 | AF10: 28 | AI10: =K10+Q10+W10+AC10 -> 71 | AL10: =N10+T10+Z10+AF10 -> 60
D11: 措置入院 | K11: 3 | N11: 0 | Q11: 0 | T11: 0 | W11: 0 | Z11: 0 | AC11: 0 | AF11: 0 | AI11: =K11+Q11+W11+AC11 -> 3 | AL11: =N11+T11+Z11+AF11 -> 0
D12: 合計 | K12: =K9+K10+K11 -> 30 | N12: =N9+N10+N11 -> 19 | Q12: =Q9+Q10+Q11 -> 18 | T12: =SUM(T9:V11) -> 23 | W12: =SUM(W9:Y11) -> 24 | Z12: =SUM(Z9:AB11) -> 13 | AC12: =SUM(AC9:AE11) -> 33 | AF12: =SUM(AF9:AH11) -> 29 | AI12: =SUM(K12+Q12+W12+AC12) -> 105 | AL12: =SUM(N12+T12+Z12+AF12) -> 84 | AO12: 人
K13: =K12+N12 -> 49 | Q13: =Q12+T12 -> 41 | W13: =W12+Z12 -> 37 | AC13: =AC12+AF12 -> 62 | AI13: =AI12+AL12 -> 189
F14: 患者様氏名 | N14: 入院形態 | T14: 担当Dr | Y14: 担当SW | AD14: 病棟 | AJ14: 備考欄
D15: 入院 | L15: 様
L16: 様
L17: 様
L18: 様
L19: 様
D20: 退院 | F20: 笹川 清 | L20: 様 | N20: 医療保護入院 | T20: 馬渡晃弘Dr | Y20: 大川 祥子 | AD20: 東合
L21: 様
L22: 様
L23: 様
L24: 様
D25: 転棟 ･ 入院形態変更 | L25: 様
L26: 様
L27: 様
L28: 様
L29: 様
A30: 患者様 関連 | D30: 患者様氏名 | K30: 担当Dr | P30: 病棟 | S30: 制限内容 | X30: 制限時間 | AC30: 開始日時 | AO30: 備考
D31: 宮崎 宏之 | I31: 様 | K31: 馬渡晃弘Dr | P31: 東A | S31: 終日隔離 | X31: 終日隔離 | AC31: 令和 | AE31: 2 | AF31: 年 | AG31: 5 | AH31: 月 | AI31: 23 | AJ31: 日 | AL31: ： | AN31: ～
D32: 沖田 康夫 | I32: 様 | K32: 金泰徳Dr | P32: 東C | S32: 身体拘束 | X32: 身体拘束 | AC32: 令和 | AE32: 2 | AF32: 年 | AG32: 7 | AH32: 月 | AI32: 22 | AJ32: 日 | AL32: ： | AN32: ～
D33: 澤口 利香 | I33: 様 | K33: 深澤隆Dr | P33: 東A | S33: 身体拘束 | X33: 身体拘束 | AC33: 令和 | AE33: 2 | AF33: 年 | AG33: 8 | AH33: 月 | AI33: 11 | AJ33: 日 | AL33: ： | AN33: ～
D34: 袴田 将志 | I34: 様 | K34: 田名部茂Dr | P34: 東A | S34: 時間隔離 | X34: 時間隔離 | AC34: 令和 | AE34: 2 | AF34: 年 | AG34: 9 | AH34: 月 | AI34: 9 | AJ34: 日 | AL34: ： | AN34: ～
I35: 様 | AC35: 平成 | AF35: 年 | AH35: 月 | AJ35: 日 | AL35: ： | AN35: ～
I36: 様 | AC36: 平成 | AF36: 年 | AH36: 月 | AJ36: 日 | AL36: ： | AN36: ～
I37: 様 | AC37: 平成 | AF37: 年 | AH37: 月 | AJ37: 日 | AL37: ： | AN37: ～
I38: 様 | AC38: 平成 | AF38: 年 | AH38: 月 | AJ38: 日 | AL38: ： | AN38: ～
I39: 様 | AC39: 平成 | AF39: 年 | AH39: 月 | AJ39: 日 | AL39: ： | AN39: ～
I40: 様 | AC40: 平成 | AF40: 年 | AH40: 月 | AJ40: 日 | AL40: ： | AN40: ～
I41: 様 | AC41: 平成 | AF41: 年 | AH41: 月 | AJ41: 日 | AL41: ： | AN41: ～
I42: 様 | AC42: 平成 | AF42: 年 | AH42: 月 | AJ42: 日 | AL42: ： | AN42: ～
I43: 様 | AC43: 平成 | AF43: 年 | AH43: 月 | AJ43: 日 | AL43: ： | AN43: ～
...

Sheet 14ここまで
A1: ソーシャルワーカー室 業務日誌 | AH1: C.O.O | AL1: I.O.O | AP1: Ａ.Ｏ.Ｍ
H3: =曜日!B12 -> 令和2年 | M3: =曜日!C12 -> 9月 | P3: 14日 | S3: （ | T3: =曜日!D9 -> 月 | U3: ） | W3: 作成者 | Z3: ： | AA3: 小屋敷 千瑛
A5: 労務 状況 | D5: 勤務状況 | K5: 西舘 翔子 | P5: 公休 | T5: 小屋敷 千瑛 | Y5: 日勤 | AC5: 大川 祥子 | AH5: 日勤
A7: 入退院 状況 | D7: 入院形態 | K7: 東病棟 | Q7: 西病棟 | W7: 北病棟 | AC7: 南病棟 | AI7: 合計 | AO7: 総数
K8: 男性 | N8: 女性 | Q8: 男性 | T8: 女性 | W8: 男性 | Z8: 女性 | AC8: 男性 | AF8: 女性 | AI8: 男性 | AL8: 女性
D9: 任意入院 | K9: 6 | N9: 3 | Q9: 0 | T9: 7 | W9: 24 | Z9: 13 | AC9: 1 | AF9: 1 | AI9: =K9+Q9+W9+AC9 -> 31 | AL9: =N9+T9+Z9+AF9 -> 24 | AO9: =AI13 -> 190
D10: 医療保護入院 | K10: 22 | N10: 16 | Q10: 18 | T10: 16 | W10: 0 | Z10: 0 | AC10: 32 | AF10: 28 | AI10: =K10+Q10+W10+AC10 -> 72 | AL10: =N10+T10+Z10+AF10 -> 60
D11: 措置入院 | K11: 3 | N11: 0 | Q11: 0 | T11: 0 | W11: 0 | Z11: 0 | AC11: 0 | AF11: 0 | AI11: =K11+Q11+W11+AC11 -> 3 | AL11: =N11+T11+Z11+AF11 -> 0
D12: 合計 | K12: =K9+K10+K11 -> 31 | N12: =N9+N10+N11 -> 19 | Q12: =Q9+Q10+Q11 -> 18 | T12: =SUM(T9:V11) -> 23 | W12: =SUM(W9:Y11) -> 24 | Z12: =SUM(Z9:AB11) -> 13 | AC12: =SUM(AC9:AE11) -> 33 | AF12: =SUM(AF9:AH11) -> 29 | AI12: =SUM(K12+Q12+W12+AC12) -> 106 | AL12: =SUM(N12+T12+Z12+AF12) -> 84 | AO12: 人
K13: =K12+N12 -> 50 | Q13: =Q12+T12 -> 41 | W13: =W12+Z12 -> 37 | AC13: =AC12+AF12 -> 62 | AI13: =AI12+AL12 -> 190
F14: 患者様氏名 | N14: 入院形態 | T14: 担当Dr | Y14: 担当SW | AD14: 病棟 | AJ14: 備考欄
D15: 入院 | F15: 村山 公基 | L15: 様 | N15: 医療保護入院 | T15: 田名部茂Dr | Y15: 小屋敷 千瑛 | AD15: 東A | AJ15: 入院時：齊藤Dr
L16: 様
L17: 様
L18: 様
L19: 様
D20: 退院 | L20: 様
L21: 様
L22: 様
L23: 様
L24: 様
D25: 転棟 ･ 入院形態変更 | L25: 様
L26: 様
L27: 様
L28: 様
L29: 様
A30: 患者様 関連 | D30: 患者様氏名 | K30: 担当Dr | P30: 病棟 | S30: 制限内容 | X30: 制限時間 | AC30: 開始日時 | AO30: 備考
D31: 宮崎 宏之 | I31: 様 | K31: 馬渡晃弘Dr | P31: 東A | S31: 終日隔離 | X31: 終日隔離 | AC31: 令和 | AE31: 2 | AF31: 年 | AG31: 5 | AH31: 月 | AI31: 23 | AJ31: 日 | AL31: ： | AN31: ～
D32: 沖田 康夫 | I32: 様 | K32: 金泰徳Dr | P32: 東C | S32: 身体拘束 | X32: 身体拘束 | AC32: 令和 | AE32: 2 | AF32: 年 | AG32: 7 | AH32: 月 | AI32: 22 | AJ32: 日 | AL32: ： | AN32: ～
D33: 澤口 利香 | I33: 様 | K33: 深澤隆Dr | P33: 東A | S33: 身体拘束 | X33: 身体拘束 | AC33: 令和 | AE33: 2 | AF33: 年 | AG33: 8 | AH33: 月 | AI33: 11 | AJ33: 日 | AL33: ： | AN33: ～
D34: 袴田 将志 | I34: 様 | K34: 田名部茂Dr | P34: 東A | S34: 時間隔離 | X34: 時間隔離 | AC34: 令和 | AE34: 2 | AF34: 年 | AG34: 9 | AH34: 月 | AI34: 9 | AJ34: 日 | AL34: ： | AN34: ～
I35: 様 | AC35: 平成 | AF35: 年 | AH35: 月 | AJ35: 日 | AL35: ： | AN35: ～
I36: 様 | AC36: 平成 | AF36: 年 | AH36: 月 | AJ36: 日 | AL36: ： | AN36: ～
I37: 様 | AC37: 平成 | AF37: 年 | AH37: 月 | AJ37: 日 | AL37: ： | AN37: ～
I38: 様 | AC38: 平成 | AF38: 年 | AH38: 月 | AJ38: 日 | AL38: ： | AN38: ～
I39: 様 | AC39: 平成 | AF39: 年 | AH39: 月 | AJ39: 日 | AL39: ： | AN39: ～
I40: 様 | AC40: 平成 | AF40: 年 | AH40: 月 | AJ40: 日 | AL40: ： | AN40: ～
I41: 様 | AC41: 平成 | AF41: 年 | AH41: 月 | AJ41: 日 | AL41: ： | AN41: ～
I42: 様 | AC42: 平成 | AF42: 年 | AH42: 月 | AJ42: 日 | AL42: ： | AN42: ～
I43: 様 | AC43: 平成 | AF43: 年 | AH43: 月 | AJ43: 日 | AL43: ： | AN43: ～
...

Sheet 15
A1: ソーシャルワーカー室 業務日誌 | AH1: C.O.O | AL1: I.O.O | AP1: Ａ.Ｏ.Ｍ
H3: =曜日!B12 -> 令和2年 | M3: =曜日!C12 -> 9月 | P3: 15日 | S3: （ | T3: =曜日!D3 -> 火 | U3: ） | W3: 作成者 | Z3: ： | AA3: 小屋敷 千瑛
A5: 労務 状況 | D5: 勤務状況 | K5: 西舘 翔子 | P5: 日勤 | T5: 小屋敷 千瑛 | Y5: 日勤 | AC5: 大川 祥子 | AH5: 日勤
A7: 入退院 状況 | D7: 入院形態 | K7: 東病棟 | Q7: 西病棟 | W7: 北病棟 | AC7: 南病棟 | AI7: 合計 | AO7: 総数
K8: 男性 | N8: 女性 | Q8: 男性 | T8: 女性 | W8: 男性 | Z8: 女性 | AC8: 男性 | AF8: 女性 | AI8: 男性 | AL8: 女性
D9: 任意入院 | K9: 3 | N9: 2 | Q9: 0 | T9: 11 | W9: 24 | Z9: 11 | AC9: 1 | AF9: 1 | AI9: =K9+Q9+W9+AC9 -> 28 | AL9: =N9+T9+Z9+AF9 -> 25 | AO9: =AI13 -> 188
D10: 医療保護入院 | K10: 24 | N10: 17 | Q10: 19 | T10: 15 | W10: 0 | Z10: 0 | AC10: 30 | AF10: 27 | AI10: =K10+Q10+W10+AC10 -> 73 | AL10: =N10+T10+Z10+AF10 -> 59
D11: 措置入院 | K11: 3 | N11: 0 | Q11: 0 | T11: 0 | W11: 0 | Z11: 0 | AC11: 0 | AF11: 0 | AI11: =K11+Q11+W11+AC11 -> 3 | AL11: =N11+T11+Z11+AF11 -> 0
D12: 合計 | K12: =K9+K10+K11 -> 30 | N12: =N9+N10+N11 -> 19 | Q12: =Q9+Q10+Q11 -> 19 | T12: =SUM(T9:V11) -> 26 | W12: =SUM(W9:Y11) -> 24 | Z12: =SUM(Z9:AB11) -> 11 | AC12: =SUM(AC9:AE11) -> 31 | AF12: =SUM(AF9:AH11) -> 28 | AI12: =SUM(K12+Q12+W12+AC12) -> 104 | AL12: =SUM(N12+T12+Z12+AF12) -> 84 | AO12: 人
K13: =K12+N12 -> 49 | Q13: =Q12+T12 -> 45 | W13: =W12+Z12 -> 35 | AC13: =AC12+AF12 -> 59 | AI13: =AI12+AL12 -> 188
F14: 患者様氏名 | N14: 入院形態 | T14: 担当Dr | Y14: 担当SW | AD14: 病棟 | AJ14: 備考欄
D15: 入院 | L15: 様
L16: 様
L17: 様
L18: 様
L19: 様
D20: 退院 | F20: 小笠原 聖八 | L20: 様 | N20: 医療保護入院 | T20: 馬渡晃弘Dr | Y20: 大川 祥子 | AD20: 南A
F21: 寺地 徳和 | L21: 様 | N21: 任意入院 | T21: 安ヶ平忠也Dr | Y21: 西舘 翔子 | AD21: 西B
L22: 様
L23: 様
L24: 様
D25: 転棟 ･ 入院形態変更 | F25: 引木 勇雄 | L25: 様 | N25: 医療保護入院 | T25: 金泰德Dr | Y25: 大川 祥子 | AD25: 東C→南A
F26: 高柳 和子 | L26: 様 | N26: 任意入院 | T26: 田名部茂Dr | Y26: 西舘 翔子 | AD26: 東B→西B
L27: 様
L28: 様
L29: 様
A30: 患者様 関連 | D30: 患者様氏名 | K30: 担当Dr | P30: 病棟 | S30: 制限内容 | X30: 制限時間 | AC30: 開始日時 | AO30: 備考
D31: 宮崎 宏之 | I31: 様 | K31: 馬渡晃弘Dr | P31: 東A | S31: 終日隔離 | X31: 終日隔離 | AC31: 令和 | AE31: 2 | AF31: 年 | AG31: 5 | AH31: 月 | AI31: 23 | AJ31: 日 | AL31: ： | AN31: ～
D32: 沖田 康夫 | I32: 様 | K32: 金泰徳Dr | P32: 東C | S32: 身体拘束 | X32: 身体拘束 | AC32: 令和 | AE32: 2 | AF32: 年 | AG32: 7 | AH32: 月 | AI32: 22 | AJ32: 日 | AL32: ： | AN32: ～
D33: 澤口 利香 | I33: 様 | K33: 深澤隆Dr | P33: 東A | S33: 身体拘束 | X33: 身体拘束 | AC33: 令和 | AE33: 2 | AF33: 年 | AG33: 8 | AH33: 月 | AI33: 11 | AJ33: 日 | AL33: ： | AN33: ～
D34: 袴田 将志 | I34: 様 | K34: 田名部茂Dr | P34: 東A | S34: 時間隔離 | X34: 時間隔離 | AC34: 令和 | AE34: 2 | AF34: 年 | AG34: 9 | AH34: 月 | AI34: 9 | AJ34: 日 | AL34: ： | AN34: ～
I35: 様 | AC35: 平成 | AF35: 年 | AH35: 月 | AJ35: 日 | AL35: ： | AN35: ～
I36: 様 | AC36: 平成 | AF36: 年 | AH36: 月 | AJ36: 日 | AL36: ： | AN36: ～
I37: 様 | AC37: 平成 | AF37: 年 | AH37: 月 | AJ37: 日 | AL37: ： | AN37: ～
I38: 様 | AC38: 平成 | AF38: 年 | AH38: 月 | AJ38: 日 | AL38: ： | AN38: ～
I39: 様 | AC39: 平成 | AF39: 年 | AH39: 月 | AJ39: 日 | AL39: ： | AN39: ～
I40: 様 | AC40: 平成 | AF40: 年 | AH40: 月 | AJ40: 日 | AL40: ： | AN40: ～
I41: 様 | AC41: 平成 | AF41: 年 | AH41: 月 | AJ41: 日 | AL41: ： | AN41: ～
I42: 様 | AC42: 平成 | AF42: 年 | AH42: 月 | AJ42: 日 | AL42: ： | AN42: ～
I43: 様 | AC43: 平成 | AF43: 年 | AH43: 月 | AJ43: 日 | AL43: ： | AN43: ～
...

Sheet 16
A1: ソーシャルワーカー室 業務日誌 | AH1: C.O.O | AL1: I.O.O | AP1: Ａ.Ｏ.Ｍ
H3: =曜日!B12 -> 令和2年 | M3: =曜日!C12 -> 9月 | P3: 16日 | S3: （ | T3: =曜日!D4 -> 水 | U3: ） | W3: 作成者 | Z3: ： | AA3: 大川 祥子
A5: 労務 状況 | D5: 勤務状況 | K5: 西舘 翔子 | P5: 日勤 | T5: 小屋敷 千瑛 | Y5: 日勤 | AC5: 大川 祥子 | AH5: 日勤
A7: 入退院 状況 | D7: 入院形態 | K7: 東病棟 | Q7: 西病棟 | W7: 北病棟 | AC7: 南病棟 | AI7: 合計 | AO7: 総数
K8: 男性 | N8: 女性 | Q8: 男性 | T8: 女性 | W8: 男性 | Z8: 女性 | AC8: 男性 | AF8: 女性 | AI8: 男性 | AL8: 女性
D9: 任意入院 | K9: 3 | N9: 2 | Q9: 0 | T9: 11 | W9: 24 | Z9: 11 | AC9: 1 | AF9: 1 | AI9: =K9+Q9+W9+AC9 -> 28 | AL9: =N9+T9+Z9+AF9 -> 25 | AO9: =AI13 -> 186
D10: 医療保護入院 | K10: 23 | N10: 16 | Q10: 19 | T10: 15 | W10: 0 | Z10: 0 | AC10: 31 | AF10: 26 | AI10: =K10+Q10+W10+AC10 -> 73 | AL10: =N10+T10+Z10+AF10 -> 57
D11: 措置入院 | K11: 3 | N11: 0 | Q11: 0 | T11: 0 | W11: 0 | Z11: 0 | AC11: 0 | AF11: 0 | AI11: =K11+Q11+W11+AC11 -> 3 | AL11: =N11+T11+Z11+AF11 -> 0
D12: 合計 | K12: =K9+K10+K11 -> 29 | N12: =N9+N10+N11 -> 18 | Q12: =Q9+Q10+Q11 -> 19 | T12: =SUM(T9:V11) -> 26 | W12: =SUM(W9:Y11) -> 24 | Z12: =SUM(Z9:AB11) -> 11 | AC12: =SUM(AC9:AE11) -> 32 | AF12: =SUM(AF9:AH11) -> 27 | AI12: =SUM(K12+Q12+W12+AC12) -> 104 | AL12: =SUM(N12+T12+Z12+AF12) -> 82 | AO12: 人
K13: =K12+N12 -> 47 | Q13: =Q12+T12 -> 45 | W13: =W12+Z12 -> 35 | AC13: =AC12+AF12 -> 59 | AI13: =AI12+AL12 -> 186
F14: 患者様氏名 | N14: 入院形態 | T14: 担当Dr | Y14: 担当SW | AD14: 病棟 | AJ14: 備考欄
D15: 入院 | L15: 様
L16: 様
L17: 様
L18: 様
L19: 様
D20: 退院 | F20: 袴田 ハナヱ | L20: 様 | N20: 医療保護入院 | T20: 金泰德Dr | Y20: 大川 祥子 | AD20: 東合
F21: 松原 輝子 | L21: 様 | N21: 医療保護入院 | T21: 深澤隆Dr | Y21: 大川 祥子 | AD21: 南B
L22: 様
L23: 様
L24: 様
D25: 転棟 ･ 入院形態変更 | F25: 音喜多 秀男 | L25: 様 | N25: 医療保護入院 | T25: 深澤隆Dr | Y25: 西舘 翔子 | AJ25: 東C→南A
L26: 様
L27: 様
L28: 様
L29: 様
A30: 患者様 関連 | D30: 患者様氏名 | K30: 担当Dr | P30: 病棟 | S30: 制限内容 | X30: 制限時間 | AC30: 開始日時 | AO30: 備考
D31: 宮崎 宏之 | I31: 様 | K31: 馬渡晃弘Dr | P31: 東A | S31: 終日隔離 | X31: 終日隔離 | AC31: 令和 | AE31: 2 | AF31: 年 | AG31: 5 | AH31: 月 | AI31: 23 | AJ31: 日 | AL31: ： | AN31: ～
D32: 沖田 康夫 | I32: 様 | K32: 金泰徳Dr | P32: 東C | S32: 身体拘束 | X32: 身体拘束 | AC32: 令和 | AE32: 2 | AF32: 年 | AG32: 7 | AH32: 月 | AI32: 22 | AJ32: 日 | AL32: ： | AN32: ～
D33: 澤口 利香 | I33: 様 | K33: 深澤隆Dr | P33: 東A | S33: 身体拘束 | AC33: 令和 | AE33: 2 | AF33: 年 | AG33: 8 | AH33: 月 | AI33: 11 | AJ33: 日 | AL33: ： | AN33: ～
D34: 袴田 将志 | I34: 様 | K34: 田名部茂Dr | P34: 東A | S34: 時間隔離 | X34: 時間隔離 | AC34: 令和 | AE34: 2 | AF34: 年 | AG34: 9 | AH34: 月 | AI34: 9 | AJ34: 日 | AL34: ： | AN34: ～
I35: 様 | AC35: 平成 | AF35: 年 | AH35: 月 | AJ35: 日 | AL35: ： | AN35: ～
I36: 様 | AC36: 平成 | AF36: 年 | AH36: 月 | AJ36: 日 | AL36: ： | AN36: ～
I37: 様 | AC37: 平成 | AF37: 年 | AH37: 月 | AJ37: 日 | AL37: ： | AN37: ～
I38: 様 | AC38: 平成 | AF38: 年 | AH38: 月 | AJ38: 日 | AL38: ： | AN38: ～
I39: 様 | AC39: 平成 | AF39: 年 | AH39: 月 | AJ39: 日 | AL39: ： | AN39: ～
I40: 様 | AC40: 平成 | AF40: 年 | AH40: 月 | AJ40: 日 | AL40: ： | AN40: ～
I41: 様 | AC41: 平成 | AF41: 年 | AH41: 月 | AJ41: 日 | AL41: ： | AN41: ～
I42: 様 | AC42: 平成 | AF42: 年 | AH42: 月 | AJ42: 日 | AL42: ： | AN42: ～
I43: 様 | AC43: 平成 | AF43: 年 | AH43: 月 | AJ43: 日 | AL43: ： | AN43: ～
...

Sheet 17
A1: ソーシャルワーカー室 業務日誌 | AH1: C.O.O | AL1: I.O.O | AP1: Ａ.Ｏ.Ｍ
H3: =曜日!B12 -> 令和2年 | M3: =曜日!C12 -> 9月 | P3: 17日 | S3: （ | T3: =曜日!D5 -> 木 | U3: ） | W3: 作成者 | Z3: ：
A5: 労務 状況 | D5: 勤務状況 | K5: 西舘 翔子 | T5: 小屋敷 千瑛 | AC5: 大川 祥子
A7: 入退院 状況 | D7: 入院形態 | K7: 東病棟 | Q7: 西病棟 | W7: 北病棟 | AC7: 南病棟 | AI7: 合計 | AO7: 総数
K8: 男性 | N8: 女性 | Q8: 男性 | T8: 女性 | W8: 男性 | Z8: 女性 | AC8: 男性 | AF8: 女性 | AI8: 男性 | AL8: 女性
D9: 任意入院 | K9: 3 | N9: 2 | Q9: 0 | T9: 11 | W9: 24 | Z9: 11 | AC9: 1 | AF9: 1 | AI9: =K9+Q9+W9+AC9 -> 28 | AL9: =N9+T9+Z9+AF9 -> 25 | AO9: =AI13 -> 184
D10: 医療保護入院 | K10: 23 | N10: 16 | Q10: 19 | T10: 15 | W10: 0 | Z10: 0 | AC10: 29 | AF10: 26 | AI10: =K10+Q10+W10+AC10 -> 71 | AL10: =N10+T10+Z10+AF10 -> 57
D11: 措置入院 | K11: 3 | N11: 0 | Q11: 0 | T11: 0 | W11: 0 | Z11: 0 | AC11: 0 | AF11: 0 | AI11: =K11+Q11+W11+AC11 -> 3 | AL11: =N11+T11+Z11+AF11 -> 0
D12: 合計 | K12: =K9+K10+K11 -> 29 | N12: =N9+N10+N11 -> 18 | Q12: =Q9+Q10+Q11 -> 19 | T12: =SUM(T9:V11) -> 26 | W12: =SUM(W9:Y11) -> 24 | Z12: =SUM(Z9:AB11) -> 11 | AC12: =SUM(AC9:AE11) -> 30 | AF12: =SUM(AF9:AH11) -> 27 | AI12: =SUM(K12+Q12+W12+AC12) -> 102 | AL12: =SUM(N12+T12+Z12+AF12) -> 82 | AO12: 人
K13: =K12+N12 -> 47 | Q13: =Q12+T12 -> 45 | W13: =W12+Z12 -> 35 | AC13: =AC12+AF12 -> 57 | AI13: =AI12+AL12 -> 184
F14: 患者様氏名 | N14: 入院形態 | T14: 担当Dr | Y14: 担当SW | AD14: 病棟 | AJ14: 備考欄
D15: 入院 | L15: 様
L16: 様
L17: 様
L18: 様
L19: 様
D20: 退院 | F20: 佐々木 由一 | L20: 様 | N20: 医療保護入院 | T20: 金泰德Dr | Y20: 大川 祥子 | AD20: 南B
F21: 下野 和生 | L21: 様 | N21: 医療保護入院 | T21: 馬渡晃弘Dr | Y21: 大川 祥子 | AD21: 南D
L22: 様
L23: 様
L24: 様
D25: 転棟 ･ 入院形態変更 | L25: 様
L26: 様
L27: 様
L28: 様
L29: 様
A30: 患者様 関連 | D30: 患者様氏名 | K30: 担当Dr | P30: 病棟 | S30: 制限内容 | X30: 制限時間 | AC30: 開始日時 | AO30: 備考
D31: 宮崎 宏之 | I31: 様 | K31: 馬渡晃弘Dr | P31: 東A | S31: 終日隔離 | X31: 終日隔離 | AC31: 令和 | AE31: 2 | AF31: 年 | AG31: 5 | AH31: 月 | AI31: 23 | AJ31: 日 | AL31: ： | AN31: ～
D32: 沖田 康夫 | I32: 様 | K32: 金泰徳Dr | P32: 東C | S32: 身体拘束 | X32: 身体拘束 | AC32: 令和 | AE32: 2 | AF32: 年 | AG32: 7 | AH32: 月 | AI32: 22 | AJ32: 日 | AL32: ： | AN32: ～
D33: 澤口 利香 | I33: 様 | K33: 深澤隆Dr | P33: 東A | S33: 身体拘束 | X33: 身体拘束 | AC33: 令和 | AE33: 2 | AF33: 年 | AG33: 8 | AH33: 月 | AI33: 11 | AJ33: 日 | AL33: ： | AN33: ～
D34: 袴田 将志 | I34: 様 | K34: 田名部茂Dr | P34: 東A | S34: 時間隔離 | X34: 時間隔離 | AC34: 令和 | AE34: 2 | AF34: 年 | AG34: 9 | AH34: 月 | AI34: 9 | AJ34: 日 | AL34: ： | AN34: ～ | AO34: 解除
I35: 様 | AC35: 平成 | AF35: 年 | AH35: 月 | AJ35: 日 | AL35: ： | AN35: ～
I36: 様 | AC36: 平成 | AF36: 年 | AH36: 月 | AJ36: 日 | AL36: ： | AN36: ～
I37: 様 | AC37: 平成 | AF37: 年 | AH37: 月 | AJ37: 日 | AL37: ： | AN37: ～
I38: 様 | AC38: 平成 | AF38: 年 | AH38: 月 | AJ38: 日 | AL38: ： | AN38: ～
I39: 様 | AC39: 平成 | AF39: 年 | AH39: 月 | AJ39: 日 | AL39: ： | AN39: ～
I40: 様 | AC40: 平成 | AF40: 年 | AH40: 月 | AJ40: 日 | AL40: ： | AN40: ～
I41: 様 | AC41: 平成 | AF41: 年 | AH41: 月 | AJ41: 日 | AL41: ： | AN41: ～
I42: 様 | AC42: 平成 | AF42: 年 | AH42: 月 | AJ42: 日 | AL42: ： | AN42: ～
I43: 様 | AC43: 平成 | AF43: 年 | AH43: 月 | AJ43: 日 | AL43: ： | AN43: ～
...

Sheet 18
A1: ソーシャルワーカー室 業務日誌 | AH1: C.O.O | AL1: I.O.O | AP1: Ａ.Ｏ.Ｍ
H3: =曜日!B12 -> 令和2年 | M3: =曜日!C12 -> 9月 | P3: 18日 | S3: （ | T3: =曜日!D6 -> 金 | U3: ） | W3: 作成者 | Z3: ： | AA3: 大川 祥子
A5: 労務 状況 | D5: 勤務状況 | K5: 西舘 翔子 | P5: 日勤 | T5: 小屋敷 千瑛 | Y5: 日勤 | AC5: 大川 祥子 | AH5: 日勤
A7: 入退院 状況 | D7: 入院形態 | K7: 東病棟 | Q7: 西病棟 | W7: 北病棟 | AC7: 南病棟 | AI7: 合計 | AO7: 総数
K8: 男性 | N8: 女性 | Q8: 男性 | T8: 女性 | W8: 男性 | Z8: 女性 | AC8: 男性 | AF8: 女性 | AI8: 男性 | AL8: 女性
D9: 任意入院 | K9: 3 | N9: 2 | Q9: 0 | T9: 11 | W9: 24 | Z9: 11 | AC9: 1 | AF9: 1 | AI9: =K9+Q9+W9+AC9 -> 28 | AL9: =N9+T9+Z9+AF9 -> 25 | AO9: =AI13 -> 186
D10: 医療保護入院 | K10: 23 | N10: 17 | Q10: 19 | T10: 15 | W10: 0 | Z10: 0 | AC10: 30 | AF10: 26 | AI10: =K10+Q10+W10+AC10 -> 72 | AL10: =N10+T10+Z10+AF10 -> 58
D11: 措置入院 | K11: 3 | N11: 0 | Q11: 0 | T11: 0 | W11: 0 | Z11: 0 | AC11: 0 | AF11: 0 | AI11: =K11+Q11+W11+AC11 -> 3 | AL11: =N11+T11+Z11+AF11 -> 0
D12: 合計 | K12: =K9+K10+K11 -> 29 | N12: =N9+N10+N11 -> 19 | Q12: =Q9+Q10+Q11 -> 19 | T12: =SUM(T9:V11) -> 26 | W12: =SUM(W9:Y11) -> 24 | Z12: =SUM(Z9:AB11) -> 11 | AC12: =SUM(AC9:AE11) -> 31 | AF12: =SUM(AF9:AH11) -> 27 | AI12: =SUM(K12+Q12+W12+AC12) -> 103 | AL12: =SUM(N12+T12+Z12+AF12) -> 83 | AO12: 人
K13: =K12+N12 -> 48 | Q13: =Q12+T12 -> 45 | W13: =W12+Z12 -> 35 | AC13: =AC12+AF12 -> 58 | AI13: =AI12+AL12 -> 186
F14: 患者様氏名 | N14: 入院形態 | T14: 担当Dr | Y14: 担当SW | AD14: 病棟 | AJ14: 備考欄
D15: 入院 | F15: 松尾 秋雄 | L15: 様 | N15: 医療保護入院 | T15: 馬渡晃弘Dr | Y15: 西舘 翔子 | AD15: 東C
F16: 坂 きわ | L16: 様 | N16: 医療保護入院 | T16: 田名部茂Dr | Y16: 大川 祥子 | AD16: 東B
L17: 様
L18: 様
L19: 様
D20: 退院 | L20: 様
L21: 様
L22: 様
L23: 様
L24: 様
D25: 転棟 ･ 入院形態変更 | F25: 舛森 市太郎 | L25: 様 | N25: 医療保護入院 | AJ25: 東C→南A
L26: 様
L27: 様
L28: 様
L29: 様
A30: 患者様 関連 | D30: 患者様氏名 | K30: 担当Dr | P30: 病棟 | S30: 制限内容 | X30: 制限時間 | AC30: 開始日時 | AO30: 備考
D31: 宮崎 宏之 | I31: 様 | K31: 馬渡晃弘Dr | P31: 東A | S31: 終日隔離 | X31: 終日隔離 | AC31: 令和 | AE31: 2 | AF31: 年 | AG31: 5 | AH31: 月 | AI31: 23 | AJ31: 日 | AL31: ： | AN31: ～
D32: 沖田 康夫 | I32: 様 | K32: 金泰徳Dr | P32: 東C | S32: 身体拘束 | X32: 身体拘束 | AC32: 令和 | AE32: 2 | AF32: 年 | AG32: 7 | AH32: 月 | AI32: 22 | AJ32: 日 | AL32: ： | AN32: ～
D33: 澤口 利香 | I33: 様 | K33: 深澤隆Dr | P33: 東A | S33: 身体拘束 | X33: 身体拘束 | AC33: 令和 | AE33: 2 | AF33: 年 | AG33: 8 | AH33: 月 | AI33: 11 | AJ33: 日 | AL33: ： | AN33: ～
I34: 様 | AC34: 令和 | AF34: 年 | AH34: 月 | AJ34: 日 | AL34: ： | AN34: ～
I35: 様 | AC35: 平成 | AF35: 年 | AH35: 月 | AJ35: 日 | AL35: ： | AN35: ～
I36: 様 | AC36: 平成 | AF36: 年 | AH36: 月 | AJ36: 日 | AL36: ： | AN36: ～
I37: 様 | AC37: 平成 | AF37: 年 | AH37: 月 | AJ37: 日 | AL37: ： | AN37: ～
I38: 様 | AC38: 平成 | AF38: 年 | AH38: 月 | AJ38: 日 | AL38: ： | AN38: ～
I39: 様 | AC39: 平成 | AF39: 年 | AH39: 月 | AJ39: 日 | AL39: ： | AN39: ～
I40: 様 | AC40: 平成 | AF40: 年 | AH40: 月 | AJ40: 日 | AL40: ： | AN40: ～
I41: 様 | AC41: 平成 | AF41: 年 | AH41: 月 | AJ41: 日 | AL41: ： | AN41: ～
I42: 様 | AC42: 平成 | AF42: 年 | AH42: 月 | AJ42: 日 | AL42: ： | AN42: ～
I43: 様 | AC43: 平成 | AF43: 年 | AH43: 月 | AJ43: 日 | AL43: ： | AN43: ～
...

Sheet 19
A1: ソーシャルワーカー室 業務日誌 | AH1: C.O.O | AL1: I.O.O | AP1: Ａ.Ｏ.Ｍ
H3: =曜日!B12 -> 令和2年 | M3: =曜日!C12 -> 9月 | P3: 19日 | S3: （ | T3: =曜日!D7 -> 土 | U3: ） | W3: 作成者 | Z3: ： | AA3: 西舘 翔子
A5: 労務 状況 | D5: 勤務状況 | K5: 西舘 翔子 | P5: 日勤 | T5: 小屋敷 千瑛 | Y5: 公休 | AC5: 大川 祥子 | AH5: 公休
A7: 入退院 状況 | D7: 入院形態 | K7: 東病棟 | Q7: 西病棟 | W7: 北病棟 | AC7: 南病棟 | AI7: 合計 | AO7: 総数
K8: 男性 | N8: 女性 | Q8: 男性 | T8: 女性 | W8: 男性 | Z8: 女性 | AC8: 男性 | AF8: 女性 | AI8: 男性 | AL8: 女性
D9: 任意入院 | K9: 3 | N9: 2 | Q9: 0 | T9: 11 | W9: 24 | Z9: 11 | AC9: 1 | AF9: 1 | AI9: =K9+Q9+W9+AC9 -> 28 | AL9: =N9+T9+Z9+AF9 -> 25 | AO9: =AI13 -> 186
D10: 医療保護入院 | K10: 23 | N10: 17 | Q10: 19 | T10: 15 | W10: 0 | Z10: 0 | AC10: 30 | AF10: 26 | AI10: =K10+Q10+W10+AC10 -> 72 | AL10: =N10+T10+Z10+AF10 -> 58
D11: 措置入院 | K11: 3 | N11: 0 | Q11: 0 | T11: 0 | W11: 0 | Z11: 0 | AC11: 0 | AF11: 0 | AI11: =K11+Q11+W11+AC11 -> 3 | AL11: =N11+T11+Z11+AF11 -> 0
D12: 合計 | K12: =K9+K10+K11 -> 29 | N12: =N9+N10+N11 -> 19 | Q12: =Q9+Q10+Q11 -> 19 | T12: =SUM(T9:V11) -> 26 | W12: =SUM(W9:Y11) -> 24 | Z12: =SUM(Z9:AB11) -> 11 | AC12: =SUM(AC9:AE11) -> 31 | AF12: =SUM(AF9:AH11) -> 27 | AI12: =SUM(K12+Q12+W12+AC12) -> 103 | AL12: =SUM(N12+T12+Z12+AF12) -> 83 | AO12: 人
K13: =K12+N12 -> 48 | Q13: =Q12+T12 -> 45 | W13: =W12+Z12 -> 35 | AC13: =AC12+AF12 -> 58 | AI13: =AI12+AL12 -> 186
F14: 患者様氏名 | N14: 入院形態 | T14: 担当Dr | Y14: 担当SW | AD14: 病棟 | AJ14: 備考欄
D15: 入院 | L15: 様
L16: 様
L17: 様
L18: 様
L19: 様
D20: 退院 | L20: 様
L21: 様
L22: 様
L23: 様
L24: 様
D25: 転棟 ･ 入院形態変更 | L25: 様
L26: 様
L27: 様
L28: 様
L29: 様
A30: 患者様 関連 | D30: 患者様氏名 | K30: 担当Dr | P30: 病棟 | S30: 制限内容 | X30: 制限時間 | AC30: 開始日時 | AO30: 備考
D31: 宮崎 宏之 | I31: 様 | K31: 馬渡晃弘Dr | P31: 東A | S31: 終日隔離 | X31: 終日隔離 | AC31: 令和 | AE31: 2 | AF31: 年 | AG31: 5 | AH31: 月 | AI31: 23 | AJ31: 日 | AL31: ： | AN31: ～
D32: 沖田 康夫 | I32: 様 | K32: 金泰徳Dr | P32: 東C | S32: 身体拘束 | X32: 身体拘束 | AC32: 令和 | AE32: 2 | AF32: 年 | AG32: 7 | AH32: 月 | AI32: 22 | AJ32: 日 | AL32: ： | AN32: ～
D33: 澤口 利香 | I33: 様 | K33: 深澤隆Dr | P33: 東A | S33: 身体拘束 | X33: 身体拘束 | AC33: 令和 | AE33: 2 | AF33: 年 | AG33: 8 | AH33: 月 | AI33: 11 | AJ33: 日 | AL33: ： | AN33: ～
I34: 様 | AC34: 令和 | AF34: 年 | AJ34: 日 | AL34: ： | AN34: ～
I35: 様 | AC35: 平成 | AF35: 年 | AH35: 月 | AJ35: 日 | AL35: ： | AN35: ～
I36: 様 | AC36: 平成 | AF36: 年 | AH36: 月 | AJ36: 日 | AL36: ： | AN36: ～
I37: 様 | AC37: 平成 | AF37: 年 | AH37: 月 | AJ37: 日 | AL37: ： | AN37: ～
I38: 様 | AC38: 平成 | AF38: 年 | AH38: 月 | AJ38: 日 | AL38: ： | AN38: ～
I39: 様 | AC39: 平成 | AF39: 年 | AH39: 月 | AJ39: 日 | AL39: ： | AN39: ～
I40: 様 | AC40: 平成 | AF40: 年 | AH40: 月 | AJ40: 日 | AL40: ： | AN40: ～
I41: 様 | AC41: 平成 | AF41: 年 | AH41: 月 | AJ41: 日 | AL41: ： | AN41: ～
I42: 様 | AC42: 平成 | AF42: 年 | AH42: 月 | AJ42: 日 | AL42: ： | AN42: ～
I43: 様 | AC43: 平成 | AF43: 年 | AH43: 月 | AJ43: 日 | AL43: ： | AN43: ～
...

Sheet 20
A1: ソーシャルワーカー室 業務日誌 | AH1: C.O.O | AL1: I.O.O | AP1: Ａ.Ｏ.Ｍ
H3: =曜日!B12 -> 令和2年 | M3: =曜日!C12 -> 9月 | P3: 20日 | S3: （ | T3: =曜日!D8 -> 日 | U3: ） | W3: 作成者 | Z3: ： | AA3: 大川 祥子
A5: 労務 状況 | D5: 勤務状況 | K5: 西舘 翔子 | P5: 公休 | T5: 小屋敷 千瑛 | Y5: 公休 | AC5: 大川 祥子 | AH5: 公休
A7: 入退院 状況 | D7: 入院形態 | K7: 東病棟 | Q7: 西病棟 | W7: 北病棟 | AC7: 南病棟 | AI7: 合計 | AO7: 総数
K8: 男性 | N8: 女性 | Q8: 男性 | T8: 女性 | W8: 男性 | Z8: 女性 | AC8: 男性 | AF8: 女性 | AI8: 男性 | AL8: 女性
D9: 任意入院 | K9: 3 | N9: 2 | Q9: 0 | T9: 11 | W9: 24 | Z9: 11 | AC9: 1 | AF9: 1 | AI9: =K9+Q9+W9+AC9 -> 28 | AL9: =N9+T9+Z9+AF9 -> 25 | AO9: =AI13 -> 184
D10: 医療保護入院 | K10: 22 | N10: 17 | Q10: 18 | T10: 15 | W10: 0 | Z10: 0 | AC10: 30 | AF10: 26 | AI10: =K10+Q10+W10+AC10 -> 70 | AL10: =N10+T10+Z10+AF10 -> 58
D11: 措置入院 | K11: 3 | N11: 0 | Q11: 0 | T11: 0 | W11: 0 | Z11: 0 | AC11: 0 | AF11: 0 | AI11: =K11+Q11+W11+AC11 -> 3 | AL11: =N11+T11+Z11+AF11 -> 0
D12: 合計 | K12: =K9+K10+K11 -> 28 | N12: =N9+N10+N11 -> 19 | Q12: =Q9+Q10+Q11 -> 18 | T12: =SUM(T9:V11) -> 26 | W12: =SUM(W9:Y11) -> 24 | Z12: =SUM(Z9:AB11) -> 11 | AC12: =SUM(AC9:AE11) -> 31 | AF12: =SUM(AF9:AH11) -> 27 | AI12: =SUM(K12+Q12+W12+AC12) -> 101 | AL12: =SUM(N12+T12+Z12+AF12) -> 83 | AO12: 人
K13: =K12+N12 -> 47 | Q13: =Q12+T12 -> 44 | W13: =W12+Z12 -> 35 | AC13: =AC12+AF12 -> 58 | AI13: =AI12+AL12 -> 184
F14: 患者様氏名 | N14: 入院形態 | T14: 担当Dr | Y14: 担当SW | AD14: 病棟 | AJ14: 備考欄
D15: 入院 | L15: 様
L16: 様
L17: 様
L18: 様
L19: 様
D20: 退院 | F20: 杉若 シズヱ | L20: 様 | N20: 医療保護入院 | T20: 深澤隆Dr | Y20: 大川 祥子 | AD20: 東合
F21: 澁屋 智子 | L21: 様 | N21: 医療保護入院 | T21: 深澤隆Dr | Y21: 小屋敷 千瑛 | AD21: 西B
L22: 様
L23: 様
L24: 様
D25: 転棟 ･ 入院形態変更 | L25: 様
L26: 様
L27: 様
L28: 様
L29: 様
