Workbook

Sheet 月報1
A1: =[1]曜日!B12 -> 令和元年 | C1: =[1]曜日!C12 -> 3月 | D1: 月次報告 | F1: SW | G1: チーム | I1: 作成者 | J1: 西舘
A3: 人事管理
C4: 定数 | D4: 在籍 | E4: 入職 | F4: 退職 | G4: 特記事項
A5: SW | C5: - | D5: 3 | E5: 0 | F5: 0
C6: - | D6: 0 | E6: 0 | F6: 0
A7: 総数 | C7: - | D7: =SUM(D5:D6) -> 3 | E7: =SUM(E5:E6) -> 0 | F7: =SUM(F5:F6) -> 0
A9: 労務状況 | C9: 当月末まで
C10: 遅刻 | D10: 早退 | E10: 欠勤 | F10: 有給 | G10: 産・育休 | H10: 病欠 | I10: 忌引き | J10: 業務出張 | K10: 研修出張
A11: 西舘 翔子 | C11: =[1]労務状況!D37 -> 0 | D11: =[1]労務状況!E37 -> 0 | E11: =[1]労務状況!F37 -> 0 | F11: 1 | G11: =[1]労務状況!H37 -> 0 | H11: =[1]労務状況!I37 -> 0 | I11: =[1]労務状況!J37 -> 0 | J11: =[1]労務状況!K37 -> 0 | K11: =[1]労務状況!L37 -> 0
A12: 小屋敷 千瑛 | C12: =[1]労務状況!D38 -> 0 | D12: =[1]労務状況!E38 -> 0 | E12: =[1]労務状況!F38 -> 0 | F12: 1 | G12: =[1]労務状況!H38 -> 0 | H12: =[1]労務状況!I38 -> 0 | I12: =[1]労務状況!J38 -> 0 | J12: =[1]労務状況!K38 -> 0 | K12: =[1]労務状況!L38 -> 0
A13: 大川 祥子 | C13: =[1]労務状況!D39 -> 0 | D13: =[1]労務状況!E39 -> 0 | E13: =[1]労務状況!F39 -> 0 | F13: 3 | G13: =[1]労務状況!H39 -> 0 | H13: =[1]労務状況!I39 -> 0 | I13: =[1]労務状況!J39 -> 0 | J13: =[1]労務状況!K39 -> 0 | K13: =[1]労務状況!L39 -> 0
C14: =[1]労務状況!D40 -> 0 | D14: =[1]労務状況!E40 -> 0 | E14: =[1]労務状況!F40 -> 0 | F14: =[1]労務状況!G40 -> 0 | G14: =[1]労務状況!H40 -> 0 | H14: =[1]労務状況!I40 -> 0 | I14: =[1]労務状況!J40 -> 0 | J14: =[1]労務状況!K40 -> 0 | K14: =[1]労務状況!L40 -> 0
C15: =[1]労務状況!D41 -> 0 | D15: =[1]労務状況!E41 -> 0 | E15: =[1]労務状況!F41 -> 0 | F15: =[1]労務状況!G41 -> 0 | G15: =[1]労務状況!H41 -> 0 | H15: =[1]労務状況!I41 -> 0 | I15: =[1]労務状況!J41 -> 0 | J15: =[1]労務状況!K41 -> 0 | K15: =[1]労務状況!L41 -> 0
C16: =[1]労務状況!D42 -> 0 | D16: =[1]労務状況!E42 -> 0 | E16: =[1]労務状況!F42 -> 0 | F16: =[1]労務状況!G42 -> 0 | G16: =[1]労務状況!H42 -> 0 | H16: =[1]労務状況!I42 -> 0 | I16: =[1]労務状況!J42 -> 0 | J16: =[1]労務状況!K42 -> 0 | K16: =[1]労務状況!L42 -> 0
C17: =[1]労務状況!D43 -> 0 | D17: =[1]労務状況!E43 -> 0 | E17: =[1]労務状況!F43 -> 0 | F17: =[1]労務状況!G43 -> 0 | G17: =[1]労務状況!H43 -> 0 | H17: =[1]労務状況!I43 -> 0 | I17: =[1]労務状況!J43 -> 0 | J17: =[1]労務状況!K43 -> 0 | K17: =[1]労務状況!L43 -> 0
C18: =[1]労務状況!D44 -> 0 | D18: =[1]労務状況!E44 -> 0 | E18: =[1]労務状況!F44 -> 0 | F18: =[1]労務状況!G44 -> 0 | G18: =[1]労務状況!H44 -> 0 | H18: =[1]労務状況!I44 -> 0 | I18: =[1]労務状況!J44 -> 0 | J18: =[1]労務状況!K44 -> 0 | K18: =[1]労務状況!L44 -> 0
A19: 総数 | C19: =C11+C12+C13+C15+C14 -> 0 | D19: =D11+D12+D13+D15+D14 -> 0 | E19: =E11+E12+E13+E15+E14 -> 0 | F19: =F11+F12+F13+F15+F14 -> 5 | G19: =G11+G12+G13+G15+G14 -> 0 | H19: =H11+H12+H13+H15+H14 -> 0 | I19: =I11+I12+I13+I15+I14 -> 0 | J19: =J11+J12+J13+J15+J14 -> 0 | K19: =K11+K12+K13+K15+K14 -> 0
A21: 人材育成
A22: 外部研修・勉強会参加状況
A23: 職員名 | C23: 件数 | D23: 研修名（日にち）
A24: 西舘 翔子 | C24: 0
A25: 小屋敷 千瑛 | C25: 0
A26: 大川 祥子 | C26: 0
A29: 内部研修・勉強会参加状況
A30: 職員名 | C30: 件数 | D30: 研修名（日にち）
A31: 西舘 翔子 | C31: 0
A32: 小屋敷 千瑛 | C32: 0
A33: 大川 祥子 | C33: 0
A37: 安全管理
C38: 件数 | D38: 内容等
A39: 苦情 | C39: 0
A40: 事故 | C40: 0
A41: 総数 | C41: =SUM(C39:C40) -> 0
A43: 物品管理
C44: 件数 | D44: 特記事項
A45: 物品購入 | C45: 3 | D45: 封筒(小)1つ、A4 2冊
A46: 修繕 | C46: 0

Sheet 月報2
A1: 事業進捗状況
A2: 【計画項目】 | B2: 進捗状況・結果・評価
A3: 1 個別支援の充実
A4: 入退院支援 | B4: 入院援助 | E4: 18 | F4: 件
B5: 入院形態の変更 | E5: 2 | F5: 件
B6: 入院患者対応 | E6: 18 | F6: 件
B7: 退院請求対応 | E7: =[1]業務遂行状況!AI6 -> 0 | F7: 件
B8: 退院援助 | E8: 0 | F8: 件
A9: 外来患者対応 | B9: 外来患者対応 | E9: =[1]業務遂行状況!AI8 -> 0 | F9: 件
B10: 通院医療観察法 | E10: 0 | F10: 件
A11: 2 各種制度の管理・手続き
A12: 医師補助業務 | B12: =[1]業務遂行状況!AI10 -> 0 | C12: 件
A13: 保健所への届出 | B13: 41 | C13: 件
A14: 3 チーム医療の連携体制の拡充
A15: 各種会議参加
A16: 外部の業務
A17: 病棟内勉強会の開催（年4回）
A18: 他機関連携
A19: 4 統計処理と情報分析
B20: ＊入退院届けの作成・提出 ＊定期病状報告の作成・提出 ＊保健所提出用月報の作成・提出 ＊入院者一覧(SW室管理用ﾃﾞｰﾀﾍﾞｰｽ)の作成 ＊任意入院者 同意書管理 ＊各種制度(自立支援医療･生活保護･障害者手帳等)の管理票作成
A21: 5 研鑽活動と人材育成の活性化
A22: (1)業務の効率化 | B22: ①マニュアルの整備
B23: ②確実な業務管理と確実な情報共有体制の整備
B24: ③業務整理
A25: （2）スタッフ教育 | B25: ①新人教育
B26: ②外部研修への参加
B27: ③目標管理面接と個別指導
A28: (3)人員確保 | B28: ①施設見学希望者への対応
B29: ②実習生の受け入れ

Sheet 月報3
A1: =[1]曜日!B12 -> 令和元年 | E1: =[1]曜日!C12 -> 3月 | I1: ソーシャルワーカー室業務月報 | AA1: C.O.O | AD1: A.O.M
O4: 記載者： | S4: 西舘
A5: 入院状況 | I5: 東病棟 | M5: 西病棟 | Q5: 南病棟 | U5: 北病棟 | Y5: 合計
I6: 男性 | K6: 女性 | M6: 男性 | O6: 女性 | Q6: 男性 | S6: 女性 | U6: 男性 | W6: 女性 | Y6: 男性 | AA6: 女性
C7: 任意 | G7: 入院 | I7: 2 | K7: 0 | M7: 1 | O7: 0 | Q7: 0 | S7: 0 | U7: 0 | W7: 0 | Y7: =SUM(I7+M7+Q7+U7) -> 3 | AA7: =SUM(K7+O7+S7+W7) -> 0
G8: 在院 | I8: 2 | K8: 3 | M8: 7 | O8: 10 | Q8: 1 | S8: 4 | U8: 21 | W8: 11 | Y8: =SUM(I8,M8,Q8,U8) -> 31 | AA8: =SUM(K8+O8+S8+W8) -> 28 | AC8: 入院
G9: 退院 | I9: 0 | K9: 1 | M9: 0 | O9: 1 | Q9: 0 | S9: 0 | U9: 1 | W9: 1 | Y9: =SUM(I9+M9+Q9+U9) -> 1 | AA9: =SUM(K9+O9+S9+W9) -> 3 | AD9: =SUM(Y16:AB16) -> 18 | AF9: 名
C10: 医療保護 | G10: 入院 | I10: 8 | K10: 3 | M10: 0 | O10: 0 | Q10: 2 | S10: 2 | U10: 0 | W10: 0 | Y10: =SUM(I10+M10+Q10+U10) -> 10 | AA10: =SUM(K10+O10+S10+W10) -> 5
G11: 在院 | I11: 28 | K11: 13 | M11: 12 | O11: 16 | Q11: 23 | S11: 28 | U11: 0 | W11: 0 | Y11: =SUM(I11+M11+Q11+U11) -> 63 | AA11: =SUM(K11+O11+S11+W11) -> 57 | AC11: 退院
G12: 退院 | I12: 2 | K12: 2 | M12: 0 | O12: 0 | Q12: 4 | S12: 5 | U12: 0 | W12: 0 | Y12: =SUM(I12+M12+Q12+U12) -> 6 | AA12: =SUM(K12+O12+S12+W12) -> 7 | AD12: =SUM(Y18:AB18) -> 17 | AF12: 名
C13: 措置 | G13: 入院 | I13: 0 | K13: 0 | M13: 0 | O13: 0 | Q13: 0 | S13: 0 | U13: 0 | W13: 0 | Y13: =SUM(I13+M13+Q13+U13) -> 0 | AA13: =SUM(K13+O13+S13+W13) -> 0
G14: 在院 | I14: 1 | K14: 0 | M14: 0 | O14: 0 | Q14: 0 | S14: 0 | U14: 0 | W14: 0 | Y14: =SUM(I14+M14+Q14+U14) -> 1 | AA14: =SUM(K14+O14+S14+W14) -> 0 | AC14: 在院数
G15: 退院 | I15: 0 | K15: 0 | M15: 0 | O15: 0 | Q15: 0 | S15: 0 | U15: 0 | W15: 0 | Y15: =SUM(I15+M15+Q15+U15) -> 0 | AA15: =SUM(K15+O15+S15+W15) -> 0 | AD15: =Y17+AA17 -> 180 | AF15: 名
C16: 合計 | G16: 入院 | I16: =SUM(I7+I10+I13) -> 10 | K16: =SUM(K7+K10+K13) -> 3 | M16: =SUM(M7+M10+M13) -> 1 | O16: =SUM(O7+O10+O13) -> 0 | Q16: =SUM(Q7+Q10+Q13) -> 2 | S16: =SUM(S7+S10+S13) -> 2 | U16: =SUM(U7+U10+U13) -> 0 | W16: =SUM(W7+W10+W13) -> 0 | Y16: =SUM(Y7+Y10+Y13) -> 13 | AA16: =SUM(AA7+AA10+AA13) -> 5
G17: 在院 | I17: =SUM(I8+I11+I14) -> 31 | K17: =SUM(K8+K11+K14) -> 16 | M17: =M8+M11+M14 -> 19 | O17: =SUM(O8+O11+O14) -> 26 | Q17: =Q8+Q11+Q14 -> 24 | S17: =SUM(S8+S11+S14) -> 32 | U17: =SUM(U8+U11+U14) -> 21 | W17: =SUM(W8+W11+W14) -> 11 | Y17: =SUM(Y8+Y11+Y14) -> 95 | AA17: =SUM(AA8+AA11+AA14) -> 85
G18: 退院 | I18: =SUM(I9+I12+I15) -> 2 | K18: =SUM(K9+K12+K15) -> 3 | M18: =SUM(M9+M12+M15) -> 0 | O18: =SUM(O9+O12+O15) -> 1 | Q18: =SUM(Q9+Q12+Q15) -> 4 | S18: =SUM(S9+S12+S15) -> 5 | U18: =U9+U12+U15 -> 1 | W18: =SUM(W9+W12+W15) -> 1 | Y18: =I18+M18+Q18+U18 -> 7 | AA18: =SUM(AA9+AA12+AA15) -> 10
C19: 医療保護定期病状報告
C20: 患者様氏名 | H20: 担当SW | K20: 担当医師 | N20: 作成日 | P20: 提出日 | R20: 患者様氏名 | W20: 担当SW | Z20: 担当医師 | AC20: 作成日 | AE20: 提出日
C21: 1 | D21: 清水 徹 様 | H21: 小屋敷 | K21: 安ヶ平 | N21: 43914 | P21: 43917
C22: 2 | D22: 澁谷 幸子 様 | H22: 大川 | K22: 深澤 | N22: 43916 | P22: 43917
C23: 3
C24: 4
C25: 5
C26: 6
C27: 7
C28: 8
C29: 9
C30: 10
C31: 医療保護入退入院届
C32: 患者様氏名 | H32: 担当SW | K32: 担当医師 | N32: 第1項 | T32: 第3項 | Z32: 備考
N33: 入院日 | P33: 作成日 | R33: 提出日 | T33: 入院日 | V33: 作成日 | X33: 提出日
C34: 1 | D34: ='[2]3月 '!A23 -> 斉藤 志郎 様 | H34: ='[2]3月 '!B23 -> 西舘 | K34: ='[2]3月 '!C23 -> 深澤 | N34: 43893 | P34: 43893 | R34: 43896
C35: 2 | D35: ='[2]3月 '!A24 -> 玉田 たけ子 様 | H35: ='[2]3月 '!B24 -> 大川 | K35: ='[2]3月 '!C24 -> 深澤 | N35: 43894 | P35: 43894 | R35: 43896
C36: 3 | D36: ='[2]3月 '!A25 -> 川守田 義雄 様 | H36: ='[2]3月 '!B25 -> 小屋敷 | K36: ='[2]3月 '!C25 -> 深澤 | N36: 43896 | P36: 43896 | R36: 43896
C37: 4 | D37: ='[2]3月 '!A26 -> 八木田 勝則 様 | H37: ='[2]3月 '!B26 -> 小屋敷 | K37: ='[2]3月 '!C26 -> 馬渡 | N37: 43900 | P37: 43900 | R37: 43913
C38: 5 | D38: ='[2]3月 '!A27 -> 和田 正義 様 | H38: ='[2]3月 '!B27 -> 西舘 | K38: ='[2]3月 '!C27 -> 深澤 | N38: 43903 | P38: 43903 | R38: 43913
C39: 6 | D39: ='[2]3月 '!A28 -> 大渡 勝男 様 | H39: ='[2]3月 '!B28 -> 大川 | K39: ='[2]3月 '!C28 -> 馬渡 | N39: 43903 | P39: 43903 | R39: 43915
C40: 7 | D40: ='[2]3月 '!A29 -> 松橋 トキ 様 | H40: ='[2]3月 '!B29 -> 大川 | K40: ='[2]3月 '!C29 -> 深澤 | N40: 43905 | P40: 43905 | R40: 43915
C41: 8 | D41: ='[2]3月 '!A30 -> 松原 輝子 様 | H41: ='[2]3月 '!B30 -> 大川 | K41: ='[2]3月 '!C30 -> 深澤 | N41: 43907 | P41: 43907 | R41: 43917
C42: 9 | D42: ='[2]3月 '!A31 -> 村山 公基 様 | H42: ='[2]3月 '!B31 -> 西舘 | K42: ='[2]3月 '!C31 -> 田名部 | N42: 43908 | P42: 43908 | R42: 43917
C43: 10 | D43: ='[2]3月 '!A32 -> 服部 智子 様 | H43: ='[2]3月 '!B32 -> 小屋敷 | K43: ='[2]3月 '!C32 -> 金 | N43: 43908 | P43: 43908 | R43: 43917
C44: 11 | D44: ='[2]3月 '!A33 -> 馬渡 隆 様 | H44: ='[2]3月 '!B33 -> 大川 | K44: ='[2]3月 '!C33 -> 金 | N44: 43909 | P44: 43909 | R44: 43917
C45: 12 | D45: ='[2]3月 '!A34 -> 奥瀬 一彦 様 | H45: ='[2]3月 '!B34 -> 大川 | K45: ='[2]3月 '!C34 -> 深澤 | N45: 43914 | P45: 43914 | R45: 43917
C46: 13 | D46: ='[2]3月 '!A35 -> 橋本 扶美子 様 | H46: ='[2]3月 '!B35 -> 大川 | K46: ='[2]3月 '!C35 -> 金 | N46: 43916 | P46: 43916 | R46: 43924
C47: 14 | D47: ='[2]3月 '!A36 -> 高橋 登 様 | H47: ='[2]3月 '!B36 -> 西舘 | K47: ='[2]3月 '!C36 -> 田名部 | N47: 43921 | P47: 43921
C48: 15 | D48: ='[2]3月 '!A37 -> 田中 稔美 様 | H48: ='[2]3月 '!B37 -> 小屋敷 | K48: ='[2]3月 '!C37 -> 深澤 | N48: 43921 | P48: 43921 | R48: 43924
C49: 16
C50: 17
C51: 18
C52: 19
C53: 20
C54: 21 | AH54: 医療保護入退入院届
C55: 22 | AH55: 第1項 計
C56: 23 | AH56: =COUNTA(N34:O58) -> 15 | AI56: 件
C57: 24 | AH57: 第3項 計
C58: 25 | AH58: =COUNTA(T34:U58) -> 0 | AI58: 件
C59: 入院形態変更状況
C60: 患者様氏名 | H60: 担当SW | K60: 担当医師 | N60: 入院日 | P60: 作成日 | R60: 提出日 | T60: 備考
C61: 1 | D61: 木村 正子 様 | H61: 小屋敷 | K61: 田名部 | N61: 43921 | P61: 43921 | R61: 43924 | T61: 医保→任意
C62: 2 | D62: 蕨 真理 様 | H62: 小屋敷 | K62: 田名部 | N62: 43921 | P62: 43921 | R62: 43924 | T62: 医保→任意
C63: 3 | AH63: 入院形態変更状況
C64: 4 | AH64: 計
C65: 5 | AH65: =COUNTA(D61:G65) -> 2 | AI65: 件
C66: 医療保護入院退院届
C67: 患者様氏名 | H67: 担当SW | K67: 担当医師 | N67: 退院日 | P67: 提出日 | R67: 転帰
C68: 1 | D68: ='[2]3月 '!A42 -> 松村 保見 様 | H68: ='[2]3月 '!B42 -> 大川 | K68: ='[2]3月 '!C42 -> 深澤 | N68: 43894 | P68: 43896 | R68: ='[2]3月 '!H42 -> 長生園
C69: 2 | D69: ='[2]3月 '!A43 -> 土門 忠幸 様 | H69: ='[2]3月 '!B43 -> 大川 | K69: ='[2]3月 '!C43 -> 馬渡 | N69: 43897 | P69: 43896 | R69: ='[2]3月 '!H43 -> 死去
C70: 3 | D70: ='[2]3月 '!A44 -> 清水 進 様 | H70: ='[2]3月 '!B44 -> 大川 | K70: ='[2]3月 '!C44 -> 安ヶ平 | N70: 43899 | P70: 43896 | R70: ='[2]3月 '!H44 -> 死去
C71: 4 | D71: ='[2]3月 '!A45 -> 苫米地 伊登子 | H71: ='[2]3月 '!B45 -> 大川 | K71: ='[2]3月 '!C45 -> 深澤 | N71: 43901 | P71: 43896 | R71: ='[2]3月 '!H45 -> 死去（3項入院）
C72: 5 | D72: ='[2]3月 '!A46 -> 岡沼 広宣 様 | H72: ='[2]3月 '!B46 -> 小屋敷 | K72: ='[2]3月 '!C46 -> 田名部 | N72: 43906 | P72: 43915 | R72: ='[2]3月 '!H46 -> やまばと寮
C73: 6 | D73: ='[2]3月 '!A47 -> 中村 ヨシ 様 | H73: ='[2]3月 '!B47 -> 大川 | K73: ='[2]3月 '!C47 -> 深澤 | N73: 43908 | P73: 43915 | R73: ='[2]3月 '!H47 -> 南山苑
C74: 7 | D74: ='[2]3月 '!A48 -> 中居 うた 様 | H74: ='[2]3月 '!B48 -> 大川 | K74: ='[2]3月 '!C48 -> 馬渡 | N74: 43908 | P74: 43913 | R74: ='[2]3月 '!H48 -> 自宅
C75: 8 | D75: ='[2]3月 '!A49 -> 佐々木 睦子 様 | H75: ='[2]3月 '!B49 -> 大川 | K75: ='[2]3月 '!C49 -> 深澤 | N75: 43909 | P75: 43915 | R75: ='[2]3月 '!H49 -> 南山苑
C76: 9 | D76: ='[2]3月 '!A50 -> 山中 美穂 様 | H76: ='[2]3月 '!B50 -> 西舘 | K76: ='[2]3月 '!C50 -> 田名部 | N76: 43918 | P76: 43924 | R76: ='[2]3月 '!H50 -> 自宅
C77: 10 | D77: ='[2]3月 '!A51 -> 馬渡 隆 様 | H77: ='[2]3月 '!B51 -> 大川 | K77: ='[2]3月 '!C51 -> 金 | N77: 43918 | P77: 43924 | R77: ='[2]3月 '!H51 -> 市民病院
C78: 11 | D78: ='[2]3月 '!A52 -> 中村 淑子 様 | H78: ='[2]3月 '!B52 -> 大川 | K78: ='[2]3月 '!C52 -> 金 | N78: 43920 | R78: ='[2]3月 '!H52 -> 南山苑
C79: 12 | D79: ='[2]3月 '!A53 -> 橋本 芙美子 様 | H79: ='[2]3月 '!B53 -> 大川 | K79: ='[2]3月 '!C53 -> 金 | N79: 43920 | P79: 43924 | R79: ='[2]3月 '!H53 -> 自宅
C80: 13 | D80: ='[2]3月 '!A54 -> 谷口 隆良 様 | H80: ='[2]3月 '!B54 -> 大川 | K80: ='[2]3月 '!C54 -> 深澤 | N80: 43921 | R80: ='[2]3月 '!H54 -> 南山苑
C81: 14
C82: 15
C83: 16
C84: 17
C85: 18 | AH85: 医療保護入院退院届
C86: 19 | AH86: 計
C87: 20 | AH87: =COUNTA(D68:G87) -> 13 | AI87: 件
C88: 措置入院 入院者
C89: 患者様氏名 | H89: 担当SW | K89: 担当医師 | N89: 入院日 | P89: 提出日 | R89: 患者様氏名 | W89: 担当SW | Z89: 担当医師 | AC89: 入院日 | AE89: 提出日
C90: 1
C91: 2
C92: 3 | AH92: 措置入院 入院者
C93: 4 | AH93: 計
C94: 5 | AH94: =COUNTA(D90:G94) -> 0 | AI94: 件
C95: 措置定期病状報告
C96: 患者様氏名 | H96: 担当SW | K96: 担当医師 | N96: 作成日 | P96: 提出日 | R96: 患者様氏名 | W96: 担当SW | Z96: 担当医師 | AC96: 作成日 | AE96: 提出日
C97: 1
C98: 2
C99: 3 | AH99: 措置定期病状報告
C100: 4 | AH100: 計
C101: 5 | AH101: =COUNTA(D97:G101) -> 0 | AI101: 件
C102: 措置消退届
...

Sheet Sheet1
