Workbook

Sheet 月報1
A1: =[1]曜日!B12 -> 令和元年 | C1: =[1]曜日!C12 -> 11月 | D1: 月次報告 | F1: SW | G1: チーム | I1: 作成者
A3: 人事管理
C4: 定数 | D4: 在籍 | E4: 入職 | F4: 退職 | G4: 特記事項
A5: SW | C5: - | D5: 5 | E5: 0 | F5: 1 | G5: 退職：鷹架 叶未
C6: - | D6: 0 | E6: 0 | F6: 0
A7: 総数 | C7: - | D7: 4 | E7: =SUM(E5:E6) -> 0 | F7: =SUM(F5:F6) -> 1
A9: 労務状況 | C9: 当月末まで
C10: 遅刻 | D10: 早退 | E10: 欠勤 | F10: 有給 | G10: 産・育休 | H10: 病欠 | I10: 忌引き | J10: 業務出張 | K10: 研修出張
A11: 西舘 翔子 | C11: =[1]労務状況!D37 -> 0 | D11: =[1]労務状況!E37 -> 0 | E11: =[1]労務状況!F37 -> 0 | F11: =[1]労務状況!G37 -> 0 | G11: =[1]労務状況!H37 -> 0 | H11: =[1]労務状況!I37 -> 0 | I11: =[1]労務状況!J37 -> 0 | J11: =[1]労務状況!K37 -> 0 | K11: =[1]労務状況!L37 -> 0
A12: 鷹架 叶未 | C12: =[1]労務状況!D38 -> 0 | D12: =[1]労務状況!E38 -> 0 | E12: =[1]労務状況!F38 -> 0 | F12: 11 | G12: =[1]労務状況!H38 -> 0 | H12: =[1]労務状況!I38 -> 0 | I12: =[1]労務状況!J38 -> 0 | J12: =[1]労務状況!K38 -> 0 | K12: =[1]労務状況!L38 -> 0
A13: 大川 祥子 | C13: =[1]労務状況!D39 -> 0 | D13: =[1]労務状況!E39 -> 0 | E13: =[1]労務状況!F39 -> 0 | F13: 0 | G13: =[1]労務状況!H39 -> 0 | H13: =[1]労務状況!I39 -> 0 | I13: =[1]労務状況!J39 -> 0 | J13: =[1]労務状況!K39 -> 0 | K13: =[1]労務状況!L39 -> 0
A14: 小屋敷 千瑛 | C14: =[1]労務状況!D40 -> 0 | D14: =[1]労務状況!E40 -> 0 | E14: =[1]労務状況!F40 -> 0 | F14: 2 | G14: =[1]労務状況!H40 -> 0 | H14: =[1]労務状況!I40 -> 0 | I14: =[1]労務状況!J40 -> 0 | J14: =[1]労務状況!K40 -> 0 | K14: =[1]労務状況!L40 -> 0
A15: 山口 貴弘 | C15: =[1]労務状況!D41 -> 0 | D15: =[1]労務状況!E41 -> 0 | E15: =[1]労務状況!F41 -> 0 | F15: =[1]労務状況!G41 -> 0 | G15: =[1]労務状況!H41 -> 0 | H15: =[1]労務状況!I41 -> 0 | I15: =[1]労務状況!J41 -> 0 | J15: =[1]労務状況!K41 -> 0 | K15: =[1]労務状況!L41 -> 0
C16: =[1]労務状況!D42 -> 0 | D16: =[1]労務状況!E42 -> 0 | E16: =[1]労務状況!F42 -> 0 | F16: =[1]労務状況!G42 -> 0 | G16: =[1]労務状況!H42 -> 0 | H16: =[1]労務状況!I42 -> 0 | I16: =[1]労務状況!J42 -> 0 | J16: =[1]労務状況!K42 -> 0 | K16: =[1]労務状況!L42 -> 0
C17: =[1]労務状況!D43 -> 0 | D17: =[1]労務状況!E43 -> 0 | E17: =[1]労務状況!F43 -> 0 | F17: =[1]労務状況!G43 -> 0 | G17: =[1]労務状況!H43 -> 0 | H17: =[1]労務状況!I43 -> 0 | I17: =[1]労務状況!J43 -> 0 | J17: =[1]労務状況!K43 -> 0 | K17: =[1]労務状況!L43 -> 0
C18: =[1]労務状況!D44 -> 0 | D18: =[1]労務状況!E44 -> 0 | E18: =[1]労務状況!F44 -> 0 | F18: =[1]労務状況!G44 -> 0 | G18: =[1]労務状況!H44 -> 0 | H18: =[1]労務状況!I44 -> 0 | I18: =[1]労務状況!J44 -> 0 | J18: =[1]労務状況!K44 -> 0 | K18: =[1]労務状況!L44 -> 0
A19: 総数 | C19: =C11+C12+C13+C15+C14 -> 0 | D19: =D11+D12+D13+D15+D14 -> 0 | E19: =E11+E12+E13+E15+E14 -> 0 | F19: =F11+F12+F13+F15+F14 -> 13 | G19: =G11+G12+G13+G15+G14 -> 0 | H19: =H11+H12+H13+H15+H14 -> 0 | I19: =I11+I12+I13+I15+I14 -> 0 | J19: =J11+J12+J13+J15+J14 -> 0 | K19: =K11+K12+K13+K15+K14 -> 0
A21: 人材育成
A22: 外部研修・勉強会参加状況
A23: 職員名 | C23: 件数 | D23: 研修名（日にち）
A24: 西舘 翔子 | C24: 0
A25: 鷹架 叶未 | C25: 0
A26: 大川 祥子 | C26: 0
A27: 山口 貴弘 | C27: 0
C28: 0
A29: 内部研修・勉強会参加状況
A30: 職員名 | C30: 件数 | D30: 研修名（日にち）
A31: 西舘 翔子 | C31: 1 | D31: 11/3法人研修
A32: 鷹架 叶未 | C32: 1 | D32: 11/3法人研修
A33: 大川 祥子 | C33: 1 | D33: 11/3法人研修
A34: 山口 貴弘 | C34: 1 | D34: 11/3法人研修
A37: 安全管理
C38: 件数 | D38: 内容等
A39: 苦情 | C39: 0
A40: 事故 | C40: 0
A41: 総数 | C41: =SUM(C39:C40) -> 0
A43: 物品管理
C44: 件数 | D44: 特記事項
A45: 物品購入 | C45: 0
A46: 修繕 | C46: 0

Sheet 月報2
A1: 事業進捗状況
A2: 【計画項目】 | B2: 進捗状況・結果・評価
A3: 1 個別支援の充実
A4: 入退院支援 | B4: 入院援助 | E4: 0 | F4: 件
B5: 入院形態の変更 | E5: 0 | F5: 件
B6: 入院患者対応 | E6: 0 | F6: 件
B7: 退院請求対応 | E7: =[1]業務遂行状況!AI6 -> 0 | F7: 件
B8: 退院援助 | E8: 0 | F8: 件
A9: 外来患者対応 | B9: 外来患者対応 | E9: =[1]業務遂行状況!AI8 -> 0 | F9: 件
B10: 通院医療観察法 | E10: 0 | F10: 件
A11: 2 各種制度の管理・手続き
A12: 医師補助業務 | B12: =[1]業務遂行状況!AI10 -> 0 | C12: 件
A13: 保健所への届出 | B13: =[1]業務遂行状況!AI11 -> 0 | C13: 件
A14: 3 チーム医療の連携体制の拡充
A15: 各種会議参加
A16: 外部の業務
A17: 病棟内勉強会の開催（年4回）
A18: 他機関連携
A19: 4 統計処理と情報分析
B20: ＊入退院届けの作成・提出 ＊定期病状報告の作成・提出 ＊保健所提出用月報の作成・提出 ＊入院者一覧(SW室管理用ﾃﾞｰﾀﾍﾞｰｽ)の作成 ＊任意入院者 同意書管理 ＊各種制度(自立支援医療･生活保護･障害者手帳等)の管理票作成
A21: 5 研鑽活動と人材育成の活性化
A22: (1)業務の効率化 | B22: ①マニュアルの整備
B23: ②確実な業務管理と確実な情報共有体制の整備
B24: ③業務整理
A25: （2）スタッフ教育 | B25: ①新人教育
B26: ②外部研修への参加
B27: ③目標管理面接と個別指導
A28: (3)人員確保 | B28: ①施設見学希望者への対応
B29: ②実習生の受け入れ

Sheet 月報3
A1: =[1]曜日!B12 -> 令和元年 | E1: =[1]曜日!C12 -> 11月 | I1: ソーシャルワーカー室業務月報 | AA1: C.O.O | AD1: A.O.M
O4: 記載者：西舘
A5: 入院状況 | I5: 東病棟 | M5: 西病棟 | Q5: 南病棟 | U5: 北病棟 | Y5: 合計
I6: 男性 | K6: 女性 | M6: 男性 | O6: 女性 | Q6: 男性 | S6: 女性 | U6: 男性 | W6: 女性 | Y6: 男性 | AA6: 女性
C7: 任意 | G7: 入院 | I7: 2 | K7: 2 | M7: 0 | O7: 1 | Q7: 0 | S7: 0 | U7: 0 | W7: 2 | Y7: =SUM(I7+M7+Q7+U7) -> 2 | AA7: =SUM(K7+O7+S7+W7) -> 5
G8: 在院 | I8: 1 | K8: 6 | M8: 3 | O8: 12 | Q8: 0 | S8: 3 | U8: 22 | W8: 12 | Y8: =SUM(I8,M8,Q8,U8) -> 26 | AA8: =SUM(K8+O8+S8+W8) -> 33 | AC8: 入院
G9: 退院 | I9: 1 | K9: 0 | M9: 2 | O9: 0 | Q9: 0 | S9: 0 | U9: 1 | W9: 2 | Y9: =SUM(I9+M9+Q9+U9) -> 4 | AA9: =SUM(K9+O9+S9+W9) -> 2 | AD9: =SUM(Y16:AB16) -> 23 | AF9: 名
C10: 医療保護 | G10: 入院 | I10: 5 | K10: 10 | M10: 0 | O10: 0 | Q10: 0 | S10: 0 | U10: 0 | W10: 0 | Y10: =SUM(I10+M10+Q10+U10) -> 5 | AA10: =SUM(K10+O10+S10+W10) -> 10
G11: 在院 | I11: 21 | K11: 13 | M11: 12 | O11: 17 | Q11: 32 | S11: 25 | U11: 0 | W11: 0 | Y11: =SUM(I11+M11+Q11+U11) -> 65 | AA11: =SUM(K11+O11+S11+W11) -> 55 | AC11: 退院
G12: 退院 | I12: 5 | K12: 2 | M12: 0 | O12: 1 | Q12: 4 | S12: 7 | U12: 0 | W12: 0 | Y12: =SUM(I12+M12+Q12+U12) -> 9 | AA12: =SUM(K12+O12+S12+W12) -> 10 | AD12: =SUM(Y18:AB18) -> 25 | AF12: 名
C13: 措置 | G13: 入院 | I13: 1 | K13: 0 | M13: 0 | O13: 0 | Q13: 0 | S13: 0 | U13: 0 | W13: 0 | Y13: =SUM(I13+M13+Q13+U13) -> 1 | AA13: =SUM(K13+O13+S13+W13) -> 0
G14: 在院 | I14: 2 | K14: 0 | M14: 0 | O14: 0 | Q14: 0 | S14: 0 | U14: 0 | W14: 0 | Y14: =SUM(I14+M14+Q14+U14) -> 2 | AA14: =SUM(K14+O14+S14+W14) -> 0 | AC14: 在院数
G15: 退院 | I15: 0 | K15: 0 | M15: 0 | O15: 0 | Q15: 0 | S15: 0 | U15: 0 | W15: 0 | Y15: =SUM(I15+M15+Q15+U15) -> 0 | AA15: =SUM(K15+O15+S15+W15) -> 0 | AD15: =Y17+AA17 -> 181 | AF15: 名
C16: 合計 | G16: 入院 | I16: =SUM(I7+I10+I13) -> 8 | K16: =SUM(K7+K10+K13) -> 12 | M16: =SUM(M7+M10+M13) -> 0 | O16: =SUM(O7+O10+O13) -> 1 | Q16: =SUM(Q7+Q10+Q13) -> 0 | S16: =SUM(S7+S10+S13) -> 0 | U16: =SUM(U7+U10+U13) -> 0 | W16: =SUM(W7+W10+W13) -> 2 | Y16: =SUM(Y7+Y10+Y13) -> 8 | AA16: =SUM(AA7+AA10+AA13) -> 15
G17: 在院 | I17: =SUM(I8+I11+I14) -> 24 | K17: =SUM(K8+K11+K14) -> 19 | M17: =M8+M11+M14 -> 15 | O17: =SUM(O8+O11+O14) -> 29 | Q17: =Q8+Q11+Q14 -> 32 | S17: =SUM(S8+S11+S14) -> 28 | U17: =SUM(U8+U11+U14) -> 22 | W17: =SUM(W8+W11+W14) -> 12 | Y17: =SUM(Y8+Y11+Y14) -> 93 | AA17: =SUM(AA8+AA11+AA14) -> 88
G18: 退院 | I18: =SUM(I9+I12+I15) -> 6 | K18: =SUM(K9+K12+K15) -> 2 | M18: =SUM(M9+M12+M15) -> 2 | O18: =SUM(O9+O12+O15) -> 1 | Q18: =SUM(Q9+Q12+Q15) -> 4 | S18: =SUM(S9+S12+S15) -> 7 | U18: =U9+U12+U15 -> 1 | W18: =SUM(W9+W12+W15) -> 2 | Y18: =I18+M18+Q18+U18 -> 13 | AA18: =SUM(AA9+AA12+AA15) -> 12
C19: 医療保護定期病状報告
C20: 患者様氏名 | H20: 担当SW | K20: 担当医師 | N20: 作成日 | P20: 提出日 | R20: 患者様氏名 | W20: 担当SW | Z20: 担当医師 | AC20: 作成日 | AE20: 提出日
C21: 1 | D21: 長谷川 陽一 様 | H21: 小屋敷 | K21: 安ヶ平 | N21: 44155 | P21: 44164
C22: 2 | D22: 丹内 栄子 様 | H22: 西舘 | K22: 田名部 | N22: 44162 | P22: 44164
C23: 3 | D23: 福田 りわ 様 | H23: 大川 | K23: 田名部 | N23: 44164 | P23: 44164
C24: 4 | D24: 清川 恵 様 | H24: 大川 | K24: 馬渡 | N24: 44164 | P24: 44164
C25: 5 | D25: 大澤 廣子 様 | H25: 大川 | K25: 田名部 | N25: 44164 | P25: 44164
C26: 6 | D26: 稲村 留吉 様 | H26: 大川 | K26: 深澤 | N26: 44164 | P26: 44164
C27: 医療保護入退入院届
C28: 患者様氏名 | H28: 担当SW | K28: 担当医師 | N28: 第1項 | T28: 第3項 | Z28: 備考
N29: 入院日 | P29: 作成日 | R29: 提出日 | T29: 入院日 | V29: 作成日 | X29: 提出日
C30: 1 | D30: 須藤 二男 様 | H30: 大川 | I30: 大川 | J30: 大川 | K30: 金 | L30: 金 | M30: 金 | N30: 43774 | P30: 43774 | R30: 43780
C31: 2 | D31: 越後 留藏 様 | H31: 大川 | I31: 大川 | J31: 大川 | K31: 金 | L31: 金 | M31: 金 | N31: 43775 | P31: 43775 | R31: 43784
C32: 3 | D32: 横沢 シズエ 様 | H32: 大川 | I32: 大川 | J32: 大川 | K32: 田名部 | L32: 田名部 | M32: 田名部 | N32: 43775 | P32: 43775 | R32: 43784
C33: 4 | D33: 西山 アイ 様 | H33: 大川 | I33: 大川 | J33: 大川 | K33: 馬渡 | L33: 馬渡 | M33: 馬渡 | N33: 43777 | P33: 43777 | R33: 43784
C34: 5 | D34: 苫米地 伊登子 様 | H34: 小屋敷 | I34: 小屋敷 | J34: 小屋敷 | K34: 深澤 | L34: 深澤 | M34: 深澤 | T34: 43781 | V34: 43781 | X34: 43790
C35: 6 | D35: 佐々木 美恵子 様 | H35: 小屋敷 | I35: 小屋敷 | J35: 小屋敷 | K35: 金/田名部 | L35: 金/田名部 | M35: 金/田名部 | N35: 43782 | P35: 43782 | R35: 43792
C36: 7 | D36: 向井 敦子 様 | H36: 小屋敷 | I36: 小屋敷 | J36: 小屋敷 | K36: 深澤 | L36: 深澤 | M36: 深澤 | N36: 43784 | P36: 43784 | R36: 43789
C37: 8 | D37: 山中 美穂 様 | H37: 西舘 | I37: 西舘 | J37: 西舘 | K37: 田名部 | L37: 田名部 | M37: 田名部 | N37: 43789 | P37: 43789 | R37: 43798
C38: 9 | D38: 大村 厚子 様 | H38: 大川 | I38: 大川 | J38: 大川 | K38: 深澤 | L38: 深澤 | M38: 深澤 | N38: 43789 | P38: 43789 | R38: 43798
C39: 10 | D39: 東野 愛 様 | H39: 西舘 | I39: 西舘 | J39: 西舘 | K39: 金/田名部 | L39: 金/田名部 | M39: 金/田名部 | N39: 43790 | P39: 43790 | R39: 43798
C40: 11 | D40: 村井 チヤ 様 | H40: 西舘 | I40: 西舘 | J40: 西舘 | K40: 田名部 | L40: 田名部 | M40: 田名部 | N40: 43791 | P40: 43791 | R40: 43801
C41: 12 | D41: 土門 忠幸 様 | H41: 大川/山口 | I41: 大川/山口 | J41: 大川/山口 | K41: 馬渡 | L41: 馬渡 | M41: 馬渡 | N41: 43791 | P41: 43791 | R41: 43798
C42: 13 | D42: 宮古 克弘 様 | H42: 小屋敷 | I42: 小屋敷 | J42: 小屋敷 | K42: 田名部 | L42: 田名部 | M42: 田名部 | N42: 43795 | P42: 43795 | R42: 43805
C43: 14 | D43: 鈴木 和則 様 | H43: 大川 | I43: 大川 | J43: 大川 | K43: 田名部 | L43: 田名部 | M43: 田名部 | N43: 43796 | P43: 43796 | R43: 43801
C44: 15 | D44: 齋藤 榮子 様 | H44: 小屋敷 | I44: 小屋敷 | J44: 小屋敷 | K44: 金/田名部 | L44: 金/田名部 | M44: 金/田名部 | N44: 43796 | P44: 43796 | R44: 43805
C45: 入院形態変更状況
C46: 患者様氏名 | H46: 担当SW | K46: 担当医師 | N46: 入院日 | P46: 作成日 | R46: 提出日 | T46: 備考
C47: 1
C48: 2
C49: 3 | AH49: 入院形態変更状況
C50: 4 | AH50: 計
C51: 5 | AH51: =COUNTA(D47:G51) -> 0 | AI51: 件
C52: 医療保護入院退院届
C53: 患者様氏名 | H53: 担当SW | K53: 担当医師 | N53: 退院日 | P53: 提出日 | R53: 転帰
C54: 1 | D54: 市沢 定吉 様 | H54: 大川 | K54: 金 | L54: 金 | M54: 金 | N54: 43770 | P54: 43774 | R54: 死去
C55: 2 | D55: 大橋 ミツ 様 | H55: 大川 | K55: 深澤 | L55: 深澤 | M55: 深澤 | N55: 43775 | P55: 43784 | R55: 死去
C56: 3 | D56: 山本 幸江 様 | H56: 大川 | K56: 金 | L56: 金 | M56: 金 | N56: 43775 | P56: 43784 | R56: 南山苑
C57: 4 | D57: 中村 みね子 様 | H57: 西舘 | K57: 馬渡 | L57: 馬渡 | M57: 馬渡 | N57: 43779 | P57: 43784 | R57: 死去
C58: 5 | D58: 向井 敦子 様 | H58: 西舘 | K58: 深澤 | L58: 深澤 | M58: 深澤 | N58: 43781 | P58: 43789 | R58: 自宅
C59: 6 | D59: 高嶋 鉄男 様 | H59: 山口/大川 | K59: 田名部 | L59: 田名部 | M59: 田名部 | N59: 43783 | P59: 43789 | R59: 有料「南部のはなはな」
C60: 7 | D60: 吹越 冨三 様 | H60: 西舘 | K60: 深澤 | L60: 深澤 | M60: 深澤 | N60: 43784 | P60: 43789 | R60: 死去
C61: 8 | D61: 栃木 春子 様 | H61: 山口/大川 | K61: 馬渡 | L61: 馬渡 | M61: 馬渡 | N61: 43784 | P61: 43789 | R61: 有料「サポートハウス絆」
C62: 9 | D62: 越後 留藏 様 | H62: 大川 | K62: 金 | L62: 金 | M62: 金 | N62: 43784 | P62: 43789 | R62: 死去
C63: 10 | D63: 小向 清志 様 | H63: 大川 | K63: 馬渡 | L63: 馬渡 | M63: 馬渡 | N63: 43784 | P63: 43789 | R63: 死去
C64: 11 | D64: 横沢 シズエ 様 | H64: 山口/大川 | K64: 田名部 | L64: 田名部 | M64: 田名部 | N64: 43785 | P64: 43789 | R64: 死去
C65: 12 | D65: 荒屋敷 ゆみ 様 | H65: 西舘 | K65: 金 | L65: 金 | M65: 金 | N65: 43787 | P65: 43789 | R65: 死去
... C70: 17 | D70: 神林 きみゑ 様 | H70: 山口/大川 | K70: 馬渡 | L70: 馬渡 | M70: 馬渡 | N70: 43795 | P70: 43798 | R70: GH「りんごの家」
C71: 18 | D71: 齋藤 栄子 様 | H71: 小屋敷 | K71: 金 | L71: 金 | M71: 金 | N71: 43796 | P71: 43805 | R71: 自宅 | AH71: 医療保護入院退院届
C72: 19 | D72: 澤村 彬 様 | H72: 西舘 | K72: 田名部 | L72: 田名部 | M72: 田名部 | N72: 43798 | P72: 43801 | R72: いちい寮 | AH72: 計
C73: 20 | AH73: =COUNTA(D54:G73) -> 19 | AI73: 件
C74: 措置入院 入院者
C75: 患者様氏名 | H75: 担当SW | K75: 担当医師 | N75: 入院日 | P75: 提出日 | R75: 患者様氏名 | W75: 担当SW | Z75: 担当医師 | AC75: 入院日 | AE75: 提出日
C76: 1 | D76: 坪 俊英 様 | H76: 西舘 | K76: 深澤 | N76: 43793
C77: 2
C78: 3 | AH78: 措置入院 入院者
C79: 4 | AH79: 計
C80: 5 | AH80: =COUNTA(D76:G80) -> 1 | AI80: 件
C81: 措置定期病状報告
C82: 患者様氏名 | H82: 担当SW | K82: 担当医師 | N82: 作成日 | P82: 提出日 | R82: 患者様氏名 | W82: 担当SW | Z82: 担当医師 | AC82: 作成日 | AE82: 提出日
C83: 1
C84: 2
C85: 3 | AH85: 措置定期病状報告
C86: 4 | AH86: 計
C87: 5 | AH87: =COUNTA(D83:G87) -> 0 | AI87: 件
C88: 措置消退届
C89: 患者様氏名 | H89: 担当SW | K89: 担当医師 | N89: 作成日 | P89: 提出日 | R89: 患者様氏名 | W89: 担当SW | Z89: 担当医師 | AC89: 作成日 | AE89: 提出日
C90: 1
C91: 2
C92: 3 | AH92: 措置消退届
C93: 4 | AH93: 計
C94: 5 | AH94: =COUNTA(D90:G94) -> 0 | AI94: 件
C95: 任意入院継続同意書
C96: 患者様氏名 | H96: 担当SW | K96: 担当医師 | N96: 病棟 | R96: 同意日
C97: 1 | D97: 伊藤 雄一 様 | H97: 小屋敷 | K97: 深澤 | N97: 西 | R97: 43794
C98: 2
C99: 3
C100: 4
C101: 5
C102: 6
C103: 7
C104: 8 | AH104: 任意入院継続同意書
C105: 9 | AH105: 計
C106: 10 | AH106: =COUNTA(D97:G106) -> 1 | AI106: 件
